{"text_format":"1","workbook":"xlsx","n_sheets":2,"sheets":["ZwA-Import","Datenerfassung"],"not_rendered":{"charts":0,"images":2,"macros":1,"external_links":0,"defined_names":2,"comments":1,"pivot_tables":0},"unopened":[],"bounds":{"document_bytes":16777216,"sheet_cells":100000,"rows_first":2000,"rows_last":500,"rows_between":2000,"halvings":0,"cell_chars":16384,"cell_head_chars":4096},"cells_cut":0,"cells_raw":0,"read":"whole","date_system":"1900"}

{"sheet":"ZwA-Import","index":0,"n_rows":1000,"n_cols":15,"rows_kept":1000,"cut":false,"hidden":true,"merged":[]}
["Aktenzeichen","ZwA-Nummer","Signatur","Laufzeit von","Laufzeit bis","Laufzeit","Frist","Band","Titel","Name","Datum","Bewertung","Bemerkungen","Dauernd","Index/Querverweis"]
[{"$f":"IF(ISBLANK(Datenerfassung!A12),\"\",Datenerfassung!A12)","v":""},{"$f":"IF(ISBLANK(Datenerfassung!B12),\"\",Datenerfassung!B12)","v":""},{"$f":"IF(ISBLANK(Datenerfassung!C12),\"\",Datenerfassung!C12)","v":""},{"$f":"IF(ISBLANK(Datenerfassung!I12),\"\",Datenerfassung!I12)","v":""},{"$f":"IF(ISBLANK(Datenerfassung!J12),\"\",Datenerfassung!J12)","v":""},{"$f":"IF(D2=\"\",\"\",IF(E2=\"\",D2,D2&\" - \"&E2))","v":""},{"$f":"IF(ISBLANK(Datenerfassung!L12),\"\",Datenerfassung!L12)","v":""},{"$f":"IF(ISBLANK(Datenerfassung!F12),\"\",Datenerfassung!F12)","v":""},{"$f":"IF(ISBLANK(Datenerfassung!D12),IF(COUNTBLANK(A2:H2)+COUNTBLANK(J2:O2)=14,\"\",\"- ohne Titel -\"),Datenerfassung!D12)","v":""},{"$f":"IF(ISBLANK(Datenerfassung!E12),\"\",Datenerfassung!E12)","v":""},{"$f":"IF(OR(E2=\"\",G2=\"\"),\"\",\"01.01.\"&RIGHT(E2,4)+G2+1)","v":""},{"$f":"IF(ISBLANK(Datenerfassung!O12),\"\",Datenerfassung!O12)","v":""},{"$f":"IF(ISBLANK(Datenerfassung!G12),\"\",Datenerfassung!G12)","v":""},{"$f":"IF(ISBLANK(Datenerfassung!M12),\"\",Datenerfassung!M12)","v":""},{"$f":"IF(ISBLANK(Datenerfassung!H12),\"\",Datenerfassung!H12)","v":""}]
[{"$f":"IF(ISBLANK(Datenerfassung!A13),\"\",Datenerfassung!A13)","v":""},{"$f":"IF(ISBLANK(Datenerfassung!B13),\"\",Datenerfassung!B13)","v":""},{"$f":"IF(ISBLANK(Datenerfassung!C13),\"\",Datenerfassung!C13)","v":""},{"$f":"IF(ISBLANK(Datenerfassung!I13),\"\",Datenerfassung!I13)","v":""},{"$f":"IF(ISBLANK(Datenerfassung!J13),\"\",Datenerfassung!J13)","v":""},{"$f":"IF(D3=\"\",\"\",IF(E3=\"\",D3,D3&\" - \"&E3))","v":""},{"$f":"IF(ISBLANK(Datenerfassung!L13),\"\",Datenerfassung!L13)","v":""},{"$f":"IF(ISBLANK(Datenerfassung!F13),\"\",Datenerfassung!F13)","v":""},{"$f":"IF(ISBLANK(Datenerfassung!D13),IF(COUNTBLANK(A3:H3)+COUNTBLANK(J3:O3)=14,\"\",\"- ohne Titel -\"),Datenerfassung!D13)","v":""},{"$f":"IF(ISBLANK(Datenerfassung!E13),\"\",Datenerfassung!E13)","v":""},{"$f":"IF(OR(E3=\"\",G3=\"\"),\"\",\"01.01.\"&RIGHT(E3,4)+G3+1)","v":""},{"$f":"IF(ISBLANK(Datenerfassung!O13),\"\",Datenerfassung!O13)","v":""},{"$f":"IF(ISBLANK(Datenerfassung!G13),\"\",Datenerfassung!G13)","v":""},{"$f":"IF(ISBLANK(Datenerfassung!M13),\"\",Datenerfassung!M13)","v":""},{"$f":"IF(ISBLANK(Datenerfassung!H13),\"\",Datenerfassung!H13)","v":""}]
[{"$f":"IF(ISBLANK(Datenerfassung!A14),\"\",Datenerfassung!A14)","v":""},{"$f":"IF(ISBLANK(Datenerfassung!B14),\"\",Datenerfassung!B14)","v":""},{"$f":"IF(ISBLANK(Datenerfassung!C14),\"\",Datenerfassung!C14)","v":""},{"$f":"IF(ISBLANK(Datenerfassung!I14),\"\",Datenerfassung!I14)","v":""},{"$f":"IF(ISBLANK(Datenerfassung!J14),\"\",Datenerfassung!J14)","v":""},"",{"$f":"IF(ISBLANK(Datenerfassung!L14),\"\",Datenerfassung!L14)","v":""},{"$f":"IF(ISBLANK(Datenerfassung!F14),\"\",Datenerfassung!F14)","v":""},{"$f":"IF(ISBLANK(Datenerfassung!D14),IF(COUNTBLANK(A4:H4)+COUNTBLANK(J4:O4)=14,\"\",\"- ohne Titel -\"),Datenerfassung!D14)","v":""},{"$f":"IF(ISBLANK(Datenerfassung!E14),\"\",Datenerfassung!E14)","v":""},"",{"$f":"IF(ISBLANK(Datenerfassung!O14),\"\",Datenerfassung!O14)","v":""},{"$f":"IF(ISBLANK(Datenerfassung!G14),\"\",Datenerfassung!G14)","v":""},{"$f":"IF(ISBLANK(Datenerfassung!M14),\"\",Datenerfassung!M14)","v":""},{"$f":"IF(ISBLANK(Datenerfassung!H14),\"\",Datenerfassung!H14)","v":""}]
[{"$f":"IF(ISBLANK(Datenerfassung!A15),\"\",Datenerfassung!A15)","v":""},{"$f":"IF(ISBLANK(Datenerfassung!B15),\"\",Datenerfassung!B15)","v":""},{"$f":"IF(ISBLANK(Datenerfassung!C15),\"\",Datenerfassung!C15)","v":""},{"$f":"IF(ISBLANK(Datenerfassung!I15),\"\",Datenerfassung!I15)","v":""},{"$f":"IF(ISBLANK(Datenerfassung!J15),\"\",Datenerfassung!J15)","v":""},"",{"$f":"IF(ISBLANK(Datenerfassung!L15),\"\",Datenerfassung!L15)","v":""},{"$f":"IF(ISBLANK(Datenerfassung!F15),\"\",Datenerfassung!F15)","v":""},{"$f":"IF(ISBLANK(Datenerfassung!D15),IF(COUNTBLANK(A5:H5)+COUNTBLANK(J5:O5)=14,\"\",\"- ohne Titel -\"),Datenerfassung!D15)","v":""},{"$f":"IF(ISBLANK(Datenerfassung!E15),\"\",Datenerfassung!E15)","v":""},"",{"$f":"IF(ISBLANK(Datenerfassung!O15),\"\",Datenerfassung!O15)","v":""},{"$f":"IF(ISBLANK(Datenerfassung!G15),\"\",Datenerfassung!G15)","v":""},{"$f":"IF(ISBLANK(Datenerfassung!M15),\"\",Datenerfassung!M15)","v":""},{"$f":"IF(ISBLANK(Datenerfassung!H15),\"\",Datenerfassung!H15)","v":""}]
[{"$f":"IF(ISBLANK(Datenerfassung!A16),\"\",Datenerfassung!A16)","v":""},{"$f":"IF(ISBLANK(Datenerfassung!B16),\"\",Datenerfassung!B16)","v":""},{"$f":"IF(ISBLANK(Datenerfassung!C16),\"\",Datenerfassung!C16)","v":""},{"$f":"IF(ISBLANK(Datenerfassung!I16),\"\",Datenerfassung!I16)","v":""},{"$f":"IF(ISBLANK(Datenerfassung!J16),\"\",Datenerfassung!J16)","v":""},"",{"$f":"IF(ISBLANK(Datenerfassung!L16),\"\",Datenerfassung!L16)","v":""},{"$f":"IF(ISBLANK(Datenerfassung!F16),\"\",Datenerfassung!F16)","v":""},{"$f":"IF(ISBLANK(Datenerfassung!D16),IF(COUNTBLANK(A6:H6)+COUNTBLANK(J6:O6)=14,\"\",\"- ohne Titel -\"),Datenerfassung!D16)","v":""},{"$f":"IF(ISBLANK(Datenerfassung!E16),\"\",Datenerfassung!E16)","v":""},"",{"$f":"IF(ISBLANK(Datenerfassung!O16),\"\",Datenerfassung!O16)","v":""},{"$f":"IF(ISBLANK(Datenerfassung!G16),\"\",Datenerfassung!G16)","v":""},{"$f":"IF(ISBLANK(Datenerfassung!M16),\"\",Datenerfassung!M16)","v":""},{"$f":"IF(ISBLANK(Datenerfassung!H16),\"\",Datenerfassung!H16)","v":""}]
[{"$f":"IF(ISBLANK(Datenerfassung!A17),\"\",Datenerfassung!A17)","v":""},{"$f":"IF(ISBLANK(Datenerfassung!B17),\"\",Datenerfassung!B17)","v":""},{"$f":"IF(ISBLANK(Datenerfassung!C17),\"\",Datenerfassung!C17)","v":""},{"$f":"IF(ISBLANK(Datenerfassung!I17),\"\",Datenerfassung!I17)","v":""},{"$f":"IF(ISBLANK(Datenerfassung!J17),\"\",Datenerfassung!J17)","v":""},"",{"$f":"IF(ISBLANK(Datenerfassung!L17),\"\",Datenerfassung!L17)","v":""},{"$f":"IF(ISBLANK(Datenerfassung!F17),\"\",Datenerfassung!F17)","v":""},{"$f":"IF(ISBLANK(Datenerfassung!D17),IF(COUNTBLANK(A7:H7)+COUNTBLANK(J7:O7)=14,\"\",\"- ohne Titel -\"),Datenerfassung!D17)","v":""},{"$f":"IF(ISBLANK(Datenerfassung!E17),\"\",Datenerfassung!E17)","v":""},"",{"$f":"IF(ISBLANK(Datenerfassung!O17),\"\",Datenerfassung!O17)","v":""},{"$f":"IF(ISBLANK(Datenerfassung!G17),\"\",Datenerfassung!G17)","v":""},{"$f":"IF(ISBLANK(Datenerfassung!M17),\"\",Datenerfassung!M17)","v":""},{"$f":"IF(ISBLANK(Datenerfassung!H17),\"\",Datenerfassung!H17)","v":""}]
[{"$f":"IF(ISBLANK(Datenerfassung!A18),\"\",Datenerfassung!A18)","v":""},{"$f":"IF(ISBLANK(Datenerfassung!B18),\"\",Datenerfassung!B18)","v":""},{"$f":"IF(ISBLANK(Datenerfassung!C18),\"\",Datenerfassung!C18)","v":""},{"$f":"IF(ISBLANK(Datenerfassung!I18),\"\",Datenerfassung!I18)","v":""},{"$f":"IF(ISBLANK(Datenerfassung!J18),\"\",Datenerfassung!J18)","v":""},"",{"$f":"IF(ISBLANK(Datenerfassung!L18),\"\",Datenerfassung!L18)","v":""},{"$f":"IF(ISBLANK(Datenerfassung!F18),\"\",Datenerfassung!F18)","v":""},{"$f":"IF(ISBLANK(Datenerfassung!D18),IF(COUNTBLANK(A8:H8)+COUNTBLANK(J8:O8)=14,\"\",\"- ohne Titel -\"),Datenerfassung!D18)","v":""},{"$f":"IF(ISBLANK(Datenerfassung!E18),\"\",Datenerfassung!E18)","v":""},"",{"$f":"IF(ISBLANK(Datenerfassung!O18),\"\",Datenerfassung!O18)","v":""},{"$f":"IF(ISBLANK(Datenerfassung!G18),\"\",Datenerfassung!G18)","v":""},{"$f":"IF(ISBLANK(Datenerfassung!M18),\"\",Datenerfassung!M18)","v":""},{"$f":"IF(ISBLANK(Datenerfassung!H18),\"\",Datenerfassung!H18)","v":""}]
[{"$f":"IF(ISBLANK(Datenerfassung!A19),\"\",Datenerfassung!A19)","v":""},{"$f":"IF(ISBLANK(Datenerfassung!B19),\"\",Datenerfassung!B19)","v":""},{"$f":"IF(ISBLANK(Datenerfassung!C19),\"\",Datenerfassung!C19)","v":""},{"$f":"IF(ISBLANK(Datenerfassung!I19),\"\",Datenerfassung!I19)","v":""},{"$f":"IF(ISBLANK(Datenerfassung!J19),\"\",Datenerfassung!J19)","v":""},"",{"$f":"IF(ISBLANK(Datenerfassung!L19),\"\",Datenerfassung!L19)","v":""},{"$f":"IF(ISBLANK(Datenerfassung!F19),\"\",Datenerfassung!F19)","v":""},{"$f":"IF(ISBLANK(Datenerfassung!D19),IF(COUNTBLANK(A9:H9)+COUNTBLANK(J9:O9)=14,\"\",\"- ohne Titel -\"),Datenerfassung!D19)","v":""},{"$f":"IF(ISBLANK(Datenerfassung!E19),\"\",Datenerfassung!E19)","v":""},"",{"$f":"IF(ISBLANK(Datenerfassung!O19),\"\",Datenerfassung!O19)","v":""},{"$f":"IF(ISBLANK(Datenerfassung!G19),\"\",Datenerfassung!G19)","v":""},{"$f":"IF(ISBLANK(Datenerfassung!M19),\"\",Datenerfassung!M19)","v":""},{"$f":"IF(ISBLANK(Datenerfassung!H19),\"\",Datenerfassung!H19)","v":""}]
[{"$f":"IF(ISBLANK(Datenerfassung!A20),\"\",Datenerfassung!A20)","v":""},{"$f":"IF(ISBLANK(Datenerfassung!B20),\"\",Datenerfassung!B20)","v":""},{"$f":"IF(ISBLANK(Datenerfassung!C20),\"\",Datenerfassung!C20)","v":""},{"$f":"IF(ISBLANK(Datenerfassung!I20),\"\",Datenerfassung!I20)","v":""},{"$f":"IF(ISBLANK(Datenerfassung!J20),\"\",Datenerfassung!J20)","v":""},"",{"$f":"IF(ISBLANK(Datenerfassung!L20),\"\",Datenerfassung!L20)","v":""},{"$f":"IF(ISBLANK(Datenerfassung!F20),\"\",Datenerfassung!F20)","v":""},{"$f":"IF(ISBLANK(Datenerfassung!D20),IF(COUNTBLANK(A10:H10)+COUNTBLANK(J10:O10)=14,\"\",\"- ohne Titel -\"),Datenerfassung!D20)","v":""},{"$f":"IF(ISBLANK(Datenerfassung!E20),\"\",Datenerfassung!E20)","v":""},"",{"$f":"IF(ISBLANK(Datenerfassung!O20),\"\",Datenerfassung!O20)","v":""},{"$f":"IF(ISBLANK(Datenerfassung!G20),\"\",Datenerfassung!G20)","v":""},{"$f":"IF(ISBLANK(Datenerfassung!M20),\"\",Datenerfassung!M20)","v":""},{"$f":"IF(ISBLANK(Datenerfassung!H20),\"\",Datenerfassung!H20)","v":""}]
[{"$f":"IF(ISBLANK(Datenerfassung!A21),\"\",Datenerfassung!A21)","v":""},{"$f":"IF(ISBLANK(Datenerfassung!B21),\"\",Datenerfassung!B21)","v":""},{"$f":"IF(ISBLANK(Datenerfassung!C21),\"\",Datenerfassung!C21)","v":""},{"$f":"IF(ISBLANK(Datenerfassung!I21),\"\",Datenerfassung!I21)","v":""},{"$f":"IF(ISBLANK(Datenerfassung!J21),\"\",Datenerfassung!J21)","v":""},"",{"$f":"IF(ISBLANK(Datenerfassung!L21),\"\",Datenerfassung!L21)","v":""},{"$f":"IF(ISBLANK(Datenerfassung!F21),\"\",Datenerfassung!F21)","v":""},{"$f":"IF(ISBLANK(Datenerfassung!D21),IF(COUNTBLANK(A11:H11)+COUNTBLANK(J11:O11)=14,\"\",\"- ohne Titel -\"),Datenerfassung!D21)","v":""},{"$f":"IF(ISBLANK(Datenerfassung!E21),\"\",Datenerfassung!E21)","v":""},"",{"$f":"IF(ISBLANK(Datenerfassung!O21),\"\",Datenerfassung!O21)","v":""},{"$f":"IF(ISBLANK(Datenerfassung!G21),\"\",Datenerfassung!G21)","v":""},{"$f":"IF(ISBLANK(Datenerfassung!M21),\"\",Datenerfassung!M21)","v":""},{"$f":"IF(ISBLANK(Datenerfassung!H21),\"\",Datenerfassung!H21)","v":""}]
[{"$f":"IF(ISBLANK(Datenerfassung!A22),\"\",Datenerfassung!A22)","v":""},{"$f":"IF(ISBLANK(Datenerfassung!B22),\"\",Datenerfassung!B22)","v":""},{"$f":"IF(ISBLANK(Datenerfassung!C22),\"\",Datenerfassung!C22)","v":""},{"$f":"IF(ISBLANK(Datenerfassung!I22),\"\",Datenerfassung!I22)","v":""},{"$f":"IF(ISBLANK(Datenerfassung!J22),\"\",Datenerfassung!J22)","v":""},"",{"$f":"IF(ISBLANK(Datenerfassung!L22),\"\",Datenerfassung!L22)","v":""},{"$f":"IF(ISBLANK(Datenerfassung!F22),\"\",Datenerfassung!F22)","v":""},{"$f":"IF(ISBLANK(Datenerfassung!D22),IF(COUNTBLANK(A12:H12)+COUNTBLANK(J12:O12)=14,\"\",\"- ohne Titel -\"),Datenerfassung!D22)","v":""},{"$f":"IF(ISBLANK(Datenerfassung!E22),\"\",Datenerfassung!E22)","v":""},"",{"$f":"IF(ISBLANK(Datenerfassung!O22),\"\",Datenerfassung!O22)","v":""},{"$f":"IF(ISBLANK(Datenerfassung!G22),\"\",Datenerfassung!G22)","v":""},{"$f":"IF(ISBLANK(Datenerfassung!M22),\"\",Datenerfassung!M22)","v":""},{"$f":"IF(ISBLANK(Datenerfassung!H22),\"\",Datenerfassung!H22)","v":""}]
[{"$f":"IF(ISBLANK(Datenerfassung!A23),\"\",Datenerfassung!A23)","v":""},{"$f":"IF(ISBLANK(Datenerfassung!B23),\"\",Datenerfassung!B23)","v":""},{"$f":"IF(ISBLANK(Datenerfassung!C23),\"\",Datenerfassung!C23)","v":""},{"$f":"IF(ISBLANK(Datenerfassung!I23),\"\",Datenerfassung!I23)","v":""},{"$f":"IF(ISBLANK(Datenerfassung!J23),\"\",Datenerfassung!J23)","v":""},"",{"$f":"IF(ISBLANK(Datenerfassung!L23),\"\",Datenerfassung!L23)","v":""},{"$f":"IF(ISBLANK(Datenerfassung!F23),\"\",Datenerfassung!F23)","v":""},{"$f":"IF(ISBLANK(Datenerfassung!D23),IF(COUNTBLANK(A13:H13)+COUNTBLANK(J13:O13)=14,\"\",\"- ohne Titel -\"),Datenerfassung!D23)","v":""},{"$f":"IF(ISBLANK(Datenerfassung!E23),\"\",Datenerfassung!E23)","v":""},"",{"$f":"IF(ISBLANK(Datenerfassung!O23),\"\",Datenerfassung!O23)","v":""},{"$f":"IF(ISBLANK(Datenerfassung!G23),\"\",Datenerfassung!G23)","v":""},{"$f":"IF(ISBLANK(Datenerfassung!M23),\"\",Datenerfassung!M23)","v":""},{"$f":"IF(ISBLANK(Datenerfassung!H23),\"\",Datenerfassung!H23)","v":""}]
[{"$f":"IF(ISBLANK(Datenerfassung!A24),\"\",Datenerfassung!A24)","v":""},{"$f":"IF(ISBLANK(Datenerfassung!B24),\"\",Datenerfassung!B24)","v":""},{"$f":"IF(ISBLANK(Datenerfassung!C24),\"\",Datenerfassung!C24)","v":""},{"$f":"IF(ISBLANK(Datenerfassung!I24),\"\",Datenerfassung!I24)","v":""},{"$f":"IF(ISBLANK(Datenerfassung!J24),\"\",Datenerfassung!J24)","v":""},"",{"$f":"IF(ISBLANK(Datenerfassung!L24),\"\",Datenerfassung!L24)","v":""},{"$f":"IF(ISBLANK(Datenerfassung!F24),\"\",Datenerfassung!F24)","v":""},{"$f":"IF(ISBLANK(Datenerfassung!D24),IF(COUNTBLANK(A14:H14)+COUNTBLANK(J14:O14)=14,\"\",\"- ohne Titel -\"),Datenerfassung!D24)","v":""},{"$f":"IF(ISBLANK(Datenerfassung!E24),\"\",Datenerfassung!E24)","v":""},"",{"$f":"IF(ISBLANK(Datenerfassung!O24),\"\",Datenerfassung!O24)","v":""},{"$f":"IF(ISBLANK(Datenerfassung!G24),\"\",Datenerfassung!G24)","v":""},{"$f":"IF(ISBLANK(Datenerfassung!M24),\"\",Datenerfassung!M24)","v":""},{"$f":"IF(ISBLANK(Datenerfassung!H24),\"\",Datenerfassung!H24)","v":""}]
[{"$f":"IF(ISBLANK(Datenerfassung!A25),\"\",Datenerfassung!A25)","v":""},{"$f":"IF(ISBLANK(Datenerfassung!B25),\"\",Datenerfassung!B25)","v":""},{"$f":"IF(ISBLANK(Datenerfassung!C25),\"\",Datenerfassung!C25)","v":""},{"$f":"IF(ISBLANK(Datenerfassung!I25),\"\",Datenerfassung!I25)","v":""},{"$f":"IF(ISBLANK(Datenerfassung!J25),\"\",Datenerfassung!J25)","v":""},"",{"$f":"IF(ISBLANK(Datenerfassung!L25),\"\",Datenerfassung!L25)","v":""},{"$f":"IF(ISBLANK(Datenerfassung!F25),\"\",Datenerfassung!F25)","v":""},{"$f":"IF(ISBLANK(Datenerfassung!D25),IF(COUNTBLANK(A15:H15)+COUNTBLANK(J15:O15)=14,\"\",\"- ohne Titel -\"),Datenerfassung!D25)","v":""},{"$f":"IF(ISBLANK(Datenerfassung!E25),\"\",Datenerfassung!E25)","v":""},"",{"$f":"IF(ISBLANK(Datenerfassung!O25),\"\",Datenerfassung!O25)","v":""},{"$f":"IF(ISBLANK(Datenerfassung!G25),\"\",Datenerfassung!G25)","v":""},{"$f":"IF(ISBLANK(Datenerfassung!M25),\"\",Datenerfassung!M25)","v":""},{"$f":"IF(ISBLANK(Datenerfassung!H25),\"\",Datenerfassung!H25)","v":""}]
[{"$f":"IF(ISBLANK(Datenerfassung!A26),\"\",Datenerfassung!A26)","v":""},{"$f":"IF(ISBLANK(Datenerfassung!B26),\"\",Datenerfassung!B26)","v":""},{"$f":"IF(ISBLANK(Datenerfassung!C26),\"\",Datenerfassung!C26)","v":""},{"$f":"IF(ISBLANK(Datenerfassung!I26),\"\",Datenerfassung!I26)","v":""},{"$f":"IF(ISBLANK(Datenerfassung!J26),\"\",Datenerfassung!J26)","v":""},"",{"$f":"IF(ISBLANK(Datenerfassung!L26),\"\",Datenerfassung!L26)","v":""},{"$f":"IF(ISBLANK(Datenerfassung!F26),\"\",Datenerfassung!F26)","v":""},{"$f":"IF(ISBLANK(Datenerfassung!D26),IF(COUNTBLANK(A16:H16)+COUNTBLANK(J16:O16)=14,\"\",\"- ohne Titel -\"),Datenerfassung!D26)","v":""},{"$f":"IF(ISBLANK(Datenerfassung!E26),\"\",Datenerfassung!E26)","v":""},"",{"$f":"IF(ISBLANK(Datenerfassung!O26),\"\",Datenerfassung!O26)","v":""},{"$f":"IF(ISBLANK(Datenerfassung!G26),\"\",Datenerfassung!G26)","v":""},{"$f":"IF(ISBLANK(Datenerfassung!M26),\"\",Datenerfassung!M26)","v":""},{"$f":"IF(ISBLANK(Datenerfassung!H26),\"\",Datenerfassung!H26)","v":""}]
[{"$f":"IF(ISBLANK(Datenerfassung!A27),\"\",Datenerfassung!A27)","v":""},{"$f":"IF(ISBLANK(Datenerfassung!B27),\"\",Datenerfassung!B27)","v":""},{"$f":"IF(ISBLANK(Datenerfassung!C27),\"\",Datenerfassung!C27)","v":""},{"$f":"IF(ISBLANK(Datenerfassung!I27),\"\",Datenerfassung!I27)","v":""},{"$f":"IF(ISBLANK(Datenerfassung!J27),\"\",Datenerfassung!J27)","v":""},"",{"$f":"IF(ISBLANK(Datenerfassung!L27),\"\",Datenerfassung!L27)","v":""},{"$f":"IF(ISBLANK(Datenerfassung!F27),\"\",Datenerfassung!F27)","v":""},{"$f":"IF(ISBLANK(Datenerfassung!D27),IF(COUNTBLANK(A17:H17)+COUNTBLANK(J17:O17)=14,\"\",\"- ohne Titel -\"),Datenerfassung!D27)","v":""},{"$f":"IF(ISBLANK(Datenerfassung!E27),\"\",Datenerfassung!E27)","v":""},"",{"$f":"IF(ISBLANK(Datenerfassung!O27),\"\",Datenerfassung!O27)","v":""},{"$f":"IF(ISBLANK(Datenerfassung!G27),\"\",Datenerfassung!G27)","v":""},{"$f":"IF(ISBLANK(Datenerfassung!M27),\"\",Datenerfassung!M27)","v":""},{"$f":"IF(ISBLANK(Datenerfassung!H27),\"\",Datenerfassung!H27)","v":""}]
[{"$f":"IF(ISBLANK(Datenerfassung!A28),\"\",Datenerfassung!A28)","v":""},{"$f":"IF(ISBLANK(Datenerfassung!B28),\"\",Datenerfassung!B28)","v":""},{"$f":"IF(ISBLANK(Datenerfassung!C28),\"\",Datenerfassung!C28)","v":""},{"$f":"IF(ISBLANK(Datenerfassung!I28),\"\",Datenerfassung!I28)","v":""},{"$f":"IF(ISBLANK(Datenerfassung!J28),\"\",Datenerfassung!J28)","v":""},"",{"$f":"IF(ISBLANK(Datenerfassung!L28),\"\",Datenerfassung!L28)","v":""},{"$f":"IF(ISBLANK(Datenerfassung!F28),\"\",Datenerfassung!F28)","v":""},{"$f":"IF(ISBLANK(Datenerfassung!D28),IF(COUNTBLANK(A18:H18)+COUNTBLANK(J18:O18)=14,\"\",\"- ohne Titel -\"),Datenerfassung!D28)","v":""},{"$f":"IF(ISBLANK(Datenerfassung!E28),\"\",Datenerfassung!E28)","v":""},"",{"$f":"IF(ISBLANK(Datenerfassung!O28),\"\",Datenerfassung!O28)","v":""},{"$f":"IF(ISBLANK(Datenerfassung!G28),\"\",Datenerfassung!G28)","v":""},{"$f":"IF(ISBLANK(Datenerfassung!M28),\"\",Datenerfassung!M28)","v":""},{"$f":"IF(ISBLANK(Datenerfassung!H28),\"\",Datenerfassung!H28)","v":""}]
[{"$f":"IF(ISBLANK(Datenerfassung!A29),\"\",Datenerfassung!A29)","v":""},{"$f":"IF(ISBLANK(Datenerfassung!B29),\"\",Datenerfassung!B29)","v":""},{"$f":"IF(ISBLANK(Datenerfassung!C29),\"\",Datenerfassung!C29)","v":""},{"$f":"IF(ISBLANK(Datenerfassung!I29),\"\",Datenerfassung!I29)","v":""},{"$f":"IF(ISBLANK(Datenerfassung!J29),\"\",Datenerfassung!J29)","v":""},"",{"$f":"IF(ISBLANK(Datenerfassung!L29),\"\",Datenerfassung!L29)","v":""},{"$f":"IF(ISBLANK(Datenerfassung!F29),\"\",Datenerfassung!F29)","v":""},{"$f":"IF(ISBLANK(Datenerfassung!D29),IF(COUNTBLANK(A19:H19)+COUNTBLANK(J19:O19)=14,\"\",\"- ohne Titel -\"),Datenerfassung!D29)","v":""},{"$f":"IF(ISBLANK(Datenerfassung!E29),\"\",Datenerfassung!E29)","v":""},"",{"$f":"IF(ISBLANK(Datenerfassung!O29),\"\",Datenerfassung!O29)","v":""},{"$f":"IF(ISBLANK(Datenerfassung!G29),\"\",Datenerfassung!G29)","v":""},{"$f":"IF(ISBLANK(Datenerfassung!M29),\"\",Datenerfassung!M29)","v":""},{"$f":"IF(ISBLANK(Datenerfassung!H29),\"\",Datenerfassung!H29)","v":""}]
[{"$f":"IF(ISBLANK(Datenerfassung!A30),\"\",Datenerfassung!A30)","v":""},{"$f":"IF(ISBLANK(Datenerfassung!B30),\"\",Datenerfassung!B30)","v":""},{"$f":"IF(ISBLANK(Datenerfassung!C30),\"\",Datenerfassung!C30)","v":""},{"$f":"IF(ISBLANK(Datenerfassung!I30),\"\",Datenerfassung!I30)","v":""},{"$f":"IF(ISBLANK(Datenerfassung!J30),\"\",Datenerfassung!J30)","v":""},"",{"$f":"IF(ISBLANK(Datenerfassung!L30),\"\",Datenerfassung!L30)","v":""},{"$f":"IF(ISBLANK(Datenerfassung!F30),\"\",Datenerfassung!F30)","v":""},{"$f":"IF(ISBLANK(Datenerfassung!D30),IF(COUNTBLANK(A20:H20)+COUNTBLANK(J20:O20)=14,\"\",\"- ohne Titel -\"),Datenerfassung!D30)","v":""},{"$f":"IF(ISBLANK(Datenerfassung!E30),\"\",Datenerfassung!E30)","v":""},"",{"$f":"IF(ISBLANK(Datenerfassung!O30),\"\",Datenerfassung!O30)","v":""},{"$f":"IF(ISBLANK(Datenerfassung!G30),\"\",Datenerfassung!G30)","v":""},{"$f":"IF(ISBLANK(Datenerfassung!M30),\"\",Datenerfassung!M30)","v":""},{"$f":"IF(ISBLANK(Datenerfassung!H30),\"\",Datenerfassung!H30)","v":""}]
[{"$f":"IF(ISBLANK(Datenerfassung!A31),\"\",Datenerfassung!A31)","v":""},{"$f":"IF(ISBLANK(Datenerfassung!B31),\"\",Datenerfassung!B31)","v":""},{"$f":"IF(ISBLANK(Datenerfassung!C31),\"\",Datenerfassung!C31)","v":""},{"$f":"IF(ISBLANK(Datenerfassung!I31),\"\",Datenerfassung!I31)","v":""},{"$f":"IF(ISBLANK(Datenerfassung!J31),\"\",Datenerfassung!J31)","v":""},"",{"$f":"IF(ISBLANK(Datenerfassung!L31),\"\",Datenerfassung!L31)","v":""},{"$f":"IF(ISBLANK(Datenerfassung!F31),\"\",Datenerfassung!F31)","v":""},{"$f":"IF(ISBLANK(Datenerfassung!D31),IF(COUNTBLANK(A21:H21)+COUNTBLANK(J21:O21)=14,\"\",\"- ohne Titel -\"),Datenerfassung!D31)","v":""},{"$f":"IF(ISBLANK(Datenerfassung!E31),\"\",Datenerfassung!E31)","v":""},"",{"$f":"IF(ISBLANK(Datenerfassung!O31),\"\",Datenerfassung!O31)","v":""},{"$f":"IF(ISBLANK(Datenerfassung!G31),\"\",Datenerfassung!G31)","v":""},{"$f":"IF(ISBLANK(Datenerfassung!M31),\"\",Datenerfassung!M31)","v":""},{"$f":"IF(ISBLANK(Datenerfassung!H31),\"\",Datenerfassung!H31)","v":""}]
[{"$f":"IF(ISBLANK(Datenerfassung!A32),\"\",Datenerfassung!A32)","v":""},{"$f":"IF(ISBLANK(Datenerfassung!B32),\"\",Datenerfassung!B32)","v":""},{"$f":"IF(ISBLANK(Datenerfassung!C32),\"\",Datenerfassung!C32)","v":""},{"$f":"IF(ISBLANK(Datenerfassung!I32),\"\",Datenerfassung!I32)","v":""},{"$f":"IF(ISBLANK(Datenerfassung!J32),\"\",Datenerfassung!J32)","v":""},"",{"$f":"IF(ISBLANK(Datenerfassung!L32),\"\",Datenerfassung!L32)","v":""},{"$f":"IF(ISBLANK(Datenerfassung!F32),\"\",Datenerfassung!F32)","v":""},{"$f":"IF(ISBLANK(Datenerfassung!D32),IF(COUNTBLANK(A22:H22)+COUNTBLANK(J22:O22)=14,\"\",\"- ohne Titel -\"),Datenerfassung!D32)","v":""},{"$f":"IF(ISBLANK(Datenerfassung!E32),\"\",Datenerfassung!E32)","v":""},"",{"$f":"IF(ISBLANK(Datenerfassung!O32),\"\",Datenerfassung!O32)","v":""},{"$f":"IF(ISBLANK(Datenerfassung!G32),\"\",Datenerfassung!G32)","v":""},{"$f":"IF(ISBLANK(Datenerfassung!M32),\"\",Datenerfassung!M32)","v":""},{"$f":"IF(ISBLANK(Datenerfassung!H32),\"\",Datenerfassung!H32)","v":""}]
[{"$f":"IF(ISBLANK(Datenerfassung!A33),\"\",Datenerfassung!A33)","v":""},{"$f":"IF(ISBLANK(Datenerfassung!B33),\"\",Datenerfassung!B33)","v":""},{"$f":"IF(ISBLANK(Datenerfassung!C33),\"\",Datenerfassung!C33)","v":""},{"$f":"IF(ISBLANK(Datenerfassung!I33),\"\",Datenerfassung!I33)","v":""},{"$f":"IF(ISBLANK(Datenerfassung!J33),\"\",Datenerfassung!J33)","v":""},"",{"$f":"IF(ISBLANK(Datenerfassung!L33),\"\",Datenerfassung!L33)","v":""},{"$f":"IF(ISBLANK(Datenerfassung!F33),\"\",Datenerfassung!F33)","v":""},{"$f":"IF(ISBLANK(Datenerfassung!D33),IF(COUNTBLANK(A23:H23)+COUNTBLANK(J23:O23)=14,\"\",\"- ohne Titel -\"),Datenerfassung!D33)","v":""},{"$f":"IF(ISBLANK(Datenerfassung!E33),\"\",Datenerfassung!E33)","v":""},"",{"$f":"IF(ISBLANK(Datenerfassung!O33),\"\",Datenerfassung!O33)","v":""},{"$f":"IF(ISBLANK(Datenerfassung!G33),\"\",Datenerfassung!G33)","v":""},{"$f":"IF(ISBLANK(Datenerfassung!M33),\"\",Datenerfassung!M33)","v":""},{"$f":"IF(ISBLANK(Datenerfassung!H33),\"\",Datenerfassung!H33)","v":""}]
[{"$f":"IF(ISBLANK(Datenerfassung!A34),\"\",Datenerfassung!A34)","v":""},{"$f":"IF(ISBLANK(Datenerfassung!B34),\"\",Datenerfassung!B34)","v":""},{"$f":"IF(ISBLANK(Datenerfassung!C34),\"\",Datenerfassung!C34)","v":""},{"$f":"IF(ISBLANK(Datenerfassung!I34),\"\",Datenerfassung!I34)","v":""},{"$f":"IF(ISBLANK(Datenerfassung!J34),\"\",Datenerfassung!J34)","v":""},"",{"$f":"IF(ISBLANK(Datenerfassung!L34),\"\",Datenerfassung!L34)","v":""},{"$f":"IF(ISBLANK(Datenerfassung!F34),\"\",Datenerfassung!F34)","v":""},{"$f":"IF(ISBLANK(Datenerfassung!D34),IF(COUNTBLANK(A24:H24)+COUNTBLANK(J24:O24)=14,\"\",\"- ohne Titel -\"),Datenerfassung!D34)","v":""},{"$f":"IF(ISBLANK(Datenerfassung!E34),\"\",Datenerfassung!E34)","v":""},"",{"$f":"IF(ISBLANK(Datenerfassung!O34),\"\",Datenerfassung!O34)","v":""},{"$f":"IF(ISBLANK(Datenerfassung!G34),\"\",Datenerfassung!G34)","v":""},{"$f":"IF(ISBLANK(Datenerfassung!M34),\"\",Datenerfassung!M34)","v":""},{"$f":"IF(ISBLANK(Datenerfassung!H34),\"\",Datenerfassung!H34)","v":""}]
[{"$f":"IF(ISBLANK(Datenerfassung!A35),\"\",Datenerfassung!A35)","v":""},{"$f":"IF(ISBLANK(Datenerfassung!B35),\"\",Datenerfassung!B35)","v":""},{"$f":"IF(ISBLANK(Datenerfassung!C35),\"\",Datenerfassung!C35)","v":""},{"$f":"IF(ISBLANK(Datenerfassung!I35),\"\",Datenerfassung!I35)","v":""},{"$f":"IF(ISBLANK(Datenerfassung!J35),\"\",Datenerfassung!J35)","v":""},"",{"$f":"IF(ISBLANK(Datenerfassung!L35),\"\",Datenerfassung!L35)","v":""},{"$f":"IF(ISBLANK(Datenerfassung!F35),\"\",Datenerfassung!F35)","v":""},{"$f":"IF(ISBLANK(Datenerfassung!D35),IF(COUNTBLANK(A25:H25)+COUNTBLANK(J25:O25)=14,\"\",\"- ohne Titel -\"),Datenerfassung!D35)","v":""},{"$f":"IF(ISBLANK(Datenerfassung!E35),\"\",Datenerfassung!E35)","v":""},"",{"$f":"IF(ISBLANK(Datenerfassung!O35),\"\",Datenerfassung!O35)","v":""},{"$f":"IF(ISBLANK(Datenerfassung!G35),\"\",Datenerfassung!G35)","v":""},{"$f":"IF(ISBLANK(Datenerfassung!M35),\"\",Datenerfassung!M35)","v":""},{"$f":"IF(ISBLANK(Datenerfassung!H35),\"\",Datenerfassung!H35)","v":""}]
[{"$f":"IF(ISBLANK(Datenerfassung!A36),\"\",Datenerfassung!A36)","v":""},{"$f":"IF(ISBLANK(Datenerfassung!B36),\"\",Datenerfassung!B36)","v":""},{"$f":"IF(ISBLANK(Datenerfassung!C36),\"\",Datenerfassung!C36)","v":""},{"$f":"IF(ISBLANK(Datenerfassung!I36),\"\",Datenerfassung!I36)","v":""},{"$f":"IF(ISBLANK(Datenerfassung!J36),\"\",Datenerfassung!J36)","v":""},"",{"$f":"IF(ISBLANK(Datenerfassung!L36),\"\",Datenerfassung!L36)","v":""},{"$f":"IF(ISBLANK(Datenerfassung!F36),\"\",Datenerfassung!F36)","v":""},{"$f":"IF(ISBLANK(Datenerfassung!D36),IF(COUNTBLANK(A26:H26)+COUNTBLANK(J26:O26)=14,\"\",\"- ohne Titel -\"),Datenerfassung!D36)","v":""},{"$f":"IF(ISBLANK(Datenerfassung!E36),\"\",Datenerfassung!E36)","v":""},"",{"$f":"IF(ISBLANK(Datenerfassung!O36),\"\",Datenerfassung!O36)","v":""},{"$f":"IF(ISBLANK(Datenerfassung!G36),\"\",Datenerfassung!G36)","v":""},{"$f":"IF(ISBLANK(Datenerfassung!M36),\"\",Datenerfassung!M36)","v":""},{"$f":"IF(ISBLANK(Datenerfassung!H36),\"\",Datenerfassung!H36)","v":""}]
[{"$f":"IF(ISBLANK(Datenerfassung!A37),\"\",Datenerfassung!A37)","v":""},{"$f":"IF(ISBLANK(Datenerfassung!B37),\"\",Datenerfassung!B37)","v":""},{"$f":"IF(ISBLANK(Datenerfassung!C37),\"\",Datenerfassung!C37)","v":""},{"$f":"IF(ISBLANK(Datenerfassung!I37),\"\",Datenerfassung!I37)","v":""},{"$f":"IF(ISBLANK(Datenerfassung!J37),\"\",Datenerfassung!J37)","v":""},"",{"$f":"IF(ISBLANK(Datenerfassung!L37),\"\",Datenerfassung!L37)","v":""},{"$f":"IF(ISBLANK(Datenerfassung!F37),\"\",Datenerfassung!F37)","v":""},{"$f":"IF(ISBLANK(Datenerfassung!D37),IF(COUNTBLANK(A27:H27)+COUNTBLANK(J27:O27)=14,\"\",\"- ohne Titel -\"),Datenerfassung!D37)","v":""},{"$f":"IF(ISBLANK(Datenerfassung!E37),\"\",Datenerfassung!E37)","v":""},"",{"$f":"IF(ISBLANK(Datenerfassung!O37),\"\",Datenerfassung!O37)","v":""},{"$f":"IF(ISBLANK(Datenerfassung!G37),\"\",Datenerfassung!G37)","v":""},{"$f":"IF(ISBLANK(Datenerfassung!M37),\"\",Datenerfassung!M37)","v":""},{"$f":"IF(ISBLANK(Datenerfassung!H37),\"\",Datenerfassung!H37)","v":""}]
[{"$f":"IF(ISBLANK(Datenerfassung!A38),\"\",Datenerfassung!A38)","v":""},{"$f":"IF(ISBLANK(Datenerfassung!B38),\"\",Datenerfassung!B38)","v":""},{"$f":"IF(ISBLANK(Datenerfassung!C38),\"\",Datenerfassung!C38)","v":""},{"$f":"IF(ISBLANK(Datenerfassung!I38),\"\",Datenerfassung!I38)","v":""},{"$f":"IF(ISBLANK(Datenerfassung!J38),\"\",Datenerfassung!J38)","v":""},"",{"$f":"IF(ISBLANK(Datenerfassung!L38),\"\",Datenerfassung!L38)","v":""},{"$f":"IF(ISBLANK(Datenerfassung!F38),\"\",Datenerfassung!F38)","v":""},{"$f":"IF(ISBLANK(Datenerfassung!D38),IF(COUNTBLANK(A28:H28)+COUNTBLANK(J28:O28)=14,\"\",\"- ohne Titel -\"),Datenerfassung!D38)","v":""},{"$f":"IF(ISBLANK(Datenerfassung!E38),\"\",Datenerfassung!E38)","v":""},"",{"$f":"IF(ISBLANK(Datenerfassung!O38),\"\",Datenerfassung!O38)","v":""},{"$f":"IF(ISBLANK(Datenerfassung!G38),\"\",Datenerfassung!G38)","v":""},{"$f":"IF(ISBLANK(Datenerfassung!M38),\"\",Datenerfassung!M38)","v":""},{"$f":"IF(ISBLANK(Datenerfassung!H38),\"\",Datenerfassung!H38)","v":""}]
[{"$f":"IF(ISBLANK(Datenerfassung!A39),\"\",Datenerfassung!A39)","v":""},{"$f":"IF(ISBLANK(Datenerfassung!B39),\"\",Datenerfassung!B39)","v":""},{"$f":"IF(ISBLANK(Datenerfassung!C39),\"\",Datenerfassung!C39)","v":""},{"$f":"IF(ISBLANK(Datenerfassung!I39),\"\",Datenerfassung!I39)","v":""},{"$f":"IF(ISBLANK(Datenerfassung!J39),\"\",Datenerfassung!J39)","v":""},"",{"$f":"IF(ISBLANK(Datenerfassung!L39),\"\",Datenerfassung!L39)","v":""},{"$f":"IF(ISBLANK(Datenerfassung!F39),\"\",Datenerfassung!F39)","v":""},{"$f":"IF(ISBLANK(Datenerfassung!D39),IF(COUNTBLANK(A29:H29)+COUNTBLANK(J29:O29)=14,\"\",\"- ohne Titel -\"),Datenerfassung!D39)","v":""},{"$f":"IF(ISBLANK(Datenerfassung!E39),\"\",Datenerfassung!E39)","v":""},"",{"$f":"IF(ISBLANK(Datenerfassung!O39),\"\",Datenerfassung!O39)","v":""},{"$f":"IF(ISBLANK(Datenerfassung!G39),\"\",Datenerfassung!G39)","v":""},{"$f":"IF(ISBLANK(Datenerfassung!M39),\"\",Datenerfassung!M39)","v":""},{"$f":"IF(ISBLANK(Datenerfassung!H39),\"\",Datenerfassung!H39)","v":""}]
[{"$f":"IF(ISBLANK(Datenerfassung!A40),\"\",Datenerfassung!A40)","v":""},{"$f":"IF(ISBLANK(Datenerfassung!B40),\"\",Datenerfassung!B40)","v":""},{"$f":"IF(ISBLANK(Datenerfassung!C40),\"\",Datenerfassung!C40)","v":""},{"$f":"IF(ISBLANK(Datenerfassung!I40),\"\",Datenerfassung!I40)","v":""},{"$f":"IF(ISBLANK(Datenerfassung!J40),\"\",Datenerfassung!J40)","v":""},"",{"$f":"IF(ISBLANK(Datenerfassung!L40),\"\",Datenerfassung!L40)","v":""},{"$f":"IF(ISBLANK(Datenerfassung!F40),\"\",Datenerfassung!F40)","v":""},{"$f":"IF(ISBLANK(Datenerfassung!D40),IF(COUNTBLANK(A30:H30)+COUNTBLANK(J30:O30)=14,\"\",\"- ohne Titel -\"),Datenerfassung!D40)","v":""},{"$f":"IF(ISBLANK(Datenerfassung!E40),\"\",Datenerfassung!E40)","v":""},"",{"$f":"IF(ISBLANK(Datenerfassung!O40),\"\",Datenerfassung!O40)","v":""},{"$f":"IF(ISBLANK(Datenerfassung!G40),\"\",Datenerfassung!G40)","v":""},{"$f":"IF(ISBLANK(Datenerfassung!M40),\"\",Datenerfassung!M40)","v":""},{"$f":"IF(ISBLANK(Datenerfassung!H40),\"\",Datenerfassung!H40)","v":""}]
[{"$f":"IF(ISBLANK(Datenerfassung!A41),\"\",Datenerfassung!A41)","v":""},{"$f":"IF(ISBLANK(Datenerfassung!B41),\"\",Datenerfassung!B41)","v":""},{"$f":"IF(ISBLANK(Datenerfassung!C41),\"\",Datenerfassung!C41)","v":""},{"$f":"IF(ISBLANK(Datenerfassung!I41),\"\",Datenerfassung!I41)","v":""},{"$f":"IF(ISBLANK(Datenerfassung!J41),\"\",Datenerfassung!J41)","v":""},"",{"$f":"IF(ISBLANK(Datenerfassung!L41),\"\",Datenerfassung!L41)","v":""},{"$f":"IF(ISBLANK(Datenerfassung!F41),\"\",Datenerfassung!F41)","v":""},{"$f":"IF(ISBLANK(Datenerfassung!D41),IF(COUNTBLANK(A31:H31)+COUNTBLANK(J31:O31)=14,\"\",\"- ohne Titel -\"),Datenerfassung!D41)","v":""},{"$f":"IF(ISBLANK(Datenerfassung!E41),\"\",Datenerfassung!E41)","v":""},"",{"$f":"IF(ISBLANK(Datenerfassung!O41),\"\",Datenerfassung!O41)","v":""},{"$f":"IF(ISBLANK(Datenerfassung!G41),\"\",Datenerfassung!G41)","v":""},{"$f":"IF(ISBLANK(Datenerfassung!M41),\"\",Datenerfassung!M41)","v":""},{"$f":"IF(ISBLANK(Datenerfassung!H41),\"\",Datenerfassung!H41)","v":""}]
[{"$f":"IF(ISBLANK(Datenerfassung!A42),\"\",Datenerfassung!A42)","v":""},{"$f":"IF(ISBLANK(Datenerfassung!B42),\"\",Datenerfassung!B42)","v":""},{"$f":"IF(ISBLANK(Datenerfassung!C42),\"\",Datenerfassung!C42)","v":""},{"$f":"IF(ISBLANK(Datenerfassung!I42),\"\",Datenerfassung!I42)","v":""},{"$f":"IF(ISBLANK(Datenerfassung!J42),\"\",Datenerfassung!J42)","v":""},"",{"$f":"IF(ISBLANK(Datenerfassung!L42),\"\",Datenerfassung!L42)","v":""},{"$f":"IF(ISBLANK(Datenerfassung!F42),\"\",Datenerfassung!F42)","v":""},{"$f":"IF(ISBLANK(Datenerfassung!D42),IF(COUNTBLANK(A32:H32)+COUNTBLANK(J32:O32)=14,\"\",\"- ohne Titel -\"),Datenerfassung!D42)","v":""},{"$f":"IF(ISBLANK(Datenerfassung!E42),\"\",Datenerfassung!E42)","v":""},"",{"$f":"IF(ISBLANK(Datenerfassung!O42),\"\",Datenerfassung!O42)","v":""},{"$f":"IF(ISBLANK(Datenerfassung!G42),\"\",Datenerfassung!G42)","v":""},{"$f":"IF(ISBLANK(Datenerfassung!M42),\"\",Datenerfassung!M42)","v":""},{"$f":"IF(ISBLANK(Datenerfassung!H42),\"\",Datenerfassung!H42)","v":""}]
[{"$f":"IF(ISBLANK(Datenerfassung!A43),\"\",Datenerfassung!A43)","v":""},{"$f":"IF(ISBLANK(Datenerfassung!B43),\"\",Datenerfassung!B43)","v":""},{"$f":"IF(ISBLANK(Datenerfassung!C43),\"\",Datenerfassung!C43)","v":""},{"$f":"IF(ISBLANK(Datenerfassung!I43),\"\",Datenerfassung!I43)","v":""},{"$f":"IF(ISBLANK(Datenerfassung!J43),\"\",Datenerfassung!J43)","v":""},"",{"$f":"IF(ISBLANK(Datenerfassung!L43),\"\",Datenerfassung!L43)","v":""},{"$f":"IF(ISBLANK(Datenerfassung!F43),\"\",Datenerfassung!F43)","v":""},{"$f":"IF(ISBLANK(Datenerfassung!D43),IF(COUNTBLANK(A33:H33)+COUNTBLANK(J33:O33)=14,\"\",\"- ohne Titel -\"),Datenerfassung!D43)","v":""},{"$f":"IF(ISBLANK(Datenerfassung!E43),\"\",Datenerfassung!E43)","v":""},"",{"$f":"IF(ISBLANK(Datenerfassung!O43),\"\",Datenerfassung!O43)","v":""},{"$f":"IF(ISBLANK(Datenerfassung!G43),\"\",Datenerfassung!G43)","v":""},{"$f":"IF(ISBLANK(Datenerfassung!M43),\"\",Datenerfassung!M43)","v":""},{"$f":"IF(ISBLANK(Datenerfassung!H43),\"\",Datenerfassung!H43)","v":""}]
[{"$f":"IF(ISBLANK(Datenerfassung!A44),\"\",Datenerfassung!A44)","v":""},{"$f":"IF(ISBLANK(Datenerfassung!B44),\"\",Datenerfassung!B44)","v":""},{"$f":"IF(ISBLANK(Datenerfassung!C44),\"\",Datenerfassung!C44)","v":""},{"$f":"IF(ISBLANK(Datenerfassung!I44),\"\",Datenerfassung!I44)","v":""},{"$f":"IF(ISBLANK(Datenerfassung!J44),\"\",Datenerfassung!J44)","v":""},"",{"$f":"IF(ISBLANK(Datenerfassung!L44),\"\",Datenerfassung!L44)","v":""},{"$f":"IF(ISBLANK(Datenerfassung!F44),\"\",Datenerfassung!F44)","v":""},{"$f":"IF(ISBLANK(Datenerfassung!D44),IF(COUNTBLANK(A34:H34)+COUNTBLANK(J34:O34)=14,\"\",\"- ohne Titel -\"),Datenerfassung!D44)","v":""},{"$f":"IF(ISBLANK(Datenerfassung!E44),\"\",Datenerfassung!E44)","v":""},"",{"$f":"IF(ISBLANK(Datenerfassung!O44),\"\",Datenerfassung!O44)","v":""},{"$f":"IF(ISBLANK(Datenerfassung!G44),\"\",Datenerfassung!G44)","v":""},{"$f":"IF(ISBLANK(Datenerfassung!M44),\"\",Datenerfassung!M44)","v":""},{"$f":"IF(ISBLANK(Datenerfassung!H44),\"\",Datenerfassung!H44)","v":""}]
[{"$f":"IF(ISBLANK(Datenerfassung!A45),\"\",Datenerfassung!A45)","v":""},{"$f":"IF(ISBLANK(Datenerfassung!B45),\"\",Datenerfassung!B45)","v":""},{"$f":"IF(ISBLANK(Datenerfassung!C45),\"\",Datenerfassung!C45)","v":""},{"$f":"IF(ISBLANK(Datenerfassung!I45),\"\",Datenerfassung!I45)","v":""},{"$f":"IF(ISBLANK(Datenerfassung!J45),\"\",Datenerfassung!J45)","v":""},"",{"$f":"IF(ISBLANK(Datenerfassung!L45),\"\",Datenerfassung!L45)","v":""},{"$f":"IF(ISBLANK(Datenerfassung!F45),\"\",Datenerfassung!F45)","v":""},{"$f":"IF(ISBLANK(Datenerfassung!D45),IF(COUNTBLANK(A35:H35)+COUNTBLANK(J35:O35)=14,\"\",\"- ohne Titel -\"),Datenerfassung!D45)","v":""},{"$f":"IF(ISBLANK(Datenerfassung!E45),\"\",Datenerfassung!E45)","v":""},"",{"$f":"IF(ISBLANK(Datenerfassung!O45),\"\",Datenerfassung!O45)","v":""},{"$f":"IF(ISBLANK(Datenerfassung!G45),\"\",Datenerfassung!G45)","v":""},{"$f":"IF(ISBLANK(Datenerfassung!M45),\"\",Datenerfassung!M45)","v":""},{"$f":"IF(ISBLANK(Datenerfassung!H45),\"\",Datenerfassung!H45)","v":""}]
[{"$f":"IF(ISBLANK(Datenerfassung!A46),\"\",Datenerfassung!A46)","v":""},{"$f":"IF(ISBLANK(Datenerfassung!B46),\"\",Datenerfassung!B46)","v":""},{"$f":"IF(ISBLANK(Datenerfassung!C46),\"\",Datenerfassung!C46)","v":""},{"$f":"IF(ISBLANK(Datenerfassung!I46),\"\",Datenerfassung!I46)","v":""},{"$f":"IF(ISBLANK(Datenerfassung!J46),\"\",Datenerfassung!J46)","v":""},"",{"$f":"IF(ISBLANK(Datenerfassung!L46),\"\",Datenerfassung!L46)","v":""},{"$f":"IF(ISBLANK(Datenerfassung!F46),\"\",Datenerfassung!F46)","v":""},{"$f":"IF(ISBLANK(Datenerfassung!D46),IF(COUNTBLANK(A36:H36)+COUNTBLANK(J36:O36)=14,\"\",\"- ohne Titel -\"),Datenerfassung!D46)","v":""},{"$f":"IF(ISBLANK(Datenerfassung!E46),\"\",Datenerfassung!E46)","v":""},"",{"$f":"IF(ISBLANK(Datenerfassung!O46),\"\",Datenerfassung!O46)","v":""},{"$f":"IF(ISBLANK(Datenerfassung!G46),\"\",Datenerfassung!G46)","v":""},{"$f":"IF(ISBLANK(Datenerfassung!M46),\"\",Datenerfassung!M46)","v":""},{"$f":"IF(ISBLANK(Datenerfassung!H46),\"\",Datenerfassung!H46)","v":""}]
[{"$f":"IF(ISBLANK(Datenerfassung!A47),\"\",Datenerfassung!A47)","v":""},{"$f":"IF(ISBLANK(Datenerfassung!B47),\"\",Datenerfassung!B47)","v":""},{"$f":"IF(ISBLANK(Datenerfassung!C47),\"\",Datenerfassung!C47)","v":""},{"$f":"IF(ISBLANK(Datenerfassung!I47),\"\",Datenerfassung!I47)","v":""},{"$f":"IF(ISBLANK(Datenerfassung!J47),\"\",Datenerfassung!J47)","v":""},"",{"$f":"IF(ISBLANK(Datenerfassung!L47),\"\",Datenerfassung!L47)","v":""},{"$f":"IF(ISBLANK(Datenerfassung!F47),\"\",Datenerfassung!F47)","v":""},{"$f":"IF(ISBLANK(Datenerfassung!D47),IF(COUNTBLANK(A37:H37)+COUNTBLANK(J37:O37)=14,\"\",\"- ohne Titel -\"),Datenerfassung!D47)","v":""},{"$f":"IF(ISBLANK(Datenerfassung!E47),\"\",Datenerfassung!E47)","v":""},"",{"$f":"IF(ISBLANK(Datenerfassung!O47),\"\",Datenerfassung!O47)","v":""},{"$f":"IF(ISBLANK(Datenerfassung!G47),\"\",Datenerfassung!G47)","v":""},{"$f":"IF(ISBLANK(Datenerfassung!M47),\"\",Datenerfassung!M47)","v":""},{"$f":"IF(ISBLANK(Datenerfassung!H47),\"\",Datenerfassung!H47)","v":""}]
[{"$f":"IF(ISBLANK(Datenerfassung!A48),\"\",Datenerfassung!A48)","v":""},{"$f":"IF(ISBLANK(Datenerfassung!B48),\"\",Datenerfassung!B48)","v":""},{"$f":"IF(ISBLANK(Datenerfassung!C48),\"\",Datenerfassung!C48)","v":""},{"$f":"IF(ISBLANK(Datenerfassung!I48),\"\",Datenerfassung!I48)","v":""},{"$f":"IF(ISBLANK(Datenerfassung!J48),\"\",Datenerfassung!J48)","v":""},"",{"$f":"IF(ISBLANK(Datenerfassung!L48),\"\",Datenerfassung!L48)","v":""},{"$f":"IF(ISBLANK(Datenerfassung!F48),\"\",Datenerfassung!F48)","v":""},{"$f":"IF(ISBLANK(Datenerfassung!D48),IF(COUNTBLANK(A38:H38)+COUNTBLANK(J38:O38)=14,\"\",\"- ohne Titel -\"),Datenerfassung!D48)","v":""},{"$f":"IF(ISBLANK(Datenerfassung!E48),\"\",Datenerfassung!E48)","v":""},"",{"$f":"IF(ISBLANK(Datenerfassung!O48),\"\",Datenerfassung!O48)","v":""},{"$f":"IF(ISBLANK(Datenerfassung!G48),\"\",Datenerfassung!G48)","v":""},{"$f":"IF(ISBLANK(Datenerfassung!M48),\"\",Datenerfassung!M48)","v":""},{"$f":"IF(ISBLANK(Datenerfassung!H48),\"\",Datenerfassung!H48)","v":""}]
[{"$f":"IF(ISBLANK(Datenerfassung!A49),\"\",Datenerfassung!A49)","v":""},{"$f":"IF(ISBLANK(Datenerfassung!B49),\"\",Datenerfassung!B49)","v":""},{"$f":"IF(ISBLANK(Datenerfassung!C49),\"\",Datenerfassung!C49)","v":""},{"$f":"IF(ISBLANK(Datenerfassung!I49),\"\",Datenerfassung!I49)","v":""},{"$f":"IF(ISBLANK(Datenerfassung!J49),\"\",Datenerfassung!J49)","v":""},"",{"$f":"IF(ISBLANK(Datenerfassung!L49),\"\",Datenerfassung!L49)","v":""},{"$f":"IF(ISBLANK(Datenerfassung!F49),\"\",Datenerfassung!F49)","v":""},{"$f":"IF(ISBLANK(Datenerfassung!D49),IF(COUNTBLANK(A39:H39)+COUNTBLANK(J39:O39)=14,\"\",\"- ohne Titel -\"),Datenerfassung!D49)","v":""},{"$f":"IF(ISBLANK(Datenerfassung!E49),\"\",Datenerfassung!E49)","v":""},"",{"$f":"IF(ISBLANK(Datenerfassung!O49),\"\",Datenerfassung!O49)","v":""},{"$f":"IF(ISBLANK(Datenerfassung!G49),\"\",Datenerfassung!G49)","v":""},{"$f":"IF(ISBLANK(Datenerfassung!M49),\"\",Datenerfassung!M49)","v":""},{"$f":"IF(ISBLANK(Datenerfassung!H49),\"\",Datenerfassung!H49)","v":""}]
[{"$f":"IF(ISBLANK(Datenerfassung!A50),\"\",Datenerfassung!A50)","v":""},{"$f":"IF(ISBLANK(Datenerfassung!B50),\"\",Datenerfassung!B50)","v":""},{"$f":"IF(ISBLANK(Datenerfassung!C50),\"\",Datenerfassung!C50)","v":""},{"$f":"IF(ISBLANK(Datenerfassung!I50),\"\",Datenerfassung!I50)","v":""},{"$f":"IF(ISBLANK(Datenerfassung!J50),\"\",Datenerfassung!J50)","v":""},"",{"$f":"IF(ISBLANK(Datenerfassung!L50),\"\",Datenerfassung!L50)","v":""},{"$f":"IF(ISBLANK(Datenerfassung!F50),\"\",Datenerfassung!F50)","v":""},{"$f":"IF(ISBLANK(Datenerfassung!D50),IF(COUNTBLANK(A40:H40)+COUNTBLANK(J40:O40)=14,\"\",\"- ohne Titel -\"),Datenerfassung!D50)","v":""},{"$f":"IF(ISBLANK(Datenerfassung!E50),\"\",Datenerfassung!E50)","v":""},"",{"$f":"IF(ISBLANK(Datenerfassung!O50),\"\",Datenerfassung!O50)","v":""},{"$f":"IF(ISBLANK(Datenerfassung!G50),\"\",Datenerfassung!G50)","v":""},{"$f":"IF(ISBLANK(Datenerfassung!M50),\"\",Datenerfassung!M50)","v":""},{"$f":"IF(ISBLANK(Datenerfassung!H50),\"\",Datenerfassung!H50)","v":""}]
[{"$f":"IF(ISBLANK(Datenerfassung!A51),\"\",Datenerfassung!A51)","v":""},{"$f":"IF(ISBLANK(Datenerfassung!B51),\"\",Datenerfassung!B51)","v":""},{"$f":"IF(ISBLANK(Datenerfassung!C51),\"\",Datenerfassung!C51)","v":""},{"$f":"IF(ISBLANK(Datenerfassung!I51),\"\",Datenerfassung!I51)","v":""},{"$f":"IF(ISBLANK(Datenerfassung!J51),\"\",Datenerfassung!J51)","v":""},"",{"$f":"IF(ISBLANK(Datenerfassung!L51),\"\",Datenerfassung!L51)","v":""},{"$f":"IF(ISBLANK(Datenerfassung!F51),\"\",Datenerfassung!F51)","v":""},{"$f":"IF(ISBLANK(Datenerfassung!D51),IF(COUNTBLANK(A41:H41)+COUNTBLANK(J41:O41)=14,\"\",\"- ohne Titel -\"),Datenerfassung!D51)","v":""},{"$f":"IF(ISBLANK(Datenerfassung!E51),\"\",Datenerfassung!E51)","v":""},"",{"$f":"IF(ISBLANK(Datenerfassung!O51),\"\",Datenerfassung!O51)","v":""},{"$f":"IF(ISBLANK(Datenerfassung!G51),\"\",Datenerfassung!G51)","v":""},{"$f":"IF(ISBLANK(Datenerfassung!M51),\"\",Datenerfassung!M51)","v":""},{"$f":"IF(ISBLANK(Datenerfassung!H51),\"\",Datenerfassung!H51)","v":""}]
[{"$f":"IF(ISBLANK(Datenerfassung!A52),\"\",Datenerfassung!A52)","v":""},{"$f":"IF(ISBLANK(Datenerfassung!B52),\"\",Datenerfassung!B52)","v":""},{"$f":"IF(ISBLANK(Datenerfassung!C52),\"\",Datenerfassung!C52)","v":""},{"$f":"IF(ISBLANK(Datenerfassung!I52),\"\",Datenerfassung!I52)","v":""},{"$f":"IF(ISBLANK(Datenerfassung!J52),\"\",Datenerfassung!J52)","v":""},"",{"$f":"IF(ISBLANK(Datenerfassung!L52),\"\",Datenerfassung!L52)","v":""},{"$f":"IF(ISBLANK(Datenerfassung!F52),\"\",Datenerfassung!F52)","v":""},{"$f":"IF(ISBLANK(Datenerfassung!D52),IF(COUNTBLANK(A42:H42)+COUNTBLANK(J42:O42)=14,\"\",\"- ohne Titel -\"),Datenerfassung!D52)","v":""},{"$f":"IF(ISBLANK(Datenerfassung!E52),\"\",Datenerfassung!E52)","v":""},"",{"$f":"IF(ISBLANK(Datenerfassung!O52),\"\",Datenerfassung!O52)","v":""},{"$f":"IF(ISBLANK(Datenerfassung!G52),\"\",Datenerfassung!G52)","v":""},{"$f":"IF(ISBLANK(Datenerfassung!M52),\"\",Datenerfassung!M52)","v":""},{"$f":"IF(ISBLANK(Datenerfassung!H52),\"\",Datenerfassung!H52)","v":""}]
[{"$f":"IF(ISBLANK(Datenerfassung!A53),\"\",Datenerfassung!A53)","v":""},{"$f":"IF(ISBLANK(Datenerfassung!B53),\"\",Datenerfassung!B53)","v":""},{"$f":"IF(ISBLANK(Datenerfassung!C53),\"\",Datenerfassung!C53)","v":""},{"$f":"IF(ISBLANK(Datenerfassung!I53),\"\",Datenerfassung!I53)","v":""},{"$f":"IF(ISBLANK(Datenerfassung!J53),\"\",Datenerfassung!J53)","v":""},"",{"$f":"IF(ISBLANK(Datenerfassung!L53),\"\",Datenerfassung!L53)","v":""},{"$f":"IF(ISBLANK(Datenerfassung!F53),\"\",Datenerfassung!F53)","v":""},{"$f":"IF(ISBLANK(Datenerfassung!D53),IF(COUNTBLANK(A43:H43)+COUNTBLANK(J43:O43)=14,\"\",\"- ohne Titel -\"),Datenerfassung!D53)","v":""},{"$f":"IF(ISBLANK(Datenerfassung!E53),\"\",Datenerfassung!E53)","v":""},"",{"$f":"IF(ISBLANK(Datenerfassung!O53),\"\",Datenerfassung!O53)","v":""},{"$f":"IF(ISBLANK(Datenerfassung!G53),\"\",Datenerfassung!G53)","v":""},{"$f":"IF(ISBLANK(Datenerfassung!M53),\"\",Datenerfassung!M53)","v":""},{"$f":"IF(ISBLANK(Datenerfassung!H53),\"\",Datenerfassung!H53)","v":""}]
[{"$f":"IF(ISBLANK(Datenerfassung!A54),\"\",Datenerfassung!A54)","v":""},{"$f":"IF(ISBLANK(Datenerfassung!B54),\"\",Datenerfassung!B54)","v":""},{"$f":"IF(ISBLANK(Datenerfassung!C54),\"\",Datenerfassung!C54)","v":""},{"$f":"IF(ISBLANK(Datenerfassung!I54),\"\",Datenerfassung!I54)","v":""},{"$f":"IF(ISBLANK(Datenerfassung!J54),\"\",Datenerfassung!J54)","v":""},"",{"$f":"IF(ISBLANK(Datenerfassung!L54),\"\",Datenerfassung!L54)","v":""},{"$f":"IF(ISBLANK(Datenerfassung!F54),\"\",Datenerfassung!F54)","v":""},{"$f":"IF(ISBLANK(Datenerfassung!D54),IF(COUNTBLANK(A44:H44)+COUNTBLANK(J44:O44)=14,\"\",\"- ohne Titel -\"),Datenerfassung!D54)","v":""},{"$f":"IF(ISBLANK(Datenerfassung!E54),\"\",Datenerfassung!E54)","v":""},"",{"$f":"IF(ISBLANK(Datenerfassung!O54),\"\",Datenerfassung!O54)","v":""},{"$f":"IF(ISBLANK(Datenerfassung!G54),\"\",Datenerfassung!G54)","v":""},{"$f":"IF(ISBLANK(Datenerfassung!M54),\"\",Datenerfassung!M54)","v":""},{"$f":"IF(ISBLANK(Datenerfassung!H54),\"\",Datenerfassung!H54)","v":""}]
[{"$f":"IF(ISBLANK(Datenerfassung!A55),\"\",Datenerfassung!A55)","v":""},{"$f":"IF(ISBLANK(Datenerfassung!B55),\"\",Datenerfassung!B55)","v":""},{"$f":"IF(ISBLANK(Datenerfassung!C55),\"\",Datenerfassung!C55)","v":""},{"$f":"IF(ISBLANK(Datenerfassung!I55),\"\",Datenerfassung!I55)","v":""},{"$f":"IF(ISBLANK(Datenerfassung!J55),\"\",Datenerfassung!J55)","v":""},"",{"$f":"IF(ISBLANK(Datenerfassung!L55),\"\",Datenerfassung!L55)","v":""},{"$f":"IF(ISBLANK(Datenerfassung!F55),\"\",Datenerfassung!F55)","v":""},{"$f":"IF(ISBLANK(Datenerfassung!D55),IF(COUNTBLANK(A45:H45)+COUNTBLANK(J45:O45)=14,\"\",\"- ohne Titel -\"),Datenerfassung!D55)","v":""},{"$f":"IF(ISBLANK(Datenerfassung!E55),\"\",Datenerfassung!E55)","v":""},"",{"$f":"IF(ISBLANK(Datenerfassung!O55),\"\",Datenerfassung!O55)","v":""},{"$f":"IF(ISBLANK(Datenerfassung!G55),\"\",Datenerfassung!G55)","v":""},{"$f":"IF(ISBLANK(Datenerfassung!M55),\"\",Datenerfassung!M55)","v":""},{"$f":"IF(ISBLANK(Datenerfassung!H55),\"\",Datenerfassung!H55)","v":""}]
[{"$f":"IF(ISBLANK(Datenerfassung!A56),\"\",Datenerfassung!A56)","v":""},{"$f":"IF(ISBLANK(Datenerfassung!B56),\"\",Datenerfassung!B56)","v":""},{"$f":"IF(ISBLANK(Datenerfassung!C56),\"\",Datenerfassung!C56)","v":""},{"$f":"IF(ISBLANK(Datenerfassung!I56),\"\",Datenerfassung!I56)","v":""},{"$f":"IF(ISBLANK(Datenerfassung!J56),\"\",Datenerfassung!J56)","v":""},"",{"$f":"IF(ISBLANK(Datenerfassung!L56),\"\",Datenerfassung!L56)","v":""},{"$f":"IF(ISBLANK(Datenerfassung!F56),\"\",Datenerfassung!F56)","v":""},{"$f":"IF(ISBLANK(Datenerfassung!D56),IF(COUNTBLANK(A46:H46)+COUNTBLANK(J46:O46)=14,\"\",\"- ohne Titel -\"),Datenerfassung!D56)","v":""},{"$f":"IF(ISBLANK(Datenerfassung!E56),\"\",Datenerfassung!E56)","v":""},"",{"$f":"IF(ISBLANK(Datenerfassung!O56),\"\",Datenerfassung!O56)","v":""},{"$f":"IF(ISBLANK(Datenerfassung!G56),\"\",Datenerfassung!G56)","v":""},{"$f":"IF(ISBLANK(Datenerfassung!M56),\"\",Datenerfassung!M56)","v":""},{"$f":"IF(ISBLANK(Datenerfassung!H56),\"\",Datenerfassung!H56)","v":""}]
[{"$f":"IF(ISBLANK(Datenerfassung!A57),\"\",Datenerfassung!A57)","v":""},{"$f":"IF(ISBLANK(Datenerfassung!B57),\"\",Datenerfassung!B57)","v":""},{"$f":"IF(ISBLANK(Datenerfassung!C57),\"\",Datenerfassung!C57)","v":""},{"$f":"IF(ISBLANK(Datenerfassung!I57),\"\",Datenerfassung!I57)","v":""},{"$f":"IF(ISBLANK(Datenerfassung!J57),\"\",Datenerfassung!J57)","v":""},"",{"$f":"IF(ISBLANK(Datenerfassung!L57),\"\",Datenerfassung!L57)","v":""},{"$f":"IF(ISBLANK(Datenerfassung!F57),\"\",Datenerfassung!F57)","v":""},{"$f":"IF(ISBLANK(Datenerfassung!D57),IF(COUNTBLANK(A47:H47)+COUNTBLANK(J47:O47)=14,\"\",\"- ohne Titel -\"),Datenerfassung!D57)","v":""},{"$f":"IF(ISBLANK(Datenerfassung!E57),\"\",Datenerfassung!E57)","v":""},"",{"$f":"IF(ISBLANK(Datenerfassung!O57),\"\",Datenerfassung!O57)","v":""},{"$f":"IF(ISBLANK(Datenerfassung!G57),\"\",Datenerfassung!G57)","v":""},{"$f":"IF(ISBLANK(Datenerfassung!M57),\"\",Datenerfassung!M57)","v":""},{"$f":"IF(ISBLANK(Datenerfassung!H57),\"\",Datenerfassung!H57)","v":""}]
[{"$f":"IF(ISBLANK(Datenerfassung!A58),\"\",Datenerfassung!A58)","v":""},{"$f":"IF(ISBLANK(Datenerfassung!B58),\"\",Datenerfassung!B58)","v":""},{"$f":"IF(ISBLANK(Datenerfassung!C58),\"\",Datenerfassung!C58)","v":""},{"$f":"IF(ISBLANK(Datenerfassung!I58),\"\",Datenerfassung!I58)","v":""},{"$f":"IF(ISBLANK(Datenerfassung!J58),\"\",Datenerfassung!J58)","v":""},"",{"$f":"IF(ISBLANK(Datenerfassung!L58),\"\",Datenerfassung!L58)","v":""},{"$f":"IF(ISBLANK(Datenerfassung!F58),\"\",Datenerfassung!F58)","v":""},{"$f":"IF(ISBLANK(Datenerfassung!D58),IF(COUNTBLANK(A48:H48)+COUNTBLANK(J48:O48)=14,\"\",\"- ohne Titel -\"),Datenerfassung!D58)","v":""},{"$f":"IF(ISBLANK(Datenerfassung!E58),\"\",Datenerfassung!E58)","v":""},"",{"$f":"IF(ISBLANK(Datenerfassung!O58),\"\",Datenerfassung!O58)","v":""},{"$f":"IF(ISBLANK(Datenerfassung!G58),\"\",Datenerfassung!G58)","v":""},{"$f":"IF(ISBLANK(Datenerfassung!M58),\"\",Datenerfassung!M58)","v":""},{"$f":"IF(ISBLANK(Datenerfassung!H58),\"\",Datenerfassung!H58)","v":""}]
[{"$f":"IF(ISBLANK(Datenerfassung!A59),\"\",Datenerfassung!A59)","v":""},{"$f":"IF(ISBLANK(Datenerfassung!B59),\"\",Datenerfassung!B59)","v":""},{"$f":"IF(ISBLANK(Datenerfassung!C59),\"\",Datenerfassung!C59)","v":""},{"$f":"IF(ISBLANK(Datenerfassung!I59),\"\",Datenerfassung!I59)","v":""},{"$f":"IF(ISBLANK(Datenerfassung!J59),\"\",Datenerfassung!J59)","v":""},"",{"$f":"IF(ISBLANK(Datenerfassung!L59),\"\",Datenerfassung!L59)","v":""},{"$f":"IF(ISBLANK(Datenerfassung!F59),\"\",Datenerfassung!F59)","v":""},{"$f":"IF(ISBLANK(Datenerfassung!D59),IF(COUNTBLANK(A49:H49)+COUNTBLANK(J49:O49)=14,\"\",\"- ohne Titel -\"),Datenerfassung!D59)","v":""},{"$f":"IF(ISBLANK(Datenerfassung!E59),\"\",Datenerfassung!E59)","v":""},"",{"$f":"IF(ISBLANK(Datenerfassung!O59),\"\",Datenerfassung!O59)","v":""},{"$f":"IF(ISBLANK(Datenerfassung!G59),\"\",Datenerfassung!G59)","v":""},{"$f":"IF(ISBLANK(Datenerfassung!M59),\"\",Datenerfassung!M59)","v":""},{"$f":"IF(ISBLANK(Datenerfassung!H59),\"\",Datenerfassung!H59)","v":""}]
[{"$f":"IF(ISBLANK(Datenerfassung!A60),\"\",Datenerfassung!A60)","v":""},{"$f":"IF(ISBLANK(Datenerfassung!B60),\"\",Datenerfassung!B60)","v":""},{"$f":"IF(ISBLANK(Datenerfassung!C60),\"\",Datenerfassung!C60)","v":""},{"$f":"IF(ISBLANK(Datenerfassung!I60),\"\",Datenerfassung!I60)","v":""},{"$f":"IF(ISBLANK(Datenerfassung!J60),\"\",Datenerfassung!J60)","v":""},"",{"$f":"IF(ISBLANK(Datenerfassung!L60),\"\",Datenerfassung!L60)","v":""},{"$f":"IF(ISBLANK(Datenerfassung!F60),\"\",Datenerfassung!F60)","v":""},{"$f":"IF(ISBLANK(Datenerfassung!D60),IF(COUNTBLANK(A50:H50)+COUNTBLANK(J50:O50)=14,\"\",\"- ohne Titel -\"),Datenerfassung!D60)","v":""},{"$f":"IF(ISBLANK(Datenerfassung!E60),\"\",Datenerfassung!E60)","v":""},"",{"$f":"IF(ISBLANK(Datenerfassung!O60),\"\",Datenerfassung!O60)","v":""},{"$f":"IF(ISBLANK(Datenerfassung!G60),\"\",Datenerfassung!G60)","v":""},{"$f":"IF(ISBLANK(Datenerfassung!M60),\"\",Datenerfassung!M60)","v":""},{"$f":"IF(ISBLANK(Datenerfassung!H60),\"\",Datenerfassung!H60)","v":""}]
[{"$f":"IF(ISBLANK(Datenerfassung!A61),\"\",Datenerfassung!A61)","v":""},{"$f":"IF(ISBLANK(Datenerfassung!B61),\"\",Datenerfassung!B61)","v":""},{"$f":"IF(ISBLANK(Datenerfassung!C61),\"\",Datenerfassung!C61)","v":""},{"$f":"IF(ISBLANK(Datenerfassung!I61),\"\",Datenerfassung!I61)","v":""},{"$f":"IF(ISBLANK(Datenerfassung!J61),\"\",Datenerfassung!J61)","v":""},"",{"$f":"IF(ISBLANK(Datenerfassung!L61),\"\",Datenerfassung!L61)","v":""},{"$f":"IF(ISBLANK(Datenerfassung!F61),\"\",Datenerfassung!F61)","v":""},{"$f":"IF(ISBLANK(Datenerfassung!D61),IF(COUNTBLANK(A51:H51)+COUNTBLANK(J51:O51)=14,\"\",\"- ohne Titel -\"),Datenerfassung!D61)","v":""},{"$f":"IF(ISBLANK(Datenerfassung!E61),\"\",Datenerfassung!E61)","v":""},"",{"$f":"IF(ISBLANK(Datenerfassung!O61),\"\",Datenerfassung!O61)","v":""},{"$f":"IF(ISBLANK(Datenerfassung!G61),\"\",Datenerfassung!G61)","v":""},{"$f":"IF(ISBLANK(Datenerfassung!M61),\"\",Datenerfassung!M61)","v":""},{"$f":"IF(ISBLANK(Datenerfassung!H61),\"\",Datenerfassung!H61)","v":""}]
[{"$f":"IF(ISBLANK(Datenerfassung!A62),\"\",Datenerfassung!A62)","v":""},{"$f":"IF(ISBLANK(Datenerfassung!B62),\"\",Datenerfassung!B62)","v":""},{"$f":"IF(ISBLANK(Datenerfassung!C62),\"\",Datenerfassung!C62)","v":""},{"$f":"IF(ISBLANK(Datenerfassung!I62),\"\",Datenerfassung!I62)","v":""},{"$f":"IF(ISBLANK(Datenerfassung!J62),\"\",Datenerfassung!J62)","v":""},"",{"$f":"IF(ISBLANK(Datenerfassung!L62),\"\",Datenerfassung!L62)","v":""},{"$f":"IF(ISBLANK(Datenerfassung!F62),\"\",Datenerfassung!F62)","v":""},{"$f":"IF(ISBLANK(Datenerfassung!D62),IF(COUNTBLANK(A52:H52)+COUNTBLANK(J52:O52)=14,\"\",\"- ohne Titel -\"),Datenerfassung!D62)","v":""},{"$f":"IF(ISBLANK(Datenerfassung!E62),\"\",Datenerfassung!E62)","v":""},"",{"$f":"IF(ISBLANK(Datenerfassung!O62),\"\",Datenerfassung!O62)","v":""},{"$f":"IF(ISBLANK(Datenerfassung!G62),\"\",Datenerfassung!G62)","v":""},{"$f":"IF(ISBLANK(Datenerfassung!M62),\"\",Datenerfassung!M62)","v":""},{"$f":"IF(ISBLANK(Datenerfassung!H62),\"\",Datenerfassung!H62)","v":""}]
[{"$f":"IF(ISBLANK(Datenerfassung!A63),\"\",Datenerfassung!A63)","v":""},{"$f":"IF(ISBLANK(Datenerfassung!B63),\"\",Datenerfassung!B63)","v":""},{"$f":"IF(ISBLANK(Datenerfassung!C63),\"\",Datenerfassung!C63)","v":""},{"$f":"IF(ISBLANK(Datenerfassung!I63),\"\",Datenerfassung!I63)","v":""},{"$f":"IF(ISBLANK(Datenerfassung!J63),\"\",Datenerfassung!J63)","v":""},"",{"$f":"IF(ISBLANK(Datenerfassung!L63),\"\",Datenerfassung!L63)","v":""},{"$f":"IF(ISBLANK(Datenerfassung!F63),\"\",Datenerfassung!F63)","v":""},{"$f":"IF(ISBLANK(Datenerfassung!D63),IF(COUNTBLANK(A53:H53)+COUNTBLANK(J53:O53)=14,\"\",\"- ohne Titel -\"),Datenerfassung!D63)","v":""},{"$f":"IF(ISBLANK(Datenerfassung!E63),\"\",Datenerfassung!E63)","v":""},"",{"$f":"IF(ISBLANK(Datenerfassung!O63),\"\",Datenerfassung!O63)","v":""},{"$f":"IF(ISBLANK(Datenerfassung!G63),\"\",Datenerfassung!G63)","v":""},{"$f":"IF(ISBLANK(Datenerfassung!M63),\"\",Datenerfassung!M63)","v":""},{"$f":"IF(ISBLANK(Datenerfassung!H63),\"\",Datenerfassung!H63)","v":""}]
[{"$f":"IF(ISBLANK(Datenerfassung!A64),\"\",Datenerfassung!A64)","v":""},{"$f":"IF(ISBLANK(Datenerfassung!B64),\"\",Datenerfassung!B64)","v":""},{"$f":"IF(ISBLANK(Datenerfassung!C64),\"\",Datenerfassung!C64)","v":""},{"$f":"IF(ISBLANK(Datenerfassung!I64),\"\",Datenerfassung!I64)","v":""},{"$f":"IF(ISBLANK(Datenerfassung!J64),\"\",Datenerfassung!J64)","v":""},"",{"$f":"IF(ISBLANK(Datenerfassung!L64),\"\",Datenerfassung!L64)","v":""},{"$f":"IF(ISBLANK(Datenerfassung!F64),\"\",Datenerfassung!F64)","v":""},{"$f":"IF(ISBLANK(Datenerfassung!D64),IF(COUNTBLANK(A54:H54)+COUNTBLANK(J54:O54)=14,\"\",\"- ohne Titel -\"),Datenerfassung!D64)","v":""},{"$f":"IF(ISBLANK(Datenerfassung!E64),\"\",Datenerfassung!E64)","v":""},"",{"$f":"IF(ISBLANK(Datenerfassung!O64),\"\",Datenerfassung!O64)","v":""},{"$f":"IF(ISBLANK(Datenerfassung!G64),\"\",Datenerfassung!G64)","v":""},{"$f":"IF(ISBLANK(Datenerfassung!M64),\"\",Datenerfassung!M64)","v":""},{"$f":"IF(ISBLANK(Datenerfassung!H64),\"\",Datenerfassung!H64)","v":""}]
[{"$f":"IF(ISBLANK(Datenerfassung!A65),\"\",Datenerfassung!A65)","v":""},{"$f":"IF(ISBLANK(Datenerfassung!B65),\"\",Datenerfassung!B65)","v":""},{"$f":"IF(ISBLANK(Datenerfassung!C65),\"\",Datenerfassung!C65)","v":""},{"$f":"IF(ISBLANK(Datenerfassung!I65),\"\",Datenerfassung!I65)","v":""},{"$f":"IF(ISBLANK(Datenerfassung!J65),\"\",Datenerfassung!J65)","v":""},"",{"$f":"IF(ISBLANK(Datenerfassung!L65),\"\",Datenerfassung!L65)","v":""},{"$f":"IF(ISBLANK(Datenerfassung!F65),\"\",Datenerfassung!F65)","v":""},{"$f":"IF(ISBLANK(Datenerfassung!D65),IF(COUNTBLANK(A55:H55)+COUNTBLANK(J55:O55)=14,\"\",\"- ohne Titel -\"),Datenerfassung!D65)","v":""},{"$f":"IF(ISBLANK(Datenerfassung!E65),\"\",Datenerfassung!E65)","v":""},"",{"$f":"IF(ISBLANK(Datenerfassung!O65),\"\",Datenerfassung!O65)","v":""},{"$f":"IF(ISBLANK(Datenerfassung!G65),\"\",Datenerfassung!G65)","v":""},{"$f":"IF(ISBLANK(Datenerfassung!M65),\"\",Datenerfassung!M65)","v":""},{"$f":"IF(ISBLANK(Datenerfassung!H65),\"\",Datenerfassung!H65)","v":""}]
[{"$f":"IF(ISBLANK(Datenerfassung!A66),\"\",Datenerfassung!A66)","v":""},{"$f":"IF(ISBLANK(Datenerfassung!B66),\"\",Datenerfassung!B66)","v":""},{"$f":"IF(ISBLANK(Datenerfassung!C66),\"\",Datenerfassung!C66)","v":""},{"$f":"IF(ISBLANK(Datenerfassung!I66),\"\",Datenerfassung!I66)","v":""},{"$f":"IF(ISBLANK(Datenerfassung!J66),\"\",Datenerfassung!J66)","v":""},"",{"$f":"IF(ISBLANK(Datenerfassung!L66),\"\",Datenerfassung!L66)","v":""},{"$f":"IF(ISBLANK(Datenerfassung!F66),\"\",Datenerfassung!F66)","v":""},{"$f":"IF(ISBLANK(Datenerfassung!D66),IF(COUNTBLANK(A56:H56)+COUNTBLANK(J56:O56)=14,\"\",\"- ohne Titel -\"),Datenerfassung!D66)","v":""},{"$f":"IF(ISBLANK(Datenerfassung!E66),\"\",Datenerfassung!E66)","v":""},"",{"$f":"IF(ISBLANK(Datenerfassung!O66),\"\",Datenerfassung!O66)","v":""},{"$f":"IF(ISBLANK(Datenerfassung!G66),\"\",Datenerfassung!G66)","v":""},{"$f":"IF(ISBLANK(Datenerfassung!M66),\"\",Datenerfassung!M66)","v":""},{"$f":"IF(ISBLANK(Datenerfassung!H66),\"\",Datenerfassung!H66)","v":""}]
[{"$f":"IF(ISBLANK(Datenerfassung!A67),\"\",Datenerfassung!A67)","v":""},{"$f":"IF(ISBLANK(Datenerfassung!B67),\"\",Datenerfassung!B67)","v":""},{"$f":"IF(ISBLANK(Datenerfassung!C67),\"\",Datenerfassung!C67)","v":""},{"$f":"IF(ISBLANK(Datenerfassung!I67),\"\",Datenerfassung!I67)","v":""},{"$f":"IF(ISBLANK(Datenerfassung!J67),\"\",Datenerfassung!J67)","v":""},"",{"$f":"IF(ISBLANK(Datenerfassung!L67),\"\",Datenerfassung!L67)","v":""},{"$f":"IF(ISBLANK(Datenerfassung!F67),\"\",Datenerfassung!F67)","v":""},{"$f":"IF(ISBLANK(Datenerfassung!D67),IF(COUNTBLANK(A57:H57)+COUNTBLANK(J57:O57)=14,\"\",\"- ohne Titel -\"),Datenerfassung!D67)","v":""},{"$f":"IF(ISBLANK(Datenerfassung!E67),\"\",Datenerfassung!E67)","v":""},"",{"$f":"IF(ISBLANK(Datenerfassung!O67),\"\",Datenerfassung!O67)","v":""},{"$f":"IF(ISBLANK(Datenerfassung!G67),\"\",Datenerfassung!G67)","v":""},{"$f":"IF(ISBLANK(Datenerfassung!M67),\"\",Datenerfassung!M67)","v":""},{"$f":"IF(ISBLANK(Datenerfassung!H67),\"\",Datenerfassung!H67)","v":""}]
[{"$f":"IF(ISBLANK(Datenerfassung!A68),\"\",Datenerfassung!A68)","v":""},{"$f":"IF(ISBLANK(Datenerfassung!B68),\"\",Datenerfassung!B68)","v":""},{"$f":"IF(ISBLANK(Datenerfassung!C68),\"\",Datenerfassung!C68)","v":""},{"$f":"IF(ISBLANK(Datenerfassung!I68),\"\",Datenerfassung!I68)","v":""},{"$f":"IF(ISBLANK(Datenerfassung!J68),\"\",Datenerfassung!J68)","v":""},"",{"$f":"IF(ISBLANK(Datenerfassung!L68),\"\",Datenerfassung!L68)","v":""},{"$f":"IF(ISBLANK(Datenerfassung!F68),\"\",Datenerfassung!F68)","v":""},{"$f":"IF(ISBLANK(Datenerfassung!D68),IF(COUNTBLANK(A58:H58)+COUNTBLANK(J58:O58)=14,\"\",\"- ohne Titel -\"),Datenerfassung!D68)","v":""},{"$f":"IF(ISBLANK(Datenerfassung!E68),\"\",Datenerfassung!E68)","v":""},"",{"$f":"IF(ISBLANK(Datenerfassung!O68),\"\",Datenerfassung!O68)","v":""},{"$f":"IF(ISBLANK(Datenerfassung!G68),\"\",Datenerfassung!G68)","v":""},{"$f":"IF(ISBLANK(Datenerfassung!M68),\"\",Datenerfassung!M68)","v":""},{"$f":"IF(ISBLANK(Datenerfassung!H68),\"\",Datenerfassung!H68)","v":""}]
[{"$f":"IF(ISBLANK(Datenerfassung!A69),\"\",Datenerfassung!A69)","v":""},{"$f":"IF(ISBLANK(Datenerfassung!B69),\"\",Datenerfassung!B69)","v":""},{"$f":"IF(ISBLANK(Datenerfassung!C69),\"\",Datenerfassung!C69)","v":""},{"$f":"IF(ISBLANK(Datenerfassung!I69),\"\",Datenerfassung!I69)","v":""},{"$f":"IF(ISBLANK(Datenerfassung!J69),\"\",Datenerfassung!J69)","v":""},"",{"$f":"IF(ISBLANK(Datenerfassung!L69),\"\",Datenerfassung!L69)","v":""},{"$f":"IF(ISBLANK(Datenerfassung!F69),\"\",Datenerfassung!F69)","v":""},{"$f":"IF(ISBLANK(Datenerfassung!D69),IF(COUNTBLANK(A59:H59)+COUNTBLANK(J59:O59)=14,\"\",\"- ohne Titel -\"),Datenerfassung!D69)","v":""},{"$f":"IF(ISBLANK(Datenerfassung!E69),\"\",Datenerfassung!E69)","v":""},"",{"$f":"IF(ISBLANK(Datenerfassung!O69),\"\",Datenerfassung!O69)","v":""},{"$f":"IF(ISBLANK(Datenerfassung!G69),\"\",Datenerfassung!G69)","v":""},{"$f":"IF(ISBLANK(Datenerfassung!M69),\"\",Datenerfassung!M69)","v":""},{"$f":"IF(ISBLANK(Datenerfassung!H69),\"\",Datenerfassung!H69)","v":""}]
[{"$f":"IF(ISBLANK(Datenerfassung!A70),\"\",Datenerfassung!A70)","v":""},{"$f":"IF(ISBLANK(Datenerfassung!B70),\"\",Datenerfassung!B70)","v":""},{"$f":"IF(ISBLANK(Datenerfassung!C70),\"\",Datenerfassung!C70)","v":""},{"$f":"IF(ISBLANK(Datenerfassung!I70),\"\",Datenerfassung!I70)","v":""},{"$f":"IF(ISBLANK(Datenerfassung!J70),\"\",Datenerfassung!J70)","v":""},"",{"$f":"IF(ISBLANK(Datenerfassung!L70),\"\",Datenerfassung!L70)","v":""},{"$f":"IF(ISBLANK(Datenerfassung!F70),\"\",Datenerfassung!F70)","v":""},{"$f":"IF(ISBLANK(Datenerfassung!D70),IF(COUNTBLANK(A60:H60)+COUNTBLANK(J60:O60)=14,\"\",\"- ohne Titel -\"),Datenerfassung!D70)","v":""},{"$f":"IF(ISBLANK(Datenerfassung!E70),\"\",Datenerfassung!E70)","v":""},"",{"$f":"IF(ISBLANK(Datenerfassung!O70),\"\",Datenerfassung!O70)","v":""},{"$f":"IF(ISBLANK(Datenerfassung!G70),\"\",Datenerfassung!G70)","v":""},{"$f":"IF(ISBLANK(Datenerfassung!M70),\"\",Datenerfassung!M70)","v":""},{"$f":"IF(ISBLANK(Datenerfassung!H70),\"\",Datenerfassung!H70)","v":""}]
[{"$f":"IF(ISBLANK(Datenerfassung!A71),\"\",Datenerfassung!A71)","v":""},{"$f":"IF(ISBLANK(Datenerfassung!B71),\"\",Datenerfassung!B71)","v":""},{"$f":"IF(ISBLANK(Datenerfassung!C71),\"\",Datenerfassung!C71)","v":""},{"$f":"IF(ISBLANK(Datenerfassung!I71),\"\",Datenerfassung!I71)","v":""},{"$f":"IF(ISBLANK(Datenerfassung!J71),\"\",Datenerfassung!J71)","v":""},"",{"$f":"IF(ISBLANK(Datenerfassung!L71),\"\",Datenerfassung!L71)","v":""},{"$f":"IF(ISBLANK(Datenerfassung!F71),\"\",Datenerfassung!F71)","v":""},{"$f":"IF(ISBLANK(Datenerfassung!D71),IF(COUNTBLANK(A61:H61)+COUNTBLANK(J61:O61)=14,\"\",\"- ohne Titel -\"),Datenerfassung!D71)","v":""},{"$f":"IF(ISBLANK(Datenerfassung!E71),\"\",Datenerfassung!E71)","v":""},"",{"$f":"IF(ISBLANK(Datenerfassung!O71),\"\",Datenerfassung!O71)","v":""},{"$f":"IF(ISBLANK(Datenerfassung!G71),\"\",Datenerfassung!G71)","v":""},{"$f":"IF(ISBLANK(Datenerfassung!M71),\"\",Datenerfassung!M71)","v":""},{"$f":"IF(ISBLANK(Datenerfassung!H71),\"\",Datenerfassung!H71)","v":""}]
[{"$f":"IF(ISBLANK(Datenerfassung!A72),\"\",Datenerfassung!A72)","v":""},{"$f":"IF(ISBLANK(Datenerfassung!B72),\"\",Datenerfassung!B72)","v":""},{"$f":"IF(ISBLANK(Datenerfassung!C72),\"\",Datenerfassung!C72)","v":""},{"$f":"IF(ISBLANK(Datenerfassung!I72),\"\",Datenerfassung!I72)","v":""},{"$f":"IF(ISBLANK(Datenerfassung!J72),\"\",Datenerfassung!J72)","v":""},"",{"$f":"IF(ISBLANK(Datenerfassung!L72),\"\",Datenerfassung!L72)","v":""},{"$f":"IF(ISBLANK(Datenerfassung!F72),\"\",Datenerfassung!F72)","v":""},{"$f":"IF(ISBLANK(Datenerfassung!D72),IF(COUNTBLANK(A62:H62)+COUNTBLANK(J62:O62)=14,\"\",\"- ohne Titel -\"),Datenerfassung!D72)","v":""},{"$f":"IF(ISBLANK(Datenerfassung!E72),\"\",Datenerfassung!E72)","v":""},"",{"$f":"IF(ISBLANK(Datenerfassung!O72),\"\",Datenerfassung!O72)","v":""},{"$f":"IF(ISBLANK(Datenerfassung!G72),\"\",Datenerfassung!G72)","v":""},{"$f":"IF(ISBLANK(Datenerfassung!M72),\"\",Datenerfassung!M72)","v":""},{"$f":"IF(ISBLANK(Datenerfassung!H72),\"\",Datenerfassung!H72)","v":""}]
[{"$f":"IF(ISBLANK(Datenerfassung!A73),\"\",Datenerfassung!A73)","v":""},{"$f":"IF(ISBLANK(Datenerfassung!B73),\"\",Datenerfassung!B73)","v":""},{"$f":"IF(ISBLANK(Datenerfassung!C73),\"\",Datenerfassung!C73)","v":""},{"$f":"IF(ISBLANK(Datenerfassung!I73),\"\",Datenerfassung!I73)","v":""},{"$f":"IF(ISBLANK(Datenerfassung!J73),\"\",Datenerfassung!J73)","v":""},"",{"$f":"IF(ISBLANK(Datenerfassung!L73),\"\",Datenerfassung!L73)","v":""},{"$f":"IF(ISBLANK(Datenerfassung!F73),\"\",Datenerfassung!F73)","v":""},{"$f":"IF(ISBLANK(Datenerfassung!D73),IF(COUNTBLANK(A63:H63)+COUNTBLANK(J63:O63)=14,\"\",\"- ohne Titel -\"),Datenerfassung!D73)","v":""},{"$f":"IF(ISBLANK(Datenerfassung!E73),\"\",Datenerfassung!E73)","v":""},"",{"$f":"IF(ISBLANK(Datenerfassung!O73),\"\",Datenerfassung!O73)","v":""},{"$f":"IF(ISBLANK(Datenerfassung!G73),\"\",Datenerfassung!G73)","v":""},{"$f":"IF(ISBLANK(Datenerfassung!M73),\"\",Datenerfassung!M73)","v":""},{"$f":"IF(ISBLANK(Datenerfassung!H73),\"\",Datenerfassung!H73)","v":""}]
[{"$f":"IF(ISBLANK(Datenerfassung!A74),\"\",Datenerfassung!A74)","v":""},{"$f":"IF(ISBLANK(Datenerfassung!B74),\"\",Datenerfassung!B74)","v":""},{"$f":"IF(ISBLANK(Datenerfassung!C74),\"\",Datenerfassung!C74)","v":""},{"$f":"IF(ISBLANK(Datenerfassung!I74),\"\",Datenerfassung!I74)","v":""},{"$f":"IF(ISBLANK(Datenerfassung!J74),\"\",Datenerfassung!J74)","v":""},"",{"$f":"IF(ISBLANK(Datenerfassung!L74),\"\",Datenerfassung!L74)","v":""},{"$f":"IF(ISBLANK(Datenerfassung!F74),\"\",Datenerfassung!F74)","v":""},{"$f":"IF(ISBLANK(Datenerfassung!D74),IF(COUNTBLANK(A64:H64)+COUNTBLANK(J64:O64)=14,\"\",\"- ohne Titel -\"),Datenerfassung!D74)","v":""},{"$f":"IF(ISBLANK(Datenerfassung!E74),\"\",Datenerfassung!E74)","v":""},"",{"$f":"IF(ISBLANK(Datenerfassung!O74),\"\",Datenerfassung!O74)","v":""},{"$f":"IF(ISBLANK(Datenerfassung!G74),\"\",Datenerfassung!G74)","v":""},{"$f":"IF(ISBLANK(Datenerfassung!M74),\"\",Datenerfassung!M74)","v":""},{"$f":"IF(ISBLANK(Datenerfassung!H74),\"\",Datenerfassung!H74)","v":""}]
[{"$f":"IF(ISBLANK(Datenerfassung!A75),\"\",Datenerfassung!A75)","v":""},{"$f":"IF(ISBLANK(Datenerfassung!B75),\"\",Datenerfassung!B75)","v":""},{"$f":"IF(ISBLANK(Datenerfassung!C75),\"\",Datenerfassung!C75)","v":""},{"$f":"IF(ISBLANK(Datenerfassung!I75),\"\",Datenerfassung!I75)","v":""},{"$f":"IF(ISBLANK(Datenerfassung!J75),\"\",Datenerfassung!J75)","v":""},"",{"$f":"IF(ISBLANK(Datenerfassung!L75),\"\",Datenerfassung!L75)","v":""},{"$f":"IF(ISBLANK(Datenerfassung!F75),\"\",Datenerfassung!F75)","v":""},{"$f":"IF(ISBLANK(Datenerfassung!D75),IF(COUNTBLANK(A65:H65)+COUNTBLANK(J65:O65)=14,\"\",\"- ohne Titel -\"),Datenerfassung!D75)","v":""},{"$f":"IF(ISBLANK(Datenerfassung!E75),\"\",Datenerfassung!E75)","v":""},"",{"$f":"IF(ISBLANK(Datenerfassung!O75),\"\",Datenerfassung!O75)","v":""},{"$f":"IF(ISBLANK(Datenerfassung!G75),\"\",Datenerfassung!G75)","v":""},{"$f":"IF(ISBLANK(Datenerfassung!M75),\"\",Datenerfassung!M75)","v":""},{"$f":"IF(ISBLANK(Datenerfassung!H75),\"\",Datenerfassung!H75)","v":""}]
[{"$f":"IF(ISBLANK(Datenerfassung!A76),\"\",Datenerfassung!A76)","v":""},{"$f":"IF(ISBLANK(Datenerfassung!B76),\"\",Datenerfassung!B76)","v":""},{"$f":"IF(ISBLANK(Datenerfassung!C76),\"\",Datenerfassung!C76)","v":""},{"$f":"IF(ISBLANK(Datenerfassung!I76),\"\",Datenerfassung!I76)","v":""},{"$f":"IF(ISBLANK(Datenerfassung!J76),\"\",Datenerfassung!J76)","v":""},"",{"$f":"IF(ISBLANK(Datenerfassung!L76),\"\",Datenerfassung!L76)","v":""},{"$f":"IF(ISBLANK(Datenerfassung!F76),\"\",Datenerfassung!F76)","v":""},{"$f":"IF(ISBLANK(Datenerfassung!D76),IF(COUNTBLANK(A66:H66)+COUNTBLANK(J66:O66)=14,\"\",\"- ohne Titel -\"),Datenerfassung!D76)","v":""},{"$f":"IF(ISBLANK(Datenerfassung!E76),\"\",Datenerfassung!E76)","v":""},"",{"$f":"IF(ISBLANK(Datenerfassung!O76),\"\",Datenerfassung!O76)","v":""},{"$f":"IF(ISBLANK(Datenerfassung!G76),\"\",Datenerfassung!G76)","v":""},{"$f":"IF(ISBLANK(Datenerfassung!M76),\"\",Datenerfassung!M76)","v":""},{"$f":"IF(ISBLANK(Datenerfassung!H76),\"\",Datenerfassung!H76)","v":""}]
[{"$f":"IF(ISBLANK(Datenerfassung!A77),\"\",Datenerfassung!A77)","v":""},{"$f":"IF(ISBLANK(Datenerfassung!B77),\"\",Datenerfassung!B77)","v":""},{"$f":"IF(ISBLANK(Datenerfassung!C77),\"\",Datenerfassung!C77)","v":""},{"$f":"IF(ISBLANK(Datenerfassung!I77),\"\",Datenerfassung!I77)","v":""},{"$f":"IF(ISBLANK(Datenerfassung!J77),\"\",Datenerfassung!J77)","v":""},{"$f":"IF(D67=\"\",\"\",IF(E67=\"\",D67,D67&\" - \"&E67))","v":""},{"$f":"IF(ISBLANK(Datenerfassung!L77),\"\",Datenerfassung!L77)","v":""},{"$f":"IF(ISBLANK(Datenerfassung!F77),\"\",Datenerfassung!F77)","v":""},{"$f":"IF(ISBLANK(Datenerfassung!D77),IF(COUNTBLANK(A67:H67)+COUNTBLANK(J67:O67)=14,\"\",\"- ohne Titel -\"),Datenerfassung!D77)","v":""},{"$f":"IF(ISBLANK(Datenerfassung!E77),\"\",Datenerfassung!E77)","v":""},{"$f":"IF(OR(E67=\"\",G67=\"\"),\"\",\"01.01.\"&RIGHT(E67,4)+G67+1)","v":""},{"$f":"IF(ISBLANK(Datenerfassung!O77),\"\",Datenerfassung!O77)","v":""},{"$f":"IF(ISBLANK(Datenerfassung!G77),\"\",Datenerfassung!G77)","v":""},{"$f":"IF(ISBLANK(Datenerfassung!M77),\"\",Datenerfassung!M77)","v":""},{"$f":"IF(ISBLANK(Datenerfassung!H77),\"\",Datenerfassung!H77)","v":""}]
[{"$f":"IF(ISBLANK(Datenerfassung!A78),\"\",Datenerfassung!A78)","v":""},{"$f":"IF(ISBLANK(Datenerfassung!B78),\"\",Datenerfassung!B78)","v":""},{"$f":"IF(ISBLANK(Datenerfassung!C78),\"\",Datenerfassung!C78)","v":""},{"$f":"IF(ISBLANK(Datenerfassung!I78),\"\",Datenerfassung!I78)","v":""},{"$f":"IF(ISBLANK(Datenerfassung!J78),\"\",Datenerfassung!J78)","v":""},"",{"$f":"IF(ISBLANK(Datenerfassung!L78),\"\",Datenerfassung!L78)","v":""},{"$f":"IF(ISBLANK(Datenerfassung!F78),\"\",Datenerfassung!F78)","v":""},{"$f":"IF(ISBLANK(Datenerfassung!D78),IF(COUNTBLANK(A68:H68)+COUNTBLANK(J68:O68)=14,\"\",\"- ohne Titel -\"),Datenerfassung!D78)","v":""},{"$f":"IF(ISBLANK(Datenerfassung!E78),\"\",Datenerfassung!E78)","v":""},"",{"$f":"IF(ISBLANK(Datenerfassung!O78),\"\",Datenerfassung!O78)","v":""},{"$f":"IF(ISBLANK(Datenerfassung!G78),\"\",Datenerfassung!G78)","v":""},{"$f":"IF(ISBLANK(Datenerfassung!M78),\"\",Datenerfassung!M78)","v":""},{"$f":"IF(ISBLANK(Datenerfassung!H78),\"\",Datenerfassung!H78)","v":""}]
[{"$f":"IF(ISBLANK(Datenerfassung!A79),\"\",Datenerfassung!A79)","v":""},{"$f":"IF(ISBLANK(Datenerfassung!B79),\"\",Datenerfassung!B79)","v":""},{"$f":"IF(ISBLANK(Datenerfassung!C79),\"\",Datenerfassung!C79)","v":""},{"$f":"IF(ISBLANK(Datenerfassung!I79),\"\",Datenerfassung!I79)","v":""},{"$f":"IF(ISBLANK(Datenerfassung!J79),\"\",Datenerfassung!J79)","v":""},"",{"$f":"IF(ISBLANK(Datenerfassung!L79),\"\",Datenerfassung!L79)","v":""},{"$f":"IF(ISBLANK(Datenerfassung!F79),\"\",Datenerfassung!F79)","v":""},{"$f":"IF(ISBLANK(Datenerfassung!D79),IF(COUNTBLANK(A69:H69)+COUNTBLANK(J69:O69)=14,\"\",\"- ohne Titel -\"),Datenerfassung!D79)","v":""},{"$f":"IF(ISBLANK(Datenerfassung!E79),\"\",Datenerfassung!E79)","v":""},"",{"$f":"IF(ISBLANK(Datenerfassung!O79),\"\",Datenerfassung!O79)","v":""},{"$f":"IF(ISBLANK(Datenerfassung!G79),\"\",Datenerfassung!G79)","v":""},{"$f":"IF(ISBLANK(Datenerfassung!M79),\"\",Datenerfassung!M79)","v":""},{"$f":"IF(ISBLANK(Datenerfassung!H79),\"\",Datenerfassung!H79)","v":""}]
[{"$f":"IF(ISBLANK(Datenerfassung!A80),\"\",Datenerfassung!A80)","v":""},{"$f":"IF(ISBLANK(Datenerfassung!B80),\"\",Datenerfassung!B80)","v":""},{"$f":"IF(ISBLANK(Datenerfassung!C80),\"\",Datenerfassung!C80)","v":""},{"$f":"IF(ISBLANK(Datenerfassung!I80),\"\",Datenerfassung!I80)","v":""},{"$f":"IF(ISBLANK(Datenerfassung!J80),\"\",Datenerfassung!J80)","v":""},"",{"$f":"IF(ISBLANK(Datenerfassung!L80),\"\",Datenerfassung!L80)","v":""},{"$f":"IF(ISBLANK(Datenerfassung!F80),\"\",Datenerfassung!F80)","v":""},{"$f":"IF(ISBLANK(Datenerfassung!D80),IF(COUNTBLANK(A70:H70)+COUNTBLANK(J70:O70)=14,\"\",\"- ohne Titel -\"),Datenerfassung!D80)","v":""},{"$f":"IF(ISBLANK(Datenerfassung!E80),\"\",Datenerfassung!E80)","v":""},"",{"$f":"IF(ISBLANK(Datenerfassung!O80),\"\",Datenerfassung!O80)","v":""},{"$f":"IF(ISBLANK(Datenerfassung!G80),\"\",Datenerfassung!G80)","v":""},{"$f":"IF(ISBLANK(Datenerfassung!M80),\"\",Datenerfassung!M80)","v":""},{"$f":"IF(ISBLANK(Datenerfassung!H80),\"\",Datenerfassung!H80)","v":""}]
[{"$f":"IF(ISBLANK(Datenerfassung!A81),\"\",Datenerfassung!A81)","v":""},{"$f":"IF(ISBLANK(Datenerfassung!B81),\"\",Datenerfassung!B81)","v":""},{"$f":"IF(ISBLANK(Datenerfassung!C81),\"\",Datenerfassung!C81)","v":""},{"$f":"IF(ISBLANK(Datenerfassung!I81),\"\",Datenerfassung!I81)","v":""},{"$f":"IF(ISBLANK(Datenerfassung!J81),\"\",Datenerfassung!J81)","v":""},"",{"$f":"IF(ISBLANK(Datenerfassung!L81),\"\",Datenerfassung!L81)","v":""},{"$f":"IF(ISBLANK(Datenerfassung!F81),\"\",Datenerfassung!F81)","v":""},{"$f":"IF(ISBLANK(Datenerfassung!D81),IF(COUNTBLANK(A71:H71)+COUNTBLANK(J71:O71)=14,\"\",\"- ohne Titel -\"),Datenerfassung!D81)","v":""},{"$f":"IF(ISBLANK(Datenerfassung!E81),\"\",Datenerfassung!E81)","v":""},"",{"$f":"IF(ISBLANK(Datenerfassung!O81),\"\",Datenerfassung!O81)","v":""},{"$f":"IF(ISBLANK(Datenerfassung!G81),\"\",Datenerfassung!G81)","v":""},{"$f":"IF(ISBLANK(Datenerfassung!M81),\"\",Datenerfassung!M81)","v":""},{"$f":"IF(ISBLANK(Datenerfassung!H81),\"\",Datenerfassung!H81)","v":""}]
[{"$f":"IF(ISBLANK(Datenerfassung!A82),\"\",Datenerfassung!A82)","v":""},{"$f":"IF(ISBLANK(Datenerfassung!B82),\"\",Datenerfassung!B82)","v":""},{"$f":"IF(ISBLANK(Datenerfassung!C82),\"\",Datenerfassung!C82)","v":""},{"$f":"IF(ISBLANK(Datenerfassung!I82),\"\",Datenerfassung!I82)","v":""},{"$f":"IF(ISBLANK(Datenerfassung!J82),\"\",Datenerfassung!J82)","v":""},"",{"$f":"IF(ISBLANK(Datenerfassung!L82),\"\",Datenerfassung!L82)","v":""},{"$f":"IF(ISBLANK(Datenerfassung!F82),\"\",Datenerfassung!F82)","v":""},{"$f":"IF(ISBLANK(Datenerfassung!D82),IF(COUNTBLANK(A72:H72)+COUNTBLANK(J72:O72)=14,\"\",\"- ohne Titel -\"),Datenerfassung!D82)","v":""},{"$f":"IF(ISBLANK(Datenerfassung!E82),\"\",Datenerfassung!E82)","v":""},"",{"$f":"IF(ISBLANK(Datenerfassung!O82),\"\",Datenerfassung!O82)","v":""},{"$f":"IF(ISBLANK(Datenerfassung!G82),\"\",Datenerfassung!G82)","v":""},{"$f":"IF(ISBLANK(Datenerfassung!M82),\"\",Datenerfassung!M82)","v":""},{"$f":"IF(ISBLANK(Datenerfassung!H82),\"\",Datenerfassung!H82)","v":""}]
[{"$f":"IF(ISBLANK(Datenerfassung!A83),\"\",Datenerfassung!A83)","v":""},{"$f":"IF(ISBLANK(Datenerfassung!B83),\"\",Datenerfassung!B83)","v":""},{"$f":"IF(ISBLANK(Datenerfassung!C83),\"\",Datenerfassung!C83)","v":""},{"$f":"IF(ISBLANK(Datenerfassung!I83),\"\",Datenerfassung!I83)","v":""},{"$f":"IF(ISBLANK(Datenerfassung!J83),\"\",Datenerfassung!J83)","v":""},"",{"$f":"IF(ISBLANK(Datenerfassung!L83),\"\",Datenerfassung!L83)","v":""},{"$f":"IF(ISBLANK(Datenerfassung!F83),\"\",Datenerfassung!F83)","v":""},{"$f":"IF(ISBLANK(Datenerfassung!D83),IF(COUNTBLANK(A73:H73)+COUNTBLANK(J73:O73)=14,\"\",\"- ohne Titel -\"),Datenerfassung!D83)","v":""},{"$f":"IF(ISBLANK(Datenerfassung!E83),\"\",Datenerfassung!E83)","v":""},"",{"$f":"IF(ISBLANK(Datenerfassung!O83),\"\",Datenerfassung!O83)","v":""},{"$f":"IF(ISBLANK(Datenerfassung!G83),\"\",Datenerfassung!G83)","v":""},{"$f":"IF(ISBLANK(Datenerfassung!M83),\"\",Datenerfassung!M83)","v":""},{"$f":"IF(ISBLANK(Datenerfassung!H83),\"\",Datenerfassung!H83)","v":""}]
[{"$f":"IF(ISBLANK(Datenerfassung!A84),\"\",Datenerfassung!A84)","v":""},{"$f":"IF(ISBLANK(Datenerfassung!B84),\"\",Datenerfassung!B84)","v":""},{"$f":"IF(ISBLANK(Datenerfassung!C84),\"\",Datenerfassung!C84)","v":""},{"$f":"IF(ISBLANK(Datenerfassung!I84),\"\",Datenerfassung!I84)","v":""},{"$f":"IF(ISBLANK(Datenerfassung!J84),\"\",Datenerfassung!J84)","v":""},"",{"$f":"IF(ISBLANK(Datenerfassung!L84),\"\",Datenerfassung!L84)","v":""},{"$f":"IF(ISBLANK(Datenerfassung!F84),\"\",Datenerfassung!F84)","v":""},{"$f":"IF(ISBLANK(Datenerfassung!D84),IF(COUNTBLANK(A74:H74)+COUNTBLANK(J74:O74)=14,\"\",\"- ohne Titel -\"),Datenerfassung!D84)","v":""},{"$f":"IF(ISBLANK(Datenerfassung!E84),\"\",Datenerfassung!E84)","v":""},"",{"$f":"IF(ISBLANK(Datenerfassung!O84),\"\",Datenerfassung!O84)","v":""},{"$f":"IF(ISBLANK(Datenerfassung!G84),\"\",Datenerfassung!G84)","v":""},{"$f":"IF(ISBLANK(Datenerfassung!M84),\"\",Datenerfassung!M84)","v":""},{"$f":"IF(ISBLANK(Datenerfassung!H84),\"\",Datenerfassung!H84)","v":""}]
[{"$f":"IF(ISBLANK(Datenerfassung!A85),\"\",Datenerfassung!A85)","v":""},{"$f":"IF(ISBLANK(Datenerfassung!B85),\"\",Datenerfassung!B85)","v":""},{"$f":"IF(ISBLANK(Datenerfassung!C85),\"\",Datenerfassung!C85)","v":""},{"$f":"IF(ISBLANK(Datenerfassung!I85),\"\",Datenerfassung!I85)","v":""},{"$f":"IF(ISBLANK(Datenerfassung!J85),\"\",Datenerfassung!J85)","v":""},"",{"$f":"IF(ISBLANK(Datenerfassung!L85),\"\",Datenerfassung!L85)","v":""},{"$f":"IF(ISBLANK(Datenerfassung!F85),\"\",Datenerfassung!F85)","v":""},{"$f":"IF(ISBLANK(Datenerfassung!D85),IF(COUNTBLANK(A75:H75)+COUNTBLANK(J75:O75)=14,\"\",\"- ohne Titel -\"),Datenerfassung!D85)","v":""},{"$f":"IF(ISBLANK(Datenerfassung!E85),\"\",Datenerfassung!E85)","v":""},"",{"$f":"IF(ISBLANK(Datenerfassung!O85),\"\",Datenerfassung!O85)","v":""},{"$f":"IF(ISBLANK(Datenerfassung!G85),\"\",Datenerfassung!G85)","v":""},{"$f":"IF(ISBLANK(Datenerfassung!M85),\"\",Datenerfassung!M85)","v":""},{"$f":"IF(ISBLANK(Datenerfassung!H85),\"\",Datenerfassung!H85)","v":""}]
[{"$f":"IF(ISBLANK(Datenerfassung!A86),\"\",Datenerfassung!A86)","v":""},{"$f":"IF(ISBLANK(Datenerfassung!B86),\"\",Datenerfassung!B86)","v":""},{"$f":"IF(ISBLANK(Datenerfassung!C86),\"\",Datenerfassung!C86)","v":""},{"$f":"IF(ISBLANK(Datenerfassung!I86),\"\",Datenerfassung!I86)","v":""},{"$f":"IF(ISBLANK(Datenerfassung!J86),\"\",Datenerfassung!J86)","v":""},"",{"$f":"IF(ISBLANK(Datenerfassung!L86),\"\",Datenerfassung!L86)","v":""},{"$f":"IF(ISBLANK(Datenerfassung!F86),\"\",Datenerfassung!F86)","v":""},{"$f":"IF(ISBLANK(Datenerfassung!D86),IF(COUNTBLANK(A76:H76)+COUNTBLANK(J76:O76)=14,\"\",\"- ohne Titel -\"),Datenerfassung!D86)","v":""},{"$f":"IF(ISBLANK(Datenerfassung!E86),\"\",Datenerfassung!E86)","v":""},"",{"$f":"IF(ISBLANK(Datenerfassung!O86),\"\",Datenerfassung!O86)","v":""},{"$f":"IF(ISBLANK(Datenerfassung!G86),\"\",Datenerfassung!G86)","v":""},{"$f":"IF(ISBLANK(Datenerfassung!M86),\"\",Datenerfassung!M86)","v":""},{"$f":"IF(ISBLANK(Datenerfassung!H86),\"\",Datenerfassung!H86)","v":""}]
[{"$f":"IF(ISBLANK(Datenerfassung!A87),\"\",Datenerfassung!A87)","v":""},{"$f":"IF(ISBLANK(Datenerfassung!B87),\"\",Datenerfassung!B87)","v":""},{"$f":"IF(ISBLANK(Datenerfassung!C87),\"\",Datenerfassung!C87)","v":""},{"$f":"IF(ISBLANK(Datenerfassung!I87),\"\",Datenerfassung!I87)","v":""},{"$f":"IF(ISBLANK(Datenerfassung!J87),\"\",Datenerfassung!J87)","v":""},"",{"$f":"IF(ISBLANK(Datenerfassung!L87),\"\",Datenerfassung!L87)","v":""},{"$f":"IF(ISBLANK(Datenerfassung!F87),\"\",Datenerfassung!F87)","v":""},{"$f":"IF(ISBLANK(Datenerfassung!D87),IF(COUNTBLANK(A77:H77)+COUNTBLANK(J77:O77)=14,\"\",\"- ohne Titel -\"),Datenerfassung!D87)","v":""},{"$f":"IF(ISBLANK(Datenerfassung!E87),\"\",Datenerfassung!E87)","v":""},"",{"$f":"IF(ISBLANK(Datenerfassung!O87),\"\",Datenerfassung!O87)","v":""},{"$f":"IF(ISBLANK(Datenerfassung!G87),\"\",Datenerfassung!G87)","v":""},{"$f":"IF(ISBLANK(Datenerfassung!M87),\"\",Datenerfassung!M87)","v":""},{"$f":"IF(ISBLANK(Datenerfassung!H87),\"\",Datenerfassung!H87)","v":""}]
[{"$f":"IF(ISBLANK(Datenerfassung!A88),\"\",Datenerfassung!A88)","v":""},{"$f":"IF(ISBLANK(Datenerfassung!B88),\"\",Datenerfassung!B88)","v":""},{"$f":"IF(ISBLANK(Datenerfassung!C88),\"\",Datenerfassung!C88)","v":""},{"$f":"IF(ISBLANK(Datenerfassung!I88),\"\",Datenerfassung!I88)","v":""},{"$f":"IF(ISBLANK(Datenerfassung!J88),\"\",Datenerfassung!J88)","v":""},"",{"$f":"IF(ISBLANK(Datenerfassung!L88),\"\",Datenerfassung!L88)","v":""},{"$f":"IF(ISBLANK(Datenerfassung!F88),\"\",Datenerfassung!F88)","v":""},{"$f":"IF(ISBLANK(Datenerfassung!D88),IF(COUNTBLANK(A78:H78)+COUNTBLANK(J78:O78)=14,\"\",\"- ohne Titel -\"),Datenerfassung!D88)","v":""},{"$f":"IF(ISBLANK(Datenerfassung!E88),\"\",Datenerfassung!E88)","v":""},"",{"$f":"IF(ISBLANK(Datenerfassung!O88),\"\",Datenerfassung!O88)","v":""},{"$f":"IF(ISBLANK(Datenerfassung!G88),\"\",Datenerfassung!G88)","v":""},{"$f":"IF(ISBLANK(Datenerfassung!M88),\"\",Datenerfassung!M88)","v":""},{"$f":"IF(ISBLANK(Datenerfassung!H88),\"\",Datenerfassung!H88)","v":""}]
[{"$f":"IF(ISBLANK(Datenerfassung!A89),\"\",Datenerfassung!A89)","v":""},{"$f":"IF(ISBLANK(Datenerfassung!B89),\"\",Datenerfassung!B89)","v":""},{"$f":"IF(ISBLANK(Datenerfassung!C89),\"\",Datenerfassung!C89)","v":""},{"$f":"IF(ISBLANK(Datenerfassung!I89),\"\",Datenerfassung!I89)","v":""},{"$f":"IF(ISBLANK(Datenerfassung!J89),\"\",Datenerfassung!J89)","v":""},"",{"$f":"IF(ISBLANK(Datenerfassung!L89),\"\",Datenerfassung!L89)","v":""},{"$f":"IF(ISBLANK(Datenerfassung!F89),\"\",Datenerfassung!F89)","v":""},{"$f":"IF(ISBLANK(Datenerfassung!D89),IF(COUNTBLANK(A79:H79)+COUNTBLANK(J79:O79)=14,\"\",\"- ohne Titel -\"),Datenerfassung!D89)","v":""},{"$f":"IF(ISBLANK(Datenerfassung!E89),\"\",Datenerfassung!E89)","v":""},"",{"$f":"IF(ISBLANK(Datenerfassung!O89),\"\",Datenerfassung!O89)","v":""},{"$f":"IF(ISBLANK(Datenerfassung!G89),\"\",Datenerfassung!G89)","v":""},{"$f":"IF(ISBLANK(Datenerfassung!M89),\"\",Datenerfassung!M89)","v":""},{"$f":"IF(ISBLANK(Datenerfassung!H89),\"\",Datenerfassung!H89)","v":""}]
[{"$f":"IF(ISBLANK(Datenerfassung!A90),\"\",Datenerfassung!A90)","v":""},{"$f":"IF(ISBLANK(Datenerfassung!B90),\"\",Datenerfassung!B90)","v":""},{"$f":"IF(ISBLANK(Datenerfassung!C90),\"\",Datenerfassung!C90)","v":""},{"$f":"IF(ISBLANK(Datenerfassung!I90),\"\",Datenerfassung!I90)","v":""},{"$f":"IF(ISBLANK(Datenerfassung!J90),\"\",Datenerfassung!J90)","v":""},"",{"$f":"IF(ISBLANK(Datenerfassung!L90),\"\",Datenerfassung!L90)","v":""},{"$f":"IF(ISBLANK(Datenerfassung!F90),\"\",Datenerfassung!F90)","v":""},{"$f":"IF(ISBLANK(Datenerfassung!D90),IF(COUNTBLANK(A80:H80)+COUNTBLANK(J80:O80)=14,\"\",\"- ohne Titel -\"),Datenerfassung!D90)","v":""},{"$f":"IF(ISBLANK(Datenerfassung!E90),\"\",Datenerfassung!E90)","v":""},"",{"$f":"IF(ISBLANK(Datenerfassung!O90),\"\",Datenerfassung!O90)","v":""},{"$f":"IF(ISBLANK(Datenerfassung!G90),\"\",Datenerfassung!G90)","v":""},{"$f":"IF(ISBLANK(Datenerfassung!M90),\"\",Datenerfassung!M90)","v":""},{"$f":"IF(ISBLANK(Datenerfassung!H90),\"\",Datenerfassung!H90)","v":""}]
[{"$f":"IF(ISBLANK(Datenerfassung!A91),\"\",Datenerfassung!A91)","v":""},{"$f":"IF(ISBLANK(Datenerfassung!B91),\"\",Datenerfassung!B91)","v":""},{"$f":"IF(ISBLANK(Datenerfassung!C91),\"\",Datenerfassung!C91)","v":""},{"$f":"IF(ISBLANK(Datenerfassung!I91),\"\",Datenerfassung!I91)","v":""},{"$f":"IF(ISBLANK(Datenerfassung!J91),\"\",Datenerfassung!J91)","v":""},"",{"$f":"IF(ISBLANK(Datenerfassung!L91),\"\",Datenerfassung!L91)","v":""},{"$f":"IF(ISBLANK(Datenerfassung!F91),\"\",Datenerfassung!F91)","v":""},{"$f":"IF(ISBLANK(Datenerfassung!D91),IF(COUNTBLANK(A81:H81)+COUNTBLANK(J81:O81)=14,\"\",\"- ohne Titel -\"),Datenerfassung!D91)","v":""},{"$f":"IF(ISBLANK(Datenerfassung!E91),\"\",Datenerfassung!E91)","v":""},"",{"$f":"IF(ISBLANK(Datenerfassung!O91),\"\",Datenerfassung!O91)","v":""},{"$f":"IF(ISBLANK(Datenerfassung!G91),\"\",Datenerfassung!G91)","v":""},{"$f":"IF(ISBLANK(Datenerfassung!M91),\"\",Datenerfassung!M91)","v":""},{"$f":"IF(ISBLANK(Datenerfassung!H91),\"\",Datenerfassung!H91)","v":""}]
[{"$f":"IF(ISBLANK(Datenerfassung!A92),\"\",Datenerfassung!A92)","v":""},{"$f":"IF(ISBLANK(Datenerfassung!B92),\"\",Datenerfassung!B92)","v":""},{"$f":"IF(ISBLANK(Datenerfassung!C92),\"\",Datenerfassung!C92)","v":""},{"$f":"IF(ISBLANK(Datenerfassung!I92),\"\",Datenerfassung!I92)","v":""},{"$f":"IF(ISBLANK(Datenerfassung!J92),\"\",Datenerfassung!J92)","v":""},"",{"$f":"IF(ISBLANK(Datenerfassung!L92),\"\",Datenerfassung!L92)","v":""},{"$f":"IF(ISBLANK(Datenerfassung!F92),\"\",Datenerfassung!F92)","v":""},{"$f":"IF(ISBLANK(Datenerfassung!D92),IF(COUNTBLANK(A82:H82)+COUNTBLANK(J82:O82)=14,\"\",\"- ohne Titel -\"),Datenerfassung!D92)","v":""},{"$f":"IF(ISBLANK(Datenerfassung!E92),\"\",Datenerfassung!E92)","v":""},"",{"$f":"IF(ISBLANK(Datenerfassung!O92),\"\",Datenerfassung!O92)","v":""},{"$f":"IF(ISBLANK(Datenerfassung!G92),\"\",Datenerfassung!G92)","v":""},{"$f":"IF(ISBLANK(Datenerfassung!M92),\"\",Datenerfassung!M92)","v":""},{"$f":"IF(ISBLANK(Datenerfassung!H92),\"\",Datenerfassung!H92)","v":""}]
[{"$f":"IF(ISBLANK(Datenerfassung!A93),\"\",Datenerfassung!A93)","v":""},{"$f":"IF(ISBLANK(Datenerfassung!B93),\"\",Datenerfassung!B93)","v":""},{"$f":"IF(ISBLANK(Datenerfassung!C93),\"\",Datenerfassung!C93)","v":""},{"$f":"IF(ISBLANK(Datenerfassung!I93),\"\",Datenerfassung!I93)","v":""},{"$f":"IF(ISBLANK(Datenerfassung!J93),\"\",Datenerfassung!J93)","v":""},"",{"$f":"IF(ISBLANK(Datenerfassung!L93),\"\",Datenerfassung!L93)","v":""},{"$f":"IF(ISBLANK(Datenerfassung!F93),\"\",Datenerfassung!F93)","v":""},{"$f":"IF(ISBLANK(Datenerfassung!D93),IF(COUNTBLANK(A83:H83)+COUNTBLANK(J83:O83)=14,\"\",\"- ohne Titel -\"),Datenerfassung!D93)","v":""},{"$f":"IF(ISBLANK(Datenerfassung!E93),\"\",Datenerfassung!E93)","v":""},"",{"$f":"IF(ISBLANK(Datenerfassung!O93),\"\",Datenerfassung!O93)","v":""},{"$f":"IF(ISBLANK(Datenerfassung!G93),\"\",Datenerfassung!G93)","v":""},{"$f":"IF(ISBLANK(Datenerfassung!M93),\"\",Datenerfassung!M93)","v":""},{"$f":"IF(ISBLANK(Datenerfassung!H93),\"\",Datenerfassung!H93)","v":""}]
[{"$f":"IF(ISBLANK(Datenerfassung!A94),\"\",Datenerfassung!A94)","v":""},{"$f":"IF(ISBLANK(Datenerfassung!B94),\"\",Datenerfassung!B94)","v":""},{"$f":"IF(ISBLANK(Datenerfassung!C94),\"\",Datenerfassung!C94)","v":""},{"$f":"IF(ISBLANK(Datenerfassung!I94),\"\",Datenerfassung!I94)","v":""},{"$f":"IF(ISBLANK(Datenerfassung!J94),\"\",Datenerfassung!J94)","v":""},"",{"$f":"IF(ISBLANK(Datenerfassung!L94),\"\",Datenerfassung!L94)","v":""},{"$f":"IF(ISBLANK(Datenerfassung!F94),\"\",Datenerfassung!F94)","v":""},{"$f":"IF(ISBLANK(Datenerfassung!D94),IF(COUNTBLANK(A84:H84)+COUNTBLANK(J84:O84)=14,\"\",\"- ohne Titel -\"),Datenerfassung!D94)","v":""},{"$f":"IF(ISBLANK(Datenerfassung!E94),\"\",Datenerfassung!E94)","v":""},"",{"$f":"IF(ISBLANK(Datenerfassung!O94),\"\",Datenerfassung!O94)","v":""},{"$f":"IF(ISBLANK(Datenerfassung!G94),\"\",Datenerfassung!G94)","v":""},{"$f":"IF(ISBLANK(Datenerfassung!M94),\"\",Datenerfassung!M94)","v":""},{"$f":"IF(ISBLANK(Datenerfassung!H94),\"\",Datenerfassung!H94)","v":""}]
[{"$f":"IF(ISBLANK(Datenerfassung!A95),\"\",Datenerfassung!A95)","v":""},{"$f":"IF(ISBLANK(Datenerfassung!B95),\"\",Datenerfassung!B95)","v":""},{"$f":"IF(ISBLANK(Datenerfassung!C95),\"\",Datenerfassung!C95)","v":""},{"$f":"IF(ISBLANK(Datenerfassung!I95),\"\",Datenerfassung!I95)","v":""},{"$f":"IF(ISBLANK(Datenerfassung!J95),\"\",Datenerfassung!J95)","v":""},"",{"$f":"IF(ISBLANK(Datenerfassung!L95),\"\",Datenerfassung!L95)","v":""},{"$f":"IF(ISBLANK(Datenerfassung!F95),\"\",Datenerfassung!F95)","v":""},{"$f":"IF(ISBLANK(Datenerfassung!D95),IF(COUNTBLANK(A85:H85)+COUNTBLANK(J85:O85)=14,\"\",\"- ohne Titel -\"),Datenerfassung!D95)","v":""},{"$f":"IF(ISBLANK(Datenerfassung!E95),\"\",Datenerfassung!E95)","v":""},"",{"$f":"IF(ISBLANK(Datenerfassung!O95),\"\",Datenerfassung!O95)","v":""},{"$f":"IF(ISBLANK(Datenerfassung!G95),\"\",Datenerfassung!G95)","v":""},{"$f":"IF(ISBLANK(Datenerfassung!M95),\"\",Datenerfassung!M95)","v":""},{"$f":"IF(ISBLANK(Datenerfassung!H95),\"\",Datenerfassung!H95)","v":""}]
[{"$f":"IF(ISBLANK(Datenerfassung!A96),\"\",Datenerfassung!A96)","v":""},{"$f":"IF(ISBLANK(Datenerfassung!B96),\"\",Datenerfassung!B96)","v":""},{"$f":"IF(ISBLANK(Datenerfassung!C96),\"\",Datenerfassung!C96)","v":""},{"$f":"IF(ISBLANK(Datenerfassung!I96),\"\",Datenerfassung!I96)","v":""},{"$f":"IF(ISBLANK(Datenerfassung!J96),\"\",Datenerfassung!J96)","v":""},"",{"$f":"IF(ISBLANK(Datenerfassung!L96),\"\",Datenerfassung!L96)","v":""},{"$f":"IF(ISBLANK(Datenerfassung!F96),\"\",Datenerfassung!F96)","v":""},{"$f":"IF(ISBLANK(Datenerfassung!D96),IF(COUNTBLANK(A86:H86)+COUNTBLANK(J86:O86)=14,\"\",\"- ohne Titel -\"),Datenerfassung!D96)","v":""},{"$f":"IF(ISBLANK(Datenerfassung!E96),\"\",Datenerfassung!E96)","v":""},"",{"$f":"IF(ISBLANK(Datenerfassung!O96),\"\",Datenerfassung!O96)","v":""},{"$f":"IF(ISBLANK(Datenerfassung!G96),\"\",Datenerfassung!G96)","v":""},{"$f":"IF(ISBLANK(Datenerfassung!M96),\"\",Datenerfassung!M96)","v":""},{"$f":"IF(ISBLANK(Datenerfassung!H96),\"\",Datenerfassung!H96)","v":""}]
[{"$f":"IF(ISBLANK(Datenerfassung!A97),\"\",Datenerfassung!A97)","v":""},{"$f":"IF(ISBLANK(Datenerfassung!B97),\"\",Datenerfassung!B97)","v":""},{"$f":"IF(ISBLANK(Datenerfassung!C97),\"\",Datenerfassung!C97)","v":""},{"$f":"IF(ISBLANK(Datenerfassung!I97),\"\",Datenerfassung!I97)","v":""},{"$f":"IF(ISBLANK(Datenerfassung!J97),\"\",Datenerfassung!J97)","v":""},"",{"$f":"IF(ISBLANK(Datenerfassung!L97),\"\",Datenerfassung!L97)","v":""},{"$f":"IF(ISBLANK(Datenerfassung!F97),\"\",Datenerfassung!F97)","v":""},{"$f":"IF(ISBLANK(Datenerfassung!D97),IF(COUNTBLANK(A87:H87)+COUNTBLANK(J87:O87)=14,\"\",\"- ohne Titel -\"),Datenerfassung!D97)","v":""},{"$f":"IF(ISBLANK(Datenerfassung!E97),\"\",Datenerfassung!E97)","v":""},"",{"$f":"IF(ISBLANK(Datenerfassung!O97),\"\",Datenerfassung!O97)","v":""},{"$f":"IF(ISBLANK(Datenerfassung!G97),\"\",Datenerfassung!G97)","v":""},{"$f":"IF(ISBLANK(Datenerfassung!M97),\"\",Datenerfassung!M97)","v":""},{"$f":"IF(ISBLANK(Datenerfassung!H97),\"\",Datenerfassung!H97)","v":""}]
[{"$f":"IF(ISBLANK(Datenerfassung!A98),\"\",Datenerfassung!A98)","v":""},{"$f":"IF(ISBLANK(Datenerfassung!B98),\"\",Datenerfassung!B98)","v":""},{"$f":"IF(ISBLANK(Datenerfassung!C98),\"\",Datenerfassung!C98)","v":""},{"$f":"IF(ISBLANK(Datenerfassung!I98),\"\",Datenerfassung!I98)","v":""},{"$f":"IF(ISBLANK(Datenerfassung!J98),\"\",Datenerfassung!J98)","v":""},"",{"$f":"IF(ISBLANK(Datenerfassung!L98),\"\",Datenerfassung!L98)","v":""},{"$f":"IF(ISBLANK(Datenerfassung!F98),\"\",Datenerfassung!F98)","v":""},{"$f":"IF(ISBLANK(Datenerfassung!D98),IF(COUNTBLANK(A88:H88)+COUNTBLANK(J88:O88)=14,\"\",\"- ohne Titel -\"),Datenerfassung!D98)","v":""},{"$f":"IF(ISBLANK(Datenerfassung!E98),\"\",Datenerfassung!E98)","v":""},"",{"$f":"IF(ISBLANK(Datenerfassung!O98),\"\",Datenerfassung!O98)","v":""},{"$f":"IF(ISBLANK(Datenerfassung!G98),\"\",Datenerfassung!G98)","v":""},{"$f":"IF(ISBLANK(Datenerfassung!M98),\"\",Datenerfassung!M98)","v":""},{"$f":"IF(ISBLANK(Datenerfassung!H98),\"\",Datenerfassung!H98)","v":""}]
[{"$f":"IF(ISBLANK(Datenerfassung!A99),\"\",Datenerfassung!A99)","v":""},{"$f":"IF(ISBLANK(Datenerfassung!B99),\"\",Datenerfassung!B99)","v":""},{"$f":"IF(ISBLANK(Datenerfassung!C99),\"\",Datenerfassung!C99)","v":""},{"$f":"IF(ISBLANK(Datenerfassung!I99),\"\",Datenerfassung!I99)","v":""},{"$f":"IF(ISBLANK(Datenerfassung!J99),\"\",Datenerfassung!J99)","v":""},"",{"$f":"IF(ISBLANK(Datenerfassung!L99),\"\",Datenerfassung!L99)","v":""},{"$f":"IF(ISBLANK(Datenerfassung!F99),\"\",Datenerfassung!F99)","v":""},{"$f":"IF(ISBLANK(Datenerfassung!D99),IF(COUNTBLANK(A89:H89)+COUNTBLANK(J89:O89)=14,\"\",\"- ohne Titel -\"),Datenerfassung!D99)","v":""},{"$f":"IF(ISBLANK(Datenerfassung!E99),\"\",Datenerfassung!E99)","v":""},"",{"$f":"IF(ISBLANK(Datenerfassung!O99),\"\",Datenerfassung!O99)","v":""},{"$f":"IF(ISBLANK(Datenerfassung!G99),\"\",Datenerfassung!G99)","v":""},{"$f":"IF(ISBLANK(Datenerfassung!M99),\"\",Datenerfassung!M99)","v":""},{"$f":"IF(ISBLANK(Datenerfassung!H99),\"\",Datenerfassung!H99)","v":""}]
[{"$f":"IF(ISBLANK(Datenerfassung!A100),\"\",Datenerfassung!A100)","v":""},{"$f":"IF(ISBLANK(Datenerfassung!B100),\"\",Datenerfassung!B100)","v":""},{"$f":"IF(ISBLANK(Datenerfassung!C100),\"\",Datenerfassung!C100)","v":""},{"$f":"IF(ISBLANK(Datenerfassung!I100),\"\",Datenerfassung!I100)","v":""},{"$f":"IF(ISBLANK(Datenerfassung!J100),\"\",Datenerfassung!J100)","v":""},"",{"$f":"IF(ISBLANK(Datenerfassung!L100),\"\",Datenerfassung!L100)","v":""},{"$f":"IF(ISBLANK(Datenerfassung!F100),\"\",Datenerfassung!F100)","v":""},{"$f":"IF(ISBLANK(Datenerfassung!D100),IF(COUNTBLANK(A90:H90)+COUNTBLANK(J90:O90)=14,\"\",\"- ohne Titel -\"),Datenerfassung!D100)","v":""},{"$f":"IF(ISBLANK(Datenerfassung!E100),\"\",Datenerfassung!E100)","v":""},"",{"$f":"IF(ISBLANK(Datenerfassung!O100),\"\",Datenerfassung!O100)","v":""},{"$f":"IF(ISBLANK(Datenerfassung!G100),\"\",Datenerfassung!G100)","v":""},{"$f":"IF(ISBLANK(Datenerfassung!M100),\"\",Datenerfassung!M100)","v":""},{"$f":"IF(ISBLANK(Datenerfassung!H100),\"\",Datenerfassung!H100)","v":""}]
[{"$f":"IF(ISBLANK(Datenerfassung!A101),\"\",Datenerfassung!A101)","v":""},{"$f":"IF(ISBLANK(Datenerfassung!B101),\"\",Datenerfassung!B101)","v":""},{"$f":"IF(ISBLANK(Datenerfassung!C101),\"\",Datenerfassung!C101)","v":""},{"$f":"IF(ISBLANK(Datenerfassung!I101),\"\",Datenerfassung!I101)","v":""},{"$f":"IF(ISBLANK(Datenerfassung!J101),\"\",Datenerfassung!J101)","v":""},"",{"$f":"IF(ISBLANK(Datenerfassung!L101),\"\",Datenerfassung!L101)","v":""},{"$f":"IF(ISBLANK(Datenerfassung!F101),\"\",Datenerfassung!F101)","v":""},{"$f":"IF(ISBLANK(Datenerfassung!D101),IF(COUNTBLANK(A91:H91)+COUNTBLANK(J91:O91)=14,\"\",\"- ohne Titel -\"),Datenerfassung!D101)","v":""},{"$f":"IF(ISBLANK(Datenerfassung!E101),\"\",Datenerfassung!E101)","v":""},"",{"$f":"IF(ISBLANK(Datenerfassung!O101),\"\",Datenerfassung!O101)","v":""},{"$f":"IF(ISBLANK(Datenerfassung!G101),\"\",Datenerfassung!G101)","v":""},{"$f":"IF(ISBLANK(Datenerfassung!M101),\"\",Datenerfassung!M101)","v":""},{"$f":"IF(ISBLANK(Datenerfassung!H101),\"\",Datenerfassung!H101)","v":""}]
[{"$f":"IF(ISBLANK(Datenerfassung!A102),\"\",Datenerfassung!A102)","v":""},{"$f":"IF(ISBLANK(Datenerfassung!B102),\"\",Datenerfassung!B102)","v":""},{"$f":"IF(ISBLANK(Datenerfassung!C102),\"\",Datenerfassung!C102)","v":""},{"$f":"IF(ISBLANK(Datenerfassung!I102),\"\",Datenerfassung!I102)","v":""},{"$f":"IF(ISBLANK(Datenerfassung!J102),\"\",Datenerfassung!J102)","v":""},"",{"$f":"IF(ISBLANK(Datenerfassung!L102),\"\",Datenerfassung!L102)","v":""},{"$f":"IF(ISBLANK(Datenerfassung!F102),\"\",Datenerfassung!F102)","v":""},{"$f":"IF(ISBLANK(Datenerfassung!D102),IF(COUNTBLANK(A92:H92)+COUNTBLANK(J92:O92)=14,\"\",\"- ohne Titel -\"),Datenerfassung!D102)","v":""},{"$f":"IF(ISBLANK(Datenerfassung!E102),\"\",Datenerfassung!E102)","v":""},"",{"$f":"IF(ISBLANK(Datenerfassung!O102),\"\",Datenerfassung!O102)","v":""},{"$f":"IF(ISBLANK(Datenerfassung!G102),\"\",Datenerfassung!G102)","v":""},{"$f":"IF(ISBLANK(Datenerfassung!M102),\"\",Datenerfassung!M102)","v":""},{"$f":"IF(ISBLANK(Datenerfassung!H102),\"\",Datenerfassung!H102)","v":""}]
[{"$f":"IF(ISBLANK(Datenerfassung!A103),\"\",Datenerfassung!A103)","v":""},{"$f":"IF(ISBLANK(Datenerfassung!B103),\"\",Datenerfassung!B103)","v":""},{"$f":"IF(ISBLANK(Datenerfassung!C103),\"\",Datenerfassung!C103)","v":""},{"$f":"IF(ISBLANK(Datenerfassung!I103),\"\",Datenerfassung!I103)","v":""},{"$f":"IF(ISBLANK(Datenerfassung!J103),\"\",Datenerfassung!J103)","v":""},"",{"$f":"IF(ISBLANK(Datenerfassung!L103),\"\",Datenerfassung!L103)","v":""},{"$f":"IF(ISBLANK(Datenerfassung!F103),\"\",Datenerfassung!F103)","v":""},{"$f":"IF(ISBLANK(Datenerfassung!D103),IF(COUNTBLANK(A93:H93)+COUNTBLANK(J93:O93)=14,\"\",\"- ohne Titel -\"),Datenerfassung!D103)","v":""},{"$f":"IF(ISBLANK(Datenerfassung!E103),\"\",Datenerfassung!E103)","v":""},"",{"$f":"IF(ISBLANK(Datenerfassung!O103),\"\",Datenerfassung!O103)","v":""},{"$f":"IF(ISBLANK(Datenerfassung!G103),\"\",Datenerfassung!G103)","v":""},{"$f":"IF(ISBLANK(Datenerfassung!M103),\"\",Datenerfassung!M103)","v":""},{"$f":"IF(ISBLANK(Datenerfassung!H103),\"\",Datenerfassung!H103)","v":""}]
[{"$f":"IF(ISBLANK(Datenerfassung!A104),\"\",Datenerfassung!A104)","v":""},{"$f":"IF(ISBLANK(Datenerfassung!B104),\"\",Datenerfassung!B104)","v":""},{"$f":"IF(ISBLANK(Datenerfassung!C104),\"\",Datenerfassung!C104)","v":""},{"$f":"IF(ISBLANK(Datenerfassung!I104),\"\",Datenerfassung!I104)","v":""},{"$f":"IF(ISBLANK(Datenerfassung!J104),\"\",Datenerfassung!J104)","v":""},"",{"$f":"IF(ISBLANK(Datenerfassung!L104),\"\",Datenerfassung!L104)","v":""},{"$f":"IF(ISBLANK(Datenerfassung!F104),\"\",Datenerfassung!F104)","v":""},{"$f":"IF(ISBLANK(Datenerfassung!D104),IF(COUNTBLANK(A94:H94)+COUNTBLANK(J94:O94)=14,\"\",\"- ohne Titel -\"),Datenerfassung!D104)","v":""},{"$f":"IF(ISBLANK(Datenerfassung!E104),\"\",Datenerfassung!E104)","v":""},"",{"$f":"IF(ISBLANK(Datenerfassung!O104),\"\",Datenerfassung!O104)","v":""},{"$f":"IF(ISBLANK(Datenerfassung!G104),\"\",Datenerfassung!G104)","v":""},{"$f":"IF(ISBLANK(Datenerfassung!M104),\"\",Datenerfassung!M104)","v":""},{"$f":"IF(ISBLANK(Datenerfassung!H104),\"\",Datenerfassung!H104)","v":""}]
[{"$f":"IF(ISBLANK(Datenerfassung!A105),\"\",Datenerfassung!A105)","v":""},{"$f":"IF(ISBLANK(Datenerfassung!B105),\"\",Datenerfassung!B105)","v":""},{"$f":"IF(ISBLANK(Datenerfassung!C105),\"\",Datenerfassung!C105)","v":""},{"$f":"IF(ISBLANK(Datenerfassung!I105),\"\",Datenerfassung!I105)","v":""},{"$f":"IF(ISBLANK(Datenerfassung!J105),\"\",Datenerfassung!J105)","v":""},"",{"$f":"IF(ISBLANK(Datenerfassung!L105),\"\",Datenerfassung!L105)","v":""},{"$f":"IF(ISBLANK(Datenerfassung!F105),\"\",Datenerfassung!F105)","v":""},{"$f":"IF(ISBLANK(Datenerfassung!D105),IF(COUNTBLANK(A95:H95)+COUNTBLANK(J95:O95)=14,\"\",\"- ohne Titel -\"),Datenerfassung!D105)","v":""},{"$f":"IF(ISBLANK(Datenerfassung!E105),\"\",Datenerfassung!E105)","v":""},"",{"$f":"IF(ISBLANK(Datenerfassung!O105),\"\",Datenerfassung!O105)","v":""},{"$f":"IF(ISBLANK(Datenerfassung!G105),\"\",Datenerfassung!G105)","v":""},{"$f":"IF(ISBLANK(Datenerfassung!M105),\"\",Datenerfassung!M105)","v":""},{"$f":"IF(ISBLANK(Datenerfassung!H105),\"\",Datenerfassung!H105)","v":""}]
[{"$f":"IF(ISBLANK(Datenerfassung!A106),\"\",Datenerfassung!A106)","v":""},{"$f":"IF(ISBLANK(Datenerfassung!B106),\"\",Datenerfassung!B106)","v":""},{"$f":"IF(ISBLANK(Datenerfassung!C106),\"\",Datenerfassung!C106)","v":""},{"$f":"IF(ISBLANK(Datenerfassung!I106),\"\",Datenerfassung!I106)","v":""},{"$f":"IF(ISBLANK(Datenerfassung!J106),\"\",Datenerfassung!J106)","v":""},"",{"$f":"IF(ISBLANK(Datenerfassung!L106),\"\",Datenerfassung!L106)","v":""},{"$f":"IF(ISBLANK(Datenerfassung!F106),\"\",Datenerfassung!F106)","v":""},{"$f":"IF(ISBLANK(Datenerfassung!D106),IF(COUNTBLANK(A96:H96)+COUNTBLANK(J96:O96)=14,\"\",\"- ohne Titel -\"),Datenerfassung!D106)","v":""},{"$f":"IF(ISBLANK(Datenerfassung!E106),\"\",Datenerfassung!E106)","v":""},"",{"$f":"IF(ISBLANK(Datenerfassung!O106),\"\",Datenerfassung!O106)","v":""},{"$f":"IF(ISBLANK(Datenerfassung!G106),\"\",Datenerfassung!G106)","v":""},{"$f":"IF(ISBLANK(Datenerfassung!M106),\"\",Datenerfassung!M106)","v":""},{"$f":"IF(ISBLANK(Datenerfassung!H106),\"\",Datenerfassung!H106)","v":""}]
[{"$f":"IF(ISBLANK(Datenerfassung!A107),\"\",Datenerfassung!A107)","v":""},{"$f":"IF(ISBLANK(Datenerfassung!B107),\"\",Datenerfassung!B107)","v":""},{"$f":"IF(ISBLANK(Datenerfassung!C107),\"\",Datenerfassung!C107)","v":""},{"$f":"IF(ISBLANK(Datenerfassung!I107),\"\",Datenerfassung!I107)","v":""},{"$f":"IF(ISBLANK(Datenerfassung!J107),\"\",Datenerfassung!J107)","v":""},"",{"$f":"IF(ISBLANK(Datenerfassung!L107),\"\",Datenerfassung!L107)","v":""},{"$f":"IF(ISBLANK(Datenerfassung!F107),\"\",Datenerfassung!F107)","v":""},{"$f":"IF(ISBLANK(Datenerfassung!D107),IF(COUNTBLANK(A97:H97)+COUNTBLANK(J97:O97)=14,\"\",\"- ohne Titel -\"),Datenerfassung!D107)","v":""},{"$f":"IF(ISBLANK(Datenerfassung!E107),\"\",Datenerfassung!E107)","v":""},"",{"$f":"IF(ISBLANK(Datenerfassung!O107),\"\",Datenerfassung!O107)","v":""},{"$f":"IF(ISBLANK(Datenerfassung!G107),\"\",Datenerfassung!G107)","v":""},{"$f":"IF(ISBLANK(Datenerfassung!M107),\"\",Datenerfassung!M107)","v":""},{"$f":"IF(ISBLANK(Datenerfassung!H107),\"\",Datenerfassung!H107)","v":""}]
[{"$f":"IF(ISBLANK(Datenerfassung!A108),\"\",Datenerfassung!A108)","v":""},{"$f":"IF(ISBLANK(Datenerfassung!B108),\"\",Datenerfassung!B108)","v":""},{"$f":"IF(ISBLANK(Datenerfassung!C108),\"\",Datenerfassung!C108)","v":""},{"$f":"IF(ISBLANK(Datenerfassung!I108),\"\",Datenerfassung!I108)","v":""},{"$f":"IF(ISBLANK(Datenerfassung!J108),\"\",Datenerfassung!J108)","v":""},"",{"$f":"IF(ISBLANK(Datenerfassung!L108),\"\",Datenerfassung!L108)","v":""},{"$f":"IF(ISBLANK(Datenerfassung!F108),\"\",Datenerfassung!F108)","v":""},{"$f":"IF(ISBLANK(Datenerfassung!D108),IF(COUNTBLANK(A98:H98)+COUNTBLANK(J98:O98)=14,\"\",\"- ohne Titel -\"),Datenerfassung!D108)","v":""},{"$f":"IF(ISBLANK(Datenerfassung!E108),\"\",Datenerfassung!E108)","v":""},"",{"$f":"IF(ISBLANK(Datenerfassung!O108),\"\",Datenerfassung!O108)","v":""},{"$f":"IF(ISBLANK(Datenerfassung!G108),\"\",Datenerfassung!G108)","v":""},{"$f":"IF(ISBLANK(Datenerfassung!M108),\"\",Datenerfassung!M108)","v":""},{"$f":"IF(ISBLANK(Datenerfassung!H108),\"\",Datenerfassung!H108)","v":""}]
[{"$f":"IF(ISBLANK(Datenerfassung!A109),\"\",Datenerfassung!A109)","v":""},{"$f":"IF(ISBLANK(Datenerfassung!B109),\"\",Datenerfassung!B109)","v":""},{"$f":"IF(ISBLANK(Datenerfassung!C109),\"\",Datenerfassung!C109)","v":""},{"$f":"IF(ISBLANK(Datenerfassung!I109),\"\",Datenerfassung!I109)","v":""},{"$f":"IF(ISBLANK(Datenerfassung!J109),\"\",Datenerfassung!J109)","v":""},"",{"$f":"IF(ISBLANK(Datenerfassung!L109),\"\",Datenerfassung!L109)","v":""},{"$f":"IF(ISBLANK(Datenerfassung!F109),\"\",Datenerfassung!F109)","v":""},{"$f":"IF(ISBLANK(Datenerfassung!D109),IF(COUNTBLANK(A99:H99)+COUNTBLANK(J99:O99)=14,\"\",\"- ohne Titel -\"),Datenerfassung!D109)","v":""},{"$f":"IF(ISBLANK(Datenerfassung!E109),\"\",Datenerfassung!E109)","v":""},"",{"$f":"IF(ISBLANK(Datenerfassung!O109),\"\",Datenerfassung!O109)","v":""},{"$f":"IF(ISBLANK(Datenerfassung!G109),\"\",Datenerfassung!G109)","v":""},{"$f":"IF(ISBLANK(Datenerfassung!M109),\"\",Datenerfassung!M109)","v":""},{"$f":"IF(ISBLANK(Datenerfassung!H109),\"\",Datenerfassung!H109)","v":""}]
[{"$f":"IF(ISBLANK(Datenerfassung!A110),\"\",Datenerfassung!A110)","v":""},{"$f":"IF(ISBLANK(Datenerfassung!B110),\"\",Datenerfassung!B110)","v":""},{"$f":"IF(ISBLANK(Datenerfassung!C110),\"\",Datenerfassung!C110)","v":""},{"$f":"IF(ISBLANK(Datenerfassung!I110),\"\",Datenerfassung!I110)","v":""},{"$f":"IF(ISBLANK(Datenerfassung!J110),\"\",Datenerfassung!J110)","v":""},"",{"$f":"IF(ISBLANK(Datenerfassung!L110),\"\",Datenerfassung!L110)","v":""},{"$f":"IF(ISBLANK(Datenerfassung!F110),\"\",Datenerfassung!F110)","v":""},{"$f":"IF(ISBLANK(Datenerfassung!D110),IF(COUNTBLANK(A100:H100)+COUNTBLANK(J100:O100)=14,\"\",\"- ohne Titel -\"),Datenerfassung!D110)","v":""},{"$f":"IF(ISBLANK(Datenerfassung!E110),\"\",Datenerfassung!E110)","v":""},"",{"$f":"IF(ISBLANK(Datenerfassung!O110),\"\",Datenerfassung!O110)","v":""},{"$f":"IF(ISBLANK(Datenerfassung!G110),\"\",Datenerfassung!G110)","v":""},{"$f":"IF(ISBLANK(Datenerfassung!M110),\"\",Datenerfassung!M110)","v":""},{"$f":"IF(ISBLANK(Datenerfassung!H110),\"\",Datenerfassung!H110)","v":""}]
[{"$f":"IF(ISBLANK(Datenerfassung!A111),\"\",Datenerfassung!A111)","v":""},{"$f":"IF(ISBLANK(Datenerfassung!B111),\"\",Datenerfassung!B111)","v":""},{"$f":"IF(ISBLANK(Datenerfassung!C111),\"\",Datenerfassung!C111)","v":""},{"$f":"IF(ISBLANK(Datenerfassung!I111),\"\",Datenerfassung!I111)","v":""},{"$f":"IF(ISBLANK(Datenerfassung!J111),\"\",Datenerfassung!J111)","v":""},"",{"$f":"IF(ISBLANK(Datenerfassung!L111),\"\",Datenerfassung!L111)","v":""},{"$f":"IF(ISBLANK(Datenerfassung!F111),\"\",Datenerfassung!F111)","v":""},{"$f":"IF(ISBLANK(Datenerfassung!D111),IF(COUNTBLANK(A101:H101)+COUNTBLANK(J101:O101)=14,\"\",\"- ohne Titel -\"),Datenerfassung!D111)","v":""},{"$f":"IF(ISBLANK(Datenerfassung!E111),\"\",Datenerfassung!E111)","v":""},"",{"$f":"IF(ISBLANK(Datenerfassung!O111),\"\",Datenerfassung!O111)","v":""},{"$f":"IF(ISBLANK(Datenerfassung!G111),\"\",Datenerfassung!G111)","v":""},{"$f":"IF(ISBLANK(Datenerfassung!M111),\"\",Datenerfassung!M111)","v":""},{"$f":"IF(ISBLANK(Datenerfassung!H111),\"\",Datenerfassung!H111)","v":""}]
[{"$f":"IF(ISBLANK(Datenerfassung!A112),\"\",Datenerfassung!A112)","v":""},{"$f":"IF(ISBLANK(Datenerfassung!B112),\"\",Datenerfassung!B112)","v":""},{"$f":"IF(ISBLANK(Datenerfassung!C112),\"\",Datenerfassung!C112)","v":""},{"$f":"IF(ISBLANK(Datenerfassung!I112),\"\",Datenerfassung!I112)","v":""},{"$f":"IF(ISBLANK(Datenerfassung!J112),\"\",Datenerfassung!J112)","v":""},"",{"$f":"IF(ISBLANK(Datenerfassung!L112),\"\",Datenerfassung!L112)","v":""},{"$f":"IF(ISBLANK(Datenerfassung!F112),\"\",Datenerfassung!F112)","v":""},{"$f":"IF(ISBLANK(Datenerfassung!D112),IF(COUNTBLANK(A102:H102)+COUNTBLANK(J102:O102)=14,\"\",\"- ohne Titel -\"),Datenerfassung!D112)","v":""},{"$f":"IF(ISBLANK(Datenerfassung!E112),\"\",Datenerfassung!E112)","v":""},"",{"$f":"IF(ISBLANK(Datenerfassung!O112),\"\",Datenerfassung!O112)","v":""},{"$f":"IF(ISBLANK(Datenerfassung!G112),\"\",Datenerfassung!G112)","v":""},{"$f":"IF(ISBLANK(Datenerfassung!M112),\"\",Datenerfassung!M112)","v":""},{"$f":"IF(ISBLANK(Datenerfassung!H112),\"\",Datenerfassung!H112)","v":""}]
[{"$f":"IF(ISBLANK(Datenerfassung!A113),\"\",Datenerfassung!A113)","v":""},{"$f":"IF(ISBLANK(Datenerfassung!B113),\"\",Datenerfassung!B113)","v":""},{"$f":"IF(ISBLANK(Datenerfassung!C113),\"\",Datenerfassung!C113)","v":""},{"$f":"IF(ISBLANK(Datenerfassung!I113),\"\",Datenerfassung!I113)","v":""},{"$f":"IF(ISBLANK(Datenerfassung!J113),\"\",Datenerfassung!J113)","v":""},"",{"$f":"IF(ISBLANK(Datenerfassung!L113),\"\",Datenerfassung!L113)","v":""},{"$f":"IF(ISBLANK(Datenerfassung!F113),\"\",Datenerfassung!F113)","v":""},{"$f":"IF(ISBLANK(Datenerfassung!D113),IF(COUNTBLANK(A103:H103)+COUNTBLANK(J103:O103)=14,\"\",\"- ohne Titel -\"),Datenerfassung!D113)","v":""},{"$f":"IF(ISBLANK(Datenerfassung!E113),\"\",Datenerfassung!E113)","v":""},"",{"$f":"IF(ISBLANK(Datenerfassung!O113),\"\",Datenerfassung!O113)","v":""},{"$f":"IF(ISBLANK(Datenerfassung!G113),\"\",Datenerfassung!G113)","v":""},{"$f":"IF(ISBLANK(Datenerfassung!M113),\"\",Datenerfassung!M113)","v":""},{"$f":"IF(ISBLANK(Datenerfassung!H113),\"\",Datenerfassung!H113)","v":""}]
[{"$f":"IF(ISBLANK(Datenerfassung!A114),\"\",Datenerfassung!A114)","v":""},{"$f":"IF(ISBLANK(Datenerfassung!B114),\"\",Datenerfassung!B114)","v":""},{"$f":"IF(ISBLANK(Datenerfassung!C114),\"\",Datenerfassung!C114)","v":""},{"$f":"IF(ISBLANK(Datenerfassung!I114),\"\",Datenerfassung!I114)","v":""},{"$f":"IF(ISBLANK(Datenerfassung!J114),\"\",Datenerfassung!J114)","v":""},"",{"$f":"IF(ISBLANK(Datenerfassung!L114),\"\",Datenerfassung!L114)","v":""},{"$f":"IF(ISBLANK(Datenerfassung!F114),\"\",Datenerfassung!F114)","v":""},{"$f":"IF(ISBLANK(Datenerfassung!D114),IF(COUNTBLANK(A104:H104)+COUNTBLANK(J104:O104)=14,\"\",\"- ohne Titel -\"),Datenerfassung!D114)","v":""},{"$f":"IF(ISBLANK(Datenerfassung!E114),\"\",Datenerfassung!E114)","v":""},"",{"$f":"IF(ISBLANK(Datenerfassung!O114),\"\",Datenerfassung!O114)","v":""},{"$f":"IF(ISBLANK(Datenerfassung!G114),\"\",Datenerfassung!G114)","v":""},{"$f":"IF(ISBLANK(Datenerfassung!M114),\"\",Datenerfassung!M114)","v":""},{"$f":"IF(ISBLANK(Datenerfassung!H114),\"\",Datenerfassung!H114)","v":""}]
[{"$f":"IF(ISBLANK(Datenerfassung!A115),\"\",Datenerfassung!A115)","v":""},{"$f":"IF(ISBLANK(Datenerfassung!B115),\"\",Datenerfassung!B115)","v":""},{"$f":"IF(ISBLANK(Datenerfassung!C115),\"\",Datenerfassung!C115)","v":""},{"$f":"IF(ISBLANK(Datenerfassung!I115),\"\",Datenerfassung!I115)","v":""},{"$f":"IF(ISBLANK(Datenerfassung!J115),\"\",Datenerfassung!J115)","v":""},"",{"$f":"IF(ISBLANK(Datenerfassung!L115),\"\",Datenerfassung!L115)","v":""},{"$f":"IF(ISBLANK(Datenerfassung!F115),\"\",Datenerfassung!F115)","v":""},{"$f":"IF(ISBLANK(Datenerfassung!D115),IF(COUNTBLANK(A105:H105)+COUNTBLANK(J105:O105)=14,\"\",\"- ohne Titel -\"),Datenerfassung!D115)","v":""},{"$f":"IF(ISBLANK(Datenerfassung!E115),\"\",Datenerfassung!E115)","v":""},"",{"$f":"IF(ISBLANK(Datenerfassung!O115),\"\",Datenerfassung!O115)","v":""},{"$f":"IF(ISBLANK(Datenerfassung!G115),\"\",Datenerfassung!G115)","v":""},{"$f":"IF(ISBLANK(Datenerfassung!M115),\"\",Datenerfassung!M115)","v":""},{"$f":"IF(ISBLANK(Datenerfassung!H115),\"\",Datenerfassung!H115)","v":""}]
[{"$f":"IF(ISBLANK(Datenerfassung!A116),\"\",Datenerfassung!A116)","v":""},{"$f":"IF(ISBLANK(Datenerfassung!B116),\"\",Datenerfassung!B116)","v":""},{"$f":"IF(ISBLANK(Datenerfassung!C116),\"\",Datenerfassung!C116)","v":""},{"$f":"IF(ISBLANK(Datenerfassung!I116),\"\",Datenerfassung!I116)","v":""},{"$f":"IF(ISBLANK(Datenerfassung!J116),\"\",Datenerfassung!J116)","v":""},"",{"$f":"IF(ISBLANK(Datenerfassung!L116),\"\",Datenerfassung!L116)","v":""},{"$f":"IF(ISBLANK(Datenerfassung!F116),\"\",Datenerfassung!F116)","v":""},{"$f":"IF(ISBLANK(Datenerfassung!D116),IF(COUNTBLANK(A106:H106)+COUNTBLANK(J106:O106)=14,\"\",\"- ohne Titel -\"),Datenerfassung!D116)","v":""},{"$f":"IF(ISBLANK(Datenerfassung!E116),\"\",Datenerfassung!E116)","v":""},"",{"$f":"IF(ISBLANK(Datenerfassung!O116),\"\",Datenerfassung!O116)","v":""},{"$f":"IF(ISBLANK(Datenerfassung!G116),\"\",Datenerfassung!G116)","v":""},{"$f":"IF(ISBLANK(Datenerfassung!M116),\"\",Datenerfassung!M116)","v":""},{"$f":"IF(ISBLANK(Datenerfassung!H116),\"\",Datenerfassung!H116)","v":""}]
[{"$f":"IF(ISBLANK(Datenerfassung!A117),\"\",Datenerfassung!A117)","v":""},{"$f":"IF(ISBLANK(Datenerfassung!B117),\"\",Datenerfassung!B117)","v":""},{"$f":"IF(ISBLANK(Datenerfassung!C117),\"\",Datenerfassung!C117)","v":""},{"$f":"IF(ISBLANK(Datenerfassung!I117),\"\",Datenerfassung!I117)","v":""},{"$f":"IF(ISBLANK(Datenerfassung!J117),\"\",Datenerfassung!J117)","v":""},"",{"$f":"IF(ISBLANK(Datenerfassung!L117),\"\",Datenerfassung!L117)","v":""},{"$f":"IF(ISBLANK(Datenerfassung!F117),\"\",Datenerfassung!F117)","v":""},{"$f":"IF(ISBLANK(Datenerfassung!D117),IF(COUNTBLANK(A107:H107)+COUNTBLANK(J107:O107)=14,\"\",\"- ohne Titel -\"),Datenerfassung!D117)","v":""},{"$f":"IF(ISBLANK(Datenerfassung!E117),\"\",Datenerfassung!E117)","v":""},"",{"$f":"IF(ISBLANK(Datenerfassung!O117),\"\",Datenerfassung!O117)","v":""},{"$f":"IF(ISBLANK(Datenerfassung!G117),\"\",Datenerfassung!G117)","v":""},{"$f":"IF(ISBLANK(Datenerfassung!M117),\"\",Datenerfassung!M117)","v":""},{"$f":"IF(ISBLANK(Datenerfassung!H117),\"\",Datenerfassung!H117)","v":""}]
[{"$f":"IF(ISBLANK(Datenerfassung!A118),\"\",Datenerfassung!A118)","v":""},{"$f":"IF(ISBLANK(Datenerfassung!B118),\"\",Datenerfassung!B118)","v":""},{"$f":"IF(ISBLANK(Datenerfassung!C118),\"\",Datenerfassung!C118)","v":""},{"$f":"IF(ISBLANK(Datenerfassung!I118),\"\",Datenerfassung!I118)","v":""},{"$f":"IF(ISBLANK(Datenerfassung!J118),\"\",Datenerfassung!J118)","v":""},"",{"$f":"IF(ISBLANK(Datenerfassung!L118),\"\",Datenerfassung!L118)","v":""},{"$f":"IF(ISBLANK(Datenerfassung!F118),\"\",Datenerfassung!F118)","v":""},{"$f":"IF(ISBLANK(Datenerfassung!D118),IF(COUNTBLANK(A108:H108)+COUNTBLANK(J108:O108)=14,\"\",\"- ohne Titel -\"),Datenerfassung!D118)","v":""},{"$f":"IF(ISBLANK(Datenerfassung!E118),\"\",Datenerfassung!E118)","v":""},"",{"$f":"IF(ISBLANK(Datenerfassung!O118),\"\",Datenerfassung!O118)","v":""},{"$f":"IF(ISBLANK(Datenerfassung!G118),\"\",Datenerfassung!G118)","v":""},{"$f":"IF(ISBLANK(Datenerfassung!M118),\"\",Datenerfassung!M118)","v":""},{"$f":"IF(ISBLANK(Datenerfassung!H118),\"\",Datenerfassung!H118)","v":""}]
[{"$f":"IF(ISBLANK(Datenerfassung!A119),\"\",Datenerfassung!A119)","v":""},{"$f":"IF(ISBLANK(Datenerfassung!B119),\"\",Datenerfassung!B119)","v":""},{"$f":"IF(ISBLANK(Datenerfassung!C119),\"\",Datenerfassung!C119)","v":""},{"$f":"IF(ISBLANK(Datenerfassung!I119),\"\",Datenerfassung!I119)","v":""},{"$f":"IF(ISBLANK(Datenerfassung!J119),\"\",Datenerfassung!J119)","v":""},"",{"$f":"IF(ISBLANK(Datenerfassung!L119),\"\",Datenerfassung!L119)","v":""},{"$f":"IF(ISBLANK(Datenerfassung!F119),\"\",Datenerfassung!F119)","v":""},{"$f":"IF(ISBLANK(Datenerfassung!D119),IF(COUNTBLANK(A109:H109)+COUNTBLANK(J109:O109)=14,\"\",\"- ohne Titel -\"),Datenerfassung!D119)","v":""},{"$f":"IF(ISBLANK(Datenerfassung!E119),\"\",Datenerfassung!E119)","v":""},"",{"$f":"IF(ISBLANK(Datenerfassung!O119),\"\",Datenerfassung!O119)","v":""},{"$f":"IF(ISBLANK(Datenerfassung!G119),\"\",Datenerfassung!G119)","v":""},{"$f":"IF(ISBLANK(Datenerfassung!M119),\"\",Datenerfassung!M119)","v":""},{"$f":"IF(ISBLANK(Datenerfassung!H119),\"\",Datenerfassung!H119)","v":""}]
[{"$f":"IF(ISBLANK(Datenerfassung!A120),\"\",Datenerfassung!A120)","v":""},{"$f":"IF(ISBLANK(Datenerfassung!B120),\"\",Datenerfassung!B120)","v":""},{"$f":"IF(ISBLANK(Datenerfassung!C120),\"\",Datenerfassung!C120)","v":""},{"$f":"IF(ISBLANK(Datenerfassung!I120),\"\",Datenerfassung!I120)","v":""},{"$f":"IF(ISBLANK(Datenerfassung!J120),\"\",Datenerfassung!J120)","v":""},"",{"$f":"IF(ISBLANK(Datenerfassung!L120),\"\",Datenerfassung!L120)","v":""},{"$f":"IF(ISBLANK(Datenerfassung!F120),\"\",Datenerfassung!F120)","v":""},{"$f":"IF(ISBLANK(Datenerfassung!D120),IF(COUNTBLANK(A110:H110)+COUNTBLANK(J110:O110)=14,\"\",\"- ohne Titel -\"),Datenerfassung!D120)","v":""},{"$f":"IF(ISBLANK(Datenerfassung!E120),\"\",Datenerfassung!E120)","v":""},"",{"$f":"IF(ISBLANK(Datenerfassung!O120),\"\",Datenerfassung!O120)","v":""},{"$f":"IF(ISBLANK(Datenerfassung!G120),\"\",Datenerfassung!G120)","v":""},{"$f":"IF(ISBLANK(Datenerfassung!M120),\"\",Datenerfassung!M120)","v":""},{"$f":"IF(ISBLANK(Datenerfassung!H120),\"\",Datenerfassung!H120)","v":""}]
[{"$f":"IF(ISBLANK(Datenerfassung!A121),\"\",Datenerfassung!A121)","v":""},{"$f":"IF(ISBLANK(Datenerfassung!B121),\"\",Datenerfassung!B121)","v":""},{"$f":"IF(ISBLANK(Datenerfassung!C121),\"\",Datenerfassung!C121)","v":""},{"$f":"IF(ISBLANK(Datenerfassung!I121),\"\",Datenerfassung!I121)","v":""},{"$f":"IF(ISBLANK(Datenerfassung!J121),\"\",Datenerfassung!J121)","v":""},"",{"$f":"IF(ISBLANK(Datenerfassung!L121),\"\",Datenerfassung!L121)","v":""},{"$f":"IF(ISBLANK(Datenerfassung!F121),\"\",Datenerfassung!F121)","v":""},{"$f":"IF(ISBLANK(Datenerfassung!D121),IF(COUNTBLANK(A111:H111)+COUNTBLANK(J111:O111)=14,\"\",\"- ohne Titel -\"),Datenerfassung!D121)","v":""},{"$f":"IF(ISBLANK(Datenerfassung!E121),\"\",Datenerfassung!E121)","v":""},"",{"$f":"IF(ISBLANK(Datenerfassung!O121),\"\",Datenerfassung!O121)","v":""},{"$f":"IF(ISBLANK(Datenerfassung!G121),\"\",Datenerfassung!G121)","v":""},{"$f":"IF(ISBLANK(Datenerfassung!M121),\"\",Datenerfassung!M121)","v":""},{"$f":"IF(ISBLANK(Datenerfassung!H121),\"\",Datenerfassung!H121)","v":""}]
[{"$f":"IF(ISBLANK(Datenerfassung!A122),\"\",Datenerfassung!A122)","v":""},{"$f":"IF(ISBLANK(Datenerfassung!B122),\"\",Datenerfassung!B122)","v":""},{"$f":"IF(ISBLANK(Datenerfassung!C122),\"\",Datenerfassung!C122)","v":""},{"$f":"IF(ISBLANK(Datenerfassung!I122),\"\",Datenerfassung!I122)","v":""},{"$f":"IF(ISBLANK(Datenerfassung!J122),\"\",Datenerfassung!J122)","v":""},"",{"$f":"IF(ISBLANK(Datenerfassung!L122),\"\",Datenerfassung!L122)","v":""},{"$f":"IF(ISBLANK(Datenerfassung!F122),\"\",Datenerfassung!F122)","v":""},{"$f":"IF(ISBLANK(Datenerfassung!D122),IF(COUNTBLANK(A112:H112)+COUNTBLANK(J112:O112)=14,\"\",\"- ohne Titel -\"),Datenerfassung!D122)","v":""},{"$f":"IF(ISBLANK(Datenerfassung!E122),\"\",Datenerfassung!E122)","v":""},"",{"$f":"IF(ISBLANK(Datenerfassung!O122),\"\",Datenerfassung!O122)","v":""},{"$f":"IF(ISBLANK(Datenerfassung!G122),\"\",Datenerfassung!G122)","v":""},{"$f":"IF(ISBLANK(Datenerfassung!M122),\"\",Datenerfassung!M122)","v":""},{"$f":"IF(ISBLANK(Datenerfassung!H122),\"\",Datenerfassung!H122)","v":""}]
[{"$f":"IF(ISBLANK(Datenerfassung!A123),\"\",Datenerfassung!A123)","v":""},{"$f":"IF(ISBLANK(Datenerfassung!B123),\"\",Datenerfassung!B123)","v":""},{"$f":"IF(ISBLANK(Datenerfassung!C123),\"\",Datenerfassung!C123)","v":""},{"$f":"IF(ISBLANK(Datenerfassung!I123),\"\",Datenerfassung!I123)","v":""},{"$f":"IF(ISBLANK(Datenerfassung!J123),\"\",Datenerfassung!J123)","v":""},"",{"$f":"IF(ISBLANK(Datenerfassung!L123),\"\",Datenerfassung!L123)","v":""},{"$f":"IF(ISBLANK(Datenerfassung!F123),\"\",Datenerfassung!F123)","v":""},{"$f":"IF(ISBLANK(Datenerfassung!D123),IF(COUNTBLANK(A113:H113)+COUNTBLANK(J113:O113)=14,\"\",\"- ohne Titel -\"),Datenerfassung!D123)","v":""},{"$f":"IF(ISBLANK(Datenerfassung!E123),\"\",Datenerfassung!E123)","v":""},"",{"$f":"IF(ISBLANK(Datenerfassung!O123),\"\",Datenerfassung!O123)","v":""},{"$f":"IF(ISBLANK(Datenerfassung!G123),\"\",Datenerfassung!G123)","v":""},{"$f":"IF(ISBLANK(Datenerfassung!M123),\"\",Datenerfassung!M123)","v":""},{"$f":"IF(ISBLANK(Datenerfassung!H123),\"\",Datenerfassung!H123)","v":""}]
[{"$f":"IF(ISBLANK(Datenerfassung!A124),\"\",Datenerfassung!A124)","v":""},{"$f":"IF(ISBLANK(Datenerfassung!B124),\"\",Datenerfassung!B124)","v":""},{"$f":"IF(ISBLANK(Datenerfassung!C124),\"\",Datenerfassung!C124)","v":""},{"$f":"IF(ISBLANK(Datenerfassung!I124),\"\",Datenerfassung!I124)","v":""},{"$f":"IF(ISBLANK(Datenerfassung!J124),\"\",Datenerfassung!J124)","v":""},"",{"$f":"IF(ISBLANK(Datenerfassung!L124),\"\",Datenerfassung!L124)","v":""},{"$f":"IF(ISBLANK(Datenerfassung!F124),\"\",Datenerfassung!F124)","v":""},{"$f":"IF(ISBLANK(Datenerfassung!D124),IF(COUNTBLANK(A114:H114)+COUNTBLANK(J114:O114)=14,\"\",\"- ohne Titel -\"),Datenerfassung!D124)","v":""},{"$f":"IF(ISBLANK(Datenerfassung!E124),\"\",Datenerfassung!E124)","v":""},"",{"$f":"IF(ISBLANK(Datenerfassung!O124),\"\",Datenerfassung!O124)","v":""},{"$f":"IF(ISBLANK(Datenerfassung!G124),\"\",Datenerfassung!G124)","v":""},{"$f":"IF(ISBLANK(Datenerfassung!M124),\"\",Datenerfassung!M124)","v":""},{"$f":"IF(ISBLANK(Datenerfassung!H124),\"\",Datenerfassung!H124)","v":""}]
[{"$f":"IF(ISBLANK(Datenerfassung!A125),\"\",Datenerfassung!A125)","v":""},{"$f":"IF(ISBLANK(Datenerfassung!B125),\"\",Datenerfassung!B125)","v":""},{"$f":"IF(ISBLANK(Datenerfassung!C125),\"\",Datenerfassung!C125)","v":""},{"$f":"IF(ISBLANK(Datenerfassung!I125),\"\",Datenerfassung!I125)","v":""},{"$f":"IF(ISBLANK(Datenerfassung!J125),\"\",Datenerfassung!J125)","v":""},"",{"$f":"IF(ISBLANK(Datenerfassung!L125),\"\",Datenerfassung!L125)","v":""},{"$f":"IF(ISBLANK(Datenerfassung!F125),\"\",Datenerfassung!F125)","v":""},{"$f":"IF(ISBLANK(Datenerfassung!D125),IF(COUNTBLANK(A115:H115)+COUNTBLANK(J115:O115)=14,\"\",\"- ohne Titel -\"),Datenerfassung!D125)","v":""},{"$f":"IF(ISBLANK(Datenerfassung!E125),\"\",Datenerfassung!E125)","v":""},"",{"$f":"IF(ISBLANK(Datenerfassung!O125),\"\",Datenerfassung!O125)","v":""},{"$f":"IF(ISBLANK(Datenerfassung!G125),\"\",Datenerfassung!G125)","v":""},{"$f":"IF(ISBLANK(Datenerfassung!M125),\"\",Datenerfassung!M125)","v":""},{"$f":"IF(ISBLANK(Datenerfassung!H125),\"\",Datenerfassung!H125)","v":""}]
[{"$f":"IF(ISBLANK(Datenerfassung!A126),\"\",Datenerfassung!A126)","v":""},{"$f":"IF(ISBLANK(Datenerfassung!B126),\"\",Datenerfassung!B126)","v":""},{"$f":"IF(ISBLANK(Datenerfassung!C126),\"\",Datenerfassung!C126)","v":""},{"$f":"IF(ISBLANK(Datenerfassung!I126),\"\",Datenerfassung!I126)","v":""},{"$f":"IF(ISBLANK(Datenerfassung!J126),\"\",Datenerfassung!J126)","v":""},"",{"$f":"IF(ISBLANK(Datenerfassung!L126),\"\",Datenerfassung!L126)","v":""},{"$f":"IF(ISBLANK(Datenerfassung!F126),\"\",Datenerfassung!F126)","v":""},{"$f":"IF(ISBLANK(Datenerfassung!D126),IF(COUNTBLANK(A116:H116)+COUNTBLANK(J116:O116)=14,\"\",\"- ohne Titel -\"),Datenerfassung!D126)","v":""},{"$f":"IF(ISBLANK(Datenerfassung!E126),\"\",Datenerfassung!E126)","v":""},"",{"$f":"IF(ISBLANK(Datenerfassung!O126),\"\",Datenerfassung!O126)","v":""},{"$f":"IF(ISBLANK(Datenerfassung!G126),\"\",Datenerfassung!G126)","v":""},{"$f":"IF(ISBLANK(Datenerfassung!M126),\"\",Datenerfassung!M126)","v":""},{"$f":"IF(ISBLANK(Datenerfassung!H126),\"\",Datenerfassung!H126)","v":""}]
[{"$f":"IF(ISBLANK(Datenerfassung!A127),\"\",Datenerfassung!A127)","v":""},{"$f":"IF(ISBLANK(Datenerfassung!B127),\"\",Datenerfassung!B127)","v":""},{"$f":"IF(ISBLANK(Datenerfassung!C127),\"\",Datenerfassung!C127)","v":""},{"$f":"IF(ISBLANK(Datenerfassung!I127),\"\",Datenerfassung!I127)","v":""},{"$f":"IF(ISBLANK(Datenerfassung!J127),\"\",Datenerfassung!J127)","v":""},"",{"$f":"IF(ISBLANK(Datenerfassung!L127),\"\",Datenerfassung!L127)","v":""},{"$f":"IF(ISBLANK(Datenerfassung!F127),\"\",Datenerfassung!F127)","v":""},{"$f":"IF(ISBLANK(Datenerfassung!D127),IF(COUNTBLANK(A117:H117)+COUNTBLANK(J117:O117)=14,\"\",\"- ohne Titel -\"),Datenerfassung!D127)","v":""},{"$f":"IF(ISBLANK(Datenerfassung!E127),\"\",Datenerfassung!E127)","v":""},"",{"$f":"IF(ISBLANK(Datenerfassung!O127),\"\",Datenerfassung!O127)","v":""},{"$f":"IF(ISBLANK(Datenerfassung!G127),\"\",Datenerfassung!G127)","v":""},{"$f":"IF(ISBLANK(Datenerfassung!M127),\"\",Datenerfassung!M127)","v":""},{"$f":"IF(ISBLANK(Datenerfassung!H127),\"\",Datenerfassung!H127)","v":""}]
[{"$f":"IF(ISBLANK(Datenerfassung!A128),\"\",Datenerfassung!A128)","v":""},{"$f":"IF(ISBLANK(Datenerfassung!B128),\"\",Datenerfassung!B128)","v":""},{"$f":"IF(ISBLANK(Datenerfassung!C128),\"\",Datenerfassung!C128)","v":""},{"$f":"IF(ISBLANK(Datenerfassung!I128),\"\",Datenerfassung!I128)","v":""},{"$f":"IF(ISBLANK(Datenerfassung!J128),\"\",Datenerfassung!J128)","v":""},"",{"$f":"IF(ISBLANK(Datenerfassung!L128),\"\",Datenerfassung!L128)","v":""},{"$f":"IF(ISBLANK(Datenerfassung!F128),\"\",Datenerfassung!F128)","v":""},{"$f":"IF(ISBLANK(Datenerfassung!D128),IF(COUNTBLANK(A118:H118)+COUNTBLANK(J118:O118)=14,\"\",\"- ohne Titel -\"),Datenerfassung!D128)","v":""},{"$f":"IF(ISBLANK(Datenerfassung!E128),\"\",Datenerfassung!E128)","v":""},"",{"$f":"IF(ISBLANK(Datenerfassung!O128),\"\",Datenerfassung!O128)","v":""},{"$f":"IF(ISBLANK(Datenerfassung!G128),\"\",Datenerfassung!G128)","v":""},{"$f":"IF(ISBLANK(Datenerfassung!M128),\"\",Datenerfassung!M128)","v":""},{"$f":"IF(ISBLANK(Datenerfassung!H128),\"\",Datenerfassung!H128)","v":""}]
[{"$f":"IF(ISBLANK(Datenerfassung!A129),\"\",Datenerfassung!A129)","v":""},{"$f":"IF(ISBLANK(Datenerfassung!B129),\"\",Datenerfassung!B129)","v":""},{"$f":"IF(ISBLANK(Datenerfassung!C129),\"\",Datenerfassung!C129)","v":""},{"$f":"IF(ISBLANK(Datenerfassung!I129),\"\",Datenerfassung!I129)","v":""},{"$f":"IF(ISBLANK(Datenerfassung!J129),\"\",Datenerfassung!J129)","v":""},"",{"$f":"IF(ISBLANK(Datenerfassung!L129),\"\",Datenerfassung!L129)","v":""},{"$f":"IF(ISBLANK(Datenerfassung!F129),\"\",Datenerfassung!F129)","v":""},{"$f":"IF(ISBLANK(Datenerfassung!D129),IF(COUNTBLANK(A119:H119)+COUNTBLANK(J119:O119)=14,\"\",\"- ohne Titel -\"),Datenerfassung!D129)","v":""},{"$f":"IF(ISBLANK(Datenerfassung!E129),\"\",Datenerfassung!E129)","v":""},"",{"$f":"IF(ISBLANK(Datenerfassung!O129),\"\",Datenerfassung!O129)","v":""},{"$f":"IF(ISBLANK(Datenerfassung!G129),\"\",Datenerfassung!G129)","v":""},{"$f":"IF(ISBLANK(Datenerfassung!M129),\"\",Datenerfassung!M129)","v":""},{"$f":"IF(ISBLANK(Datenerfassung!H129),\"\",Datenerfassung!H129)","v":""}]
[{"$f":"IF(ISBLANK(Datenerfassung!A130),\"\",Datenerfassung!A130)","v":""},{"$f":"IF(ISBLANK(Datenerfassung!B130),\"\",Datenerfassung!B130)","v":""},{"$f":"IF(ISBLANK(Datenerfassung!C130),\"\",Datenerfassung!C130)","v":""},{"$f":"IF(ISBLANK(Datenerfassung!I130),\"\",Datenerfassung!I130)","v":""},{"$f":"IF(ISBLANK(Datenerfassung!J130),\"\",Datenerfassung!J130)","v":""},"",{"$f":"IF(ISBLANK(Datenerfassung!L130),\"\",Datenerfassung!L130)","v":""},{"$f":"IF(ISBLANK(Datenerfassung!F130),\"\",Datenerfassung!F130)","v":""},{"$f":"IF(ISBLANK(Datenerfassung!D130),IF(COUNTBLANK(A120:H120)+COUNTBLANK(J120:O120)=14,\"\",\"- ohne Titel -\"),Datenerfassung!D130)","v":""},{"$f":"IF(ISBLANK(Datenerfassung!E130),\"\",Datenerfassung!E130)","v":""},"",{"$f":"IF(ISBLANK(Datenerfassung!O130),\"\",Datenerfassung!O130)","v":""},{"$f":"IF(ISBLANK(Datenerfassung!G130),\"\",Datenerfassung!G130)","v":""},{"$f":"IF(ISBLANK(Datenerfassung!M130),\"\",Datenerfassung!M130)","v":""},{"$f":"IF(ISBLANK(Datenerfassung!H130),\"\",Datenerfassung!H130)","v":""}]
[{"$f":"IF(ISBLANK(Datenerfassung!A131),\"\",Datenerfassung!A131)","v":""},{"$f":"IF(ISBLANK(Datenerfassung!B131),\"\",Datenerfassung!B131)","v":""},{"$f":"IF(ISBLANK(Datenerfassung!C131),\"\",Datenerfassung!C131)","v":""},{"$f":"IF(ISBLANK(Datenerfassung!I131),\"\",Datenerfassung!I131)","v":""},{"$f":"IF(ISBLANK(Datenerfassung!J131),\"\",Datenerfassung!J131)","v":""},"",{"$f":"IF(ISBLANK(Datenerfassung!L131),\"\",Datenerfassung!L131)","v":""},{"$f":"IF(ISBLANK(Datenerfassung!F131),\"\",Datenerfassung!F131)","v":""},{"$f":"IF(ISBLANK(Datenerfassung!D131),IF(COUNTBLANK(A121:H121)+COUNTBLANK(J121:O121)=14,\"\",\"- ohne Titel -\"),Datenerfassung!D131)","v":""},{"$f":"IF(ISBLANK(Datenerfassung!E131),\"\",Datenerfassung!E131)","v":""},"",{"$f":"IF(ISBLANK(Datenerfassung!O131),\"\",Datenerfassung!O131)","v":""},{"$f":"IF(ISBLANK(Datenerfassung!G131),\"\",Datenerfassung!G131)","v":""},{"$f":"IF(ISBLANK(Datenerfassung!M131),\"\",Datenerfassung!M131)","v":""},{"$f":"IF(ISBLANK(Datenerfassung!H131),\"\",Datenerfassung!H131)","v":""}]
[{"$f":"IF(ISBLANK(Datenerfassung!A132),\"\",Datenerfassung!A132)","v":""},{"$f":"IF(ISBLANK(Datenerfassung!B132),\"\",Datenerfassung!B132)","v":""},{"$f":"IF(ISBLANK(Datenerfassung!C132),\"\",Datenerfassung!C132)","v":""},{"$f":"IF(ISBLANK(Datenerfassung!I132),\"\",Datenerfassung!I132)","v":""},{"$f":"IF(ISBLANK(Datenerfassung!J132),\"\",Datenerfassung!J132)","v":""},"",{"$f":"IF(ISBLANK(Datenerfassung!L132),\"\",Datenerfassung!L132)","v":""},{"$f":"IF(ISBLANK(Datenerfassung!F132),\"\",Datenerfassung!F132)","v":""},{"$f":"IF(ISBLANK(Datenerfassung!D132),IF(COUNTBLANK(A122:H122)+COUNTBLANK(J122:O122)=14,\"\",\"- ohne Titel -\"),Datenerfassung!D132)","v":""},{"$f":"IF(ISBLANK(Datenerfassung!E132),\"\",Datenerfassung!E132)","v":""},"",{"$f":"IF(ISBLANK(Datenerfassung!O132),\"\",Datenerfassung!O132)","v":""},{"$f":"IF(ISBLANK(Datenerfassung!G132),\"\",Datenerfassung!G132)","v":""},{"$f":"IF(ISBLANK(Datenerfassung!M132),\"\",Datenerfassung!M132)","v":""},{"$f":"IF(ISBLANK(Datenerfassung!H132),\"\",Datenerfassung!H132)","v":""}]
[{"$f":"IF(ISBLANK(Datenerfassung!A133),\"\",Datenerfassung!A133)","v":""},{"$f":"IF(ISBLANK(Datenerfassung!B133),\"\",Datenerfassung!B133)","v":""},{"$f":"IF(ISBLANK(Datenerfassung!C133),\"\",Datenerfassung!C133)","v":""},{"$f":"IF(ISBLANK(Datenerfassung!I133),\"\",Datenerfassung!I133)","v":""},{"$f":"IF(ISBLANK(Datenerfassung!J133),\"\",Datenerfassung!J133)","v":""},"",{"$f":"IF(ISBLANK(Datenerfassung!L133),\"\",Datenerfassung!L133)","v":""},{"$f":"IF(ISBLANK(Datenerfassung!F133),\"\",Datenerfassung!F133)","v":""},{"$f":"IF(ISBLANK(Datenerfassung!D133),IF(COUNTBLANK(A123:H123)+COUNTBLANK(J123:O123)=14,\"\",\"- ohne Titel -\"),Datenerfassung!D133)","v":""},{"$f":"IF(ISBLANK(Datenerfassung!E133),\"\",Datenerfassung!E133)","v":""},"",{"$f":"IF(ISBLANK(Datenerfassung!O133),\"\",Datenerfassung!O133)","v":""},{"$f":"IF(ISBLANK(Datenerfassung!G133),\"\",Datenerfassung!G133)","v":""},{"$f":"IF(ISBLANK(Datenerfassung!M133),\"\",Datenerfassung!M133)","v":""},{"$f":"IF(ISBLANK(Datenerfassung!H133),\"\",Datenerfassung!H133)","v":""}]
[{"$f":"IF(ISBLANK(Datenerfassung!A134),\"\",Datenerfassung!A134)","v":""},{"$f":"IF(ISBLANK(Datenerfassung!B134),\"\",Datenerfassung!B134)","v":""},{"$f":"IF(ISBLANK(Datenerfassung!C134),\"\",Datenerfassung!C134)","v":""},{"$f":"IF(ISBLANK(Datenerfassung!I134),\"\",Datenerfassung!I134)","v":""},{"$f":"IF(ISBLANK(Datenerfassung!J134),\"\",Datenerfassung!J134)","v":""},"",{"$f":"IF(ISBLANK(Datenerfassung!L134),\"\",Datenerfassung!L134)","v":""},{"$f":"IF(ISBLANK(Datenerfassung!F134),\"\",Datenerfassung!F134)","v":""},{"$f":"IF(ISBLANK(Datenerfassung!D134),IF(COUNTBLANK(A124:H124)+COUNTBLANK(J124:O124)=14,\"\",\"- ohne Titel -\"),Datenerfassung!D134)","v":""},{"$f":"IF(ISBLANK(Datenerfassung!E134),\"\",Datenerfassung!E134)","v":""},"",{"$f":"IF(ISBLANK(Datenerfassung!O134),\"\",Datenerfassung!O134)","v":""},{"$f":"IF(ISBLANK(Datenerfassung!G134),\"\",Datenerfassung!G134)","v":""},{"$f":"IF(ISBLANK(Datenerfassung!M134),\"\",Datenerfassung!M134)","v":""},{"$f":"IF(ISBLANK(Datenerfassung!H134),\"\",Datenerfassung!H134)","v":""}]
[{"$f":"IF(ISBLANK(Datenerfassung!A135),\"\",Datenerfassung!A135)","v":""},{"$f":"IF(ISBLANK(Datenerfassung!B135),\"\",Datenerfassung!B135)","v":""},{"$f":"IF(ISBLANK(Datenerfassung!C135),\"\",Datenerfassung!C135)","v":""},{"$f":"IF(ISBLANK(Datenerfassung!I135),\"\",Datenerfassung!I135)","v":""},{"$f":"IF(ISBLANK(Datenerfassung!J135),\"\",Datenerfassung!J135)","v":""},"",{"$f":"IF(ISBLANK(Datenerfassung!L135),\"\",Datenerfassung!L135)","v":""},{"$f":"IF(ISBLANK(Datenerfassung!F135),\"\",Datenerfassung!F135)","v":""},{"$f":"IF(ISBLANK(Datenerfassung!D135),IF(COUNTBLANK(A125:H125)+COUNTBLANK(J125:O125)=14,\"\",\"- ohne Titel -\"),Datenerfassung!D135)","v":""},{"$f":"IF(ISBLANK(Datenerfassung!E135),\"\",Datenerfassung!E135)","v":""},"",{"$f":"IF(ISBLANK(Datenerfassung!O135),\"\",Datenerfassung!O135)","v":""},{"$f":"IF(ISBLANK(Datenerfassung!G135),\"\",Datenerfassung!G135)","v":""},{"$f":"IF(ISBLANK(Datenerfassung!M135),\"\",Datenerfassung!M135)","v":""},{"$f":"IF(ISBLANK(Datenerfassung!H135),\"\",Datenerfassung!H135)","v":""}]
[{"$f":"IF(ISBLANK(Datenerfassung!A136),\"\",Datenerfassung!A136)","v":""},{"$f":"IF(ISBLANK(Datenerfassung!B136),\"\",Datenerfassung!B136)","v":""},{"$f":"IF(ISBLANK(Datenerfassung!C136),\"\",Datenerfassung!C136)","v":""},{"$f":"IF(ISBLANK(Datenerfassung!I136),\"\",Datenerfassung!I136)","v":""},{"$f":"IF(ISBLANK(Datenerfassung!J136),\"\",Datenerfassung!J136)","v":""},"",{"$f":"IF(ISBLANK(Datenerfassung!L136),\"\",Datenerfassung!L136)","v":""},{"$f":"IF(ISBLANK(Datenerfassung!F136),\"\",Datenerfassung!F136)","v":""},{"$f":"IF(ISBLANK(Datenerfassung!D136),IF(COUNTBLANK(A126:H126)+COUNTBLANK(J126:O126)=14,\"\",\"- ohne Titel -\"),Datenerfassung!D136)","v":""},{"$f":"IF(ISBLANK(Datenerfassung!E136),\"\",Datenerfassung!E136)","v":""},"",{"$f":"IF(ISBLANK(Datenerfassung!O136),\"\",Datenerfassung!O136)","v":""},{"$f":"IF(ISBLANK(Datenerfassung!G136),\"\",Datenerfassung!G136)","v":""},{"$f":"IF(ISBLANK(Datenerfassung!M136),\"\",Datenerfassung!M136)","v":""},{"$f":"IF(ISBLANK(Datenerfassung!H136),\"\",Datenerfassung!H136)","v":""}]
[{"$f":"IF(ISBLANK(Datenerfassung!A137),\"\",Datenerfassung!A137)","v":""},{"$f":"IF(ISBLANK(Datenerfassung!B137),\"\",Datenerfassung!B137)","v":""},{"$f":"IF(ISBLANK(Datenerfassung!C137),\"\",Datenerfassung!C137)","v":""},{"$f":"IF(ISBLANK(Datenerfassung!I137),\"\",Datenerfassung!I137)","v":""},{"$f":"IF(ISBLANK(Datenerfassung!J137),\"\",Datenerfassung!J137)","v":""},"",{"$f":"IF(ISBLANK(Datenerfassung!L137),\"\",Datenerfassung!L137)","v":""},{"$f":"IF(ISBLANK(Datenerfassung!F137),\"\",Datenerfassung!F137)","v":""},{"$f":"IF(ISBLANK(Datenerfassung!D137),IF(COUNTBLANK(A127:H127)+COUNTBLANK(J127:O127)=14,\"\",\"- ohne Titel -\"),Datenerfassung!D137)","v":""},{"$f":"IF(ISBLANK(Datenerfassung!E137),\"\",Datenerfassung!E137)","v":""},"",{"$f":"IF(ISBLANK(Datenerfassung!O137),\"\",Datenerfassung!O137)","v":""},{"$f":"IF(ISBLANK(Datenerfassung!G137),\"\",Datenerfassung!G137)","v":""},{"$f":"IF(ISBLANK(Datenerfassung!M137),\"\",Datenerfassung!M137)","v":""},{"$f":"IF(ISBLANK(Datenerfassung!H137),\"\",Datenerfassung!H137)","v":""}]
[{"$f":"IF(ISBLANK(Datenerfassung!A138),\"\",Datenerfassung!A138)","v":""},{"$f":"IF(ISBLANK(Datenerfassung!B138),\"\",Datenerfassung!B138)","v":""},{"$f":"IF(ISBLANK(Datenerfassung!C138),\"\",Datenerfassung!C138)","v":""},{"$f":"IF(ISBLANK(Datenerfassung!I138),\"\",Datenerfassung!I138)","v":""},{"$f":"IF(ISBLANK(Datenerfassung!J138),\"\",Datenerfassung!J138)","v":""},"",{"$f":"IF(ISBLANK(Datenerfassung!L138),\"\",Datenerfassung!L138)","v":""},{"$f":"IF(ISBLANK(Datenerfassung!F138),\"\",Datenerfassung!F138)","v":""},{"$f":"IF(ISBLANK(Datenerfassung!D138),IF(COUNTBLANK(A128:H128)+COUNTBLANK(J128:O128)=14,\"\",\"- ohne Titel -\"),Datenerfassung!D138)","v":""},{"$f":"IF(ISBLANK(Datenerfassung!E138),\"\",Datenerfassung!E138)","v":""},"",{"$f":"IF(ISBLANK(Datenerfassung!O138),\"\",Datenerfassung!O138)","v":""},{"$f":"IF(ISBLANK(Datenerfassung!G138),\"\",Datenerfassung!G138)","v":""},{"$f":"IF(ISBLANK(Datenerfassung!M138),\"\",Datenerfassung!M138)","v":""},{"$f":"IF(ISBLANK(Datenerfassung!H138),\"\",Datenerfassung!H138)","v":""}]
[{"$f":"IF(ISBLANK(Datenerfassung!A139),\"\",Datenerfassung!A139)","v":""},{"$f":"IF(ISBLANK(Datenerfassung!B139),\"\",Datenerfassung!B139)","v":""},{"$f":"IF(ISBLANK(Datenerfassung!C139),\"\",Datenerfassung!C139)","v":""},{"$f":"IF(ISBLANK(Datenerfassung!I139),\"\",Datenerfassung!I139)","v":""},{"$f":"IF(ISBLANK(Datenerfassung!J139),\"\",Datenerfassung!J139)","v":""},"",{"$f":"IF(ISBLANK(Datenerfassung!L139),\"\",Datenerfassung!L139)","v":""},{"$f":"IF(ISBLANK(Datenerfassung!F139),\"\",Datenerfassung!F139)","v":""},{"$f":"IF(ISBLANK(Datenerfassung!D139),IF(COUNTBLANK(A129:H129)+COUNTBLANK(J129:O129)=14,\"\",\"- ohne Titel -\"),Datenerfassung!D139)","v":""},{"$f":"IF(ISBLANK(Datenerfassung!E139),\"\",Datenerfassung!E139)","v":""},"",{"$f":"IF(ISBLANK(Datenerfassung!O139),\"\",Datenerfassung!O139)","v":""},{"$f":"IF(ISBLANK(Datenerfassung!G139),\"\",Datenerfassung!G139)","v":""},{"$f":"IF(ISBLANK(Datenerfassung!M139),\"\",Datenerfassung!M139)","v":""},{"$f":"IF(ISBLANK(Datenerfassung!H139),\"\",Datenerfassung!H139)","v":""}]
[{"$f":"IF(ISBLANK(Datenerfassung!A140),\"\",Datenerfassung!A140)","v":""},{"$f":"IF(ISBLANK(Datenerfassung!B140),\"\",Datenerfassung!B140)","v":""},{"$f":"IF(ISBLANK(Datenerfassung!C140),\"\",Datenerfassung!C140)","v":""},{"$f":"IF(ISBLANK(Datenerfassung!I140),\"\",Datenerfassung!I140)","v":""},{"$f":"IF(ISBLANK(Datenerfassung!J140),\"\",Datenerfassung!J140)","v":""},"",{"$f":"IF(ISBLANK(Datenerfassung!L140),\"\",Datenerfassung!L140)","v":""},{"$f":"IF(ISBLANK(Datenerfassung!F140),\"\",Datenerfassung!F140)","v":""},{"$f":"IF(ISBLANK(Datenerfassung!D140),IF(COUNTBLANK(A130:H130)+COUNTBLANK(J130:O130)=14,\"\",\"- ohne Titel -\"),Datenerfassung!D140)","v":""},{"$f":"IF(ISBLANK(Datenerfassung!E140),\"\",Datenerfassung!E140)","v":""},"",{"$f":"IF(ISBLANK(Datenerfassung!O140),\"\",Datenerfassung!O140)","v":""},{"$f":"IF(ISBLANK(Datenerfassung!G140),\"\",Datenerfassung!G140)","v":""},{"$f":"IF(ISBLANK(Datenerfassung!M140),\"\",Datenerfassung!M140)","v":""},{"$f":"IF(ISBLANK(Datenerfassung!H140),\"\",Datenerfassung!H140)","v":""}]
[{"$f":"IF(ISBLANK(Datenerfassung!A141),\"\",Datenerfassung!A141)","v":""},{"$f":"IF(ISBLANK(Datenerfassung!B141),\"\",Datenerfassung!B141)","v":""},{"$f":"IF(ISBLANK(Datenerfassung!C141),\"\",Datenerfassung!C141)","v":""},{"$f":"IF(ISBLANK(Datenerfassung!I141),\"\",Datenerfassung!I141)","v":""},{"$f":"IF(ISBLANK(Datenerfassung!J141),\"\",Datenerfassung!J141)","v":""},{"$f":"IF(D131=\"\",\"\",IF(E131=\"\",D131,D131&\" - \"&E131))","v":""},{"$f":"IF(ISBLANK(Datenerfassung!L141),\"\",Datenerfassung!L141)","v":""},{"$f":"IF(ISBLANK(Datenerfassung!F141),\"\",Datenerfassung!F141)","v":""},{"$f":"IF(ISBLANK(Datenerfassung!D141),IF(COUNTBLANK(A131:H131)+COUNTBLANK(J131:O131)=14,\"\",\"- ohne Titel -\"),Datenerfassung!D141)","v":""},{"$f":"IF(ISBLANK(Datenerfassung!E141),\"\",Datenerfassung!E141)","v":""},{"$f":"IF(OR(E131=\"\",G131=\"\"),\"\",\"01.01.\"&RIGHT(E131,4)+G131+1)","v":""},{"$f":"IF(ISBLANK(Datenerfassung!O141),\"\",Datenerfassung!O141)","v":""},{"$f":"IF(ISBLANK(Datenerfassung!G141),\"\",Datenerfassung!G141)","v":""},{"$f":"IF(ISBLANK(Datenerfassung!M141),\"\",Datenerfassung!M141)","v":""},{"$f":"IF(ISBLANK(Datenerfassung!H141),\"\",Datenerfassung!H141)","v":""}]
[{"$f":"IF(ISBLANK(Datenerfassung!A142),\"\",Datenerfassung!A142)","v":""},{"$f":"IF(ISBLANK(Datenerfassung!B142),\"\",Datenerfassung!B142)","v":""},{"$f":"IF(ISBLANK(Datenerfassung!C142),\"\",Datenerfassung!C142)","v":""},{"$f":"IF(ISBLANK(Datenerfassung!I142),\"\",Datenerfassung!I142)","v":""},{"$f":"IF(ISBLANK(Datenerfassung!J142),\"\",Datenerfassung!J142)","v":""},"",{"$f":"IF(ISBLANK(Datenerfassung!L142),\"\",Datenerfassung!L142)","v":""},{"$f":"IF(ISBLANK(Datenerfassung!F142),\"\",Datenerfassung!F142)","v":""},{"$f":"IF(ISBLANK(Datenerfassung!D142),IF(COUNTBLANK(A132:H132)+COUNTBLANK(J132:O132)=14,\"\",\"- ohne Titel -\"),Datenerfassung!D142)","v":""},{"$f":"IF(ISBLANK(Datenerfassung!E142),\"\",Datenerfassung!E142)","v":""},"",{"$f":"IF(ISBLANK(Datenerfassung!O142),\"\",Datenerfassung!O142)","v":""},{"$f":"IF(ISBLANK(Datenerfassung!G142),\"\",Datenerfassung!G142)","v":""},{"$f":"IF(ISBLANK(Datenerfassung!M142),\"\",Datenerfassung!M142)","v":""},{"$f":"IF(ISBLANK(Datenerfassung!H142),\"\",Datenerfassung!H142)","v":""}]
[{"$f":"IF(ISBLANK(Datenerfassung!A143),\"\",Datenerfassung!A143)","v":""},{"$f":"IF(ISBLANK(Datenerfassung!B143),\"\",Datenerfassung!B143)","v":""},{"$f":"IF(ISBLANK(Datenerfassung!C143),\"\",Datenerfassung!C143)","v":""},{"$f":"IF(ISBLANK(Datenerfassung!I143),\"\",Datenerfassung!I143)","v":""},{"$f":"IF(ISBLANK(Datenerfassung!J143),\"\",Datenerfassung!J143)","v":""},"",{"$f":"IF(ISBLANK(Datenerfassung!L143),\"\",Datenerfassung!L143)","v":""},{"$f":"IF(ISBLANK(Datenerfassung!F143),\"\",Datenerfassung!F143)","v":""},{"$f":"IF(ISBLANK(Datenerfassung!D143),IF(COUNTBLANK(A133:H133)+COUNTBLANK(J133:O133)=14,\"\",\"- ohne Titel -\"),Datenerfassung!D143)","v":""},{"$f":"IF(ISBLANK(Datenerfassung!E143),\"\",Datenerfassung!E143)","v":""},"",{"$f":"IF(ISBLANK(Datenerfassung!O143),\"\",Datenerfassung!O143)","v":""},{"$f":"IF(ISBLANK(Datenerfassung!G143),\"\",Datenerfassung!G143)","v":""},{"$f":"IF(ISBLANK(Datenerfassung!M143),\"\",Datenerfassung!M143)","v":""},{"$f":"IF(ISBLANK(Datenerfassung!H143),\"\",Datenerfassung!H143)","v":""}]
[{"$f":"IF(ISBLANK(Datenerfassung!A144),\"\",Datenerfassung!A144)","v":""},{"$f":"IF(ISBLANK(Datenerfassung!B144),\"\",Datenerfassung!B144)","v":""},{"$f":"IF(ISBLANK(Datenerfassung!C144),\"\",Datenerfassung!C144)","v":""},{"$f":"IF(ISBLANK(Datenerfassung!I144),\"\",Datenerfassung!I144)","v":""},{"$f":"IF(ISBLANK(Datenerfassung!J144),\"\",Datenerfassung!J144)","v":""},"",{"$f":"IF(ISBLANK(Datenerfassung!L144),\"\",Datenerfassung!L144)","v":""},{"$f":"IF(ISBLANK(Datenerfassung!F144),\"\",Datenerfassung!F144)","v":""},{"$f":"IF(ISBLANK(Datenerfassung!D144),IF(COUNTBLANK(A134:H134)+COUNTBLANK(J134:O134)=14,\"\",\"- ohne Titel -\"),Datenerfassung!D144)","v":""},{"$f":"IF(ISBLANK(Datenerfassung!E144),\"\",Datenerfassung!E144)","v":""},"",{"$f":"IF(ISBLANK(Datenerfassung!O144),\"\",Datenerfassung!O144)","v":""},{"$f":"IF(ISBLANK(Datenerfassung!G144),\"\",Datenerfassung!G144)","v":""},{"$f":"IF(ISBLANK(Datenerfassung!M144),\"\",Datenerfassung!M144)","v":""},{"$f":"IF(ISBLANK(Datenerfassung!H144),\"\",Datenerfassung!H144)","v":""}]
[{"$f":"IF(ISBLANK(Datenerfassung!A145),\"\",Datenerfassung!A145)","v":""},{"$f":"IF(ISBLANK(Datenerfassung!B145),\"\",Datenerfassung!B145)","v":""},{"$f":"IF(ISBLANK(Datenerfassung!C145),\"\",Datenerfassung!C145)","v":""},{"$f":"IF(ISBLANK(Datenerfassung!I145),\"\",Datenerfassung!I145)","v":""},{"$f":"IF(ISBLANK(Datenerfassung!J145),\"\",Datenerfassung!J145)","v":""},"",{"$f":"IF(ISBLANK(Datenerfassung!L145),\"\",Datenerfassung!L145)","v":""},{"$f":"IF(ISBLANK(Datenerfassung!F145),\"\",Datenerfassung!F145)","v":""},{"$f":"IF(ISBLANK(Datenerfassung!D145),IF(COUNTBLANK(A135:H135)+COUNTBLANK(J135:O135)=14,\"\",\"- ohne Titel -\"),Datenerfassung!D145)","v":""},{"$f":"IF(ISBLANK(Datenerfassung!E145),\"\",Datenerfassung!E145)","v":""},"",{"$f":"IF(ISBLANK(Datenerfassung!O145),\"\",Datenerfassung!O145)","v":""},{"$f":"IF(ISBLANK(Datenerfassung!G145),\"\",Datenerfassung!G145)","v":""},{"$f":"IF(ISBLANK(Datenerfassung!M145),\"\",Datenerfassung!M145)","v":""},{"$f":"IF(ISBLANK(Datenerfassung!H145),\"\",Datenerfassung!H145)","v":""}]
[{"$f":"IF(ISBLANK(Datenerfassung!A146),\"\",Datenerfassung!A146)","v":""},{"$f":"IF(ISBLANK(Datenerfassung!B146),\"\",Datenerfassung!B146)","v":""},{"$f":"IF(ISBLANK(Datenerfassung!C146),\"\",Datenerfassung!C146)","v":""},{"$f":"IF(ISBLANK(Datenerfassung!I146),\"\",Datenerfassung!I146)","v":""},{"$f":"IF(ISBLANK(Datenerfassung!J146),\"\",Datenerfassung!J146)","v":""},"",{"$f":"IF(ISBLANK(Datenerfassung!L146),\"\",Datenerfassung!L146)","v":""},{"$f":"IF(ISBLANK(Datenerfassung!F146),\"\",Datenerfassung!F146)","v":""},{"$f":"IF(ISBLANK(Datenerfassung!D146),IF(COUNTBLANK(A136:H136)+COUNTBLANK(J136:O136)=14,\"\",\"- ohne Titel -\"),Datenerfassung!D146)","v":""},{"$f":"IF(ISBLANK(Datenerfassung!E146),\"\",Datenerfassung!E146)","v":""},"",{"$f":"IF(ISBLANK(Datenerfassung!O146),\"\",Datenerfassung!O146)","v":""},{"$f":"IF(ISBLANK(Datenerfassung!G146),\"\",Datenerfassung!G146)","v":""},{"$f":"IF(ISBLANK(Datenerfassung!M146),\"\",Datenerfassung!M146)","v":""},{"$f":"IF(ISBLANK(Datenerfassung!H146),\"\",Datenerfassung!H146)","v":""}]
[{"$f":"IF(ISBLANK(Datenerfassung!A147),\"\",Datenerfassung!A147)","v":""},{"$f":"IF(ISBLANK(Datenerfassung!B147),\"\",Datenerfassung!B147)","v":""},{"$f":"IF(ISBLANK(Datenerfassung!C147),\"\",Datenerfassung!C147)","v":""},{"$f":"IF(ISBLANK(Datenerfassung!I147),\"\",Datenerfassung!I147)","v":""},{"$f":"IF(ISBLANK(Datenerfassung!J147),\"\",Datenerfassung!J147)","v":""},"",{"$f":"IF(ISBLANK(Datenerfassung!L147),\"\",Datenerfassung!L147)","v":""},{"$f":"IF(ISBLANK(Datenerfassung!F147),\"\",Datenerfassung!F147)","v":""},{"$f":"IF(ISBLANK(Datenerfassung!D147),IF(COUNTBLANK(A137:H137)+COUNTBLANK(J137:O137)=14,\"\",\"- ohne Titel -\"),Datenerfassung!D147)","v":""},{"$f":"IF(ISBLANK(Datenerfassung!E147),\"\",Datenerfassung!E147)","v":""},"",{"$f":"IF(ISBLANK(Datenerfassung!O147),\"\",Datenerfassung!O147)","v":""},{"$f":"IF(ISBLANK(Datenerfassung!G147),\"\",Datenerfassung!G147)","v":""},{"$f":"IF(ISBLANK(Datenerfassung!M147),\"\",Datenerfassung!M147)","v":""},{"$f":"IF(ISBLANK(Datenerfassung!H147),\"\",Datenerfassung!H147)","v":""}]
[{"$f":"IF(ISBLANK(Datenerfassung!A148),\"\",Datenerfassung!A148)","v":""},{"$f":"IF(ISBLANK(Datenerfassung!B148),\"\",Datenerfassung!B148)","v":""},{"$f":"IF(ISBLANK(Datenerfassung!C148),\"\",Datenerfassung!C148)","v":""},{"$f":"IF(ISBLANK(Datenerfassung!I148),\"\",Datenerfassung!I148)","v":""},{"$f":"IF(ISBLANK(Datenerfassung!J148),\"\",Datenerfassung!J148)","v":""},"",{"$f":"IF(ISBLANK(Datenerfassung!L148),\"\",Datenerfassung!L148)","v":""},{"$f":"IF(ISBLANK(Datenerfassung!F148),\"\",Datenerfassung!F148)","v":""},{"$f":"IF(ISBLANK(Datenerfassung!D148),IF(COUNTBLANK(A138:H138)+COUNTBLANK(J138:O138)=14,\"\",\"- ohne Titel -\"),Datenerfassung!D148)","v":""},{"$f":"IF(ISBLANK(Datenerfassung!E148),\"\",Datenerfassung!E148)","v":""},"",{"$f":"IF(ISBLANK(Datenerfassung!O148),\"\",Datenerfassung!O148)","v":""},{"$f":"IF(ISBLANK(Datenerfassung!G148),\"\",Datenerfassung!G148)","v":""},{"$f":"IF(ISBLANK(Datenerfassung!M148),\"\",Datenerfassung!M148)","v":""},{"$f":"IF(ISBLANK(Datenerfassung!H148),\"\",Datenerfassung!H148)","v":""}]
[{"$f":"IF(ISBLANK(Datenerfassung!A149),\"\",Datenerfassung!A149)","v":""},{"$f":"IF(ISBLANK(Datenerfassung!B149),\"\",Datenerfassung!B149)","v":""},{"$f":"IF(ISBLANK(Datenerfassung!C149),\"\",Datenerfassung!C149)","v":""},{"$f":"IF(ISBLANK(Datenerfassung!I149),\"\",Datenerfassung!I149)","v":""},{"$f":"IF(ISBLANK(Datenerfassung!J149),\"\",Datenerfassung!J149)","v":""},"",{"$f":"IF(ISBLANK(Datenerfassung!L149),\"\",Datenerfassung!L149)","v":""},{"$f":"IF(ISBLANK(Datenerfassung!F149),\"\",Datenerfassung!F149)","v":""},{"$f":"IF(ISBLANK(Datenerfassung!D149),IF(COUNTBLANK(A139:H139)+COUNTBLANK(J139:O139)=14,\"\",\"- ohne Titel -\"),Datenerfassung!D149)","v":""},{"$f":"IF(ISBLANK(Datenerfassung!E149),\"\",Datenerfassung!E149)","v":""},"",{"$f":"IF(ISBLANK(Datenerfassung!O149),\"\",Datenerfassung!O149)","v":""},{"$f":"IF(ISBLANK(Datenerfassung!G149),\"\",Datenerfassung!G149)","v":""},{"$f":"IF(ISBLANK(Datenerfassung!M149),\"\",Datenerfassung!M149)","v":""},{"$f":"IF(ISBLANK(Datenerfassung!H149),\"\",Datenerfassung!H149)","v":""}]
[{"$f":"IF(ISBLANK(Datenerfassung!A150),\"\",Datenerfassung!A150)","v":""},{"$f":"IF(ISBLANK(Datenerfassung!B150),\"\",Datenerfassung!B150)","v":""},{"$f":"IF(ISBLANK(Datenerfassung!C150),\"\",Datenerfassung!C150)","v":""},{"$f":"IF(ISBLANK(Datenerfassung!I150),\"\",Datenerfassung!I150)","v":""},{"$f":"IF(ISBLANK(Datenerfassung!J150),\"\",Datenerfassung!J150)","v":""},"",{"$f":"IF(ISBLANK(Datenerfassung!L150),\"\",Datenerfassung!L150)","v":""},{"$f":"IF(ISBLANK(Datenerfassung!F150),\"\",Datenerfassung!F150)","v":""},{"$f":"IF(ISBLANK(Datenerfassung!D150),IF(COUNTBLANK(A140:H140)+COUNTBLANK(J140:O140)=14,\"\",\"- ohne Titel -\"),Datenerfassung!D150)","v":""},{"$f":"IF(ISBLANK(Datenerfassung!E150),\"\",Datenerfassung!E150)","v":""},"",{"$f":"IF(ISBLANK(Datenerfassung!O150),\"\",Datenerfassung!O150)","v":""},{"$f":"IF(ISBLANK(Datenerfassung!G150),\"\",Datenerfassung!G150)","v":""},{"$f":"IF(ISBLANK(Datenerfassung!M150),\"\",Datenerfassung!M150)","v":""},{"$f":"IF(ISBLANK(Datenerfassung!H150),\"\",Datenerfassung!H150)","v":""}]
[{"$f":"IF(ISBLANK(Datenerfassung!A151),\"\",Datenerfassung!A151)","v":""},{"$f":"IF(ISBLANK(Datenerfassung!B151),\"\",Datenerfassung!B151)","v":""},{"$f":"IF(ISBLANK(Datenerfassung!C151),\"\",Datenerfassung!C151)","v":""},{"$f":"IF(ISBLANK(Datenerfassung!I151),\"\",Datenerfassung!I151)","v":""},{"$f":"IF(ISBLANK(Datenerfassung!J151),\"\",Datenerfassung!J151)","v":""},"",{"$f":"IF(ISBLANK(Datenerfassung!L151),\"\",Datenerfassung!L151)","v":""},{"$f":"IF(ISBLANK(Datenerfassung!F151),\"\",Datenerfassung!F151)","v":""},{"$f":"IF(ISBLANK(Datenerfassung!D151),IF(COUNTBLANK(A141:H141)+COUNTBLANK(J141:O141)=14,\"\",\"- ohne Titel -\"),Datenerfassung!D151)","v":""},{"$f":"IF(ISBLANK(Datenerfassung!E151),\"\",Datenerfassung!E151)","v":""},"",{"$f":"IF(ISBLANK(Datenerfassung!O151),\"\",Datenerfassung!O151)","v":""},{"$f":"IF(ISBLANK(Datenerfassung!G151),\"\",Datenerfassung!G151)","v":""},{"$f":"IF(ISBLANK(Datenerfassung!M151),\"\",Datenerfassung!M151)","v":""},{"$f":"IF(ISBLANK(Datenerfassung!H151),\"\",Datenerfassung!H151)","v":""}]
[{"$f":"IF(ISBLANK(Datenerfassung!A152),\"\",Datenerfassung!A152)","v":""},{"$f":"IF(ISBLANK(Datenerfassung!B152),\"\",Datenerfassung!B152)","v":""},{"$f":"IF(ISBLANK(Datenerfassung!C152),\"\",Datenerfassung!C152)","v":""},{"$f":"IF(ISBLANK(Datenerfassung!I152),\"\",Datenerfassung!I152)","v":""},{"$f":"IF(ISBLANK(Datenerfassung!J152),\"\",Datenerfassung!J152)","v":""},"",{"$f":"IF(ISBLANK(Datenerfassung!L152),\"\",Datenerfassung!L152)","v":""},{"$f":"IF(ISBLANK(Datenerfassung!F152),\"\",Datenerfassung!F152)","v":""},{"$f":"IF(ISBLANK(Datenerfassung!D152),IF(COUNTBLANK(A142:H142)+COUNTBLANK(J142:O142)=14,\"\",\"- ohne Titel -\"),Datenerfassung!D152)","v":""},{"$f":"IF(ISBLANK(Datenerfassung!E152),\"\",Datenerfassung!E152)","v":""},"",{"$f":"IF(ISBLANK(Datenerfassung!O152),\"\",Datenerfassung!O152)","v":""},{"$f":"IF(ISBLANK(Datenerfassung!G152),\"\",Datenerfassung!G152)","v":""},{"$f":"IF(ISBLANK(Datenerfassung!M152),\"\",Datenerfassung!M152)","v":""},{"$f":"IF(ISBLANK(Datenerfassung!H152),\"\",Datenerfassung!H152)","v":""}]
[{"$f":"IF(ISBLANK(Datenerfassung!A153),\"\",Datenerfassung!A153)","v":""},{"$f":"IF(ISBLANK(Datenerfassung!B153),\"\",Datenerfassung!B153)","v":""},{"$f":"IF(ISBLANK(Datenerfassung!C153),\"\",Datenerfassung!C153)","v":""},{"$f":"IF(ISBLANK(Datenerfassung!I153),\"\",Datenerfassung!I153)","v":""},{"$f":"IF(ISBLANK(Datenerfassung!J153),\"\",Datenerfassung!J153)","v":""},"",{"$f":"IF(ISBLANK(Datenerfassung!L153),\"\",Datenerfassung!L153)","v":""},{"$f":"IF(ISBLANK(Datenerfassung!F153),\"\",Datenerfassung!F153)","v":""},{"$f":"IF(ISBLANK(Datenerfassung!D153),IF(COUNTBLANK(A143:H143)+COUNTBLANK(J143:O143)=14,\"\",\"- ohne Titel -\"),Datenerfassung!D153)","v":""},{"$f":"IF(ISBLANK(Datenerfassung!E153),\"\",Datenerfassung!E153)","v":""},"",{"$f":"IF(ISBLANK(Datenerfassung!O153),\"\",Datenerfassung!O153)","v":""},{"$f":"IF(ISBLANK(Datenerfassung!G153),\"\",Datenerfassung!G153)","v":""},{"$f":"IF(ISBLANK(Datenerfassung!M153),\"\",Datenerfassung!M153)","v":""},{"$f":"IF(ISBLANK(Datenerfassung!H153),\"\",Datenerfassung!H153)","v":""}]
[{"$f":"IF(ISBLANK(Datenerfassung!A154),\"\",Datenerfassung!A154)","v":""},{"$f":"IF(ISBLANK(Datenerfassung!B154),\"\",Datenerfassung!B154)","v":""},{"$f":"IF(ISBLANK(Datenerfassung!C154),\"\",Datenerfassung!C154)","v":""},{"$f":"IF(ISBLANK(Datenerfassung!I154),\"\",Datenerfassung!I154)","v":""},{"$f":"IF(ISBLANK(Datenerfassung!J154),\"\",Datenerfassung!J154)","v":""},"",{"$f":"IF(ISBLANK(Datenerfassung!L154),\"\",Datenerfassung!L154)","v":""},{"$f":"IF(ISBLANK(Datenerfassung!F154),\"\",Datenerfassung!F154)","v":""},{"$f":"IF(ISBLANK(Datenerfassung!D154),IF(COUNTBLANK(A144:H144)+COUNTBLANK(J144:O144)=14,\"\",\"- ohne Titel -\"),Datenerfassung!D154)","v":""},{"$f":"IF(ISBLANK(Datenerfassung!E154),\"\",Datenerfassung!E154)","v":""},"",{"$f":"IF(ISBLANK(Datenerfassung!O154),\"\",Datenerfassung!O154)","v":""},{"$f":"IF(ISBLANK(Datenerfassung!G154),\"\",Datenerfassung!G154)","v":""},{"$f":"IF(ISBLANK(Datenerfassung!M154),\"\",Datenerfassung!M154)","v":""},{"$f":"IF(ISBLANK(Datenerfassung!H154),\"\",Datenerfassung!H154)","v":""}]
[{"$f":"IF(ISBLANK(Datenerfassung!A155),\"\",Datenerfassung!A155)","v":""},{"$f":"IF(ISBLANK(Datenerfassung!B155),\"\",Datenerfassung!B155)","v":""},{"$f":"IF(ISBLANK(Datenerfassung!C155),\"\",Datenerfassung!C155)","v":""},{"$f":"IF(ISBLANK(Datenerfassung!I155),\"\",Datenerfassung!I155)","v":""},{"$f":"IF(ISBLANK(Datenerfassung!J155),\"\",Datenerfassung!J155)","v":""},"",{"$f":"IF(ISBLANK(Datenerfassung!L155),\"\",Datenerfassung!L155)","v":""},{"$f":"IF(ISBLANK(Datenerfassung!F155),\"\",Datenerfassung!F155)","v":""},{"$f":"IF(ISBLANK(Datenerfassung!D155),IF(COUNTBLANK(A145:H145)+COUNTBLANK(J145:O145)=14,\"\",\"- ohne Titel -\"),Datenerfassung!D155)","v":""},{"$f":"IF(ISBLANK(Datenerfassung!E155),\"\",Datenerfassung!E155)","v":""},"",{"$f":"IF(ISBLANK(Datenerfassung!O155),\"\",Datenerfassung!O155)","v":""},{"$f":"IF(ISBLANK(Datenerfassung!G155),\"\",Datenerfassung!G155)","v":""},{"$f":"IF(ISBLANK(Datenerfassung!M155),\"\",Datenerfassung!M155)","v":""},{"$f":"IF(ISBLANK(Datenerfassung!H155),\"\",Datenerfassung!H155)","v":""}]
[{"$f":"IF(ISBLANK(Datenerfassung!A156),\"\",Datenerfassung!A156)","v":""},{"$f":"IF(ISBLANK(Datenerfassung!B156),\"\",Datenerfassung!B156)","v":""},{"$f":"IF(ISBLANK(Datenerfassung!C156),\"\",Datenerfassung!C156)","v":""},{"$f":"IF(ISBLANK(Datenerfassung!I156),\"\",Datenerfassung!I156)","v":""},{"$f":"IF(ISBLANK(Datenerfassung!J156),\"\",Datenerfassung!J156)","v":""},"",{"$f":"IF(ISBLANK(Datenerfassung!L156),\"\",Datenerfassung!L156)","v":""},{"$f":"IF(ISBLANK(Datenerfassung!F156),\"\",Datenerfassung!F156)","v":""},{"$f":"IF(ISBLANK(Datenerfassung!D156),IF(COUNTBLANK(A146:H146)+COUNTBLANK(J146:O146)=14,\"\",\"- ohne Titel -\"),Datenerfassung!D156)","v":""},{"$f":"IF(ISBLANK(Datenerfassung!E156),\"\",Datenerfassung!E156)","v":""},"",{"$f":"IF(ISBLANK(Datenerfassung!O156),\"\",Datenerfassung!O156)","v":""},{"$f":"IF(ISBLANK(Datenerfassung!G156),\"\",Datenerfassung!G156)","v":""},{"$f":"IF(ISBLANK(Datenerfassung!M156),\"\",Datenerfassung!M156)","v":""},{"$f":"IF(ISBLANK(Datenerfassung!H156),\"\",Datenerfassung!H156)","v":""}]
[{"$f":"IF(ISBLANK(Datenerfassung!A157),\"\",Datenerfassung!A157)","v":""},{"$f":"IF(ISBLANK(Datenerfassung!B157),\"\",Datenerfassung!B157)","v":""},{"$f":"IF(ISBLANK(Datenerfassung!C157),\"\",Datenerfassung!C157)","v":""},{"$f":"IF(ISBLANK(Datenerfassung!I157),\"\",Datenerfassung!I157)","v":""},{"$f":"IF(ISBLANK(Datenerfassung!J157),\"\",Datenerfassung!J157)","v":""},"",{"$f":"IF(ISBLANK(Datenerfassung!L157),\"\",Datenerfassung!L157)","v":""},{"$f":"IF(ISBLANK(Datenerfassung!F157),\"\",Datenerfassung!F157)","v":""},{"$f":"IF(ISBLANK(Datenerfassung!D157),IF(COUNTBLANK(A147:H147)+COUNTBLANK(J147:O147)=14,\"\",\"- ohne Titel -\"),Datenerfassung!D157)","v":""},{"$f":"IF(ISBLANK(Datenerfassung!E157),\"\",Datenerfassung!E157)","v":""},"",{"$f":"IF(ISBLANK(Datenerfassung!O157),\"\",Datenerfassung!O157)","v":""},{"$f":"IF(ISBLANK(Datenerfassung!G157),\"\",Datenerfassung!G157)","v":""},{"$f":"IF(ISBLANK(Datenerfassung!M157),\"\",Datenerfassung!M157)","v":""},{"$f":"IF(ISBLANK(Datenerfassung!H157),\"\",Datenerfassung!H157)","v":""}]
[{"$f":"IF(ISBLANK(Datenerfassung!A158),\"\",Datenerfassung!A158)","v":""},{"$f":"IF(ISBLANK(Datenerfassung!B158),\"\",Datenerfassung!B158)","v":""},{"$f":"IF(ISBLANK(Datenerfassung!C158),\"\",Datenerfassung!C158)","v":""},{"$f":"IF(ISBLANK(Datenerfassung!I158),\"\",Datenerfassung!I158)","v":""},{"$f":"IF(ISBLANK(Datenerfassung!J158),\"\",Datenerfassung!J158)","v":""},"",{"$f":"IF(ISBLANK(Datenerfassung!L158),\"\",Datenerfassung!L158)","v":""},{"$f":"IF(ISBLANK(Datenerfassung!F158),\"\",Datenerfassung!F158)","v":""},{"$f":"IF(ISBLANK(Datenerfassung!D158),IF(COUNTBLANK(A148:H148)+COUNTBLANK(J148:O148)=14,\"\",\"- ohne Titel -\"),Datenerfassung!D158)","v":""},{"$f":"IF(ISBLANK(Datenerfassung!E158),\"\",Datenerfassung!E158)","v":""},"",{"$f":"IF(ISBLANK(Datenerfassung!O158),\"\",Datenerfassung!O158)","v":""},{"$f":"IF(ISBLANK(Datenerfassung!G158),\"\",Datenerfassung!G158)","v":""},{"$f":"IF(ISBLANK(Datenerfassung!M158),\"\",Datenerfassung!M158)","v":""},{"$f":"IF(ISBLANK(Datenerfassung!H158),\"\",Datenerfassung!H158)","v":""}]
[{"$f":"IF(ISBLANK(Datenerfassung!A159),\"\",Datenerfassung!A159)","v":""},{"$f":"IF(ISBLANK(Datenerfassung!B159),\"\",Datenerfassung!B159)","v":""},{"$f":"IF(ISBLANK(Datenerfassung!C159),\"\",Datenerfassung!C159)","v":""},{"$f":"IF(ISBLANK(Datenerfassung!I159),\"\",Datenerfassung!I159)","v":""},{"$f":"IF(ISBLANK(Datenerfassung!J159),\"\",Datenerfassung!J159)","v":""},"",{"$f":"IF(ISBLANK(Datenerfassung!L159),\"\",Datenerfassung!L159)","v":""},{"$f":"IF(ISBLANK(Datenerfassung!F159),\"\",Datenerfassung!F159)","v":""},{"$f":"IF(ISBLANK(Datenerfassung!D159),IF(COUNTBLANK(A149:H149)+COUNTBLANK(J149:O149)=14,\"\",\"- ohne Titel -\"),Datenerfassung!D159)","v":""},{"$f":"IF(ISBLANK(Datenerfassung!E159),\"\",Datenerfassung!E159)","v":""},"",{"$f":"IF(ISBLANK(Datenerfassung!O159),\"\",Datenerfassung!O159)","v":""},{"$f":"IF(ISBLANK(Datenerfassung!G159),\"\",Datenerfassung!G159)","v":""},{"$f":"IF(ISBLANK(Datenerfassung!M159),\"\",Datenerfassung!M159)","v":""},{"$f":"IF(ISBLANK(Datenerfassung!H159),\"\",Datenerfassung!H159)","v":""}]
[{"$f":"IF(ISBLANK(Datenerfassung!A160),\"\",Datenerfassung!A160)","v":""},{"$f":"IF(ISBLANK(Datenerfassung!B160),\"\",Datenerfassung!B160)","v":""},{"$f":"IF(ISBLANK(Datenerfassung!C160),\"\",Datenerfassung!C160)","v":""},{"$f":"IF(ISBLANK(Datenerfassung!I160),\"\",Datenerfassung!I160)","v":""},{"$f":"IF(ISBLANK(Datenerfassung!J160),\"\",Datenerfassung!J160)","v":""},"",{"$f":"IF(ISBLANK(Datenerfassung!L160),\"\",Datenerfassung!L160)","v":""},{"$f":"IF(ISBLANK(Datenerfassung!F160),\"\",Datenerfassung!F160)","v":""},{"$f":"IF(ISBLANK(Datenerfassung!D160),IF(COUNTBLANK(A150:H150)+COUNTBLANK(J150:O150)=14,\"\",\"- ohne Titel -\"),Datenerfassung!D160)","v":""},{"$f":"IF(ISBLANK(Datenerfassung!E160),\"\",Datenerfassung!E160)","v":""},"",{"$f":"IF(ISBLANK(Datenerfassung!O160),\"\",Datenerfassung!O160)","v":""},{"$f":"IF(ISBLANK(Datenerfassung!G160),\"\",Datenerfassung!G160)","v":""},{"$f":"IF(ISBLANK(Datenerfassung!M160),\"\",Datenerfassung!M160)","v":""},{"$f":"IF(ISBLANK(Datenerfassung!H160),\"\",Datenerfassung!H160)","v":""}]
[{"$f":"IF(ISBLANK(Datenerfassung!A161),\"\",Datenerfassung!A161)","v":""},{"$f":"IF(ISBLANK(Datenerfassung!B161),\"\",Datenerfassung!B161)","v":""},{"$f":"IF(ISBLANK(Datenerfassung!C161),\"\",Datenerfassung!C161)","v":""},{"$f":"IF(ISBLANK(Datenerfassung!I161),\"\",Datenerfassung!I161)","v":""},{"$f":"IF(ISBLANK(Datenerfassung!J161),\"\",Datenerfassung!J161)","v":""},"",{"$f":"IF(ISBLANK(Datenerfassung!L161),\"\",Datenerfassung!L161)","v":""},{"$f":"IF(ISBLANK(Datenerfassung!F161),\"\",Datenerfassung!F161)","v":""},{"$f":"IF(ISBLANK(Datenerfassung!D161),IF(COUNTBLANK(A151:H151)+COUNTBLANK(J151:O151)=14,\"\",\"- ohne Titel -\"),Datenerfassung!D161)","v":""},{"$f":"IF(ISBLANK(Datenerfassung!E161),\"\",Datenerfassung!E161)","v":""},"",{"$f":"IF(ISBLANK(Datenerfassung!O161),\"\",Datenerfassung!O161)","v":""},{"$f":"IF(ISBLANK(Datenerfassung!G161),\"\",Datenerfassung!G161)","v":""},{"$f":"IF(ISBLANK(Datenerfassung!M161),\"\",Datenerfassung!M161)","v":""},{"$f":"IF(ISBLANK(Datenerfassung!H161),\"\",Datenerfassung!H161)","v":""}]
[{"$f":"IF(ISBLANK(Datenerfassung!A162),\"\",Datenerfassung!A162)","v":""},{"$f":"IF(ISBLANK(Datenerfassung!B162),\"\",Datenerfassung!B162)","v":""},{"$f":"IF(ISBLANK(Datenerfassung!C162),\"\",Datenerfassung!C162)","v":""},{"$f":"IF(ISBLANK(Datenerfassung!I162),\"\",Datenerfassung!I162)","v":""},{"$f":"IF(ISBLANK(Datenerfassung!J162),\"\",Datenerfassung!J162)","v":""},"",{"$f":"IF(ISBLANK(Datenerfassung!L162),\"\",Datenerfassung!L162)","v":""},{"$f":"IF(ISBLANK(Datenerfassung!F162),\"\",Datenerfassung!F162)","v":""},{"$f":"IF(ISBLANK(Datenerfassung!D162),IF(COUNTBLANK(A152:H152)+COUNTBLANK(J152:O152)=14,\"\",\"- ohne Titel -\"),Datenerfassung!D162)","v":""},{"$f":"IF(ISBLANK(Datenerfassung!E162),\"\",Datenerfassung!E162)","v":""},"",{"$f":"IF(ISBLANK(Datenerfassung!O162),\"\",Datenerfassung!O162)","v":""},{"$f":"IF(ISBLANK(Datenerfassung!G162),\"\",Datenerfassung!G162)","v":""},{"$f":"IF(ISBLANK(Datenerfassung!M162),\"\",Datenerfassung!M162)","v":""},{"$f":"IF(ISBLANK(Datenerfassung!H162),\"\",Datenerfassung!H162)","v":""}]
[{"$f":"IF(ISBLANK(Datenerfassung!A163),\"\",Datenerfassung!A163)","v":""},{"$f":"IF(ISBLANK(Datenerfassung!B163),\"\",Datenerfassung!B163)","v":""},{"$f":"IF(ISBLANK(Datenerfassung!C163),\"\",Datenerfassung!C163)","v":""},{"$f":"IF(ISBLANK(Datenerfassung!I163),\"\",Datenerfassung!I163)","v":""},{"$f":"IF(ISBLANK(Datenerfassung!J163),\"\",Datenerfassung!J163)","v":""},"",{"$f":"IF(ISBLANK(Datenerfassung!L163),\"\",Datenerfassung!L163)","v":""},{"$f":"IF(ISBLANK(Datenerfassung!F163),\"\",Datenerfassung!F163)","v":""},{"$f":"IF(ISBLANK(Datenerfassung!D163),IF(COUNTBLANK(A153:H153)+COUNTBLANK(J153:O153)=14,\"\",\"- ohne Titel -\"),Datenerfassung!D163)","v":""},{"$f":"IF(ISBLANK(Datenerfassung!E163),\"\",Datenerfassung!E163)","v":""},"",{"$f":"IF(ISBLANK(Datenerfassung!O163),\"\",Datenerfassung!O163)","v":""},{"$f":"IF(ISBLANK(Datenerfassung!G163),\"\",Datenerfassung!G163)","v":""},{"$f":"IF(ISBLANK(Datenerfassung!M163),\"\",Datenerfassung!M163)","v":""},{"$f":"IF(ISBLANK(Datenerfassung!H163),\"\",Datenerfassung!H163)","v":""}]
[{"$f":"IF(ISBLANK(Datenerfassung!A164),\"\",Datenerfassung!A164)","v":""},{"$f":"IF(ISBLANK(Datenerfassung!B164),\"\",Datenerfassung!B164)","v":""},{"$f":"IF(ISBLANK(Datenerfassung!C164),\"\",Datenerfassung!C164)","v":""},{"$f":"IF(ISBLANK(Datenerfassung!I164),\"\",Datenerfassung!I164)","v":""},{"$f":"IF(ISBLANK(Datenerfassung!J164),\"\",Datenerfassung!J164)","v":""},"",{"$f":"IF(ISBLANK(Datenerfassung!L164),\"\",Datenerfassung!L164)","v":""},{"$f":"IF(ISBLANK(Datenerfassung!F164),\"\",Datenerfassung!F164)","v":""},{"$f":"IF(ISBLANK(Datenerfassung!D164),IF(COUNTBLANK(A154:H154)+COUNTBLANK(J154:O154)=14,\"\",\"- ohne Titel -\"),Datenerfassung!D164)","v":""},{"$f":"IF(ISBLANK(Datenerfassung!E164),\"\",Datenerfassung!E164)","v":""},"",{"$f":"IF(ISBLANK(Datenerfassung!O164),\"\",Datenerfassung!O164)","v":""},{"$f":"IF(ISBLANK(Datenerfassung!G164),\"\",Datenerfassung!G164)","v":""},{"$f":"IF(ISBLANK(Datenerfassung!M164),\"\",Datenerfassung!M164)","v":""},{"$f":"IF(ISBLANK(Datenerfassung!H164),\"\",Datenerfassung!H164)","v":""}]
[{"$f":"IF(ISBLANK(Datenerfassung!A165),\"\",Datenerfassung!A165)","v":""},{"$f":"IF(ISBLANK(Datenerfassung!B165),\"\",Datenerfassung!B165)","v":""},{"$f":"IF(ISBLANK(Datenerfassung!C165),\"\",Datenerfassung!C165)","v":""},{"$f":"IF(ISBLANK(Datenerfassung!I165),\"\",Datenerfassung!I165)","v":""},{"$f":"IF(ISBLANK(Datenerfassung!J165),\"\",Datenerfassung!J165)","v":""},"",{"$f":"IF(ISBLANK(Datenerfassung!L165),\"\",Datenerfassung!L165)","v":""},{"$f":"IF(ISBLANK(Datenerfassung!F165),\"\",Datenerfassung!F165)","v":""},{"$f":"IF(ISBLANK(Datenerfassung!D165),IF(COUNTBLANK(A155:H155)+COUNTBLANK(J155:O155)=14,\"\",\"- ohne Titel -\"),Datenerfassung!D165)","v":""},{"$f":"IF(ISBLANK(Datenerfassung!E165),\"\",Datenerfassung!E165)","v":""},"",{"$f":"IF(ISBLANK(Datenerfassung!O165),\"\",Datenerfassung!O165)","v":""},{"$f":"IF(ISBLANK(Datenerfassung!G165),\"\",Datenerfassung!G165)","v":""},{"$f":"IF(ISBLANK(Datenerfassung!M165),\"\",Datenerfassung!M165)","v":""},{"$f":"IF(ISBLANK(Datenerfassung!H165),\"\",Datenerfassung!H165)","v":""}]
[{"$f":"IF(ISBLANK(Datenerfassung!A166),\"\",Datenerfassung!A166)","v":""},{"$f":"IF(ISBLANK(Datenerfassung!B166),\"\",Datenerfassung!B166)","v":""},{"$f":"IF(ISBLANK(Datenerfassung!C166),\"\",Datenerfassung!C166)","v":""},{"$f":"IF(ISBLANK(Datenerfassung!I166),\"\",Datenerfassung!I166)","v":""},{"$f":"IF(ISBLANK(Datenerfassung!J166),\"\",Datenerfassung!J166)","v":""},"",{"$f":"IF(ISBLANK(Datenerfassung!L166),\"\",Datenerfassung!L166)","v":""},{"$f":"IF(ISBLANK(Datenerfassung!F166),\"\",Datenerfassung!F166)","v":""},{"$f":"IF(ISBLANK(Datenerfassung!D166),IF(COUNTBLANK(A156:H156)+COUNTBLANK(J156:O156)=14,\"\",\"- ohne Titel -\"),Datenerfassung!D166)","v":""},{"$f":"IF(ISBLANK(Datenerfassung!E166),\"\",Datenerfassung!E166)","v":""},"",{"$f":"IF(ISBLANK(Datenerfassung!O166),\"\",Datenerfassung!O166)","v":""},{"$f":"IF(ISBLANK(Datenerfassung!G166),\"\",Datenerfassung!G166)","v":""},{"$f":"IF(ISBLANK(Datenerfassung!M166),\"\",Datenerfassung!M166)","v":""},{"$f":"IF(ISBLANK(Datenerfassung!H166),\"\",Datenerfassung!H166)","v":""}]
[{"$f":"IF(ISBLANK(Datenerfassung!A167),\"\",Datenerfassung!A167)","v":""},{"$f":"IF(ISBLANK(Datenerfassung!B167),\"\",Datenerfassung!B167)","v":""},{"$f":"IF(ISBLANK(Datenerfassung!C167),\"\",Datenerfassung!C167)","v":""},{"$f":"IF(ISBLANK(Datenerfassung!I167),\"\",Datenerfassung!I167)","v":""},{"$f":"IF(ISBLANK(Datenerfassung!J167),\"\",Datenerfassung!J167)","v":""},"",{"$f":"IF(ISBLANK(Datenerfassung!L167),\"\",Datenerfassung!L167)","v":""},{"$f":"IF(ISBLANK(Datenerfassung!F167),\"\",Datenerfassung!F167)","v":""},{"$f":"IF(ISBLANK(Datenerfassung!D167),IF(COUNTBLANK(A157:H157)+COUNTBLANK(J157:O157)=14,\"\",\"- ohne Titel -\"),Datenerfassung!D167)","v":""},{"$f":"IF(ISBLANK(Datenerfassung!E167),\"\",Datenerfassung!E167)","v":""},"",{"$f":"IF(ISBLANK(Datenerfassung!O167),\"\",Datenerfassung!O167)","v":""},{"$f":"IF(ISBLANK(Datenerfassung!G167),\"\",Datenerfassung!G167)","v":""},{"$f":"IF(ISBLANK(Datenerfassung!M167),\"\",Datenerfassung!M167)","v":""},{"$f":"IF(ISBLANK(Datenerfassung!H167),\"\",Datenerfassung!H167)","v":""}]
[{"$f":"IF(ISBLANK(Datenerfassung!A168),\"\",Datenerfassung!A168)","v":""},{"$f":"IF(ISBLANK(Datenerfassung!B168),\"\",Datenerfassung!B168)","v":""},{"$f":"IF(ISBLANK(Datenerfassung!C168),\"\",Datenerfassung!C168)","v":""},{"$f":"IF(ISBLANK(Datenerfassung!I168),\"\",Datenerfassung!I168)","v":""},{"$f":"IF(ISBLANK(Datenerfassung!J168),\"\",Datenerfassung!J168)","v":""},"",{"$f":"IF(ISBLANK(Datenerfassung!L168),\"\",Datenerfassung!L168)","v":""},{"$f":"IF(ISBLANK(Datenerfassung!F168),\"\",Datenerfassung!F168)","v":""},{"$f":"IF(ISBLANK(Datenerfassung!D168),IF(COUNTBLANK(A158:H158)+COUNTBLANK(J158:O158)=14,\"\",\"- ohne Titel -\"),Datenerfassung!D168)","v":""},{"$f":"IF(ISBLANK(Datenerfassung!E168),\"\",Datenerfassung!E168)","v":""},"",{"$f":"IF(ISBLANK(Datenerfassung!O168),\"\",Datenerfassung!O168)","v":""},{"$f":"IF(ISBLANK(Datenerfassung!G168),\"\",Datenerfassung!G168)","v":""},{"$f":"IF(ISBLANK(Datenerfassung!M168),\"\",Datenerfassung!M168)","v":""},{"$f":"IF(ISBLANK(Datenerfassung!H168),\"\",Datenerfassung!H168)","v":""}]
[{"$f":"IF(ISBLANK(Datenerfassung!A169),\"\",Datenerfassung!A169)","v":""},{"$f":"IF(ISBLANK(Datenerfassung!B169),\"\",Datenerfassung!B169)","v":""},{"$f":"IF(ISBLANK(Datenerfassung!C169),\"\",Datenerfassung!C169)","v":""},{"$f":"IF(ISBLANK(Datenerfassung!I169),\"\",Datenerfassung!I169)","v":""},{"$f":"IF(ISBLANK(Datenerfassung!J169),\"\",Datenerfassung!J169)","v":""},"",{"$f":"IF(ISBLANK(Datenerfassung!L169),\"\",Datenerfassung!L169)","v":""},{"$f":"IF(ISBLANK(Datenerfassung!F169),\"\",Datenerfassung!F169)","v":""},{"$f":"IF(ISBLANK(Datenerfassung!D169),IF(COUNTBLANK(A159:H159)+COUNTBLANK(J159:O159)=14,\"\",\"- ohne Titel -\"),Datenerfassung!D169)","v":""},{"$f":"IF(ISBLANK(Datenerfassung!E169),\"\",Datenerfassung!E169)","v":""},"",{"$f":"IF(ISBLANK(Datenerfassung!O169),\"\",Datenerfassung!O169)","v":""},{"$f":"IF(ISBLANK(Datenerfassung!G169),\"\",Datenerfassung!G169)","v":""},{"$f":"IF(ISBLANK(Datenerfassung!M169),\"\",Datenerfassung!M169)","v":""},{"$f":"IF(ISBLANK(Datenerfassung!H169),\"\",Datenerfassung!H169)","v":""}]
[{"$f":"IF(ISBLANK(Datenerfassung!A170),\"\",Datenerfassung!A170)","v":""},{"$f":"IF(ISBLANK(Datenerfassung!B170),\"\",Datenerfassung!B170)","v":""},{"$f":"IF(ISBLANK(Datenerfassung!C170),\"\",Datenerfassung!C170)","v":""},{"$f":"IF(ISBLANK(Datenerfassung!I170),\"\",Datenerfassung!I170)","v":""},{"$f":"IF(ISBLANK(Datenerfassung!J170),\"\",Datenerfassung!J170)","v":""},"",{"$f":"IF(ISBLANK(Datenerfassung!L170),\"\",Datenerfassung!L170)","v":""},{"$f":"IF(ISBLANK(Datenerfassung!F170),\"\",Datenerfassung!F170)","v":""},{"$f":"IF(ISBLANK(Datenerfassung!D170),IF(COUNTBLANK(A160:H160)+COUNTBLANK(J160:O160)=14,\"\",\"- ohne Titel -\"),Datenerfassung!D170)","v":""},{"$f":"IF(ISBLANK(Datenerfassung!E170),\"\",Datenerfassung!E170)","v":""},"",{"$f":"IF(ISBLANK(Datenerfassung!O170),\"\",Datenerfassung!O170)","v":""},{"$f":"IF(ISBLANK(Datenerfassung!G170),\"\",Datenerfassung!G170)","v":""},{"$f":"IF(ISBLANK(Datenerfassung!M170),\"\",Datenerfassung!M170)","v":""},{"$f":"IF(ISBLANK(Datenerfassung!H170),\"\",Datenerfassung!H170)","v":""}]
[{"$f":"IF(ISBLANK(Datenerfassung!A171),\"\",Datenerfassung!A171)","v":""},{"$f":"IF(ISBLANK(Datenerfassung!B171),\"\",Datenerfassung!B171)","v":""},{"$f":"IF(ISBLANK(Datenerfassung!C171),\"\",Datenerfassung!C171)","v":""},{"$f":"IF(ISBLANK(Datenerfassung!I171),\"\",Datenerfassung!I171)","v":""},{"$f":"IF(ISBLANK(Datenerfassung!J171),\"\",Datenerfassung!J171)","v":""},"",{"$f":"IF(ISBLANK(Datenerfassung!L171),\"\",Datenerfassung!L171)","v":""},{"$f":"IF(ISBLANK(Datenerfassung!F171),\"\",Datenerfassung!F171)","v":""},{"$f":"IF(ISBLANK(Datenerfassung!D171),IF(COUNTBLANK(A161:H161)+COUNTBLANK(J161:O161)=14,\"\",\"- ohne Titel -\"),Datenerfassung!D171)","v":""},{"$f":"IF(ISBLANK(Datenerfassung!E171),\"\",Datenerfassung!E171)","v":""},"",{"$f":"IF(ISBLANK(Datenerfassung!O171),\"\",Datenerfassung!O171)","v":""},{"$f":"IF(ISBLANK(Datenerfassung!G171),\"\",Datenerfassung!G171)","v":""},{"$f":"IF(ISBLANK(Datenerfassung!M171),\"\",Datenerfassung!M171)","v":""},{"$f":"IF(ISBLANK(Datenerfassung!H171),\"\",Datenerfassung!H171)","v":""}]
[{"$f":"IF(ISBLANK(Datenerfassung!A172),\"\",Datenerfassung!A172)","v":""},{"$f":"IF(ISBLANK(Datenerfassung!B172),\"\",Datenerfassung!B172)","v":""},{"$f":"IF(ISBLANK(Datenerfassung!C172),\"\",Datenerfassung!C172)","v":""},{"$f":"IF(ISBLANK(Datenerfassung!I172),\"\",Datenerfassung!I172)","v":""},{"$f":"IF(ISBLANK(Datenerfassung!J172),\"\",Datenerfassung!J172)","v":""},"",{"$f":"IF(ISBLANK(Datenerfassung!L172),\"\",Datenerfassung!L172)","v":""},{"$f":"IF(ISBLANK(Datenerfassung!F172),\"\",Datenerfassung!F172)","v":""},{"$f":"IF(ISBLANK(Datenerfassung!D172),IF(COUNTBLANK(A162:H162)+COUNTBLANK(J162:O162)=14,\"\",\"- ohne Titel -\"),Datenerfassung!D172)","v":""},{"$f":"IF(ISBLANK(Datenerfassung!E172),\"\",Datenerfassung!E172)","v":""},"",{"$f":"IF(ISBLANK(Datenerfassung!O172),\"\",Datenerfassung!O172)","v":""},{"$f":"IF(ISBLANK(Datenerfassung!G172),\"\",Datenerfassung!G172)","v":""},{"$f":"IF(ISBLANK(Datenerfassung!M172),\"\",Datenerfassung!M172)","v":""},{"$f":"IF(ISBLANK(Datenerfassung!H172),\"\",Datenerfassung!H172)","v":""}]
[{"$f":"IF(ISBLANK(Datenerfassung!A173),\"\",Datenerfassung!A173)","v":""},{"$f":"IF(ISBLANK(Datenerfassung!B173),\"\",Datenerfassung!B173)","v":""},{"$f":"IF(ISBLANK(Datenerfassung!C173),\"\",Datenerfassung!C173)","v":""},{"$f":"IF(ISBLANK(Datenerfassung!I173),\"\",Datenerfassung!I173)","v":""},{"$f":"IF(ISBLANK(Datenerfassung!J173),\"\",Datenerfassung!J173)","v":""},"",{"$f":"IF(ISBLANK(Datenerfassung!L173),\"\",Datenerfassung!L173)","v":""},{"$f":"IF(ISBLANK(Datenerfassung!F173),\"\",Datenerfassung!F173)","v":""},{"$f":"IF(ISBLANK(Datenerfassung!D173),IF(COUNTBLANK(A163:H163)+COUNTBLANK(J163:O163)=14,\"\",\"- ohne Titel -\"),Datenerfassung!D173)","v":""},{"$f":"IF(ISBLANK(Datenerfassung!E173),\"\",Datenerfassung!E173)","v":""},"",{"$f":"IF(ISBLANK(Datenerfassung!O173),\"\",Datenerfassung!O173)","v":""},{"$f":"IF(ISBLANK(Datenerfassung!G173),\"\",Datenerfassung!G173)","v":""},{"$f":"IF(ISBLANK(Datenerfassung!M173),\"\",Datenerfassung!M173)","v":""},{"$f":"IF(ISBLANK(Datenerfassung!H173),\"\",Datenerfassung!H173)","v":""}]
[{"$f":"IF(ISBLANK(Datenerfassung!A174),\"\",Datenerfassung!A174)","v":""},{"$f":"IF(ISBLANK(Datenerfassung!B174),\"\",Datenerfassung!B174)","v":""},{"$f":"IF(ISBLANK(Datenerfassung!C174),\"\",Datenerfassung!C174)","v":""},{"$f":"IF(ISBLANK(Datenerfassung!I174),\"\",Datenerfassung!I174)","v":""},{"$f":"IF(ISBLANK(Datenerfassung!J174),\"\",Datenerfassung!J174)","v":""},"",{"$f":"IF(ISBLANK(Datenerfassung!L174),\"\",Datenerfassung!L174)","v":""},{"$f":"IF(ISBLANK(Datenerfassung!F174),\"\",Datenerfassung!F174)","v":""},{"$f":"IF(ISBLANK(Datenerfassung!D174),IF(COUNTBLANK(A164:H164)+COUNTBLANK(J164:O164)=14,\"\",\"- ohne Titel -\"),Datenerfassung!D174)","v":""},{"$f":"IF(ISBLANK(Datenerfassung!E174),\"\",Datenerfassung!E174)","v":""},"",{"$f":"IF(ISBLANK(Datenerfassung!O174),\"\",Datenerfassung!O174)","v":""},{"$f":"IF(ISBLANK(Datenerfassung!G174),\"\",Datenerfassung!G174)","v":""},{"$f":"IF(ISBLANK(Datenerfassung!M174),\"\",Datenerfassung!M174)","v":""},{"$f":"IF(ISBLANK(Datenerfassung!H174),\"\",Datenerfassung!H174)","v":""}]
[{"$f":"IF(ISBLANK(Datenerfassung!A175),\"\",Datenerfassung!A175)","v":""},{"$f":"IF(ISBLANK(Datenerfassung!B175),\"\",Datenerfassung!B175)","v":""},{"$f":"IF(ISBLANK(Datenerfassung!C175),\"\",Datenerfassung!C175)","v":""},{"$f":"IF(ISBLANK(Datenerfassung!I175),\"\",Datenerfassung!I175)","v":""},{"$f":"IF(ISBLANK(Datenerfassung!J175),\"\",Datenerfassung!J175)","v":""},"",{"$f":"IF(ISBLANK(Datenerfassung!L175),\"\",Datenerfassung!L175)","v":""},{"$f":"IF(ISBLANK(Datenerfassung!F175),\"\",Datenerfassung!F175)","v":""},{"$f":"IF(ISBLANK(Datenerfassung!D175),IF(COUNTBLANK(A165:H165)+COUNTBLANK(J165:O165)=14,\"\",\"- ohne Titel -\"),Datenerfassung!D175)","v":""},{"$f":"IF(ISBLANK(Datenerfassung!E175),\"\",Datenerfassung!E175)","v":""},"",{"$f":"IF(ISBLANK(Datenerfassung!O175),\"\",Datenerfassung!O175)","v":""},{"$f":"IF(ISBLANK(Datenerfassung!G175),\"\",Datenerfassung!G175)","v":""},{"$f":"IF(ISBLANK(Datenerfassung!M175),\"\",Datenerfassung!M175)","v":""},{"$f":"IF(ISBLANK(Datenerfassung!H175),\"\",Datenerfassung!H175)","v":""}]
[{"$f":"IF(ISBLANK(Datenerfassung!A176),\"\",Datenerfassung!A176)","v":""},{"$f":"IF(ISBLANK(Datenerfassung!B176),\"\",Datenerfassung!B176)","v":""},{"$f":"IF(ISBLANK(Datenerfassung!C176),\"\",Datenerfassung!C176)","v":""},{"$f":"IF(ISBLANK(Datenerfassung!I176),\"\",Datenerfassung!I176)","v":""},{"$f":"IF(ISBLANK(Datenerfassung!J176),\"\",Datenerfassung!J176)","v":""},"",{"$f":"IF(ISBLANK(Datenerfassung!L176),\"\",Datenerfassung!L176)","v":""},{"$f":"IF(ISBLANK(Datenerfassung!F176),\"\",Datenerfassung!F176)","v":""},{"$f":"IF(ISBLANK(Datenerfassung!D176),IF(COUNTBLANK(A166:H166)+COUNTBLANK(J166:O166)=14,\"\",\"- ohne Titel -\"),Datenerfassung!D176)","v":""},{"$f":"IF(ISBLANK(Datenerfassung!E176),\"\",Datenerfassung!E176)","v":""},"",{"$f":"IF(ISBLANK(Datenerfassung!O176),\"\",Datenerfassung!O176)","v":""},{"$f":"IF(ISBLANK(Datenerfassung!G176),\"\",Datenerfassung!G176)","v":""},{"$f":"IF(ISBLANK(Datenerfassung!M176),\"\",Datenerfassung!M176)","v":""},{"$f":"IF(ISBLANK(Datenerfassung!H176),\"\",Datenerfassung!H176)","v":""}]
[{"$f":"IF(ISBLANK(Datenerfassung!A177),\"\",Datenerfassung!A177)","v":""},{"$f":"IF(ISBLANK(Datenerfassung!B177),\"\",Datenerfassung!B177)","v":""},{"$f":"IF(ISBLANK(Datenerfassung!C177),\"\",Datenerfassung!C177)","v":""},{"$f":"IF(ISBLANK(Datenerfassung!I177),\"\",Datenerfassung!I177)","v":""},{"$f":"IF(ISBLANK(Datenerfassung!J177),\"\",Datenerfassung!J177)","v":""},"",{"$f":"IF(ISBLANK(Datenerfassung!L177),\"\",Datenerfassung!L177)","v":""},{"$f":"IF(ISBLANK(Datenerfassung!F177),\"\",Datenerfassung!F177)","v":""},{"$f":"IF(ISBLANK(Datenerfassung!D177),IF(COUNTBLANK(A167:H167)+COUNTBLANK(J167:O167)=14,\"\",\"- ohne Titel -\"),Datenerfassung!D177)","v":""},{"$f":"IF(ISBLANK(Datenerfassung!E177),\"\",Datenerfassung!E177)","v":""},"",{"$f":"IF(ISBLANK(Datenerfassung!O177),\"\",Datenerfassung!O177)","v":""},{"$f":"IF(ISBLANK(Datenerfassung!G177),\"\",Datenerfassung!G177)","v":""},{"$f":"IF(ISBLANK(Datenerfassung!M177),\"\",Datenerfassung!M177)","v":""},{"$f":"IF(ISBLANK(Datenerfassung!H177),\"\",Datenerfassung!H177)","v":""}]
[{"$f":"IF(ISBLANK(Datenerfassung!A178),\"\",Datenerfassung!A178)","v":""},{"$f":"IF(ISBLANK(Datenerfassung!B178),\"\",Datenerfassung!B178)","v":""},{"$f":"IF(ISBLANK(Datenerfassung!C178),\"\",Datenerfassung!C178)","v":""},{"$f":"IF(ISBLANK(Datenerfassung!I178),\"\",Datenerfassung!I178)","v":""},{"$f":"IF(ISBLANK(Datenerfassung!J178),\"\",Datenerfassung!J178)","v":""},"",{"$f":"IF(ISBLANK(Datenerfassung!L178),\"\",Datenerfassung!L178)","v":""},{"$f":"IF(ISBLANK(Datenerfassung!F178),\"\",Datenerfassung!F178)","v":""},{"$f":"IF(ISBLANK(Datenerfassung!D178),IF(COUNTBLANK(A168:H168)+COUNTBLANK(J168:O168)=14,\"\",\"- ohne Titel -\"),Datenerfassung!D178)","v":""},{"$f":"IF(ISBLANK(Datenerfassung!E178),\"\",Datenerfassung!E178)","v":""},"",{"$f":"IF(ISBLANK(Datenerfassung!O178),\"\",Datenerfassung!O178)","v":""},{"$f":"IF(ISBLANK(Datenerfassung!G178),\"\",Datenerfassung!G178)","v":""},{"$f":"IF(ISBLANK(Datenerfassung!M178),\"\",Datenerfassung!M178)","v":""},{"$f":"IF(ISBLANK(Datenerfassung!H178),\"\",Datenerfassung!H178)","v":""}]
[{"$f":"IF(ISBLANK(Datenerfassung!A179),\"\",Datenerfassung!A179)","v":""},{"$f":"IF(ISBLANK(Datenerfassung!B179),\"\",Datenerfassung!B179)","v":""},{"$f":"IF(ISBLANK(Datenerfassung!C179),\"\",Datenerfassung!C179)","v":""},{"$f":"IF(ISBLANK(Datenerfassung!I179),\"\",Datenerfassung!I179)","v":""},{"$f":"IF(ISBLANK(Datenerfassung!J179),\"\",Datenerfassung!J179)","v":""},"",{"$f":"IF(ISBLANK(Datenerfassung!L179),\"\",Datenerfassung!L179)","v":""},{"$f":"IF(ISBLANK(Datenerfassung!F179),\"\",Datenerfassung!F179)","v":""},{"$f":"IF(ISBLANK(Datenerfassung!D179),IF(COUNTBLANK(A169:H169)+COUNTBLANK(J169:O169)=14,\"\",\"- ohne Titel -\"),Datenerfassung!D179)","v":""},{"$f":"IF(ISBLANK(Datenerfassung!E179),\"\",Datenerfassung!E179)","v":""},"",{"$f":"IF(ISBLANK(Datenerfassung!O179),\"\",Datenerfassung!O179)","v":""},{"$f":"IF(ISBLANK(Datenerfassung!G179),\"\",Datenerfassung!G179)","v":""},{"$f":"IF(ISBLANK(Datenerfassung!M179),\"\",Datenerfassung!M179)","v":""},{"$f":"IF(ISBLANK(Datenerfassung!H179),\"\",Datenerfassung!H179)","v":""}]
[{"$f":"IF(ISBLANK(Datenerfassung!A180),\"\",Datenerfassung!A180)","v":""},{"$f":"IF(ISBLANK(Datenerfassung!B180),\"\",Datenerfassung!B180)","v":""},{"$f":"IF(ISBLANK(Datenerfassung!C180),\"\",Datenerfassung!C180)","v":""},{"$f":"IF(ISBLANK(Datenerfassung!I180),\"\",Datenerfassung!I180)","v":""},{"$f":"IF(ISBLANK(Datenerfassung!J180),\"\",Datenerfassung!J180)","v":""},"",{"$f":"IF(ISBLANK(Datenerfassung!L180),\"\",Datenerfassung!L180)","v":""},{"$f":"IF(ISBLANK(Datenerfassung!F180),\"\",Datenerfassung!F180)","v":""},{"$f":"IF(ISBLANK(Datenerfassung!D180),IF(COUNTBLANK(A170:H170)+COUNTBLANK(J170:O170)=14,\"\",\"- ohne Titel -\"),Datenerfassung!D180)","v":""},{"$f":"IF(ISBLANK(Datenerfassung!E180),\"\",Datenerfassung!E180)","v":""},"",{"$f":"IF(ISBLANK(Datenerfassung!O180),\"\",Datenerfassung!O180)","v":""},{"$f":"IF(ISBLANK(Datenerfassung!G180),\"\",Datenerfassung!G180)","v":""},{"$f":"IF(ISBLANK(Datenerfassung!M180),\"\",Datenerfassung!M180)","v":""},{"$f":"IF(ISBLANK(Datenerfassung!H180),\"\",Datenerfassung!H180)","v":""}]
[{"$f":"IF(ISBLANK(Datenerfassung!A181),\"\",Datenerfassung!A181)","v":""},{"$f":"IF(ISBLANK(Datenerfassung!B181),\"\",Datenerfassung!B181)","v":""},{"$f":"IF(ISBLANK(Datenerfassung!C181),\"\",Datenerfassung!C181)","v":""},{"$f":"IF(ISBLANK(Datenerfassung!I181),\"\",Datenerfassung!I181)","v":""},{"$f":"IF(ISBLANK(Datenerfassung!J181),\"\",Datenerfassung!J181)","v":""},"",{"$f":"IF(ISBLANK(Datenerfassung!L181),\"\",Datenerfassung!L181)","v":""},{"$f":"IF(ISBLANK(Datenerfassung!F181),\"\",Datenerfassung!F181)","v":""},{"$f":"IF(ISBLANK(Datenerfassung!D181),IF(COUNTBLANK(A171:H171)+COUNTBLANK(J171:O171)=14,\"\",\"- ohne Titel -\"),Datenerfassung!D181)","v":""},{"$f":"IF(ISBLANK(Datenerfassung!E181),\"\",Datenerfassung!E181)","v":""},"",{"$f":"IF(ISBLANK(Datenerfassung!O181),\"\",Datenerfassung!O181)","v":""},{"$f":"IF(ISBLANK(Datenerfassung!G181),\"\",Datenerfassung!G181)","v":""},{"$f":"IF(ISBLANK(Datenerfassung!M181),\"\",Datenerfassung!M181)","v":""},{"$f":"IF(ISBLANK(Datenerfassung!H181),\"\",Datenerfassung!H181)","v":""}]
[{"$f":"IF(ISBLANK(Datenerfassung!A182),\"\",Datenerfassung!A182)","v":""},{"$f":"IF(ISBLANK(Datenerfassung!B182),\"\",Datenerfassung!B182)","v":""},{"$f":"IF(ISBLANK(Datenerfassung!C182),\"\",Datenerfassung!C182)","v":""},{"$f":"IF(ISBLANK(Datenerfassung!I182),\"\",Datenerfassung!I182)","v":""},{"$f":"IF(ISBLANK(Datenerfassung!J182),\"\",Datenerfassung!J182)","v":""},"",{"$f":"IF(ISBLANK(Datenerfassung!L182),\"\",Datenerfassung!L182)","v":""},{"$f":"IF(ISBLANK(Datenerfassung!F182),\"\",Datenerfassung!F182)","v":""},{"$f":"IF(ISBLANK(Datenerfassung!D182),IF(COUNTBLANK(A172:H172)+COUNTBLANK(J172:O172)=14,\"\",\"- ohne Titel -\"),Datenerfassung!D182)","v":""},{"$f":"IF(ISBLANK(Datenerfassung!E182),\"\",Datenerfassung!E182)","v":""},"",{"$f":"IF(ISBLANK(Datenerfassung!O182),\"\",Datenerfassung!O182)","v":""},{"$f":"IF(ISBLANK(Datenerfassung!G182),\"\",Datenerfassung!G182)","v":""},{"$f":"IF(ISBLANK(Datenerfassung!M182),\"\",Datenerfassung!M182)","v":""},{"$f":"IF(ISBLANK(Datenerfassung!H182),\"\",Datenerfassung!H182)","v":""}]
[{"$f":"IF(ISBLANK(Datenerfassung!A183),\"\",Datenerfassung!A183)","v":""},{"$f":"IF(ISBLANK(Datenerfassung!B183),\"\",Datenerfassung!B183)","v":""},{"$f":"IF(ISBLANK(Datenerfassung!C183),\"\",Datenerfassung!C183)","v":""},{"$f":"IF(ISBLANK(Datenerfassung!I183),\"\",Datenerfassung!I183)","v":""},{"$f":"IF(ISBLANK(Datenerfassung!J183),\"\",Datenerfassung!J183)","v":""},"",{"$f":"IF(ISBLANK(Datenerfassung!L183),\"\",Datenerfassung!L183)","v":""},{"$f":"IF(ISBLANK(Datenerfassung!F183),\"\",Datenerfassung!F183)","v":""},{"$f":"IF(ISBLANK(Datenerfassung!D183),IF(COUNTBLANK(A173:H173)+COUNTBLANK(J173:O173)=14,\"\",\"- ohne Titel -\"),Datenerfassung!D183)","v":""},{"$f":"IF(ISBLANK(Datenerfassung!E183),\"\",Datenerfassung!E183)","v":""},"",{"$f":"IF(ISBLANK(Datenerfassung!O183),\"\",Datenerfassung!O183)","v":""},{"$f":"IF(ISBLANK(Datenerfassung!G183),\"\",Datenerfassung!G183)","v":""},{"$f":"IF(ISBLANK(Datenerfassung!M183),\"\",Datenerfassung!M183)","v":""},{"$f":"IF(ISBLANK(Datenerfassung!H183),\"\",Datenerfassung!H183)","v":""}]
[{"$f":"IF(ISBLANK(Datenerfassung!A184),\"\",Datenerfassung!A184)","v":""},{"$f":"IF(ISBLANK(Datenerfassung!B184),\"\",Datenerfassung!B184)","v":""},{"$f":"IF(ISBLANK(Datenerfassung!C184),\"\",Datenerfassung!C184)","v":""},{"$f":"IF(ISBLANK(Datenerfassung!I184),\"\",Datenerfassung!I184)","v":""},{"$f":"IF(ISBLANK(Datenerfassung!J184),\"\",Datenerfassung!J184)","v":""},"",{"$f":"IF(ISBLANK(Datenerfassung!L184),\"\",Datenerfassung!L184)","v":""},{"$f":"IF(ISBLANK(Datenerfassung!F184),\"\",Datenerfassung!F184)","v":""},{"$f":"IF(ISBLANK(Datenerfassung!D184),IF(COUNTBLANK(A174:H174)+COUNTBLANK(J174:O174)=14,\"\",\"- ohne Titel -\"),Datenerfassung!D184)","v":""},{"$f":"IF(ISBLANK(Datenerfassung!E184),\"\",Datenerfassung!E184)","v":""},"",{"$f":"IF(ISBLANK(Datenerfassung!O184),\"\",Datenerfassung!O184)","v":""},{"$f":"IF(ISBLANK(Datenerfassung!G184),\"\",Datenerfassung!G184)","v":""},{"$f":"IF(ISBLANK(Datenerfassung!M184),\"\",Datenerfassung!M184)","v":""},{"$f":"IF(ISBLANK(Datenerfassung!H184),\"\",Datenerfassung!H184)","v":""}]
[{"$f":"IF(ISBLANK(Datenerfassung!A185),\"\",Datenerfassung!A185)","v":""},{"$f":"IF(ISBLANK(Datenerfassung!B185),\"\",Datenerfassung!B185)","v":""},{"$f":"IF(ISBLANK(Datenerfassung!C185),\"\",Datenerfassung!C185)","v":""},{"$f":"IF(ISBLANK(Datenerfassung!I185),\"\",Datenerfassung!I185)","v":""},{"$f":"IF(ISBLANK(Datenerfassung!J185),\"\",Datenerfassung!J185)","v":""},"",{"$f":"IF(ISBLANK(Datenerfassung!L185),\"\",Datenerfassung!L185)","v":""},{"$f":"IF(ISBLANK(Datenerfassung!F185),\"\",Datenerfassung!F185)","v":""},{"$f":"IF(ISBLANK(Datenerfassung!D185),IF(COUNTBLANK(A175:H175)+COUNTBLANK(J175:O175)=14,\"\",\"- ohne Titel -\"),Datenerfassung!D185)","v":""},{"$f":"IF(ISBLANK(Datenerfassung!E185),\"\",Datenerfassung!E185)","v":""},"",{"$f":"IF(ISBLANK(Datenerfassung!O185),\"\",Datenerfassung!O185)","v":""},{"$f":"IF(ISBLANK(Datenerfassung!G185),\"\",Datenerfassung!G185)","v":""},{"$f":"IF(ISBLANK(Datenerfassung!M185),\"\",Datenerfassung!M185)","v":""},{"$f":"IF(ISBLANK(Datenerfassung!H185),\"\",Datenerfassung!H185)","v":""}]
[{"$f":"IF(ISBLANK(Datenerfassung!A186),\"\",Datenerfassung!A186)","v":""},{"$f":"IF(ISBLANK(Datenerfassung!B186),\"\",Datenerfassung!B186)","v":""},{"$f":"IF(ISBLANK(Datenerfassung!C186),\"\",Datenerfassung!C186)","v":""},{"$f":"IF(ISBLANK(Datenerfassung!I186),\"\",Datenerfassung!I186)","v":""},{"$f":"IF(ISBLANK(Datenerfassung!J186),\"\",Datenerfassung!J186)","v":""},"",{"$f":"IF(ISBLANK(Datenerfassung!L186),\"\",Datenerfassung!L186)","v":""},{"$f":"IF(ISBLANK(Datenerfassung!F186),\"\",Datenerfassung!F186)","v":""},{"$f":"IF(ISBLANK(Datenerfassung!D186),IF(COUNTBLANK(A176:H176)+COUNTBLANK(J176:O176)=14,\"\",\"- ohne Titel -\"),Datenerfassung!D186)","v":""},{"$f":"IF(ISBLANK(Datenerfassung!E186),\"\",Datenerfassung!E186)","v":""},"",{"$f":"IF(ISBLANK(Datenerfassung!O186),\"\",Datenerfassung!O186)","v":""},{"$f":"IF(ISBLANK(Datenerfassung!G186),\"\",Datenerfassung!G186)","v":""},{"$f":"IF(ISBLANK(Datenerfassung!M186),\"\",Datenerfassung!M186)","v":""},{"$f":"IF(ISBLANK(Datenerfassung!H186),\"\",Datenerfassung!H186)","v":""}]
[{"$f":"IF(ISBLANK(Datenerfassung!A187),\"\",Datenerfassung!A187)","v":""},{"$f":"IF(ISBLANK(Datenerfassung!B187),\"\",Datenerfassung!B187)","v":""},{"$f":"IF(ISBLANK(Datenerfassung!C187),\"\",Datenerfassung!C187)","v":""},{"$f":"IF(ISBLANK(Datenerfassung!I187),\"\",Datenerfassung!I187)","v":""},{"$f":"IF(ISBLANK(Datenerfassung!J187),\"\",Datenerfassung!J187)","v":""},"",{"$f":"IF(ISBLANK(Datenerfassung!L187),\"\",Datenerfassung!L187)","v":""},{"$f":"IF(ISBLANK(Datenerfassung!F187),\"\",Datenerfassung!F187)","v":""},{"$f":"IF(ISBLANK(Datenerfassung!D187),IF(COUNTBLANK(A177:H177)+COUNTBLANK(J177:O177)=14,\"\",\"- ohne Titel -\"),Datenerfassung!D187)","v":""},{"$f":"IF(ISBLANK(Datenerfassung!E187),\"\",Datenerfassung!E187)","v":""},"",{"$f":"IF(ISBLANK(Datenerfassung!O187),\"\",Datenerfassung!O187)","v":""},{"$f":"IF(ISBLANK(Datenerfassung!G187),\"\",Datenerfassung!G187)","v":""},{"$f":"IF(ISBLANK(Datenerfassung!M187),\"\",Datenerfassung!M187)","v":""},{"$f":"IF(ISBLANK(Datenerfassung!H187),\"\",Datenerfassung!H187)","v":""}]
[{"$f":"IF(ISBLANK(Datenerfassung!A188),\"\",Datenerfassung!A188)","v":""},{"$f":"IF(ISBLANK(Datenerfassung!B188),\"\",Datenerfassung!B188)","v":""},{"$f":"IF(ISBLANK(Datenerfassung!C188),\"\",Datenerfassung!C188)","v":""},{"$f":"IF(ISBLANK(Datenerfassung!I188),\"\",Datenerfassung!I188)","v":""},{"$f":"IF(ISBLANK(Datenerfassung!J188),\"\",Datenerfassung!J188)","v":""},"",{"$f":"IF(ISBLANK(Datenerfassung!L188),\"\",Datenerfassung!L188)","v":""},{"$f":"IF(ISBLANK(Datenerfassung!F188),\"\",Datenerfassung!F188)","v":""},{"$f":"IF(ISBLANK(Datenerfassung!D188),IF(COUNTBLANK(A178:H178)+COUNTBLANK(J178:O178)=14,\"\",\"- ohne Titel -\"),Datenerfassung!D188)","v":""},{"$f":"IF(ISBLANK(Datenerfassung!E188),\"\",Datenerfassung!E188)","v":""},"",{"$f":"IF(ISBLANK(Datenerfassung!O188),\"\",Datenerfassung!O188)","v":""},{"$f":"IF(ISBLANK(Datenerfassung!G188),\"\",Datenerfassung!G188)","v":""},{"$f":"IF(ISBLANK(Datenerfassung!M188),\"\",Datenerfassung!M188)","v":""},{"$f":"IF(ISBLANK(Datenerfassung!H188),\"\",Datenerfassung!H188)","v":""}]
[{"$f":"IF(ISBLANK(Datenerfassung!A189),\"\",Datenerfassung!A189)","v":""},{"$f":"IF(ISBLANK(Datenerfassung!B189),\"\",Datenerfassung!B189)","v":""},{"$f":"IF(ISBLANK(Datenerfassung!C189),\"\",Datenerfassung!C189)","v":""},{"$f":"IF(ISBLANK(Datenerfassung!I189),\"\",Datenerfassung!I189)","v":""},{"$f":"IF(ISBLANK(Datenerfassung!J189),\"\",Datenerfassung!J189)","v":""},"",{"$f":"IF(ISBLANK(Datenerfassung!L189),\"\",Datenerfassung!L189)","v":""},{"$f":"IF(ISBLANK(Datenerfassung!F189),\"\",Datenerfassung!F189)","v":""},{"$f":"IF(ISBLANK(Datenerfassung!D189),IF(COUNTBLANK(A179:H179)+COUNTBLANK(J179:O179)=14,\"\",\"- ohne Titel -\"),Datenerfassung!D189)","v":""},{"$f":"IF(ISBLANK(Datenerfassung!E189),\"\",Datenerfassung!E189)","v":""},"",{"$f":"IF(ISBLANK(Datenerfassung!O189),\"\",Datenerfassung!O189)","v":""},{"$f":"IF(ISBLANK(Datenerfassung!G189),\"\",Datenerfassung!G189)","v":""},{"$f":"IF(ISBLANK(Datenerfassung!M189),\"\",Datenerfassung!M189)","v":""},{"$f":"IF(ISBLANK(Datenerfassung!H189),\"\",Datenerfassung!H189)","v":""}]
[{"$f":"IF(ISBLANK(Datenerfassung!A190),\"\",Datenerfassung!A190)","v":""},{"$f":"IF(ISBLANK(Datenerfassung!B190),\"\",Datenerfassung!B190)","v":""},{"$f":"IF(ISBLANK(Datenerfassung!C190),\"\",Datenerfassung!C190)","v":""},{"$f":"IF(ISBLANK(Datenerfassung!I190),\"\",Datenerfassung!I190)","v":""},{"$f":"IF(ISBLANK(Datenerfassung!J190),\"\",Datenerfassung!J190)","v":""},"",{"$f":"IF(ISBLANK(Datenerfassung!L190),\"\",Datenerfassung!L190)","v":""},{"$f":"IF(ISBLANK(Datenerfassung!F190),\"\",Datenerfassung!F190)","v":""},{"$f":"IF(ISBLANK(Datenerfassung!D190),IF(COUNTBLANK(A180:H180)+COUNTBLANK(J180:O180)=14,\"\",\"- ohne Titel -\"),Datenerfassung!D190)","v":""},{"$f":"IF(ISBLANK(Datenerfassung!E190),\"\",Datenerfassung!E190)","v":""},"",{"$f":"IF(ISBLANK(Datenerfassung!O190),\"\",Datenerfassung!O190)","v":""},{"$f":"IF(ISBLANK(Datenerfassung!G190),\"\",Datenerfassung!G190)","v":""},{"$f":"IF(ISBLANK(Datenerfassung!M190),\"\",Datenerfassung!M190)","v":""},{"$f":"IF(ISBLANK(Datenerfassung!H190),\"\",Datenerfassung!H190)","v":""}]
[{"$f":"IF(ISBLANK(Datenerfassung!A191),\"\",Datenerfassung!A191)","v":""},{"$f":"IF(ISBLANK(Datenerfassung!B191),\"\",Datenerfassung!B191)","v":""},{"$f":"IF(ISBLANK(Datenerfassung!C191),\"\",Datenerfassung!C191)","v":""},{"$f":"IF(ISBLANK(Datenerfassung!I191),\"\",Datenerfassung!I191)","v":""},{"$f":"IF(ISBLANK(Datenerfassung!J191),\"\",Datenerfassung!J191)","v":""},"",{"$f":"IF(ISBLANK(Datenerfassung!L191),\"\",Datenerfassung!L191)","v":""},{"$f":"IF(ISBLANK(Datenerfassung!F191),\"\",Datenerfassung!F191)","v":""},{"$f":"IF(ISBLANK(Datenerfassung!D191),IF(COUNTBLANK(A181:H181)+COUNTBLANK(J181:O181)=14,\"\",\"- ohne Titel -\"),Datenerfassung!D191)","v":""},{"$f":"IF(ISBLANK(Datenerfassung!E191),\"\",Datenerfassung!E191)","v":""},"",{"$f":"IF(ISBLANK(Datenerfassung!O191),\"\",Datenerfassung!O191)","v":""},{"$f":"IF(ISBLANK(Datenerfassung!G191),\"\",Datenerfassung!G191)","v":""},{"$f":"IF(ISBLANK(Datenerfassung!M191),\"\",Datenerfassung!M191)","v":""},{"$f":"IF(ISBLANK(Datenerfassung!H191),\"\",Datenerfassung!H191)","v":""}]
[{"$f":"IF(ISBLANK(Datenerfassung!A192),\"\",Datenerfassung!A192)","v":""},{"$f":"IF(ISBLANK(Datenerfassung!B192),\"\",Datenerfassung!B192)","v":""},{"$f":"IF(ISBLANK(Datenerfassung!C192),\"\",Datenerfassung!C192)","v":""},{"$f":"IF(ISBLANK(Datenerfassung!I192),\"\",Datenerfassung!I192)","v":""},{"$f":"IF(ISBLANK(Datenerfassung!J192),\"\",Datenerfassung!J192)","v":""},"",{"$f":"IF(ISBLANK(Datenerfassung!L192),\"\",Datenerfassung!L192)","v":""},{"$f":"IF(ISBLANK(Datenerfassung!F192),\"\",Datenerfassung!F192)","v":""},{"$f":"IF(ISBLANK(Datenerfassung!D192),IF(COUNTBLANK(A182:H182)+COUNTBLANK(J182:O182)=14,\"\",\"- ohne Titel -\"),Datenerfassung!D192)","v":""},{"$f":"IF(ISBLANK(Datenerfassung!E192),\"\",Datenerfassung!E192)","v":""},"",{"$f":"IF(ISBLANK(Datenerfassung!O192),\"\",Datenerfassung!O192)","v":""},{"$f":"IF(ISBLANK(Datenerfassung!G192),\"\",Datenerfassung!G192)","v":""},{"$f":"IF(ISBLANK(Datenerfassung!M192),\"\",Datenerfassung!M192)","v":""},{"$f":"IF(ISBLANK(Datenerfassung!H192),\"\",Datenerfassung!H192)","v":""}]
[{"$f":"IF(ISBLANK(Datenerfassung!A193),\"\",Datenerfassung!A193)","v":""},{"$f":"IF(ISBLANK(Datenerfassung!B193),\"\",Datenerfassung!B193)","v":""},{"$f":"IF(ISBLANK(Datenerfassung!C193),\"\",Datenerfassung!C193)","v":""},{"$f":"IF(ISBLANK(Datenerfassung!I193),\"\",Datenerfassung!I193)","v":""},{"$f":"IF(ISBLANK(Datenerfassung!J193),\"\",Datenerfassung!J193)","v":""},"",{"$f":"IF(ISBLANK(Datenerfassung!L193),\"\",Datenerfassung!L193)","v":""},{"$f":"IF(ISBLANK(Datenerfassung!F193),\"\",Datenerfassung!F193)","v":""},{"$f":"IF(ISBLANK(Datenerfassung!D193),IF(COUNTBLANK(A183:H183)+COUNTBLANK(J183:O183)=14,\"\",\"- ohne Titel -\"),Datenerfassung!D193)","v":""},{"$f":"IF(ISBLANK(Datenerfassung!E193),\"\",Datenerfassung!E193)","v":""},"",{"$f":"IF(ISBLANK(Datenerfassung!O193),\"\",Datenerfassung!O193)","v":""},{"$f":"IF(ISBLANK(Datenerfassung!G193),\"\",Datenerfassung!G193)","v":""},{"$f":"IF(ISBLANK(Datenerfassung!M193),\"\",Datenerfassung!M193)","v":""},{"$f":"IF(ISBLANK(Datenerfassung!H193),\"\",Datenerfassung!H193)","v":""}]
[{"$f":"IF(ISBLANK(Datenerfassung!A194),\"\",Datenerfassung!A194)","v":""},{"$f":"IF(ISBLANK(Datenerfassung!B194),\"\",Datenerfassung!B194)","v":""},{"$f":"IF(ISBLANK(Datenerfassung!C194),\"\",Datenerfassung!C194)","v":""},{"$f":"IF(ISBLANK(Datenerfassung!I194),\"\",Datenerfassung!I194)","v":""},{"$f":"IF(ISBLANK(Datenerfassung!J194),\"\",Datenerfassung!J194)","v":""},"",{"$f":"IF(ISBLANK(Datenerfassung!L194),\"\",Datenerfassung!L194)","v":""},{"$f":"IF(ISBLANK(Datenerfassung!F194),\"\",Datenerfassung!F194)","v":""},{"$f":"IF(ISBLANK(Datenerfassung!D194),IF(COUNTBLANK(A184:H184)+COUNTBLANK(J184:O184)=14,\"\",\"- ohne Titel -\"),Datenerfassung!D194)","v":""},{"$f":"IF(ISBLANK(Datenerfassung!E194),\"\",Datenerfassung!E194)","v":""},"",{"$f":"IF(ISBLANK(Datenerfassung!O194),\"\",Datenerfassung!O194)","v":""},{"$f":"IF(ISBLANK(Datenerfassung!G194),\"\",Datenerfassung!G194)","v":""},{"$f":"IF(ISBLANK(Datenerfassung!M194),\"\",Datenerfassung!M194)","v":""},{"$f":"IF(ISBLANK(Datenerfassung!H194),\"\",Datenerfassung!H194)","v":""}]
[{"$f":"IF(ISBLANK(Datenerfassung!A195),\"\",Datenerfassung!A195)","v":""},{"$f":"IF(ISBLANK(Datenerfassung!B195),\"\",Datenerfassung!B195)","v":""},{"$f":"IF(ISBLANK(Datenerfassung!C195),\"\",Datenerfassung!C195)","v":""},{"$f":"IF(ISBLANK(Datenerfassung!I195),\"\",Datenerfassung!I195)","v":""},{"$f":"IF(ISBLANK(Datenerfassung!J195),\"\",Datenerfassung!J195)","v":""},"",{"$f":"IF(ISBLANK(Datenerfassung!L195),\"\",Datenerfassung!L195)","v":""},{"$f":"IF(ISBLANK(Datenerfassung!F195),\"\",Datenerfassung!F195)","v":""},{"$f":"IF(ISBLANK(Datenerfassung!D195),IF(COUNTBLANK(A185:H185)+COUNTBLANK(J185:O185)=14,\"\",\"- ohne Titel -\"),Datenerfassung!D195)","v":""},{"$f":"IF(ISBLANK(Datenerfassung!E195),\"\",Datenerfassung!E195)","v":""},"",{"$f":"IF(ISBLANK(Datenerfassung!O195),\"\",Datenerfassung!O195)","v":""},{"$f":"IF(ISBLANK(Datenerfassung!G195),\"\",Datenerfassung!G195)","v":""},{"$f":"IF(ISBLANK(Datenerfassung!M195),\"\",Datenerfassung!M195)","v":""},{"$f":"IF(ISBLANK(Datenerfassung!H195),\"\",Datenerfassung!H195)","v":""}]
[{"$f":"IF(ISBLANK(Datenerfassung!A196),\"\",Datenerfassung!A196)","v":""},{"$f":"IF(ISBLANK(Datenerfassung!B196),\"\",Datenerfassung!B196)","v":""},{"$f":"IF(ISBLANK(Datenerfassung!C196),\"\",Datenerfassung!C196)","v":""},{"$f":"IF(ISBLANK(Datenerfassung!I196),\"\",Datenerfassung!I196)","v":""},{"$f":"IF(ISBLANK(Datenerfassung!J196),\"\",Datenerfassung!J196)","v":""},"",{"$f":"IF(ISBLANK(Datenerfassung!L196),\"\",Datenerfassung!L196)","v":""},{"$f":"IF(ISBLANK(Datenerfassung!F196),\"\",Datenerfassung!F196)","v":""},{"$f":"IF(ISBLANK(Datenerfassung!D196),IF(COUNTBLANK(A186:H186)+COUNTBLANK(J186:O186)=14,\"\",\"- ohne Titel -\"),Datenerfassung!D196)","v":""},{"$f":"IF(ISBLANK(Datenerfassung!E196),\"\",Datenerfassung!E196)","v":""},"",{"$f":"IF(ISBLANK(Datenerfassung!O196),\"\",Datenerfassung!O196)","v":""},{"$f":"IF(ISBLANK(Datenerfassung!G196),\"\",Datenerfassung!G196)","v":""},{"$f":"IF(ISBLANK(Datenerfassung!M196),\"\",Datenerfassung!M196)","v":""},{"$f":"IF(ISBLANK(Datenerfassung!H196),\"\",Datenerfassung!H196)","v":""}]
[{"$f":"IF(ISBLANK(Datenerfassung!A197),\"\",Datenerfassung!A197)","v":""},{"$f":"IF(ISBLANK(Datenerfassung!B197),\"\",Datenerfassung!B197)","v":""},{"$f":"IF(ISBLANK(Datenerfassung!C197),\"\",Datenerfassung!C197)","v":""},{"$f":"IF(ISBLANK(Datenerfassung!I197),\"\",Datenerfassung!I197)","v":""},{"$f":"IF(ISBLANK(Datenerfassung!J197),\"\",Datenerfassung!J197)","v":""},"",{"$f":"IF(ISBLANK(Datenerfassung!L197),\"\",Datenerfassung!L197)","v":""},{"$f":"IF(ISBLANK(Datenerfassung!F197),\"\",Datenerfassung!F197)","v":""},{"$f":"IF(ISBLANK(Datenerfassung!D197),IF(COUNTBLANK(A187:H187)+COUNTBLANK(J187:O187)=14,\"\",\"- ohne Titel -\"),Datenerfassung!D197)","v":""},{"$f":"IF(ISBLANK(Datenerfassung!E197),\"\",Datenerfassung!E197)","v":""},"",{"$f":"IF(ISBLANK(Datenerfassung!O197),\"\",Datenerfassung!O197)","v":""},{"$f":"IF(ISBLANK(Datenerfassung!G197),\"\",Datenerfassung!G197)","v":""},{"$f":"IF(ISBLANK(Datenerfassung!M197),\"\",Datenerfassung!M197)","v":""},{"$f":"IF(ISBLANK(Datenerfassung!H197),\"\",Datenerfassung!H197)","v":""}]
[{"$f":"IF(ISBLANK(Datenerfassung!A198),\"\",Datenerfassung!A198)","v":""},{"$f":"IF(ISBLANK(Datenerfassung!B198),\"\",Datenerfassung!B198)","v":""},{"$f":"IF(ISBLANK(Datenerfassung!C198),\"\",Datenerfassung!C198)","v":""},{"$f":"IF(ISBLANK(Datenerfassung!I198),\"\",Datenerfassung!I198)","v":""},{"$f":"IF(ISBLANK(Datenerfassung!J198),\"\",Datenerfassung!J198)","v":""},"",{"$f":"IF(ISBLANK(Datenerfassung!L198),\"\",Datenerfassung!L198)","v":""},{"$f":"IF(ISBLANK(Datenerfassung!F198),\"\",Datenerfassung!F198)","v":""},{"$f":"IF(ISBLANK(Datenerfassung!D198),IF(COUNTBLANK(A188:H188)+COUNTBLANK(J188:O188)=14,\"\",\"- ohne Titel -\"),Datenerfassung!D198)","v":""},{"$f":"IF(ISBLANK(Datenerfassung!E198),\"\",Datenerfassung!E198)","v":""},"",{"$f":"IF(ISBLANK(Datenerfassung!O198),\"\",Datenerfassung!O198)","v":""},{"$f":"IF(ISBLANK(Datenerfassung!G198),\"\",Datenerfassung!G198)","v":""},{"$f":"IF(ISBLANK(Datenerfassung!M198),\"\",Datenerfassung!M198)","v":""},{"$f":"IF(ISBLANK(Datenerfassung!H198),\"\",Datenerfassung!H198)","v":""}]
[{"$f":"IF(ISBLANK(Datenerfassung!A199),\"\",Datenerfassung!A199)","v":""},{"$f":"IF(ISBLANK(Datenerfassung!B199),\"\",Datenerfassung!B199)","v":""},{"$f":"IF(ISBLANK(Datenerfassung!C199),\"\",Datenerfassung!C199)","v":""},{"$f":"IF(ISBLANK(Datenerfassung!I199),\"\",Datenerfassung!I199)","v":""},{"$f":"IF(ISBLANK(Datenerfassung!J199),\"\",Datenerfassung!J199)","v":""},"",{"$f":"IF(ISBLANK(Datenerfassung!L199),\"\",Datenerfassung!L199)","v":""},{"$f":"IF(ISBLANK(Datenerfassung!F199),\"\",Datenerfassung!F199)","v":""},{"$f":"IF(ISBLANK(Datenerfassung!D199),IF(COUNTBLANK(A189:H189)+COUNTBLANK(J189:O189)=14,\"\",\"- ohne Titel -\"),Datenerfassung!D199)","v":""},{"$f":"IF(ISBLANK(Datenerfassung!E199),\"\",Datenerfassung!E199)","v":""},"",{"$f":"IF(ISBLANK(Datenerfassung!O199),\"\",Datenerfassung!O199)","v":""},{"$f":"IF(ISBLANK(Datenerfassung!G199),\"\",Datenerfassung!G199)","v":""},{"$f":"IF(ISBLANK(Datenerfassung!M199),\"\",Datenerfassung!M199)","v":""},{"$f":"IF(ISBLANK(Datenerfassung!H199),\"\",Datenerfassung!H199)","v":""}]
[{"$f":"IF(ISBLANK(Datenerfassung!A200),\"\",Datenerfassung!A200)","v":""},{"$f":"IF(ISBLANK(Datenerfassung!B200),\"\",Datenerfassung!B200)","v":""},{"$f":"IF(ISBLANK(Datenerfassung!C200),\"\",Datenerfassung!C200)","v":""},{"$f":"IF(ISBLANK(Datenerfassung!I200),\"\",Datenerfassung!I200)","v":""},{"$f":"IF(ISBLANK(Datenerfassung!J200),\"\",Datenerfassung!J200)","v":""},"",{"$f":"IF(ISBLANK(Datenerfassung!L200),\"\",Datenerfassung!L200)","v":""},{"$f":"IF(ISBLANK(Datenerfassung!F200),\"\",Datenerfassung!F200)","v":""},{"$f":"IF(ISBLANK(Datenerfassung!D200),IF(COUNTBLANK(A190:H190)+COUNTBLANK(J190:O190)=14,\"\",\"- ohne Titel -\"),Datenerfassung!D200)","v":""},{"$f":"IF(ISBLANK(Datenerfassung!E200),\"\",Datenerfassung!E200)","v":""},"",{"$f":"IF(ISBLANK(Datenerfassung!O200),\"\",Datenerfassung!O200)","v":""},{"$f":"IF(ISBLANK(Datenerfassung!G200),\"\",Datenerfassung!G200)","v":""},{"$f":"IF(ISBLANK(Datenerfassung!M200),\"\",Datenerfassung!M200)","v":""},{"$f":"IF(ISBLANK(Datenerfassung!H200),\"\",Datenerfassung!H200)","v":""}]
[{"$f":"IF(ISBLANK(Datenerfassung!A201),\"\",Datenerfassung!A201)","v":""},{"$f":"IF(ISBLANK(Datenerfassung!B201),\"\",Datenerfassung!B201)","v":""},{"$f":"IF(ISBLANK(Datenerfassung!C201),\"\",Datenerfassung!C201)","v":""},{"$f":"IF(ISBLANK(Datenerfassung!I201),\"\",Datenerfassung!I201)","v":""},{"$f":"IF(ISBLANK(Datenerfassung!J201),\"\",Datenerfassung!J201)","v":""},"",{"$f":"IF(ISBLANK(Datenerfassung!L201),\"\",Datenerfassung!L201)","v":""},{"$f":"IF(ISBLANK(Datenerfassung!F201),\"\",Datenerfassung!F201)","v":""},{"$f":"IF(ISBLANK(Datenerfassung!D201),IF(COUNTBLANK(A191:H191)+COUNTBLANK(J191:O191)=14,\"\",\"- ohne Titel -\"),Datenerfassung!D201)","v":""},{"$f":"IF(ISBLANK(Datenerfassung!E201),\"\",Datenerfassung!E201)","v":""},"",{"$f":"IF(ISBLANK(Datenerfassung!O201),\"\",Datenerfassung!O201)","v":""},{"$f":"IF(ISBLANK(Datenerfassung!G201),\"\",Datenerfassung!G201)","v":""},{"$f":"IF(ISBLANK(Datenerfassung!M201),\"\",Datenerfassung!M201)","v":""},{"$f":"IF(ISBLANK(Datenerfassung!H201),\"\",Datenerfassung!H201)","v":""}]
[{"$f":"IF(ISBLANK(Datenerfassung!A202),\"\",Datenerfassung!A202)","v":""},{"$f":"IF(ISBLANK(Datenerfassung!B202),\"\",Datenerfassung!B202)","v":""},{"$f":"IF(ISBLANK(Datenerfassung!C202),\"\",Datenerfassung!C202)","v":""},{"$f":"IF(ISBLANK(Datenerfassung!I202),\"\",Datenerfassung!I202)","v":""},{"$f":"IF(ISBLANK(Datenerfassung!J202),\"\",Datenerfassung!J202)","v":""},"",{"$f":"IF(ISBLANK(Datenerfassung!L202),\"\",Datenerfassung!L202)","v":""},{"$f":"IF(ISBLANK(Datenerfassung!F202),\"\",Datenerfassung!F202)","v":""},{"$f":"IF(ISBLANK(Datenerfassung!D202),IF(COUNTBLANK(A192:H192)+COUNTBLANK(J192:O192)=14,\"\",\"- ohne Titel -\"),Datenerfassung!D202)","v":""},{"$f":"IF(ISBLANK(Datenerfassung!E202),\"\",Datenerfassung!E202)","v":""},"",{"$f":"IF(ISBLANK(Datenerfassung!O202),\"\",Datenerfassung!O202)","v":""},{"$f":"IF(ISBLANK(Datenerfassung!G202),\"\",Datenerfassung!G202)","v":""},{"$f":"IF(ISBLANK(Datenerfassung!M202),\"\",Datenerfassung!M202)","v":""},{"$f":"IF(ISBLANK(Datenerfassung!H202),\"\",Datenerfassung!H202)","v":""}]
[{"$f":"IF(ISBLANK(Datenerfassung!A203),\"\",Datenerfassung!A203)","v":""},{"$f":"IF(ISBLANK(Datenerfassung!B203),\"\",Datenerfassung!B203)","v":""},{"$f":"IF(ISBLANK(Datenerfassung!C203),\"\",Datenerfassung!C203)","v":""},{"$f":"IF(ISBLANK(Datenerfassung!I203),\"\",Datenerfassung!I203)","v":""},{"$f":"IF(ISBLANK(Datenerfassung!J203),\"\",Datenerfassung!J203)","v":""},"",{"$f":"IF(ISBLANK(Datenerfassung!L203),\"\",Datenerfassung!L203)","v":""},{"$f":"IF(ISBLANK(Datenerfassung!F203),\"\",Datenerfassung!F203)","v":""},{"$f":"IF(ISBLANK(Datenerfassung!D203),IF(COUNTBLANK(A193:H193)+COUNTBLANK(J193:O193)=14,\"\",\"- ohne Titel -\"),Datenerfassung!D203)","v":""},{"$f":"IF(ISBLANK(Datenerfassung!E203),\"\",Datenerfassung!E203)","v":""},"",{"$f":"IF(ISBLANK(Datenerfassung!O203),\"\",Datenerfassung!O203)","v":""},{"$f":"IF(ISBLANK(Datenerfassung!G203),\"\",Datenerfassung!G203)","v":""},{"$f":"IF(ISBLANK(Datenerfassung!M203),\"\",Datenerfassung!M203)","v":""},{"$f":"IF(ISBLANK(Datenerfassung!H203),\"\",Datenerfassung!H203)","v":""}]
[{"$f":"IF(ISBLANK(Datenerfassung!A204),\"\",Datenerfassung!A204)","v":""},{"$f":"IF(ISBLANK(Datenerfassung!B204),\"\",Datenerfassung!B204)","v":""},{"$f":"IF(ISBLANK(Datenerfassung!C204),\"\",Datenerfassung!C204)","v":""},{"$f":"IF(ISBLANK(Datenerfassung!I204),\"\",Datenerfassung!I204)","v":""},{"$f":"IF(ISBLANK(Datenerfassung!J204),\"\",Datenerfassung!J204)","v":""},"",{"$f":"IF(ISBLANK(Datenerfassung!L204),\"\",Datenerfassung!L204)","v":""},{"$f":"IF(ISBLANK(Datenerfassung!F204),\"\",Datenerfassung!F204)","v":""},{"$f":"IF(ISBLANK(Datenerfassung!D204),IF(COUNTBLANK(A194:H194)+COUNTBLANK(J194:O194)=14,\"\",\"- ohne Titel -\"),Datenerfassung!D204)","v":""},{"$f":"IF(ISBLANK(Datenerfassung!E204),\"\",Datenerfassung!E204)","v":""},"",{"$f":"IF(ISBLANK(Datenerfassung!O204),\"\",Datenerfassung!O204)","v":""},{"$f":"IF(ISBLANK(Datenerfassung!G204),\"\",Datenerfassung!G204)","v":""},{"$f":"IF(ISBLANK(Datenerfassung!M204),\"\",Datenerfassung!M204)","v":""},{"$f":"IF(ISBLANK(Datenerfassung!H204),\"\",Datenerfassung!H204)","v":""}]
[{"$f":"IF(ISBLANK(Datenerfassung!A205),\"\",Datenerfassung!A205)","v":""},{"$f":"IF(ISBLANK(Datenerfassung!B205),\"\",Datenerfassung!B205)","v":""},{"$f":"IF(ISBLANK(Datenerfassung!C205),\"\",Datenerfassung!C205)","v":""},{"$f":"IF(ISBLANK(Datenerfassung!I205),\"\",Datenerfassung!I205)","v":""},{"$f":"IF(ISBLANK(Datenerfassung!J205),\"\",Datenerfassung!J205)","v":""},{"$f":"IF(D195=\"\",\"\",IF(E195=\"\",D195,D195&\" - \"&E195))","v":""},{"$f":"IF(ISBLANK(Datenerfassung!L205),\"\",Datenerfassung!L205)","v":""},{"$f":"IF(ISBLANK(Datenerfassung!F205),\"\",Datenerfassung!F205)","v":""},{"$f":"IF(ISBLANK(Datenerfassung!D205),IF(COUNTBLANK(A195:H195)+COUNTBLANK(J195:O195)=14,\"\",\"- ohne Titel -\"),Datenerfassung!D205)","v":""},{"$f":"IF(ISBLANK(Datenerfassung!E205),\"\",Datenerfassung!E205)","v":""},{"$f":"IF(OR(E195=\"\",G195=\"\"),\"\",\"01.01.\"&RIGHT(E195,4)+G195+1)","v":""},{"$f":"IF(ISBLANK(Datenerfassung!O205),\"\",Datenerfassung!O205)","v":""},{"$f":"IF(ISBLANK(Datenerfassung!G205),\"\",Datenerfassung!G205)","v":""},{"$f":"IF(ISBLANK(Datenerfassung!M205),\"\",Datenerfassung!M205)","v":""},{"$f":"IF(ISBLANK(Datenerfassung!H205),\"\",Datenerfassung!H205)","v":""}]
[{"$f":"IF(ISBLANK(Datenerfassung!A206),\"\",Datenerfassung!A206)","v":""},{"$f":"IF(ISBLANK(Datenerfassung!B206),\"\",Datenerfassung!B206)","v":""},{"$f":"IF(ISBLANK(Datenerfassung!C206),\"\",Datenerfassung!C206)","v":""},{"$f":"IF(ISBLANK(Datenerfassung!I206),\"\",Datenerfassung!I206)","v":""},{"$f":"IF(ISBLANK(Datenerfassung!J206),\"\",Datenerfassung!J206)","v":""},"",{"$f":"IF(ISBLANK(Datenerfassung!L206),\"\",Datenerfassung!L206)","v":""},{"$f":"IF(ISBLANK(Datenerfassung!F206),\"\",Datenerfassung!F206)","v":""},{"$f":"IF(ISBLANK(Datenerfassung!D206),IF(COUNTBLANK(A196:H196)+COUNTBLANK(J196:O196)=14,\"\",\"- ohne Titel -\"),Datenerfassung!D206)","v":""},{"$f":"IF(ISBLANK(Datenerfassung!E206),\"\",Datenerfassung!E206)","v":""},"",{"$f":"IF(ISBLANK(Datenerfassung!O206),\"\",Datenerfassung!O206)","v":""},{"$f":"IF(ISBLANK(Datenerfassung!G206),\"\",Datenerfassung!G206)","v":""},{"$f":"IF(ISBLANK(Datenerfassung!M206),\"\",Datenerfassung!M206)","v":""},{"$f":"IF(ISBLANK(Datenerfassung!H206),\"\",Datenerfassung!H206)","v":""}]
[{"$f":"IF(ISBLANK(Datenerfassung!A207),\"\",Datenerfassung!A207)","v":""},{"$f":"IF(ISBLANK(Datenerfassung!B207),\"\",Datenerfassung!B207)","v":""},{"$f":"IF(ISBLANK(Datenerfassung!C207),\"\",Datenerfassung!C207)","v":""},{"$f":"IF(ISBLANK(Datenerfassung!I207),\"\",Datenerfassung!I207)","v":""},{"$f":"IF(ISBLANK(Datenerfassung!J207),\"\",Datenerfassung!J207)","v":""},"",{"$f":"IF(ISBLANK(Datenerfassung!L207),\"\",Datenerfassung!L207)","v":""},{"$f":"IF(ISBLANK(Datenerfassung!F207),\"\",Datenerfassung!F207)","v":""},{"$f":"IF(ISBLANK(Datenerfassung!D207),IF(COUNTBLANK(A197:H197)+COUNTBLANK(J197:O197)=14,\"\",\"- ohne Titel -\"),Datenerfassung!D207)","v":""},{"$f":"IF(ISBLANK(Datenerfassung!E207),\"\",Datenerfassung!E207)","v":""},"",{"$f":"IF(ISBLANK(Datenerfassung!O207),\"\",Datenerfassung!O207)","v":""},{"$f":"IF(ISBLANK(Datenerfassung!G207),\"\",Datenerfassung!G207)","v":""},{"$f":"IF(ISBLANK(Datenerfassung!M207),\"\",Datenerfassung!M207)","v":""},{"$f":"IF(ISBLANK(Datenerfassung!H207),\"\",Datenerfassung!H207)","v":""}]
[{"$f":"IF(ISBLANK(Datenerfassung!A208),\"\",Datenerfassung!A208)","v":""},{"$f":"IF(ISBLANK(Datenerfassung!B208),\"\",Datenerfassung!B208)","v":""},{"$f":"IF(ISBLANK(Datenerfassung!C208),\"\",Datenerfassung!C208)","v":""},{"$f":"IF(ISBLANK(Datenerfassung!I208),\"\",Datenerfassung!I208)","v":""},{"$f":"IF(ISBLANK(Datenerfassung!J208),\"\",Datenerfassung!J208)","v":""},"",{"$f":"IF(ISBLANK(Datenerfassung!L208),\"\",Datenerfassung!L208)","v":""},{"$f":"IF(ISBLANK(Datenerfassung!F208),\"\",Datenerfassung!F208)","v":""},{"$f":"IF(ISBLANK(Datenerfassung!D208),IF(COUNTBLANK(A198:H198)+COUNTBLANK(J198:O198)=14,\"\",\"- ohne Titel -\"),Datenerfassung!D208)","v":""},{"$f":"IF(ISBLANK(Datenerfassung!E208),\"\",Datenerfassung!E208)","v":""},"",{"$f":"IF(ISBLANK(Datenerfassung!O208),\"\",Datenerfassung!O208)","v":""},{"$f":"IF(ISBLANK(Datenerfassung!G208),\"\",Datenerfassung!G208)","v":""},{"$f":"IF(ISBLANK(Datenerfassung!M208),\"\",Datenerfassung!M208)","v":""},{"$f":"IF(ISBLANK(Datenerfassung!H208),\"\",Datenerfassung!H208)","v":""}]
[{"$f":"IF(ISBLANK(Datenerfassung!A209),\"\",Datenerfassung!A209)","v":""},{"$f":"IF(ISBLANK(Datenerfassung!B209),\"\",Datenerfassung!B209)","v":""},{"$f":"IF(ISBLANK(Datenerfassung!C209),\"\",Datenerfassung!C209)","v":""},{"$f":"IF(ISBLANK(Datenerfassung!I209),\"\",Datenerfassung!I209)","v":""},{"$f":"IF(ISBLANK(Datenerfassung!J209),\"\",Datenerfassung!J209)","v":""},"",{"$f":"IF(ISBLANK(Datenerfassung!L209),\"\",Datenerfassung!L209)","v":""},{"$f":"IF(ISBLANK(Datenerfassung!F209),\"\",Datenerfassung!F209)","v":""},{"$f":"IF(ISBLANK(Datenerfassung!D209),IF(COUNTBLANK(A199:H199)+COUNTBLANK(J199:O199)=14,\"\",\"- ohne Titel -\"),Datenerfassung!D209)","v":""},{"$f":"IF(ISBLANK(Datenerfassung!E209),\"\",Datenerfassung!E209)","v":""},"",{"$f":"IF(ISBLANK(Datenerfassung!O209),\"\",Datenerfassung!O209)","v":""},{"$f":"IF(ISBLANK(Datenerfassung!G209),\"\",Datenerfassung!G209)","v":""},{"$f":"IF(ISBLANK(Datenerfassung!M209),\"\",Datenerfassung!M209)","v":""},{"$f":"IF(ISBLANK(Datenerfassung!H209),\"\",Datenerfassung!H209)","v":""}]
[{"$f":"IF(ISBLANK(Datenerfassung!A210),\"\",Datenerfassung!A210)","v":""},{"$f":"IF(ISBLANK(Datenerfassung!B210),\"\",Datenerfassung!B210)","v":""},{"$f":"IF(ISBLANK(Datenerfassung!C210),\"\",Datenerfassung!C210)","v":""},{"$f":"IF(ISBLANK(Datenerfassung!I210),\"\",Datenerfassung!I210)","v":""},{"$f":"IF(ISBLANK(Datenerfassung!J210),\"\",Datenerfassung!J210)","v":""},"",{"$f":"IF(ISBLANK(Datenerfassung!L210),\"\",Datenerfassung!L210)","v":""},{"$f":"IF(ISBLANK(Datenerfassung!F210),\"\",Datenerfassung!F210)","v":""},{"$f":"IF(ISBLANK(Datenerfassung!D210),IF(COUNTBLANK(A200:H200)+COUNTBLANK(J200:O200)=14,\"\",\"- ohne Titel -\"),Datenerfassung!D210)","v":""},{"$f":"IF(ISBLANK(Datenerfassung!E210),\"\",Datenerfassung!E210)","v":""},"",{"$f":"IF(ISBLANK(Datenerfassung!O210),\"\",Datenerfassung!O210)","v":""},{"$f":"IF(ISBLANK(Datenerfassung!G210),\"\",Datenerfassung!G210)","v":""},{"$f":"IF(ISBLANK(Datenerfassung!M210),\"\",Datenerfassung!M210)","v":""},{"$f":"IF(ISBLANK(Datenerfassung!H210),\"\",Datenerfassung!H210)","v":""}]
[{"$f":"IF(ISBLANK(Datenerfassung!A211),\"\",Datenerfassung!A211)","v":""},{"$f":"IF(ISBLANK(Datenerfassung!B211),\"\",Datenerfassung!B211)","v":""},{"$f":"IF(ISBLANK(Datenerfassung!C211),\"\",Datenerfassung!C211)","v":""},{"$f":"IF(ISBLANK(Datenerfassung!I211),\"\",Datenerfassung!I211)","v":""},{"$f":"IF(ISBLANK(Datenerfassung!J211),\"\",Datenerfassung!J211)","v":""},"",{"$f":"IF(ISBLANK(Datenerfassung!L211),\"\",Datenerfassung!L211)","v":""},{"$f":"IF(ISBLANK(Datenerfassung!F211),\"\",Datenerfassung!F211)","v":""},{"$f":"IF(ISBLANK(Datenerfassung!D211),IF(COUNTBLANK(A201:H201)+COUNTBLANK(J201:O201)=14,\"\",\"- ohne Titel -\"),Datenerfassung!D211)","v":""},{"$f":"IF(ISBLANK(Datenerfassung!E211),\"\",Datenerfassung!E211)","v":""},"",{"$f":"IF(ISBLANK(Datenerfassung!O211),\"\",Datenerfassung!O211)","v":""},{"$f":"IF(ISBLANK(Datenerfassung!G211),\"\",Datenerfassung!G211)","v":""},{"$f":"IF(ISBLANK(Datenerfassung!M211),\"\",Datenerfassung!M211)","v":""},{"$f":"IF(ISBLANK(Datenerfassung!H211),\"\",Datenerfassung!H211)","v":""}]
[{"$f":"IF(ISBLANK(Datenerfassung!A212),\"\",Datenerfassung!A212)","v":""},{"$f":"IF(ISBLANK(Datenerfassung!B212),\"\",Datenerfassung!B212)","v":""},{"$f":"IF(ISBLANK(Datenerfassung!C212),\"\",Datenerfassung!C212)","v":""},{"$f":"IF(ISBLANK(Datenerfassung!I212),\"\",Datenerfassung!I212)","v":""},{"$f":"IF(ISBLANK(Datenerfassung!J212),\"\",Datenerfassung!J212)","v":""},"",{"$f":"IF(ISBLANK(Datenerfassung!L212),\"\",Datenerfassung!L212)","v":""},{"$f":"IF(ISBLANK(Datenerfassung!F212),\"\",Datenerfassung!F212)","v":""},{"$f":"IF(ISBLANK(Datenerfassung!D212),IF(COUNTBLANK(A202:H202)+COUNTBLANK(J202:O202)=14,\"\",\"- ohne Titel -\"),Datenerfassung!D212)","v":""},{"$f":"IF(ISBLANK(Datenerfassung!E212),\"\",Datenerfassung!E212)","v":""},"",{"$f":"IF(ISBLANK(Datenerfassung!O212),\"\",Datenerfassung!O212)","v":""},{"$f":"IF(ISBLANK(Datenerfassung!G212),\"\",Datenerfassung!G212)","v":""},{"$f":"IF(ISBLANK(Datenerfassung!M212),\"\",Datenerfassung!M212)","v":""},{"$f":"IF(ISBLANK(Datenerfassung!H212),\"\",Datenerfassung!H212)","v":""}]
[{"$f":"IF(ISBLANK(Datenerfassung!A213),\"\",Datenerfassung!A213)","v":""},{"$f":"IF(ISBLANK(Datenerfassung!B213),\"\",Datenerfassung!B213)","v":""},{"$f":"IF(ISBLANK(Datenerfassung!C213),\"\",Datenerfassung!C213)","v":""},{"$f":"IF(ISBLANK(Datenerfassung!I213),\"\",Datenerfassung!I213)","v":""},{"$f":"IF(ISBLANK(Datenerfassung!J213),\"\",Datenerfassung!J213)","v":""},"",{"$f":"IF(ISBLANK(Datenerfassung!L213),\"\",Datenerfassung!L213)","v":""},{"$f":"IF(ISBLANK(Datenerfassung!F213),\"\",Datenerfassung!F213)","v":""},{"$f":"IF(ISBLANK(Datenerfassung!D213),IF(COUNTBLANK(A203:H203)+COUNTBLANK(J203:O203)=14,\"\",\"- ohne Titel -\"),Datenerfassung!D213)","v":""},{"$f":"IF(ISBLANK(Datenerfassung!E213),\"\",Datenerfassung!E213)","v":""},"",{"$f":"IF(ISBLANK(Datenerfassung!O213),\"\",Datenerfassung!O213)","v":""},{"$f":"IF(ISBLANK(Datenerfassung!G213),\"\",Datenerfassung!G213)","v":""},{"$f":"IF(ISBLANK(Datenerfassung!M213),\"\",Datenerfassung!M213)","v":""},{"$f":"IF(ISBLANK(Datenerfassung!H213),\"\",Datenerfassung!H213)","v":""}]
[{"$f":"IF(ISBLANK(Datenerfassung!A214),\"\",Datenerfassung!A214)","v":""},{"$f":"IF(ISBLANK(Datenerfassung!B214),\"\",Datenerfassung!B214)","v":""},{"$f":"IF(ISBLANK(Datenerfassung!C214),\"\",Datenerfassung!C214)","v":""},{"$f":"IF(ISBLANK(Datenerfassung!I214),\"\",Datenerfassung!I214)","v":""},{"$f":"IF(ISBLANK(Datenerfassung!J214),\"\",Datenerfassung!J214)","v":""},"",{"$f":"IF(ISBLANK(Datenerfassung!L214),\"\",Datenerfassung!L214)","v":""},{"$f":"IF(ISBLANK(Datenerfassung!F214),\"\",Datenerfassung!F214)","v":""},{"$f":"IF(ISBLANK(Datenerfassung!D214),IF(COUNTBLANK(A204:H204)+COUNTBLANK(J204:O204)=14,\"\",\"- ohne Titel -\"),Datenerfassung!D214)","v":""},{"$f":"IF(ISBLANK(Datenerfassung!E214),\"\",Datenerfassung!E214)","v":""},"",{"$f":"IF(ISBLANK(Datenerfassung!O214),\"\",Datenerfassung!O214)","v":""},{"$f":"IF(ISBLANK(Datenerfassung!G214),\"\",Datenerfassung!G214)","v":""},{"$f":"IF(ISBLANK(Datenerfassung!M214),\"\",Datenerfassung!M214)","v":""},{"$f":"IF(ISBLANK(Datenerfassung!H214),\"\",Datenerfassung!H214)","v":""}]
[{"$f":"IF(ISBLANK(Datenerfassung!A215),\"\",Datenerfassung!A215)","v":""},{"$f":"IF(ISBLANK(Datenerfassung!B215),\"\",Datenerfassung!B215)","v":""},{"$f":"IF(ISBLANK(Datenerfassung!C215),\"\",Datenerfassung!C215)","v":""},{"$f":"IF(ISBLANK(Datenerfassung!I215),\"\",Datenerfassung!I215)","v":""},{"$f":"IF(ISBLANK(Datenerfassung!J215),\"\",Datenerfassung!J215)","v":""},"",{"$f":"IF(ISBLANK(Datenerfassung!L215),\"\",Datenerfassung!L215)","v":""},{"$f":"IF(ISBLANK(Datenerfassung!F215),\"\",Datenerfassung!F215)","v":""},{"$f":"IF(ISBLANK(Datenerfassung!D215),IF(COUNTBLANK(A205:H205)+COUNTBLANK(J205:O205)=14,\"\",\"- ohne Titel -\"),Datenerfassung!D215)","v":""},{"$f":"IF(ISBLANK(Datenerfassung!E215),\"\",Datenerfassung!E215)","v":""},"",{"$f":"IF(ISBLANK(Datenerfassung!O215),\"\",Datenerfassung!O215)","v":""},{"$f":"IF(ISBLANK(Datenerfassung!G215),\"\",Datenerfassung!G215)","v":""},{"$f":"IF(ISBLANK(Datenerfassung!M215),\"\",Datenerfassung!M215)","v":""},{"$f":"IF(ISBLANK(Datenerfassung!H215),\"\",Datenerfassung!H215)","v":""}]
[{"$f":"IF(ISBLANK(Datenerfassung!A216),\"\",Datenerfassung!A216)","v":""},{"$f":"IF(ISBLANK(Datenerfassung!B216),\"\",Datenerfassung!B216)","v":""},{"$f":"IF(ISBLANK(Datenerfassung!C216),\"\",Datenerfassung!C216)","v":""},{"$f":"IF(ISBLANK(Datenerfassung!I216),\"\",Datenerfassung!I216)","v":""},{"$f":"IF(ISBLANK(Datenerfassung!J216),\"\",Datenerfassung!J216)","v":""},"",{"$f":"IF(ISBLANK(Datenerfassung!L216),\"\",Datenerfassung!L216)","v":""},{"$f":"IF(ISBLANK(Datenerfassung!F216),\"\",Datenerfassung!F216)","v":""},{"$f":"IF(ISBLANK(Datenerfassung!D216),IF(COUNTBLANK(A206:H206)+COUNTBLANK(J206:O206)=14,\"\",\"- ohne Titel -\"),Datenerfassung!D216)","v":""},{"$f":"IF(ISBLANK(Datenerfassung!E216),\"\",Datenerfassung!E216)","v":""},"",{"$f":"IF(ISBLANK(Datenerfassung!O216),\"\",Datenerfassung!O216)","v":""},{"$f":"IF(ISBLANK(Datenerfassung!G216),\"\",Datenerfassung!G216)","v":""},{"$f":"IF(ISBLANK(Datenerfassung!M216),\"\",Datenerfassung!M216)","v":""},{"$f":"IF(ISBLANK(Datenerfassung!H216),\"\",Datenerfassung!H216)","v":""}]
[{"$f":"IF(ISBLANK(Datenerfassung!A217),\"\",Datenerfassung!A217)","v":""},{"$f":"IF(ISBLANK(Datenerfassung!B217),\"\",Datenerfassung!B217)","v":""},{"$f":"IF(ISBLANK(Datenerfassung!C217),\"\",Datenerfassung!C217)","v":""},{"$f":"IF(ISBLANK(Datenerfassung!I217),\"\",Datenerfassung!I217)","v":""},{"$f":"IF(ISBLANK(Datenerfassung!J217),\"\",Datenerfassung!J217)","v":""},"",{"$f":"IF(ISBLANK(Datenerfassung!L217),\"\",Datenerfassung!L217)","v":""},{"$f":"IF(ISBLANK(Datenerfassung!F217),\"\",Datenerfassung!F217)","v":""},{"$f":"IF(ISBLANK(Datenerfassung!D217),IF(COUNTBLANK(A207:H207)+COUNTBLANK(J207:O207)=14,\"\",\"- ohne Titel -\"),Datenerfassung!D217)","v":""},{"$f":"IF(ISBLANK(Datenerfassung!E217),\"\",Datenerfassung!E217)","v":""},"",{"$f":"IF(ISBLANK(Datenerfassung!O217),\"\",Datenerfassung!O217)","v":""},{"$f":"IF(ISBLANK(Datenerfassung!G217),\"\",Datenerfassung!G217)","v":""},{"$f":"IF(ISBLANK(Datenerfassung!M217),\"\",Datenerfassung!M217)","v":""},{"$f":"IF(ISBLANK(Datenerfassung!H217),\"\",Datenerfassung!H217)","v":""}]
[{"$f":"IF(ISBLANK(Datenerfassung!A218),\"\",Datenerfassung!A218)","v":""},{"$f":"IF(ISBLANK(Datenerfassung!B218),\"\",Datenerfassung!B218)","v":""},{"$f":"IF(ISBLANK(Datenerfassung!C218),\"\",Datenerfassung!C218)","v":""},{"$f":"IF(ISBLANK(Datenerfassung!I218),\"\",Datenerfassung!I218)","v":""},{"$f":"IF(ISBLANK(Datenerfassung!J218),\"\",Datenerfassung!J218)","v":""},"",{"$f":"IF(ISBLANK(Datenerfassung!L218),\"\",Datenerfassung!L218)","v":""},{"$f":"IF(ISBLANK(Datenerfassung!F218),\"\",Datenerfassung!F218)","v":""},{"$f":"IF(ISBLANK(Datenerfassung!D218),IF(COUNTBLANK(A208:H208)+COUNTBLANK(J208:O208)=14,\"\",\"- ohne Titel -\"),Datenerfassung!D218)","v":""},{"$f":"IF(ISBLANK(Datenerfassung!E218),\"\",Datenerfassung!E218)","v":""},"",{"$f":"IF(ISBLANK(Datenerfassung!O218),\"\",Datenerfassung!O218)","v":""},{"$f":"IF(ISBLANK(Datenerfassung!G218),\"\",Datenerfassung!G218)","v":""},{"$f":"IF(ISBLANK(Datenerfassung!M218),\"\",Datenerfassung!M218)","v":""},{"$f":"IF(ISBLANK(Datenerfassung!H218),\"\",Datenerfassung!H218)","v":""}]
[{"$f":"IF(ISBLANK(Datenerfassung!A219),\"\",Datenerfassung!A219)","v":""},{"$f":"IF(ISBLANK(Datenerfassung!B219),\"\",Datenerfassung!B219)","v":""},{"$f":"IF(ISBLANK(Datenerfassung!C219),\"\",Datenerfassung!C219)","v":""},{"$f":"IF(ISBLANK(Datenerfassung!I219),\"\",Datenerfassung!I219)","v":""},{"$f":"IF(ISBLANK(Datenerfassung!J219),\"\",Datenerfassung!J219)","v":""},"",{"$f":"IF(ISBLANK(Datenerfassung!L219),\"\",Datenerfassung!L219)","v":""},{"$f":"IF(ISBLANK(Datenerfassung!F219),\"\",Datenerfassung!F219)","v":""},{"$f":"IF(ISBLANK(Datenerfassung!D219),IF(COUNTBLANK(A209:H209)+COUNTBLANK(J209:O209)=14,\"\",\"- ohne Titel -\"),Datenerfassung!D219)","v":""},{"$f":"IF(ISBLANK(Datenerfassung!E219),\"\",Datenerfassung!E219)","v":""},"",{"$f":"IF(ISBLANK(Datenerfassung!O219),\"\",Datenerfassung!O219)","v":""},{"$f":"IF(ISBLANK(Datenerfassung!G219),\"\",Datenerfassung!G219)","v":""},{"$f":"IF(ISBLANK(Datenerfassung!M219),\"\",Datenerfassung!M219)","v":""},{"$f":"IF(ISBLANK(Datenerfassung!H219),\"\",Datenerfassung!H219)","v":""}]
[{"$f":"IF(ISBLANK(Datenerfassung!A220),\"\",Datenerfassung!A220)","v":""},{"$f":"IF(ISBLANK(Datenerfassung!B220),\"\",Datenerfassung!B220)","v":""},{"$f":"IF(ISBLANK(Datenerfassung!C220),\"\",Datenerfassung!C220)","v":""},{"$f":"IF(ISBLANK(Datenerfassung!I220),\"\",Datenerfassung!I220)","v":""},{"$f":"IF(ISBLANK(Datenerfassung!J220),\"\",Datenerfassung!J220)","v":""},"",{"$f":"IF(ISBLANK(Datenerfassung!L220),\"\",Datenerfassung!L220)","v":""},{"$f":"IF(ISBLANK(Datenerfassung!F220),\"\",Datenerfassung!F220)","v":""},{"$f":"IF(ISBLANK(Datenerfassung!D220),IF(COUNTBLANK(A210:H210)+COUNTBLANK(J210:O210)=14,\"\",\"- ohne Titel -\"),Datenerfassung!D220)","v":""},{"$f":"IF(ISBLANK(Datenerfassung!E220),\"\",Datenerfassung!E220)","v":""},"",{"$f":"IF(ISBLANK(Datenerfassung!O220),\"\",Datenerfassung!O220)","v":""},{"$f":"IF(ISBLANK(Datenerfassung!G220),\"\",Datenerfassung!G220)","v":""},{"$f":"IF(ISBLANK(Datenerfassung!M220),\"\",Datenerfassung!M220)","v":""},{"$f":"IF(ISBLANK(Datenerfassung!H220),\"\",Datenerfassung!H220)","v":""}]
[{"$f":"IF(ISBLANK(Datenerfassung!A221),\"\",Datenerfassung!A221)","v":""},{"$f":"IF(ISBLANK(Datenerfassung!B221),\"\",Datenerfassung!B221)","v":""},{"$f":"IF(ISBLANK(Datenerfassung!C221),\"\",Datenerfassung!C221)","v":""},{"$f":"IF(ISBLANK(Datenerfassung!I221),\"\",Datenerfassung!I221)","v":""},{"$f":"IF(ISBLANK(Datenerfassung!J221),\"\",Datenerfassung!J221)","v":""},"",{"$f":"IF(ISBLANK(Datenerfassung!L221),\"\",Datenerfassung!L221)","v":""},{"$f":"IF(ISBLANK(Datenerfassung!F221),\"\",Datenerfassung!F221)","v":""},{"$f":"IF(ISBLANK(Datenerfassung!D221),IF(COUNTBLANK(A211:H211)+COUNTBLANK(J211:O211)=14,\"\",\"- ohne Titel -\"),Datenerfassung!D221)","v":""},{"$f":"IF(ISBLANK(Datenerfassung!E221),\"\",Datenerfassung!E221)","v":""},"",{"$f":"IF(ISBLANK(Datenerfassung!O221),\"\",Datenerfassung!O221)","v":""},{"$f":"IF(ISBLANK(Datenerfassung!G221),\"\",Datenerfassung!G221)","v":""},{"$f":"IF(ISBLANK(Datenerfassung!M221),\"\",Datenerfassung!M221)","v":""},{"$f":"IF(ISBLANK(Datenerfassung!H221),\"\",Datenerfassung!H221)","v":""}]
[{"$f":"IF(ISBLANK(Datenerfassung!A222),\"\",Datenerfassung!A222)","v":""},{"$f":"IF(ISBLANK(Datenerfassung!B222),\"\",Datenerfassung!B222)","v":""},{"$f":"IF(ISBLANK(Datenerfassung!C222),\"\",Datenerfassung!C222)","v":""},{"$f":"IF(ISBLANK(Datenerfassung!I222),\"\",Datenerfassung!I222)","v":""},{"$f":"IF(ISBLANK(Datenerfassung!J222),\"\",Datenerfassung!J222)","v":""},"",{"$f":"IF(ISBLANK(Datenerfassung!L222),\"\",Datenerfassung!L222)","v":""},{"$f":"IF(ISBLANK(Datenerfassung!F222),\"\",Datenerfassung!F222)","v":""},{"$f":"IF(ISBLANK(Datenerfassung!D222),IF(COUNTBLANK(A212:H212)+COUNTBLANK(J212:O212)=14,\"\",\"- ohne Titel -\"),Datenerfassung!D222)","v":""},{"$f":"IF(ISBLANK(Datenerfassung!E222),\"\",Datenerfassung!E222)","v":""},"",{"$f":"IF(ISBLANK(Datenerfassung!O222),\"\",Datenerfassung!O222)","v":""},{"$f":"IF(ISBLANK(Datenerfassung!G222),\"\",Datenerfassung!G222)","v":""},{"$f":"IF(ISBLANK(Datenerfassung!M222),\"\",Datenerfassung!M222)","v":""},{"$f":"IF(ISBLANK(Datenerfassung!H222),\"\",Datenerfassung!H222)","v":""}]
[{"$f":"IF(ISBLANK(Datenerfassung!A223),\"\",Datenerfassung!A223)","v":""},{"$f":"IF(ISBLANK(Datenerfassung!B223),\"\",Datenerfassung!B223)","v":""},{"$f":"IF(ISBLANK(Datenerfassung!C223),\"\",Datenerfassung!C223)","v":""},{"$f":"IF(ISBLANK(Datenerfassung!I223),\"\",Datenerfassung!I223)","v":""},{"$f":"IF(ISBLANK(Datenerfassung!J223),\"\",Datenerfassung!J223)","v":""},"",{"$f":"IF(ISBLANK(Datenerfassung!L223),\"\",Datenerfassung!L223)","v":""},{"$f":"IF(ISBLANK(Datenerfassung!F223),\"\",Datenerfassung!F223)","v":""},{"$f":"IF(ISBLANK(Datenerfassung!D223),IF(COUNTBLANK(A213:H213)+COUNTBLANK(J213:O213)=14,\"\",\"- ohne Titel -\"),Datenerfassung!D223)","v":""},{"$f":"IF(ISBLANK(Datenerfassung!E223),\"\",Datenerfassung!E223)","v":""},"",{"$f":"IF(ISBLANK(Datenerfassung!O223),\"\",Datenerfassung!O223)","v":""},{"$f":"IF(ISBLANK(Datenerfassung!G223),\"\",Datenerfassung!G223)","v":""},{"$f":"IF(ISBLANK(Datenerfassung!M223),\"\",Datenerfassung!M223)","v":""},{"$f":"IF(ISBLANK(Datenerfassung!H223),\"\",Datenerfassung!H223)","v":""}]
[{"$f":"IF(ISBLANK(Datenerfassung!A224),\"\",Datenerfassung!A224)","v":""},{"$f":"IF(ISBLANK(Datenerfassung!B224),\"\",Datenerfassung!B224)","v":""},{"$f":"IF(ISBLANK(Datenerfassung!C224),\"\",Datenerfassung!C224)","v":""},{"$f":"IF(ISBLANK(Datenerfassung!I224),\"\",Datenerfassung!I224)","v":""},{"$f":"IF(ISBLANK(Datenerfassung!J224),\"\",Datenerfassung!J224)","v":""},"",{"$f":"IF(ISBLANK(Datenerfassung!L224),\"\",Datenerfassung!L224)","v":""},{"$f":"IF(ISBLANK(Datenerfassung!F224),\"\",Datenerfassung!F224)","v":""},{"$f":"IF(ISBLANK(Datenerfassung!D224),IF(COUNTBLANK(A214:H214)+COUNTBLANK(J214:O214)=14,\"\",\"- ohne Titel -\"),Datenerfassung!D224)","v":""},{"$f":"IF(ISBLANK(Datenerfassung!E224),\"\",Datenerfassung!E224)","v":""},"",{"$f":"IF(ISBLANK(Datenerfassung!O224),\"\",Datenerfassung!O224)","v":""},{"$f":"IF(ISBLANK(Datenerfassung!G224),\"\",Datenerfassung!G224)","v":""},{"$f":"IF(ISBLANK(Datenerfassung!M224),\"\",Datenerfassung!M224)","v":""},{"$f":"IF(ISBLANK(Datenerfassung!H224),\"\",Datenerfassung!H224)","v":""}]
[{"$f":"IF(ISBLANK(Datenerfassung!A225),\"\",Datenerfassung!A225)","v":""},{"$f":"IF(ISBLANK(Datenerfassung!B225),\"\",Datenerfassung!B225)","v":""},{"$f":"IF(ISBLANK(Datenerfassung!C225),\"\",Datenerfassung!C225)","v":""},{"$f":"IF(ISBLANK(Datenerfassung!I225),\"\",Datenerfassung!I225)","v":""},{"$f":"IF(ISBLANK(Datenerfassung!J225),\"\",Datenerfassung!J225)","v":""},"",{"$f":"IF(ISBLANK(Datenerfassung!L225),\"\",Datenerfassung!L225)","v":""},{"$f":"IF(ISBLANK(Datenerfassung!F225),\"\",Datenerfassung!F225)","v":""},{"$f":"IF(ISBLANK(Datenerfassung!D225),IF(COUNTBLANK(A215:H215)+COUNTBLANK(J215:O215)=14,\"\",\"- ohne Titel -\"),Datenerfassung!D225)","v":""},{"$f":"IF(ISBLANK(Datenerfassung!E225),\"\",Datenerfassung!E225)","v":""},"",{"$f":"IF(ISBLANK(Datenerfassung!O225),\"\",Datenerfassung!O225)","v":""},{"$f":"IF(ISBLANK(Datenerfassung!G225),\"\",Datenerfassung!G225)","v":""},{"$f":"IF(ISBLANK(Datenerfassung!M225),\"\",Datenerfassung!M225)","v":""},{"$f":"IF(ISBLANK(Datenerfassung!H225),\"\",Datenerfassung!H225)","v":""}]
[{"$f":"IF(ISBLANK(Datenerfassung!A226),\"\",Datenerfassung!A226)","v":""},{"$f":"IF(ISBLANK(Datenerfassung!B226),\"\",Datenerfassung!B226)","v":""},{"$f":"IF(ISBLANK(Datenerfassung!C226),\"\",Datenerfassung!C226)","v":""},{"$f":"IF(ISBLANK(Datenerfassung!I226),\"\",Datenerfassung!I226)","v":""},{"$f":"IF(ISBLANK(Datenerfassung!J226),\"\",Datenerfassung!J226)","v":""},"",{"$f":"IF(ISBLANK(Datenerfassung!L226),\"\",Datenerfassung!L226)","v":""},{"$f":"IF(ISBLANK(Datenerfassung!F226),\"\",Datenerfassung!F226)","v":""},{"$f":"IF(ISBLANK(Datenerfassung!D226),IF(COUNTBLANK(A216:H216)+COUNTBLANK(J216:O216)=14,\"\",\"- ohne Titel -\"),Datenerfassung!D226)","v":""},{"$f":"IF(ISBLANK(Datenerfassung!E226),\"\",Datenerfassung!E226)","v":""},"",{"$f":"IF(ISBLANK(Datenerfassung!O226),\"\",Datenerfassung!O226)","v":""},{"$f":"IF(ISBLANK(Datenerfassung!G226),\"\",Datenerfassung!G226)","v":""},{"$f":"IF(ISBLANK(Datenerfassung!M226),\"\",Datenerfassung!M226)","v":""},{"$f":"IF(ISBLANK(Datenerfassung!H226),\"\",Datenerfassung!H226)","v":""}]
[{"$f":"IF(ISBLANK(Datenerfassung!A227),\"\",Datenerfassung!A227)","v":""},{"$f":"IF(ISBLANK(Datenerfassung!B227),\"\",Datenerfassung!B227)","v":""},{"$f":"IF(ISBLANK(Datenerfassung!C227),\"\",Datenerfassung!C227)","v":""},{"$f":"IF(ISBLANK(Datenerfassung!I227),\"\",Datenerfassung!I227)","v":""},{"$f":"IF(ISBLANK(Datenerfassung!J227),\"\",Datenerfassung!J227)","v":""},"",{"$f":"IF(ISBLANK(Datenerfassung!L227),\"\",Datenerfassung!L227)","v":""},{"$f":"IF(ISBLANK(Datenerfassung!F227),\"\",Datenerfassung!F227)","v":""},{"$f":"IF(ISBLANK(Datenerfassung!D227),IF(COUNTBLANK(A217:H217)+COUNTBLANK(J217:O217)=14,\"\",\"- ohne Titel -\"),Datenerfassung!D227)","v":""},{"$f":"IF(ISBLANK(Datenerfassung!E227),\"\",Datenerfassung!E227)","v":""},"",{"$f":"IF(ISBLANK(Datenerfassung!O227),\"\",Datenerfassung!O227)","v":""},{"$f":"IF(ISBLANK(Datenerfassung!G227),\"\",Datenerfassung!G227)","v":""},{"$f":"IF(ISBLANK(Datenerfassung!M227),\"\",Datenerfassung!M227)","v":""},{"$f":"IF(ISBLANK(Datenerfassung!H227),\"\",Datenerfassung!H227)","v":""}]
[{"$f":"IF(ISBLANK(Datenerfassung!A228),\"\",Datenerfassung!A228)","v":""},{"$f":"IF(ISBLANK(Datenerfassung!B228),\"\",Datenerfassung!B228)","v":""},{"$f":"IF(ISBLANK(Datenerfassung!C228),\"\",Datenerfassung!C228)","v":""},{"$f":"IF(ISBLANK(Datenerfassung!I228),\"\",Datenerfassung!I228)","v":""},{"$f":"IF(ISBLANK(Datenerfassung!J228),\"\",Datenerfassung!J228)","v":""},"",{"$f":"IF(ISBLANK(Datenerfassung!L228),\"\",Datenerfassung!L228)","v":""},{"$f":"IF(ISBLANK(Datenerfassung!F228),\"\",Datenerfassung!F228)","v":""},{"$f":"IF(ISBLANK(Datenerfassung!D228),IF(COUNTBLANK(A218:H218)+COUNTBLANK(J218:O218)=14,\"\",\"- ohne Titel -\"),Datenerfassung!D228)","v":""},{"$f":"IF(ISBLANK(Datenerfassung!E228),\"\",Datenerfassung!E228)","v":""},"",{"$f":"IF(ISBLANK(Datenerfassung!O228),\"\",Datenerfassung!O228)","v":""},{"$f":"IF(ISBLANK(Datenerfassung!G228),\"\",Datenerfassung!G228)","v":""},{"$f":"IF(ISBLANK(Datenerfassung!M228),\"\",Datenerfassung!M228)","v":""},{"$f":"IF(ISBLANK(Datenerfassung!H228),\"\",Datenerfassung!H228)","v":""}]
[{"$f":"IF(ISBLANK(Datenerfassung!A229),\"\",Datenerfassung!A229)","v":""},{"$f":"IF(ISBLANK(Datenerfassung!B229),\"\",Datenerfassung!B229)","v":""},{"$f":"IF(ISBLANK(Datenerfassung!C229),\"\",Datenerfassung!C229)","v":""},{"$f":"IF(ISBLANK(Datenerfassung!I229),\"\",Datenerfassung!I229)","v":""},{"$f":"IF(ISBLANK(Datenerfassung!J229),\"\",Datenerfassung!J229)","v":""},"",{"$f":"IF(ISBLANK(Datenerfassung!L229),\"\",Datenerfassung!L229)","v":""},{"$f":"IF(ISBLANK(Datenerfassung!F229),\"\",Datenerfassung!F229)","v":""},{"$f":"IF(ISBLANK(Datenerfassung!D229),IF(COUNTBLANK(A219:H219)+COUNTBLANK(J219:O219)=14,\"\",\"- ohne Titel -\"),Datenerfassung!D229)","v":""},{"$f":"IF(ISBLANK(Datenerfassung!E229),\"\",Datenerfassung!E229)","v":""},"",{"$f":"IF(ISBLANK(Datenerfassung!O229),\"\",Datenerfassung!O229)","v":""},{"$f":"IF(ISBLANK(Datenerfassung!G229),\"\",Datenerfassung!G229)","v":""},{"$f":"IF(ISBLANK(Datenerfassung!M229),\"\",Datenerfassung!M229)","v":""},{"$f":"IF(ISBLANK(Datenerfassung!H229),\"\",Datenerfassung!H229)","v":""}]
[{"$f":"IF(ISBLANK(Datenerfassung!A230),\"\",Datenerfassung!A230)","v":""},{"$f":"IF(ISBLANK(Datenerfassung!B230),\"\",Datenerfassung!B230)","v":""},{"$f":"IF(ISBLANK(Datenerfassung!C230),\"\",Datenerfassung!C230)","v":""},{"$f":"IF(ISBLANK(Datenerfassung!I230),\"\",Datenerfassung!I230)","v":""},{"$f":"IF(ISBLANK(Datenerfassung!J230),\"\",Datenerfassung!J230)","v":""},"",{"$f":"IF(ISBLANK(Datenerfassung!L230),\"\",Datenerfassung!L230)","v":""},{"$f":"IF(ISBLANK(Datenerfassung!F230),\"\",Datenerfassung!F230)","v":""},{"$f":"IF(ISBLANK(Datenerfassung!D230),IF(COUNTBLANK(A220:H220)+COUNTBLANK(J220:O220)=14,\"\",\"- ohne Titel -\"),Datenerfassung!D230)","v":""},{"$f":"IF(ISBLANK(Datenerfassung!E230),\"\",Datenerfassung!E230)","v":""},"",{"$f":"IF(ISBLANK(Datenerfassung!O230),\"\",Datenerfassung!O230)","v":""},{"$f":"IF(ISBLANK(Datenerfassung!G230),\"\",Datenerfassung!G230)","v":""},{"$f":"IF(ISBLANK(Datenerfassung!M230),\"\",Datenerfassung!M230)","v":""},{"$f":"IF(ISBLANK(Datenerfassung!H230),\"\",Datenerfassung!H230)","v":""}]
[{"$f":"IF(ISBLANK(Datenerfassung!A231),\"\",Datenerfassung!A231)","v":""},{"$f":"IF(ISBLANK(Datenerfassung!B231),\"\",Datenerfassung!B231)","v":""},{"$f":"IF(ISBLANK(Datenerfassung!C231),\"\",Datenerfassung!C231)","v":""},{"$f":"IF(ISBLANK(Datenerfassung!I231),\"\",Datenerfassung!I231)","v":""},{"$f":"IF(ISBLANK(Datenerfassung!J231),\"\",Datenerfassung!J231)","v":""},"",{"$f":"IF(ISBLANK(Datenerfassung!L231),\"\",Datenerfassung!L231)","v":""},{"$f":"IF(ISBLANK(Datenerfassung!F231),\"\",Datenerfassung!F231)","v":""},{"$f":"IF(ISBLANK(Datenerfassung!D231),IF(COUNTBLANK(A221:H221)+COUNTBLANK(J221:O221)=14,\"\",\"- ohne Titel -\"),Datenerfassung!D231)","v":""},{"$f":"IF(ISBLANK(Datenerfassung!E231),\"\",Datenerfassung!E231)","v":""},"",{"$f":"IF(ISBLANK(Datenerfassung!O231),\"\",Datenerfassung!O231)","v":""},{"$f":"IF(ISBLANK(Datenerfassung!G231),\"\",Datenerfassung!G231)","v":""},{"$f":"IF(ISBLANK(Datenerfassung!M231),\"\",Datenerfassung!M231)","v":""},{"$f":"IF(ISBLANK(Datenerfassung!H231),\"\",Datenerfassung!H231)","v":""}]
[{"$f":"IF(ISBLANK(Datenerfassung!A232),\"\",Datenerfassung!A232)","v":""},{"$f":"IF(ISBLANK(Datenerfassung!B232),\"\",Datenerfassung!B232)","v":""},{"$f":"IF(ISBLANK(Datenerfassung!C232),\"\",Datenerfassung!C232)","v":""},{"$f":"IF(ISBLANK(Datenerfassung!I232),\"\",Datenerfassung!I232)","v":""},{"$f":"IF(ISBLANK(Datenerfassung!J232),\"\",Datenerfassung!J232)","v":""},"",{"$f":"IF(ISBLANK(Datenerfassung!L232),\"\",Datenerfassung!L232)","v":""},{"$f":"IF(ISBLANK(Datenerfassung!F232),\"\",Datenerfassung!F232)","v":""},{"$f":"IF(ISBLANK(Datenerfassung!D232),IF(COUNTBLANK(A222:H222)+COUNTBLANK(J222:O222)=14,\"\",\"- ohne Titel -\"),Datenerfassung!D232)","v":""},{"$f":"IF(ISBLANK(Datenerfassung!E232),\"\",Datenerfassung!E232)","v":""},"",{"$f":"IF(ISBLANK(Datenerfassung!O232),\"\",Datenerfassung!O232)","v":""},{"$f":"IF(ISBLANK(Datenerfassung!G232),\"\",Datenerfassung!G232)","v":""},{"$f":"IF(ISBLANK(Datenerfassung!M232),\"\",Datenerfassung!M232)","v":""},{"$f":"IF(ISBLANK(Datenerfassung!H232),\"\",Datenerfassung!H232)","v":""}]
[{"$f":"IF(ISBLANK(Datenerfassung!A233),\"\",Datenerfassung!A233)","v":""},{"$f":"IF(ISBLANK(Datenerfassung!B233),\"\",Datenerfassung!B233)","v":""},{"$f":"IF(ISBLANK(Datenerfassung!C233),\"\",Datenerfassung!C233)","v":""},{"$f":"IF(ISBLANK(Datenerfassung!I233),\"\",Datenerfassung!I233)","v":""},{"$f":"IF(ISBLANK(Datenerfassung!J233),\"\",Datenerfassung!J233)","v":""},"",{"$f":"IF(ISBLANK(Datenerfassung!L233),\"\",Datenerfassung!L233)","v":""},{"$f":"IF(ISBLANK(Datenerfassung!F233),\"\",Datenerfassung!F233)","v":""},{"$f":"IF(ISBLANK(Datenerfassung!D233),IF(COUNTBLANK(A223:H223)+COUNTBLANK(J223:O223)=14,\"\",\"- ohne Titel -\"),Datenerfassung!D233)","v":""},{"$f":"IF(ISBLANK(Datenerfassung!E233),\"\",Datenerfassung!E233)","v":""},"",{"$f":"IF(ISBLANK(Datenerfassung!O233),\"\",Datenerfassung!O233)","v":""},{"$f":"IF(ISBLANK(Datenerfassung!G233),\"\",Datenerfassung!G233)","v":""},{"$f":"IF(ISBLANK(Datenerfassung!M233),\"\",Datenerfassung!M233)","v":""},{"$f":"IF(ISBLANK(Datenerfassung!H233),\"\",Datenerfassung!H233)","v":""}]
[{"$f":"IF(ISBLANK(Datenerfassung!A234),\"\",Datenerfassung!A234)","v":""},{"$f":"IF(ISBLANK(Datenerfassung!B234),\"\",Datenerfassung!B234)","v":""},{"$f":"IF(ISBLANK(Datenerfassung!C234),\"\",Datenerfassung!C234)","v":""},{"$f":"IF(ISBLANK(Datenerfassung!I234),\"\",Datenerfassung!I234)","v":""},{"$f":"IF(ISBLANK(Datenerfassung!J234),\"\",Datenerfassung!J234)","v":""},"",{"$f":"IF(ISBLANK(Datenerfassung!L234),\"\",Datenerfassung!L234)","v":""},{"$f":"IF(ISBLANK(Datenerfassung!F234),\"\",Datenerfassung!F234)","v":""},{"$f":"IF(ISBLANK(Datenerfassung!D234),IF(COUNTBLANK(A224:H224)+COUNTBLANK(J224:O224)=14,\"\",\"- ohne Titel -\"),Datenerfassung!D234)","v":""},{"$f":"IF(ISBLANK(Datenerfassung!E234),\"\",Datenerfassung!E234)","v":""},"",{"$f":"IF(ISBLANK(Datenerfassung!O234),\"\",Datenerfassung!O234)","v":""},{"$f":"IF(ISBLANK(Datenerfassung!G234),\"\",Datenerfassung!G234)","v":""},{"$f":"IF(ISBLANK(Datenerfassung!M234),\"\",Datenerfassung!M234)","v":""},{"$f":"IF(ISBLANK(Datenerfassung!H234),\"\",Datenerfassung!H234)","v":""}]
[{"$f":"IF(ISBLANK(Datenerfassung!A235),\"\",Datenerfassung!A235)","v":""},{"$f":"IF(ISBLANK(Datenerfassung!B235),\"\",Datenerfassung!B235)","v":""},{"$f":"IF(ISBLANK(Datenerfassung!C235),\"\",Datenerfassung!C235)","v":""},{"$f":"IF(ISBLANK(Datenerfassung!I235),\"\",Datenerfassung!I235)","v":""},{"$f":"IF(ISBLANK(Datenerfassung!J235),\"\",Datenerfassung!J235)","v":""},"",{"$f":"IF(ISBLANK(Datenerfassung!L235),\"\",Datenerfassung!L235)","v":""},{"$f":"IF(ISBLANK(Datenerfassung!F235),\"\",Datenerfassung!F235)","v":""},{"$f":"IF(ISBLANK(Datenerfassung!D235),IF(COUNTBLANK(A225:H225)+COUNTBLANK(J225:O225)=14,\"\",\"- ohne Titel -\"),Datenerfassung!D235)","v":""},{"$f":"IF(ISBLANK(Datenerfassung!E235),\"\",Datenerfassung!E235)","v":""},"",{"$f":"IF(ISBLANK(Datenerfassung!O235),\"\",Datenerfassung!O235)","v":""},{"$f":"IF(ISBLANK(Datenerfassung!G235),\"\",Datenerfassung!G235)","v":""},{"$f":"IF(ISBLANK(Datenerfassung!M235),\"\",Datenerfassung!M235)","v":""},{"$f":"IF(ISBLANK(Datenerfassung!H235),\"\",Datenerfassung!H235)","v":""}]
[{"$f":"IF(ISBLANK(Datenerfassung!A236),\"\",Datenerfassung!A236)","v":""},{"$f":"IF(ISBLANK(Datenerfassung!B236),\"\",Datenerfassung!B236)","v":""},{"$f":"IF(ISBLANK(Datenerfassung!C236),\"\",Datenerfassung!C236)","v":""},{"$f":"IF(ISBLANK(Datenerfassung!I236),\"\",Datenerfassung!I236)","v":""},{"$f":"IF(ISBLANK(Datenerfassung!J236),\"\",Datenerfassung!J236)","v":""},"",{"$f":"IF(ISBLANK(Datenerfassung!L236),\"\",Datenerfassung!L236)","v":""},{"$f":"IF(ISBLANK(Datenerfassung!F236),\"\",Datenerfassung!F236)","v":""},{"$f":"IF(ISBLANK(Datenerfassung!D236),IF(COUNTBLANK(A226:H226)+COUNTBLANK(J226:O226)=14,\"\",\"- ohne Titel -\"),Datenerfassung!D236)","v":""},{"$f":"IF(ISBLANK(Datenerfassung!E236),\"\",Datenerfassung!E236)","v":""},"",{"$f":"IF(ISBLANK(Datenerfassung!O236),\"\",Datenerfassung!O236)","v":""},{"$f":"IF(ISBLANK(Datenerfassung!G236),\"\",Datenerfassung!G236)","v":""},{"$f":"IF(ISBLANK(Datenerfassung!M236),\"\",Datenerfassung!M236)","v":""},{"$f":"IF(ISBLANK(Datenerfassung!H236),\"\",Datenerfassung!H236)","v":""}]
[{"$f":"IF(ISBLANK(Datenerfassung!A237),\"\",Datenerfassung!A237)","v":""},{"$f":"IF(ISBLANK(Datenerfassung!B237),\"\",Datenerfassung!B237)","v":""},{"$f":"IF(ISBLANK(Datenerfassung!C237),\"\",Datenerfassung!C237)","v":""},{"$f":"IF(ISBLANK(Datenerfassung!I237),\"\",Datenerfassung!I237)","v":""},{"$f":"IF(ISBLANK(Datenerfassung!J237),\"\",Datenerfassung!J237)","v":""},"",{"$f":"IF(ISBLANK(Datenerfassung!L237),\"\",Datenerfassung!L237)","v":""},{"$f":"IF(ISBLANK(Datenerfassung!F237),\"\",Datenerfassung!F237)","v":""},{"$f":"IF(ISBLANK(Datenerfassung!D237),IF(COUNTBLANK(A227:H227)+COUNTBLANK(J227:O227)=14,\"\",\"- ohne Titel -\"),Datenerfassung!D237)","v":""},{"$f":"IF(ISBLANK(Datenerfassung!E237),\"\",Datenerfassung!E237)","v":""},"",{"$f":"IF(ISBLANK(Datenerfassung!O237),\"\",Datenerfassung!O237)","v":""},{"$f":"IF(ISBLANK(Datenerfassung!G237),\"\",Datenerfassung!G237)","v":""},{"$f":"IF(ISBLANK(Datenerfassung!M237),\"\",Datenerfassung!M237)","v":""},{"$f":"IF(ISBLANK(Datenerfassung!H237),\"\",Datenerfassung!H237)","v":""}]
[{"$f":"IF(ISBLANK(Datenerfassung!A238),\"\",Datenerfassung!A238)","v":""},{"$f":"IF(ISBLANK(Datenerfassung!B238),\"\",Datenerfassung!B238)","v":""},{"$f":"IF(ISBLANK(Datenerfassung!C238),\"\",Datenerfassung!C238)","v":""},{"$f":"IF(ISBLANK(Datenerfassung!I238),\"\",Datenerfassung!I238)","v":""},{"$f":"IF(ISBLANK(Datenerfassung!J238),\"\",Datenerfassung!J238)","v":""},"",{"$f":"IF(ISBLANK(Datenerfassung!L238),\"\",Datenerfassung!L238)","v":""},{"$f":"IF(ISBLANK(Datenerfassung!F238),\"\",Datenerfassung!F238)","v":""},{"$f":"IF(ISBLANK(Datenerfassung!D238),IF(COUNTBLANK(A228:H228)+COUNTBLANK(J228:O228)=14,\"\",\"- ohne Titel -\"),Datenerfassung!D238)","v":""},{"$f":"IF(ISBLANK(Datenerfassung!E238),\"\",Datenerfassung!E238)","v":""},"",{"$f":"IF(ISBLANK(Datenerfassung!O238),\"\",Datenerfassung!O238)","v":""},{"$f":"IF(ISBLANK(Datenerfassung!G238),\"\",Datenerfassung!G238)","v":""},{"$f":"IF(ISBLANK(Datenerfassung!M238),\"\",Datenerfassung!M238)","v":""},{"$f":"IF(ISBLANK(Datenerfassung!H238),\"\",Datenerfassung!H238)","v":""}]
[{"$f":"IF(ISBLANK(Datenerfassung!A239),\"\",Datenerfassung!A239)","v":""},{"$f":"IF(ISBLANK(Datenerfassung!B239),\"\",Datenerfassung!B239)","v":""},{"$f":"IF(ISBLANK(Datenerfassung!C239),\"\",Datenerfassung!C239)","v":""},{"$f":"IF(ISBLANK(Datenerfassung!I239),\"\",Datenerfassung!I239)","v":""},{"$f":"IF(ISBLANK(Datenerfassung!J239),\"\",Datenerfassung!J239)","v":""},"",{"$f":"IF(ISBLANK(Datenerfassung!L239),\"\",Datenerfassung!L239)","v":""},{"$f":"IF(ISBLANK(Datenerfassung!F239),\"\",Datenerfassung!F239)","v":""},{"$f":"IF(ISBLANK(Datenerfassung!D239),IF(COUNTBLANK(A229:H229)+COUNTBLANK(J229:O229)=14,\"\",\"- ohne Titel -\"),Datenerfassung!D239)","v":""},{"$f":"IF(ISBLANK(Datenerfassung!E239),\"\",Datenerfassung!E239)","v":""},"",{"$f":"IF(ISBLANK(Datenerfassung!O239),\"\",Datenerfassung!O239)","v":""},{"$f":"IF(ISBLANK(Datenerfassung!G239),\"\",Datenerfassung!G239)","v":""},{"$f":"IF(ISBLANK(Datenerfassung!M239),\"\",Datenerfassung!M239)","v":""},{"$f":"IF(ISBLANK(Datenerfassung!H239),\"\",Datenerfassung!H239)","v":""}]
[{"$f":"IF(ISBLANK(Datenerfassung!A240),\"\",Datenerfassung!A240)","v":""},{"$f":"IF(ISBLANK(Datenerfassung!B240),\"\",Datenerfassung!B240)","v":""},{"$f":"IF(ISBLANK(Datenerfassung!C240),\"\",Datenerfassung!C240)","v":""},{"$f":"IF(ISBLANK(Datenerfassung!I240),\"\",Datenerfassung!I240)","v":""},{"$f":"IF(ISBLANK(Datenerfassung!J240),\"\",Datenerfassung!J240)","v":""},"",{"$f":"IF(ISBLANK(Datenerfassung!L240),\"\",Datenerfassung!L240)","v":""},{"$f":"IF(ISBLANK(Datenerfassung!F240),\"\",Datenerfassung!F240)","v":""},{"$f":"IF(ISBLANK(Datenerfassung!D240),IF(COUNTBLANK(A230:H230)+COUNTBLANK(J230:O230)=14,\"\",\"- ohne Titel -\"),Datenerfassung!D240)","v":""},{"$f":"IF(ISBLANK(Datenerfassung!E240),\"\",Datenerfassung!E240)","v":""},"",{"$f":"IF(ISBLANK(Datenerfassung!O240),\"\",Datenerfassung!O240)","v":""},{"$f":"IF(ISBLANK(Datenerfassung!G240),\"\",Datenerfassung!G240)","v":""},{"$f":"IF(ISBLANK(Datenerfassung!M240),\"\",Datenerfassung!M240)","v":""},{"$f":"IF(ISBLANK(Datenerfassung!H240),\"\",Datenerfassung!H240)","v":""}]
[{"$f":"IF(ISBLANK(Datenerfassung!A241),\"\",Datenerfassung!A241)","v":""},{"$f":"IF(ISBLANK(Datenerfassung!B241),\"\",Datenerfassung!B241)","v":""},{"$f":"IF(ISBLANK(Datenerfassung!C241),\"\",Datenerfassung!C241)","v":""},{"$f":"IF(ISBLANK(Datenerfassung!I241),\"\",Datenerfassung!I241)","v":""},{"$f":"IF(ISBLANK(Datenerfassung!J241),\"\",Datenerfassung!J241)","v":""},"",{"$f":"IF(ISBLANK(Datenerfassung!L241),\"\",Datenerfassung!L241)","v":""},{"$f":"IF(ISBLANK(Datenerfassung!F241),\"\",Datenerfassung!F241)","v":""},{"$f":"IF(ISBLANK(Datenerfassung!D241),IF(COUNTBLANK(A231:H231)+COUNTBLANK(J231:O231)=14,\"\",\"- ohne Titel -\"),Datenerfassung!D241)","v":""},{"$f":"IF(ISBLANK(Datenerfassung!E241),\"\",Datenerfassung!E241)","v":""},"",{"$f":"IF(ISBLANK(Datenerfassung!O241),\"\",Datenerfassung!O241)","v":""},{"$f":"IF(ISBLANK(Datenerfassung!G241),\"\",Datenerfassung!G241)","v":""},{"$f":"IF(ISBLANK(Datenerfassung!M241),\"\",Datenerfassung!M241)","v":""},{"$f":"IF(ISBLANK(Datenerfassung!H241),\"\",Datenerfassung!H241)","v":""}]
[{"$f":"IF(ISBLANK(Datenerfassung!A242),\"\",Datenerfassung!A242)","v":""},{"$f":"IF(ISBLANK(Datenerfassung!B242),\"\",Datenerfassung!B242)","v":""},{"$f":"IF(ISBLANK(Datenerfassung!C242),\"\",Datenerfassung!C242)","v":""},{"$f":"IF(ISBLANK(Datenerfassung!I242),\"\",Datenerfassung!I242)","v":""},{"$f":"IF(ISBLANK(Datenerfassung!J242),\"\",Datenerfassung!J242)","v":""},"",{"$f":"IF(ISBLANK(Datenerfassung!L242),\"\",Datenerfassung!L242)","v":""},{"$f":"IF(ISBLANK(Datenerfassung!F242),\"\",Datenerfassung!F242)","v":""},{"$f":"IF(ISBLANK(Datenerfassung!D242),IF(COUNTBLANK(A232:H232)+COUNTBLANK(J232:O232)=14,\"\",\"- ohne Titel -\"),Datenerfassung!D242)","v":""},{"$f":"IF(ISBLANK(Datenerfassung!E242),\"\",Datenerfassung!E242)","v":""},"",{"$f":"IF(ISBLANK(Datenerfassung!O242),\"\",Datenerfassung!O242)","v":""},{"$f":"IF(ISBLANK(Datenerfassung!G242),\"\",Datenerfassung!G242)","v":""},{"$f":"IF(ISBLANK(Datenerfassung!M242),\"\",Datenerfassung!M242)","v":""},{"$f":"IF(ISBLANK(Datenerfassung!H242),\"\",Datenerfassung!H242)","v":""}]
[{"$f":"IF(ISBLANK(Datenerfassung!A243),\"\",Datenerfassung!A243)","v":""},{"$f":"IF(ISBLANK(Datenerfassung!B243),\"\",Datenerfassung!B243)","v":""},{"$f":"IF(ISBLANK(Datenerfassung!C243),\"\",Datenerfassung!C243)","v":""},{"$f":"IF(ISBLANK(Datenerfassung!I243),\"\",Datenerfassung!I243)","v":""},{"$f":"IF(ISBLANK(Datenerfassung!J243),\"\",Datenerfassung!J243)","v":""},"",{"$f":"IF(ISBLANK(Datenerfassung!L243),\"\",Datenerfassung!L243)","v":""},{"$f":"IF(ISBLANK(Datenerfassung!F243),\"\",Datenerfassung!F243)","v":""},{"$f":"IF(ISBLANK(Datenerfassung!D243),IF(COUNTBLANK(A233:H233)+COUNTBLANK(J233:O233)=14,\"\",\"- ohne Titel -\"),Datenerfassung!D243)","v":""},{"$f":"IF(ISBLANK(Datenerfassung!E243),\"\",Datenerfassung!E243)","v":""},"",{"$f":"IF(ISBLANK(Datenerfassung!O243),\"\",Datenerfassung!O243)","v":""},{"$f":"IF(ISBLANK(Datenerfassung!G243),\"\",Datenerfassung!G243)","v":""},{"$f":"IF(ISBLANK(Datenerfassung!M243),\"\",Datenerfassung!M243)","v":""},{"$f":"IF(ISBLANK(Datenerfassung!H243),\"\",Datenerfassung!H243)","v":""}]
[{"$f":"IF(ISBLANK(Datenerfassung!A244),\"\",Datenerfassung!A244)","v":""},{"$f":"IF(ISBLANK(Datenerfassung!B244),\"\",Datenerfassung!B244)","v":""},{"$f":"IF(ISBLANK(Datenerfassung!C244),\"\",Datenerfassung!C244)","v":""},{"$f":"IF(ISBLANK(Datenerfassung!I244),\"\",Datenerfassung!I244)","v":""},{"$f":"IF(ISBLANK(Datenerfassung!J244),\"\",Datenerfassung!J244)","v":""},"",{"$f":"IF(ISBLANK(Datenerfassung!L244),\"\",Datenerfassung!L244)","v":""},{"$f":"IF(ISBLANK(Datenerfassung!F244),\"\",Datenerfassung!F244)","v":""},{"$f":"IF(ISBLANK(Datenerfassung!D244),IF(COUNTBLANK(A234:H234)+COUNTBLANK(J234:O234)=14,\"\",\"- ohne Titel -\"),Datenerfassung!D244)","v":""},{"$f":"IF(ISBLANK(Datenerfassung!E244),\"\",Datenerfassung!E244)","v":""},"",{"$f":"IF(ISBLANK(Datenerfassung!O244),\"\",Datenerfassung!O244)","v":""},{"$f":"IF(ISBLANK(Datenerfassung!G244),\"\",Datenerfassung!G244)","v":""},{"$f":"IF(ISBLANK(Datenerfassung!M244),\"\",Datenerfassung!M244)","v":""},{"$f":"IF(ISBLANK(Datenerfassung!H244),\"\",Datenerfassung!H244)","v":""}]
[{"$f":"IF(ISBLANK(Datenerfassung!A245),\"\",Datenerfassung!A245)","v":""},{"$f":"IF(ISBLANK(Datenerfassung!B245),\"\",Datenerfassung!B245)","v":""},{"$f":"IF(ISBLANK(Datenerfassung!C245),\"\",Datenerfassung!C245)","v":""},{"$f":"IF(ISBLANK(Datenerfassung!I245),\"\",Datenerfassung!I245)","v":""},{"$f":"IF(ISBLANK(Datenerfassung!J245),\"\",Datenerfassung!J245)","v":""},"",{"$f":"IF(ISBLANK(Datenerfassung!L245),\"\",Datenerfassung!L245)","v":""},{"$f":"IF(ISBLANK(Datenerfassung!F245),\"\",Datenerfassung!F245)","v":""},{"$f":"IF(ISBLANK(Datenerfassung!D245),IF(COUNTBLANK(A235:H235)+COUNTBLANK(J235:O235)=14,\"\",\"- ohne Titel -\"),Datenerfassung!D245)","v":""},{"$f":"IF(ISBLANK(Datenerfassung!E245),\"\",Datenerfassung!E245)","v":""},"",{"$f":"IF(ISBLANK(Datenerfassung!O245),\"\",Datenerfassung!O245)","v":""},{"$f":"IF(ISBLANK(Datenerfassung!G245),\"\",Datenerfassung!G245)","v":""},{"$f":"IF(ISBLANK(Datenerfassung!M245),\"\",Datenerfassung!M245)","v":""},{"$f":"IF(ISBLANK(Datenerfassung!H245),\"\",Datenerfassung!H245)","v":""}]
[{"$f":"IF(ISBLANK(Datenerfassung!A246),\"\",Datenerfassung!A246)","v":""},{"$f":"IF(ISBLANK(Datenerfassung!B246),\"\",Datenerfassung!B246)","v":""},{"$f":"IF(ISBLANK(Datenerfassung!C246),\"\",Datenerfassung!C246)","v":""},{"$f":"IF(ISBLANK(Datenerfassung!I246),\"\",Datenerfassung!I246)","v":""},{"$f":"IF(ISBLANK(Datenerfassung!J246),\"\",Datenerfassung!J246)","v":""},"",{"$f":"IF(ISBLANK(Datenerfassung!L246),\"\",Datenerfassung!L246)","v":""},{"$f":"IF(ISBLANK(Datenerfassung!F246),\"\",Datenerfassung!F246)","v":""},{"$f":"IF(ISBLANK(Datenerfassung!D246),IF(COUNTBLANK(A236:H236)+COUNTBLANK(J236:O236)=14,\"\",\"- ohne Titel -\"),Datenerfassung!D246)","v":""},{"$f":"IF(ISBLANK(Datenerfassung!E246),\"\",Datenerfassung!E246)","v":""},"",{"$f":"IF(ISBLANK(Datenerfassung!O246),\"\",Datenerfassung!O246)","v":""},{"$f":"IF(ISBLANK(Datenerfassung!G246),\"\",Datenerfassung!G246)","v":""},{"$f":"IF(ISBLANK(Datenerfassung!M246),\"\",Datenerfassung!M246)","v":""},{"$f":"IF(ISBLANK(Datenerfassung!H246),\"\",Datenerfassung!H246)","v":""}]
[{"$f":"IF(ISBLANK(Datenerfassung!A247),\"\",Datenerfassung!A247)","v":""},{"$f":"IF(ISBLANK(Datenerfassung!B247),\"\",Datenerfassung!B247)","v":""},{"$f":"IF(ISBLANK(Datenerfassung!C247),\"\",Datenerfassung!C247)","v":""},{"$f":"IF(ISBLANK(Datenerfassung!I247),\"\",Datenerfassung!I247)","v":""},{"$f":"IF(ISBLANK(Datenerfassung!J247),\"\",Datenerfassung!J247)","v":""},"",{"$f":"IF(ISBLANK(Datenerfassung!L247),\"\",Datenerfassung!L247)","v":""},{"$f":"IF(ISBLANK(Datenerfassung!F247),\"\",Datenerfassung!F247)","v":""},{"$f":"IF(ISBLANK(Datenerfassung!D247),IF(COUNTBLANK(A237:H237)+COUNTBLANK(J237:O237)=14,\"\",\"- ohne Titel -\"),Datenerfassung!D247)","v":""},{"$f":"IF(ISBLANK(Datenerfassung!E247),\"\",Datenerfassung!E247)","v":""},"",{"$f":"IF(ISBLANK(Datenerfassung!O247),\"\",Datenerfassung!O247)","v":""},{"$f":"IF(ISBLANK(Datenerfassung!G247),\"\",Datenerfassung!G247)","v":""},{"$f":"IF(ISBLANK(Datenerfassung!M247),\"\",Datenerfassung!M247)","v":""},{"$f":"IF(ISBLANK(Datenerfassung!H247),\"\",Datenerfassung!H247)","v":""}]
[{"$f":"IF(ISBLANK(Datenerfassung!A248),\"\",Datenerfassung!A248)","v":""},{"$f":"IF(ISBLANK(Datenerfassung!B248),\"\",Datenerfassung!B248)","v":""},{"$f":"IF(ISBLANK(Datenerfassung!C248),\"\",Datenerfassung!C248)","v":""},{"$f":"IF(ISBLANK(Datenerfassung!I248),\"\",Datenerfassung!I248)","v":""},{"$f":"IF(ISBLANK(Datenerfassung!J248),\"\",Datenerfassung!J248)","v":""},"",{"$f":"IF(ISBLANK(Datenerfassung!L248),\"\",Datenerfassung!L248)","v":""},{"$f":"IF(ISBLANK(Datenerfassung!F248),\"\",Datenerfassung!F248)","v":""},{"$f":"IF(ISBLANK(Datenerfassung!D248),IF(COUNTBLANK(A238:H238)+COUNTBLANK(J238:O238)=14,\"\",\"- ohne Titel -\"),Datenerfassung!D248)","v":""},{"$f":"IF(ISBLANK(Datenerfassung!E248),\"\",Datenerfassung!E248)","v":""},"",{"$f":"IF(ISBLANK(Datenerfassung!O248),\"\",Datenerfassung!O248)","v":""},{"$f":"IF(ISBLANK(Datenerfassung!G248),\"\",Datenerfassung!G248)","v":""},{"$f":"IF(ISBLANK(Datenerfassung!M248),\"\",Datenerfassung!M248)","v":""},{"$f":"IF(ISBLANK(Datenerfassung!H248),\"\",Datenerfassung!H248)","v":""}]
[{"$f":"IF(ISBLANK(Datenerfassung!A249),\"\",Datenerfassung!A249)","v":""},{"$f":"IF(ISBLANK(Datenerfassung!B249),\"\",Datenerfassung!B249)","v":""},{"$f":"IF(ISBLANK(Datenerfassung!C249),\"\",Datenerfassung!C249)","v":""},{"$f":"IF(ISBLANK(Datenerfassung!I249),\"\",Datenerfassung!I249)","v":""},{"$f":"IF(ISBLANK(Datenerfassung!J249),\"\",Datenerfassung!J249)","v":""},"",{"$f":"IF(ISBLANK(Datenerfassung!L249),\"\",Datenerfassung!L249)","v":""},{"$f":"IF(ISBLANK(Datenerfassung!F249),\"\",Datenerfassung!F249)","v":""},{"$f":"IF(ISBLANK(Datenerfassung!D249),IF(COUNTBLANK(A239:H239)+COUNTBLANK(J239:O239)=14,\"\",\"- ohne Titel -\"),Datenerfassung!D249)","v":""},{"$f":"IF(ISBLANK(Datenerfassung!E249),\"\",Datenerfassung!E249)","v":""},"",{"$f":"IF(ISBLANK(Datenerfassung!O249),\"\",Datenerfassung!O249)","v":""},{"$f":"IF(ISBLANK(Datenerfassung!G249),\"\",Datenerfassung!G249)","v":""},{"$f":"IF(ISBLANK(Datenerfassung!M249),\"\",Datenerfassung!M249)","v":""},{"$f":"IF(ISBLANK(Datenerfassung!H249),\"\",Datenerfassung!H249)","v":""}]
[{"$f":"IF(ISBLANK(Datenerfassung!A250),\"\",Datenerfassung!A250)","v":""},{"$f":"IF(ISBLANK(Datenerfassung!B250),\"\",Datenerfassung!B250)","v":""},{"$f":"IF(ISBLANK(Datenerfassung!C250),\"\",Datenerfassung!C250)","v":""},{"$f":"IF(ISBLANK(Datenerfassung!I250),\"\",Datenerfassung!I250)","v":""},{"$f":"IF(ISBLANK(Datenerfassung!J250),\"\",Datenerfassung!J250)","v":""},"",{"$f":"IF(ISBLANK(Datenerfassung!L250),\"\",Datenerfassung!L250)","v":""},{"$f":"IF(ISBLANK(Datenerfassung!F250),\"\",Datenerfassung!F250)","v":""},{"$f":"IF(ISBLANK(Datenerfassung!D250),IF(COUNTBLANK(A240:H240)+COUNTBLANK(J240:O240)=14,\"\",\"- ohne Titel -\"),Datenerfassung!D250)","v":""},{"$f":"IF(ISBLANK(Datenerfassung!E250),\"\",Datenerfassung!E250)","v":""},"",{"$f":"IF(ISBLANK(Datenerfassung!O250),\"\",Datenerfassung!O250)","v":""},{"$f":"IF(ISBLANK(Datenerfassung!G250),\"\",Datenerfassung!G250)","v":""},{"$f":"IF(ISBLANK(Datenerfassung!M250),\"\",Datenerfassung!M250)","v":""},{"$f":"IF(ISBLANK(Datenerfassung!H250),\"\",Datenerfassung!H250)","v":""}]
[{"$f":"IF(ISBLANK(Datenerfassung!A251),\"\",Datenerfassung!A251)","v":""},{"$f":"IF(ISBLANK(Datenerfassung!B251),\"\",Datenerfassung!B251)","v":""},{"$f":"IF(ISBLANK(Datenerfassung!C251),\"\",Datenerfassung!C251)","v":""},{"$f":"IF(ISBLANK(Datenerfassung!I251),\"\",Datenerfassung!I251)","v":""},{"$f":"IF(ISBLANK(Datenerfassung!J251),\"\",Datenerfassung!J251)","v":""},"",{"$f":"IF(ISBLANK(Datenerfassung!L251),\"\",Datenerfassung!L251)","v":""},{"$f":"IF(ISBLANK(Datenerfassung!F251),\"\",Datenerfassung!F251)","v":""},{"$f":"IF(ISBLANK(Datenerfassung!D251),IF(COUNTBLANK(A241:H241)+COUNTBLANK(J241:O241)=14,\"\",\"- ohne Titel -\"),Datenerfassung!D251)","v":""},{"$f":"IF(ISBLANK(Datenerfassung!E251),\"\",Datenerfassung!E251)","v":""},"",{"$f":"IF(ISBLANK(Datenerfassung!O251),\"\",Datenerfassung!O251)","v":""},{"$f":"IF(ISBLANK(Datenerfassung!G251),\"\",Datenerfassung!G251)","v":""},{"$f":"IF(ISBLANK(Datenerfassung!M251),\"\",Datenerfassung!M251)","v":""},{"$f":"IF(ISBLANK(Datenerfassung!H251),\"\",Datenerfassung!H251)","v":""}]
[{"$f":"IF(ISBLANK(Datenerfassung!A252),\"\",Datenerfassung!A252)","v":""},{"$f":"IF(ISBLANK(Datenerfassung!B252),\"\",Datenerfassung!B252)","v":""},{"$f":"IF(ISBLANK(Datenerfassung!C252),\"\",Datenerfassung!C252)","v":""},{"$f":"IF(ISBLANK(Datenerfassung!I252),\"\",Datenerfassung!I252)","v":""},{"$f":"IF(ISBLANK(Datenerfassung!J252),\"\",Datenerfassung!J252)","v":""},"",{"$f":"IF(ISBLANK(Datenerfassung!L252),\"\",Datenerfassung!L252)","v":""},{"$f":"IF(ISBLANK(Datenerfassung!F252),\"\",Datenerfassung!F252)","v":""},{"$f":"IF(ISBLANK(Datenerfassung!D252),IF(COUNTBLANK(A242:H242)+COUNTBLANK(J242:O242)=14,\"\",\"- ohne Titel -\"),Datenerfassung!D252)","v":""},{"$f":"IF(ISBLANK(Datenerfassung!E252),\"\",Datenerfassung!E252)","v":""},"",{"$f":"IF(ISBLANK(Datenerfassung!O252),\"\",Datenerfassung!O252)","v":""},{"$f":"IF(ISBLANK(Datenerfassung!G252),\"\",Datenerfassung!G252)","v":""},{"$f":"IF(ISBLANK(Datenerfassung!M252),\"\",Datenerfassung!M252)","v":""},{"$f":"IF(ISBLANK(Datenerfassung!H252),\"\",Datenerfassung!H252)","v":""}]
[{"$f":"IF(ISBLANK(Datenerfassung!A253),\"\",Datenerfassung!A253)","v":""},{"$f":"IF(ISBLANK(Datenerfassung!B253),\"\",Datenerfassung!B253)","v":""},{"$f":"IF(ISBLANK(Datenerfassung!C253),\"\",Datenerfassung!C253)","v":""},{"$f":"IF(ISBLANK(Datenerfassung!I253),\"\",Datenerfassung!I253)","v":""},{"$f":"IF(ISBLANK(Datenerfassung!J253),\"\",Datenerfassung!J253)","v":""},"",{"$f":"IF(ISBLANK(Datenerfassung!L253),\"\",Datenerfassung!L253)","v":""},{"$f":"IF(ISBLANK(Datenerfassung!F253),\"\",Datenerfassung!F253)","v":""},{"$f":"IF(ISBLANK(Datenerfassung!D253),IF(COUNTBLANK(A243:H243)+COUNTBLANK(J243:O243)=14,\"\",\"- ohne Titel -\"),Datenerfassung!D253)","v":""},{"$f":"IF(ISBLANK(Datenerfassung!E253),\"\",Datenerfassung!E253)","v":""},"",{"$f":"IF(ISBLANK(Datenerfassung!O253),\"\",Datenerfassung!O253)","v":""},{"$f":"IF(ISBLANK(Datenerfassung!G253),\"\",Datenerfassung!G253)","v":""},{"$f":"IF(ISBLANK(Datenerfassung!M253),\"\",Datenerfassung!M253)","v":""},{"$f":"IF(ISBLANK(Datenerfassung!H253),\"\",Datenerfassung!H253)","v":""}]
[{"$f":"IF(ISBLANK(Datenerfassung!A254),\"\",Datenerfassung!A254)","v":""},{"$f":"IF(ISBLANK(Datenerfassung!B254),\"\",Datenerfassung!B254)","v":""},{"$f":"IF(ISBLANK(Datenerfassung!C254),\"\",Datenerfassung!C254)","v":""},{"$f":"IF(ISBLANK(Datenerfassung!I254),\"\",Datenerfassung!I254)","v":""},{"$f":"IF(ISBLANK(Datenerfassung!J254),\"\",Datenerfassung!J254)","v":""},"",{"$f":"IF(ISBLANK(Datenerfassung!L254),\"\",Datenerfassung!L254)","v":""},{"$f":"IF(ISBLANK(Datenerfassung!F254),\"\",Datenerfassung!F254)","v":""},{"$f":"IF(ISBLANK(Datenerfassung!D254),IF(COUNTBLANK(A244:H244)+COUNTBLANK(J244:O244)=14,\"\",\"- ohne Titel -\"),Datenerfassung!D254)","v":""},{"$f":"IF(ISBLANK(Datenerfassung!E254),\"\",Datenerfassung!E254)","v":""},"",{"$f":"IF(ISBLANK(Datenerfassung!O254),\"\",Datenerfassung!O254)","v":""},{"$f":"IF(ISBLANK(Datenerfassung!G254),\"\",Datenerfassung!G254)","v":""},{"$f":"IF(ISBLANK(Datenerfassung!M254),\"\",Datenerfassung!M254)","v":""},{"$f":"IF(ISBLANK(Datenerfassung!H254),\"\",Datenerfassung!H254)","v":""}]
[{"$f":"IF(ISBLANK(Datenerfassung!A255),\"\",Datenerfassung!A255)","v":""},{"$f":"IF(ISBLANK(Datenerfassung!B255),\"\",Datenerfassung!B255)","v":""},{"$f":"IF(ISBLANK(Datenerfassung!C255),\"\",Datenerfassung!C255)","v":""},{"$f":"IF(ISBLANK(Datenerfassung!I255),\"\",Datenerfassung!I255)","v":""},{"$f":"IF(ISBLANK(Datenerfassung!J255),\"\",Datenerfassung!J255)","v":""},"",{"$f":"IF(ISBLANK(Datenerfassung!L255),\"\",Datenerfassung!L255)","v":""},{"$f":"IF(ISBLANK(Datenerfassung!F255),\"\",Datenerfassung!F255)","v":""},{"$f":"IF(ISBLANK(Datenerfassung!D255),IF(COUNTBLANK(A245:H245)+COUNTBLANK(J245:O245)=14,\"\",\"- ohne Titel -\"),Datenerfassung!D255)","v":""},{"$f":"IF(ISBLANK(Datenerfassung!E255),\"\",Datenerfassung!E255)","v":""},"",{"$f":"IF(ISBLANK(Datenerfassung!O255),\"\",Datenerfassung!O255)","v":""},{"$f":"IF(ISBLANK(Datenerfassung!G255),\"\",Datenerfassung!G255)","v":""},{"$f":"IF(ISBLANK(Datenerfassung!M255),\"\",Datenerfassung!M255)","v":""},{"$f":"IF(ISBLANK(Datenerfassung!H255),\"\",Datenerfassung!H255)","v":""}]
[{"$f":"IF(ISBLANK(Datenerfassung!A256),\"\",Datenerfassung!A256)","v":""},{"$f":"IF(ISBLANK(Datenerfassung!B256),\"\",Datenerfassung!B256)","v":""},{"$f":"IF(ISBLANK(Datenerfassung!C256),\"\",Datenerfassung!C256)","v":""},{"$f":"IF(ISBLANK(Datenerfassung!I256),\"\",Datenerfassung!I256)","v":""},{"$f":"IF(ISBLANK(Datenerfassung!J256),\"\",Datenerfassung!J256)","v":""},"",{"$f":"IF(ISBLANK(Datenerfassung!L256),\"\",Datenerfassung!L256)","v":""},{"$f":"IF(ISBLANK(Datenerfassung!F256),\"\",Datenerfassung!F256)","v":""},{"$f":"IF(ISBLANK(Datenerfassung!D256),IF(COUNTBLANK(A246:H246)+COUNTBLANK(J246:O246)=14,\"\",\"- ohne Titel -\"),Datenerfassung!D256)","v":""},{"$f":"IF(ISBLANK(Datenerfassung!E256),\"\",Datenerfassung!E256)","v":""},"",{"$f":"IF(ISBLANK(Datenerfassung!O256),\"\",Datenerfassung!O256)","v":""},{"$f":"IF(ISBLANK(Datenerfassung!G256),\"\",Datenerfassung!G256)","v":""},{"$f":"IF(ISBLANK(Datenerfassung!M256),\"\",Datenerfassung!M256)","v":""},{"$f":"IF(ISBLANK(Datenerfassung!H256),\"\",Datenerfassung!H256)","v":""}]
[{"$f":"IF(ISBLANK(Datenerfassung!A257),\"\",Datenerfassung!A257)","v":""},{"$f":"IF(ISBLANK(Datenerfassung!B257),\"\",Datenerfassung!B257)","v":""},{"$f":"IF(ISBLANK(Datenerfassung!C257),\"\",Datenerfassung!C257)","v":""},{"$f":"IF(ISBLANK(Datenerfassung!I257),\"\",Datenerfassung!I257)","v":""},{"$f":"IF(ISBLANK(Datenerfassung!J257),\"\",Datenerfassung!J257)","v":""},"",{"$f":"IF(ISBLANK(Datenerfassung!L257),\"\",Datenerfassung!L257)","v":""},{"$f":"IF(ISBLANK(Datenerfassung!F257),\"\",Datenerfassung!F257)","v":""},{"$f":"IF(ISBLANK(Datenerfassung!D257),IF(COUNTBLANK(A247:H247)+COUNTBLANK(J247:O247)=14,\"\",\"- ohne Titel -\"),Datenerfassung!D257)","v":""},{"$f":"IF(ISBLANK(Datenerfassung!E257),\"\",Datenerfassung!E257)","v":""},"",{"$f":"IF(ISBLANK(Datenerfassung!O257),\"\",Datenerfassung!O257)","v":""},{"$f":"IF(ISBLANK(Datenerfassung!G257),\"\",Datenerfassung!G257)","v":""},{"$f":"IF(ISBLANK(Datenerfassung!M257),\"\",Datenerfassung!M257)","v":""},{"$f":"IF(ISBLANK(Datenerfassung!H257),\"\",Datenerfassung!H257)","v":""}]
[{"$f":"IF(ISBLANK(Datenerfassung!A258),\"\",Datenerfassung!A258)","v":""},{"$f":"IF(ISBLANK(Datenerfassung!B258),\"\",Datenerfassung!B258)","v":""},{"$f":"IF(ISBLANK(Datenerfassung!C258),\"\",Datenerfassung!C258)","v":""},{"$f":"IF(ISBLANK(Datenerfassung!I258),\"\",Datenerfassung!I258)","v":""},{"$f":"IF(ISBLANK(Datenerfassung!J258),\"\",Datenerfassung!J258)","v":""},"",{"$f":"IF(ISBLANK(Datenerfassung!L258),\"\",Datenerfassung!L258)","v":""},{"$f":"IF(ISBLANK(Datenerfassung!F258),\"\",Datenerfassung!F258)","v":""},{"$f":"IF(ISBLANK(Datenerfassung!D258),IF(COUNTBLANK(A248:H248)+COUNTBLANK(J248:O248)=14,\"\",\"- ohne Titel -\"),Datenerfassung!D258)","v":""},{"$f":"IF(ISBLANK(Datenerfassung!E258),\"\",Datenerfassung!E258)","v":""},"",{"$f":"IF(ISBLANK(Datenerfassung!O258),\"\",Datenerfassung!O258)","v":""},{"$f":"IF(ISBLANK(Datenerfassung!G258),\"\",Datenerfassung!G258)","v":""},{"$f":"IF(ISBLANK(Datenerfassung!M258),\"\",Datenerfassung!M258)","v":""},{"$f":"IF(ISBLANK(Datenerfassung!H258),\"\",Datenerfassung!H258)","v":""}]
[{"$f":"IF(ISBLANK(Datenerfassung!A259),\"\",Datenerfassung!A259)","v":""},{"$f":"IF(ISBLANK(Datenerfassung!B259),\"\",Datenerfassung!B259)","v":""},{"$f":"IF(ISBLANK(Datenerfassung!C259),\"\",Datenerfassung!C259)","v":""},{"$f":"IF(ISBLANK(Datenerfassung!I259),\"\",Datenerfassung!I259)","v":""},{"$f":"IF(ISBLANK(Datenerfassung!J259),\"\",Datenerfassung!J259)","v":""},"",{"$f":"IF(ISBLANK(Datenerfassung!L259),\"\",Datenerfassung!L259)","v":""},{"$f":"IF(ISBLANK(Datenerfassung!F259),\"\",Datenerfassung!F259)","v":""},{"$f":"IF(ISBLANK(Datenerfassung!D259),IF(COUNTBLANK(A249:H249)+COUNTBLANK(J249:O249)=14,\"\",\"- ohne Titel -\"),Datenerfassung!D259)","v":""},{"$f":"IF(ISBLANK(Datenerfassung!E259),\"\",Datenerfassung!E259)","v":""},"",{"$f":"IF(ISBLANK(Datenerfassung!O259),\"\",Datenerfassung!O259)","v":""},{"$f":"IF(ISBLANK(Datenerfassung!G259),\"\",Datenerfassung!G259)","v":""},{"$f":"IF(ISBLANK(Datenerfassung!M259),\"\",Datenerfassung!M259)","v":""},{"$f":"IF(ISBLANK(Datenerfassung!H259),\"\",Datenerfassung!H259)","v":""}]
[{"$f":"IF(ISBLANK(Datenerfassung!A260),\"\",Datenerfassung!A260)","v":""},{"$f":"IF(ISBLANK(Datenerfassung!B260),\"\",Datenerfassung!B260)","v":""},{"$f":"IF(ISBLANK(Datenerfassung!C260),\"\",Datenerfassung!C260)","v":""},{"$f":"IF(ISBLANK(Datenerfassung!I260),\"\",Datenerfassung!I260)","v":""},{"$f":"IF(ISBLANK(Datenerfassung!J260),\"\",Datenerfassung!J260)","v":""},"",{"$f":"IF(ISBLANK(Datenerfassung!L260),\"\",Datenerfassung!L260)","v":""},{"$f":"IF(ISBLANK(Datenerfassung!F260),\"\",Datenerfassung!F260)","v":""},{"$f":"IF(ISBLANK(Datenerfassung!D260),IF(COUNTBLANK(A250:H250)+COUNTBLANK(J250:O250)=14,\"\",\"- ohne Titel -\"),Datenerfassung!D260)","v":""},{"$f":"IF(ISBLANK(Datenerfassung!E260),\"\",Datenerfassung!E260)","v":""},"",{"$f":"IF(ISBLANK(Datenerfassung!O260),\"\",Datenerfassung!O260)","v":""},{"$f":"IF(ISBLANK(Datenerfassung!G260),\"\",Datenerfassung!G260)","v":""},{"$f":"IF(ISBLANK(Datenerfassung!M260),\"\",Datenerfassung!M260)","v":""},{"$f":"IF(ISBLANK(Datenerfassung!H260),\"\",Datenerfassung!H260)","v":""}]
[{"$f":"IF(ISBLANK(Datenerfassung!A261),\"\",Datenerfassung!A261)","v":""},{"$f":"IF(ISBLANK(Datenerfassung!B261),\"\",Datenerfassung!B261)","v":""},{"$f":"IF(ISBLANK(Datenerfassung!C261),\"\",Datenerfassung!C261)","v":""},{"$f":"IF(ISBLANK(Datenerfassung!I261),\"\",Datenerfassung!I261)","v":""},{"$f":"IF(ISBLANK(Datenerfassung!J261),\"\",Datenerfassung!J261)","v":""},"",{"$f":"IF(ISBLANK(Datenerfassung!L261),\"\",Datenerfassung!L261)","v":""},{"$f":"IF(ISBLANK(Datenerfassung!F261),\"\",Datenerfassung!F261)","v":""},{"$f":"IF(ISBLANK(Datenerfassung!D261),IF(COUNTBLANK(A251:H251)+COUNTBLANK(J251:O251)=14,\"\",\"- ohne Titel -\"),Datenerfassung!D261)","v":""},{"$f":"IF(ISBLANK(Datenerfassung!E261),\"\",Datenerfassung!E261)","v":""},"",{"$f":"IF(ISBLANK(Datenerfassung!O261),\"\",Datenerfassung!O261)","v":""},{"$f":"IF(ISBLANK(Datenerfassung!G261),\"\",Datenerfassung!G261)","v":""},{"$f":"IF(ISBLANK(Datenerfassung!M261),\"\",Datenerfassung!M261)","v":""},{"$f":"IF(ISBLANK(Datenerfassung!H261),\"\",Datenerfassung!H261)","v":""}]
[{"$f":"IF(ISBLANK(Datenerfassung!A262),\"\",Datenerfassung!A262)","v":""},{"$f":"IF(ISBLANK(Datenerfassung!B262),\"\",Datenerfassung!B262)","v":""},{"$f":"IF(ISBLANK(Datenerfassung!C262),\"\",Datenerfassung!C262)","v":""},{"$f":"IF(ISBLANK(Datenerfassung!I262),\"\",Datenerfassung!I262)","v":""},{"$f":"IF(ISBLANK(Datenerfassung!J262),\"\",Datenerfassung!J262)","v":""},"",{"$f":"IF(ISBLANK(Datenerfassung!L262),\"\",Datenerfassung!L262)","v":""},{"$f":"IF(ISBLANK(Datenerfassung!F262),\"\",Datenerfassung!F262)","v":""},{"$f":"IF(ISBLANK(Datenerfassung!D262),IF(COUNTBLANK(A252:H252)+COUNTBLANK(J252:O252)=14,\"\",\"- ohne Titel -\"),Datenerfassung!D262)","v":""},{"$f":"IF(ISBLANK(Datenerfassung!E262),\"\",Datenerfassung!E262)","v":""},"",{"$f":"IF(ISBLANK(Datenerfassung!O262),\"\",Datenerfassung!O262)","v":""},{"$f":"IF(ISBLANK(Datenerfassung!G262),\"\",Datenerfassung!G262)","v":""},{"$f":"IF(ISBLANK(Datenerfassung!M262),\"\",Datenerfassung!M262)","v":""},{"$f":"IF(ISBLANK(Datenerfassung!H262),\"\",Datenerfassung!H262)","v":""}]
[{"$f":"IF(ISBLANK(Datenerfassung!A263),\"\",Datenerfassung!A263)","v":""},{"$f":"IF(ISBLANK(Datenerfassung!B263),\"\",Datenerfassung!B263)","v":""},{"$f":"IF(ISBLANK(Datenerfassung!C263),\"\",Datenerfassung!C263)","v":""},{"$f":"IF(ISBLANK(Datenerfassung!I263),\"\",Datenerfassung!I263)","v":""},{"$f":"IF(ISBLANK(Datenerfassung!J263),\"\",Datenerfassung!J263)","v":""},"",{"$f":"IF(ISBLANK(Datenerfassung!L263),\"\",Datenerfassung!L263)","v":""},{"$f":"IF(ISBLANK(Datenerfassung!F263),\"\",Datenerfassung!F263)","v":""},{"$f":"IF(ISBLANK(Datenerfassung!D263),IF(COUNTBLANK(A253:H253)+COUNTBLANK(J253:O253)=14,\"\",\"- ohne Titel -\"),Datenerfassung!D263)","v":""},{"$f":"IF(ISBLANK(Datenerfassung!E263),\"\",Datenerfassung!E263)","v":""},"",{"$f":"IF(ISBLANK(Datenerfassung!O263),\"\",Datenerfassung!O263)","v":""},{"$f":"IF(ISBLANK(Datenerfassung!G263),\"\",Datenerfassung!G263)","v":""},{"$f":"IF(ISBLANK(Datenerfassung!M263),\"\",Datenerfassung!M263)","v":""},{"$f":"IF(ISBLANK(Datenerfassung!H263),\"\",Datenerfassung!H263)","v":""}]
[{"$f":"IF(ISBLANK(Datenerfassung!A264),\"\",Datenerfassung!A264)","v":""},{"$f":"IF(ISBLANK(Datenerfassung!B264),\"\",Datenerfassung!B264)","v":""},{"$f":"IF(ISBLANK(Datenerfassung!C264),\"\",Datenerfassung!C264)","v":""},{"$f":"IF(ISBLANK(Datenerfassung!I264),\"\",Datenerfassung!I264)","v":""},{"$f":"IF(ISBLANK(Datenerfassung!J264),\"\",Datenerfassung!J264)","v":""},"",{"$f":"IF(ISBLANK(Datenerfassung!L264),\"\",Datenerfassung!L264)","v":""},{"$f":"IF(ISBLANK(Datenerfassung!F264),\"\",Datenerfassung!F264)","v":""},{"$f":"IF(ISBLANK(Datenerfassung!D264),IF(COUNTBLANK(A254:H254)+COUNTBLANK(J254:O254)=14,\"\",\"- ohne Titel -\"),Datenerfassung!D264)","v":""},{"$f":"IF(ISBLANK(Datenerfassung!E264),\"\",Datenerfassung!E264)","v":""},"",{"$f":"IF(ISBLANK(Datenerfassung!O264),\"\",Datenerfassung!O264)","v":""},{"$f":"IF(ISBLANK(Datenerfassung!G264),\"\",Datenerfassung!G264)","v":""},{"$f":"IF(ISBLANK(Datenerfassung!M264),\"\",Datenerfassung!M264)","v":""},{"$f":"IF(ISBLANK(Datenerfassung!H264),\"\",Datenerfassung!H264)","v":""}]
[{"$f":"IF(ISBLANK(Datenerfassung!A265),\"\",Datenerfassung!A265)","v":""},{"$f":"IF(ISBLANK(Datenerfassung!B265),\"\",Datenerfassung!B265)","v":""},{"$f":"IF(ISBLANK(Datenerfassung!C265),\"\",Datenerfassung!C265)","v":""},{"$f":"IF(ISBLANK(Datenerfassung!I265),\"\",Datenerfassung!I265)","v":""},{"$f":"IF(ISBLANK(Datenerfassung!J265),\"\",Datenerfassung!J265)","v":""},"",{"$f":"IF(ISBLANK(Datenerfassung!L265),\"\",Datenerfassung!L265)","v":""},{"$f":"IF(ISBLANK(Datenerfassung!F265),\"\",Datenerfassung!F265)","v":""},{"$f":"IF(ISBLANK(Datenerfassung!D265),IF(COUNTBLANK(A255:H255)+COUNTBLANK(J255:O255)=14,\"\",\"- ohne Titel -\"),Datenerfassung!D265)","v":""},{"$f":"IF(ISBLANK(Datenerfassung!E265),\"\",Datenerfassung!E265)","v":""},"",{"$f":"IF(ISBLANK(Datenerfassung!O265),\"\",Datenerfassung!O265)","v":""},{"$f":"IF(ISBLANK(Datenerfassung!G265),\"\",Datenerfassung!G265)","v":""},{"$f":"IF(ISBLANK(Datenerfassung!M265),\"\",Datenerfassung!M265)","v":""},{"$f":"IF(ISBLANK(Datenerfassung!H265),\"\",Datenerfassung!H265)","v":""}]
[{"$f":"IF(ISBLANK(Datenerfassung!A266),\"\",Datenerfassung!A266)","v":""},{"$f":"IF(ISBLANK(Datenerfassung!B266),\"\",Datenerfassung!B266)","v":""},{"$f":"IF(ISBLANK(Datenerfassung!C266),\"\",Datenerfassung!C266)","v":""},{"$f":"IF(ISBLANK(Datenerfassung!I266),\"\",Datenerfassung!I266)","v":""},{"$f":"IF(ISBLANK(Datenerfassung!J266),\"\",Datenerfassung!J266)","v":""},"",{"$f":"IF(ISBLANK(Datenerfassung!L266),\"\",Datenerfassung!L266)","v":""},{"$f":"IF(ISBLANK(Datenerfassung!F266),\"\",Datenerfassung!F266)","v":""},{"$f":"IF(ISBLANK(Datenerfassung!D266),IF(COUNTBLANK(A256:H256)+COUNTBLANK(J256:O256)=14,\"\",\"- ohne Titel -\"),Datenerfassung!D266)","v":""},{"$f":"IF(ISBLANK(Datenerfassung!E266),\"\",Datenerfassung!E266)","v":""},"",{"$f":"IF(ISBLANK(Datenerfassung!O266),\"\",Datenerfassung!O266)","v":""},{"$f":"IF(ISBLANK(Datenerfassung!G266),\"\",Datenerfassung!G266)","v":""},{"$f":"IF(ISBLANK(Datenerfassung!M266),\"\",Datenerfassung!M266)","v":""},{"$f":"IF(ISBLANK(Datenerfassung!H266),\"\",Datenerfassung!H266)","v":""}]
[{"$f":"IF(ISBLANK(Datenerfassung!A267),\"\",Datenerfassung!A267)","v":""},{"$f":"IF(ISBLANK(Datenerfassung!B267),\"\",Datenerfassung!B267)","v":""},{"$f":"IF(ISBLANK(Datenerfassung!C267),\"\",Datenerfassung!C267)","v":""},{"$f":"IF(ISBLANK(Datenerfassung!I267),\"\",Datenerfassung!I267)","v":""},{"$f":"IF(ISBLANK(Datenerfassung!J267),\"\",Datenerfassung!J267)","v":""},"",{"$f":"IF(ISBLANK(Datenerfassung!L267),\"\",Datenerfassung!L267)","v":""},{"$f":"IF(ISBLANK(Datenerfassung!F267),\"\",Datenerfassung!F267)","v":""},{"$f":"IF(ISBLANK(Datenerfassung!D267),IF(COUNTBLANK(A257:H257)+COUNTBLANK(J257:O257)=14,\"\",\"- ohne Titel -\"),Datenerfassung!D267)","v":""},{"$f":"IF(ISBLANK(Datenerfassung!E267),\"\",Datenerfassung!E267)","v":""},"",{"$f":"IF(ISBLANK(Datenerfassung!O267),\"\",Datenerfassung!O267)","v":""},{"$f":"IF(ISBLANK(Datenerfassung!G267),\"\",Datenerfassung!G267)","v":""},{"$f":"IF(ISBLANK(Datenerfassung!M267),\"\",Datenerfassung!M267)","v":""},{"$f":"IF(ISBLANK(Datenerfassung!H267),\"\",Datenerfassung!H267)","v":""}]
[{"$f":"IF(ISBLANK(Datenerfassung!A268),\"\",Datenerfassung!A268)","v":""},{"$f":"IF(ISBLANK(Datenerfassung!B268),\"\",Datenerfassung!B268)","v":""},{"$f":"IF(ISBLANK(Datenerfassung!C268),\"\",Datenerfassung!C268)","v":""},{"$f":"IF(ISBLANK(Datenerfassung!I268),\"\",Datenerfassung!I268)","v":""},{"$f":"IF(ISBLANK(Datenerfassung!J268),\"\",Datenerfassung!J268)","v":""},"",{"$f":"IF(ISBLANK(Datenerfassung!L268),\"\",Datenerfassung!L268)","v":""},{"$f":"IF(ISBLANK(Datenerfassung!F268),\"\",Datenerfassung!F268)","v":""},{"$f":"IF(ISBLANK(Datenerfassung!D268),IF(COUNTBLANK(A258:H258)+COUNTBLANK(J258:O258)=14,\"\",\"- ohne Titel -\"),Datenerfassung!D268)","v":""},{"$f":"IF(ISBLANK(Datenerfassung!E268),\"\",Datenerfassung!E268)","v":""},"",{"$f":"IF(ISBLANK(Datenerfassung!O268),\"\",Datenerfassung!O268)","v":""},{"$f":"IF(ISBLANK(Datenerfassung!G268),\"\",Datenerfassung!G268)","v":""},{"$f":"IF(ISBLANK(Datenerfassung!M268),\"\",Datenerfassung!M268)","v":""},{"$f":"IF(ISBLANK(Datenerfassung!H268),\"\",Datenerfassung!H268)","v":""}]
[{"$f":"IF(ISBLANK(Datenerfassung!A269),\"\",Datenerfassung!A269)","v":""},{"$f":"IF(ISBLANK(Datenerfassung!B269),\"\",Datenerfassung!B269)","v":""},{"$f":"IF(ISBLANK(Datenerfassung!C269),\"\",Datenerfassung!C269)","v":""},{"$f":"IF(ISBLANK(Datenerfassung!I269),\"\",Datenerfassung!I269)","v":""},{"$f":"IF(ISBLANK(Datenerfassung!J269),\"\",Datenerfassung!J269)","v":""},{"$f":"IF(D259=\"\",\"\",IF(E259=\"\",D259,D259&\" - \"&E259))","v":""},{"$f":"IF(ISBLANK(Datenerfassung!L269),\"\",Datenerfassung!L269)","v":""},{"$f":"IF(ISBLANK(Datenerfassung!F269),\"\",Datenerfassung!F269)","v":""},{"$f":"IF(ISBLANK(Datenerfassung!D269),IF(COUNTBLANK(A259:H259)+COUNTBLANK(J259:O259)=14,\"\",\"- ohne Titel -\"),Datenerfassung!D269)","v":""},{"$f":"IF(ISBLANK(Datenerfassung!E269),\"\",Datenerfassung!E269)","v":""},{"$f":"IF(OR(E259=\"\",G259=\"\"),\"\",\"01.01.\"&RIGHT(E259,4)+G259+1)","v":""},{"$f":"IF(ISBLANK(Datenerfassung!O269),\"\",Datenerfassung!O269)","v":""},{"$f":"IF(ISBLANK(Datenerfassung!G269),\"\",Datenerfassung!G269)","v":""},{"$f":"IF(ISBLANK(Datenerfassung!M269),\"\",Datenerfassung!M269)","v":""},{"$f":"IF(ISBLANK(Datenerfassung!H269),\"\",Datenerfassung!H269)","v":""}]
[{"$f":"IF(ISBLANK(Datenerfassung!A270),\"\",Datenerfassung!A270)","v":""},{"$f":"IF(ISBLANK(Datenerfassung!B270),\"\",Datenerfassung!B270)","v":""},{"$f":"IF(ISBLANK(Datenerfassung!C270),\"\",Datenerfassung!C270)","v":""},{"$f":"IF(ISBLANK(Datenerfassung!I270),\"\",Datenerfassung!I270)","v":""},{"$f":"IF(ISBLANK(Datenerfassung!J270),\"\",Datenerfassung!J270)","v":""},"",{"$f":"IF(ISBLANK(Datenerfassung!L270),\"\",Datenerfassung!L270)","v":""},{"$f":"IF(ISBLANK(Datenerfassung!F270),\"\",Datenerfassung!F270)","v":""},{"$f":"IF(ISBLANK(Datenerfassung!D270),IF(COUNTBLANK(A260:H260)+COUNTBLANK(J260:O260)=14,\"\",\"- ohne Titel -\"),Datenerfassung!D270)","v":""},{"$f":"IF(ISBLANK(Datenerfassung!E270),\"\",Datenerfassung!E270)","v":""},"",{"$f":"IF(ISBLANK(Datenerfassung!O270),\"\",Datenerfassung!O270)","v":""},{"$f":"IF(ISBLANK(Datenerfassung!G270),\"\",Datenerfassung!G270)","v":""},{"$f":"IF(ISBLANK(Datenerfassung!M270),\"\",Datenerfassung!M270)","v":""},{"$f":"IF(ISBLANK(Datenerfassung!H270),\"\",Datenerfassung!H270)","v":""}]
[{"$f":"IF(ISBLANK(Datenerfassung!A271),\"\",Datenerfassung!A271)","v":""},{"$f":"IF(ISBLANK(Datenerfassung!B271),\"\",Datenerfassung!B271)","v":""},{"$f":"IF(ISBLANK(Datenerfassung!C271),\"\",Datenerfassung!C271)","v":""},{"$f":"IF(ISBLANK(Datenerfassung!I271),\"\",Datenerfassung!I271)","v":""},{"$f":"IF(ISBLANK(Datenerfassung!J271),\"\",Datenerfassung!J271)","v":""},"",{"$f":"IF(ISBLANK(Datenerfassung!L271),\"\",Datenerfassung!L271)","v":""},{"$f":"IF(ISBLANK(Datenerfassung!F271),\"\",Datenerfassung!F271)","v":""},{"$f":"IF(ISBLANK(Datenerfassung!D271),IF(COUNTBLANK(A261:H261)+COUNTBLANK(J261:O261)=14,\"\",\"- ohne Titel -\"),Datenerfassung!D271)","v":""},{"$f":"IF(ISBLANK(Datenerfassung!E271),\"\",Datenerfassung!E271)","v":""},"",{"$f":"IF(ISBLANK(Datenerfassung!O271),\"\",Datenerfassung!O271)","v":""},{"$f":"IF(ISBLANK(Datenerfassung!G271),\"\",Datenerfassung!G271)","v":""},{"$f":"IF(ISBLANK(Datenerfassung!M271),\"\",Datenerfassung!M271)","v":""},{"$f":"IF(ISBLANK(Datenerfassung!H271),\"\",Datenerfassung!H271)","v":""}]
[{"$f":"IF(ISBLANK(Datenerfassung!A272),\"\",Datenerfassung!A272)","v":""},{"$f":"IF(ISBLANK(Datenerfassung!B272),\"\",Datenerfassung!B272)","v":""},{"$f":"IF(ISBLANK(Datenerfassung!C272),\"\",Datenerfassung!C272)","v":""},{"$f":"IF(ISBLANK(Datenerfassung!I272),\"\",Datenerfassung!I272)","v":""},{"$f":"IF(ISBLANK(Datenerfassung!J272),\"\",Datenerfassung!J272)","v":""},"",{"$f":"IF(ISBLANK(Datenerfassung!L272),\"\",Datenerfassung!L272)","v":""},{"$f":"IF(ISBLANK(Datenerfassung!F272),\"\",Datenerfassung!F272)","v":""},{"$f":"IF(ISBLANK(Datenerfassung!D272),IF(COUNTBLANK(A262:H262)+COUNTBLANK(J262:O262)=14,\"\",\"- ohne Titel -\"),Datenerfassung!D272)","v":""},{"$f":"IF(ISBLANK(Datenerfassung!E272),\"\",Datenerfassung!E272)","v":""},"",{"$f":"IF(ISBLANK(Datenerfassung!O272),\"\",Datenerfassung!O272)","v":""},{"$f":"IF(ISBLANK(Datenerfassung!G272),\"\",Datenerfassung!G272)","v":""},{"$f":"IF(ISBLANK(Datenerfassung!M272),\"\",Datenerfassung!M272)","v":""},{"$f":"IF(ISBLANK(Datenerfassung!H272),\"\",Datenerfassung!H272)","v":""}]
[{"$f":"IF(ISBLANK(Datenerfassung!A273),\"\",Datenerfassung!A273)","v":""},{"$f":"IF(ISBLANK(Datenerfassung!B273),\"\",Datenerfassung!B273)","v":""},{"$f":"IF(ISBLANK(Datenerfassung!C273),\"\",Datenerfassung!C273)","v":""},{"$f":"IF(ISBLANK(Datenerfassung!I273),\"\",Datenerfassung!I273)","v":""},{"$f":"IF(ISBLANK(Datenerfassung!J273),\"\",Datenerfassung!J273)","v":""},"",{"$f":"IF(ISBLANK(Datenerfassung!L273),\"\",Datenerfassung!L273)","v":""},{"$f":"IF(ISBLANK(Datenerfassung!F273),\"\",Datenerfassung!F273)","v":""},{"$f":"IF(ISBLANK(Datenerfassung!D273),IF(COUNTBLANK(A263:H263)+COUNTBLANK(J263:O263)=14,\"\",\"- ohne Titel -\"),Datenerfassung!D273)","v":""},{"$f":"IF(ISBLANK(Datenerfassung!E273),\"\",Datenerfassung!E273)","v":""},"",{"$f":"IF(ISBLANK(Datenerfassung!O273),\"\",Datenerfassung!O273)","v":""},{"$f":"IF(ISBLANK(Datenerfassung!G273),\"\",Datenerfassung!G273)","v":""},{"$f":"IF(ISBLANK(Datenerfassung!M273),\"\",Datenerfassung!M273)","v":""},{"$f":"IF(ISBLANK(Datenerfassung!H273),\"\",Datenerfassung!H273)","v":""}]
[{"$f":"IF(ISBLANK(Datenerfassung!A274),\"\",Datenerfassung!A274)","v":""},{"$f":"IF(ISBLANK(Datenerfassung!B274),\"\",Datenerfassung!B274)","v":""},{"$f":"IF(ISBLANK(Datenerfassung!C274),\"\",Datenerfassung!C274)","v":""},{"$f":"IF(ISBLANK(Datenerfassung!I274),\"\",Datenerfassung!I274)","v":""},{"$f":"IF(ISBLANK(Datenerfassung!J274),\"\",Datenerfassung!J274)","v":""},"",{"$f":"IF(ISBLANK(Datenerfassung!L274),\"\",Datenerfassung!L274)","v":""},{"$f":"IF(ISBLANK(Datenerfassung!F274),\"\",Datenerfassung!F274)","v":""},{"$f":"IF(ISBLANK(Datenerfassung!D274),IF(COUNTBLANK(A264:H264)+COUNTBLANK(J264:O264)=14,\"\",\"- ohne Titel -\"),Datenerfassung!D274)","v":""},{"$f":"IF(ISBLANK(Datenerfassung!E274),\"\",Datenerfassung!E274)","v":""},"",{"$f":"IF(ISBLANK(Datenerfassung!O274),\"\",Datenerfassung!O274)","v":""},{"$f":"IF(ISBLANK(Datenerfassung!G274),\"\",Datenerfassung!G274)","v":""},{"$f":"IF(ISBLANK(Datenerfassung!M274),\"\",Datenerfassung!M274)","v":""},{"$f":"IF(ISBLANK(Datenerfassung!H274),\"\",Datenerfassung!H274)","v":""}]
[{"$f":"IF(ISBLANK(Datenerfassung!A275),\"\",Datenerfassung!A275)","v":""},{"$f":"IF(ISBLANK(Datenerfassung!B275),\"\",Datenerfassung!B275)","v":""},{"$f":"IF(ISBLANK(Datenerfassung!C275),\"\",Datenerfassung!C275)","v":""},{"$f":"IF(ISBLANK(Datenerfassung!I275),\"\",Datenerfassung!I275)","v":""},{"$f":"IF(ISBLANK(Datenerfassung!J275),\"\",Datenerfassung!J275)","v":""},"",{"$f":"IF(ISBLANK(Datenerfassung!L275),\"\",Datenerfassung!L275)","v":""},{"$f":"IF(ISBLANK(Datenerfassung!F275),\"\",Datenerfassung!F275)","v":""},{"$f":"IF(ISBLANK(Datenerfassung!D275),IF(COUNTBLANK(A265:H265)+COUNTBLANK(J265:O265)=14,\"\",\"- ohne Titel -\"),Datenerfassung!D275)","v":""},{"$f":"IF(ISBLANK(Datenerfassung!E275),\"\",Datenerfassung!E275)","v":""},"",{"$f":"IF(ISBLANK(Datenerfassung!O275),\"\",Datenerfassung!O275)","v":""},{"$f":"IF(ISBLANK(Datenerfassung!G275),\"\",Datenerfassung!G275)","v":""},{"$f":"IF(ISBLANK(Datenerfassung!M275),\"\",Datenerfassung!M275)","v":""},{"$f":"IF(ISBLANK(Datenerfassung!H275),\"\",Datenerfassung!H275)","v":""}]
[{"$f":"IF(ISBLANK(Datenerfassung!A276),\"\",Datenerfassung!A276)","v":""},{"$f":"IF(ISBLANK(Datenerfassung!B276),\"\",Datenerfassung!B276)","v":""},{"$f":"IF(ISBLANK(Datenerfassung!C276),\"\",Datenerfassung!C276)","v":""},{"$f":"IF(ISBLANK(Datenerfassung!I276),\"\",Datenerfassung!I276)","v":""},{"$f":"IF(ISBLANK(Datenerfassung!J276),\"\",Datenerfassung!J276)","v":""},"",{"$f":"IF(ISBLANK(Datenerfassung!L276),\"\",Datenerfassung!L276)","v":""},{"$f":"IF(ISBLANK(Datenerfassung!F276),\"\",Datenerfassung!F276)","v":""},{"$f":"IF(ISBLANK(Datenerfassung!D276),IF(COUNTBLANK(A266:H266)+COUNTBLANK(J266:O266)=14,\"\",\"- ohne Titel -\"),Datenerfassung!D276)","v":""},{"$f":"IF(ISBLANK(Datenerfassung!E276),\"\",Datenerfassung!E276)","v":""},"",{"$f":"IF(ISBLANK(Datenerfassung!O276),\"\",Datenerfassung!O276)","v":""},{"$f":"IF(ISBLANK(Datenerfassung!G276),\"\",Datenerfassung!G276)","v":""},{"$f":"IF(ISBLANK(Datenerfassung!M276),\"\",Datenerfassung!M276)","v":""},{"$f":"IF(ISBLANK(Datenerfassung!H276),\"\",Datenerfassung!H276)","v":""}]
[{"$f":"IF(ISBLANK(Datenerfassung!A277),\"\",Datenerfassung!A277)","v":""},{"$f":"IF(ISBLANK(Datenerfassung!B277),\"\",Datenerfassung!B277)","v":""},{"$f":"IF(ISBLANK(Datenerfassung!C277),\"\",Datenerfassung!C277)","v":""},{"$f":"IF(ISBLANK(Datenerfassung!I277),\"\",Datenerfassung!I277)","v":""},{"$f":"IF(ISBLANK(Datenerfassung!J277),\"\",Datenerfassung!J277)","v":""},"",{"$f":"IF(ISBLANK(Datenerfassung!L277),\"\",Datenerfassung!L277)","v":""},{"$f":"IF(ISBLANK(Datenerfassung!F277),\"\",Datenerfassung!F277)","v":""},{"$f":"IF(ISBLANK(Datenerfassung!D277),IF(COUNTBLANK(A267:H267)+COUNTBLANK(J267:O267)=14,\"\",\"- ohne Titel -\"),Datenerfassung!D277)","v":""},{"$f":"IF(ISBLANK(Datenerfassung!E277),\"\",Datenerfassung!E277)","v":""},"",{"$f":"IF(ISBLANK(Datenerfassung!O277),\"\",Datenerfassung!O277)","v":""},{"$f":"IF(ISBLANK(Datenerfassung!G277),\"\",Datenerfassung!G277)","v":""},{"$f":"IF(ISBLANK(Datenerfassung!M277),\"\",Datenerfassung!M277)","v":""},{"$f":"IF(ISBLANK(Datenerfassung!H277),\"\",Datenerfassung!H277)","v":""}]
[{"$f":"IF(ISBLANK(Datenerfassung!A278),\"\",Datenerfassung!A278)","v":""},{"$f":"IF(ISBLANK(Datenerfassung!B278),\"\",Datenerfassung!B278)","v":""},{"$f":"IF(ISBLANK(Datenerfassung!C278),\"\",Datenerfassung!C278)","v":""},{"$f":"IF(ISBLANK(Datenerfassung!I278),\"\",Datenerfassung!I278)","v":""},{"$f":"IF(ISBLANK(Datenerfassung!J278),\"\",Datenerfassung!J278)","v":""},"",{"$f":"IF(ISBLANK(Datenerfassung!L278),\"\",Datenerfassung!L278)","v":""},{"$f":"IF(ISBLANK(Datenerfassung!F278),\"\",Datenerfassung!F278)","v":""},{"$f":"IF(ISBLANK(Datenerfassung!D278),IF(COUNTBLANK(A268:H268)+COUNTBLANK(J268:O268)=14,\"\",\"- ohne Titel -\"),Datenerfassung!D278)","v":""},{"$f":"IF(ISBLANK(Datenerfassung!E278),\"\",Datenerfassung!E278)","v":""},"",{"$f":"IF(ISBLANK(Datenerfassung!O278),\"\",Datenerfassung!O278)","v":""},{"$f":"IF(ISBLANK(Datenerfassung!G278),\"\",Datenerfassung!G278)","v":""},{"$f":"IF(ISBLANK(Datenerfassung!M278),\"\",Datenerfassung!M278)","v":""},{"$f":"IF(ISBLANK(Datenerfassung!H278),\"\",Datenerfassung!H278)","v":""}]
[{"$f":"IF(ISBLANK(Datenerfassung!A279),\"\",Datenerfassung!A279)","v":""},{"$f":"IF(ISBLANK(Datenerfassung!B279),\"\",Datenerfassung!B279)","v":""},{"$f":"IF(ISBLANK(Datenerfassung!C279),\"\",Datenerfassung!C279)","v":""},{"$f":"IF(ISBLANK(Datenerfassung!I279),\"\",Datenerfassung!I279)","v":""},{"$f":"IF(ISBLANK(Datenerfassung!J279),\"\",Datenerfassung!J279)","v":""},"",{"$f":"IF(ISBLANK(Datenerfassung!L279),\"\",Datenerfassung!L279)","v":""},{"$f":"IF(ISBLANK(Datenerfassung!F279),\"\",Datenerfassung!F279)","v":""},{"$f":"IF(ISBLANK(Datenerfassung!D279),IF(COUNTBLANK(A269:H269)+COUNTBLANK(J269:O269)=14,\"\",\"- ohne Titel -\"),Datenerfassung!D279)","v":""},{"$f":"IF(ISBLANK(Datenerfassung!E279),\"\",Datenerfassung!E279)","v":""},"",{"$f":"IF(ISBLANK(Datenerfassung!O279),\"\",Datenerfassung!O279)","v":""},{"$f":"IF(ISBLANK(Datenerfassung!G279),\"\",Datenerfassung!G279)","v":""},{"$f":"IF(ISBLANK(Datenerfassung!M279),\"\",Datenerfassung!M279)","v":""},{"$f":"IF(ISBLANK(Datenerfassung!H279),\"\",Datenerfassung!H279)","v":""}]
[{"$f":"IF(ISBLANK(Datenerfassung!A280),\"\",Datenerfassung!A280)","v":""},{"$f":"IF(ISBLANK(Datenerfassung!B280),\"\",Datenerfassung!B280)","v":""},{"$f":"IF(ISBLANK(Datenerfassung!C280),\"\",Datenerfassung!C280)","v":""},{"$f":"IF(ISBLANK(Datenerfassung!I280),\"\",Datenerfassung!I280)","v":""},{"$f":"IF(ISBLANK(Datenerfassung!J280),\"\",Datenerfassung!J280)","v":""},"",{"$f":"IF(ISBLANK(Datenerfassung!L280),\"\",Datenerfassung!L280)","v":""},{"$f":"IF(ISBLANK(Datenerfassung!F280),\"\",Datenerfassung!F280)","v":""},{"$f":"IF(ISBLANK(Datenerfassung!D280),IF(COUNTBLANK(A270:H270)+COUNTBLANK(J270:O270)=14,\"\",\"- ohne Titel -\"),Datenerfassung!D280)","v":""},{"$f":"IF(ISBLANK(Datenerfassung!E280),\"\",Datenerfassung!E280)","v":""},"",{"$f":"IF(ISBLANK(Datenerfassung!O280),\"\",Datenerfassung!O280)","v":""},{"$f":"IF(ISBLANK(Datenerfassung!G280),\"\",Datenerfassung!G280)","v":""},{"$f":"IF(ISBLANK(Datenerfassung!M280),\"\",Datenerfassung!M280)","v":""},{"$f":"IF(ISBLANK(Datenerfassung!H280),\"\",Datenerfassung!H280)","v":""}]
[{"$f":"IF(ISBLANK(Datenerfassung!A281),\"\",Datenerfassung!A281)","v":""},{"$f":"IF(ISBLANK(Datenerfassung!B281),\"\",Datenerfassung!B281)","v":""},{"$f":"IF(ISBLANK(Datenerfassung!C281),\"\",Datenerfassung!C281)","v":""},{"$f":"IF(ISBLANK(Datenerfassung!I281),\"\",Datenerfassung!I281)","v":""},{"$f":"IF(ISBLANK(Datenerfassung!J281),\"\",Datenerfassung!J281)","v":""},"",{"$f":"IF(ISBLANK(Datenerfassung!L281),\"\",Datenerfassung!L281)","v":""},{"$f":"IF(ISBLANK(Datenerfassung!F281),\"\",Datenerfassung!F281)","v":""},{"$f":"IF(ISBLANK(Datenerfassung!D281),IF(COUNTBLANK(A271:H271)+COUNTBLANK(J271:O271)=14,\"\",\"- ohne Titel -\"),Datenerfassung!D281)","v":""},{"$f":"IF(ISBLANK(Datenerfassung!E281),\"\",Datenerfassung!E281)","v":""},"",{"$f":"IF(ISBLANK(Datenerfassung!O281),\"\",Datenerfassung!O281)","v":""},{"$f":"IF(ISBLANK(Datenerfassung!G281),\"\",Datenerfassung!G281)","v":""},{"$f":"IF(ISBLANK(Datenerfassung!M281),\"\",Datenerfassung!M281)","v":""},{"$f":"IF(ISBLANK(Datenerfassung!H281),\"\",Datenerfassung!H281)","v":""}]
[{"$f":"IF(ISBLANK(Datenerfassung!A282),\"\",Datenerfassung!A282)","v":""},{"$f":"IF(ISBLANK(Datenerfassung!B282),\"\",Datenerfassung!B282)","v":""},{"$f":"IF(ISBLANK(Datenerfassung!C282),\"\",Datenerfassung!C282)","v":""},{"$f":"IF(ISBLANK(Datenerfassung!I282),\"\",Datenerfassung!I282)","v":""},{"$f":"IF(ISBLANK(Datenerfassung!J282),\"\",Datenerfassung!J282)","v":""},"",{"$f":"IF(ISBLANK(Datenerfassung!L282),\"\",Datenerfassung!L282)","v":""},{"$f":"IF(ISBLANK(Datenerfassung!F282),\"\",Datenerfassung!F282)","v":""},{"$f":"IF(ISBLANK(Datenerfassung!D282),IF(COUNTBLANK(A272:H272)+COUNTBLANK(J272:O272)=14,\"\",\"- ohne Titel -\"),Datenerfassung!D282)","v":""},{"$f":"IF(ISBLANK(Datenerfassung!E282),\"\",Datenerfassung!E282)","v":""},"",{"$f":"IF(ISBLANK(Datenerfassung!O282),\"\",Datenerfassung!O282)","v":""},{"$f":"IF(ISBLANK(Datenerfassung!G282),\"\",Datenerfassung!G282)","v":""},{"$f":"IF(ISBLANK(Datenerfassung!M282),\"\",Datenerfassung!M282)","v":""},{"$f":"IF(ISBLANK(Datenerfassung!H282),\"\",Datenerfassung!H282)","v":""}]
[{"$f":"IF(ISBLANK(Datenerfassung!A283),\"\",Datenerfassung!A283)","v":""},{"$f":"IF(ISBLANK(Datenerfassung!B283),\"\",Datenerfassung!B283)","v":""},{"$f":"IF(ISBLANK(Datenerfassung!C283),\"\",Datenerfassung!C283)","v":""},{"$f":"IF(ISBLANK(Datenerfassung!I283),\"\",Datenerfassung!I283)","v":""},{"$f":"IF(ISBLANK(Datenerfassung!J283),\"\",Datenerfassung!J283)","v":""},"",{"$f":"IF(ISBLANK(Datenerfassung!L283),\"\",Datenerfassung!L283)","v":""},{"$f":"IF(ISBLANK(Datenerfassung!F283),\"\",Datenerfassung!F283)","v":""},{"$f":"IF(ISBLANK(Datenerfassung!D283),IF(COUNTBLANK(A273:H273)+COUNTBLANK(J273:O273)=14,\"\",\"- ohne Titel -\"),Datenerfassung!D283)","v":""},{"$f":"IF(ISBLANK(Datenerfassung!E283),\"\",Datenerfassung!E283)","v":""},"",{"$f":"IF(ISBLANK(Datenerfassung!O283),\"\",Datenerfassung!O283)","v":""},{"$f":"IF(ISBLANK(Datenerfassung!G283),\"\",Datenerfassung!G283)","v":""},{"$f":"IF(ISBLANK(Datenerfassung!M283),\"\",Datenerfassung!M283)","v":""},{"$f":"IF(ISBLANK(Datenerfassung!H283),\"\",Datenerfassung!H283)","v":""}]
[{"$f":"IF(ISBLANK(Datenerfassung!A284),\"\",Datenerfassung!A284)","v":""},{"$f":"IF(ISBLANK(Datenerfassung!B284),\"\",Datenerfassung!B284)","v":""},{"$f":"IF(ISBLANK(Datenerfassung!C284),\"\",Datenerfassung!C284)","v":""},{"$f":"IF(ISBLANK(Datenerfassung!I284),\"\",Datenerfassung!I284)","v":""},{"$f":"IF(ISBLANK(Datenerfassung!J284),\"\",Datenerfassung!J284)","v":""},"",{"$f":"IF(ISBLANK(Datenerfassung!L284),\"\",Datenerfassung!L284)","v":""},{"$f":"IF(ISBLANK(Datenerfassung!F284),\"\",Datenerfassung!F284)","v":""},{"$f":"IF(ISBLANK(Datenerfassung!D284),IF(COUNTBLANK(A274:H274)+COUNTBLANK(J274:O274)=14,\"\",\"- ohne Titel -\"),Datenerfassung!D284)","v":""},{"$f":"IF(ISBLANK(Datenerfassung!E284),\"\",Datenerfassung!E284)","v":""},"",{"$f":"IF(ISBLANK(Datenerfassung!O284),\"\",Datenerfassung!O284)","v":""},{"$f":"IF(ISBLANK(Datenerfassung!G284),\"\",Datenerfassung!G284)","v":""},{"$f":"IF(ISBLANK(Datenerfassung!M284),\"\",Datenerfassung!M284)","v":""},{"$f":"IF(ISBLANK(Datenerfassung!H284),\"\",Datenerfassung!H284)","v":""}]
[{"$f":"IF(ISBLANK(Datenerfassung!A285),\"\",Datenerfassung!A285)","v":""},{"$f":"IF(ISBLANK(Datenerfassung!B285),\"\",Datenerfassung!B285)","v":""},{"$f":"IF(ISBLANK(Datenerfassung!C285),\"\",Datenerfassung!C285)","v":""},{"$f":"IF(ISBLANK(Datenerfassung!I285),\"\",Datenerfassung!I285)","v":""},{"$f":"IF(ISBLANK(Datenerfassung!J285),\"\",Datenerfassung!J285)","v":""},"",{"$f":"IF(ISBLANK(Datenerfassung!L285),\"\",Datenerfassung!L285)","v":""},{"$f":"IF(ISBLANK(Datenerfassung!F285),\"\",Datenerfassung!F285)","v":""},{"$f":"IF(ISBLANK(Datenerfassung!D285),IF(COUNTBLANK(A275:H275)+COUNTBLANK(J275:O275)=14,\"\",\"- ohne Titel -\"),Datenerfassung!D285)","v":""},{"$f":"IF(ISBLANK(Datenerfassung!E285),\"\",Datenerfassung!E285)","v":""},"",{"$f":"IF(ISBLANK(Datenerfassung!O285),\"\",Datenerfassung!O285)","v":""},{"$f":"IF(ISBLANK(Datenerfassung!G285),\"\",Datenerfassung!G285)","v":""},{"$f":"IF(ISBLANK(Datenerfassung!M285),\"\",Datenerfassung!M285)","v":""},{"$f":"IF(ISBLANK(Datenerfassung!H285),\"\",Datenerfassung!H285)","v":""}]
[{"$f":"IF(ISBLANK(Datenerfassung!A286),\"\",Datenerfassung!A286)","v":""},{"$f":"IF(ISBLANK(Datenerfassung!B286),\"\",Datenerfassung!B286)","v":""},{"$f":"IF(ISBLANK(Datenerfassung!C286),\"\",Datenerfassung!C286)","v":""},{"$f":"IF(ISBLANK(Datenerfassung!I286),\"\",Datenerfassung!I286)","v":""},{"$f":"IF(ISBLANK(Datenerfassung!J286),\"\",Datenerfassung!J286)","v":""},"",{"$f":"IF(ISBLANK(Datenerfassung!L286),\"\",Datenerfassung!L286)","v":""},{"$f":"IF(ISBLANK(Datenerfassung!F286),\"\",Datenerfassung!F286)","v":""},{"$f":"IF(ISBLANK(Datenerfassung!D286),IF(COUNTBLANK(A276:H276)+COUNTBLANK(J276:O276)=14,\"\",\"- ohne Titel -\"),Datenerfassung!D286)","v":""},{"$f":"IF(ISBLANK(Datenerfassung!E286),\"\",Datenerfassung!E286)","v":""},"",{"$f":"IF(ISBLANK(Datenerfassung!O286),\"\",Datenerfassung!O286)","v":""},{"$f":"IF(ISBLANK(Datenerfassung!G286),\"\",Datenerfassung!G286)","v":""},{"$f":"IF(ISBLANK(Datenerfassung!M286),\"\",Datenerfassung!M286)","v":""},{"$f":"IF(ISBLANK(Datenerfassung!H286),\"\",Datenerfassung!H286)","v":""}]
[{"$f":"IF(ISBLANK(Datenerfassung!A287),\"\",Datenerfassung!A287)","v":""},{"$f":"IF(ISBLANK(Datenerfassung!B287),\"\",Datenerfassung!B287)","v":""},{"$f":"IF(ISBLANK(Datenerfassung!C287),\"\",Datenerfassung!C287)","v":""},{"$f":"IF(ISBLANK(Datenerfassung!I287),\"\",Datenerfassung!I287)","v":""},{"$f":"IF(ISBLANK(Datenerfassung!J287),\"\",Datenerfassung!J287)","v":""},"",{"$f":"IF(ISBLANK(Datenerfassung!L287),\"\",Datenerfassung!L287)","v":""},{"$f":"IF(ISBLANK(Datenerfassung!F287),\"\",Datenerfassung!F287)","v":""},{"$f":"IF(ISBLANK(Datenerfassung!D287),IF(COUNTBLANK(A277:H277)+COUNTBLANK(J277:O277)=14,\"\",\"- ohne Titel -\"),Datenerfassung!D287)","v":""},{"$f":"IF(ISBLANK(Datenerfassung!E287),\"\",Datenerfassung!E287)","v":""},"",{"$f":"IF(ISBLANK(Datenerfassung!O287),\"\",Datenerfassung!O287)","v":""},{"$f":"IF(ISBLANK(Datenerfassung!G287),\"\",Datenerfassung!G287)","v":""},{"$f":"IF(ISBLANK(Datenerfassung!M287),\"\",Datenerfassung!M287)","v":""},{"$f":"IF(ISBLANK(Datenerfassung!H287),\"\",Datenerfassung!H287)","v":""}]
[{"$f":"IF(ISBLANK(Datenerfassung!A288),\"\",Datenerfassung!A288)","v":""},{"$f":"IF(ISBLANK(Datenerfassung!B288),\"\",Datenerfassung!B288)","v":""},{"$f":"IF(ISBLANK(Datenerfassung!C288),\"\",Datenerfassung!C288)","v":""},{"$f":"IF(ISBLANK(Datenerfassung!I288),\"\",Datenerfassung!I288)","v":""},{"$f":"IF(ISBLANK(Datenerfassung!J288),\"\",Datenerfassung!J288)","v":""},"",{"$f":"IF(ISBLANK(Datenerfassung!L288),\"\",Datenerfassung!L288)","v":""},{"$f":"IF(ISBLANK(Datenerfassung!F288),\"\",Datenerfassung!F288)","v":""},{"$f":"IF(ISBLANK(Datenerfassung!D288),IF(COUNTBLANK(A278:H278)+COUNTBLANK(J278:O278)=14,\"\",\"- ohne Titel -\"),Datenerfassung!D288)","v":""},{"$f":"IF(ISBLANK(Datenerfassung!E288),\"\",Datenerfassung!E288)","v":""},"",{"$f":"IF(ISBLANK(Datenerfassung!O288),\"\",Datenerfassung!O288)","v":""},{"$f":"IF(ISBLANK(Datenerfassung!G288),\"\",Datenerfassung!G288)","v":""},{"$f":"IF(ISBLANK(Datenerfassung!M288),\"\",Datenerfassung!M288)","v":""},{"$f":"IF(ISBLANK(Datenerfassung!H288),\"\",Datenerfassung!H288)","v":""}]
[{"$f":"IF(ISBLANK(Datenerfassung!A289),\"\",Datenerfassung!A289)","v":""},{"$f":"IF(ISBLANK(Datenerfassung!B289),\"\",Datenerfassung!B289)","v":""},{"$f":"IF(ISBLANK(Datenerfassung!C289),\"\",Datenerfassung!C289)","v":""},{"$f":"IF(ISBLANK(Datenerfassung!I289),\"\",Datenerfassung!I289)","v":""},{"$f":"IF(ISBLANK(Datenerfassung!J289),\"\",Datenerfassung!J289)","v":""},"",{"$f":"IF(ISBLANK(Datenerfassung!L289),\"\",Datenerfassung!L289)","v":""},{"$f":"IF(ISBLANK(Datenerfassung!F289),\"\",Datenerfassung!F289)","v":""},{"$f":"IF(ISBLANK(Datenerfassung!D289),IF(COUNTBLANK(A279:H279)+COUNTBLANK(J279:O279)=14,\"\",\"- ohne Titel -\"),Datenerfassung!D289)","v":""},{"$f":"IF(ISBLANK(Datenerfassung!E289),\"\",Datenerfassung!E289)","v":""},"",{"$f":"IF(ISBLANK(Datenerfassung!O289),\"\",Datenerfassung!O289)","v":""},{"$f":"IF(ISBLANK(Datenerfassung!G289),\"\",Datenerfassung!G289)","v":""},{"$f":"IF(ISBLANK(Datenerfassung!M289),\"\",Datenerfassung!M289)","v":""},{"$f":"IF(ISBLANK(Datenerfassung!H289),\"\",Datenerfassung!H289)","v":""}]
[{"$f":"IF(ISBLANK(Datenerfassung!A290),\"\",Datenerfassung!A290)","v":""},{"$f":"IF(ISBLANK(Datenerfassung!B290),\"\",Datenerfassung!B290)","v":""},{"$f":"IF(ISBLANK(Datenerfassung!C290),\"\",Datenerfassung!C290)","v":""},{"$f":"IF(ISBLANK(Datenerfassung!I290),\"\",Datenerfassung!I290)","v":""},{"$f":"IF(ISBLANK(Datenerfassung!J290),\"\",Datenerfassung!J290)","v":""},"",{"$f":"IF(ISBLANK(Datenerfassung!L290),\"\",Datenerfassung!L290)","v":""},{"$f":"IF(ISBLANK(Datenerfassung!F290),\"\",Datenerfassung!F290)","v":""},{"$f":"IF(ISBLANK(Datenerfassung!D290),IF(COUNTBLANK(A280:H280)+COUNTBLANK(J280:O280)=14,\"\",\"- ohne Titel -\"),Datenerfassung!D290)","v":""},{"$f":"IF(ISBLANK(Datenerfassung!E290),\"\",Datenerfassung!E290)","v":""},"",{"$f":"IF(ISBLANK(Datenerfassung!O290),\"\",Datenerfassung!O290)","v":""},{"$f":"IF(ISBLANK(Datenerfassung!G290),\"\",Datenerfassung!G290)","v":""},{"$f":"IF(ISBLANK(Datenerfassung!M290),\"\",Datenerfassung!M290)","v":""},{"$f":"IF(ISBLANK(Datenerfassung!H290),\"\",Datenerfassung!H290)","v":""}]
[{"$f":"IF(ISBLANK(Datenerfassung!A291),\"\",Datenerfassung!A291)","v":""},{"$f":"IF(ISBLANK(Datenerfassung!B291),\"\",Datenerfassung!B291)","v":""},{"$f":"IF(ISBLANK(Datenerfassung!C291),\"\",Datenerfassung!C291)","v":""},{"$f":"IF(ISBLANK(Datenerfassung!I291),\"\",Datenerfassung!I291)","v":""},{"$f":"IF(ISBLANK(Datenerfassung!J291),\"\",Datenerfassung!J291)","v":""},"",{"$f":"IF(ISBLANK(Datenerfassung!L291),\"\",Datenerfassung!L291)","v":""},{"$f":"IF(ISBLANK(Datenerfassung!F291),\"\",Datenerfassung!F291)","v":""},{"$f":"IF(ISBLANK(Datenerfassung!D291),IF(COUNTBLANK(A281:H281)+COUNTBLANK(J281:O281)=14,\"\",\"- ohne Titel -\"),Datenerfassung!D291)","v":""},{"$f":"IF(ISBLANK(Datenerfassung!E291),\"\",Datenerfassung!E291)","v":""},"",{"$f":"IF(ISBLANK(Datenerfassung!O291),\"\",Datenerfassung!O291)","v":""},{"$f":"IF(ISBLANK(Datenerfassung!G291),\"\",Datenerfassung!G291)","v":""},{"$f":"IF(ISBLANK(Datenerfassung!M291),\"\",Datenerfassung!M291)","v":""},{"$f":"IF(ISBLANK(Datenerfassung!H291),\"\",Datenerfassung!H291)","v":""}]
[{"$f":"IF(ISBLANK(Datenerfassung!A292),\"\",Datenerfassung!A292)","v":""},{"$f":"IF(ISBLANK(Datenerfassung!B292),\"\",Datenerfassung!B292)","v":""},{"$f":"IF(ISBLANK(Datenerfassung!C292),\"\",Datenerfassung!C292)","v":""},{"$f":"IF(ISBLANK(Datenerfassung!I292),\"\",Datenerfassung!I292)","v":""},{"$f":"IF(ISBLANK(Datenerfassung!J292),\"\",Datenerfassung!J292)","v":""},"",{"$f":"IF(ISBLANK(Datenerfassung!L292),\"\",Datenerfassung!L292)","v":""},{"$f":"IF(ISBLANK(Datenerfassung!F292),\"\",Datenerfassung!F292)","v":""},{"$f":"IF(ISBLANK(Datenerfassung!D292),IF(COUNTBLANK(A282:H282)+COUNTBLANK(J282:O282)=14,\"\",\"- ohne Titel -\"),Datenerfassung!D292)","v":""},{"$f":"IF(ISBLANK(Datenerfassung!E292),\"\",Datenerfassung!E292)","v":""},"",{"$f":"IF(ISBLANK(Datenerfassung!O292),\"\",Datenerfassung!O292)","v":""},{"$f":"IF(ISBLANK(Datenerfassung!G292),\"\",Datenerfassung!G292)","v":""},{"$f":"IF(ISBLANK(Datenerfassung!M292),\"\",Datenerfassung!M292)","v":""},{"$f":"IF(ISBLANK(Datenerfassung!H292),\"\",Datenerfassung!H292)","v":""}]
[{"$f":"IF(ISBLANK(Datenerfassung!A293),\"\",Datenerfassung!A293)","v":""},{"$f":"IF(ISBLANK(Datenerfassung!B293),\"\",Datenerfassung!B293)","v":""},{"$f":"IF(ISBLANK(Datenerfassung!C293),\"\",Datenerfassung!C293)","v":""},{"$f":"IF(ISBLANK(Datenerfassung!I293),\"\",Datenerfassung!I293)","v":""},{"$f":"IF(ISBLANK(Datenerfassung!J293),\"\",Datenerfassung!J293)","v":""},"",{"$f":"IF(ISBLANK(Datenerfassung!L293),\"\",Datenerfassung!L293)","v":""},{"$f":"IF(ISBLANK(Datenerfassung!F293),\"\",Datenerfassung!F293)","v":""},{"$f":"IF(ISBLANK(Datenerfassung!D293),IF(COUNTBLANK(A283:H283)+COUNTBLANK(J283:O283)=14,\"\",\"- ohne Titel -\"),Datenerfassung!D293)","v":""},{"$f":"IF(ISBLANK(Datenerfassung!E293),\"\",Datenerfassung!E293)","v":""},"",{"$f":"IF(ISBLANK(Datenerfassung!O293),\"\",Datenerfassung!O293)","v":""},{"$f":"IF(ISBLANK(Datenerfassung!G293),\"\",Datenerfassung!G293)","v":""},{"$f":"IF(ISBLANK(Datenerfassung!M293),\"\",Datenerfassung!M293)","v":""},{"$f":"IF(ISBLANK(Datenerfassung!H293),\"\",Datenerfassung!H293)","v":""}]
[{"$f":"IF(ISBLANK(Datenerfassung!A294),\"\",Datenerfassung!A294)","v":""},{"$f":"IF(ISBLANK(Datenerfassung!B294),\"\",Datenerfassung!B294)","v":""},{"$f":"IF(ISBLANK(Datenerfassung!C294),\"\",Datenerfassung!C294)","v":""},{"$f":"IF(ISBLANK(Datenerfassung!I294),\"\",Datenerfassung!I294)","v":""},{"$f":"IF(ISBLANK(Datenerfassung!J294),\"\",Datenerfassung!J294)","v":""},"",{"$f":"IF(ISBLANK(Datenerfassung!L294),\"\",Datenerfassung!L294)","v":""},{"$f":"IF(ISBLANK(Datenerfassung!F294),\"\",Datenerfassung!F294)","v":""},{"$f":"IF(ISBLANK(Datenerfassung!D294),IF(COUNTBLANK(A284:H284)+COUNTBLANK(J284:O284)=14,\"\",\"- ohne Titel -\"),Datenerfassung!D294)","v":""},{"$f":"IF(ISBLANK(Datenerfassung!E294),\"\",Datenerfassung!E294)","v":""},"",{"$f":"IF(ISBLANK(Datenerfassung!O294),\"\",Datenerfassung!O294)","v":""},{"$f":"IF(ISBLANK(Datenerfassung!G294),\"\",Datenerfassung!G294)","v":""},{"$f":"IF(ISBLANK(Datenerfassung!M294),\"\",Datenerfassung!M294)","v":""},{"$f":"IF(ISBLANK(Datenerfassung!H294),\"\",Datenerfassung!H294)","v":""}]
[{"$f":"IF(ISBLANK(Datenerfassung!A295),\"\",Datenerfassung!A295)","v":""},{"$f":"IF(ISBLANK(Datenerfassung!B295),\"\",Datenerfassung!B295)","v":""},{"$f":"IF(ISBLANK(Datenerfassung!C295),\"\",Datenerfassung!C295)","v":""},{"$f":"IF(ISBLANK(Datenerfassung!I295),\"\",Datenerfassung!I295)","v":""},{"$f":"IF(ISBLANK(Datenerfassung!J295),\"\",Datenerfassung!J295)","v":""},"",{"$f":"IF(ISBLANK(Datenerfassung!L295),\"\",Datenerfassung!L295)","v":""},{"$f":"IF(ISBLANK(Datenerfassung!F295),\"\",Datenerfassung!F295)","v":""},{"$f":"IF(ISBLANK(Datenerfassung!D295),IF(COUNTBLANK(A285:H285)+COUNTBLANK(J285:O285)=14,\"\",\"- ohne Titel -\"),Datenerfassung!D295)","v":""},{"$f":"IF(ISBLANK(Datenerfassung!E295),\"\",Datenerfassung!E295)","v":""},"",{"$f":"IF(ISBLANK(Datenerfassung!O295),\"\",Datenerfassung!O295)","v":""},{"$f":"IF(ISBLANK(Datenerfassung!G295),\"\",Datenerfassung!G295)","v":""},{"$f":"IF(ISBLANK(Datenerfassung!M295),\"\",Datenerfassung!M295)","v":""},{"$f":"IF(ISBLANK(Datenerfassung!H295),\"\",Datenerfassung!H295)","v":""}]
[{"$f":"IF(ISBLANK(Datenerfassung!A296),\"\",Datenerfassung!A296)","v":""},{"$f":"IF(ISBLANK(Datenerfassung!B296),\"\",Datenerfassung!B296)","v":""},{"$f":"IF(ISBLANK(Datenerfassung!C296),\"\",Datenerfassung!C296)","v":""},{"$f":"IF(ISBLANK(Datenerfassung!I296),\"\",Datenerfassung!I296)","v":""},{"$f":"IF(ISBLANK(Datenerfassung!J296),\"\",Datenerfassung!J296)","v":""},"",{"$f":"IF(ISBLANK(Datenerfassung!L296),\"\",Datenerfassung!L296)","v":""},{"$f":"IF(ISBLANK(Datenerfassung!F296),\"\",Datenerfassung!F296)","v":""},{"$f":"IF(ISBLANK(Datenerfassung!D296),IF(COUNTBLANK(A286:H286)+COUNTBLANK(J286:O286)=14,\"\",\"- ohne Titel -\"),Datenerfassung!D296)","v":""},{"$f":"IF(ISBLANK(Datenerfassung!E296),\"\",Datenerfassung!E296)","v":""},"",{"$f":"IF(ISBLANK(Datenerfassung!O296),\"\",Datenerfassung!O296)","v":""},{"$f":"IF(ISBLANK(Datenerfassung!G296),\"\",Datenerfassung!G296)","v":""},{"$f":"IF(ISBLANK(Datenerfassung!M296),\"\",Datenerfassung!M296)","v":""},{"$f":"IF(ISBLANK(Datenerfassung!H296),\"\",Datenerfassung!H296)","v":""}]
[{"$f":"IF(ISBLANK(Datenerfassung!A297),\"\",Datenerfassung!A297)","v":""},{"$f":"IF(ISBLANK(Datenerfassung!B297),\"\",Datenerfassung!B297)","v":""},{"$f":"IF(ISBLANK(Datenerfassung!C297),\"\",Datenerfassung!C297)","v":""},{"$f":"IF(ISBLANK(Datenerfassung!I297),\"\",Datenerfassung!I297)","v":""},{"$f":"IF(ISBLANK(Datenerfassung!J297),\"\",Datenerfassung!J297)","v":""},"",{"$f":"IF(ISBLANK(Datenerfassung!L297),\"\",Datenerfassung!L297)","v":""},{"$f":"IF(ISBLANK(Datenerfassung!F297),\"\",Datenerfassung!F297)","v":""},{"$f":"IF(ISBLANK(Datenerfassung!D297),IF(COUNTBLANK(A287:H287)+COUNTBLANK(J287:O287)=14,\"\",\"- ohne Titel -\"),Datenerfassung!D297)","v":""},{"$f":"IF(ISBLANK(Datenerfassung!E297),\"\",Datenerfassung!E297)","v":""},"",{"$f":"IF(ISBLANK(Datenerfassung!O297),\"\",Datenerfassung!O297)","v":""},{"$f":"IF(ISBLANK(Datenerfassung!G297),\"\",Datenerfassung!G297)","v":""},{"$f":"IF(ISBLANK(Datenerfassung!M297),\"\",Datenerfassung!M297)","v":""},{"$f":"IF(ISBLANK(Datenerfassung!H297),\"\",Datenerfassung!H297)","v":""}]
[{"$f":"IF(ISBLANK(Datenerfassung!A298),\"\",Datenerfassung!A298)","v":""},{"$f":"IF(ISBLANK(Datenerfassung!B298),\"\",Datenerfassung!B298)","v":""},{"$f":"IF(ISBLANK(Datenerfassung!C298),\"\",Datenerfassung!C298)","v":""},{"$f":"IF(ISBLANK(Datenerfassung!I298),\"\",Datenerfassung!I298)","v":""},{"$f":"IF(ISBLANK(Datenerfassung!J298),\"\",Datenerfassung!J298)","v":""},"",{"$f":"IF(ISBLANK(Datenerfassung!L298),\"\",Datenerfassung!L298)","v":""},{"$f":"IF(ISBLANK(Datenerfassung!F298),\"\",Datenerfassung!F298)","v":""},{"$f":"IF(ISBLANK(Datenerfassung!D298),IF(COUNTBLANK(A288:H288)+COUNTBLANK(J288:O288)=14,\"\",\"- ohne Titel -\"),Datenerfassung!D298)","v":""},{"$f":"IF(ISBLANK(Datenerfassung!E298),\"\",Datenerfassung!E298)","v":""},"",{"$f":"IF(ISBLANK(Datenerfassung!O298),\"\",Datenerfassung!O298)","v":""},{"$f":"IF(ISBLANK(Datenerfassung!G298),\"\",Datenerfassung!G298)","v":""},{"$f":"IF(ISBLANK(Datenerfassung!M298),\"\",Datenerfassung!M298)","v":""},{"$f":"IF(ISBLANK(Datenerfassung!H298),\"\",Datenerfassung!H298)","v":""}]
[{"$f":"IF(ISBLANK(Datenerfassung!A299),\"\",Datenerfassung!A299)","v":""},{"$f":"IF(ISBLANK(Datenerfassung!B299),\"\",Datenerfassung!B299)","v":""},{"$f":"IF(ISBLANK(Datenerfassung!C299),\"\",Datenerfassung!C299)","v":""},{"$f":"IF(ISBLANK(Datenerfassung!I299),\"\",Datenerfassung!I299)","v":""},{"$f":"IF(ISBLANK(Datenerfassung!J299),\"\",Datenerfassung!J299)","v":""},"",{"$f":"IF(ISBLANK(Datenerfassung!L299),\"\",Datenerfassung!L299)","v":""},{"$f":"IF(ISBLANK(Datenerfassung!F299),\"\",Datenerfassung!F299)","v":""},{"$f":"IF(ISBLANK(Datenerfassung!D299),IF(COUNTBLANK(A289:H289)+COUNTBLANK(J289:O289)=14,\"\",\"- ohne Titel -\"),Datenerfassung!D299)","v":""},{"$f":"IF(ISBLANK(Datenerfassung!E299),\"\",Datenerfassung!E299)","v":""},"",{"$f":"IF(ISBLANK(Datenerfassung!O299),\"\",Datenerfassung!O299)","v":""},{"$f":"IF(ISBLANK(Datenerfassung!G299),\"\",Datenerfassung!G299)","v":""},{"$f":"IF(ISBLANK(Datenerfassung!M299),\"\",Datenerfassung!M299)","v":""},{"$f":"IF(ISBLANK(Datenerfassung!H299),\"\",Datenerfassung!H299)","v":""}]
[{"$f":"IF(ISBLANK(Datenerfassung!A300),\"\",Datenerfassung!A300)","v":""},{"$f":"IF(ISBLANK(Datenerfassung!B300),\"\",Datenerfassung!B300)","v":""},{"$f":"IF(ISBLANK(Datenerfassung!C300),\"\",Datenerfassung!C300)","v":""},{"$f":"IF(ISBLANK(Datenerfassung!I300),\"\",Datenerfassung!I300)","v":""},{"$f":"IF(ISBLANK(Datenerfassung!J300),\"\",Datenerfassung!J300)","v":""},"",{"$f":"IF(ISBLANK(Datenerfassung!L300),\"\",Datenerfassung!L300)","v":""},{"$f":"IF(ISBLANK(Datenerfassung!F300),\"\",Datenerfassung!F300)","v":""},{"$f":"IF(ISBLANK(Datenerfassung!D300),IF(COUNTBLANK(A290:H290)+COUNTBLANK(J290:O290)=14,\"\",\"- ohne Titel -\"),Datenerfassung!D300)","v":""},{"$f":"IF(ISBLANK(Datenerfassung!E300),\"\",Datenerfassung!E300)","v":""},"",{"$f":"IF(ISBLANK(Datenerfassung!O300),\"\",Datenerfassung!O300)","v":""},{"$f":"IF(ISBLANK(Datenerfassung!G300),\"\",Datenerfassung!G300)","v":""},{"$f":"IF(ISBLANK(Datenerfassung!M300),\"\",Datenerfassung!M300)","v":""},{"$f":"IF(ISBLANK(Datenerfassung!H300),\"\",Datenerfassung!H300)","v":""}]
[{"$f":"IF(ISBLANK(Datenerfassung!A301),\"\",Datenerfassung!A301)","v":""},{"$f":"IF(ISBLANK(Datenerfassung!B301),\"\",Datenerfassung!B301)","v":""},{"$f":"IF(ISBLANK(Datenerfassung!C301),\"\",Datenerfassung!C301)","v":""},{"$f":"IF(ISBLANK(Datenerfassung!I301),\"\",Datenerfassung!I301)","v":""},{"$f":"IF(ISBLANK(Datenerfassung!J301),\"\",Datenerfassung!J301)","v":""},"",{"$f":"IF(ISBLANK(Datenerfassung!L301),\"\",Datenerfassung!L301)","v":""},{"$f":"IF(ISBLANK(Datenerfassung!F301),\"\",Datenerfassung!F301)","v":""},{"$f":"IF(ISBLANK(Datenerfassung!D301),IF(COUNTBLANK(A291:H291)+COUNTBLANK(J291:O291)=14,\"\",\"- ohne Titel -\"),Datenerfassung!D301)","v":""},{"$f":"IF(ISBLANK(Datenerfassung!E301),\"\",Datenerfassung!E301)","v":""},"",{"$f":"IF(ISBLANK(Datenerfassung!O301),\"\",Datenerfassung!O301)","v":""},{"$f":"IF(ISBLANK(Datenerfassung!G301),\"\",Datenerfassung!G301)","v":""},{"$f":"IF(ISBLANK(Datenerfassung!M301),\"\",Datenerfassung!M301)","v":""},{"$f":"IF(ISBLANK(Datenerfassung!H301),\"\",Datenerfassung!H301)","v":""}]
[{"$f":"IF(ISBLANK(Datenerfassung!A302),\"\",Datenerfassung!A302)","v":""},{"$f":"IF(ISBLANK(Datenerfassung!B302),\"\",Datenerfassung!B302)","v":""},{"$f":"IF(ISBLANK(Datenerfassung!C302),\"\",Datenerfassung!C302)","v":""},{"$f":"IF(ISBLANK(Datenerfassung!I302),\"\",Datenerfassung!I302)","v":""},{"$f":"IF(ISBLANK(Datenerfassung!J302),\"\",Datenerfassung!J302)","v":""},"",{"$f":"IF(ISBLANK(Datenerfassung!L302),\"\",Datenerfassung!L302)","v":""},{"$f":"IF(ISBLANK(Datenerfassung!F302),\"\",Datenerfassung!F302)","v":""},{"$f":"IF(ISBLANK(Datenerfassung!D302),IF(COUNTBLANK(A292:H292)+COUNTBLANK(J292:O292)=14,\"\",\"- ohne Titel -\"),Datenerfassung!D302)","v":""},{"$f":"IF(ISBLANK(Datenerfassung!E302),\"\",Datenerfassung!E302)","v":""},"",{"$f":"IF(ISBLANK(Datenerfassung!O302),\"\",Datenerfassung!O302)","v":""},{"$f":"IF(ISBLANK(Datenerfassung!G302),\"\",Datenerfassung!G302)","v":""},{"$f":"IF(ISBLANK(Datenerfassung!M302),\"\",Datenerfassung!M302)","v":""},{"$f":"IF(ISBLANK(Datenerfassung!H302),\"\",Datenerfassung!H302)","v":""}]
[{"$f":"IF(ISBLANK(Datenerfassung!A303),\"\",Datenerfassung!A303)","v":""},{"$f":"IF(ISBLANK(Datenerfassung!B303),\"\",Datenerfassung!B303)","v":""},{"$f":"IF(ISBLANK(Datenerfassung!C303),\"\",Datenerfassung!C303)","v":""},{"$f":"IF(ISBLANK(Datenerfassung!I303),\"\",Datenerfassung!I303)","v":""},{"$f":"IF(ISBLANK(Datenerfassung!J303),\"\",Datenerfassung!J303)","v":""},"",{"$f":"IF(ISBLANK(Datenerfassung!L303),\"\",Datenerfassung!L303)","v":""},{"$f":"IF(ISBLANK(Datenerfassung!F303),\"\",Datenerfassung!F303)","v":""},{"$f":"IF(ISBLANK(Datenerfassung!D303),IF(COUNTBLANK(A293:H293)+COUNTBLANK(J293:O293)=14,\"\",\"- ohne Titel -\"),Datenerfassung!D303)","v":""},{"$f":"IF(ISBLANK(Datenerfassung!E303),\"\",Datenerfassung!E303)","v":""},"",{"$f":"IF(ISBLANK(Datenerfassung!O303),\"\",Datenerfassung!O303)","v":""},{"$f":"IF(ISBLANK(Datenerfassung!G303),\"\",Datenerfassung!G303)","v":""},{"$f":"IF(ISBLANK(Datenerfassung!M303),\"\",Datenerfassung!M303)","v":""},{"$f":"IF(ISBLANK(Datenerfassung!H303),\"\",Datenerfassung!H303)","v":""}]
[{"$f":"IF(ISBLANK(Datenerfassung!A304),\"\",Datenerfassung!A304)","v":""},{"$f":"IF(ISBLANK(Datenerfassung!B304),\"\",Datenerfassung!B304)","v":""},{"$f":"IF(ISBLANK(Datenerfassung!C304),\"\",Datenerfassung!C304)","v":""},{"$f":"IF(ISBLANK(Datenerfassung!I304),\"\",Datenerfassung!I304)","v":""},{"$f":"IF(ISBLANK(Datenerfassung!J304),\"\",Datenerfassung!J304)","v":""},"",{"$f":"IF(ISBLANK(Datenerfassung!L304),\"\",Datenerfassung!L304)","v":""},{"$f":"IF(ISBLANK(Datenerfassung!F304),\"\",Datenerfassung!F304)","v":""},{"$f":"IF(ISBLANK(Datenerfassung!D304),IF(COUNTBLANK(A294:H294)+COUNTBLANK(J294:O294)=14,\"\",\"- ohne Titel -\"),Datenerfassung!D304)","v":""},{"$f":"IF(ISBLANK(Datenerfassung!E304),\"\",Datenerfassung!E304)","v":""},"",{"$f":"IF(ISBLANK(Datenerfassung!O304),\"\",Datenerfassung!O304)","v":""},{"$f":"IF(ISBLANK(Datenerfassung!G304),\"\",Datenerfassung!G304)","v":""},{"$f":"IF(ISBLANK(Datenerfassung!M304),\"\",Datenerfassung!M304)","v":""},{"$f":"IF(ISBLANK(Datenerfassung!H304),\"\",Datenerfassung!H304)","v":""}]
[{"$f":"IF(ISBLANK(Datenerfassung!A305),\"\",Datenerfassung!A305)","v":""},{"$f":"IF(ISBLANK(Datenerfassung!B305),\"\",Datenerfassung!B305)","v":""},{"$f":"IF(ISBLANK(Datenerfassung!C305),\"\",Datenerfassung!C305)","v":""},{"$f":"IF(ISBLANK(Datenerfassung!I305),\"\",Datenerfassung!I305)","v":""},{"$f":"IF(ISBLANK(Datenerfassung!J305),\"\",Datenerfassung!J305)","v":""},"",{"$f":"IF(ISBLANK(Datenerfassung!L305),\"\",Datenerfassung!L305)","v":""},{"$f":"IF(ISBLANK(Datenerfassung!F305),\"\",Datenerfassung!F305)","v":""},{"$f":"IF(ISBLANK(Datenerfassung!D305),IF(COUNTBLANK(A295:H295)+COUNTBLANK(J295:O295)=14,\"\",\"- ohne Titel -\"),Datenerfassung!D305)","v":""},{"$f":"IF(ISBLANK(Datenerfassung!E305),\"\",Datenerfassung!E305)","v":""},"",{"$f":"IF(ISBLANK(Datenerfassung!O305),\"\",Datenerfassung!O305)","v":""},{"$f":"IF(ISBLANK(Datenerfassung!G305),\"\",Datenerfassung!G305)","v":""},{"$f":"IF(ISBLANK(Datenerfassung!M305),\"\",Datenerfassung!M305)","v":""},{"$f":"IF(ISBLANK(Datenerfassung!H305),\"\",Datenerfassung!H305)","v":""}]
[{"$f":"IF(ISBLANK(Datenerfassung!A306),\"\",Datenerfassung!A306)","v":""},{"$f":"IF(ISBLANK(Datenerfassung!B306),\"\",Datenerfassung!B306)","v":""},{"$f":"IF(ISBLANK(Datenerfassung!C306),\"\",Datenerfassung!C306)","v":""},{"$f":"IF(ISBLANK(Datenerfassung!I306),\"\",Datenerfassung!I306)","v":""},{"$f":"IF(ISBLANK(Datenerfassung!J306),\"\",Datenerfassung!J306)","v":""},"",{"$f":"IF(ISBLANK(Datenerfassung!L306),\"\",Datenerfassung!L306)","v":""},{"$f":"IF(ISBLANK(Datenerfassung!F306),\"\",Datenerfassung!F306)","v":""},{"$f":"IF(ISBLANK(Datenerfassung!D306),IF(COUNTBLANK(A296:H296)+COUNTBLANK(J296:O296)=14,\"\",\"- ohne Titel -\"),Datenerfassung!D306)","v":""},{"$f":"IF(ISBLANK(Datenerfassung!E306),\"\",Datenerfassung!E306)","v":""},"",{"$f":"IF(ISBLANK(Datenerfassung!O306),\"\",Datenerfassung!O306)","v":""},{"$f":"IF(ISBLANK(Datenerfassung!G306),\"\",Datenerfassung!G306)","v":""},{"$f":"IF(ISBLANK(Datenerfassung!M306),\"\",Datenerfassung!M306)","v":""},{"$f":"IF(ISBLANK(Datenerfassung!H306),\"\",Datenerfassung!H306)","v":""}]
[{"$f":"IF(ISBLANK(Datenerfassung!A307),\"\",Datenerfassung!A307)","v":""},{"$f":"IF(ISBLANK(Datenerfassung!B307),\"\",Datenerfassung!B307)","v":""},{"$f":"IF(ISBLANK(Datenerfassung!C307),\"\",Datenerfassung!C307)","v":""},{"$f":"IF(ISBLANK(Datenerfassung!I307),\"\",Datenerfassung!I307)","v":""},{"$f":"IF(ISBLANK(Datenerfassung!J307),\"\",Datenerfassung!J307)","v":""},"",{"$f":"IF(ISBLANK(Datenerfassung!L307),\"\",Datenerfassung!L307)","v":""},{"$f":"IF(ISBLANK(Datenerfassung!F307),\"\",Datenerfassung!F307)","v":""},{"$f":"IF(ISBLANK(Datenerfassung!D307),IF(COUNTBLANK(A297:H297)+COUNTBLANK(J297:O297)=14,\"\",\"- ohne Titel -\"),Datenerfassung!D307)","v":""},{"$f":"IF(ISBLANK(Datenerfassung!E307),\"\",Datenerfassung!E307)","v":""},"",{"$f":"IF(ISBLANK(Datenerfassung!O307),\"\",Datenerfassung!O307)","v":""},{"$f":"IF(ISBLANK(Datenerfassung!G307),\"\",Datenerfassung!G307)","v":""},{"$f":"IF(ISBLANK(Datenerfassung!M307),\"\",Datenerfassung!M307)","v":""},{"$f":"IF(ISBLANK(Datenerfassung!H307),\"\",Datenerfassung!H307)","v":""}]
[{"$f":"IF(ISBLANK(Datenerfassung!A308),\"\",Datenerfassung!A308)","v":""},{"$f":"IF(ISBLANK(Datenerfassung!B308),\"\",Datenerfassung!B308)","v":""},{"$f":"IF(ISBLANK(Datenerfassung!C308),\"\",Datenerfassung!C308)","v":""},{"$f":"IF(ISBLANK(Datenerfassung!I308),\"\",Datenerfassung!I308)","v":""},{"$f":"IF(ISBLANK(Datenerfassung!J308),\"\",Datenerfassung!J308)","v":""},"",{"$f":"IF(ISBLANK(Datenerfassung!L308),\"\",Datenerfassung!L308)","v":""},{"$f":"IF(ISBLANK(Datenerfassung!F308),\"\",Datenerfassung!F308)","v":""},{"$f":"IF(ISBLANK(Datenerfassung!D308),IF(COUNTBLANK(A298:H298)+COUNTBLANK(J298:O298)=14,\"\",\"- ohne Titel -\"),Datenerfassung!D308)","v":""},{"$f":"IF(ISBLANK(Datenerfassung!E308),\"\",Datenerfassung!E308)","v":""},"",{"$f":"IF(ISBLANK(Datenerfassung!O308),\"\",Datenerfassung!O308)","v":""},{"$f":"IF(ISBLANK(Datenerfassung!G308),\"\",Datenerfassung!G308)","v":""},{"$f":"IF(ISBLANK(Datenerfassung!M308),\"\",Datenerfassung!M308)","v":""},{"$f":"IF(ISBLANK(Datenerfassung!H308),\"\",Datenerfassung!H308)","v":""}]
[{"$f":"IF(ISBLANK(Datenerfassung!A309),\"\",Datenerfassung!A309)","v":""},{"$f":"IF(ISBLANK(Datenerfassung!B309),\"\",Datenerfassung!B309)","v":""},{"$f":"IF(ISBLANK(Datenerfassung!C309),\"\",Datenerfassung!C309)","v":""},{"$f":"IF(ISBLANK(Datenerfassung!I309),\"\",Datenerfassung!I309)","v":""},{"$f":"IF(ISBLANK(Datenerfassung!J309),\"\",Datenerfassung!J309)","v":""},"",{"$f":"IF(ISBLANK(Datenerfassung!L309),\"\",Datenerfassung!L309)","v":""},{"$f":"IF(ISBLANK(Datenerfassung!F309),\"\",Datenerfassung!F309)","v":""},{"$f":"IF(ISBLANK(Datenerfassung!D309),IF(COUNTBLANK(A299:H299)+COUNTBLANK(J299:O299)=14,\"\",\"- ohne Titel -\"),Datenerfassung!D309)","v":""},{"$f":"IF(ISBLANK(Datenerfassung!E309),\"\",Datenerfassung!E309)","v":""},"",{"$f":"IF(ISBLANK(Datenerfassung!O309),\"\",Datenerfassung!O309)","v":""},{"$f":"IF(ISBLANK(Datenerfassung!G309),\"\",Datenerfassung!G309)","v":""},{"$f":"IF(ISBLANK(Datenerfassung!M309),\"\",Datenerfassung!M309)","v":""},{"$f":"IF(ISBLANK(Datenerfassung!H309),\"\",Datenerfassung!H309)","v":""}]
[{"$f":"IF(ISBLANK(Datenerfassung!A310),\"\",Datenerfassung!A310)","v":""},{"$f":"IF(ISBLANK(Datenerfassung!B310),\"\",Datenerfassung!B310)","v":""},{"$f":"IF(ISBLANK(Datenerfassung!C310),\"\",Datenerfassung!C310)","v":""},{"$f":"IF(ISBLANK(Datenerfassung!I310),\"\",Datenerfassung!I310)","v":""},{"$f":"IF(ISBLANK(Datenerfassung!J310),\"\",Datenerfassung!J310)","v":""},"",{"$f":"IF(ISBLANK(Datenerfassung!L310),\"\",Datenerfassung!L310)","v":""},{"$f":"IF(ISBLANK(Datenerfassung!F310),\"\",Datenerfassung!F310)","v":""},{"$f":"IF(ISBLANK(Datenerfassung!D310),IF(COUNTBLANK(A300:H300)+COUNTBLANK(J300:O300)=14,\"\",\"- ohne Titel -\"),Datenerfassung!D310)","v":""},{"$f":"IF(ISBLANK(Datenerfassung!E310),\"\",Datenerfassung!E310)","v":""},"",{"$f":"IF(ISBLANK(Datenerfassung!O310),\"\",Datenerfassung!O310)","v":""},{"$f":"IF(ISBLANK(Datenerfassung!G310),\"\",Datenerfassung!G310)","v":""},{"$f":"IF(ISBLANK(Datenerfassung!M310),\"\",Datenerfassung!M310)","v":""},{"$f":"IF(ISBLANK(Datenerfassung!H310),\"\",Datenerfassung!H310)","v":""}]
[{"$f":"IF(ISBLANK(Datenerfassung!A311),\"\",Datenerfassung!A311)","v":""},{"$f":"IF(ISBLANK(Datenerfassung!B311),\"\",Datenerfassung!B311)","v":""},{"$f":"IF(ISBLANK(Datenerfassung!C311),\"\",Datenerfassung!C311)","v":""},{"$f":"IF(ISBLANK(Datenerfassung!I311),\"\",Datenerfassung!I311)","v":""},{"$f":"IF(ISBLANK(Datenerfassung!J311),\"\",Datenerfassung!J311)","v":""},"",{"$f":"IF(ISBLANK(Datenerfassung!L311),\"\",Datenerfassung!L311)","v":""},{"$f":"IF(ISBLANK(Datenerfassung!F311),\"\",Datenerfassung!F311)","v":""},{"$f":"IF(ISBLANK(Datenerfassung!D311),IF(COUNTBLANK(A301:H301)+COUNTBLANK(J301:O301)=14,\"\",\"- ohne Titel -\"),Datenerfassung!D311)","v":""},{"$f":"IF(ISBLANK(Datenerfassung!E311),\"\",Datenerfassung!E311)","v":""},"",{"$f":"IF(ISBLANK(Datenerfassung!O311),\"\",Datenerfassung!O311)","v":""},{"$f":"IF(ISBLANK(Datenerfassung!G311),\"\",Datenerfassung!G311)","v":""},{"$f":"IF(ISBLANK(Datenerfassung!M311),\"\",Datenerfassung!M311)","v":""},{"$f":"IF(ISBLANK(Datenerfassung!H311),\"\",Datenerfassung!H311)","v":""}]
[{"$f":"IF(ISBLANK(Datenerfassung!A312),\"\",Datenerfassung!A312)","v":""},{"$f":"IF(ISBLANK(Datenerfassung!B312),\"\",Datenerfassung!B312)","v":""},{"$f":"IF(ISBLANK(Datenerfassung!C312),\"\",Datenerfassung!C312)","v":""},{"$f":"IF(ISBLANK(Datenerfassung!I312),\"\",Datenerfassung!I312)","v":""},{"$f":"IF(ISBLANK(Datenerfassung!J312),\"\",Datenerfassung!J312)","v":""},"",{"$f":"IF(ISBLANK(Datenerfassung!L312),\"\",Datenerfassung!L312)","v":""},{"$f":"IF(ISBLANK(Datenerfassung!F312),\"\",Datenerfassung!F312)","v":""},{"$f":"IF(ISBLANK(Datenerfassung!D312),IF(COUNTBLANK(A302:H302)+COUNTBLANK(J302:O302)=14,\"\",\"- ohne Titel -\"),Datenerfassung!D312)","v":""},{"$f":"IF(ISBLANK(Datenerfassung!E312),\"\",Datenerfassung!E312)","v":""},"",{"$f":"IF(ISBLANK(Datenerfassung!O312),\"\",Datenerfassung!O312)","v":""},{"$f":"IF(ISBLANK(Datenerfassung!G312),\"\",Datenerfassung!G312)","v":""},{"$f":"IF(ISBLANK(Datenerfassung!M312),\"\",Datenerfassung!M312)","v":""},{"$f":"IF(ISBLANK(Datenerfassung!H312),\"\",Datenerfassung!H312)","v":""}]
[{"$f":"IF(ISBLANK(Datenerfassung!A313),\"\",Datenerfassung!A313)","v":""},{"$f":"IF(ISBLANK(Datenerfassung!B313),\"\",Datenerfassung!B313)","v":""},{"$f":"IF(ISBLANK(Datenerfassung!C313),\"\",Datenerfassung!C313)","v":""},{"$f":"IF(ISBLANK(Datenerfassung!I313),\"\",Datenerfassung!I313)","v":""},{"$f":"IF(ISBLANK(Datenerfassung!J313),\"\",Datenerfassung!J313)","v":""},"",{"$f":"IF(ISBLANK(Datenerfassung!L313),\"\",Datenerfassung!L313)","v":""},{"$f":"IF(ISBLANK(Datenerfassung!F313),\"\",Datenerfassung!F313)","v":""},{"$f":"IF(ISBLANK(Datenerfassung!D313),IF(COUNTBLANK(A303:H303)+COUNTBLANK(J303:O303)=14,\"\",\"- ohne Titel -\"),Datenerfassung!D313)","v":""},{"$f":"IF(ISBLANK(Datenerfassung!E313),\"\",Datenerfassung!E313)","v":""},"",{"$f":"IF(ISBLANK(Datenerfassung!O313),\"\",Datenerfassung!O313)","v":""},{"$f":"IF(ISBLANK(Datenerfassung!G313),\"\",Datenerfassung!G313)","v":""},{"$f":"IF(ISBLANK(Datenerfassung!M313),\"\",Datenerfassung!M313)","v":""},{"$f":"IF(ISBLANK(Datenerfassung!H313),\"\",Datenerfassung!H313)","v":""}]
[{"$f":"IF(ISBLANK(Datenerfassung!A314),\"\",Datenerfassung!A314)","v":""},{"$f":"IF(ISBLANK(Datenerfassung!B314),\"\",Datenerfassung!B314)","v":""},{"$f":"IF(ISBLANK(Datenerfassung!C314),\"\",Datenerfassung!C314)","v":""},{"$f":"IF(ISBLANK(Datenerfassung!I314),\"\",Datenerfassung!I314)","v":""},{"$f":"IF(ISBLANK(Datenerfassung!J314),\"\",Datenerfassung!J314)","v":""},"",{"$f":"IF(ISBLANK(Datenerfassung!L314),\"\",Datenerfassung!L314)","v":""},{"$f":"IF(ISBLANK(Datenerfassung!F314),\"\",Datenerfassung!F314)","v":""},{"$f":"IF(ISBLANK(Datenerfassung!D314),IF(COUNTBLANK(A304:H304)+COUNTBLANK(J304:O304)=14,\"\",\"- ohne Titel -\"),Datenerfassung!D314)","v":""},{"$f":"IF(ISBLANK(Datenerfassung!E314),\"\",Datenerfassung!E314)","v":""},"",{"$f":"IF(ISBLANK(Datenerfassung!O314),\"\",Datenerfassung!O314)","v":""},{"$f":"IF(ISBLANK(Datenerfassung!G314),\"\",Datenerfassung!G314)","v":""},{"$f":"IF(ISBLANK(Datenerfassung!M314),\"\",Datenerfassung!M314)","v":""},{"$f":"IF(ISBLANK(Datenerfassung!H314),\"\",Datenerfassung!H314)","v":""}]
[{"$f":"IF(ISBLANK(Datenerfassung!A315),\"\",Datenerfassung!A315)","v":""},{"$f":"IF(ISBLANK(Datenerfassung!B315),\"\",Datenerfassung!B315)","v":""},{"$f":"IF(ISBLANK(Datenerfassung!C315),\"\",Datenerfassung!C315)","v":""},{"$f":"IF(ISBLANK(Datenerfassung!I315),\"\",Datenerfassung!I315)","v":""},{"$f":"IF(ISBLANK(Datenerfassung!J315),\"\",Datenerfassung!J315)","v":""},"",{"$f":"IF(ISBLANK(Datenerfassung!L315),\"\",Datenerfassung!L315)","v":""},{"$f":"IF(ISBLANK(Datenerfassung!F315),\"\",Datenerfassung!F315)","v":""},{"$f":"IF(ISBLANK(Datenerfassung!D315),IF(COUNTBLANK(A305:H305)+COUNTBLANK(J305:O305)=14,\"\",\"- ohne Titel -\"),Datenerfassung!D315)","v":""},{"$f":"IF(ISBLANK(Datenerfassung!E315),\"\",Datenerfassung!E315)","v":""},"",{"$f":"IF(ISBLANK(Datenerfassung!O315),\"\",Datenerfassung!O315)","v":""},{"$f":"IF(ISBLANK(Datenerfassung!G315),\"\",Datenerfassung!G315)","v":""},{"$f":"IF(ISBLANK(Datenerfassung!M315),\"\",Datenerfassung!M315)","v":""},{"$f":"IF(ISBLANK(Datenerfassung!H315),\"\",Datenerfassung!H315)","v":""}]
[{"$f":"IF(ISBLANK(Datenerfassung!A316),\"\",Datenerfassung!A316)","v":""},{"$f":"IF(ISBLANK(Datenerfassung!B316),\"\",Datenerfassung!B316)","v":""},{"$f":"IF(ISBLANK(Datenerfassung!C316),\"\",Datenerfassung!C316)","v":""},{"$f":"IF(ISBLANK(Datenerfassung!I316),\"\",Datenerfassung!I316)","v":""},{"$f":"IF(ISBLANK(Datenerfassung!J316),\"\",Datenerfassung!J316)","v":""},"",{"$f":"IF(ISBLANK(Datenerfassung!L316),\"\",Datenerfassung!L316)","v":""},{"$f":"IF(ISBLANK(Datenerfassung!F316),\"\",Datenerfassung!F316)","v":""},{"$f":"IF(ISBLANK(Datenerfassung!D316),IF(COUNTBLANK(A306:H306)+COUNTBLANK(J306:O306)=14,\"\",\"- ohne Titel -\"),Datenerfassung!D316)","v":""},{"$f":"IF(ISBLANK(Datenerfassung!E316),\"\",Datenerfassung!E316)","v":""},"",{"$f":"IF(ISBLANK(Datenerfassung!O316),\"\",Datenerfassung!O316)","v":""},{"$f":"IF(ISBLANK(Datenerfassung!G316),\"\",Datenerfassung!G316)","v":""},{"$f":"IF(ISBLANK(Datenerfassung!M316),\"\",Datenerfassung!M316)","v":""},{"$f":"IF(ISBLANK(Datenerfassung!H316),\"\",Datenerfassung!H316)","v":""}]
[{"$f":"IF(ISBLANK(Datenerfassung!A317),\"\",Datenerfassung!A317)","v":""},{"$f":"IF(ISBLANK(Datenerfassung!B317),\"\",Datenerfassung!B317)","v":""},{"$f":"IF(ISBLANK(Datenerfassung!C317),\"\",Datenerfassung!C317)","v":""},{"$f":"IF(ISBLANK(Datenerfassung!I317),\"\",Datenerfassung!I317)","v":""},{"$f":"IF(ISBLANK(Datenerfassung!J317),\"\",Datenerfassung!J317)","v":""},"",{"$f":"IF(ISBLANK(Datenerfassung!L317),\"\",Datenerfassung!L317)","v":""},{"$f":"IF(ISBLANK(Datenerfassung!F317),\"\",Datenerfassung!F317)","v":""},{"$f":"IF(ISBLANK(Datenerfassung!D317),IF(COUNTBLANK(A307:H307)+COUNTBLANK(J307:O307)=14,\"\",\"- ohne Titel -\"),Datenerfassung!D317)","v":""},{"$f":"IF(ISBLANK(Datenerfassung!E317),\"\",Datenerfassung!E317)","v":""},"",{"$f":"IF(ISBLANK(Datenerfassung!O317),\"\",Datenerfassung!O317)","v":""},{"$f":"IF(ISBLANK(Datenerfassung!G317),\"\",Datenerfassung!G317)","v":""},{"$f":"IF(ISBLANK(Datenerfassung!M317),\"\",Datenerfassung!M317)","v":""},{"$f":"IF(ISBLANK(Datenerfassung!H317),\"\",Datenerfassung!H317)","v":""}]
[{"$f":"IF(ISBLANK(Datenerfassung!A318),\"\",Datenerfassung!A318)","v":""},{"$f":"IF(ISBLANK(Datenerfassung!B318),\"\",Datenerfassung!B318)","v":""},{"$f":"IF(ISBLANK(Datenerfassung!C318),\"\",Datenerfassung!C318)","v":""},{"$f":"IF(ISBLANK(Datenerfassung!I318),\"\",Datenerfassung!I318)","v":""},{"$f":"IF(ISBLANK(Datenerfassung!J318),\"\",Datenerfassung!J318)","v":""},"",{"$f":"IF(ISBLANK(Datenerfassung!L318),\"\",Datenerfassung!L318)","v":""},{"$f":"IF(ISBLANK(Datenerfassung!F318),\"\",Datenerfassung!F318)","v":""},{"$f":"IF(ISBLANK(Datenerfassung!D318),IF(COUNTBLANK(A308:H308)+COUNTBLANK(J308:O308)=14,\"\",\"- ohne Titel -\"),Datenerfassung!D318)","v":""},{"$f":"IF(ISBLANK(Datenerfassung!E318),\"\",Datenerfassung!E318)","v":""},"",{"$f":"IF(ISBLANK(Datenerfassung!O318),\"\",Datenerfassung!O318)","v":""},{"$f":"IF(ISBLANK(Datenerfassung!G318),\"\",Datenerfassung!G318)","v":""},{"$f":"IF(ISBLANK(Datenerfassung!M318),\"\",Datenerfassung!M318)","v":""},{"$f":"IF(ISBLANK(Datenerfassung!H318),\"\",Datenerfassung!H318)","v":""}]
[{"$f":"IF(ISBLANK(Datenerfassung!A319),\"\",Datenerfassung!A319)","v":""},{"$f":"IF(ISBLANK(Datenerfassung!B319),\"\",Datenerfassung!B319)","v":""},{"$f":"IF(ISBLANK(Datenerfassung!C319),\"\",Datenerfassung!C319)","v":""},{"$f":"IF(ISBLANK(Datenerfassung!I319),\"\",Datenerfassung!I319)","v":""},{"$f":"IF(ISBLANK(Datenerfassung!J319),\"\",Datenerfassung!J319)","v":""},"",{"$f":"IF(ISBLANK(Datenerfassung!L319),\"\",Datenerfassung!L319)","v":""},{"$f":"IF(ISBLANK(Datenerfassung!F319),\"\",Datenerfassung!F319)","v":""},{"$f":"IF(ISBLANK(Datenerfassung!D319),IF(COUNTBLANK(A309:H309)+COUNTBLANK(J309:O309)=14,\"\",\"- ohne Titel -\"),Datenerfassung!D319)","v":""},{"$f":"IF(ISBLANK(Datenerfassung!E319),\"\",Datenerfassung!E319)","v":""},"",{"$f":"IF(ISBLANK(Datenerfassung!O319),\"\",Datenerfassung!O319)","v":""},{"$f":"IF(ISBLANK(Datenerfassung!G319),\"\",Datenerfassung!G319)","v":""},{"$f":"IF(ISBLANK(Datenerfassung!M319),\"\",Datenerfassung!M319)","v":""},{"$f":"IF(ISBLANK(Datenerfassung!H319),\"\",Datenerfassung!H319)","v":""}]
[{"$f":"IF(ISBLANK(Datenerfassung!A320),\"\",Datenerfassung!A320)","v":""},{"$f":"IF(ISBLANK(Datenerfassung!B320),\"\",Datenerfassung!B320)","v":""},{"$f":"IF(ISBLANK(Datenerfassung!C320),\"\",Datenerfassung!C320)","v":""},{"$f":"IF(ISBLANK(Datenerfassung!I320),\"\",Datenerfassung!I320)","v":""},{"$f":"IF(ISBLANK(Datenerfassung!J320),\"\",Datenerfassung!J320)","v":""},"",{"$f":"IF(ISBLANK(Datenerfassung!L320),\"\",Datenerfassung!L320)","v":""},{"$f":"IF(ISBLANK(Datenerfassung!F320),\"\",Datenerfassung!F320)","v":""},{"$f":"IF(ISBLANK(Datenerfassung!D320),IF(COUNTBLANK(A310:H310)+COUNTBLANK(J310:O310)=14,\"\",\"- ohne Titel -\"),Datenerfassung!D320)","v":""},{"$f":"IF(ISBLANK(Datenerfassung!E320),\"\",Datenerfassung!E320)","v":""},"",{"$f":"IF(ISBLANK(Datenerfassung!O320),\"\",Datenerfassung!O320)","v":""},{"$f":"IF(ISBLANK(Datenerfassung!G320),\"\",Datenerfassung!G320)","v":""},{"$f":"IF(ISBLANK(Datenerfassung!M320),\"\",Datenerfassung!M320)","v":""},{"$f":"IF(ISBLANK(Datenerfassung!H320),\"\",Datenerfassung!H320)","v":""}]
[{"$f":"IF(ISBLANK(Datenerfassung!A321),\"\",Datenerfassung!A321)","v":""},{"$f":"IF(ISBLANK(Datenerfassung!B321),\"\",Datenerfassung!B321)","v":""},{"$f":"IF(ISBLANK(Datenerfassung!C321),\"\",Datenerfassung!C321)","v":""},{"$f":"IF(ISBLANK(Datenerfassung!I321),\"\",Datenerfassung!I321)","v":""},{"$f":"IF(ISBLANK(Datenerfassung!J321),\"\",Datenerfassung!J321)","v":""},"",{"$f":"IF(ISBLANK(Datenerfassung!L321),\"\",Datenerfassung!L321)","v":""},{"$f":"IF(ISBLANK(Datenerfassung!F321),\"\",Datenerfassung!F321)","v":""},{"$f":"IF(ISBLANK(Datenerfassung!D321),IF(COUNTBLANK(A311:H311)+COUNTBLANK(J311:O311)=14,\"\",\"- ohne Titel -\"),Datenerfassung!D321)","v":""},{"$f":"IF(ISBLANK(Datenerfassung!E321),\"\",Datenerfassung!E321)","v":""},"",{"$f":"IF(ISBLANK(Datenerfassung!O321),\"\",Datenerfassung!O321)","v":""},{"$f":"IF(ISBLANK(Datenerfassung!G321),\"\",Datenerfassung!G321)","v":""},{"$f":"IF(ISBLANK(Datenerfassung!M321),\"\",Datenerfassung!M321)","v":""},{"$f":"IF(ISBLANK(Datenerfassung!H321),\"\",Datenerfassung!H321)","v":""}]
[{"$f":"IF(ISBLANK(Datenerfassung!A322),\"\",Datenerfassung!A322)","v":""},{"$f":"IF(ISBLANK(Datenerfassung!B322),\"\",Datenerfassung!B322)","v":""},{"$f":"IF(ISBLANK(Datenerfassung!C322),\"\",Datenerfassung!C322)","v":""},{"$f":"IF(ISBLANK(Datenerfassung!I322),\"\",Datenerfassung!I322)","v":""},{"$f":"IF(ISBLANK(Datenerfassung!J322),\"\",Datenerfassung!J322)","v":""},"",{"$f":"IF(ISBLANK(Datenerfassung!L322),\"\",Datenerfassung!L322)","v":""},{"$f":"IF(ISBLANK(Datenerfassung!F322),\"\",Datenerfassung!F322)","v":""},{"$f":"IF(ISBLANK(Datenerfassung!D322),IF(COUNTBLANK(A312:H312)+COUNTBLANK(J312:O312)=14,\"\",\"- ohne Titel -\"),Datenerfassung!D322)","v":""},{"$f":"IF(ISBLANK(Datenerfassung!E322),\"\",Datenerfassung!E322)","v":""},"",{"$f":"IF(ISBLANK(Datenerfassung!O322),\"\",Datenerfassung!O322)","v":""},{"$f":"IF(ISBLANK(Datenerfassung!G322),\"\",Datenerfassung!G322)","v":""},{"$f":"IF(ISBLANK(Datenerfassung!M322),\"\",Datenerfassung!M322)","v":""},{"$f":"IF(ISBLANK(Datenerfassung!H322),\"\",Datenerfassung!H322)","v":""}]
[{"$f":"IF(ISBLANK(Datenerfassung!A323),\"\",Datenerfassung!A323)","v":""},{"$f":"IF(ISBLANK(Datenerfassung!B323),\"\",Datenerfassung!B323)","v":""},{"$f":"IF(ISBLANK(Datenerfassung!C323),\"\",Datenerfassung!C323)","v":""},{"$f":"IF(ISBLANK(Datenerfassung!I323),\"\",Datenerfassung!I323)","v":""},{"$f":"IF(ISBLANK(Datenerfassung!J323),\"\",Datenerfassung!J323)","v":""},"",{"$f":"IF(ISBLANK(Datenerfassung!L323),\"\",Datenerfassung!L323)","v":""},{"$f":"IF(ISBLANK(Datenerfassung!F323),\"\",Datenerfassung!F323)","v":""},{"$f":"IF(ISBLANK(Datenerfassung!D323),IF(COUNTBLANK(A313:H313)+COUNTBLANK(J313:O313)=14,\"\",\"- ohne Titel -\"),Datenerfassung!D323)","v":""},{"$f":"IF(ISBLANK(Datenerfassung!E323),\"\",Datenerfassung!E323)","v":""},"",{"$f":"IF(ISBLANK(Datenerfassung!O323),\"\",Datenerfassung!O323)","v":""},{"$f":"IF(ISBLANK(Datenerfassung!G323),\"\",Datenerfassung!G323)","v":""},{"$f":"IF(ISBLANK(Datenerfassung!M323),\"\",Datenerfassung!M323)","v":""},{"$f":"IF(ISBLANK(Datenerfassung!H323),\"\",Datenerfassung!H323)","v":""}]
[{"$f":"IF(ISBLANK(Datenerfassung!A324),\"\",Datenerfassung!A324)","v":""},{"$f":"IF(ISBLANK(Datenerfassung!B324),\"\",Datenerfassung!B324)","v":""},{"$f":"IF(ISBLANK(Datenerfassung!C324),\"\",Datenerfassung!C324)","v":""},{"$f":"IF(ISBLANK(Datenerfassung!I324),\"\",Datenerfassung!I324)","v":""},{"$f":"IF(ISBLANK(Datenerfassung!J324),\"\",Datenerfassung!J324)","v":""},"",{"$f":"IF(ISBLANK(Datenerfassung!L324),\"\",Datenerfassung!L324)","v":""},{"$f":"IF(ISBLANK(Datenerfassung!F324),\"\",Datenerfassung!F324)","v":""},{"$f":"IF(ISBLANK(Datenerfassung!D324),IF(COUNTBLANK(A314:H314)+COUNTBLANK(J314:O314)=14,\"\",\"- ohne Titel -\"),Datenerfassung!D324)","v":""},{"$f":"IF(ISBLANK(Datenerfassung!E324),\"\",Datenerfassung!E324)","v":""},"",{"$f":"IF(ISBLANK(Datenerfassung!O324),\"\",Datenerfassung!O324)","v":""},{"$f":"IF(ISBLANK(Datenerfassung!G324),\"\",Datenerfassung!G324)","v":""},{"$f":"IF(ISBLANK(Datenerfassung!M324),\"\",Datenerfassung!M324)","v":""},{"$f":"IF(ISBLANK(Datenerfassung!H324),\"\",Datenerfassung!H324)","v":""}]
[{"$f":"IF(ISBLANK(Datenerfassung!A325),\"\",Datenerfassung!A325)","v":""},{"$f":"IF(ISBLANK(Datenerfassung!B325),\"\",Datenerfassung!B325)","v":""},{"$f":"IF(ISBLANK(Datenerfassung!C325),\"\",Datenerfassung!C325)","v":""},{"$f":"IF(ISBLANK(Datenerfassung!I325),\"\",Datenerfassung!I325)","v":""},{"$f":"IF(ISBLANK(Datenerfassung!J325),\"\",Datenerfassung!J325)","v":""},"",{"$f":"IF(ISBLANK(Datenerfassung!L325),\"\",Datenerfassung!L325)","v":""},{"$f":"IF(ISBLANK(Datenerfassung!F325),\"\",Datenerfassung!F325)","v":""},{"$f":"IF(ISBLANK(Datenerfassung!D325),IF(COUNTBLANK(A315:H315)+COUNTBLANK(J315:O315)=14,\"\",\"- ohne Titel -\"),Datenerfassung!D325)","v":""},{"$f":"IF(ISBLANK(Datenerfassung!E325),\"\",Datenerfassung!E325)","v":""},"",{"$f":"IF(ISBLANK(Datenerfassung!O325),\"\",Datenerfassung!O325)","v":""},{"$f":"IF(ISBLANK(Datenerfassung!G325),\"\",Datenerfassung!G325)","v":""},{"$f":"IF(ISBLANK(Datenerfassung!M325),\"\",Datenerfassung!M325)","v":""},{"$f":"IF(ISBLANK(Datenerfassung!H325),\"\",Datenerfassung!H325)","v":""}]
[{"$f":"IF(ISBLANK(Datenerfassung!A326),\"\",Datenerfassung!A326)","v":""},{"$f":"IF(ISBLANK(Datenerfassung!B326),\"\",Datenerfassung!B326)","v":""},{"$f":"IF(ISBLANK(Datenerfassung!C326),\"\",Datenerfassung!C326)","v":""},{"$f":"IF(ISBLANK(Datenerfassung!I326),\"\",Datenerfassung!I326)","v":""},{"$f":"IF(ISBLANK(Datenerfassung!J326),\"\",Datenerfassung!J326)","v":""},"",{"$f":"IF(ISBLANK(Datenerfassung!L326),\"\",Datenerfassung!L326)","v":""},{"$f":"IF(ISBLANK(Datenerfassung!F326),\"\",Datenerfassung!F326)","v":""},{"$f":"IF(ISBLANK(Datenerfassung!D326),IF(COUNTBLANK(A316:H316)+COUNTBLANK(J316:O316)=14,\"\",\"- ohne Titel -\"),Datenerfassung!D326)","v":""},{"$f":"IF(ISBLANK(Datenerfassung!E326),\"\",Datenerfassung!E326)","v":""},"",{"$f":"IF(ISBLANK(Datenerfassung!O326),\"\",Datenerfassung!O326)","v":""},{"$f":"IF(ISBLANK(Datenerfassung!G326),\"\",Datenerfassung!G326)","v":""},{"$f":"IF(ISBLANK(Datenerfassung!M326),\"\",Datenerfassung!M326)","v":""},{"$f":"IF(ISBLANK(Datenerfassung!H326),\"\",Datenerfassung!H326)","v":""}]
[{"$f":"IF(ISBLANK(Datenerfassung!A327),\"\",Datenerfassung!A327)","v":""},{"$f":"IF(ISBLANK(Datenerfassung!B327),\"\",Datenerfassung!B327)","v":""},{"$f":"IF(ISBLANK(Datenerfassung!C327),\"\",Datenerfassung!C327)","v":""},{"$f":"IF(ISBLANK(Datenerfassung!I327),\"\",Datenerfassung!I327)","v":""},{"$f":"IF(ISBLANK(Datenerfassung!J327),\"\",Datenerfassung!J327)","v":""},"",{"$f":"IF(ISBLANK(Datenerfassung!L327),\"\",Datenerfassung!L327)","v":""},{"$f":"IF(ISBLANK(Datenerfassung!F327),\"\",Datenerfassung!F327)","v":""},{"$f":"IF(ISBLANK(Datenerfassung!D327),IF(COUNTBLANK(A317:H317)+COUNTBLANK(J317:O317)=14,\"\",\"- ohne Titel -\"),Datenerfassung!D327)","v":""},{"$f":"IF(ISBLANK(Datenerfassung!E327),\"\",Datenerfassung!E327)","v":""},"",{"$f":"IF(ISBLANK(Datenerfassung!O327),\"\",Datenerfassung!O327)","v":""},{"$f":"IF(ISBLANK(Datenerfassung!G327),\"\",Datenerfassung!G327)","v":""},{"$f":"IF(ISBLANK(Datenerfassung!M327),\"\",Datenerfassung!M327)","v":""},{"$f":"IF(ISBLANK(Datenerfassung!H327),\"\",Datenerfassung!H327)","v":""}]
[{"$f":"IF(ISBLANK(Datenerfassung!A328),\"\",Datenerfassung!A328)","v":""},{"$f":"IF(ISBLANK(Datenerfassung!B328),\"\",Datenerfassung!B328)","v":""},{"$f":"IF(ISBLANK(Datenerfassung!C328),\"\",Datenerfassung!C328)","v":""},{"$f":"IF(ISBLANK(Datenerfassung!I328),\"\",Datenerfassung!I328)","v":""},{"$f":"IF(ISBLANK(Datenerfassung!J328),\"\",Datenerfassung!J328)","v":""},"",{"$f":"IF(ISBLANK(Datenerfassung!L328),\"\",Datenerfassung!L328)","v":""},{"$f":"IF(ISBLANK(Datenerfassung!F328),\"\",Datenerfassung!F328)","v":""},{"$f":"IF(ISBLANK(Datenerfassung!D328),IF(COUNTBLANK(A318:H318)+COUNTBLANK(J318:O318)=14,\"\",\"- ohne Titel -\"),Datenerfassung!D328)","v":""},{"$f":"IF(ISBLANK(Datenerfassung!E328),\"\",Datenerfassung!E328)","v":""},"",{"$f":"IF(ISBLANK(Datenerfassung!O328),\"\",Datenerfassung!O328)","v":""},{"$f":"IF(ISBLANK(Datenerfassung!G328),\"\",Datenerfassung!G328)","v":""},{"$f":"IF(ISBLANK(Datenerfassung!M328),\"\",Datenerfassung!M328)","v":""},{"$f":"IF(ISBLANK(Datenerfassung!H328),\"\",Datenerfassung!H328)","v":""}]
[{"$f":"IF(ISBLANK(Datenerfassung!A329),\"\",Datenerfassung!A329)","v":""},{"$f":"IF(ISBLANK(Datenerfassung!B329),\"\",Datenerfassung!B329)","v":""},{"$f":"IF(ISBLANK(Datenerfassung!C329),\"\",Datenerfassung!C329)","v":""},{"$f":"IF(ISBLANK(Datenerfassung!I329),\"\",Datenerfassung!I329)","v":""},{"$f":"IF(ISBLANK(Datenerfassung!J329),\"\",Datenerfassung!J329)","v":""},"",{"$f":"IF(ISBLANK(Datenerfassung!L329),\"\",Datenerfassung!L329)","v":""},{"$f":"IF(ISBLANK(Datenerfassung!F329),\"\",Datenerfassung!F329)","v":""},{"$f":"IF(ISBLANK(Datenerfassung!D329),IF(COUNTBLANK(A319:H319)+COUNTBLANK(J319:O319)=14,\"\",\"- ohne Titel -\"),Datenerfassung!D329)","v":""},{"$f":"IF(ISBLANK(Datenerfassung!E329),\"\",Datenerfassung!E329)","v":""},"",{"$f":"IF(ISBLANK(Datenerfassung!O329),\"\",Datenerfassung!O329)","v":""},{"$f":"IF(ISBLANK(Datenerfassung!G329),\"\",Datenerfassung!G329)","v":""},{"$f":"IF(ISBLANK(Datenerfassung!M329),\"\",Datenerfassung!M329)","v":""},{"$f":"IF(ISBLANK(Datenerfassung!H329),\"\",Datenerfassung!H329)","v":""}]
[{"$f":"IF(ISBLANK(Datenerfassung!A330),\"\",Datenerfassung!A330)","v":""},{"$f":"IF(ISBLANK(Datenerfassung!B330),\"\",Datenerfassung!B330)","v":""},{"$f":"IF(ISBLANK(Datenerfassung!C330),\"\",Datenerfassung!C330)","v":""},{"$f":"IF(ISBLANK(Datenerfassung!I330),\"\",Datenerfassung!I330)","v":""},{"$f":"IF(ISBLANK(Datenerfassung!J330),\"\",Datenerfassung!J330)","v":""},"",{"$f":"IF(ISBLANK(Datenerfassung!L330),\"\",Datenerfassung!L330)","v":""},{"$f":"IF(ISBLANK(Datenerfassung!F330),\"\",Datenerfassung!F330)","v":""},{"$f":"IF(ISBLANK(Datenerfassung!D330),IF(COUNTBLANK(A320:H320)+COUNTBLANK(J320:O320)=14,\"\",\"- ohne Titel -\"),Datenerfassung!D330)","v":""},{"$f":"IF(ISBLANK(Datenerfassung!E330),\"\",Datenerfassung!E330)","v":""},"",{"$f":"IF(ISBLANK(Datenerfassung!O330),\"\",Datenerfassung!O330)","v":""},{"$f":"IF(ISBLANK(Datenerfassung!G330),\"\",Datenerfassung!G330)","v":""},{"$f":"IF(ISBLANK(Datenerfassung!M330),\"\",Datenerfassung!M330)","v":""},{"$f":"IF(ISBLANK(Datenerfassung!H330),\"\",Datenerfassung!H330)","v":""}]
[{"$f":"IF(ISBLANK(Datenerfassung!A331),\"\",Datenerfassung!A331)","v":""},{"$f":"IF(ISBLANK(Datenerfassung!B331),\"\",Datenerfassung!B331)","v":""},{"$f":"IF(ISBLANK(Datenerfassung!C331),\"\",Datenerfassung!C331)","v":""},{"$f":"IF(ISBLANK(Datenerfassung!I331),\"\",Datenerfassung!I331)","v":""},{"$f":"IF(ISBLANK(Datenerfassung!J331),\"\",Datenerfassung!J331)","v":""},"",{"$f":"IF(ISBLANK(Datenerfassung!L331),\"\",Datenerfassung!L331)","v":""},{"$f":"IF(ISBLANK(Datenerfassung!F331),\"\",Datenerfassung!F331)","v":""},{"$f":"IF(ISBLANK(Datenerfassung!D331),IF(COUNTBLANK(A321:H321)+COUNTBLANK(J321:O321)=14,\"\",\"- ohne Titel -\"),Datenerfassung!D331)","v":""},{"$f":"IF(ISBLANK(Datenerfassung!E331),\"\",Datenerfassung!E331)","v":""},"",{"$f":"IF(ISBLANK(Datenerfassung!O331),\"\",Datenerfassung!O331)","v":""},{"$f":"IF(ISBLANK(Datenerfassung!G331),\"\",Datenerfassung!G331)","v":""},{"$f":"IF(ISBLANK(Datenerfassung!M331),\"\",Datenerfassung!M331)","v":""},{"$f":"IF(ISBLANK(Datenerfassung!H331),\"\",Datenerfassung!H331)","v":""}]
[{"$f":"IF(ISBLANK(Datenerfassung!A332),\"\",Datenerfassung!A332)","v":""},{"$f":"IF(ISBLANK(Datenerfassung!B332),\"\",Datenerfassung!B332)","v":""},{"$f":"IF(ISBLANK(Datenerfassung!C332),\"\",Datenerfassung!C332)","v":""},{"$f":"IF(ISBLANK(Datenerfassung!I332),\"\",Datenerfassung!I332)","v":""},{"$f":"IF(ISBLANK(Datenerfassung!J332),\"\",Datenerfassung!J332)","v":""},"",{"$f":"IF(ISBLANK(Datenerfassung!L332),\"\",Datenerfassung!L332)","v":""},{"$f":"IF(ISBLANK(Datenerfassung!F332),\"\",Datenerfassung!F332)","v":""},{"$f":"IF(ISBLANK(Datenerfassung!D332),IF(COUNTBLANK(A322:H322)+COUNTBLANK(J322:O322)=14,\"\",\"- ohne Titel -\"),Datenerfassung!D332)","v":""},{"$f":"IF(ISBLANK(Datenerfassung!E332),\"\",Datenerfassung!E332)","v":""},"",{"$f":"IF(ISBLANK(Datenerfassung!O332),\"\",Datenerfassung!O332)","v":""},{"$f":"IF(ISBLANK(Datenerfassung!G332),\"\",Datenerfassung!G332)","v":""},{"$f":"IF(ISBLANK(Datenerfassung!M332),\"\",Datenerfassung!M332)","v":""},{"$f":"IF(ISBLANK(Datenerfassung!H332),\"\",Datenerfassung!H332)","v":""}]
[{"$f":"IF(ISBLANK(Datenerfassung!A333),\"\",Datenerfassung!A333)","v":""},{"$f":"IF(ISBLANK(Datenerfassung!B333),\"\",Datenerfassung!B333)","v":""},{"$f":"IF(ISBLANK(Datenerfassung!C333),\"\",Datenerfassung!C333)","v":""},{"$f":"IF(ISBLANK(Datenerfassung!I333),\"\",Datenerfassung!I333)","v":""},{"$f":"IF(ISBLANK(Datenerfassung!J333),\"\",Datenerfassung!J333)","v":""},{"$f":"IF(D323=\"\",\"\",IF(E323=\"\",D323,D323&\" - \"&E323))","v":""},{"$f":"IF(ISBLANK(Datenerfassung!L333),\"\",Datenerfassung!L333)","v":""},{"$f":"IF(ISBLANK(Datenerfassung!F333),\"\",Datenerfassung!F333)","v":""},{"$f":"IF(ISBLANK(Datenerfassung!D333),IF(COUNTBLANK(A323:H323)+COUNTBLANK(J323:O323)=14,\"\",\"- ohne Titel -\"),Datenerfassung!D333)","v":""},{"$f":"IF(ISBLANK(Datenerfassung!E333),\"\",Datenerfassung!E333)","v":""},{"$f":"IF(OR(E323=\"\",G323=\"\"),\"\",\"01.01.\"&RIGHT(E323,4)+G323+1)","v":""},{"$f":"IF(ISBLANK(Datenerfassung!O333),\"\",Datenerfassung!O333)","v":""},{"$f":"IF(ISBLANK(Datenerfassung!G333),\"\",Datenerfassung!G333)","v":""},{"$f":"IF(ISBLANK(Datenerfassung!M333),\"\",Datenerfassung!M333)","v":""},{"$f":"IF(ISBLANK(Datenerfassung!H333),\"\",Datenerfassung!H333)","v":""}]
[{"$f":"IF(ISBLANK(Datenerfassung!A334),\"\",Datenerfassung!A334)","v":""},{"$f":"IF(ISBLANK(Datenerfassung!B334),\"\",Datenerfassung!B334)","v":""},{"$f":"IF(ISBLANK(Datenerfassung!C334),\"\",Datenerfassung!C334)","v":""},{"$f":"IF(ISBLANK(Datenerfassung!I334),\"\",Datenerfassung!I334)","v":""},{"$f":"IF(ISBLANK(Datenerfassung!J334),\"\",Datenerfassung!J334)","v":""},"",{"$f":"IF(ISBLANK(Datenerfassung!L334),\"\",Datenerfassung!L334)","v":""},{"$f":"IF(ISBLANK(Datenerfassung!F334),\"\",Datenerfassung!F334)","v":""},{"$f":"IF(ISBLANK(Datenerfassung!D334),IF(COUNTBLANK(A324:H324)+COUNTBLANK(J324:O324)=14,\"\",\"- ohne Titel -\"),Datenerfassung!D334)","v":""},{"$f":"IF(ISBLANK(Datenerfassung!E334),\"\",Datenerfassung!E334)","v":""},"",{"$f":"IF(ISBLANK(Datenerfassung!O334),\"\",Datenerfassung!O334)","v":""},{"$f":"IF(ISBLANK(Datenerfassung!G334),\"\",Datenerfassung!G334)","v":""},{"$f":"IF(ISBLANK(Datenerfassung!M334),\"\",Datenerfassung!M334)","v":""},{"$f":"IF(ISBLANK(Datenerfassung!H334),\"\",Datenerfassung!H334)","v":""}]
[{"$f":"IF(ISBLANK(Datenerfassung!A335),\"\",Datenerfassung!A335)","v":""},{"$f":"IF(ISBLANK(Datenerfassung!B335),\"\",Datenerfassung!B335)","v":""},{"$f":"IF(ISBLANK(Datenerfassung!C335),\"\",Datenerfassung!C335)","v":""},{"$f":"IF(ISBLANK(Datenerfassung!I335),\"\",Datenerfassung!I335)","v":""},{"$f":"IF(ISBLANK(Datenerfassung!J335),\"\",Datenerfassung!J335)","v":""},"",{"$f":"IF(ISBLANK(Datenerfassung!L335),\"\",Datenerfassung!L335)","v":""},{"$f":"IF(ISBLANK(Datenerfassung!F335),\"\",Datenerfassung!F335)","v":""},{"$f":"IF(ISBLANK(Datenerfassung!D335),IF(COUNTBLANK(A325:H325)+COUNTBLANK(J325:O325)=14,\"\",\"- ohne Titel -\"),Datenerfassung!D335)","v":""},{"$f":"IF(ISBLANK(Datenerfassung!E335),\"\",Datenerfassung!E335)","v":""},"",{"$f":"IF(ISBLANK(Datenerfassung!O335),\"\",Datenerfassung!O335)","v":""},{"$f":"IF(ISBLANK(Datenerfassung!G335),\"\",Datenerfassung!G335)","v":""},{"$f":"IF(ISBLANK(Datenerfassung!M335),\"\",Datenerfassung!M335)","v":""},{"$f":"IF(ISBLANK(Datenerfassung!H335),\"\",Datenerfassung!H335)","v":""}]
[{"$f":"IF(ISBLANK(Datenerfassung!A336),\"\",Datenerfassung!A336)","v":""},{"$f":"IF(ISBLANK(Datenerfassung!B336),\"\",Datenerfassung!B336)","v":""},{"$f":"IF(ISBLANK(Datenerfassung!C336),\"\",Datenerfassung!C336)","v":""},{"$f":"IF(ISBLANK(Datenerfassung!I336),\"\",Datenerfassung!I336)","v":""},{"$f":"IF(ISBLANK(Datenerfassung!J336),\"\",Datenerfassung!J336)","v":""},"",{"$f":"IF(ISBLANK(Datenerfassung!L336),\"\",Datenerfassung!L336)","v":""},{"$f":"IF(ISBLANK(Datenerfassung!F336),\"\",Datenerfassung!F336)","v":""},{"$f":"IF(ISBLANK(Datenerfassung!D336),IF(COUNTBLANK(A326:H326)+COUNTBLANK(J326:O326)=14,\"\",\"- ohne Titel -\"),Datenerfassung!D336)","v":""},{"$f":"IF(ISBLANK(Datenerfassung!E336),\"\",Datenerfassung!E336)","v":""},"",{"$f":"IF(ISBLANK(Datenerfassung!O336),\"\",Datenerfassung!O336)","v":""},{"$f":"IF(ISBLANK(Datenerfassung!G336),\"\",Datenerfassung!G336)","v":""},{"$f":"IF(ISBLANK(Datenerfassung!M336),\"\",Datenerfassung!M336)","v":""},{"$f":"IF(ISBLANK(Datenerfassung!H336),\"\",Datenerfassung!H336)","v":""}]
[{"$f":"IF(ISBLANK(Datenerfassung!A337),\"\",Datenerfassung!A337)","v":""},{"$f":"IF(ISBLANK(Datenerfassung!B337),\"\",Datenerfassung!B337)","v":""},{"$f":"IF(ISBLANK(Datenerfassung!C337),\"\",Datenerfassung!C337)","v":""},{"$f":"IF(ISBLANK(Datenerfassung!I337),\"\",Datenerfassung!I337)","v":""},{"$f":"IF(ISBLANK(Datenerfassung!J337),\"\",Datenerfassung!J337)","v":""},"",{"$f":"IF(ISBLANK(Datenerfassung!L337),\"\",Datenerfassung!L337)","v":""},{"$f":"IF(ISBLANK(Datenerfassung!F337),\"\",Datenerfassung!F337)","v":""},{"$f":"IF(ISBLANK(Datenerfassung!D337),IF(COUNTBLANK(A327:H327)+COUNTBLANK(J327:O327)=14,\"\",\"- ohne Titel -\"),Datenerfassung!D337)","v":""},{"$f":"IF(ISBLANK(Datenerfassung!E337),\"\",Datenerfassung!E337)","v":""},"",{"$f":"IF(ISBLANK(Datenerfassung!O337),\"\",Datenerfassung!O337)","v":""},{"$f":"IF(ISBLANK(Datenerfassung!G337),\"\",Datenerfassung!G337)","v":""},{"$f":"IF(ISBLANK(Datenerfassung!M337),\"\",Datenerfassung!M337)","v":""},{"$f":"IF(ISBLANK(Datenerfassung!H337),\"\",Datenerfassung!H337)","v":""}]
[{"$f":"IF(ISBLANK(Datenerfassung!A338),\"\",Datenerfassung!A338)","v":""},{"$f":"IF(ISBLANK(Datenerfassung!B338),\"\",Datenerfassung!B338)","v":""},{"$f":"IF(ISBLANK(Datenerfassung!C338),\"\",Datenerfassung!C338)","v":""},{"$f":"IF(ISBLANK(Datenerfassung!I338),\"\",Datenerfassung!I338)","v":""},{"$f":"IF(ISBLANK(Datenerfassung!J338),\"\",Datenerfassung!J338)","v":""},"",{"$f":"IF(ISBLANK(Datenerfassung!L338),\"\",Datenerfassung!L338)","v":""},{"$f":"IF(ISBLANK(Datenerfassung!F338),\"\",Datenerfassung!F338)","v":""},{"$f":"IF(ISBLANK(Datenerfassung!D338),IF(COUNTBLANK(A328:H328)+COUNTBLANK(J328:O328)=14,\"\",\"- ohne Titel -\"),Datenerfassung!D338)","v":""},{"$f":"IF(ISBLANK(Datenerfassung!E338),\"\",Datenerfassung!E338)","v":""},"",{"$f":"IF(ISBLANK(Datenerfassung!O338),\"\",Datenerfassung!O338)","v":""},{"$f":"IF(ISBLANK(Datenerfassung!G338),\"\",Datenerfassung!G338)","v":""},{"$f":"IF(ISBLANK(Datenerfassung!M338),\"\",Datenerfassung!M338)","v":""},{"$f":"IF(ISBLANK(Datenerfassung!H338),\"\",Datenerfassung!H338)","v":""}]
[{"$f":"IF(ISBLANK(Datenerfassung!A339),\"\",Datenerfassung!A339)","v":""},{"$f":"IF(ISBLANK(Datenerfassung!B339),\"\",Datenerfassung!B339)","v":""},{"$f":"IF(ISBLANK(Datenerfassung!C339),\"\",Datenerfassung!C339)","v":""},{"$f":"IF(ISBLANK(Datenerfassung!I339),\"\",Datenerfassung!I339)","v":""},{"$f":"IF(ISBLANK(Datenerfassung!J339),\"\",Datenerfassung!J339)","v":""},"",{"$f":"IF(ISBLANK(Datenerfassung!L339),\"\",Datenerfassung!L339)","v":""},{"$f":"IF(ISBLANK(Datenerfassung!F339),\"\",Datenerfassung!F339)","v":""},{"$f":"IF(ISBLANK(Datenerfassung!D339),IF(COUNTBLANK(A329:H329)+COUNTBLANK(J329:O329)=14,\"\",\"- ohne Titel -\"),Datenerfassung!D339)","v":""},{"$f":"IF(ISBLANK(Datenerfassung!E339),\"\",Datenerfassung!E339)","v":""},"",{"$f":"IF(ISBLANK(Datenerfassung!O339),\"\",Datenerfassung!O339)","v":""},{"$f":"IF(ISBLANK(Datenerfassung!G339),\"\",Datenerfassung!G339)","v":""},{"$f":"IF(ISBLANK(Datenerfassung!M339),\"\",Datenerfassung!M339)","v":""},{"$f":"IF(ISBLANK(Datenerfassung!H339),\"\",Datenerfassung!H339)","v":""}]
[{"$f":"IF(ISBLANK(Datenerfassung!A340),\"\",Datenerfassung!A340)","v":""},{"$f":"IF(ISBLANK(Datenerfassung!B340),\"\",Datenerfassung!B340)","v":""},{"$f":"IF(ISBLANK(Datenerfassung!C340),\"\",Datenerfassung!C340)","v":""},{"$f":"IF(ISBLANK(Datenerfassung!I340),\"\",Datenerfassung!I340)","v":""},{"$f":"IF(ISBLANK(Datenerfassung!J340),\"\",Datenerfassung!J340)","v":""},"",{"$f":"IF(ISBLANK(Datenerfassung!L340),\"\",Datenerfassung!L340)","v":""},{"$f":"IF(ISBLANK(Datenerfassung!F340),\"\",Datenerfassung!F340)","v":""},{"$f":"IF(ISBLANK(Datenerfassung!D340),IF(COUNTBLANK(A330:H330)+COUNTBLANK(J330:O330)=14,\"\",\"- ohne Titel -\"),Datenerfassung!D340)","v":""},{"$f":"IF(ISBLANK(Datenerfassung!E340),\"\",Datenerfassung!E340)","v":""},"",{"$f":"IF(ISBLANK(Datenerfassung!O340),\"\",Datenerfassung!O340)","v":""},{"$f":"IF(ISBLANK(Datenerfassung!G340),\"\",Datenerfassung!G340)","v":""},{"$f":"IF(ISBLANK(Datenerfassung!M340),\"\",Datenerfassung!M340)","v":""},{"$f":"IF(ISBLANK(Datenerfassung!H340),\"\",Datenerfassung!H340)","v":""}]
[{"$f":"IF(ISBLANK(Datenerfassung!A341),\"\",Datenerfassung!A341)","v":""},{"$f":"IF(ISBLANK(Datenerfassung!B341),\"\",Datenerfassung!B341)","v":""},{"$f":"IF(ISBLANK(Datenerfassung!C341),\"\",Datenerfassung!C341)","v":""},{"$f":"IF(ISBLANK(Datenerfassung!I341),\"\",Datenerfassung!I341)","v":""},{"$f":"IF(ISBLANK(Datenerfassung!J341),\"\",Datenerfassung!J341)","v":""},"",{"$f":"IF(ISBLANK(Datenerfassung!L341),\"\",Datenerfassung!L341)","v":""},{"$f":"IF(ISBLANK(Datenerfassung!F341),\"\",Datenerfassung!F341)","v":""},{"$f":"IF(ISBLANK(Datenerfassung!D341),IF(COUNTBLANK(A331:H331)+COUNTBLANK(J331:O331)=14,\"\",\"- ohne Titel -\"),Datenerfassung!D341)","v":""},{"$f":"IF(ISBLANK(Datenerfassung!E341),\"\",Datenerfassung!E341)","v":""},"",{"$f":"IF(ISBLANK(Datenerfassung!O341),\"\",Datenerfassung!O341)","v":""},{"$f":"IF(ISBLANK(Datenerfassung!G341),\"\",Datenerfassung!G341)","v":""},{"$f":"IF(ISBLANK(Datenerfassung!M341),\"\",Datenerfassung!M341)","v":""},{"$f":"IF(ISBLANK(Datenerfassung!H341),\"\",Datenerfassung!H341)","v":""}]
[{"$f":"IF(ISBLANK(Datenerfassung!A342),\"\",Datenerfassung!A342)","v":""},{"$f":"IF(ISBLANK(Datenerfassung!B342),\"\",Datenerfassung!B342)","v":""},{"$f":"IF(ISBLANK(Datenerfassung!C342),\"\",Datenerfassung!C342)","v":""},{"$f":"IF(ISBLANK(Datenerfassung!I342),\"\",Datenerfassung!I342)","v":""},{"$f":"IF(ISBLANK(Datenerfassung!J342),\"\",Datenerfassung!J342)","v":""},"",{"$f":"IF(ISBLANK(Datenerfassung!L342),\"\",Datenerfassung!L342)","v":""},{"$f":"IF(ISBLANK(Datenerfassung!F342),\"\",Datenerfassung!F342)","v":""},{"$f":"IF(ISBLANK(Datenerfassung!D342),IF(COUNTBLANK(A332:H332)+COUNTBLANK(J332:O332)=14,\"\",\"- ohne Titel -\"),Datenerfassung!D342)","v":""},{"$f":"IF(ISBLANK(Datenerfassung!E342),\"\",Datenerfassung!E342)","v":""},"",{"$f":"IF(ISBLANK(Datenerfassung!O342),\"\",Datenerfassung!O342)","v":""},{"$f":"IF(ISBLANK(Datenerfassung!G342),\"\",Datenerfassung!G342)","v":""},{"$f":"IF(ISBLANK(Datenerfassung!M342),\"\",Datenerfassung!M342)","v":""},{"$f":"IF(ISBLANK(Datenerfassung!H342),\"\",Datenerfassung!H342)","v":""}]
[{"$f":"IF(ISBLANK(Datenerfassung!A343),\"\",Datenerfassung!A343)","v":""},{"$f":"IF(ISBLANK(Datenerfassung!B343),\"\",Datenerfassung!B343)","v":""},{"$f":"IF(ISBLANK(Datenerfassung!C343),\"\",Datenerfassung!C343)","v":""},{"$f":"IF(ISBLANK(Datenerfassung!I343),\"\",Datenerfassung!I343)","v":""},{"$f":"IF(ISBLANK(Datenerfassung!J343),\"\",Datenerfassung!J343)","v":""},"",{"$f":"IF(ISBLANK(Datenerfassung!L343),\"\",Datenerfassung!L343)","v":""},{"$f":"IF(ISBLANK(Datenerfassung!F343),\"\",Datenerfassung!F343)","v":""},{"$f":"IF(ISBLANK(Datenerfassung!D343),IF(COUNTBLANK(A333:H333)+COUNTBLANK(J333:O333)=14,\"\",\"- ohne Titel -\"),Datenerfassung!D343)","v":""},{"$f":"IF(ISBLANK(Datenerfassung!E343),\"\",Datenerfassung!E343)","v":""},"",{"$f":"IF(ISBLANK(Datenerfassung!O343),\"\",Datenerfassung!O343)","v":""},{"$f":"IF(ISBLANK(Datenerfassung!G343),\"\",Datenerfassung!G343)","v":""},{"$f":"IF(ISBLANK(Datenerfassung!M343),\"\",Datenerfassung!M343)","v":""},{"$f":"IF(ISBLANK(Datenerfassung!H343),\"\",Datenerfassung!H343)","v":""}]
[{"$f":"IF(ISBLANK(Datenerfassung!A344),\"\",Datenerfassung!A344)","v":""},{"$f":"IF(ISBLANK(Datenerfassung!B344),\"\",Datenerfassung!B344)","v":""},{"$f":"IF(ISBLANK(Datenerfassung!C344),\"\",Datenerfassung!C344)","v":""},{"$f":"IF(ISBLANK(Datenerfassung!I344),\"\",Datenerfassung!I344)","v":""},{"$f":"IF(ISBLANK(Datenerfassung!J344),\"\",Datenerfassung!J344)","v":""},"",{"$f":"IF(ISBLANK(Datenerfassung!L344),\"\",Datenerfassung!L344)","v":""},{"$f":"IF(ISBLANK(Datenerfassung!F344),\"\",Datenerfassung!F344)","v":""},{"$f":"IF(ISBLANK(Datenerfassung!D344),IF(COUNTBLANK(A334:H334)+COUNTBLANK(J334:O334)=14,\"\",\"- ohne Titel -\"),Datenerfassung!D344)","v":""},{"$f":"IF(ISBLANK(Datenerfassung!E344),\"\",Datenerfassung!E344)","v":""},"",{"$f":"IF(ISBLANK(Datenerfassung!O344),\"\",Datenerfassung!O344)","v":""},{"$f":"IF(ISBLANK(Datenerfassung!G344),\"\",Datenerfassung!G344)","v":""},{"$f":"IF(ISBLANK(Datenerfassung!M344),\"\",Datenerfassung!M344)","v":""},{"$f":"IF(ISBLANK(Datenerfassung!H344),\"\",Datenerfassung!H344)","v":""}]
[{"$f":"IF(ISBLANK(Datenerfassung!A345),\"\",Datenerfassung!A345)","v":""},{"$f":"IF(ISBLANK(Datenerfassung!B345),\"\",Datenerfassung!B345)","v":""},{"$f":"IF(ISBLANK(Datenerfassung!C345),\"\",Datenerfassung!C345)","v":""},{"$f":"IF(ISBLANK(Datenerfassung!I345),\"\",Datenerfassung!I345)","v":""},{"$f":"IF(ISBLANK(Datenerfassung!J345),\"\",Datenerfassung!J345)","v":""},"",{"$f":"IF(ISBLANK(Datenerfassung!L345),\"\",Datenerfassung!L345)","v":""},{"$f":"IF(ISBLANK(Datenerfassung!F345),\"\",Datenerfassung!F345)","v":""},{"$f":"IF(ISBLANK(Datenerfassung!D345),IF(COUNTBLANK(A335:H335)+COUNTBLANK(J335:O335)=14,\"\",\"- ohne Titel -\"),Datenerfassung!D345)","v":""},{"$f":"IF(ISBLANK(Datenerfassung!E345),\"\",Datenerfassung!E345)","v":""},"",{"$f":"IF(ISBLANK(Datenerfassung!O345),\"\",Datenerfassung!O345)","v":""},{"$f":"IF(ISBLANK(Datenerfassung!G345),\"\",Datenerfassung!G345)","v":""},{"$f":"IF(ISBLANK(Datenerfassung!M345),\"\",Datenerfassung!M345)","v":""},{"$f":"IF(ISBLANK(Datenerfassung!H345),\"\",Datenerfassung!H345)","v":""}]
[{"$f":"IF(ISBLANK(Datenerfassung!A346),\"\",Datenerfassung!A346)","v":""},{"$f":"IF(ISBLANK(Datenerfassung!B346),\"\",Datenerfassung!B346)","v":""},{"$f":"IF(ISBLANK(Datenerfassung!C346),\"\",Datenerfassung!C346)","v":""},{"$f":"IF(ISBLANK(Datenerfassung!I346),\"\",Datenerfassung!I346)","v":""},{"$f":"IF(ISBLANK(Datenerfassung!J346),\"\",Datenerfassung!J346)","v":""},"",{"$f":"IF(ISBLANK(Datenerfassung!L346),\"\",Datenerfassung!L346)","v":""},{"$f":"IF(ISBLANK(Datenerfassung!F346),\"\",Datenerfassung!F346)","v":""},{"$f":"IF(ISBLANK(Datenerfassung!D346),IF(COUNTBLANK(A336:H336)+COUNTBLANK(J336:O336)=14,\"\",\"- ohne Titel -\"),Datenerfassung!D346)","v":""},{"$f":"IF(ISBLANK(Datenerfassung!E346),\"\",Datenerfassung!E346)","v":""},"",{"$f":"IF(ISBLANK(Datenerfassung!O346),\"\",Datenerfassung!O346)","v":""},{"$f":"IF(ISBLANK(Datenerfassung!G346),\"\",Datenerfassung!G346)","v":""},{"$f":"IF(ISBLANK(Datenerfassung!M346),\"\",Datenerfassung!M346)","v":""},{"$f":"IF(ISBLANK(Datenerfassung!H346),\"\",Datenerfassung!H346)","v":""}]
[{"$f":"IF(ISBLANK(Datenerfassung!A347),\"\",Datenerfassung!A347)","v":""},{"$f":"IF(ISBLANK(Datenerfassung!B347),\"\",Datenerfassung!B347)","v":""},{"$f":"IF(ISBLANK(Datenerfassung!C347),\"\",Datenerfassung!C347)","v":""},{"$f":"IF(ISBLANK(Datenerfassung!I347),\"\",Datenerfassung!I347)","v":""},{"$f":"IF(ISBLANK(Datenerfassung!J347),\"\",Datenerfassung!J347)","v":""},"",{"$f":"IF(ISBLANK(Datenerfassung!L347),\"\",Datenerfassung!L347)","v":""},{"$f":"IF(ISBLANK(Datenerfassung!F347),\"\",Datenerfassung!F347)","v":""},{"$f":"IF(ISBLANK(Datenerfassung!D347),IF(COUNTBLANK(A337:H337)+COUNTBLANK(J337:O337)=14,\"\",\"- ohne Titel -\"),Datenerfassung!D347)","v":""},{"$f":"IF(ISBLANK(Datenerfassung!E347),\"\",Datenerfassung!E347)","v":""},"",{"$f":"IF(ISBLANK(Datenerfassung!O347),\"\",Datenerfassung!O347)","v":""},{"$f":"IF(ISBLANK(Datenerfassung!G347),\"\",Datenerfassung!G347)","v":""},{"$f":"IF(ISBLANK(Datenerfassung!M347),\"\",Datenerfassung!M347)","v":""},{"$f":"IF(ISBLANK(Datenerfassung!H347),\"\",Datenerfassung!H347)","v":""}]
[{"$f":"IF(ISBLANK(Datenerfassung!A348),\"\",Datenerfassung!A348)","v":""},{"$f":"IF(ISBLANK(Datenerfassung!B348),\"\",Datenerfassung!B348)","v":""},{"$f":"IF(ISBLANK(Datenerfassung!C348),\"\",Datenerfassung!C348)","v":""},{"$f":"IF(ISBLANK(Datenerfassung!I348),\"\",Datenerfassung!I348)","v":""},{"$f":"IF(ISBLANK(Datenerfassung!J348),\"\",Datenerfassung!J348)","v":""},"",{"$f":"IF(ISBLANK(Datenerfassung!L348),\"\",Datenerfassung!L348)","v":""},{"$f":"IF(ISBLANK(Datenerfassung!F348),\"\",Datenerfassung!F348)","v":""},{"$f":"IF(ISBLANK(Datenerfassung!D348),IF(COUNTBLANK(A338:H338)+COUNTBLANK(J338:O338)=14,\"\",\"- ohne Titel -\"),Datenerfassung!D348)","v":""},{"$f":"IF(ISBLANK(Datenerfassung!E348),\"\",Datenerfassung!E348)","v":""},"",{"$f":"IF(ISBLANK(Datenerfassung!O348),\"\",Datenerfassung!O348)","v":""},{"$f":"IF(ISBLANK(Datenerfassung!G348),\"\",Datenerfassung!G348)","v":""},{"$f":"IF(ISBLANK(Datenerfassung!M348),\"\",Datenerfassung!M348)","v":""},{"$f":"IF(ISBLANK(Datenerfassung!H348),\"\",Datenerfassung!H348)","v":""}]
[{"$f":"IF(ISBLANK(Datenerfassung!A349),\"\",Datenerfassung!A349)","v":""},{"$f":"IF(ISBLANK(Datenerfassung!B349),\"\",Datenerfassung!B349)","v":""},{"$f":"IF(ISBLANK(Datenerfassung!C349),\"\",Datenerfassung!C349)","v":""},{"$f":"IF(ISBLANK(Datenerfassung!I349),\"\",Datenerfassung!I349)","v":""},{"$f":"IF(ISBLANK(Datenerfassung!J349),\"\",Datenerfassung!J349)","v":""},"",{"$f":"IF(ISBLANK(Datenerfassung!L349),\"\",Datenerfassung!L349)","v":""},{"$f":"IF(ISBLANK(Datenerfassung!F349),\"\",Datenerfassung!F349)","v":""},{"$f":"IF(ISBLANK(Datenerfassung!D349),IF(COUNTBLANK(A339:H339)+COUNTBLANK(J339:O339)=14,\"\",\"- ohne Titel -\"),Datenerfassung!D349)","v":""},{"$f":"IF(ISBLANK(Datenerfassung!E349),\"\",Datenerfassung!E349)","v":""},"",{"$f":"IF(ISBLANK(Datenerfassung!O349),\"\",Datenerfassung!O349)","v":""},{"$f":"IF(ISBLANK(Datenerfassung!G349),\"\",Datenerfassung!G349)","v":""},{"$f":"IF(ISBLANK(Datenerfassung!M349),\"\",Datenerfassung!M349)","v":""},{"$f":"IF(ISBLANK(Datenerfassung!H349),\"\",Datenerfassung!H349)","v":""}]
[{"$f":"IF(ISBLANK(Datenerfassung!A350),\"\",Datenerfassung!A350)","v":""},{"$f":"IF(ISBLANK(Datenerfassung!B350),\"\",Datenerfassung!B350)","v":""},{"$f":"IF(ISBLANK(Datenerfassung!C350),\"\",Datenerfassung!C350)","v":""},{"$f":"IF(ISBLANK(Datenerfassung!I350),\"\",Datenerfassung!I350)","v":""},{"$f":"IF(ISBLANK(Datenerfassung!J350),\"\",Datenerfassung!J350)","v":""},"",{"$f":"IF(ISBLANK(Datenerfassung!L350),\"\",Datenerfassung!L350)","v":""},{"$f":"IF(ISBLANK(Datenerfassung!F350),\"\",Datenerfassung!F350)","v":""},{"$f":"IF(ISBLANK(Datenerfassung!D350),IF(COUNTBLANK(A340:H340)+COUNTBLANK(J340:O340)=14,\"\",\"- ohne Titel -\"),Datenerfassung!D350)","v":""},{"$f":"IF(ISBLANK(Datenerfassung!E350),\"\",Datenerfassung!E350)","v":""},"",{"$f":"IF(ISBLANK(Datenerfassung!O350),\"\",Datenerfassung!O350)","v":""},{"$f":"IF(ISBLANK(Datenerfassung!G350),\"\",Datenerfassung!G350)","v":""},{"$f":"IF(ISBLANK(Datenerfassung!M350),\"\",Datenerfassung!M350)","v":""},{"$f":"IF(ISBLANK(Datenerfassung!H350),\"\",Datenerfassung!H350)","v":""}]
[{"$f":"IF(ISBLANK(Datenerfassung!A351),\"\",Datenerfassung!A351)","v":""},{"$f":"IF(ISBLANK(Datenerfassung!B351),\"\",Datenerfassung!B351)","v":""},{"$f":"IF(ISBLANK(Datenerfassung!C351),\"\",Datenerfassung!C351)","v":""},{"$f":"IF(ISBLANK(Datenerfassung!I351),\"\",Datenerfassung!I351)","v":""},{"$f":"IF(ISBLANK(Datenerfassung!J351),\"\",Datenerfassung!J351)","v":""},"",{"$f":"IF(ISBLANK(Datenerfassung!L351),\"\",Datenerfassung!L351)","v":""},{"$f":"IF(ISBLANK(Datenerfassung!F351),\"\",Datenerfassung!F351)","v":""},{"$f":"IF(ISBLANK(Datenerfassung!D351),IF(COUNTBLANK(A341:H341)+COUNTBLANK(J341:O341)=14,\"\",\"- ohne Titel -\"),Datenerfassung!D351)","v":""},{"$f":"IF(ISBLANK(Datenerfassung!E351),\"\",Datenerfassung!E351)","v":""},"",{"$f":"IF(ISBLANK(Datenerfassung!O351),\"\",Datenerfassung!O351)","v":""},{"$f":"IF(ISBLANK(Datenerfassung!G351),\"\",Datenerfassung!G351)","v":""},{"$f":"IF(ISBLANK(Datenerfassung!M351),\"\",Datenerfassung!M351)","v":""},{"$f":"IF(ISBLANK(Datenerfassung!H351),\"\",Datenerfassung!H351)","v":""}]
[{"$f":"IF(ISBLANK(Datenerfassung!A352),\"\",Datenerfassung!A352)","v":""},{"$f":"IF(ISBLANK(Datenerfassung!B352),\"\",Datenerfassung!B352)","v":""},{"$f":"IF(ISBLANK(Datenerfassung!C352),\"\",Datenerfassung!C352)","v":""},{"$f":"IF(ISBLANK(Datenerfassung!I352),\"\",Datenerfassung!I352)","v":""},{"$f":"IF(ISBLANK(Datenerfassung!J352),\"\",Datenerfassung!J352)","v":""},"",{"$f":"IF(ISBLANK(Datenerfassung!L352),\"\",Datenerfassung!L352)","v":""},{"$f":"IF(ISBLANK(Datenerfassung!F352),\"\",Datenerfassung!F352)","v":""},{"$f":"IF(ISBLANK(Datenerfassung!D352),IF(COUNTBLANK(A342:H342)+COUNTBLANK(J342:O342)=14,\"\",\"- ohne Titel -\"),Datenerfassung!D352)","v":""},{"$f":"IF(ISBLANK(Datenerfassung!E352),\"\",Datenerfassung!E352)","v":""},"",{"$f":"IF(ISBLANK(Datenerfassung!O352),\"\",Datenerfassung!O352)","v":""},{"$f":"IF(ISBLANK(Datenerfassung!G352),\"\",Datenerfassung!G352)","v":""},{"$f":"IF(ISBLANK(Datenerfassung!M352),\"\",Datenerfassung!M352)","v":""},{"$f":"IF(ISBLANK(Datenerfassung!H352),\"\",Datenerfassung!H352)","v":""}]
[{"$f":"IF(ISBLANK(Datenerfassung!A353),\"\",Datenerfassung!A353)","v":""},{"$f":"IF(ISBLANK(Datenerfassung!B353),\"\",Datenerfassung!B353)","v":""},{"$f":"IF(ISBLANK(Datenerfassung!C353),\"\",Datenerfassung!C353)","v":""},{"$f":"IF(ISBLANK(Datenerfassung!I353),\"\",Datenerfassung!I353)","v":""},{"$f":"IF(ISBLANK(Datenerfassung!J353),\"\",Datenerfassung!J353)","v":""},"",{"$f":"IF(ISBLANK(Datenerfassung!L353),\"\",Datenerfassung!L353)","v":""},{"$f":"IF(ISBLANK(Datenerfassung!F353),\"\",Datenerfassung!F353)","v":""},{"$f":"IF(ISBLANK(Datenerfassung!D353),IF(COUNTBLANK(A343:H343)+COUNTBLANK(J343:O343)=14,\"\",\"- ohne Titel -\"),Datenerfassung!D353)","v":""},{"$f":"IF(ISBLANK(Datenerfassung!E353),\"\",Datenerfassung!E353)","v":""},"",{"$f":"IF(ISBLANK(Datenerfassung!O353),\"\",Datenerfassung!O353)","v":""},{"$f":"IF(ISBLANK(Datenerfassung!G353),\"\",Datenerfassung!G353)","v":""},{"$f":"IF(ISBLANK(Datenerfassung!M353),\"\",Datenerfassung!M353)","v":""},{"$f":"IF(ISBLANK(Datenerfassung!H353),\"\",Datenerfassung!H353)","v":""}]
[{"$f":"IF(ISBLANK(Datenerfassung!A354),\"\",Datenerfassung!A354)","v":""},{"$f":"IF(ISBLANK(Datenerfassung!B354),\"\",Datenerfassung!B354)","v":""},{"$f":"IF(ISBLANK(Datenerfassung!C354),\"\",Datenerfassung!C354)","v":""},{"$f":"IF(ISBLANK(Datenerfassung!I354),\"\",Datenerfassung!I354)","v":""},{"$f":"IF(ISBLANK(Datenerfassung!J354),\"\",Datenerfassung!J354)","v":""},"",{"$f":"IF(ISBLANK(Datenerfassung!L354),\"\",Datenerfassung!L354)","v":""},{"$f":"IF(ISBLANK(Datenerfassung!F354),\"\",Datenerfassung!F354)","v":""},{"$f":"IF(ISBLANK(Datenerfassung!D354),IF(COUNTBLANK(A344:H344)+COUNTBLANK(J344:O344)=14,\"\",\"- ohne Titel -\"),Datenerfassung!D354)","v":""},{"$f":"IF(ISBLANK(Datenerfassung!E354),\"\",Datenerfassung!E354)","v":""},"",{"$f":"IF(ISBLANK(Datenerfassung!O354),\"\",Datenerfassung!O354)","v":""},{"$f":"IF(ISBLANK(Datenerfassung!G354),\"\",Datenerfassung!G354)","v":""},{"$f":"IF(ISBLANK(Datenerfassung!M354),\"\",Datenerfassung!M354)","v":""},{"$f":"IF(ISBLANK(Datenerfassung!H354),\"\",Datenerfassung!H354)","v":""}]
[{"$f":"IF(ISBLANK(Datenerfassung!A355),\"\",Datenerfassung!A355)","v":""},{"$f":"IF(ISBLANK(Datenerfassung!B355),\"\",Datenerfassung!B355)","v":""},{"$f":"IF(ISBLANK(Datenerfassung!C355),\"\",Datenerfassung!C355)","v":""},{"$f":"IF(ISBLANK(Datenerfassung!I355),\"\",Datenerfassung!I355)","v":""},{"$f":"IF(ISBLANK(Datenerfassung!J355),\"\",Datenerfassung!J355)","v":""},"",{"$f":"IF(ISBLANK(Datenerfassung!L355),\"\",Datenerfassung!L355)","v":""},{"$f":"IF(ISBLANK(Datenerfassung!F355),\"\",Datenerfassung!F355)","v":""},{"$f":"IF(ISBLANK(Datenerfassung!D355),IF(COUNTBLANK(A345:H345)+COUNTBLANK(J345:O345)=14,\"\",\"- ohne Titel -\"),Datenerfassung!D355)","v":""},{"$f":"IF(ISBLANK(Datenerfassung!E355),\"\",Datenerfassung!E355)","v":""},"",{"$f":"IF(ISBLANK(Datenerfassung!O355),\"\",Datenerfassung!O355)","v":""},{"$f":"IF(ISBLANK(Datenerfassung!G355),\"\",Datenerfassung!G355)","v":""},{"$f":"IF(ISBLANK(Datenerfassung!M355),\"\",Datenerfassung!M355)","v":""},{"$f":"IF(ISBLANK(Datenerfassung!H355),\"\",Datenerfassung!H355)","v":""}]
[{"$f":"IF(ISBLANK(Datenerfassung!A356),\"\",Datenerfassung!A356)","v":""},{"$f":"IF(ISBLANK(Datenerfassung!B356),\"\",Datenerfassung!B356)","v":""},{"$f":"IF(ISBLANK(Datenerfassung!C356),\"\",Datenerfassung!C356)","v":""},{"$f":"IF(ISBLANK(Datenerfassung!I356),\"\",Datenerfassung!I356)","v":""},{"$f":"IF(ISBLANK(Datenerfassung!J356),\"\",Datenerfassung!J356)","v":""},"",{"$f":"IF(ISBLANK(Datenerfassung!L356),\"\",Datenerfassung!L356)","v":""},{"$f":"IF(ISBLANK(Datenerfassung!F356),\"\",Datenerfassung!F356)","v":""},{"$f":"IF(ISBLANK(Datenerfassung!D356),IF(COUNTBLANK(A346:H346)+COUNTBLANK(J346:O346)=14,\"\",\"- ohne Titel -\"),Datenerfassung!D356)","v":""},{"$f":"IF(ISBLANK(Datenerfassung!E356),\"\",Datenerfassung!E356)","v":""},"",{"$f":"IF(ISBLANK(Datenerfassung!O356),\"\",Datenerfassung!O356)","v":""},{"$f":"IF(ISBLANK(Datenerfassung!G356),\"\",Datenerfassung!G356)","v":""},{"$f":"IF(ISBLANK(Datenerfassung!M356),\"\",Datenerfassung!M356)","v":""},{"$f":"IF(ISBLANK(Datenerfassung!H356),\"\",Datenerfassung!H356)","v":""}]
[{"$f":"IF(ISBLANK(Datenerfassung!A357),\"\",Datenerfassung!A357)","v":""},{"$f":"IF(ISBLANK(Datenerfassung!B357),\"\",Datenerfassung!B357)","v":""},{"$f":"IF(ISBLANK(Datenerfassung!C357),\"\",Datenerfassung!C357)","v":""},{"$f":"IF(ISBLANK(Datenerfassung!I357),\"\",Datenerfassung!I357)","v":""},{"$f":"IF(ISBLANK(Datenerfassung!J357),\"\",Datenerfassung!J357)","v":""},"",{"$f":"IF(ISBLANK(Datenerfassung!L357),\"\",Datenerfassung!L357)","v":""},{"$f":"IF(ISBLANK(Datenerfassung!F357),\"\",Datenerfassung!F357)","v":""},{"$f":"IF(ISBLANK(Datenerfassung!D357),IF(COUNTBLANK(A347:H347)+COUNTBLANK(J347:O347)=14,\"\",\"- ohne Titel -\"),Datenerfassung!D357)","v":""},{"$f":"IF(ISBLANK(Datenerfassung!E357),\"\",Datenerfassung!E357)","v":""},"",{"$f":"IF(ISBLANK(Datenerfassung!O357),\"\",Datenerfassung!O357)","v":""},{"$f":"IF(ISBLANK(Datenerfassung!G357),\"\",Datenerfassung!G357)","v":""},{"$f":"IF(ISBLANK(Datenerfassung!M357),\"\",Datenerfassung!M357)","v":""},{"$f":"IF(ISBLANK(Datenerfassung!H357),\"\",Datenerfassung!H357)","v":""}]
[{"$f":"IF(ISBLANK(Datenerfassung!A358),\"\",Datenerfassung!A358)","v":""},{"$f":"IF(ISBLANK(Datenerfassung!B358),\"\",Datenerfassung!B358)","v":""},{"$f":"IF(ISBLANK(Datenerfassung!C358),\"\",Datenerfassung!C358)","v":""},{"$f":"IF(ISBLANK(Datenerfassung!I358),\"\",Datenerfassung!I358)","v":""},{"$f":"IF(ISBLANK(Datenerfassung!J358),\"\",Datenerfassung!J358)","v":""},"",{"$f":"IF(ISBLANK(Datenerfassung!L358),\"\",Datenerfassung!L358)","v":""},{"$f":"IF(ISBLANK(Datenerfassung!F358),\"\",Datenerfassung!F358)","v":""},{"$f":"IF(ISBLANK(Datenerfassung!D358),IF(COUNTBLANK(A348:H348)+COUNTBLANK(J348:O348)=14,\"\",\"- ohne Titel -\"),Datenerfassung!D358)","v":""},{"$f":"IF(ISBLANK(Datenerfassung!E358),\"\",Datenerfassung!E358)","v":""},"",{"$f":"IF(ISBLANK(Datenerfassung!O358),\"\",Datenerfassung!O358)","v":""},{"$f":"IF(ISBLANK(Datenerfassung!G358),\"\",Datenerfassung!G358)","v":""},{"$f":"IF(ISBLANK(Datenerfassung!M358),\"\",Datenerfassung!M358)","v":""},{"$f":"IF(ISBLANK(Datenerfassung!H358),\"\",Datenerfassung!H358)","v":""}]
[{"$f":"IF(ISBLANK(Datenerfassung!A359),\"\",Datenerfassung!A359)","v":""},{"$f":"IF(ISBLANK(Datenerfassung!B359),\"\",Datenerfassung!B359)","v":""},{"$f":"IF(ISBLANK(Datenerfassung!C359),\"\",Datenerfassung!C359)","v":""},{"$f":"IF(ISBLANK(Datenerfassung!I359),\"\",Datenerfassung!I359)","v":""},{"$f":"IF(ISBLANK(Datenerfassung!J359),\"\",Datenerfassung!J359)","v":""},"",{"$f":"IF(ISBLANK(Datenerfassung!L359),\"\",Datenerfassung!L359)","v":""},{"$f":"IF(ISBLANK(Datenerfassung!F359),\"\",Datenerfassung!F359)","v":""},{"$f":"IF(ISBLANK(Datenerfassung!D359),IF(COUNTBLANK(A349:H349)+COUNTBLANK(J349:O349)=14,\"\",\"- ohne Titel -\"),Datenerfassung!D359)","v":""},{"$f":"IF(ISBLANK(Datenerfassung!E359),\"\",Datenerfassung!E359)","v":""},"",{"$f":"IF(ISBLANK(Datenerfassung!O359),\"\",Datenerfassung!O359)","v":""},{"$f":"IF(ISBLANK(Datenerfassung!G359),\"\",Datenerfassung!G359)","v":""},{"$f":"IF(ISBLANK(Datenerfassung!M359),\"\",Datenerfassung!M359)","v":""},{"$f":"IF(ISBLANK(Datenerfassung!H359),\"\",Datenerfassung!H359)","v":""}]
[{"$f":"IF(ISBLANK(Datenerfassung!A360),\"\",Datenerfassung!A360)","v":""},{"$f":"IF(ISBLANK(Datenerfassung!B360),\"\",Datenerfassung!B360)","v":""},{"$f":"IF(ISBLANK(Datenerfassung!C360),\"\",Datenerfassung!C360)","v":""},{"$f":"IF(ISBLANK(Datenerfassung!I360),\"\",Datenerfassung!I360)","v":""},{"$f":"IF(ISBLANK(Datenerfassung!J360),\"\",Datenerfassung!J360)","v":""},"",{"$f":"IF(ISBLANK(Datenerfassung!L360),\"\",Datenerfassung!L360)","v":""},{"$f":"IF(ISBLANK(Datenerfassung!F360),\"\",Datenerfassung!F360)","v":""},{"$f":"IF(ISBLANK(Datenerfassung!D360),IF(COUNTBLANK(A350:H350)+COUNTBLANK(J350:O350)=14,\"\",\"- ohne Titel -\"),Datenerfassung!D360)","v":""},{"$f":"IF(ISBLANK(Datenerfassung!E360),\"\",Datenerfassung!E360)","v":""},"",{"$f":"IF(ISBLANK(Datenerfassung!O360),\"\",Datenerfassung!O360)","v":""},{"$f":"IF(ISBLANK(Datenerfassung!G360),\"\",Datenerfassung!G360)","v":""},{"$f":"IF(ISBLANK(Datenerfassung!M360),\"\",Datenerfassung!M360)","v":""},{"$f":"IF(ISBLANK(Datenerfassung!H360),\"\",Datenerfassung!H360)","v":""}]
[{"$f":"IF(ISBLANK(Datenerfassung!A361),\"\",Datenerfassung!A361)","v":""},{"$f":"IF(ISBLANK(Datenerfassung!B361),\"\",Datenerfassung!B361)","v":""},{"$f":"IF(ISBLANK(Datenerfassung!C361),\"\",Datenerfassung!C361)","v":""},{"$f":"IF(ISBLANK(Datenerfassung!I361),\"\",Datenerfassung!I361)","v":""},{"$f":"IF(ISBLANK(Datenerfassung!J361),\"\",Datenerfassung!J361)","v":""},"",{"$f":"IF(ISBLANK(Datenerfassung!L361),\"\",Datenerfassung!L361)","v":""},{"$f":"IF(ISBLANK(Datenerfassung!F361),\"\",Datenerfassung!F361)","v":""},{"$f":"IF(ISBLANK(Datenerfassung!D361),IF(COUNTBLANK(A351:H351)+COUNTBLANK(J351:O351)=14,\"\",\"- ohne Titel -\"),Datenerfassung!D361)","v":""},{"$f":"IF(ISBLANK(Datenerfassung!E361),\"\",Datenerfassung!E361)","v":""},"",{"$f":"IF(ISBLANK(Datenerfassung!O361),\"\",Datenerfassung!O361)","v":""},{"$f":"IF(ISBLANK(Datenerfassung!G361),\"\",Datenerfassung!G361)","v":""},{"$f":"IF(ISBLANK(Datenerfassung!M361),\"\",Datenerfassung!M361)","v":""},{"$f":"IF(ISBLANK(Datenerfassung!H361),\"\",Datenerfassung!H361)","v":""}]
[{"$f":"IF(ISBLANK(Datenerfassung!A362),\"\",Datenerfassung!A362)","v":""},{"$f":"IF(ISBLANK(Datenerfassung!B362),\"\",Datenerfassung!B362)","v":""},{"$f":"IF(ISBLANK(Datenerfassung!C362),\"\",Datenerfassung!C362)","v":""},{"$f":"IF(ISBLANK(Datenerfassung!I362),\"\",Datenerfassung!I362)","v":""},{"$f":"IF(ISBLANK(Datenerfassung!J362),\"\",Datenerfassung!J362)","v":""},"",{"$f":"IF(ISBLANK(Datenerfassung!L362),\"\",Datenerfassung!L362)","v":""},{"$f":"IF(ISBLANK(Datenerfassung!F362),\"\",Datenerfassung!F362)","v":""},{"$f":"IF(ISBLANK(Datenerfassung!D362),IF(COUNTBLANK(A352:H352)+COUNTBLANK(J352:O352)=14,\"\",\"- ohne Titel -\"),Datenerfassung!D362)","v":""},{"$f":"IF(ISBLANK(Datenerfassung!E362),\"\",Datenerfassung!E362)","v":""},"",{"$f":"IF(ISBLANK(Datenerfassung!O362),\"\",Datenerfassung!O362)","v":""},{"$f":"IF(ISBLANK(Datenerfassung!G362),\"\",Datenerfassung!G362)","v":""},{"$f":"IF(ISBLANK(Datenerfassung!M362),\"\",Datenerfassung!M362)","v":""},{"$f":"IF(ISBLANK(Datenerfassung!H362),\"\",Datenerfassung!H362)","v":""}]
[{"$f":"IF(ISBLANK(Datenerfassung!A363),\"\",Datenerfassung!A363)","v":""},{"$f":"IF(ISBLANK(Datenerfassung!B363),\"\",Datenerfassung!B363)","v":""},{"$f":"IF(ISBLANK(Datenerfassung!C363),\"\",Datenerfassung!C363)","v":""},{"$f":"IF(ISBLANK(Datenerfassung!I363),\"\",Datenerfassung!I363)","v":""},{"$f":"IF(ISBLANK(Datenerfassung!J363),\"\",Datenerfassung!J363)","v":""},"",{"$f":"IF(ISBLANK(Datenerfassung!L363),\"\",Datenerfassung!L363)","v":""},{"$f":"IF(ISBLANK(Datenerfassung!F363),\"\",Datenerfassung!F363)","v":""},{"$f":"IF(ISBLANK(Datenerfassung!D363),IF(COUNTBLANK(A353:H353)+COUNTBLANK(J353:O353)=14,\"\",\"- ohne Titel -\"),Datenerfassung!D363)","v":""},{"$f":"IF(ISBLANK(Datenerfassung!E363),\"\",Datenerfassung!E363)","v":""},"",{"$f":"IF(ISBLANK(Datenerfassung!O363),\"\",Datenerfassung!O363)","v":""},{"$f":"IF(ISBLANK(Datenerfassung!G363),\"\",Datenerfassung!G363)","v":""},{"$f":"IF(ISBLANK(Datenerfassung!M363),\"\",Datenerfassung!M363)","v":""},{"$f":"IF(ISBLANK(Datenerfassung!H363),\"\",Datenerfassung!H363)","v":""}]
[{"$f":"IF(ISBLANK(Datenerfassung!A364),\"\",Datenerfassung!A364)","v":""},{"$f":"IF(ISBLANK(Datenerfassung!B364),\"\",Datenerfassung!B364)","v":""},{"$f":"IF(ISBLANK(Datenerfassung!C364),\"\",Datenerfassung!C364)","v":""},{"$f":"IF(ISBLANK(Datenerfassung!I364),\"\",Datenerfassung!I364)","v":""},{"$f":"IF(ISBLANK(Datenerfassung!J364),\"\",Datenerfassung!J364)","v":""},"",{"$f":"IF(ISBLANK(Datenerfassung!L364),\"\",Datenerfassung!L364)","v":""},{"$f":"IF(ISBLANK(Datenerfassung!F364),\"\",Datenerfassung!F364)","v":""},{"$f":"IF(ISBLANK(Datenerfassung!D364),IF(COUNTBLANK(A354:H354)+COUNTBLANK(J354:O354)=14,\"\",\"- ohne Titel -\"),Datenerfassung!D364)","v":""},{"$f":"IF(ISBLANK(Datenerfassung!E364),\"\",Datenerfassung!E364)","v":""},"",{"$f":"IF(ISBLANK(Datenerfassung!O364),\"\",Datenerfassung!O364)","v":""},{"$f":"IF(ISBLANK(Datenerfassung!G364),\"\",Datenerfassung!G364)","v":""},{"$f":"IF(ISBLANK(Datenerfassung!M364),\"\",Datenerfassung!M364)","v":""},{"$f":"IF(ISBLANK(Datenerfassung!H364),\"\",Datenerfassung!H364)","v":""}]
[{"$f":"IF(ISBLANK(Datenerfassung!A365),\"\",Datenerfassung!A365)","v":""},{"$f":"IF(ISBLANK(Datenerfassung!B365),\"\",Datenerfassung!B365)","v":""},{"$f":"IF(ISBLANK(Datenerfassung!C365),\"\",Datenerfassung!C365)","v":""},{"$f":"IF(ISBLANK(Datenerfassung!I365),\"\",Datenerfassung!I365)","v":""},{"$f":"IF(ISBLANK(Datenerfassung!J365),\"\",Datenerfassung!J365)","v":""},"",{"$f":"IF(ISBLANK(Datenerfassung!L365),\"\",Datenerfassung!L365)","v":""},{"$f":"IF(ISBLANK(Datenerfassung!F365),\"\",Datenerfassung!F365)","v":""},{"$f":"IF(ISBLANK(Datenerfassung!D365),IF(COUNTBLANK(A355:H355)+COUNTBLANK(J355:O355)=14,\"\",\"- ohne Titel -\"),Datenerfassung!D365)","v":""},{"$f":"IF(ISBLANK(Datenerfassung!E365),\"\",Datenerfassung!E365)","v":""},"",{"$f":"IF(ISBLANK(Datenerfassung!O365),\"\",Datenerfassung!O365)","v":""},{"$f":"IF(ISBLANK(Datenerfassung!G365),\"\",Datenerfassung!G365)","v":""},{"$f":"IF(ISBLANK(Datenerfassung!M365),\"\",Datenerfassung!M365)","v":""},{"$f":"IF(ISBLANK(Datenerfassung!H365),\"\",Datenerfassung!H365)","v":""}]
[{"$f":"IF(ISBLANK(Datenerfassung!A366),\"\",Datenerfassung!A366)","v":""},{"$f":"IF(ISBLANK(Datenerfassung!B366),\"\",Datenerfassung!B366)","v":""},{"$f":"IF(ISBLANK(Datenerfassung!C366),\"\",Datenerfassung!C366)","v":""},{"$f":"IF(ISBLANK(Datenerfassung!I366),\"\",Datenerfassung!I366)","v":""},{"$f":"IF(ISBLANK(Datenerfassung!J366),\"\",Datenerfassung!J366)","v":""},"",{"$f":"IF(ISBLANK(Datenerfassung!L366),\"\",Datenerfassung!L366)","v":""},{"$f":"IF(ISBLANK(Datenerfassung!F366),\"\",Datenerfassung!F366)","v":""},{"$f":"IF(ISBLANK(Datenerfassung!D366),IF(COUNTBLANK(A356:H356)+COUNTBLANK(J356:O356)=14,\"\",\"- ohne Titel -\"),Datenerfassung!D366)","v":""},{"$f":"IF(ISBLANK(Datenerfassung!E366),\"\",Datenerfassung!E366)","v":""},"",{"$f":"IF(ISBLANK(Datenerfassung!O366),\"\",Datenerfassung!O366)","v":""},{"$f":"IF(ISBLANK(Datenerfassung!G366),\"\",Datenerfassung!G366)","v":""},{"$f":"IF(ISBLANK(Datenerfassung!M366),\"\",Datenerfassung!M366)","v":""},{"$f":"IF(ISBLANK(Datenerfassung!H366),\"\",Datenerfassung!H366)","v":""}]
[{"$f":"IF(ISBLANK(Datenerfassung!A367),\"\",Datenerfassung!A367)","v":""},{"$f":"IF(ISBLANK(Datenerfassung!B367),\"\",Datenerfassung!B367)","v":""},{"$f":"IF(ISBLANK(Datenerfassung!C367),\"\",Datenerfassung!C367)","v":""},{"$f":"IF(ISBLANK(Datenerfassung!I367),\"\",Datenerfassung!I367)","v":""},{"$f":"IF(ISBLANK(Datenerfassung!J367),\"\",Datenerfassung!J367)","v":""},"",{"$f":"IF(ISBLANK(Datenerfassung!L367),\"\",Datenerfassung!L367)","v":""},{"$f":"IF(ISBLANK(Datenerfassung!F367),\"\",Datenerfassung!F367)","v":""},{"$f":"IF(ISBLANK(Datenerfassung!D367),IF(COUNTBLANK(A357:H357)+COUNTBLANK(J357:O357)=14,\"\",\"- ohne Titel -\"),Datenerfassung!D367)","v":""},{"$f":"IF(ISBLANK(Datenerfassung!E367),\"\",Datenerfassung!E367)","v":""},"",{"$f":"IF(ISBLANK(Datenerfassung!O367),\"\",Datenerfassung!O367)","v":""},{"$f":"IF(ISBLANK(Datenerfassung!G367),\"\",Datenerfassung!G367)","v":""},{"$f":"IF(ISBLANK(Datenerfassung!M367),\"\",Datenerfassung!M367)","v":""},{"$f":"IF(ISBLANK(Datenerfassung!H367),\"\",Datenerfassung!H367)","v":""}]
[{"$f":"IF(ISBLANK(Datenerfassung!A368),\"\",Datenerfassung!A368)","v":""},{"$f":"IF(ISBLANK(Datenerfassung!B368),\"\",Datenerfassung!B368)","v":""},{"$f":"IF(ISBLANK(Datenerfassung!C368),\"\",Datenerfassung!C368)","v":""},{"$f":"IF(ISBLANK(Datenerfassung!I368),\"\",Datenerfassung!I368)","v":""},{"$f":"IF(ISBLANK(Datenerfassung!J368),\"\",Datenerfassung!J368)","v":""},"",{"$f":"IF(ISBLANK(Datenerfassung!L368),\"\",Datenerfassung!L368)","v":""},{"$f":"IF(ISBLANK(Datenerfassung!F368),\"\",Datenerfassung!F368)","v":""},{"$f":"IF(ISBLANK(Datenerfassung!D368),IF(COUNTBLANK(A358:H358)+COUNTBLANK(J358:O358)=14,\"\",\"- ohne Titel -\"),Datenerfassung!D368)","v":""},{"$f":"IF(ISBLANK(Datenerfassung!E368),\"\",Datenerfassung!E368)","v":""},"",{"$f":"IF(ISBLANK(Datenerfassung!O368),\"\",Datenerfassung!O368)","v":""},{"$f":"IF(ISBLANK(Datenerfassung!G368),\"\",Datenerfassung!G368)","v":""},{"$f":"IF(ISBLANK(Datenerfassung!M368),\"\",Datenerfassung!M368)","v":""},{"$f":"IF(ISBLANK(Datenerfassung!H368),\"\",Datenerfassung!H368)","v":""}]
[{"$f":"IF(ISBLANK(Datenerfassung!A369),\"\",Datenerfassung!A369)","v":""},{"$f":"IF(ISBLANK(Datenerfassung!B369),\"\",Datenerfassung!B369)","v":""},{"$f":"IF(ISBLANK(Datenerfassung!C369),\"\",Datenerfassung!C369)","v":""},{"$f":"IF(ISBLANK(Datenerfassung!I369),\"\",Datenerfassung!I369)","v":""},{"$f":"IF(ISBLANK(Datenerfassung!J369),\"\",Datenerfassung!J369)","v":""},"",{"$f":"IF(ISBLANK(Datenerfassung!L369),\"\",Datenerfassung!L369)","v":""},{"$f":"IF(ISBLANK(Datenerfassung!F369),\"\",Datenerfassung!F369)","v":""},{"$f":"IF(ISBLANK(Datenerfassung!D369),IF(COUNTBLANK(A359:H359)+COUNTBLANK(J359:O359)=14,\"\",\"- ohne Titel -\"),Datenerfassung!D369)","v":""},{"$f":"IF(ISBLANK(Datenerfassung!E369),\"\",Datenerfassung!E369)","v":""},"",{"$f":"IF(ISBLANK(Datenerfassung!O369),\"\",Datenerfassung!O369)","v":""},{"$f":"IF(ISBLANK(Datenerfassung!G369),\"\",Datenerfassung!G369)","v":""},{"$f":"IF(ISBLANK(Datenerfassung!M369),\"\",Datenerfassung!M369)","v":""},{"$f":"IF(ISBLANK(Datenerfassung!H369),\"\",Datenerfassung!H369)","v":""}]
[{"$f":"IF(ISBLANK(Datenerfassung!A370),\"\",Datenerfassung!A370)","v":""},{"$f":"IF(ISBLANK(Datenerfassung!B370),\"\",Datenerfassung!B370)","v":""},{"$f":"IF(ISBLANK(Datenerfassung!C370),\"\",Datenerfassung!C370)","v":""},{"$f":"IF(ISBLANK(Datenerfassung!I370),\"\",Datenerfassung!I370)","v":""},{"$f":"IF(ISBLANK(Datenerfassung!J370),\"\",Datenerfassung!J370)","v":""},"",{"$f":"IF(ISBLANK(Datenerfassung!L370),\"\",Datenerfassung!L370)","v":""},{"$f":"IF(ISBLANK(Datenerfassung!F370),\"\",Datenerfassung!F370)","v":""},{"$f":"IF(ISBLANK(Datenerfassung!D370),IF(COUNTBLANK(A360:H360)+COUNTBLANK(J360:O360)=14,\"\",\"- ohne Titel -\"),Datenerfassung!D370)","v":""},{"$f":"IF(ISBLANK(Datenerfassung!E370),\"\",Datenerfassung!E370)","v":""},"",{"$f":"IF(ISBLANK(Datenerfassung!O370),\"\",Datenerfassung!O370)","v":""},{"$f":"IF(ISBLANK(Datenerfassung!G370),\"\",Datenerfassung!G370)","v":""},{"$f":"IF(ISBLANK(Datenerfassung!M370),\"\",Datenerfassung!M370)","v":""},{"$f":"IF(ISBLANK(Datenerfassung!H370),\"\",Datenerfassung!H370)","v":""}]
[{"$f":"IF(ISBLANK(Datenerfassung!A371),\"\",Datenerfassung!A371)","v":""},{"$f":"IF(ISBLANK(Datenerfassung!B371),\"\",Datenerfassung!B371)","v":""},{"$f":"IF(ISBLANK(Datenerfassung!C371),\"\",Datenerfassung!C371)","v":""},{"$f":"IF(ISBLANK(Datenerfassung!I371),\"\",Datenerfassung!I371)","v":""},{"$f":"IF(ISBLANK(Datenerfassung!J371),\"\",Datenerfassung!J371)","v":""},"",{"$f":"IF(ISBLANK(Datenerfassung!L371),\"\",Datenerfassung!L371)","v":""},{"$f":"IF(ISBLANK(Datenerfassung!F371),\"\",Datenerfassung!F371)","v":""},{"$f":"IF(ISBLANK(Datenerfassung!D371),IF(COUNTBLANK(A361:H361)+COUNTBLANK(J361:O361)=14,\"\",\"- ohne Titel -\"),Datenerfassung!D371)","v":""},{"$f":"IF(ISBLANK(Datenerfassung!E371),\"\",Datenerfassung!E371)","v":""},"",{"$f":"IF(ISBLANK(Datenerfassung!O371),\"\",Datenerfassung!O371)","v":""},{"$f":"IF(ISBLANK(Datenerfassung!G371),\"\",Datenerfassung!G371)","v":""},{"$f":"IF(ISBLANK(Datenerfassung!M371),\"\",Datenerfassung!M371)","v":""},{"$f":"IF(ISBLANK(Datenerfassung!H371),\"\",Datenerfassung!H371)","v":""}]
[{"$f":"IF(ISBLANK(Datenerfassung!A372),\"\",Datenerfassung!A372)","v":""},{"$f":"IF(ISBLANK(Datenerfassung!B372),\"\",Datenerfassung!B372)","v":""},{"$f":"IF(ISBLANK(Datenerfassung!C372),\"\",Datenerfassung!C372)","v":""},{"$f":"IF(ISBLANK(Datenerfassung!I372),\"\",Datenerfassung!I372)","v":""},{"$f":"IF(ISBLANK(Datenerfassung!J372),\"\",Datenerfassung!J372)","v":""},"",{"$f":"IF(ISBLANK(Datenerfassung!L372),\"\",Datenerfassung!L372)","v":""},{"$f":"IF(ISBLANK(Datenerfassung!F372),\"\",Datenerfassung!F372)","v":""},{"$f":"IF(ISBLANK(Datenerfassung!D372),IF(COUNTBLANK(A362:H362)+COUNTBLANK(J362:O362)=14,\"\",\"- ohne Titel -\"),Datenerfassung!D372)","v":""},{"$f":"IF(ISBLANK(Datenerfassung!E372),\"\",Datenerfassung!E372)","v":""},"",{"$f":"IF(ISBLANK(Datenerfassung!O372),\"\",Datenerfassung!O372)","v":""},{"$f":"IF(ISBLANK(Datenerfassung!G372),\"\",Datenerfassung!G372)","v":""},{"$f":"IF(ISBLANK(Datenerfassung!M372),\"\",Datenerfassung!M372)","v":""},{"$f":"IF(ISBLANK(Datenerfassung!H372),\"\",Datenerfassung!H372)","v":""}]
[{"$f":"IF(ISBLANK(Datenerfassung!A373),\"\",Datenerfassung!A373)","v":""},{"$f":"IF(ISBLANK(Datenerfassung!B373),\"\",Datenerfassung!B373)","v":""},{"$f":"IF(ISBLANK(Datenerfassung!C373),\"\",Datenerfassung!C373)","v":""},{"$f":"IF(ISBLANK(Datenerfassung!I373),\"\",Datenerfassung!I373)","v":""},{"$f":"IF(ISBLANK(Datenerfassung!J373),\"\",Datenerfassung!J373)","v":""},"",{"$f":"IF(ISBLANK(Datenerfassung!L373),\"\",Datenerfassung!L373)","v":""},{"$f":"IF(ISBLANK(Datenerfassung!F373),\"\",Datenerfassung!F373)","v":""},{"$f":"IF(ISBLANK(Datenerfassung!D373),IF(COUNTBLANK(A363:H363)+COUNTBLANK(J363:O363)=14,\"\",\"- ohne Titel -\"),Datenerfassung!D373)","v":""},{"$f":"IF(ISBLANK(Datenerfassung!E373),\"\",Datenerfassung!E373)","v":""},"",{"$f":"IF(ISBLANK(Datenerfassung!O373),\"\",Datenerfassung!O373)","v":""},{"$f":"IF(ISBLANK(Datenerfassung!G373),\"\",Datenerfassung!G373)","v":""},{"$f":"IF(ISBLANK(Datenerfassung!M373),\"\",Datenerfassung!M373)","v":""},{"$f":"IF(ISBLANK(Datenerfassung!H373),\"\",Datenerfassung!H373)","v":""}]
[{"$f":"IF(ISBLANK(Datenerfassung!A374),\"\",Datenerfassung!A374)","v":""},{"$f":"IF(ISBLANK(Datenerfassung!B374),\"\",Datenerfassung!B374)","v":""},{"$f":"IF(ISBLANK(Datenerfassung!C374),\"\",Datenerfassung!C374)","v":""},{"$f":"IF(ISBLANK(Datenerfassung!I374),\"\",Datenerfassung!I374)","v":""},{"$f":"IF(ISBLANK(Datenerfassung!J374),\"\",Datenerfassung!J374)","v":""},"",{"$f":"IF(ISBLANK(Datenerfassung!L374),\"\",Datenerfassung!L374)","v":""},{"$f":"IF(ISBLANK(Datenerfassung!F374),\"\",Datenerfassung!F374)","v":""},{"$f":"IF(ISBLANK(Datenerfassung!D374),IF(COUNTBLANK(A364:H364)+COUNTBLANK(J364:O364)=14,\"\",\"- ohne Titel -\"),Datenerfassung!D374)","v":""},{"$f":"IF(ISBLANK(Datenerfassung!E374),\"\",Datenerfassung!E374)","v":""},"",{"$f":"IF(ISBLANK(Datenerfassung!O374),\"\",Datenerfassung!O374)","v":""},{"$f":"IF(ISBLANK(Datenerfassung!G374),\"\",Datenerfassung!G374)","v":""},{"$f":"IF(ISBLANK(Datenerfassung!M374),\"\",Datenerfassung!M374)","v":""},{"$f":"IF(ISBLANK(Datenerfassung!H374),\"\",Datenerfassung!H374)","v":""}]
[{"$f":"IF(ISBLANK(Datenerfassung!A375),\"\",Datenerfassung!A375)","v":""},{"$f":"IF(ISBLANK(Datenerfassung!B375),\"\",Datenerfassung!B375)","v":""},{"$f":"IF(ISBLANK(Datenerfassung!C375),\"\",Datenerfassung!C375)","v":""},{"$f":"IF(ISBLANK(Datenerfassung!I375),\"\",Datenerfassung!I375)","v":""},{"$f":"IF(ISBLANK(Datenerfassung!J375),\"\",Datenerfassung!J375)","v":""},"",{"$f":"IF(ISBLANK(Datenerfassung!L375),\"\",Datenerfassung!L375)","v":""},{"$f":"IF(ISBLANK(Datenerfassung!F375),\"\",Datenerfassung!F375)","v":""},{"$f":"IF(ISBLANK(Datenerfassung!D375),IF(COUNTBLANK(A365:H365)+COUNTBLANK(J365:O365)=14,\"\",\"- ohne Titel -\"),Datenerfassung!D375)","v":""},{"$f":"IF(ISBLANK(Datenerfassung!E375),\"\",Datenerfassung!E375)","v":""},"",{"$f":"IF(ISBLANK(Datenerfassung!O375),\"\",Datenerfassung!O375)","v":""},{"$f":"IF(ISBLANK(Datenerfassung!G375),\"\",Datenerfassung!G375)","v":""},{"$f":"IF(ISBLANK(Datenerfassung!M375),\"\",Datenerfassung!M375)","v":""},{"$f":"IF(ISBLANK(Datenerfassung!H375),\"\",Datenerfassung!H375)","v":""}]
[{"$f":"IF(ISBLANK(Datenerfassung!A376),\"\",Datenerfassung!A376)","v":""},{"$f":"IF(ISBLANK(Datenerfassung!B376),\"\",Datenerfassung!B376)","v":""},{"$f":"IF(ISBLANK(Datenerfassung!C376),\"\",Datenerfassung!C376)","v":""},{"$f":"IF(ISBLANK(Datenerfassung!I376),\"\",Datenerfassung!I376)","v":""},{"$f":"IF(ISBLANK(Datenerfassung!J376),\"\",Datenerfassung!J376)","v":""},"",{"$f":"IF(ISBLANK(Datenerfassung!L376),\"\",Datenerfassung!L376)","v":""},{"$f":"IF(ISBLANK(Datenerfassung!F376),\"\",Datenerfassung!F376)","v":""},{"$f":"IF(ISBLANK(Datenerfassung!D376),IF(COUNTBLANK(A366:H366)+COUNTBLANK(J366:O366)=14,\"\",\"- ohne Titel -\"),Datenerfassung!D376)","v":""},{"$f":"IF(ISBLANK(Datenerfassung!E376),\"\",Datenerfassung!E376)","v":""},"",{"$f":"IF(ISBLANK(Datenerfassung!O376),\"\",Datenerfassung!O376)","v":""},{"$f":"IF(ISBLANK(Datenerfassung!G376),\"\",Datenerfassung!G376)","v":""},{"$f":"IF(ISBLANK(Datenerfassung!M376),\"\",Datenerfassung!M376)","v":""},{"$f":"IF(ISBLANK(Datenerfassung!H376),\"\",Datenerfassung!H376)","v":""}]
[{"$f":"IF(ISBLANK(Datenerfassung!A377),\"\",Datenerfassung!A377)","v":""},{"$f":"IF(ISBLANK(Datenerfassung!B377),\"\",Datenerfassung!B377)","v":""},{"$f":"IF(ISBLANK(Datenerfassung!C377),\"\",Datenerfassung!C377)","v":""},{"$f":"IF(ISBLANK(Datenerfassung!I377),\"\",Datenerfassung!I377)","v":""},{"$f":"IF(ISBLANK(Datenerfassung!J377),\"\",Datenerfassung!J377)","v":""},"",{"$f":"IF(ISBLANK(Datenerfassung!L377),\"\",Datenerfassung!L377)","v":""},{"$f":"IF(ISBLANK(Datenerfassung!F377),\"\",Datenerfassung!F377)","v":""},{"$f":"IF(ISBLANK(Datenerfassung!D377),IF(COUNTBLANK(A367:H367)+COUNTBLANK(J367:O367)=14,\"\",\"- ohne Titel -\"),Datenerfassung!D377)","v":""},{"$f":"IF(ISBLANK(Datenerfassung!E377),\"\",Datenerfassung!E377)","v":""},"",{"$f":"IF(ISBLANK(Datenerfassung!O377),\"\",Datenerfassung!O377)","v":""},{"$f":"IF(ISBLANK(Datenerfassung!G377),\"\",Datenerfassung!G377)","v":""},{"$f":"IF(ISBLANK(Datenerfassung!M377),\"\",Datenerfassung!M377)","v":""},{"$f":"IF(ISBLANK(Datenerfassung!H377),\"\",Datenerfassung!H377)","v":""}]
[{"$f":"IF(ISBLANK(Datenerfassung!A378),\"\",Datenerfassung!A378)","v":""},{"$f":"IF(ISBLANK(Datenerfassung!B378),\"\",Datenerfassung!B378)","v":""},{"$f":"IF(ISBLANK(Datenerfassung!C378),\"\",Datenerfassung!C378)","v":""},{"$f":"IF(ISBLANK(Datenerfassung!I378),\"\",Datenerfassung!I378)","v":""},{"$f":"IF(ISBLANK(Datenerfassung!J378),\"\",Datenerfassung!J378)","v":""},"",{"$f":"IF(ISBLANK(Datenerfassung!L378),\"\",Datenerfassung!L378)","v":""},{"$f":"IF(ISBLANK(Datenerfassung!F378),\"\",Datenerfassung!F378)","v":""},{"$f":"IF(ISBLANK(Datenerfassung!D378),IF(COUNTBLANK(A368:H368)+COUNTBLANK(J368:O368)=14,\"\",\"- ohne Titel -\"),Datenerfassung!D378)","v":""},{"$f":"IF(ISBLANK(Datenerfassung!E378),\"\",Datenerfassung!E378)","v":""},"",{"$f":"IF(ISBLANK(Datenerfassung!O378),\"\",Datenerfassung!O378)","v":""},{"$f":"IF(ISBLANK(Datenerfassung!G378),\"\",Datenerfassung!G378)","v":""},{"$f":"IF(ISBLANK(Datenerfassung!M378),\"\",Datenerfassung!M378)","v":""},{"$f":"IF(ISBLANK(Datenerfassung!H378),\"\",Datenerfassung!H378)","v":""}]
[{"$f":"IF(ISBLANK(Datenerfassung!A379),\"\",Datenerfassung!A379)","v":""},{"$f":"IF(ISBLANK(Datenerfassung!B379),\"\",Datenerfassung!B379)","v":""},{"$f":"IF(ISBLANK(Datenerfassung!C379),\"\",Datenerfassung!C379)","v":""},{"$f":"IF(ISBLANK(Datenerfassung!I379),\"\",Datenerfassung!I379)","v":""},{"$f":"IF(ISBLANK(Datenerfassung!J379),\"\",Datenerfassung!J379)","v":""},"",{"$f":"IF(ISBLANK(Datenerfassung!L379),\"\",Datenerfassung!L379)","v":""},{"$f":"IF(ISBLANK(Datenerfassung!F379),\"\",Datenerfassung!F379)","v":""},{"$f":"IF(ISBLANK(Datenerfassung!D379),IF(COUNTBLANK(A369:H369)+COUNTBLANK(J369:O369)=14,\"\",\"- ohne Titel -\"),Datenerfassung!D379)","v":""},{"$f":"IF(ISBLANK(Datenerfassung!E379),\"\",Datenerfassung!E379)","v":""},"",{"$f":"IF(ISBLANK(Datenerfassung!O379),\"\",Datenerfassung!O379)","v":""},{"$f":"IF(ISBLANK(Datenerfassung!G379),\"\",Datenerfassung!G379)","v":""},{"$f":"IF(ISBLANK(Datenerfassung!M379),\"\",Datenerfassung!M379)","v":""},{"$f":"IF(ISBLANK(Datenerfassung!H379),\"\",Datenerfassung!H379)","v":""}]
[{"$f":"IF(ISBLANK(Datenerfassung!A380),\"\",Datenerfassung!A380)","v":""},{"$f":"IF(ISBLANK(Datenerfassung!B380),\"\",Datenerfassung!B380)","v":""},{"$f":"IF(ISBLANK(Datenerfassung!C380),\"\",Datenerfassung!C380)","v":""},{"$f":"IF(ISBLANK(Datenerfassung!I380),\"\",Datenerfassung!I380)","v":""},{"$f":"IF(ISBLANK(Datenerfassung!J380),\"\",Datenerfassung!J380)","v":""},"",{"$f":"IF(ISBLANK(Datenerfassung!L380),\"\",Datenerfassung!L380)","v":""},{"$f":"IF(ISBLANK(Datenerfassung!F380),\"\",Datenerfassung!F380)","v":""},{"$f":"IF(ISBLANK(Datenerfassung!D380),IF(COUNTBLANK(A370:H370)+COUNTBLANK(J370:O370)=14,\"\",\"- ohne Titel -\"),Datenerfassung!D380)","v":""},{"$f":"IF(ISBLANK(Datenerfassung!E380),\"\",Datenerfassung!E380)","v":""},"",{"$f":"IF(ISBLANK(Datenerfassung!O380),\"\",Datenerfassung!O380)","v":""},{"$f":"IF(ISBLANK(Datenerfassung!G380),\"\",Datenerfassung!G380)","v":""},{"$f":"IF(ISBLANK(Datenerfassung!M380),\"\",Datenerfassung!M380)","v":""},{"$f":"IF(ISBLANK(Datenerfassung!H380),\"\",Datenerfassung!H380)","v":""}]
[{"$f":"IF(ISBLANK(Datenerfassung!A381),\"\",Datenerfassung!A381)","v":""},{"$f":"IF(ISBLANK(Datenerfassung!B381),\"\",Datenerfassung!B381)","v":""},{"$f":"IF(ISBLANK(Datenerfassung!C381),\"\",Datenerfassung!C381)","v":""},{"$f":"IF(ISBLANK(Datenerfassung!I381),\"\",Datenerfassung!I381)","v":""},{"$f":"IF(ISBLANK(Datenerfassung!J381),\"\",Datenerfassung!J381)","v":""},"",{"$f":"IF(ISBLANK(Datenerfassung!L381),\"\",Datenerfassung!L381)","v":""},{"$f":"IF(ISBLANK(Datenerfassung!F381),\"\",Datenerfassung!F381)","v":""},{"$f":"IF(ISBLANK(Datenerfassung!D381),IF(COUNTBLANK(A371:H371)+COUNTBLANK(J371:O371)=14,\"\",\"- ohne Titel -\"),Datenerfassung!D381)","v":""},{"$f":"IF(ISBLANK(Datenerfassung!E381),\"\",Datenerfassung!E381)","v":""},"",{"$f":"IF(ISBLANK(Datenerfassung!O381),\"\",Datenerfassung!O381)","v":""},{"$f":"IF(ISBLANK(Datenerfassung!G381),\"\",Datenerfassung!G381)","v":""},{"$f":"IF(ISBLANK(Datenerfassung!M381),\"\",Datenerfassung!M381)","v":""},{"$f":"IF(ISBLANK(Datenerfassung!H381),\"\",Datenerfassung!H381)","v":""}]
[{"$f":"IF(ISBLANK(Datenerfassung!A382),\"\",Datenerfassung!A382)","v":""},{"$f":"IF(ISBLANK(Datenerfassung!B382),\"\",Datenerfassung!B382)","v":""},{"$f":"IF(ISBLANK(Datenerfassung!C382),\"\",Datenerfassung!C382)","v":""},{"$f":"IF(ISBLANK(Datenerfassung!I382),\"\",Datenerfassung!I382)","v":""},{"$f":"IF(ISBLANK(Datenerfassung!J382),\"\",Datenerfassung!J382)","v":""},"",{"$f":"IF(ISBLANK(Datenerfassung!L382),\"\",Datenerfassung!L382)","v":""},{"$f":"IF(ISBLANK(Datenerfassung!F382),\"\",Datenerfassung!F382)","v":""},{"$f":"IF(ISBLANK(Datenerfassung!D382),IF(COUNTBLANK(A372:H372)+COUNTBLANK(J372:O372)=14,\"\",\"- ohne Titel -\"),Datenerfassung!D382)","v":""},{"$f":"IF(ISBLANK(Datenerfassung!E382),\"\",Datenerfassung!E382)","v":""},"",{"$f":"IF(ISBLANK(Datenerfassung!O382),\"\",Datenerfassung!O382)","v":""},{"$f":"IF(ISBLANK(Datenerfassung!G382),\"\",Datenerfassung!G382)","v":""},{"$f":"IF(ISBLANK(Datenerfassung!M382),\"\",Datenerfassung!M382)","v":""},{"$f":"IF(ISBLANK(Datenerfassung!H382),\"\",Datenerfassung!H382)","v":""}]
[{"$f":"IF(ISBLANK(Datenerfassung!A383),\"\",Datenerfassung!A383)","v":""},{"$f":"IF(ISBLANK(Datenerfassung!B383),\"\",Datenerfassung!B383)","v":""},{"$f":"IF(ISBLANK(Datenerfassung!C383),\"\",Datenerfassung!C383)","v":""},{"$f":"IF(ISBLANK(Datenerfassung!I383),\"\",Datenerfassung!I383)","v":""},{"$f":"IF(ISBLANK(Datenerfassung!J383),\"\",Datenerfassung!J383)","v":""},"",{"$f":"IF(ISBLANK(Datenerfassung!L383),\"\",Datenerfassung!L383)","v":""},{"$f":"IF(ISBLANK(Datenerfassung!F383),\"\",Datenerfassung!F383)","v":""},{"$f":"IF(ISBLANK(Datenerfassung!D383),IF(COUNTBLANK(A373:H373)+COUNTBLANK(J373:O373)=14,\"\",\"- ohne Titel -\"),Datenerfassung!D383)","v":""},{"$f":"IF(ISBLANK(Datenerfassung!E383),\"\",Datenerfassung!E383)","v":""},"",{"$f":"IF(ISBLANK(Datenerfassung!O383),\"\",Datenerfassung!O383)","v":""},{"$f":"IF(ISBLANK(Datenerfassung!G383),\"\",Datenerfassung!G383)","v":""},{"$f":"IF(ISBLANK(Datenerfassung!M383),\"\",Datenerfassung!M383)","v":""},{"$f":"IF(ISBLANK(Datenerfassung!H383),\"\",Datenerfassung!H383)","v":""}]
[{"$f":"IF(ISBLANK(Datenerfassung!A384),\"\",Datenerfassung!A384)","v":""},{"$f":"IF(ISBLANK(Datenerfassung!B384),\"\",Datenerfassung!B384)","v":""},{"$f":"IF(ISBLANK(Datenerfassung!C384),\"\",Datenerfassung!C384)","v":""},{"$f":"IF(ISBLANK(Datenerfassung!I384),\"\",Datenerfassung!I384)","v":""},{"$f":"IF(ISBLANK(Datenerfassung!J384),\"\",Datenerfassung!J384)","v":""},"",{"$f":"IF(ISBLANK(Datenerfassung!L384),\"\",Datenerfassung!L384)","v":""},{"$f":"IF(ISBLANK(Datenerfassung!F384),\"\",Datenerfassung!F384)","v":""},{"$f":"IF(ISBLANK(Datenerfassung!D384),IF(COUNTBLANK(A374:H374)+COUNTBLANK(J374:O374)=14,\"\",\"- ohne Titel -\"),Datenerfassung!D384)","v":""},{"$f":"IF(ISBLANK(Datenerfassung!E384),\"\",Datenerfassung!E384)","v":""},"",{"$f":"IF(ISBLANK(Datenerfassung!O384),\"\",Datenerfassung!O384)","v":""},{"$f":"IF(ISBLANK(Datenerfassung!G384),\"\",Datenerfassung!G384)","v":""},{"$f":"IF(ISBLANK(Datenerfassung!M384),\"\",Datenerfassung!M384)","v":""},{"$f":"IF(ISBLANK(Datenerfassung!H384),\"\",Datenerfassung!H384)","v":""}]
[{"$f":"IF(ISBLANK(Datenerfassung!A385),\"\",Datenerfassung!A385)","v":""},{"$f":"IF(ISBLANK(Datenerfassung!B385),\"\",Datenerfassung!B385)","v":""},{"$f":"IF(ISBLANK(Datenerfassung!C385),\"\",Datenerfassung!C385)","v":""},{"$f":"IF(ISBLANK(Datenerfassung!I385),\"\",Datenerfassung!I385)","v":""},{"$f":"IF(ISBLANK(Datenerfassung!J385),\"\",Datenerfassung!J385)","v":""},"",{"$f":"IF(ISBLANK(Datenerfassung!L385),\"\",Datenerfassung!L385)","v":""},{"$f":"IF(ISBLANK(Datenerfassung!F385),\"\",Datenerfassung!F385)","v":""},{"$f":"IF(ISBLANK(Datenerfassung!D385),IF(COUNTBLANK(A375:H375)+COUNTBLANK(J375:O375)=14,\"\",\"- ohne Titel -\"),Datenerfassung!D385)","v":""},{"$f":"IF(ISBLANK(Datenerfassung!E385),\"\",Datenerfassung!E385)","v":""},"",{"$f":"IF(ISBLANK(Datenerfassung!O385),\"\",Datenerfassung!O385)","v":""},{"$f":"IF(ISBLANK(Datenerfassung!G385),\"\",Datenerfassung!G385)","v":""},{"$f":"IF(ISBLANK(Datenerfassung!M385),\"\",Datenerfassung!M385)","v":""},{"$f":"IF(ISBLANK(Datenerfassung!H385),\"\",Datenerfassung!H385)","v":""}]
[{"$f":"IF(ISBLANK(Datenerfassung!A386),\"\",Datenerfassung!A386)","v":""},{"$f":"IF(ISBLANK(Datenerfassung!B386),\"\",Datenerfassung!B386)","v":""},{"$f":"IF(ISBLANK(Datenerfassung!C386),\"\",Datenerfassung!C386)","v":""},{"$f":"IF(ISBLANK(Datenerfassung!I386),\"\",Datenerfassung!I386)","v":""},{"$f":"IF(ISBLANK(Datenerfassung!J386),\"\",Datenerfassung!J386)","v":""},"",{"$f":"IF(ISBLANK(Datenerfassung!L386),\"\",Datenerfassung!L386)","v":""},{"$f":"IF(ISBLANK(Datenerfassung!F386),\"\",Datenerfassung!F386)","v":""},{"$f":"IF(ISBLANK(Datenerfassung!D386),IF(COUNTBLANK(A376:H376)+COUNTBLANK(J376:O376)=14,\"\",\"- ohne Titel -\"),Datenerfassung!D386)","v":""},{"$f":"IF(ISBLANK(Datenerfassung!E386),\"\",Datenerfassung!E386)","v":""},"",{"$f":"IF(ISBLANK(Datenerfassung!O386),\"\",Datenerfassung!O386)","v":""},{"$f":"IF(ISBLANK(Datenerfassung!G386),\"\",Datenerfassung!G386)","v":""},{"$f":"IF(ISBLANK(Datenerfassung!M386),\"\",Datenerfassung!M386)","v":""},{"$f":"IF(ISBLANK(Datenerfassung!H386),\"\",Datenerfassung!H386)","v":""}]
[{"$f":"IF(ISBLANK(Datenerfassung!A387),\"\",Datenerfassung!A387)","v":""},{"$f":"IF(ISBLANK(Datenerfassung!B387),\"\",Datenerfassung!B387)","v":""},{"$f":"IF(ISBLANK(Datenerfassung!C387),\"\",Datenerfassung!C387)","v":""},{"$f":"IF(ISBLANK(Datenerfassung!I387),\"\",Datenerfassung!I387)","v":""},{"$f":"IF(ISBLANK(Datenerfassung!J387),\"\",Datenerfassung!J387)","v":""},"",{"$f":"IF(ISBLANK(Datenerfassung!L387),\"\",Datenerfassung!L387)","v":""},{"$f":"IF(ISBLANK(Datenerfassung!F387),\"\",Datenerfassung!F387)","v":""},{"$f":"IF(ISBLANK(Datenerfassung!D387),IF(COUNTBLANK(A377:H377)+COUNTBLANK(J377:O377)=14,\"\",\"- ohne Titel -\"),Datenerfassung!D387)","v":""},{"$f":"IF(ISBLANK(Datenerfassung!E387),\"\",Datenerfassung!E387)","v":""},"",{"$f":"IF(ISBLANK(Datenerfassung!O387),\"\",Datenerfassung!O387)","v":""},{"$f":"IF(ISBLANK(Datenerfassung!G387),\"\",Datenerfassung!G387)","v":""},{"$f":"IF(ISBLANK(Datenerfassung!M387),\"\",Datenerfassung!M387)","v":""},{"$f":"IF(ISBLANK(Datenerfassung!H387),\"\",Datenerfassung!H387)","v":""}]
[{"$f":"IF(ISBLANK(Datenerfassung!A388),\"\",Datenerfassung!A388)","v":""},{"$f":"IF(ISBLANK(Datenerfassung!B388),\"\",Datenerfassung!B388)","v":""},{"$f":"IF(ISBLANK(Datenerfassung!C388),\"\",Datenerfassung!C388)","v":""},{"$f":"IF(ISBLANK(Datenerfassung!I388),\"\",Datenerfassung!I388)","v":""},{"$f":"IF(ISBLANK(Datenerfassung!J388),\"\",Datenerfassung!J388)","v":""},"",{"$f":"IF(ISBLANK(Datenerfassung!L388),\"\",Datenerfassung!L388)","v":""},{"$f":"IF(ISBLANK(Datenerfassung!F388),\"\",Datenerfassung!F388)","v":""},{"$f":"IF(ISBLANK(Datenerfassung!D388),IF(COUNTBLANK(A378:H378)+COUNTBLANK(J378:O378)=14,\"\",\"- ohne Titel -\"),Datenerfassung!D388)","v":""},{"$f":"IF(ISBLANK(Datenerfassung!E388),\"\",Datenerfassung!E388)","v":""},"",{"$f":"IF(ISBLANK(Datenerfassung!O388),\"\",Datenerfassung!O388)","v":""},{"$f":"IF(ISBLANK(Datenerfassung!G388),\"\",Datenerfassung!G388)","v":""},{"$f":"IF(ISBLANK(Datenerfassung!M388),\"\",Datenerfassung!M388)","v":""},{"$f":"IF(ISBLANK(Datenerfassung!H388),\"\",Datenerfassung!H388)","v":""}]
[{"$f":"IF(ISBLANK(Datenerfassung!A389),\"\",Datenerfassung!A389)","v":""},{"$f":"IF(ISBLANK(Datenerfassung!B389),\"\",Datenerfassung!B389)","v":""},{"$f":"IF(ISBLANK(Datenerfassung!C389),\"\",Datenerfassung!C389)","v":""},{"$f":"IF(ISBLANK(Datenerfassung!I389),\"\",Datenerfassung!I389)","v":""},{"$f":"IF(ISBLANK(Datenerfassung!J389),\"\",Datenerfassung!J389)","v":""},"",{"$f":"IF(ISBLANK(Datenerfassung!L389),\"\",Datenerfassung!L389)","v":""},{"$f":"IF(ISBLANK(Datenerfassung!F389),\"\",Datenerfassung!F389)","v":""},{"$f":"IF(ISBLANK(Datenerfassung!D389),IF(COUNTBLANK(A379:H379)+COUNTBLANK(J379:O379)=14,\"\",\"- ohne Titel -\"),Datenerfassung!D389)","v":""},{"$f":"IF(ISBLANK(Datenerfassung!E389),\"\",Datenerfassung!E389)","v":""},"",{"$f":"IF(ISBLANK(Datenerfassung!O389),\"\",Datenerfassung!O389)","v":""},{"$f":"IF(ISBLANK(Datenerfassung!G389),\"\",Datenerfassung!G389)","v":""},{"$f":"IF(ISBLANK(Datenerfassung!M389),\"\",Datenerfassung!M389)","v":""},{"$f":"IF(ISBLANK(Datenerfassung!H389),\"\",Datenerfassung!H389)","v":""}]
[{"$f":"IF(ISBLANK(Datenerfassung!A390),\"\",Datenerfassung!A390)","v":""},{"$f":"IF(ISBLANK(Datenerfassung!B390),\"\",Datenerfassung!B390)","v":""},{"$f":"IF(ISBLANK(Datenerfassung!C390),\"\",Datenerfassung!C390)","v":""},{"$f":"IF(ISBLANK(Datenerfassung!I390),\"\",Datenerfassung!I390)","v":""},{"$f":"IF(ISBLANK(Datenerfassung!J390),\"\",Datenerfassung!J390)","v":""},"",{"$f":"IF(ISBLANK(Datenerfassung!L390),\"\",Datenerfassung!L390)","v":""},{"$f":"IF(ISBLANK(Datenerfassung!F390),\"\",Datenerfassung!F390)","v":""},{"$f":"IF(ISBLANK(Datenerfassung!D390),IF(COUNTBLANK(A380:H380)+COUNTBLANK(J380:O380)=14,\"\",\"- ohne Titel -\"),Datenerfassung!D390)","v":""},{"$f":"IF(ISBLANK(Datenerfassung!E390),\"\",Datenerfassung!E390)","v":""},"",{"$f":"IF(ISBLANK(Datenerfassung!O390),\"\",Datenerfassung!O390)","v":""},{"$f":"IF(ISBLANK(Datenerfassung!G390),\"\",Datenerfassung!G390)","v":""},{"$f":"IF(ISBLANK(Datenerfassung!M390),\"\",Datenerfassung!M390)","v":""},{"$f":"IF(ISBLANK(Datenerfassung!H390),\"\",Datenerfassung!H390)","v":""}]
[{"$f":"IF(ISBLANK(Datenerfassung!A391),\"\",Datenerfassung!A391)","v":""},{"$f":"IF(ISBLANK(Datenerfassung!B391),\"\",Datenerfassung!B391)","v":""},{"$f":"IF(ISBLANK(Datenerfassung!C391),\"\",Datenerfassung!C391)","v":""},{"$f":"IF(ISBLANK(Datenerfassung!I391),\"\",Datenerfassung!I391)","v":""},{"$f":"IF(ISBLANK(Datenerfassung!J391),\"\",Datenerfassung!J391)","v":""},"",{"$f":"IF(ISBLANK(Datenerfassung!L391),\"\",Datenerfassung!L391)","v":""},{"$f":"IF(ISBLANK(Datenerfassung!F391),\"\",Datenerfassung!F391)","v":""},{"$f":"IF(ISBLANK(Datenerfassung!D391),IF(COUNTBLANK(A381:H381)+COUNTBLANK(J381:O381)=14,\"\",\"- ohne Titel -\"),Datenerfassung!D391)","v":""},{"$f":"IF(ISBLANK(Datenerfassung!E391),\"\",Datenerfassung!E391)","v":""},"",{"$f":"IF(ISBLANK(Datenerfassung!O391),\"\",Datenerfassung!O391)","v":""},{"$f":"IF(ISBLANK(Datenerfassung!G391),\"\",Datenerfassung!G391)","v":""},{"$f":"IF(ISBLANK(Datenerfassung!M391),\"\",Datenerfassung!M391)","v":""},{"$f":"IF(ISBLANK(Datenerfassung!H391),\"\",Datenerfassung!H391)","v":""}]
[{"$f":"IF(ISBLANK(Datenerfassung!A392),\"\",Datenerfassung!A392)","v":""},{"$f":"IF(ISBLANK(Datenerfassung!B392),\"\",Datenerfassung!B392)","v":""},{"$f":"IF(ISBLANK(Datenerfassung!C392),\"\",Datenerfassung!C392)","v":""},{"$f":"IF(ISBLANK(Datenerfassung!I392),\"\",Datenerfassung!I392)","v":""},{"$f":"IF(ISBLANK(Datenerfassung!J392),\"\",Datenerfassung!J392)","v":""},"",{"$f":"IF(ISBLANK(Datenerfassung!L392),\"\",Datenerfassung!L392)","v":""},{"$f":"IF(ISBLANK(Datenerfassung!F392),\"\",Datenerfassung!F392)","v":""},{"$f":"IF(ISBLANK(Datenerfassung!D392),IF(COUNTBLANK(A382:H382)+COUNTBLANK(J382:O382)=14,\"\",\"- ohne Titel -\"),Datenerfassung!D392)","v":""},{"$f":"IF(ISBLANK(Datenerfassung!E392),\"\",Datenerfassung!E392)","v":""},"",{"$f":"IF(ISBLANK(Datenerfassung!O392),\"\",Datenerfassung!O392)","v":""},{"$f":"IF(ISBLANK(Datenerfassung!G392),\"\",Datenerfassung!G392)","v":""},{"$f":"IF(ISBLANK(Datenerfassung!M392),\"\",Datenerfassung!M392)","v":""},{"$f":"IF(ISBLANK(Datenerfassung!H392),\"\",Datenerfassung!H392)","v":""}]
[{"$f":"IF(ISBLANK(Datenerfassung!A393),\"\",Datenerfassung!A393)","v":""},{"$f":"IF(ISBLANK(Datenerfassung!B393),\"\",Datenerfassung!B393)","v":""},{"$f":"IF(ISBLANK(Datenerfassung!C393),\"\",Datenerfassung!C393)","v":""},{"$f":"IF(ISBLANK(Datenerfassung!I393),\"\",Datenerfassung!I393)","v":""},{"$f":"IF(ISBLANK(Datenerfassung!J393),\"\",Datenerfassung!J393)","v":""},"",{"$f":"IF(ISBLANK(Datenerfassung!L393),\"\",Datenerfassung!L393)","v":""},{"$f":"IF(ISBLANK(Datenerfassung!F393),\"\",Datenerfassung!F393)","v":""},{"$f":"IF(ISBLANK(Datenerfassung!D393),IF(COUNTBLANK(A383:H383)+COUNTBLANK(J383:O383)=14,\"\",\"- ohne Titel -\"),Datenerfassung!D393)","v":""},{"$f":"IF(ISBLANK(Datenerfassung!E393),\"\",Datenerfassung!E393)","v":""},"",{"$f":"IF(ISBLANK(Datenerfassung!O393),\"\",Datenerfassung!O393)","v":""},{"$f":"IF(ISBLANK(Datenerfassung!G393),\"\",Datenerfassung!G393)","v":""},{"$f":"IF(ISBLANK(Datenerfassung!M393),\"\",Datenerfassung!M393)","v":""},{"$f":"IF(ISBLANK(Datenerfassung!H393),\"\",Datenerfassung!H393)","v":""}]
[{"$f":"IF(ISBLANK(Datenerfassung!A394),\"\",Datenerfassung!A394)","v":""},{"$f":"IF(ISBLANK(Datenerfassung!B394),\"\",Datenerfassung!B394)","v":""},{"$f":"IF(ISBLANK(Datenerfassung!C394),\"\",Datenerfassung!C394)","v":""},{"$f":"IF(ISBLANK(Datenerfassung!I394),\"\",Datenerfassung!I394)","v":""},{"$f":"IF(ISBLANK(Datenerfassung!J394),\"\",Datenerfassung!J394)","v":""},"",{"$f":"IF(ISBLANK(Datenerfassung!L394),\"\",Datenerfassung!L394)","v":""},{"$f":"IF(ISBLANK(Datenerfassung!F394),\"\",Datenerfassung!F394)","v":""},{"$f":"IF(ISBLANK(Datenerfassung!D394),IF(COUNTBLANK(A384:H384)+COUNTBLANK(J384:O384)=14,\"\",\"- ohne Titel -\"),Datenerfassung!D394)","v":""},{"$f":"IF(ISBLANK(Datenerfassung!E394),\"\",Datenerfassung!E394)","v":""},"",{"$f":"IF(ISBLANK(Datenerfassung!O394),\"\",Datenerfassung!O394)","v":""},{"$f":"IF(ISBLANK(Datenerfassung!G394),\"\",Datenerfassung!G394)","v":""},{"$f":"IF(ISBLANK(Datenerfassung!M394),\"\",Datenerfassung!M394)","v":""},{"$f":"IF(ISBLANK(Datenerfassung!H394),\"\",Datenerfassung!H394)","v":""}]
[{"$f":"IF(ISBLANK(Datenerfassung!A395),\"\",Datenerfassung!A395)","v":""},{"$f":"IF(ISBLANK(Datenerfassung!B395),\"\",Datenerfassung!B395)","v":""},{"$f":"IF(ISBLANK(Datenerfassung!C395),\"\",Datenerfassung!C395)","v":""},{"$f":"IF(ISBLANK(Datenerfassung!I395),\"\",Datenerfassung!I395)","v":""},{"$f":"IF(ISBLANK(Datenerfassung!J395),\"\",Datenerfassung!J395)","v":""},"",{"$f":"IF(ISBLANK(Datenerfassung!L395),\"\",Datenerfassung!L395)","v":""},{"$f":"IF(ISBLANK(Datenerfassung!F395),\"\",Datenerfassung!F395)","v":""},{"$f":"IF(ISBLANK(Datenerfassung!D395),IF(COUNTBLANK(A385:H385)+COUNTBLANK(J385:O385)=14,\"\",\"- ohne Titel -\"),Datenerfassung!D395)","v":""},{"$f":"IF(ISBLANK(Datenerfassung!E395),\"\",Datenerfassung!E395)","v":""},"",{"$f":"IF(ISBLANK(Datenerfassung!O395),\"\",Datenerfassung!O395)","v":""},{"$f":"IF(ISBLANK(Datenerfassung!G395),\"\",Datenerfassung!G395)","v":""},{"$f":"IF(ISBLANK(Datenerfassung!M395),\"\",Datenerfassung!M395)","v":""},{"$f":"IF(ISBLANK(Datenerfassung!H395),\"\",Datenerfassung!H395)","v":""}]
[{"$f":"IF(ISBLANK(Datenerfassung!A396),\"\",Datenerfassung!A396)","v":""},{"$f":"IF(ISBLANK(Datenerfassung!B396),\"\",Datenerfassung!B396)","v":""},{"$f":"IF(ISBLANK(Datenerfassung!C396),\"\",Datenerfassung!C396)","v":""},{"$f":"IF(ISBLANK(Datenerfassung!I396),\"\",Datenerfassung!I396)","v":""},{"$f":"IF(ISBLANK(Datenerfassung!J396),\"\",Datenerfassung!J396)","v":""},"",{"$f":"IF(ISBLANK(Datenerfassung!L396),\"\",Datenerfassung!L396)","v":""},{"$f":"IF(ISBLANK(Datenerfassung!F396),\"\",Datenerfassung!F396)","v":""},{"$f":"IF(ISBLANK(Datenerfassung!D396),IF(COUNTBLANK(A386:H386)+COUNTBLANK(J386:O386)=14,\"\",\"- ohne Titel -\"),Datenerfassung!D396)","v":""},{"$f":"IF(ISBLANK(Datenerfassung!E396),\"\",Datenerfassung!E396)","v":""},"",{"$f":"IF(ISBLANK(Datenerfassung!O396),\"\",Datenerfassung!O396)","v":""},{"$f":"IF(ISBLANK(Datenerfassung!G396),\"\",Datenerfassung!G396)","v":""},{"$f":"IF(ISBLANK(Datenerfassung!M396),\"\",Datenerfassung!M396)","v":""},{"$f":"IF(ISBLANK(Datenerfassung!H396),\"\",Datenerfassung!H396)","v":""}]
[{"$f":"IF(ISBLANK(Datenerfassung!A397),\"\",Datenerfassung!A397)","v":""},{"$f":"IF(ISBLANK(Datenerfassung!B397),\"\",Datenerfassung!B397)","v":""},{"$f":"IF(ISBLANK(Datenerfassung!C397),\"\",Datenerfassung!C397)","v":""},{"$f":"IF(ISBLANK(Datenerfassung!I397),\"\",Datenerfassung!I397)","v":""},{"$f":"IF(ISBLANK(Datenerfassung!J397),\"\",Datenerfassung!J397)","v":""},{"$f":"IF(D387=\"\",\"\",IF(E387=\"\",D387,D387&\" - \"&E387))","v":""},{"$f":"IF(ISBLANK(Datenerfassung!L397),\"\",Datenerfassung!L397)","v":""},{"$f":"IF(ISBLANK(Datenerfassung!F397),\"\",Datenerfassung!F397)","v":""},{"$f":"IF(ISBLANK(Datenerfassung!D397),IF(COUNTBLANK(A387:H387)+COUNTBLANK(J387:O387)=14,\"\",\"- ohne Titel -\"),Datenerfassung!D397)","v":""},{"$f":"IF(ISBLANK(Datenerfassung!E397),\"\",Datenerfassung!E397)","v":""},{"$f":"IF(OR(E387=\"\",G387=\"\"),\"\",\"01.01.\"&RIGHT(E387,4)+G387+1)","v":""},{"$f":"IF(ISBLANK(Datenerfassung!O397),\"\",Datenerfassung!O397)","v":""},{"$f":"IF(ISBLANK(Datenerfassung!G397),\"\",Datenerfassung!G397)","v":""},{"$f":"IF(ISBLANK(Datenerfassung!M397),\"\",Datenerfassung!M397)","v":""},{"$f":"IF(ISBLANK(Datenerfassung!H397),\"\",Datenerfassung!H397)","v":""}]
[{"$f":"IF(ISBLANK(Datenerfassung!A398),\"\",Datenerfassung!A398)","v":""},{"$f":"IF(ISBLANK(Datenerfassung!B398),\"\",Datenerfassung!B398)","v":""},{"$f":"IF(ISBLANK(Datenerfassung!C398),\"\",Datenerfassung!C398)","v":""},{"$f":"IF(ISBLANK(Datenerfassung!I398),\"\",Datenerfassung!I398)","v":""},{"$f":"IF(ISBLANK(Datenerfassung!J398),\"\",Datenerfassung!J398)","v":""},"",{"$f":"IF(ISBLANK(Datenerfassung!L398),\"\",Datenerfassung!L398)","v":""},{"$f":"IF(ISBLANK(Datenerfassung!F398),\"\",Datenerfassung!F398)","v":""},{"$f":"IF(ISBLANK(Datenerfassung!D398),IF(COUNTBLANK(A388:H388)+COUNTBLANK(J388:O388)=14,\"\",\"- ohne Titel -\"),Datenerfassung!D398)","v":""},{"$f":"IF(ISBLANK(Datenerfassung!E398),\"\",Datenerfassung!E398)","v":""},"",{"$f":"IF(ISBLANK(Datenerfassung!O398),\"\",Datenerfassung!O398)","v":""},{"$f":"IF(ISBLANK(Datenerfassung!G398),\"\",Datenerfassung!G398)","v":""},{"$f":"IF(ISBLANK(Datenerfassung!M398),\"\",Datenerfassung!M398)","v":""},{"$f":"IF(ISBLANK(Datenerfassung!H398),\"\",Datenerfassung!H398)","v":""}]
[{"$f":"IF(ISBLANK(Datenerfassung!A399),\"\",Datenerfassung!A399)","v":""},{"$f":"IF(ISBLANK(Datenerfassung!B399),\"\",Datenerfassung!B399)","v":""},{"$f":"IF(ISBLANK(Datenerfassung!C399),\"\",Datenerfassung!C399)","v":""},{"$f":"IF(ISBLANK(Datenerfassung!I399),\"\",Datenerfassung!I399)","v":""},{"$f":"IF(ISBLANK(Datenerfassung!J399),\"\",Datenerfassung!J399)","v":""},"",{"$f":"IF(ISBLANK(Datenerfassung!L399),\"\",Datenerfassung!L399)","v":""},{"$f":"IF(ISBLANK(Datenerfassung!F399),\"\",Datenerfassung!F399)","v":""},{"$f":"IF(ISBLANK(Datenerfassung!D399),IF(COUNTBLANK(A389:H389)+COUNTBLANK(J389:O389)=14,\"\",\"- ohne Titel -\"),Datenerfassung!D399)","v":""},{"$f":"IF(ISBLANK(Datenerfassung!E399),\"\",Datenerfassung!E399)","v":""},"",{"$f":"IF(ISBLANK(Datenerfassung!O399),\"\",Datenerfassung!O399)","v":""},{"$f":"IF(ISBLANK(Datenerfassung!G399),\"\",Datenerfassung!G399)","v":""},{"$f":"IF(ISBLANK(Datenerfassung!M399),\"\",Datenerfassung!M399)","v":""},{"$f":"IF(ISBLANK(Datenerfassung!H399),\"\",Datenerfassung!H399)","v":""}]
[{"$f":"IF(ISBLANK(Datenerfassung!A400),\"\",Datenerfassung!A400)","v":""},{"$f":"IF(ISBLANK(Datenerfassung!B400),\"\",Datenerfassung!B400)","v":""},{"$f":"IF(ISBLANK(Datenerfassung!C400),\"\",Datenerfassung!C400)","v":""},{"$f":"IF(ISBLANK(Datenerfassung!I400),\"\",Datenerfassung!I400)","v":""},{"$f":"IF(ISBLANK(Datenerfassung!J400),\"\",Datenerfassung!J400)","v":""},"",{"$f":"IF(ISBLANK(Datenerfassung!L400),\"\",Datenerfassung!L400)","v":""},{"$f":"IF(ISBLANK(Datenerfassung!F400),\"\",Datenerfassung!F400)","v":""},{"$f":"IF(ISBLANK(Datenerfassung!D400),IF(COUNTBLANK(A390:H390)+COUNTBLANK(J390:O390)=14,\"\",\"- ohne Titel -\"),Datenerfassung!D400)","v":""},{"$f":"IF(ISBLANK(Datenerfassung!E400),\"\",Datenerfassung!E400)","v":""},"",{"$f":"IF(ISBLANK(Datenerfassung!O400),\"\",Datenerfassung!O400)","v":""},{"$f":"IF(ISBLANK(Datenerfassung!G400),\"\",Datenerfassung!G400)","v":""},{"$f":"IF(ISBLANK(Datenerfassung!M400),\"\",Datenerfassung!M400)","v":""},{"$f":"IF(ISBLANK(Datenerfassung!H400),\"\",Datenerfassung!H400)","v":""}]
[{"$f":"IF(ISBLANK(Datenerfassung!A401),\"\",Datenerfassung!A401)","v":""},{"$f":"IF(ISBLANK(Datenerfassung!B401),\"\",Datenerfassung!B401)","v":""},{"$f":"IF(ISBLANK(Datenerfassung!C401),\"\",Datenerfassung!C401)","v":""},{"$f":"IF(ISBLANK(Datenerfassung!I401),\"\",Datenerfassung!I401)","v":""},{"$f":"IF(ISBLANK(Datenerfassung!J401),\"\",Datenerfassung!J401)","v":""},"",{"$f":"IF(ISBLANK(Datenerfassung!L401),\"\",Datenerfassung!L401)","v":""},{"$f":"IF(ISBLANK(Datenerfassung!F401),\"\",Datenerfassung!F401)","v":""},{"$f":"IF(ISBLANK(Datenerfassung!D401),IF(COUNTBLANK(A391:H391)+COUNTBLANK(J391:O391)=14,\"\",\"- ohne Titel -\"),Datenerfassung!D401)","v":""},{"$f":"IF(ISBLANK(Datenerfassung!E401),\"\",Datenerfassung!E401)","v":""},"",{"$f":"IF(ISBLANK(Datenerfassung!O401),\"\",Datenerfassung!O401)","v":""},{"$f":"IF(ISBLANK(Datenerfassung!G401),\"\",Datenerfassung!G401)","v":""},{"$f":"IF(ISBLANK(Datenerfassung!M401),\"\",Datenerfassung!M401)","v":""},{"$f":"IF(ISBLANK(Datenerfassung!H401),\"\",Datenerfassung!H401)","v":""}]
[{"$f":"IF(ISBLANK(Datenerfassung!A402),\"\",Datenerfassung!A402)","v":""},{"$f":"IF(ISBLANK(Datenerfassung!B402),\"\",Datenerfassung!B402)","v":""},{"$f":"IF(ISBLANK(Datenerfassung!C402),\"\",Datenerfassung!C402)","v":""},{"$f":"IF(ISBLANK(Datenerfassung!I402),\"\",Datenerfassung!I402)","v":""},{"$f":"IF(ISBLANK(Datenerfassung!J402),\"\",Datenerfassung!J402)","v":""},"",{"$f":"IF(ISBLANK(Datenerfassung!L402),\"\",Datenerfassung!L402)","v":""},{"$f":"IF(ISBLANK(Datenerfassung!F402),\"\",Datenerfassung!F402)","v":""},{"$f":"IF(ISBLANK(Datenerfassung!D402),IF(COUNTBLANK(A392:H392)+COUNTBLANK(J392:O392)=14,\"\",\"- ohne Titel -\"),Datenerfassung!D402)","v":""},{"$f":"IF(ISBLANK(Datenerfassung!E402),\"\",Datenerfassung!E402)","v":""},"",{"$f":"IF(ISBLANK(Datenerfassung!O402),\"\",Datenerfassung!O402)","v":""},{"$f":"IF(ISBLANK(Datenerfassung!G402),\"\",Datenerfassung!G402)","v":""},{"$f":"IF(ISBLANK(Datenerfassung!M402),\"\",Datenerfassung!M402)","v":""},{"$f":"IF(ISBLANK(Datenerfassung!H402),\"\",Datenerfassung!H402)","v":""}]
[{"$f":"IF(ISBLANK(Datenerfassung!A403),\"\",Datenerfassung!A403)","v":""},{"$f":"IF(ISBLANK(Datenerfassung!B403),\"\",Datenerfassung!B403)","v":""},{"$f":"IF(ISBLANK(Datenerfassung!C403),\"\",Datenerfassung!C403)","v":""},{"$f":"IF(ISBLANK(Datenerfassung!I403),\"\",Datenerfassung!I403)","v":""},{"$f":"IF(ISBLANK(Datenerfassung!J403),\"\",Datenerfassung!J403)","v":""},"",{"$f":"IF(ISBLANK(Datenerfassung!L403),\"\",Datenerfassung!L403)","v":""},{"$f":"IF(ISBLANK(Datenerfassung!F403),\"\",Datenerfassung!F403)","v":""},{"$f":"IF(ISBLANK(Datenerfassung!D403),IF(COUNTBLANK(A393:H393)+COUNTBLANK(J393:O393)=14,\"\",\"- ohne Titel -\"),Datenerfassung!D403)","v":""},{"$f":"IF(ISBLANK(Datenerfassung!E403),\"\",Datenerfassung!E403)","v":""},"",{"$f":"IF(ISBLANK(Datenerfassung!O403),\"\",Datenerfassung!O403)","v":""},{"$f":"IF(ISBLANK(Datenerfassung!G403),\"\",Datenerfassung!G403)","v":""},{"$f":"IF(ISBLANK(Datenerfassung!M403),\"\",Datenerfassung!M403)","v":""},{"$f":"IF(ISBLANK(Datenerfassung!H403),\"\",Datenerfassung!H403)","v":""}]
[{"$f":"IF(ISBLANK(Datenerfassung!A404),\"\",Datenerfassung!A404)","v":""},{"$f":"IF(ISBLANK(Datenerfassung!B404),\"\",Datenerfassung!B404)","v":""},{"$f":"IF(ISBLANK(Datenerfassung!C404),\"\",Datenerfassung!C404)","v":""},{"$f":"IF(ISBLANK(Datenerfassung!I404),\"\",Datenerfassung!I404)","v":""},{"$f":"IF(ISBLANK(Datenerfassung!J404),\"\",Datenerfassung!J404)","v":""},"",{"$f":"IF(ISBLANK(Datenerfassung!L404),\"\",Datenerfassung!L404)","v":""},{"$f":"IF(ISBLANK(Datenerfassung!F404),\"\",Datenerfassung!F404)","v":""},{"$f":"IF(ISBLANK(Datenerfassung!D404),IF(COUNTBLANK(A394:H394)+COUNTBLANK(J394:O394)=14,\"\",\"- ohne Titel -\"),Datenerfassung!D404)","v":""},{"$f":"IF(ISBLANK(Datenerfassung!E404),\"\",Datenerfassung!E404)","v":""},"",{"$f":"IF(ISBLANK(Datenerfassung!O404),\"\",Datenerfassung!O404)","v":""},{"$f":"IF(ISBLANK(Datenerfassung!G404),\"\",Datenerfassung!G404)","v":""},{"$f":"IF(ISBLANK(Datenerfassung!M404),\"\",Datenerfassung!M404)","v":""},{"$f":"IF(ISBLANK(Datenerfassung!H404),\"\",Datenerfassung!H404)","v":""}]
[{"$f":"IF(ISBLANK(Datenerfassung!A405),\"\",Datenerfassung!A405)","v":""},{"$f":"IF(ISBLANK(Datenerfassung!B405),\"\",Datenerfassung!B405)","v":""},{"$f":"IF(ISBLANK(Datenerfassung!C405),\"\",Datenerfassung!C405)","v":""},{"$f":"IF(ISBLANK(Datenerfassung!I405),\"\",Datenerfassung!I405)","v":""},{"$f":"IF(ISBLANK(Datenerfassung!J405),\"\",Datenerfassung!J405)","v":""},"",{"$f":"IF(ISBLANK(Datenerfassung!L405),\"\",Datenerfassung!L405)","v":""},{"$f":"IF(ISBLANK(Datenerfassung!F405),\"\",Datenerfassung!F405)","v":""},{"$f":"IF(ISBLANK(Datenerfassung!D405),IF(COUNTBLANK(A395:H395)+COUNTBLANK(J395:O395)=14,\"\",\"- ohne Titel -\"),Datenerfassung!D405)","v":""},{"$f":"IF(ISBLANK(Datenerfassung!E405),\"\",Datenerfassung!E405)","v":""},"",{"$f":"IF(ISBLANK(Datenerfassung!O405),\"\",Datenerfassung!O405)","v":""},{"$f":"IF(ISBLANK(Datenerfassung!G405),\"\",Datenerfassung!G405)","v":""},{"$f":"IF(ISBLANK(Datenerfassung!M405),\"\",Datenerfassung!M405)","v":""},{"$f":"IF(ISBLANK(Datenerfassung!H405),\"\",Datenerfassung!H405)","v":""}]
[{"$f":"IF(ISBLANK(Datenerfassung!A406),\"\",Datenerfassung!A406)","v":""},{"$f":"IF(ISBLANK(Datenerfassung!B406),\"\",Datenerfassung!B406)","v":""},{"$f":"IF(ISBLANK(Datenerfassung!C406),\"\",Datenerfassung!C406)","v":""},{"$f":"IF(ISBLANK(Datenerfassung!I406),\"\",Datenerfassung!I406)","v":""},{"$f":"IF(ISBLANK(Datenerfassung!J406),\"\",Datenerfassung!J406)","v":""},"",{"$f":"IF(ISBLANK(Datenerfassung!L406),\"\",Datenerfassung!L406)","v":""},{"$f":"IF(ISBLANK(Datenerfassung!F406),\"\",Datenerfassung!F406)","v":""},{"$f":"IF(ISBLANK(Datenerfassung!D406),IF(COUNTBLANK(A396:H396)+COUNTBLANK(J396:O396)=14,\"\",\"- ohne Titel -\"),Datenerfassung!D406)","v":""},{"$f":"IF(ISBLANK(Datenerfassung!E406),\"\",Datenerfassung!E406)","v":""},"",{"$f":"IF(ISBLANK(Datenerfassung!O406),\"\",Datenerfassung!O406)","v":""},{"$f":"IF(ISBLANK(Datenerfassung!G406),\"\",Datenerfassung!G406)","v":""},{"$f":"IF(ISBLANK(Datenerfassung!M406),\"\",Datenerfassung!M406)","v":""},{"$f":"IF(ISBLANK(Datenerfassung!H406),\"\",Datenerfassung!H406)","v":""}]
[{"$f":"IF(ISBLANK(Datenerfassung!A407),\"\",Datenerfassung!A407)","v":""},{"$f":"IF(ISBLANK(Datenerfassung!B407),\"\",Datenerfassung!B407)","v":""},{"$f":"IF(ISBLANK(Datenerfassung!C407),\"\",Datenerfassung!C407)","v":""},{"$f":"IF(ISBLANK(Datenerfassung!I407),\"\",Datenerfassung!I407)","v":""},{"$f":"IF(ISBLANK(Datenerfassung!J407),\"\",Datenerfassung!J407)","v":""},"",{"$f":"IF(ISBLANK(Datenerfassung!L407),\"\",Datenerfassung!L407)","v":""},{"$f":"IF(ISBLANK(Datenerfassung!F407),\"\",Datenerfassung!F407)","v":""},{"$f":"IF(ISBLANK(Datenerfassung!D407),IF(COUNTBLANK(A397:H397)+COUNTBLANK(J397:O397)=14,\"\",\"- ohne Titel -\"),Datenerfassung!D407)","v":""},{"$f":"IF(ISBLANK(Datenerfassung!E407),\"\",Datenerfassung!E407)","v":""},"",{"$f":"IF(ISBLANK(Datenerfassung!O407),\"\",Datenerfassung!O407)","v":""},{"$f":"IF(ISBLANK(Datenerfassung!G407),\"\",Datenerfassung!G407)","v":""},{"$f":"IF(ISBLANK(Datenerfassung!M407),\"\",Datenerfassung!M407)","v":""},{"$f":"IF(ISBLANK(Datenerfassung!H407),\"\",Datenerfassung!H407)","v":""}]
[{"$f":"IF(ISBLANK(Datenerfassung!A408),\"\",Datenerfassung!A408)","v":""},{"$f":"IF(ISBLANK(Datenerfassung!B408),\"\",Datenerfassung!B408)","v":""},{"$f":"IF(ISBLANK(Datenerfassung!C408),\"\",Datenerfassung!C408)","v":""},{"$f":"IF(ISBLANK(Datenerfassung!I408),\"\",Datenerfassung!I408)","v":""},{"$f":"IF(ISBLANK(Datenerfassung!J408),\"\",Datenerfassung!J408)","v":""},"",{"$f":"IF(ISBLANK(Datenerfassung!L408),\"\",Datenerfassung!L408)","v":""},{"$f":"IF(ISBLANK(Datenerfassung!F408),\"\",Datenerfassung!F408)","v":""},{"$f":"IF(ISBLANK(Datenerfassung!D408),IF(COUNTBLANK(A398:H398)+COUNTBLANK(J398:O398)=14,\"\",\"- ohne Titel -\"),Datenerfassung!D408)","v":""},{"$f":"IF(ISBLANK(Datenerfassung!E408),\"\",Datenerfassung!E408)","v":""},"",{"$f":"IF(ISBLANK(Datenerfassung!O408),\"\",Datenerfassung!O408)","v":""},{"$f":"IF(ISBLANK(Datenerfassung!G408),\"\",Datenerfassung!G408)","v":""},{"$f":"IF(ISBLANK(Datenerfassung!M408),\"\",Datenerfassung!M408)","v":""},{"$f":"IF(ISBLANK(Datenerfassung!H408),\"\",Datenerfassung!H408)","v":""}]
[{"$f":"IF(ISBLANK(Datenerfassung!A409),\"\",Datenerfassung!A409)","v":""},{"$f":"IF(ISBLANK(Datenerfassung!B409),\"\",Datenerfassung!B409)","v":""},{"$f":"IF(ISBLANK(Datenerfassung!C409),\"\",Datenerfassung!C409)","v":""},{"$f":"IF(ISBLANK(Datenerfassung!I409),\"\",Datenerfassung!I409)","v":""},{"$f":"IF(ISBLANK(Datenerfassung!J409),\"\",Datenerfassung!J409)","v":""},"",{"$f":"IF(ISBLANK(Datenerfassung!L409),\"\",Datenerfassung!L409)","v":""},{"$f":"IF(ISBLANK(Datenerfassung!F409),\"\",Datenerfassung!F409)","v":""},{"$f":"IF(ISBLANK(Datenerfassung!D409),IF(COUNTBLANK(A399:H399)+COUNTBLANK(J399:O399)=14,\"\",\"- ohne Titel -\"),Datenerfassung!D409)","v":""},{"$f":"IF(ISBLANK(Datenerfassung!E409),\"\",Datenerfassung!E409)","v":""},"",{"$f":"IF(ISBLANK(Datenerfassung!O409),\"\",Datenerfassung!O409)","v":""},{"$f":"IF(ISBLANK(Datenerfassung!G409),\"\",Datenerfassung!G409)","v":""},{"$f":"IF(ISBLANK(Datenerfassung!M409),\"\",Datenerfassung!M409)","v":""},{"$f":"IF(ISBLANK(Datenerfassung!H409),\"\",Datenerfassung!H409)","v":""}]
[{"$f":"IF(ISBLANK(Datenerfassung!A410),\"\",Datenerfassung!A410)","v":""},{"$f":"IF(ISBLANK(Datenerfassung!B410),\"\",Datenerfassung!B410)","v":""},{"$f":"IF(ISBLANK(Datenerfassung!C410),\"\",Datenerfassung!C410)","v":""},{"$f":"IF(ISBLANK(Datenerfassung!I410),\"\",Datenerfassung!I410)","v":""},{"$f":"IF(ISBLANK(Datenerfassung!J410),\"\",Datenerfassung!J410)","v":""},"",{"$f":"IF(ISBLANK(Datenerfassung!L410),\"\",Datenerfassung!L410)","v":""},{"$f":"IF(ISBLANK(Datenerfassung!F410),\"\",Datenerfassung!F410)","v":""},{"$f":"IF(ISBLANK(Datenerfassung!D410),IF(COUNTBLANK(A400:H400)+COUNTBLANK(J400:O400)=14,\"\",\"- ohne Titel -\"),Datenerfassung!D410)","v":""},{"$f":"IF(ISBLANK(Datenerfassung!E410),\"\",Datenerfassung!E410)","v":""},"",{"$f":"IF(ISBLANK(Datenerfassung!O410),\"\",Datenerfassung!O410)","v":""},{"$f":"IF(ISBLANK(Datenerfassung!G410),\"\",Datenerfassung!G410)","v":""},{"$f":"IF(ISBLANK(Datenerfassung!M410),\"\",Datenerfassung!M410)","v":""},{"$f":"IF(ISBLANK(Datenerfassung!H410),\"\",Datenerfassung!H410)","v":""}]
[{"$f":"IF(ISBLANK(Datenerfassung!A411),\"\",Datenerfassung!A411)","v":""},{"$f":"IF(ISBLANK(Datenerfassung!B411),\"\",Datenerfassung!B411)","v":""},{"$f":"IF(ISBLANK(Datenerfassung!C411),\"\",Datenerfassung!C411)","v":""},{"$f":"IF(ISBLANK(Datenerfassung!I411),\"\",Datenerfassung!I411)","v":""},{"$f":"IF(ISBLANK(Datenerfassung!J411),\"\",Datenerfassung!J411)","v":""},"",{"$f":"IF(ISBLANK(Datenerfassung!L411),\"\",Datenerfassung!L411)","v":""},{"$f":"IF(ISBLANK(Datenerfassung!F411),\"\",Datenerfassung!F411)","v":""},{"$f":"IF(ISBLANK(Datenerfassung!D411),IF(COUNTBLANK(A401:H401)+COUNTBLANK(J401:O401)=14,\"\",\"- ohne Titel -\"),Datenerfassung!D411)","v":""},{"$f":"IF(ISBLANK(Datenerfassung!E411),\"\",Datenerfassung!E411)","v":""},"",{"$f":"IF(ISBLANK(Datenerfassung!O411),\"\",Datenerfassung!O411)","v":""},{"$f":"IF(ISBLANK(Datenerfassung!G411),\"\",Datenerfassung!G411)","v":""},{"$f":"IF(ISBLANK(Datenerfassung!M411),\"\",Datenerfassung!M411)","v":""},{"$f":"IF(ISBLANK(Datenerfassung!H411),\"\",Datenerfassung!H411)","v":""}]
[{"$f":"IF(ISBLANK(Datenerfassung!A412),\"\",Datenerfassung!A412)","v":""},{"$f":"IF(ISBLANK(Datenerfassung!B412),\"\",Datenerfassung!B412)","v":""},{"$f":"IF(ISBLANK(Datenerfassung!C412),\"\",Datenerfassung!C412)","v":""},{"$f":"IF(ISBLANK(Datenerfassung!I412),\"\",Datenerfassung!I412)","v":""},{"$f":"IF(ISBLANK(Datenerfassung!J412),\"\",Datenerfassung!J412)","v":""},"",{"$f":"IF(ISBLANK(Datenerfassung!L412),\"\",Datenerfassung!L412)","v":""},{"$f":"IF(ISBLANK(Datenerfassung!F412),\"\",Datenerfassung!F412)","v":""},{"$f":"IF(ISBLANK(Datenerfassung!D412),IF(COUNTBLANK(A402:H402)+COUNTBLANK(J402:O402)=14,\"\",\"- ohne Titel -\"),Datenerfassung!D412)","v":""},{"$f":"IF(ISBLANK(Datenerfassung!E412),\"\",Datenerfassung!E412)","v":""},"",{"$f":"IF(ISBLANK(Datenerfassung!O412),\"\",Datenerfassung!O412)","v":""},{"$f":"IF(ISBLANK(Datenerfassung!G412),\"\",Datenerfassung!G412)","v":""},{"$f":"IF(ISBLANK(Datenerfassung!M412),\"\",Datenerfassung!M412)","v":""},{"$f":"IF(ISBLANK(Datenerfassung!H412),\"\",Datenerfassung!H412)","v":""}]
[{"$f":"IF(ISBLANK(Datenerfassung!A413),\"\",Datenerfassung!A413)","v":""},{"$f":"IF(ISBLANK(Datenerfassung!B413),\"\",Datenerfassung!B413)","v":""},{"$f":"IF(ISBLANK(Datenerfassung!C413),\"\",Datenerfassung!C413)","v":""},{"$f":"IF(ISBLANK(Datenerfassung!I413),\"\",Datenerfassung!I413)","v":""},{"$f":"IF(ISBLANK(Datenerfassung!J413),\"\",Datenerfassung!J413)","v":""},"",{"$f":"IF(ISBLANK(Datenerfassung!L413),\"\",Datenerfassung!L413)","v":""},{"$f":"IF(ISBLANK(Datenerfassung!F413),\"\",Datenerfassung!F413)","v":""},{"$f":"IF(ISBLANK(Datenerfassung!D413),IF(COUNTBLANK(A403:H403)+COUNTBLANK(J403:O403)=14,\"\",\"- ohne Titel -\"),Datenerfassung!D413)","v":""},{"$f":"IF(ISBLANK(Datenerfassung!E413),\"\",Datenerfassung!E413)","v":""},"",{"$f":"IF(ISBLANK(Datenerfassung!O413),\"\",Datenerfassung!O413)","v":""},{"$f":"IF(ISBLANK(Datenerfassung!G413),\"\",Datenerfassung!G413)","v":""},{"$f":"IF(ISBLANK(Datenerfassung!M413),\"\",Datenerfassung!M413)","v":""},{"$f":"IF(ISBLANK(Datenerfassung!H413),\"\",Datenerfassung!H413)","v":""}]
[{"$f":"IF(ISBLANK(Datenerfassung!A414),\"\",Datenerfassung!A414)","v":""},{"$f":"IF(ISBLANK(Datenerfassung!B414),\"\",Datenerfassung!B414)","v":""},{"$f":"IF(ISBLANK(Datenerfassung!C414),\"\",Datenerfassung!C414)","v":""},{"$f":"IF(ISBLANK(Datenerfassung!I414),\"\",Datenerfassung!I414)","v":""},{"$f":"IF(ISBLANK(Datenerfassung!J414),\"\",Datenerfassung!J414)","v":""},"",{"$f":"IF(ISBLANK(Datenerfassung!L414),\"\",Datenerfassung!L414)","v":""},{"$f":"IF(ISBLANK(Datenerfassung!F414),\"\",Datenerfassung!F414)","v":""},{"$f":"IF(ISBLANK(Datenerfassung!D414),IF(COUNTBLANK(A404:H404)+COUNTBLANK(J404:O404)=14,\"\",\"- ohne Titel -\"),Datenerfassung!D414)","v":""},{"$f":"IF(ISBLANK(Datenerfassung!E414),\"\",Datenerfassung!E414)","v":""},"",{"$f":"IF(ISBLANK(Datenerfassung!O414),\"\",Datenerfassung!O414)","v":""},{"$f":"IF(ISBLANK(Datenerfassung!G414),\"\",Datenerfassung!G414)","v":""},{"$f":"IF(ISBLANK(Datenerfassung!M414),\"\",Datenerfassung!M414)","v":""},{"$f":"IF(ISBLANK(Datenerfassung!H414),\"\",Datenerfassung!H414)","v":""}]
[{"$f":"IF(ISBLANK(Datenerfassung!A415),\"\",Datenerfassung!A415)","v":""},{"$f":"IF(ISBLANK(Datenerfassung!B415),\"\",Datenerfassung!B415)","v":""},{"$f":"IF(ISBLANK(Datenerfassung!C415),\"\",Datenerfassung!C415)","v":""},{"$f":"IF(ISBLANK(Datenerfassung!I415),\"\",Datenerfassung!I415)","v":""},{"$f":"IF(ISBLANK(Datenerfassung!J415),\"\",Datenerfassung!J415)","v":""},"",{"$f":"IF(ISBLANK(Datenerfassung!L415),\"\",Datenerfassung!L415)","v":""},{"$f":"IF(ISBLANK(Datenerfassung!F415),\"\",Datenerfassung!F415)","v":""},{"$f":"IF(ISBLANK(Datenerfassung!D415),IF(COUNTBLANK(A405:H405)+COUNTBLANK(J405:O405)=14,\"\",\"- ohne Titel -\"),Datenerfassung!D415)","v":""},{"$f":"IF(ISBLANK(Datenerfassung!E415),\"\",Datenerfassung!E415)","v":""},"",{"$f":"IF(ISBLANK(Datenerfassung!O415),\"\",Datenerfassung!O415)","v":""},{"$f":"IF(ISBLANK(Datenerfassung!G415),\"\",Datenerfassung!G415)","v":""},{"$f":"IF(ISBLANK(Datenerfassung!M415),\"\",Datenerfassung!M415)","v":""},{"$f":"IF(ISBLANK(Datenerfassung!H415),\"\",Datenerfassung!H415)","v":""}]
[{"$f":"IF(ISBLANK(Datenerfassung!A416),\"\",Datenerfassung!A416)","v":""},{"$f":"IF(ISBLANK(Datenerfassung!B416),\"\",Datenerfassung!B416)","v":""},{"$f":"IF(ISBLANK(Datenerfassung!C416),\"\",Datenerfassung!C416)","v":""},{"$f":"IF(ISBLANK(Datenerfassung!I416),\"\",Datenerfassung!I416)","v":""},{"$f":"IF(ISBLANK(Datenerfassung!J416),\"\",Datenerfassung!J416)","v":""},"",{"$f":"IF(ISBLANK(Datenerfassung!L416),\"\",Datenerfassung!L416)","v":""},{"$f":"IF(ISBLANK(Datenerfassung!F416),\"\",Datenerfassung!F416)","v":""},{"$f":"IF(ISBLANK(Datenerfassung!D416),IF(COUNTBLANK(A406:H406)+COUNTBLANK(J406:O406)=14,\"\",\"- ohne Titel -\"),Datenerfassung!D416)","v":""},{"$f":"IF(ISBLANK(Datenerfassung!E416),\"\",Datenerfassung!E416)","v":""},"",{"$f":"IF(ISBLANK(Datenerfassung!O416),\"\",Datenerfassung!O416)","v":""},{"$f":"IF(ISBLANK(Datenerfassung!G416),\"\",Datenerfassung!G416)","v":""},{"$f":"IF(ISBLANK(Datenerfassung!M416),\"\",Datenerfassung!M416)","v":""},{"$f":"IF(ISBLANK(Datenerfassung!H416),\"\",Datenerfassung!H416)","v":""}]
[{"$f":"IF(ISBLANK(Datenerfassung!A417),\"\",Datenerfassung!A417)","v":""},{"$f":"IF(ISBLANK(Datenerfassung!B417),\"\",Datenerfassung!B417)","v":""},{"$f":"IF(ISBLANK(Datenerfassung!C417),\"\",Datenerfassung!C417)","v":""},{"$f":"IF(ISBLANK(Datenerfassung!I417),\"\",Datenerfassung!I417)","v":""},{"$f":"IF(ISBLANK(Datenerfassung!J417),\"\",Datenerfassung!J417)","v":""},"",{"$f":"IF(ISBLANK(Datenerfassung!L417),\"\",Datenerfassung!L417)","v":""},{"$f":"IF(ISBLANK(Datenerfassung!F417),\"\",Datenerfassung!F417)","v":""},{"$f":"IF(ISBLANK(Datenerfassung!D417),IF(COUNTBLANK(A407:H407)+COUNTBLANK(J407:O407)=14,\"\",\"- ohne Titel -\"),Datenerfassung!D417)","v":""},{"$f":"IF(ISBLANK(Datenerfassung!E417),\"\",Datenerfassung!E417)","v":""},"",{"$f":"IF(ISBLANK(Datenerfassung!O417),\"\",Datenerfassung!O417)","v":""},{"$f":"IF(ISBLANK(Datenerfassung!G417),\"\",Datenerfassung!G417)","v":""},{"$f":"IF(ISBLANK(Datenerfassung!M417),\"\",Datenerfassung!M417)","v":""},{"$f":"IF(ISBLANK(Datenerfassung!H417),\"\",Datenerfassung!H417)","v":""}]
[{"$f":"IF(ISBLANK(Datenerfassung!A418),\"\",Datenerfassung!A418)","v":""},{"$f":"IF(ISBLANK(Datenerfassung!B418),\"\",Datenerfassung!B418)","v":""},{"$f":"IF(ISBLANK(Datenerfassung!C418),\"\",Datenerfassung!C418)","v":""},{"$f":"IF(ISBLANK(Datenerfassung!I418),\"\",Datenerfassung!I418)","v":""},{"$f":"IF(ISBLANK(Datenerfassung!J418),\"\",Datenerfassung!J418)","v":""},"",{"$f":"IF(ISBLANK(Datenerfassung!L418),\"\",Datenerfassung!L418)","v":""},{"$f":"IF(ISBLANK(Datenerfassung!F418),\"\",Datenerfassung!F418)","v":""},{"$f":"IF(ISBLANK(Datenerfassung!D418),IF(COUNTBLANK(A408:H408)+COUNTBLANK(J408:O408)=14,\"\",\"- ohne Titel -\"),Datenerfassung!D418)","v":""},{"$f":"IF(ISBLANK(Datenerfassung!E418),\"\",Datenerfassung!E418)","v":""},"",{"$f":"IF(ISBLANK(Datenerfassung!O418),\"\",Datenerfassung!O418)","v":""},{"$f":"IF(ISBLANK(Datenerfassung!G418),\"\",Datenerfassung!G418)","v":""},{"$f":"IF(ISBLANK(Datenerfassung!M418),\"\",Datenerfassung!M418)","v":""},{"$f":"IF(ISBLANK(Datenerfassung!H418),\"\",Datenerfassung!H418)","v":""}]
[{"$f":"IF(ISBLANK(Datenerfassung!A419),\"\",Datenerfassung!A419)","v":""},{"$f":"IF(ISBLANK(Datenerfassung!B419),\"\",Datenerfassung!B419)","v":""},{"$f":"IF(ISBLANK(Datenerfassung!C419),\"\",Datenerfassung!C419)","v":""},{"$f":"IF(ISBLANK(Datenerfassung!I419),\"\",Datenerfassung!I419)","v":""},{"$f":"IF(ISBLANK(Datenerfassung!J419),\"\",Datenerfassung!J419)","v":""},"",{"$f":"IF(ISBLANK(Datenerfassung!L419),\"\",Datenerfassung!L419)","v":""},{"$f":"IF(ISBLANK(Datenerfassung!F419),\"\",Datenerfassung!F419)","v":""},{"$f":"IF(ISBLANK(Datenerfassung!D419),IF(COUNTBLANK(A409:H409)+COUNTBLANK(J409:O409)=14,\"\",\"- ohne Titel -\"),Datenerfassung!D419)","v":""},{"$f":"IF(ISBLANK(Datenerfassung!E419),\"\",Datenerfassung!E419)","v":""},"",{"$f":"IF(ISBLANK(Datenerfassung!O419),\"\",Datenerfassung!O419)","v":""},{"$f":"IF(ISBLANK(Datenerfassung!G419),\"\",Datenerfassung!G419)","v":""},{"$f":"IF(ISBLANK(Datenerfassung!M419),\"\",Datenerfassung!M419)","v":""},{"$f":"IF(ISBLANK(Datenerfassung!H419),\"\",Datenerfassung!H419)","v":""}]
[{"$f":"IF(ISBLANK(Datenerfassung!A420),\"\",Datenerfassung!A420)","v":""},{"$f":"IF(ISBLANK(Datenerfassung!B420),\"\",Datenerfassung!B420)","v":""},{"$f":"IF(ISBLANK(Datenerfassung!C420),\"\",Datenerfassung!C420)","v":""},{"$f":"IF(ISBLANK(Datenerfassung!I420),\"\",Datenerfassung!I420)","v":""},{"$f":"IF(ISBLANK(Datenerfassung!J420),\"\",Datenerfassung!J420)","v":""},"",{"$f":"IF(ISBLANK(Datenerfassung!L420),\"\",Datenerfassung!L420)","v":""},{"$f":"IF(ISBLANK(Datenerfassung!F420),\"\",Datenerfassung!F420)","v":""},{"$f":"IF(ISBLANK(Datenerfassung!D420),IF(COUNTBLANK(A410:H410)+COUNTBLANK(J410:O410)=14,\"\",\"- ohne Titel -\"),Datenerfassung!D420)","v":""},{"$f":"IF(ISBLANK(Datenerfassung!E420),\"\",Datenerfassung!E420)","v":""},"",{"$f":"IF(ISBLANK(Datenerfassung!O420),\"\",Datenerfassung!O420)","v":""},{"$f":"IF(ISBLANK(Datenerfassung!G420),\"\",Datenerfassung!G420)","v":""},{"$f":"IF(ISBLANK(Datenerfassung!M420),\"\",Datenerfassung!M420)","v":""},{"$f":"IF(ISBLANK(Datenerfassung!H420),\"\",Datenerfassung!H420)","v":""}]
[{"$f":"IF(ISBLANK(Datenerfassung!A421),\"\",Datenerfassung!A421)","v":""},{"$f":"IF(ISBLANK(Datenerfassung!B421),\"\",Datenerfassung!B421)","v":""},{"$f":"IF(ISBLANK(Datenerfassung!C421),\"\",Datenerfassung!C421)","v":""},{"$f":"IF(ISBLANK(Datenerfassung!I421),\"\",Datenerfassung!I421)","v":""},{"$f":"IF(ISBLANK(Datenerfassung!J421),\"\",Datenerfassung!J421)","v":""},"",{"$f":"IF(ISBLANK(Datenerfassung!L421),\"\",Datenerfassung!L421)","v":""},{"$f":"IF(ISBLANK(Datenerfassung!F421),\"\",Datenerfassung!F421)","v":""},{"$f":"IF(ISBLANK(Datenerfassung!D421),IF(COUNTBLANK(A411:H411)+COUNTBLANK(J411:O411)=14,\"\",\"- ohne Titel -\"),Datenerfassung!D421)","v":""},{"$f":"IF(ISBLANK(Datenerfassung!E421),\"\",Datenerfassung!E421)","v":""},"",{"$f":"IF(ISBLANK(Datenerfassung!O421),\"\",Datenerfassung!O421)","v":""},{"$f":"IF(ISBLANK(Datenerfassung!G421),\"\",Datenerfassung!G421)","v":""},{"$f":"IF(ISBLANK(Datenerfassung!M421),\"\",Datenerfassung!M421)","v":""},{"$f":"IF(ISBLANK(Datenerfassung!H421),\"\",Datenerfassung!H421)","v":""}]
[{"$f":"IF(ISBLANK(Datenerfassung!A422),\"\",Datenerfassung!A422)","v":""},{"$f":"IF(ISBLANK(Datenerfassung!B422),\"\",Datenerfassung!B422)","v":""},{"$f":"IF(ISBLANK(Datenerfassung!C422),\"\",Datenerfassung!C422)","v":""},{"$f":"IF(ISBLANK(Datenerfassung!I422),\"\",Datenerfassung!I422)","v":""},{"$f":"IF(ISBLANK(Datenerfassung!J422),\"\",Datenerfassung!J422)","v":""},"",{"$f":"IF(ISBLANK(Datenerfassung!L422),\"\",Datenerfassung!L422)","v":""},{"$f":"IF(ISBLANK(Datenerfassung!F422),\"\",Datenerfassung!F422)","v":""},{"$f":"IF(ISBLANK(Datenerfassung!D422),IF(COUNTBLANK(A412:H412)+COUNTBLANK(J412:O412)=14,\"\",\"- ohne Titel -\"),Datenerfassung!D422)","v":""},{"$f":"IF(ISBLANK(Datenerfassung!E422),\"\",Datenerfassung!E422)","v":""},"",{"$f":"IF(ISBLANK(Datenerfassung!O422),\"\",Datenerfassung!O422)","v":""},{"$f":"IF(ISBLANK(Datenerfassung!G422),\"\",Datenerfassung!G422)","v":""},{"$f":"IF(ISBLANK(Datenerfassung!M422),\"\",Datenerfassung!M422)","v":""},{"$f":"IF(ISBLANK(Datenerfassung!H422),\"\",Datenerfassung!H422)","v":""}]
[{"$f":"IF(ISBLANK(Datenerfassung!A423),\"\",Datenerfassung!A423)","v":""},{"$f":"IF(ISBLANK(Datenerfassung!B423),\"\",Datenerfassung!B423)","v":""},{"$f":"IF(ISBLANK(Datenerfassung!C423),\"\",Datenerfassung!C423)","v":""},{"$f":"IF(ISBLANK(Datenerfassung!I423),\"\",Datenerfassung!I423)","v":""},{"$f":"IF(ISBLANK(Datenerfassung!J423),\"\",Datenerfassung!J423)","v":""},"",{"$f":"IF(ISBLANK(Datenerfassung!L423),\"\",Datenerfassung!L423)","v":""},{"$f":"IF(ISBLANK(Datenerfassung!F423),\"\",Datenerfassung!F423)","v":""},{"$f":"IF(ISBLANK(Datenerfassung!D423),IF(COUNTBLANK(A413:H413)+COUNTBLANK(J413:O413)=14,\"\",\"- ohne Titel -\"),Datenerfassung!D423)","v":""},{"$f":"IF(ISBLANK(Datenerfassung!E423),\"\",Datenerfassung!E423)","v":""},"",{"$f":"IF(ISBLANK(Datenerfassung!O423),\"\",Datenerfassung!O423)","v":""},{"$f":"IF(ISBLANK(Datenerfassung!G423),\"\",Datenerfassung!G423)","v":""},{"$f":"IF(ISBLANK(Datenerfassung!M423),\"\",Datenerfassung!M423)","v":""},{"$f":"IF(ISBLANK(Datenerfassung!H423),\"\",Datenerfassung!H423)","v":""}]
[{"$f":"IF(ISBLANK(Datenerfassung!A424),\"\",Datenerfassung!A424)","v":""},{"$f":"IF(ISBLANK(Datenerfassung!B424),\"\",Datenerfassung!B424)","v":""},{"$f":"IF(ISBLANK(Datenerfassung!C424),\"\",Datenerfassung!C424)","v":""},{"$f":"IF(ISBLANK(Datenerfassung!I424),\"\",Datenerfassung!I424)","v":""},{"$f":"IF(ISBLANK(Datenerfassung!J424),\"\",Datenerfassung!J424)","v":""},"",{"$f":"IF(ISBLANK(Datenerfassung!L424),\"\",Datenerfassung!L424)","v":""},{"$f":"IF(ISBLANK(Datenerfassung!F424),\"\",Datenerfassung!F424)","v":""},{"$f":"IF(ISBLANK(Datenerfassung!D424),IF(COUNTBLANK(A414:H414)+COUNTBLANK(J414:O414)=14,\"\",\"- ohne Titel -\"),Datenerfassung!D424)","v":""},{"$f":"IF(ISBLANK(Datenerfassung!E424),\"\",Datenerfassung!E424)","v":""},"",{"$f":"IF(ISBLANK(Datenerfassung!O424),\"\",Datenerfassung!O424)","v":""},{"$f":"IF(ISBLANK(Datenerfassung!G424),\"\",Datenerfassung!G424)","v":""},{"$f":"IF(ISBLANK(Datenerfassung!M424),\"\",Datenerfassung!M424)","v":""},{"$f":"IF(ISBLANK(Datenerfassung!H424),\"\",Datenerfassung!H424)","v":""}]
[{"$f":"IF(ISBLANK(Datenerfassung!A425),\"\",Datenerfassung!A425)","v":""},{"$f":"IF(ISBLANK(Datenerfassung!B425),\"\",Datenerfassung!B425)","v":""},{"$f":"IF(ISBLANK(Datenerfassung!C425),\"\",Datenerfassung!C425)","v":""},{"$f":"IF(ISBLANK(Datenerfassung!I425),\"\",Datenerfassung!I425)","v":""},{"$f":"IF(ISBLANK(Datenerfassung!J425),\"\",Datenerfassung!J425)","v":""},"",{"$f":"IF(ISBLANK(Datenerfassung!L425),\"\",Datenerfassung!L425)","v":""},{"$f":"IF(ISBLANK(Datenerfassung!F425),\"\",Datenerfassung!F425)","v":""},{"$f":"IF(ISBLANK(Datenerfassung!D425),IF(COUNTBLANK(A415:H415)+COUNTBLANK(J415:O415)=14,\"\",\"- ohne Titel -\"),Datenerfassung!D425)","v":""},{"$f":"IF(ISBLANK(Datenerfassung!E425),\"\",Datenerfassung!E425)","v":""},"",{"$f":"IF(ISBLANK(Datenerfassung!O425),\"\",Datenerfassung!O425)","v":""},{"$f":"IF(ISBLANK(Datenerfassung!G425),\"\",Datenerfassung!G425)","v":""},{"$f":"IF(ISBLANK(Datenerfassung!M425),\"\",Datenerfassung!M425)","v":""},{"$f":"IF(ISBLANK(Datenerfassung!H425),\"\",Datenerfassung!H425)","v":""}]
[{"$f":"IF(ISBLANK(Datenerfassung!A426),\"\",Datenerfassung!A426)","v":""},{"$f":"IF(ISBLANK(Datenerfassung!B426),\"\",Datenerfassung!B426)","v":""},{"$f":"IF(ISBLANK(Datenerfassung!C426),\"\",Datenerfassung!C426)","v":""},{"$f":"IF(ISBLANK(Datenerfassung!I426),\"\",Datenerfassung!I426)","v":""},{"$f":"IF(ISBLANK(Datenerfassung!J426),\"\",Datenerfassung!J426)","v":""},"",{"$f":"IF(ISBLANK(Datenerfassung!L426),\"\",Datenerfassung!L426)","v":""},{"$f":"IF(ISBLANK(Datenerfassung!F426),\"\",Datenerfassung!F426)","v":""},{"$f":"IF(ISBLANK(Datenerfassung!D426),IF(COUNTBLANK(A416:H416)+COUNTBLANK(J416:O416)=14,\"\",\"- ohne Titel -\"),Datenerfassung!D426)","v":""},{"$f":"IF(ISBLANK(Datenerfassung!E426),\"\",Datenerfassung!E426)","v":""},"",{"$f":"IF(ISBLANK(Datenerfassung!O426),\"\",Datenerfassung!O426)","v":""},{"$f":"IF(ISBLANK(Datenerfassung!G426),\"\",Datenerfassung!G426)","v":""},{"$f":"IF(ISBLANK(Datenerfassung!M426),\"\",Datenerfassung!M426)","v":""},{"$f":"IF(ISBLANK(Datenerfassung!H426),\"\",Datenerfassung!H426)","v":""}]
[{"$f":"IF(ISBLANK(Datenerfassung!A427),\"\",Datenerfassung!A427)","v":""},{"$f":"IF(ISBLANK(Datenerfassung!B427),\"\",Datenerfassung!B427)","v":""},{"$f":"IF(ISBLANK(Datenerfassung!C427),\"\",Datenerfassung!C427)","v":""},{"$f":"IF(ISBLANK(Datenerfassung!I427),\"\",Datenerfassung!I427)","v":""},{"$f":"IF(ISBLANK(Datenerfassung!J427),\"\",Datenerfassung!J427)","v":""},"",{"$f":"IF(ISBLANK(Datenerfassung!L427),\"\",Datenerfassung!L427)","v":""},{"$f":"IF(ISBLANK(Datenerfassung!F427),\"\",Datenerfassung!F427)","v":""},{"$f":"IF(ISBLANK(Datenerfassung!D427),IF(COUNTBLANK(A417:H417)+COUNTBLANK(J417:O417)=14,\"\",\"- ohne Titel -\"),Datenerfassung!D427)","v":""},{"$f":"IF(ISBLANK(Datenerfassung!E427),\"\",Datenerfassung!E427)","v":""},"",{"$f":"IF(ISBLANK(Datenerfassung!O427),\"\",Datenerfassung!O427)","v":""},{"$f":"IF(ISBLANK(Datenerfassung!G427),\"\",Datenerfassung!G427)","v":""},{"$f":"IF(ISBLANK(Datenerfassung!M427),\"\",Datenerfassung!M427)","v":""},{"$f":"IF(ISBLANK(Datenerfassung!H427),\"\",Datenerfassung!H427)","v":""}]
[{"$f":"IF(ISBLANK(Datenerfassung!A428),\"\",Datenerfassung!A428)","v":""},{"$f":"IF(ISBLANK(Datenerfassung!B428),\"\",Datenerfassung!B428)","v":""},{"$f":"IF(ISBLANK(Datenerfassung!C428),\"\",Datenerfassung!C428)","v":""},{"$f":"IF(ISBLANK(Datenerfassung!I428),\"\",Datenerfassung!I428)","v":""},{"$f":"IF(ISBLANK(Datenerfassung!J428),\"\",Datenerfassung!J428)","v":""},"",{"$f":"IF(ISBLANK(Datenerfassung!L428),\"\",Datenerfassung!L428)","v":""},{"$f":"IF(ISBLANK(Datenerfassung!F428),\"\",Datenerfassung!F428)","v":""},{"$f":"IF(ISBLANK(Datenerfassung!D428),IF(COUNTBLANK(A418:H418)+COUNTBLANK(J418:O418)=14,\"\",\"- ohne Titel -\"),Datenerfassung!D428)","v":""},{"$f":"IF(ISBLANK(Datenerfassung!E428),\"\",Datenerfassung!E428)","v":""},"",{"$f":"IF(ISBLANK(Datenerfassung!O428),\"\",Datenerfassung!O428)","v":""},{"$f":"IF(ISBLANK(Datenerfassung!G428),\"\",Datenerfassung!G428)","v":""},{"$f":"IF(ISBLANK(Datenerfassung!M428),\"\",Datenerfassung!M428)","v":""},{"$f":"IF(ISBLANK(Datenerfassung!H428),\"\",Datenerfassung!H428)","v":""}]
[{"$f":"IF(ISBLANK(Datenerfassung!A429),\"\",Datenerfassung!A429)","v":""},{"$f":"IF(ISBLANK(Datenerfassung!B429),\"\",Datenerfassung!B429)","v":""},{"$f":"IF(ISBLANK(Datenerfassung!C429),\"\",Datenerfassung!C429)","v":""},{"$f":"IF(ISBLANK(Datenerfassung!I429),\"\",Datenerfassung!I429)","v":""},{"$f":"IF(ISBLANK(Datenerfassung!J429),\"\",Datenerfassung!J429)","v":""},"",{"$f":"IF(ISBLANK(Datenerfassung!L429),\"\",Datenerfassung!L429)","v":""},{"$f":"IF(ISBLANK(Datenerfassung!F429),\"\",Datenerfassung!F429)","v":""},{"$f":"IF(ISBLANK(Datenerfassung!D429),IF(COUNTBLANK(A419:H419)+COUNTBLANK(J419:O419)=14,\"\",\"- ohne Titel -\"),Datenerfassung!D429)","v":""},{"$f":"IF(ISBLANK(Datenerfassung!E429),\"\",Datenerfassung!E429)","v":""},"",{"$f":"IF(ISBLANK(Datenerfassung!O429),\"\",Datenerfassung!O429)","v":""},{"$f":"IF(ISBLANK(Datenerfassung!G429),\"\",Datenerfassung!G429)","v":""},{"$f":"IF(ISBLANK(Datenerfassung!M429),\"\",Datenerfassung!M429)","v":""},{"$f":"IF(ISBLANK(Datenerfassung!H429),\"\",Datenerfassung!H429)","v":""}]
[{"$f":"IF(ISBLANK(Datenerfassung!A430),\"\",Datenerfassung!A430)","v":""},{"$f":"IF(ISBLANK(Datenerfassung!B430),\"\",Datenerfassung!B430)","v":""},{"$f":"IF(ISBLANK(Datenerfassung!C430),\"\",Datenerfassung!C430)","v":""},{"$f":"IF(ISBLANK(Datenerfassung!I430),\"\",Datenerfassung!I430)","v":""},{"$f":"IF(ISBLANK(Datenerfassung!J430),\"\",Datenerfassung!J430)","v":""},"",{"$f":"IF(ISBLANK(Datenerfassung!L430),\"\",Datenerfassung!L430)","v":""},{"$f":"IF(ISBLANK(Datenerfassung!F430),\"\",Datenerfassung!F430)","v":""},{"$f":"IF(ISBLANK(Datenerfassung!D430),IF(COUNTBLANK(A420:H420)+COUNTBLANK(J420:O420)=14,\"\",\"- ohne Titel -\"),Datenerfassung!D430)","v":""},{"$f":"IF(ISBLANK(Datenerfassung!E430),\"\",Datenerfassung!E430)","v":""},"",{"$f":"IF(ISBLANK(Datenerfassung!O430),\"\",Datenerfassung!O430)","v":""},{"$f":"IF(ISBLANK(Datenerfassung!G430),\"\",Datenerfassung!G430)","v":""},{"$f":"IF(ISBLANK(Datenerfassung!M430),\"\",Datenerfassung!M430)","v":""},{"$f":"IF(ISBLANK(Datenerfassung!H430),\"\",Datenerfassung!H430)","v":""}]
[{"$f":"IF(ISBLANK(Datenerfassung!A431),\"\",Datenerfassung!A431)","v":""},{"$f":"IF(ISBLANK(Datenerfassung!B431),\"\",Datenerfassung!B431)","v":""},{"$f":"IF(ISBLANK(Datenerfassung!C431),\"\",Datenerfassung!C431)","v":""},{"$f":"IF(ISBLANK(Datenerfassung!I431),\"\",Datenerfassung!I431)","v":""},{"$f":"IF(ISBLANK(Datenerfassung!J431),\"\",Datenerfassung!J431)","v":""},"",{"$f":"IF(ISBLANK(Datenerfassung!L431),\"\",Datenerfassung!L431)","v":""},{"$f":"IF(ISBLANK(Datenerfassung!F431),\"\",Datenerfassung!F431)","v":""},{"$f":"IF(ISBLANK(Datenerfassung!D431),IF(COUNTBLANK(A421:H421)+COUNTBLANK(J421:O421)=14,\"\",\"- ohne Titel -\"),Datenerfassung!D431)","v":""},{"$f":"IF(ISBLANK(Datenerfassung!E431),\"\",Datenerfassung!E431)","v":""},"",{"$f":"IF(ISBLANK(Datenerfassung!O431),\"\",Datenerfassung!O431)","v":""},{"$f":"IF(ISBLANK(Datenerfassung!G431),\"\",Datenerfassung!G431)","v":""},{"$f":"IF(ISBLANK(Datenerfassung!M431),\"\",Datenerfassung!M431)","v":""},{"$f":"IF(ISBLANK(Datenerfassung!H431),\"\",Datenerfassung!H431)","v":""}]
[{"$f":"IF(ISBLANK(Datenerfassung!A432),\"\",Datenerfassung!A432)","v":""},{"$f":"IF(ISBLANK(Datenerfassung!B432),\"\",Datenerfassung!B432)","v":""},{"$f":"IF(ISBLANK(Datenerfassung!C432),\"\",Datenerfassung!C432)","v":""},{"$f":"IF(ISBLANK(Datenerfassung!I432),\"\",Datenerfassung!I432)","v":""},{"$f":"IF(ISBLANK(Datenerfassung!J432),\"\",Datenerfassung!J432)","v":""},"",{"$f":"IF(ISBLANK(Datenerfassung!L432),\"\",Datenerfassung!L432)","v":""},{"$f":"IF(ISBLANK(Datenerfassung!F432),\"\",Datenerfassung!F432)","v":""},{"$f":"IF(ISBLANK(Datenerfassung!D432),IF(COUNTBLANK(A422:H422)+COUNTBLANK(J422:O422)=14,\"\",\"- ohne Titel -\"),Datenerfassung!D432)","v":""},{"$f":"IF(ISBLANK(Datenerfassung!E432),\"\",Datenerfassung!E432)","v":""},"",{"$f":"IF(ISBLANK(Datenerfassung!O432),\"\",Datenerfassung!O432)","v":""},{"$f":"IF(ISBLANK(Datenerfassung!G432),\"\",Datenerfassung!G432)","v":""},{"$f":"IF(ISBLANK(Datenerfassung!M432),\"\",Datenerfassung!M432)","v":""},{"$f":"IF(ISBLANK(Datenerfassung!H432),\"\",Datenerfassung!H432)","v":""}]
[{"$f":"IF(ISBLANK(Datenerfassung!A433),\"\",Datenerfassung!A433)","v":""},{"$f":"IF(ISBLANK(Datenerfassung!B433),\"\",Datenerfassung!B433)","v":""},{"$f":"IF(ISBLANK(Datenerfassung!C433),\"\",Datenerfassung!C433)","v":""},{"$f":"IF(ISBLANK(Datenerfassung!I433),\"\",Datenerfassung!I433)","v":""},{"$f":"IF(ISBLANK(Datenerfassung!J433),\"\",Datenerfassung!J433)","v":""},"",{"$f":"IF(ISBLANK(Datenerfassung!L433),\"\",Datenerfassung!L433)","v":""},{"$f":"IF(ISBLANK(Datenerfassung!F433),\"\",Datenerfassung!F433)","v":""},{"$f":"IF(ISBLANK(Datenerfassung!D433),IF(COUNTBLANK(A423:H423)+COUNTBLANK(J423:O423)=14,\"\",\"- ohne Titel -\"),Datenerfassung!D433)","v":""},{"$f":"IF(ISBLANK(Datenerfassung!E433),\"\",Datenerfassung!E433)","v":""},"",{"$f":"IF(ISBLANK(Datenerfassung!O433),\"\",Datenerfassung!O433)","v":""},{"$f":"IF(ISBLANK(Datenerfassung!G433),\"\",Datenerfassung!G433)","v":""},{"$f":"IF(ISBLANK(Datenerfassung!M433),\"\",Datenerfassung!M433)","v":""},{"$f":"IF(ISBLANK(Datenerfassung!H433),\"\",Datenerfassung!H433)","v":""}]
[{"$f":"IF(ISBLANK(Datenerfassung!A434),\"\",Datenerfassung!A434)","v":""},{"$f":"IF(ISBLANK(Datenerfassung!B434),\"\",Datenerfassung!B434)","v":""},{"$f":"IF(ISBLANK(Datenerfassung!C434),\"\",Datenerfassung!C434)","v":""},{"$f":"IF(ISBLANK(Datenerfassung!I434),\"\",Datenerfassung!I434)","v":""},{"$f":"IF(ISBLANK(Datenerfassung!J434),\"\",Datenerfassung!J434)","v":""},"",{"$f":"IF(ISBLANK(Datenerfassung!L434),\"\",Datenerfassung!L434)","v":""},{"$f":"IF(ISBLANK(Datenerfassung!F434),\"\",Datenerfassung!F434)","v":""},{"$f":"IF(ISBLANK(Datenerfassung!D434),IF(COUNTBLANK(A424:H424)+COUNTBLANK(J424:O424)=14,\"\",\"- ohne Titel -\"),Datenerfassung!D434)","v":""},{"$f":"IF(ISBLANK(Datenerfassung!E434),\"\",Datenerfassung!E434)","v":""},"",{"$f":"IF(ISBLANK(Datenerfassung!O434),\"\",Datenerfassung!O434)","v":""},{"$f":"IF(ISBLANK(Datenerfassung!G434),\"\",Datenerfassung!G434)","v":""},{"$f":"IF(ISBLANK(Datenerfassung!M434),\"\",Datenerfassung!M434)","v":""},{"$f":"IF(ISBLANK(Datenerfassung!H434),\"\",Datenerfassung!H434)","v":""}]
[{"$f":"IF(ISBLANK(Datenerfassung!A435),\"\",Datenerfassung!A435)","v":""},{"$f":"IF(ISBLANK(Datenerfassung!B435),\"\",Datenerfassung!B435)","v":""},{"$f":"IF(ISBLANK(Datenerfassung!C435),\"\",Datenerfassung!C435)","v":""},{"$f":"IF(ISBLANK(Datenerfassung!I435),\"\",Datenerfassung!I435)","v":""},{"$f":"IF(ISBLANK(Datenerfassung!J435),\"\",Datenerfassung!J435)","v":""},"",{"$f":"IF(ISBLANK(Datenerfassung!L435),\"\",Datenerfassung!L435)","v":""},{"$f":"IF(ISBLANK(Datenerfassung!F435),\"\",Datenerfassung!F435)","v":""},{"$f":"IF(ISBLANK(Datenerfassung!D435),IF(COUNTBLANK(A425:H425)+COUNTBLANK(J425:O425)=14,\"\",\"- ohne Titel -\"),Datenerfassung!D435)","v":""},{"$f":"IF(ISBLANK(Datenerfassung!E435),\"\",Datenerfassung!E435)","v":""},"",{"$f":"IF(ISBLANK(Datenerfassung!O435),\"\",Datenerfassung!O435)","v":""},{"$f":"IF(ISBLANK(Datenerfassung!G435),\"\",Datenerfassung!G435)","v":""},{"$f":"IF(ISBLANK(Datenerfassung!M435),\"\",Datenerfassung!M435)","v":""},{"$f":"IF(ISBLANK(Datenerfassung!H435),\"\",Datenerfassung!H435)","v":""}]
[{"$f":"IF(ISBLANK(Datenerfassung!A436),\"\",Datenerfassung!A436)","v":""},{"$f":"IF(ISBLANK(Datenerfassung!B436),\"\",Datenerfassung!B436)","v":""},{"$f":"IF(ISBLANK(Datenerfassung!C436),\"\",Datenerfassung!C436)","v":""},{"$f":"IF(ISBLANK(Datenerfassung!I436),\"\",Datenerfassung!I436)","v":""},{"$f":"IF(ISBLANK(Datenerfassung!J436),\"\",Datenerfassung!J436)","v":""},"",{"$f":"IF(ISBLANK(Datenerfassung!L436),\"\",Datenerfassung!L436)","v":""},{"$f":"IF(ISBLANK(Datenerfassung!F436),\"\",Datenerfassung!F436)","v":""},{"$f":"IF(ISBLANK(Datenerfassung!D436),IF(COUNTBLANK(A426:H426)+COUNTBLANK(J426:O426)=14,\"\",\"- ohne Titel -\"),Datenerfassung!D436)","v":""},{"$f":"IF(ISBLANK(Datenerfassung!E436),\"\",Datenerfassung!E436)","v":""},"",{"$f":"IF(ISBLANK(Datenerfassung!O436),\"\",Datenerfassung!O436)","v":""},{"$f":"IF(ISBLANK(Datenerfassung!G436),\"\",Datenerfassung!G436)","v":""},{"$f":"IF(ISBLANK(Datenerfassung!M436),\"\",Datenerfassung!M436)","v":""},{"$f":"IF(ISBLANK(Datenerfassung!H436),\"\",Datenerfassung!H436)","v":""}]
[{"$f":"IF(ISBLANK(Datenerfassung!A437),\"\",Datenerfassung!A437)","v":""},{"$f":"IF(ISBLANK(Datenerfassung!B437),\"\",Datenerfassung!B437)","v":""},{"$f":"IF(ISBLANK(Datenerfassung!C437),\"\",Datenerfassung!C437)","v":""},{"$f":"IF(ISBLANK(Datenerfassung!I437),\"\",Datenerfassung!I437)","v":""},{"$f":"IF(ISBLANK(Datenerfassung!J437),\"\",Datenerfassung!J437)","v":""},"",{"$f":"IF(ISBLANK(Datenerfassung!L437),\"\",Datenerfassung!L437)","v":""},{"$f":"IF(ISBLANK(Datenerfassung!F437),\"\",Datenerfassung!F437)","v":""},{"$f":"IF(ISBLANK(Datenerfassung!D437),IF(COUNTBLANK(A427:H427)+COUNTBLANK(J427:O427)=14,\"\",\"- ohne Titel -\"),Datenerfassung!D437)","v":""},{"$f":"IF(ISBLANK(Datenerfassung!E437),\"\",Datenerfassung!E437)","v":""},"",{"$f":"IF(ISBLANK(Datenerfassung!O437),\"\",Datenerfassung!O437)","v":""},{"$f":"IF(ISBLANK(Datenerfassung!G437),\"\",Datenerfassung!G437)","v":""},{"$f":"IF(ISBLANK(Datenerfassung!M437),\"\",Datenerfassung!M437)","v":""},{"$f":"IF(ISBLANK(Datenerfassung!H437),\"\",Datenerfassung!H437)","v":""}]
[{"$f":"IF(ISBLANK(Datenerfassung!A438),\"\",Datenerfassung!A438)","v":""},{"$f":"IF(ISBLANK(Datenerfassung!B438),\"\",Datenerfassung!B438)","v":""},{"$f":"IF(ISBLANK(Datenerfassung!C438),\"\",Datenerfassung!C438)","v":""},{"$f":"IF(ISBLANK(Datenerfassung!I438),\"\",Datenerfassung!I438)","v":""},{"$f":"IF(ISBLANK(Datenerfassung!J438),\"\",Datenerfassung!J438)","v":""},"",{"$f":"IF(ISBLANK(Datenerfassung!L438),\"\",Datenerfassung!L438)","v":""},{"$f":"IF(ISBLANK(Datenerfassung!F438),\"\",Datenerfassung!F438)","v":""},{"$f":"IF(ISBLANK(Datenerfassung!D438),IF(COUNTBLANK(A428:H428)+COUNTBLANK(J428:O428)=14,\"\",\"- ohne Titel -\"),Datenerfassung!D438)","v":""},{"$f":"IF(ISBLANK(Datenerfassung!E438),\"\",Datenerfassung!E438)","v":""},"",{"$f":"IF(ISBLANK(Datenerfassung!O438),\"\",Datenerfassung!O438)","v":""},{"$f":"IF(ISBLANK(Datenerfassung!G438),\"\",Datenerfassung!G438)","v":""},{"$f":"IF(ISBLANK(Datenerfassung!M438),\"\",Datenerfassung!M438)","v":""},{"$f":"IF(ISBLANK(Datenerfassung!H438),\"\",Datenerfassung!H438)","v":""}]
[{"$f":"IF(ISBLANK(Datenerfassung!A439),\"\",Datenerfassung!A439)","v":""},{"$f":"IF(ISBLANK(Datenerfassung!B439),\"\",Datenerfassung!B439)","v":""},{"$f":"IF(ISBLANK(Datenerfassung!C439),\"\",Datenerfassung!C439)","v":""},{"$f":"IF(ISBLANK(Datenerfassung!I439),\"\",Datenerfassung!I439)","v":""},{"$f":"IF(ISBLANK(Datenerfassung!J439),\"\",Datenerfassung!J439)","v":""},"",{"$f":"IF(ISBLANK(Datenerfassung!L439),\"\",Datenerfassung!L439)","v":""},{"$f":"IF(ISBLANK(Datenerfassung!F439),\"\",Datenerfassung!F439)","v":""},{"$f":"IF(ISBLANK(Datenerfassung!D439),IF(COUNTBLANK(A429:H429)+COUNTBLANK(J429:O429)=14,\"\",\"- ohne Titel -\"),Datenerfassung!D439)","v":""},{"$f":"IF(ISBLANK(Datenerfassung!E439),\"\",Datenerfassung!E439)","v":""},"",{"$f":"IF(ISBLANK(Datenerfassung!O439),\"\",Datenerfassung!O439)","v":""},{"$f":"IF(ISBLANK(Datenerfassung!G439),\"\",Datenerfassung!G439)","v":""},{"$f":"IF(ISBLANK(Datenerfassung!M439),\"\",Datenerfassung!M439)","v":""},{"$f":"IF(ISBLANK(Datenerfassung!H439),\"\",Datenerfassung!H439)","v":""}]
[{"$f":"IF(ISBLANK(Datenerfassung!A440),\"\",Datenerfassung!A440)","v":""},{"$f":"IF(ISBLANK(Datenerfassung!B440),\"\",Datenerfassung!B440)","v":""},{"$f":"IF(ISBLANK(Datenerfassung!C440),\"\",Datenerfassung!C440)","v":""},{"$f":"IF(ISBLANK(Datenerfassung!I440),\"\",Datenerfassung!I440)","v":""},{"$f":"IF(ISBLANK(Datenerfassung!J440),\"\",Datenerfassung!J440)","v":""},"",{"$f":"IF(ISBLANK(Datenerfassung!L440),\"\",Datenerfassung!L440)","v":""},{"$f":"IF(ISBLANK(Datenerfassung!F440),\"\",Datenerfassung!F440)","v":""},{"$f":"IF(ISBLANK(Datenerfassung!D440),IF(COUNTBLANK(A430:H430)+COUNTBLANK(J430:O430)=14,\"\",\"- ohne Titel -\"),Datenerfassung!D440)","v":""},{"$f":"IF(ISBLANK(Datenerfassung!E440),\"\",Datenerfassung!E440)","v":""},"",{"$f":"IF(ISBLANK(Datenerfassung!O440),\"\",Datenerfassung!O440)","v":""},{"$f":"IF(ISBLANK(Datenerfassung!G440),\"\",Datenerfassung!G440)","v":""},{"$f":"IF(ISBLANK(Datenerfassung!M440),\"\",Datenerfassung!M440)","v":""},{"$f":"IF(ISBLANK(Datenerfassung!H440),\"\",Datenerfassung!H440)","v":""}]
[{"$f":"IF(ISBLANK(Datenerfassung!A441),\"\",Datenerfassung!A441)","v":""},{"$f":"IF(ISBLANK(Datenerfassung!B441),\"\",Datenerfassung!B441)","v":""},{"$f":"IF(ISBLANK(Datenerfassung!C441),\"\",Datenerfassung!C441)","v":""},{"$f":"IF(ISBLANK(Datenerfassung!I441),\"\",Datenerfassung!I441)","v":""},{"$f":"IF(ISBLANK(Datenerfassung!J441),\"\",Datenerfassung!J441)","v":""},"",{"$f":"IF(ISBLANK(Datenerfassung!L441),\"\",Datenerfassung!L441)","v":""},{"$f":"IF(ISBLANK(Datenerfassung!F441),\"\",Datenerfassung!F441)","v":""},{"$f":"IF(ISBLANK(Datenerfassung!D441),IF(COUNTBLANK(A431:H431)+COUNTBLANK(J431:O431)=14,\"\",\"- ohne Titel -\"),Datenerfassung!D441)","v":""},{"$f":"IF(ISBLANK(Datenerfassung!E441),\"\",Datenerfassung!E441)","v":""},"",{"$f":"IF(ISBLANK(Datenerfassung!O441),\"\",Datenerfassung!O441)","v":""},{"$f":"IF(ISBLANK(Datenerfassung!G441),\"\",Datenerfassung!G441)","v":""},{"$f":"IF(ISBLANK(Datenerfassung!M441),\"\",Datenerfassung!M441)","v":""},{"$f":"IF(ISBLANK(Datenerfassung!H441),\"\",Datenerfassung!H441)","v":""}]
[{"$f":"IF(ISBLANK(Datenerfassung!A442),\"\",Datenerfassung!A442)","v":""},{"$f":"IF(ISBLANK(Datenerfassung!B442),\"\",Datenerfassung!B442)","v":""},{"$f":"IF(ISBLANK(Datenerfassung!C442),\"\",Datenerfassung!C442)","v":""},{"$f":"IF(ISBLANK(Datenerfassung!I442),\"\",Datenerfassung!I442)","v":""},{"$f":"IF(ISBLANK(Datenerfassung!J442),\"\",Datenerfassung!J442)","v":""},"",{"$f":"IF(ISBLANK(Datenerfassung!L442),\"\",Datenerfassung!L442)","v":""},{"$f":"IF(ISBLANK(Datenerfassung!F442),\"\",Datenerfassung!F442)","v":""},{"$f":"IF(ISBLANK(Datenerfassung!D442),IF(COUNTBLANK(A432:H432)+COUNTBLANK(J432:O432)=14,\"\",\"- ohne Titel -\"),Datenerfassung!D442)","v":""},{"$f":"IF(ISBLANK(Datenerfassung!E442),\"\",Datenerfassung!E442)","v":""},"",{"$f":"IF(ISBLANK(Datenerfassung!O442),\"\",Datenerfassung!O442)","v":""},{"$f":"IF(ISBLANK(Datenerfassung!G442),\"\",Datenerfassung!G442)","v":""},{"$f":"IF(ISBLANK(Datenerfassung!M442),\"\",Datenerfassung!M442)","v":""},{"$f":"IF(ISBLANK(Datenerfassung!H442),\"\",Datenerfassung!H442)","v":""}]
[{"$f":"IF(ISBLANK(Datenerfassung!A443),\"\",Datenerfassung!A443)","v":""},{"$f":"IF(ISBLANK(Datenerfassung!B443),\"\",Datenerfassung!B443)","v":""},{"$f":"IF(ISBLANK(Datenerfassung!C443),\"\",Datenerfassung!C443)","v":""},{"$f":"IF(ISBLANK(Datenerfassung!I443),\"\",Datenerfassung!I443)","v":""},{"$f":"IF(ISBLANK(Datenerfassung!J443),\"\",Datenerfassung!J443)","v":""},"",{"$f":"IF(ISBLANK(Datenerfassung!L443),\"\",Datenerfassung!L443)","v":""},{"$f":"IF(ISBLANK(Datenerfassung!F443),\"\",Datenerfassung!F443)","v":""},{"$f":"IF(ISBLANK(Datenerfassung!D443),IF(COUNTBLANK(A433:H433)+COUNTBLANK(J433:O433)=14,\"\",\"- ohne Titel -\"),Datenerfassung!D443)","v":""},{"$f":"IF(ISBLANK(Datenerfassung!E443),\"\",Datenerfassung!E443)","v":""},"",{"$f":"IF(ISBLANK(Datenerfassung!O443),\"\",Datenerfassung!O443)","v":""},{"$f":"IF(ISBLANK(Datenerfassung!G443),\"\",Datenerfassung!G443)","v":""},{"$f":"IF(ISBLANK(Datenerfassung!M443),\"\",Datenerfassung!M443)","v":""},{"$f":"IF(ISBLANK(Datenerfassung!H443),\"\",Datenerfassung!H443)","v":""}]
[{"$f":"IF(ISBLANK(Datenerfassung!A444),\"\",Datenerfassung!A444)","v":""},{"$f":"IF(ISBLANK(Datenerfassung!B444),\"\",Datenerfassung!B444)","v":""},{"$f":"IF(ISBLANK(Datenerfassung!C444),\"\",Datenerfassung!C444)","v":""},{"$f":"IF(ISBLANK(Datenerfassung!I444),\"\",Datenerfassung!I444)","v":""},{"$f":"IF(ISBLANK(Datenerfassung!J444),\"\",Datenerfassung!J444)","v":""},"",{"$f":"IF(ISBLANK(Datenerfassung!L444),\"\",Datenerfassung!L444)","v":""},{"$f":"IF(ISBLANK(Datenerfassung!F444),\"\",Datenerfassung!F444)","v":""},{"$f":"IF(ISBLANK(Datenerfassung!D444),IF(COUNTBLANK(A434:H434)+COUNTBLANK(J434:O434)=14,\"\",\"- ohne Titel -\"),Datenerfassung!D444)","v":""},{"$f":"IF(ISBLANK(Datenerfassung!E444),\"\",Datenerfassung!E444)","v":""},"",{"$f":"IF(ISBLANK(Datenerfassung!O444),\"\",Datenerfassung!O444)","v":""},{"$f":"IF(ISBLANK(Datenerfassung!G444),\"\",Datenerfassung!G444)","v":""},{"$f":"IF(ISBLANK(Datenerfassung!M444),\"\",Datenerfassung!M444)","v":""},{"$f":"IF(ISBLANK(Datenerfassung!H444),\"\",Datenerfassung!H444)","v":""}]
[{"$f":"IF(ISBLANK(Datenerfassung!A445),\"\",Datenerfassung!A445)","v":""},{"$f":"IF(ISBLANK(Datenerfassung!B445),\"\",Datenerfassung!B445)","v":""},{"$f":"IF(ISBLANK(Datenerfassung!C445),\"\",Datenerfassung!C445)","v":""},{"$f":"IF(ISBLANK(Datenerfassung!I445),\"\",Datenerfassung!I445)","v":""},{"$f":"IF(ISBLANK(Datenerfassung!J445),\"\",Datenerfassung!J445)","v":""},"",{"$f":"IF(ISBLANK(Datenerfassung!L445),\"\",Datenerfassung!L445)","v":""},{"$f":"IF(ISBLANK(Datenerfassung!F445),\"\",Datenerfassung!F445)","v":""},{"$f":"IF(ISBLANK(Datenerfassung!D445),IF(COUNTBLANK(A435:H435)+COUNTBLANK(J435:O435)=14,\"\",\"- ohne Titel -\"),Datenerfassung!D445)","v":""},{"$f":"IF(ISBLANK(Datenerfassung!E445),\"\",Datenerfassung!E445)","v":""},"",{"$f":"IF(ISBLANK(Datenerfassung!O445),\"\",Datenerfassung!O445)","v":""},{"$f":"IF(ISBLANK(Datenerfassung!G445),\"\",Datenerfassung!G445)","v":""},{"$f":"IF(ISBLANK(Datenerfassung!M445),\"\",Datenerfassung!M445)","v":""},{"$f":"IF(ISBLANK(Datenerfassung!H445),\"\",Datenerfassung!H445)","v":""}]
[{"$f":"IF(ISBLANK(Datenerfassung!A446),\"\",Datenerfassung!A446)","v":""},{"$f":"IF(ISBLANK(Datenerfassung!B446),\"\",Datenerfassung!B446)","v":""},{"$f":"IF(ISBLANK(Datenerfassung!C446),\"\",Datenerfassung!C446)","v":""},{"$f":"IF(ISBLANK(Datenerfassung!I446),\"\",Datenerfassung!I446)","v":""},{"$f":"IF(ISBLANK(Datenerfassung!J446),\"\",Datenerfassung!J446)","v":""},"",{"$f":"IF(ISBLANK(Datenerfassung!L446),\"\",Datenerfassung!L446)","v":""},{"$f":"IF(ISBLANK(Datenerfassung!F446),\"\",Datenerfassung!F446)","v":""},{"$f":"IF(ISBLANK(Datenerfassung!D446),IF(COUNTBLANK(A436:H436)+COUNTBLANK(J436:O436)=14,\"\",\"- ohne Titel -\"),Datenerfassung!D446)","v":""},{"$f":"IF(ISBLANK(Datenerfassung!E446),\"\",Datenerfassung!E446)","v":""},"",{"$f":"IF(ISBLANK(Datenerfassung!O446),\"\",Datenerfassung!O446)","v":""},{"$f":"IF(ISBLANK(Datenerfassung!G446),\"\",Datenerfassung!G446)","v":""},{"$f":"IF(ISBLANK(Datenerfassung!M446),\"\",Datenerfassung!M446)","v":""},{"$f":"IF(ISBLANK(Datenerfassung!H446),\"\",Datenerfassung!H446)","v":""}]
[{"$f":"IF(ISBLANK(Datenerfassung!A447),\"\",Datenerfassung!A447)","v":""},{"$f":"IF(ISBLANK(Datenerfassung!B447),\"\",Datenerfassung!B447)","v":""},{"$f":"IF(ISBLANK(Datenerfassung!C447),\"\",Datenerfassung!C447)","v":""},{"$f":"IF(ISBLANK(Datenerfassung!I447),\"\",Datenerfassung!I447)","v":""},{"$f":"IF(ISBLANK(Datenerfassung!J447),\"\",Datenerfassung!J447)","v":""},"",{"$f":"IF(ISBLANK(Datenerfassung!L447),\"\",Datenerfassung!L447)","v":""},{"$f":"IF(ISBLANK(Datenerfassung!F447),\"\",Datenerfassung!F447)","v":""},{"$f":"IF(ISBLANK(Datenerfassung!D447),IF(COUNTBLANK(A437:H437)+COUNTBLANK(J437:O437)=14,\"\",\"- ohne Titel -\"),Datenerfassung!D447)","v":""},{"$f":"IF(ISBLANK(Datenerfassung!E447),\"\",Datenerfassung!E447)","v":""},"",{"$f":"IF(ISBLANK(Datenerfassung!O447),\"\",Datenerfassung!O447)","v":""},{"$f":"IF(ISBLANK(Datenerfassung!G447),\"\",Datenerfassung!G447)","v":""},{"$f":"IF(ISBLANK(Datenerfassung!M447),\"\",Datenerfassung!M447)","v":""},{"$f":"IF(ISBLANK(Datenerfassung!H447),\"\",Datenerfassung!H447)","v":""}]
[{"$f":"IF(ISBLANK(Datenerfassung!A448),\"\",Datenerfassung!A448)","v":""},{"$f":"IF(ISBLANK(Datenerfassung!B448),\"\",Datenerfassung!B448)","v":""},{"$f":"IF(ISBLANK(Datenerfassung!C448),\"\",Datenerfassung!C448)","v":""},{"$f":"IF(ISBLANK(Datenerfassung!I448),\"\",Datenerfassung!I448)","v":""},{"$f":"IF(ISBLANK(Datenerfassung!J448),\"\",Datenerfassung!J448)","v":""},"",{"$f":"IF(ISBLANK(Datenerfassung!L448),\"\",Datenerfassung!L448)","v":""},{"$f":"IF(ISBLANK(Datenerfassung!F448),\"\",Datenerfassung!F448)","v":""},{"$f":"IF(ISBLANK(Datenerfassung!D448),IF(COUNTBLANK(A438:H438)+COUNTBLANK(J438:O438)=14,\"\",\"- ohne Titel -\"),Datenerfassung!D448)","v":""},{"$f":"IF(ISBLANK(Datenerfassung!E448),\"\",Datenerfassung!E448)","v":""},"",{"$f":"IF(ISBLANK(Datenerfassung!O448),\"\",Datenerfassung!O448)","v":""},{"$f":"IF(ISBLANK(Datenerfassung!G448),\"\",Datenerfassung!G448)","v":""},{"$f":"IF(ISBLANK(Datenerfassung!M448),\"\",Datenerfassung!M448)","v":""},{"$f":"IF(ISBLANK(Datenerfassung!H448),\"\",Datenerfassung!H448)","v":""}]
[{"$f":"IF(ISBLANK(Datenerfassung!A449),\"\",Datenerfassung!A449)","v":""},{"$f":"IF(ISBLANK(Datenerfassung!B449),\"\",Datenerfassung!B449)","v":""},{"$f":"IF(ISBLANK(Datenerfassung!C449),\"\",Datenerfassung!C449)","v":""},{"$f":"IF(ISBLANK(Datenerfassung!I449),\"\",Datenerfassung!I449)","v":""},{"$f":"IF(ISBLANK(Datenerfassung!J449),\"\",Datenerfassung!J449)","v":""},"",{"$f":"IF(ISBLANK(Datenerfassung!L449),\"\",Datenerfassung!L449)","v":""},{"$f":"IF(ISBLANK(Datenerfassung!F449),\"\",Datenerfassung!F449)","v":""},{"$f":"IF(ISBLANK(Datenerfassung!D449),IF(COUNTBLANK(A439:H439)+COUNTBLANK(J439:O439)=14,\"\",\"- ohne Titel -\"),Datenerfassung!D449)","v":""},{"$f":"IF(ISBLANK(Datenerfassung!E449),\"\",Datenerfassung!E449)","v":""},"",{"$f":"IF(ISBLANK(Datenerfassung!O449),\"\",Datenerfassung!O449)","v":""},{"$f":"IF(ISBLANK(Datenerfassung!G449),\"\",Datenerfassung!G449)","v":""},{"$f":"IF(ISBLANK(Datenerfassung!M449),\"\",Datenerfassung!M449)","v":""},{"$f":"IF(ISBLANK(Datenerfassung!H449),\"\",Datenerfassung!H449)","v":""}]
[{"$f":"IF(ISBLANK(Datenerfassung!A450),\"\",Datenerfassung!A450)","v":""},{"$f":"IF(ISBLANK(Datenerfassung!B450),\"\",Datenerfassung!B450)","v":""},{"$f":"IF(ISBLANK(Datenerfassung!C450),\"\",Datenerfassung!C450)","v":""},{"$f":"IF(ISBLANK(Datenerfassung!I450),\"\",Datenerfassung!I450)","v":""},{"$f":"IF(ISBLANK(Datenerfassung!J450),\"\",Datenerfassung!J450)","v":""},"",{"$f":"IF(ISBLANK(Datenerfassung!L450),\"\",Datenerfassung!L450)","v":""},{"$f":"IF(ISBLANK(Datenerfassung!F450),\"\",Datenerfassung!F450)","v":""},{"$f":"IF(ISBLANK(Datenerfassung!D450),IF(COUNTBLANK(A440:H440)+COUNTBLANK(J440:O440)=14,\"\",\"- ohne Titel -\"),Datenerfassung!D450)","v":""},{"$f":"IF(ISBLANK(Datenerfassung!E450),\"\",Datenerfassung!E450)","v":""},"",{"$f":"IF(ISBLANK(Datenerfassung!O450),\"\",Datenerfassung!O450)","v":""},{"$f":"IF(ISBLANK(Datenerfassung!G450),\"\",Datenerfassung!G450)","v":""},{"$f":"IF(ISBLANK(Datenerfassung!M450),\"\",Datenerfassung!M450)","v":""},{"$f":"IF(ISBLANK(Datenerfassung!H450),\"\",Datenerfassung!H450)","v":""}]
[{"$f":"IF(ISBLANK(Datenerfassung!A451),\"\",Datenerfassung!A451)","v":""},{"$f":"IF(ISBLANK(Datenerfassung!B451),\"\",Datenerfassung!B451)","v":""},{"$f":"IF(ISBLANK(Datenerfassung!C451),\"\",Datenerfassung!C451)","v":""},{"$f":"IF(ISBLANK(Datenerfassung!I451),\"\",Datenerfassung!I451)","v":""},{"$f":"IF(ISBLANK(Datenerfassung!J451),\"\",Datenerfassung!J451)","v":""},"",{"$f":"IF(ISBLANK(Datenerfassung!L451),\"\",Datenerfassung!L451)","v":""},{"$f":"IF(ISBLANK(Datenerfassung!F451),\"\",Datenerfassung!F451)","v":""},{"$f":"IF(ISBLANK(Datenerfassung!D451),IF(COUNTBLANK(A441:H441)+COUNTBLANK(J441:O441)=14,\"\",\"- ohne Titel -\"),Datenerfassung!D451)","v":""},{"$f":"IF(ISBLANK(Datenerfassung!E451),\"\",Datenerfassung!E451)","v":""},"",{"$f":"IF(ISBLANK(Datenerfassung!O451),\"\",Datenerfassung!O451)","v":""},{"$f":"IF(ISBLANK(Datenerfassung!G451),\"\",Datenerfassung!G451)","v":""},{"$f":"IF(ISBLANK(Datenerfassung!M451),\"\",Datenerfassung!M451)","v":""},{"$f":"IF(ISBLANK(Datenerfassung!H451),\"\",Datenerfassung!H451)","v":""}]
[{"$f":"IF(ISBLANK(Datenerfassung!A452),\"\",Datenerfassung!A452)","v":""},{"$f":"IF(ISBLANK(Datenerfassung!B452),\"\",Datenerfassung!B452)","v":""},{"$f":"IF(ISBLANK(Datenerfassung!C452),\"\",Datenerfassung!C452)","v":""},{"$f":"IF(ISBLANK(Datenerfassung!I452),\"\",Datenerfassung!I452)","v":""},{"$f":"IF(ISBLANK(Datenerfassung!J452),\"\",Datenerfassung!J452)","v":""},"",{"$f":"IF(ISBLANK(Datenerfassung!L452),\"\",Datenerfassung!L452)","v":""},{"$f":"IF(ISBLANK(Datenerfassung!F452),\"\",Datenerfassung!F452)","v":""},{"$f":"IF(ISBLANK(Datenerfassung!D452),IF(COUNTBLANK(A442:H442)+COUNTBLANK(J442:O442)=14,\"\",\"- ohne Titel -\"),Datenerfassung!D452)","v":""},{"$f":"IF(ISBLANK(Datenerfassung!E452),\"\",Datenerfassung!E452)","v":""},"",{"$f":"IF(ISBLANK(Datenerfassung!O452),\"\",Datenerfassung!O452)","v":""},{"$f":"IF(ISBLANK(Datenerfassung!G452),\"\",Datenerfassung!G452)","v":""},{"$f":"IF(ISBLANK(Datenerfassung!M452),\"\",Datenerfassung!M452)","v":""},{"$f":"IF(ISBLANK(Datenerfassung!H452),\"\",Datenerfassung!H452)","v":""}]
[{"$f":"IF(ISBLANK(Datenerfassung!A453),\"\",Datenerfassung!A453)","v":""},{"$f":"IF(ISBLANK(Datenerfassung!B453),\"\",Datenerfassung!B453)","v":""},{"$f":"IF(ISBLANK(Datenerfassung!C453),\"\",Datenerfassung!C453)","v":""},{"$f":"IF(ISBLANK(Datenerfassung!I453),\"\",Datenerfassung!I453)","v":""},{"$f":"IF(ISBLANK(Datenerfassung!J453),\"\",Datenerfassung!J453)","v":""},"",{"$f":"IF(ISBLANK(Datenerfassung!L453),\"\",Datenerfassung!L453)","v":""},{"$f":"IF(ISBLANK(Datenerfassung!F453),\"\",Datenerfassung!F453)","v":""},{"$f":"IF(ISBLANK(Datenerfassung!D453),IF(COUNTBLANK(A443:H443)+COUNTBLANK(J443:O443)=14,\"\",\"- ohne Titel -\"),Datenerfassung!D453)","v":""},{"$f":"IF(ISBLANK(Datenerfassung!E453),\"\",Datenerfassung!E453)","v":""},"",{"$f":"IF(ISBLANK(Datenerfassung!O453),\"\",Datenerfassung!O453)","v":""},{"$f":"IF(ISBLANK(Datenerfassung!G453),\"\",Datenerfassung!G453)","v":""},{"$f":"IF(ISBLANK(Datenerfassung!M453),\"\",Datenerfassung!M453)","v":""},{"$f":"IF(ISBLANK(Datenerfassung!H453),\"\",Datenerfassung!H453)","v":""}]
[{"$f":"IF(ISBLANK(Datenerfassung!A454),\"\",Datenerfassung!A454)","v":""},{"$f":"IF(ISBLANK(Datenerfassung!B454),\"\",Datenerfassung!B454)","v":""},{"$f":"IF(ISBLANK(Datenerfassung!C454),\"\",Datenerfassung!C454)","v":""},{"$f":"IF(ISBLANK(Datenerfassung!I454),\"\",Datenerfassung!I454)","v":""},{"$f":"IF(ISBLANK(Datenerfassung!J454),\"\",Datenerfassung!J454)","v":""},"",{"$f":"IF(ISBLANK(Datenerfassung!L454),\"\",Datenerfassung!L454)","v":""},{"$f":"IF(ISBLANK(Datenerfassung!F454),\"\",Datenerfassung!F454)","v":""},{"$f":"IF(ISBLANK(Datenerfassung!D454),IF(COUNTBLANK(A444:H444)+COUNTBLANK(J444:O444)=14,\"\",\"- ohne Titel -\"),Datenerfassung!D454)","v":""},{"$f":"IF(ISBLANK(Datenerfassung!E454),\"\",Datenerfassung!E454)","v":""},"",{"$f":"IF(ISBLANK(Datenerfassung!O454),\"\",Datenerfassung!O454)","v":""},{"$f":"IF(ISBLANK(Datenerfassung!G454),\"\",Datenerfassung!G454)","v":""},{"$f":"IF(ISBLANK(Datenerfassung!M454),\"\",Datenerfassung!M454)","v":""},{"$f":"IF(ISBLANK(Datenerfassung!H454),\"\",Datenerfassung!H454)","v":""}]
[{"$f":"IF(ISBLANK(Datenerfassung!A455),\"\",Datenerfassung!A455)","v":""},{"$f":"IF(ISBLANK(Datenerfassung!B455),\"\",Datenerfassung!B455)","v":""},{"$f":"IF(ISBLANK(Datenerfassung!C455),\"\",Datenerfassung!C455)","v":""},{"$f":"IF(ISBLANK(Datenerfassung!I455),\"\",Datenerfassung!I455)","v":""},{"$f":"IF(ISBLANK(Datenerfassung!J455),\"\",Datenerfassung!J455)","v":""},"",{"$f":"IF(ISBLANK(Datenerfassung!L455),\"\",Datenerfassung!L455)","v":""},{"$f":"IF(ISBLANK(Datenerfassung!F455),\"\",Datenerfassung!F455)","v":""},{"$f":"IF(ISBLANK(Datenerfassung!D455),IF(COUNTBLANK(A445:H445)+COUNTBLANK(J445:O445)=14,\"\",\"- ohne Titel -\"),Datenerfassung!D455)","v":""},{"$f":"IF(ISBLANK(Datenerfassung!E455),\"\",Datenerfassung!E455)","v":""},"",{"$f":"IF(ISBLANK(Datenerfassung!O455),\"\",Datenerfassung!O455)","v":""},{"$f":"IF(ISBLANK(Datenerfassung!G455),\"\",Datenerfassung!G455)","v":""},{"$f":"IF(ISBLANK(Datenerfassung!M455),\"\",Datenerfassung!M455)","v":""},{"$f":"IF(ISBLANK(Datenerfassung!H455),\"\",Datenerfassung!H455)","v":""}]
[{"$f":"IF(ISBLANK(Datenerfassung!A456),\"\",Datenerfassung!A456)","v":""},{"$f":"IF(ISBLANK(Datenerfassung!B456),\"\",Datenerfassung!B456)","v":""},{"$f":"IF(ISBLANK(Datenerfassung!C456),\"\",Datenerfassung!C456)","v":""},{"$f":"IF(ISBLANK(Datenerfassung!I456),\"\",Datenerfassung!I456)","v":""},{"$f":"IF(ISBLANK(Datenerfassung!J456),\"\",Datenerfassung!J456)","v":""},"",{"$f":"IF(ISBLANK(Datenerfassung!L456),\"\",Datenerfassung!L456)","v":""},{"$f":"IF(ISBLANK(Datenerfassung!F456),\"\",Datenerfassung!F456)","v":""},{"$f":"IF(ISBLANK(Datenerfassung!D456),IF(COUNTBLANK(A446:H446)+COUNTBLANK(J446:O446)=14,\"\",\"- ohne Titel -\"),Datenerfassung!D456)","v":""},{"$f":"IF(ISBLANK(Datenerfassung!E456),\"\",Datenerfassung!E456)","v":""},"",{"$f":"IF(ISBLANK(Datenerfassung!O456),\"\",Datenerfassung!O456)","v":""},{"$f":"IF(ISBLANK(Datenerfassung!G456),\"\",Datenerfassung!G456)","v":""},{"$f":"IF(ISBLANK(Datenerfassung!M456),\"\",Datenerfassung!M456)","v":""},{"$f":"IF(ISBLANK(Datenerfassung!H456),\"\",Datenerfassung!H456)","v":""}]
[{"$f":"IF(ISBLANK(Datenerfassung!A457),\"\",Datenerfassung!A457)","v":""},{"$f":"IF(ISBLANK(Datenerfassung!B457),\"\",Datenerfassung!B457)","v":""},{"$f":"IF(ISBLANK(Datenerfassung!C457),\"\",Datenerfassung!C457)","v":""},{"$f":"IF(ISBLANK(Datenerfassung!I457),\"\",Datenerfassung!I457)","v":""},{"$f":"IF(ISBLANK(Datenerfassung!J457),\"\",Datenerfassung!J457)","v":""},"",{"$f":"IF(ISBLANK(Datenerfassung!L457),\"\",Datenerfassung!L457)","v":""},{"$f":"IF(ISBLANK(Datenerfassung!F457),\"\",Datenerfassung!F457)","v":""},{"$f":"IF(ISBLANK(Datenerfassung!D457),IF(COUNTBLANK(A447:H447)+COUNTBLANK(J447:O447)=14,\"\",\"- ohne Titel -\"),Datenerfassung!D457)","v":""},{"$f":"IF(ISBLANK(Datenerfassung!E457),\"\",Datenerfassung!E457)","v":""},"",{"$f":"IF(ISBLANK(Datenerfassung!O457),\"\",Datenerfassung!O457)","v":""},{"$f":"IF(ISBLANK(Datenerfassung!G457),\"\",Datenerfassung!G457)","v":""},{"$f":"IF(ISBLANK(Datenerfassung!M457),\"\",Datenerfassung!M457)","v":""},{"$f":"IF(ISBLANK(Datenerfassung!H457),\"\",Datenerfassung!H457)","v":""}]
[{"$f":"IF(ISBLANK(Datenerfassung!A458),\"\",Datenerfassung!A458)","v":""},{"$f":"IF(ISBLANK(Datenerfassung!B458),\"\",Datenerfassung!B458)","v":""},{"$f":"IF(ISBLANK(Datenerfassung!C458),\"\",Datenerfassung!C458)","v":""},{"$f":"IF(ISBLANK(Datenerfassung!I458),\"\",Datenerfassung!I458)","v":""},{"$f":"IF(ISBLANK(Datenerfassung!J458),\"\",Datenerfassung!J458)","v":""},"",{"$f":"IF(ISBLANK(Datenerfassung!L458),\"\",Datenerfassung!L458)","v":""},{"$f":"IF(ISBLANK(Datenerfassung!F458),\"\",Datenerfassung!F458)","v":""},{"$f":"IF(ISBLANK(Datenerfassung!D458),IF(COUNTBLANK(A448:H448)+COUNTBLANK(J448:O448)=14,\"\",\"- ohne Titel -\"),Datenerfassung!D458)","v":""},{"$f":"IF(ISBLANK(Datenerfassung!E458),\"\",Datenerfassung!E458)","v":""},"",{"$f":"IF(ISBLANK(Datenerfassung!O458),\"\",Datenerfassung!O458)","v":""},{"$f":"IF(ISBLANK(Datenerfassung!G458),\"\",Datenerfassung!G458)","v":""},{"$f":"IF(ISBLANK(Datenerfassung!M458),\"\",Datenerfassung!M458)","v":""},{"$f":"IF(ISBLANK(Datenerfassung!H458),\"\",Datenerfassung!H458)","v":""}]
[{"$f":"IF(ISBLANK(Datenerfassung!A459),\"\",Datenerfassung!A459)","v":""},{"$f":"IF(ISBLANK(Datenerfassung!B459),\"\",Datenerfassung!B459)","v":""},{"$f":"IF(ISBLANK(Datenerfassung!C459),\"\",Datenerfassung!C459)","v":""},{"$f":"IF(ISBLANK(Datenerfassung!I459),\"\",Datenerfassung!I459)","v":""},{"$f":"IF(ISBLANK(Datenerfassung!J459),\"\",Datenerfassung!J459)","v":""},"",{"$f":"IF(ISBLANK(Datenerfassung!L459),\"\",Datenerfassung!L459)","v":""},{"$f":"IF(ISBLANK(Datenerfassung!F459),\"\",Datenerfassung!F459)","v":""},{"$f":"IF(ISBLANK(Datenerfassung!D459),IF(COUNTBLANK(A449:H449)+COUNTBLANK(J449:O449)=14,\"\",\"- ohne Titel -\"),Datenerfassung!D459)","v":""},{"$f":"IF(ISBLANK(Datenerfassung!E459),\"\",Datenerfassung!E459)","v":""},"",{"$f":"IF(ISBLANK(Datenerfassung!O459),\"\",Datenerfassung!O459)","v":""},{"$f":"IF(ISBLANK(Datenerfassung!G459),\"\",Datenerfassung!G459)","v":""},{"$f":"IF(ISBLANK(Datenerfassung!M459),\"\",Datenerfassung!M459)","v":""},{"$f":"IF(ISBLANK(Datenerfassung!H459),\"\",Datenerfassung!H459)","v":""}]
[{"$f":"IF(ISBLANK(Datenerfassung!A460),\"\",Datenerfassung!A460)","v":""},{"$f":"IF(ISBLANK(Datenerfassung!B460),\"\",Datenerfassung!B460)","v":""},{"$f":"IF(ISBLANK(Datenerfassung!C460),\"\",Datenerfassung!C460)","v":""},{"$f":"IF(ISBLANK(Datenerfassung!I460),\"\",Datenerfassung!I460)","v":""},{"$f":"IF(ISBLANK(Datenerfassung!J460),\"\",Datenerfassung!J460)","v":""},"",{"$f":"IF(ISBLANK(Datenerfassung!L460),\"\",Datenerfassung!L460)","v":""},{"$f":"IF(ISBLANK(Datenerfassung!F460),\"\",Datenerfassung!F460)","v":""},{"$f":"IF(ISBLANK(Datenerfassung!D460),IF(COUNTBLANK(A450:H450)+COUNTBLANK(J450:O450)=14,\"\",\"- ohne Titel -\"),Datenerfassung!D460)","v":""},{"$f":"IF(ISBLANK(Datenerfassung!E460),\"\",Datenerfassung!E460)","v":""},"",{"$f":"IF(ISBLANK(Datenerfassung!O460),\"\",Datenerfassung!O460)","v":""},{"$f":"IF(ISBLANK(Datenerfassung!G460),\"\",Datenerfassung!G460)","v":""},{"$f":"IF(ISBLANK(Datenerfassung!M460),\"\",Datenerfassung!M460)","v":""},{"$f":"IF(ISBLANK(Datenerfassung!H460),\"\",Datenerfassung!H460)","v":""}]
[{"$f":"IF(ISBLANK(Datenerfassung!A461),\"\",Datenerfassung!A461)","v":""},{"$f":"IF(ISBLANK(Datenerfassung!B461),\"\",Datenerfassung!B461)","v":""},{"$f":"IF(ISBLANK(Datenerfassung!C461),\"\",Datenerfassung!C461)","v":""},{"$f":"IF(ISBLANK(Datenerfassung!I461),\"\",Datenerfassung!I461)","v":""},{"$f":"IF(ISBLANK(Datenerfassung!J461),\"\",Datenerfassung!J461)","v":""},{"$f":"IF(D451=\"\",\"\",IF(E451=\"\",D451,D451&\" - \"&E451))","v":""},{"$f":"IF(ISBLANK(Datenerfassung!L461),\"\",Datenerfassung!L461)","v":""},{"$f":"IF(ISBLANK(Datenerfassung!F461),\"\",Datenerfassung!F461)","v":""},{"$f":"IF(ISBLANK(Datenerfassung!D461),IF(COUNTBLANK(A451:H451)+COUNTBLANK(J451:O451)=14,\"\",\"- ohne Titel -\"),Datenerfassung!D461)","v":""},{"$f":"IF(ISBLANK(Datenerfassung!E461),\"\",Datenerfassung!E461)","v":""},{"$f":"IF(OR(E451=\"\",G451=\"\"),\"\",\"01.01.\"&RIGHT(E451,4)+G451+1)","v":""},{"$f":"IF(ISBLANK(Datenerfassung!O461),\"\",Datenerfassung!O461)","v":""},{"$f":"IF(ISBLANK(Datenerfassung!G461),\"\",Datenerfassung!G461)","v":""},{"$f":"IF(ISBLANK(Datenerfassung!M461),\"\",Datenerfassung!M461)","v":""},{"$f":"IF(ISBLANK(Datenerfassung!H461),\"\",Datenerfassung!H461)","v":""}]
[{"$f":"IF(ISBLANK(Datenerfassung!A462),\"\",Datenerfassung!A462)","v":""},{"$f":"IF(ISBLANK(Datenerfassung!B462),\"\",Datenerfassung!B462)","v":""},{"$f":"IF(ISBLANK(Datenerfassung!C462),\"\",Datenerfassung!C462)","v":""},{"$f":"IF(ISBLANK(Datenerfassung!I462),\"\",Datenerfassung!I462)","v":""},{"$f":"IF(ISBLANK(Datenerfassung!J462),\"\",Datenerfassung!J462)","v":""},"",{"$f":"IF(ISBLANK(Datenerfassung!L462),\"\",Datenerfassung!L462)","v":""},{"$f":"IF(ISBLANK(Datenerfassung!F462),\"\",Datenerfassung!F462)","v":""},{"$f":"IF(ISBLANK(Datenerfassung!D462),IF(COUNTBLANK(A452:H452)+COUNTBLANK(J452:O452)=14,\"\",\"- ohne Titel -\"),Datenerfassung!D462)","v":""},{"$f":"IF(ISBLANK(Datenerfassung!E462),\"\",Datenerfassung!E462)","v":""},"",{"$f":"IF(ISBLANK(Datenerfassung!O462),\"\",Datenerfassung!O462)","v":""},{"$f":"IF(ISBLANK(Datenerfassung!G462),\"\",Datenerfassung!G462)","v":""},{"$f":"IF(ISBLANK(Datenerfassung!M462),\"\",Datenerfassung!M462)","v":""},{"$f":"IF(ISBLANK(Datenerfassung!H462),\"\",Datenerfassung!H462)","v":""}]
[{"$f":"IF(ISBLANK(Datenerfassung!A463),\"\",Datenerfassung!A463)","v":""},{"$f":"IF(ISBLANK(Datenerfassung!B463),\"\",Datenerfassung!B463)","v":""},{"$f":"IF(ISBLANK(Datenerfassung!C463),\"\",Datenerfassung!C463)","v":""},{"$f":"IF(ISBLANK(Datenerfassung!I463),\"\",Datenerfassung!I463)","v":""},{"$f":"IF(ISBLANK(Datenerfassung!J463),\"\",Datenerfassung!J463)","v":""},"",{"$f":"IF(ISBLANK(Datenerfassung!L463),\"\",Datenerfassung!L463)","v":""},{"$f":"IF(ISBLANK(Datenerfassung!F463),\"\",Datenerfassung!F463)","v":""},{"$f":"IF(ISBLANK(Datenerfassung!D463),IF(COUNTBLANK(A453:H453)+COUNTBLANK(J453:O453)=14,\"\",\"- ohne Titel -\"),Datenerfassung!D463)","v":""},{"$f":"IF(ISBLANK(Datenerfassung!E463),\"\",Datenerfassung!E463)","v":""},"",{"$f":"IF(ISBLANK(Datenerfassung!O463),\"\",Datenerfassung!O463)","v":""},{"$f":"IF(ISBLANK(Datenerfassung!G463),\"\",Datenerfassung!G463)","v":""},{"$f":"IF(ISBLANK(Datenerfassung!M463),\"\",Datenerfassung!M463)","v":""},{"$f":"IF(ISBLANK(Datenerfassung!H463),\"\",Datenerfassung!H463)","v":""}]
[{"$f":"IF(ISBLANK(Datenerfassung!A464),\"\",Datenerfassung!A464)","v":""},{"$f":"IF(ISBLANK(Datenerfassung!B464),\"\",Datenerfassung!B464)","v":""},{"$f":"IF(ISBLANK(Datenerfassung!C464),\"\",Datenerfassung!C464)","v":""},{"$f":"IF(ISBLANK(Datenerfassung!I464),\"\",Datenerfassung!I464)","v":""},{"$f":"IF(ISBLANK(Datenerfassung!J464),\"\",Datenerfassung!J464)","v":""},"",{"$f":"IF(ISBLANK(Datenerfassung!L464),\"\",Datenerfassung!L464)","v":""},{"$f":"IF(ISBLANK(Datenerfassung!F464),\"\",Datenerfassung!F464)","v":""},{"$f":"IF(ISBLANK(Datenerfassung!D464),IF(COUNTBLANK(A454:H454)+COUNTBLANK(J454:O454)=14,\"\",\"- ohne Titel -\"),Datenerfassung!D464)","v":""},{"$f":"IF(ISBLANK(Datenerfassung!E464),\"\",Datenerfassung!E464)","v":""},"",{"$f":"IF(ISBLANK(Datenerfassung!O464),\"\",Datenerfassung!O464)","v":""},{"$f":"IF(ISBLANK(Datenerfassung!G464),\"\",Datenerfassung!G464)","v":""},{"$f":"IF(ISBLANK(Datenerfassung!M464),\"\",Datenerfassung!M464)","v":""},{"$f":"IF(ISBLANK(Datenerfassung!H464),\"\",Datenerfassung!H464)","v":""}]
[{"$f":"IF(ISBLANK(Datenerfassung!A465),\"\",Datenerfassung!A465)","v":""},{"$f":"IF(ISBLANK(Datenerfassung!B465),\"\",Datenerfassung!B465)","v":""},{"$f":"IF(ISBLANK(Datenerfassung!C465),\"\",Datenerfassung!C465)","v":""},{"$f":"IF(ISBLANK(Datenerfassung!I465),\"\",Datenerfassung!I465)","v":""},{"$f":"IF(ISBLANK(Datenerfassung!J465),\"\",Datenerfassung!J465)","v":""},"",{"$f":"IF(ISBLANK(Datenerfassung!L465),\"\",Datenerfassung!L465)","v":""},{"$f":"IF(ISBLANK(Datenerfassung!F465),\"\",Datenerfassung!F465)","v":""},{"$f":"IF(ISBLANK(Datenerfassung!D465),IF(COUNTBLANK(A455:H455)+COUNTBLANK(J455:O455)=14,\"\",\"- ohne Titel -\"),Datenerfassung!D465)","v":""},{"$f":"IF(ISBLANK(Datenerfassung!E465),\"\",Datenerfassung!E465)","v":""},"",{"$f":"IF(ISBLANK(Datenerfassung!O465),\"\",Datenerfassung!O465)","v":""},{"$f":"IF(ISBLANK(Datenerfassung!G465),\"\",Datenerfassung!G465)","v":""},{"$f":"IF(ISBLANK(Datenerfassung!M465),\"\",Datenerfassung!M465)","v":""},{"$f":"IF(ISBLANK(Datenerfassung!H465),\"\",Datenerfassung!H465)","v":""}]
[{"$f":"IF(ISBLANK(Datenerfassung!A466),\"\",Datenerfassung!A466)","v":""},{"$f":"IF(ISBLANK(Datenerfassung!B466),\"\",Datenerfassung!B466)","v":""},{"$f":"IF(ISBLANK(Datenerfassung!C466),\"\",Datenerfassung!C466)","v":""},{"$f":"IF(ISBLANK(Datenerfassung!I466),\"\",Datenerfassung!I466)","v":""},{"$f":"IF(ISBLANK(Datenerfassung!J466),\"\",Datenerfassung!J466)","v":""},"",{"$f":"IF(ISBLANK(Datenerfassung!L466),\"\",Datenerfassung!L466)","v":""},{"$f":"IF(ISBLANK(Datenerfassung!F466),\"\",Datenerfassung!F466)","v":""},{"$f":"IF(ISBLANK(Datenerfassung!D466),IF(COUNTBLANK(A456:H456)+COUNTBLANK(J456:O456)=14,\"\",\"- ohne Titel -\"),Datenerfassung!D466)","v":""},{"$f":"IF(ISBLANK(Datenerfassung!E466),\"\",Datenerfassung!E466)","v":""},"",{"$f":"IF(ISBLANK(Datenerfassung!O466),\"\",Datenerfassung!O466)","v":""},{"$f":"IF(ISBLANK(Datenerfassung!G466),\"\",Datenerfassung!G466)","v":""},{"$f":"IF(ISBLANK(Datenerfassung!M466),\"\",Datenerfassung!M466)","v":""},{"$f":"IF(ISBLANK(Datenerfassung!H466),\"\",Datenerfassung!H466)","v":""}]
[{"$f":"IF(ISBLANK(Datenerfassung!A467),\"\",Datenerfassung!A467)","v":""},{"$f":"IF(ISBLANK(Datenerfassung!B467),\"\",Datenerfassung!B467)","v":""},{"$f":"IF(ISBLANK(Datenerfassung!C467),\"\",Datenerfassung!C467)","v":""},{"$f":"IF(ISBLANK(Datenerfassung!I467),\"\",Datenerfassung!I467)","v":""},{"$f":"IF(ISBLANK(Datenerfassung!J467),\"\",Datenerfassung!J467)","v":""},"",{"$f":"IF(ISBLANK(Datenerfassung!L467),\"\",Datenerfassung!L467)","v":""},{"$f":"IF(ISBLANK(Datenerfassung!F467),\"\",Datenerfassung!F467)","v":""},{"$f":"IF(ISBLANK(Datenerfassung!D467),IF(COUNTBLANK(A457:H457)+COUNTBLANK(J457:O457)=14,\"\",\"- ohne Titel -\"),Datenerfassung!D467)","v":""},{"$f":"IF(ISBLANK(Datenerfassung!E467),\"\",Datenerfassung!E467)","v":""},"",{"$f":"IF(ISBLANK(Datenerfassung!O467),\"\",Datenerfassung!O467)","v":""},{"$f":"IF(ISBLANK(Datenerfassung!G467),\"\",Datenerfassung!G467)","v":""},{"$f":"IF(ISBLANK(Datenerfassung!M467),\"\",Datenerfassung!M467)","v":""},{"$f":"IF(ISBLANK(Datenerfassung!H467),\"\",Datenerfassung!H467)","v":""}]
[{"$f":"IF(ISBLANK(Datenerfassung!A468),\"\",Datenerfassung!A468)","v":""},{"$f":"IF(ISBLANK(Datenerfassung!B468),\"\",Datenerfassung!B468)","v":""},{"$f":"IF(ISBLANK(Datenerfassung!C468),\"\",Datenerfassung!C468)","v":""},{"$f":"IF(ISBLANK(Datenerfassung!I468),\"\",Datenerfassung!I468)","v":""},{"$f":"IF(ISBLANK(Datenerfassung!J468),\"\",Datenerfassung!J468)","v":""},"",{"$f":"IF(ISBLANK(Datenerfassung!L468),\"\",Datenerfassung!L468)","v":""},{"$f":"IF(ISBLANK(Datenerfassung!F468),\"\",Datenerfassung!F468)","v":""},{"$f":"IF(ISBLANK(Datenerfassung!D468),IF(COUNTBLANK(A458:H458)+COUNTBLANK(J458:O458)=14,\"\",\"- ohne Titel -\"),Datenerfassung!D468)","v":""},{"$f":"IF(ISBLANK(Datenerfassung!E468),\"\",Datenerfassung!E468)","v":""},"",{"$f":"IF(ISBLANK(Datenerfassung!O468),\"\",Datenerfassung!O468)","v":""},{"$f":"IF(ISBLANK(Datenerfassung!G468),\"\",Datenerfassung!G468)","v":""},{"$f":"IF(ISBLANK(Datenerfassung!M468),\"\",Datenerfassung!M468)","v":""},{"$f":"IF(ISBLANK(Datenerfassung!H468),\"\",Datenerfassung!H468)","v":""}]
[{"$f":"IF(ISBLANK(Datenerfassung!A469),\"\",Datenerfassung!A469)","v":""},{"$f":"IF(ISBLANK(Datenerfassung!B469),\"\",Datenerfassung!B469)","v":""},{"$f":"IF(ISBLANK(Datenerfassung!C469),\"\",Datenerfassung!C469)","v":""},{"$f":"IF(ISBLANK(Datenerfassung!I469),\"\",Datenerfassung!I469)","v":""},{"$f":"IF(ISBLANK(Datenerfassung!J469),\"\",Datenerfassung!J469)","v":""},"",{"$f":"IF(ISBLANK(Datenerfassung!L469),\"\",Datenerfassung!L469)","v":""},{"$f":"IF(ISBLANK(Datenerfassung!F469),\"\",Datenerfassung!F469)","v":""},{"$f":"IF(ISBLANK(Datenerfassung!D469),IF(COUNTBLANK(A459:H459)+COUNTBLANK(J459:O459)=14,\"\",\"- ohne Titel -\"),Datenerfassung!D469)","v":""},{"$f":"IF(ISBLANK(Datenerfassung!E469),\"\",Datenerfassung!E469)","v":""},"",{"$f":"IF(ISBLANK(Datenerfassung!O469),\"\",Datenerfassung!O469)","v":""},{"$f":"IF(ISBLANK(Datenerfassung!G469),\"\",Datenerfassung!G469)","v":""},{"$f":"IF(ISBLANK(Datenerfassung!M469),\"\",Datenerfassung!M469)","v":""},{"$f":"IF(ISBLANK(Datenerfassung!H469),\"\",Datenerfassung!H469)","v":""}]
[{"$f":"IF(ISBLANK(Datenerfassung!A470),\"\",Datenerfassung!A470)","v":""},{"$f":"IF(ISBLANK(Datenerfassung!B470),\"\",Datenerfassung!B470)","v":""},{"$f":"IF(ISBLANK(Datenerfassung!C470),\"\",Datenerfassung!C470)","v":""},{"$f":"IF(ISBLANK(Datenerfassung!I470),\"\",Datenerfassung!I470)","v":""},{"$f":"IF(ISBLANK(Datenerfassung!J470),\"\",Datenerfassung!J470)","v":""},"",{"$f":"IF(ISBLANK(Datenerfassung!L470),\"\",Datenerfassung!L470)","v":""},{"$f":"IF(ISBLANK(Datenerfassung!F470),\"\",Datenerfassung!F470)","v":""},{"$f":"IF(ISBLANK(Datenerfassung!D470),IF(COUNTBLANK(A460:H460)+COUNTBLANK(J460:O460)=14,\"\",\"- ohne Titel -\"),Datenerfassung!D470)","v":""},{"$f":"IF(ISBLANK(Datenerfassung!E470),\"\",Datenerfassung!E470)","v":""},"",{"$f":"IF(ISBLANK(Datenerfassung!O470),\"\",Datenerfassung!O470)","v":""},{"$f":"IF(ISBLANK(Datenerfassung!G470),\"\",Datenerfassung!G470)","v":""},{"$f":"IF(ISBLANK(Datenerfassung!M470),\"\",Datenerfassung!M470)","v":""},{"$f":"IF(ISBLANK(Datenerfassung!H470),\"\",Datenerfassung!H470)","v":""}]
[{"$f":"IF(ISBLANK(Datenerfassung!A471),\"\",Datenerfassung!A471)","v":""},{"$f":"IF(ISBLANK(Datenerfassung!B471),\"\",Datenerfassung!B471)","v":""},{"$f":"IF(ISBLANK(Datenerfassung!C471),\"\",Datenerfassung!C471)","v":""},{"$f":"IF(ISBLANK(Datenerfassung!I471),\"\",Datenerfassung!I471)","v":""},{"$f":"IF(ISBLANK(Datenerfassung!J471),\"\",Datenerfassung!J471)","v":""},"",{"$f":"IF(ISBLANK(Datenerfassung!L471),\"\",Datenerfassung!L471)","v":""},{"$f":"IF(ISBLANK(Datenerfassung!F471),\"\",Datenerfassung!F471)","v":""},{"$f":"IF(ISBLANK(Datenerfassung!D471),IF(COUNTBLANK(A461:H461)+COUNTBLANK(J461:O461)=14,\"\",\"- ohne Titel -\"),Datenerfassung!D471)","v":""},{"$f":"IF(ISBLANK(Datenerfassung!E471),\"\",Datenerfassung!E471)","v":""},"",{"$f":"IF(ISBLANK(Datenerfassung!O471),\"\",Datenerfassung!O471)","v":""},{"$f":"IF(ISBLANK(Datenerfassung!G471),\"\",Datenerfassung!G471)","v":""},{"$f":"IF(ISBLANK(Datenerfassung!M471),\"\",Datenerfassung!M471)","v":""},{"$f":"IF(ISBLANK(Datenerfassung!H471),\"\",Datenerfassung!H471)","v":""}]
[{"$f":"IF(ISBLANK(Datenerfassung!A472),\"\",Datenerfassung!A472)","v":""},{"$f":"IF(ISBLANK(Datenerfassung!B472),\"\",Datenerfassung!B472)","v":""},{"$f":"IF(ISBLANK(Datenerfassung!C472),\"\",Datenerfassung!C472)","v":""},{"$f":"IF(ISBLANK(Datenerfassung!I472),\"\",Datenerfassung!I472)","v":""},{"$f":"IF(ISBLANK(Datenerfassung!J472),\"\",Datenerfassung!J472)","v":""},"",{"$f":"IF(ISBLANK(Datenerfassung!L472),\"\",Datenerfassung!L472)","v":""},{"$f":"IF(ISBLANK(Datenerfassung!F472),\"\",Datenerfassung!F472)","v":""},{"$f":"IF(ISBLANK(Datenerfassung!D472),IF(COUNTBLANK(A462:H462)+COUNTBLANK(J462:O462)=14,\"\",\"- ohne Titel -\"),Datenerfassung!D472)","v":""},{"$f":"IF(ISBLANK(Datenerfassung!E472),\"\",Datenerfassung!E472)","v":""},"",{"$f":"IF(ISBLANK(Datenerfassung!O472),\"\",Datenerfassung!O472)","v":""},{"$f":"IF(ISBLANK(Datenerfassung!G472),\"\",Datenerfassung!G472)","v":""},{"$f":"IF(ISBLANK(Datenerfassung!M472),\"\",Datenerfassung!M472)","v":""},{"$f":"IF(ISBLANK(Datenerfassung!H472),\"\",Datenerfassung!H472)","v":""}]
[{"$f":"IF(ISBLANK(Datenerfassung!A473),\"\",Datenerfassung!A473)","v":""},{"$f":"IF(ISBLANK(Datenerfassung!B473),\"\",Datenerfassung!B473)","v":""},{"$f":"IF(ISBLANK(Datenerfassung!C473),\"\",Datenerfassung!C473)","v":""},{"$f":"IF(ISBLANK(Datenerfassung!I473),\"\",Datenerfassung!I473)","v":""},{"$f":"IF(ISBLANK(Datenerfassung!J473),\"\",Datenerfassung!J473)","v":""},"",{"$f":"IF(ISBLANK(Datenerfassung!L473),\"\",Datenerfassung!L473)","v":""},{"$f":"IF(ISBLANK(Datenerfassung!F473),\"\",Datenerfassung!F473)","v":""},{"$f":"IF(ISBLANK(Datenerfassung!D473),IF(COUNTBLANK(A463:H463)+COUNTBLANK(J463:O463)=14,\"\",\"- ohne Titel -\"),Datenerfassung!D473)","v":""},{"$f":"IF(ISBLANK(Datenerfassung!E473),\"\",Datenerfassung!E473)","v":""},"",{"$f":"IF(ISBLANK(Datenerfassung!O473),\"\",Datenerfassung!O473)","v":""},{"$f":"IF(ISBLANK(Datenerfassung!G473),\"\",Datenerfassung!G473)","v":""},{"$f":"IF(ISBLANK(Datenerfassung!M473),\"\",Datenerfassung!M473)","v":""},{"$f":"IF(ISBLANK(Datenerfassung!H473),\"\",Datenerfassung!H473)","v":""}]
[{"$f":"IF(ISBLANK(Datenerfassung!A474),\"\",Datenerfassung!A474)","v":""},{"$f":"IF(ISBLANK(Datenerfassung!B474),\"\",Datenerfassung!B474)","v":""},{"$f":"IF(ISBLANK(Datenerfassung!C474),\"\",Datenerfassung!C474)","v":""},{"$f":"IF(ISBLANK(Datenerfassung!I474),\"\",Datenerfassung!I474)","v":""},{"$f":"IF(ISBLANK(Datenerfassung!J474),\"\",Datenerfassung!J474)","v":""},"",{"$f":"IF(ISBLANK(Datenerfassung!L474),\"\",Datenerfassung!L474)","v":""},{"$f":"IF(ISBLANK(Datenerfassung!F474),\"\",Datenerfassung!F474)","v":""},{"$f":"IF(ISBLANK(Datenerfassung!D474),IF(COUNTBLANK(A464:H464)+COUNTBLANK(J464:O464)=14,\"\",\"- ohne Titel -\"),Datenerfassung!D474)","v":""},{"$f":"IF(ISBLANK(Datenerfassung!E474),\"\",Datenerfassung!E474)","v":""},"",{"$f":"IF(ISBLANK(Datenerfassung!O474),\"\",Datenerfassung!O474)","v":""},{"$f":"IF(ISBLANK(Datenerfassung!G474),\"\",Datenerfassung!G474)","v":""},{"$f":"IF(ISBLANK(Datenerfassung!M474),\"\",Datenerfassung!M474)","v":""},{"$f":"IF(ISBLANK(Datenerfassung!H474),\"\",Datenerfassung!H474)","v":""}]
[{"$f":"IF(ISBLANK(Datenerfassung!A475),\"\",Datenerfassung!A475)","v":""},{"$f":"IF(ISBLANK(Datenerfassung!B475),\"\",Datenerfassung!B475)","v":""},{"$f":"IF(ISBLANK(Datenerfassung!C475),\"\",Datenerfassung!C475)","v":""},{"$f":"IF(ISBLANK(Datenerfassung!I475),\"\",Datenerfassung!I475)","v":""},{"$f":"IF(ISBLANK(Datenerfassung!J475),\"\",Datenerfassung!J475)","v":""},"",{"$f":"IF(ISBLANK(Datenerfassung!L475),\"\",Datenerfassung!L475)","v":""},{"$f":"IF(ISBLANK(Datenerfassung!F475),\"\",Datenerfassung!F475)","v":""},{"$f":"IF(ISBLANK(Datenerfassung!D475),IF(COUNTBLANK(A465:H465)+COUNTBLANK(J465:O465)=14,\"\",\"- ohne Titel -\"),Datenerfassung!D475)","v":""},{"$f":"IF(ISBLANK(Datenerfassung!E475),\"\",Datenerfassung!E475)","v":""},"",{"$f":"IF(ISBLANK(Datenerfassung!O475),\"\",Datenerfassung!O475)","v":""},{"$f":"IF(ISBLANK(Datenerfassung!G475),\"\",Datenerfassung!G475)","v":""},{"$f":"IF(ISBLANK(Datenerfassung!M475),\"\",Datenerfassung!M475)","v":""},{"$f":"IF(ISBLANK(Datenerfassung!H475),\"\",Datenerfassung!H475)","v":""}]
[{"$f":"IF(ISBLANK(Datenerfassung!A476),\"\",Datenerfassung!A476)","v":""},{"$f":"IF(ISBLANK(Datenerfassung!B476),\"\",Datenerfassung!B476)","v":""},{"$f":"IF(ISBLANK(Datenerfassung!C476),\"\",Datenerfassung!C476)","v":""},{"$f":"IF(ISBLANK(Datenerfassung!I476),\"\",Datenerfassung!I476)","v":""},{"$f":"IF(ISBLANK(Datenerfassung!J476),\"\",Datenerfassung!J476)","v":""},"",{"$f":"IF(ISBLANK(Datenerfassung!L476),\"\",Datenerfassung!L476)","v":""},{"$f":"IF(ISBLANK(Datenerfassung!F476),\"\",Datenerfassung!F476)","v":""},{"$f":"IF(ISBLANK(Datenerfassung!D476),IF(COUNTBLANK(A466:H466)+COUNTBLANK(J466:O466)=14,\"\",\"- ohne Titel -\"),Datenerfassung!D476)","v":""},{"$f":"IF(ISBLANK(Datenerfassung!E476),\"\",Datenerfassung!E476)","v":""},"",{"$f":"IF(ISBLANK(Datenerfassung!O476),\"\",Datenerfassung!O476)","v":""},{"$f":"IF(ISBLANK(Datenerfassung!G476),\"\",Datenerfassung!G476)","v":""},{"$f":"IF(ISBLANK(Datenerfassung!M476),\"\",Datenerfassung!M476)","v":""},{"$f":"IF(ISBLANK(Datenerfassung!H476),\"\",Datenerfassung!H476)","v":""}]
[{"$f":"IF(ISBLANK(Datenerfassung!A477),\"\",Datenerfassung!A477)","v":""},{"$f":"IF(ISBLANK(Datenerfassung!B477),\"\",Datenerfassung!B477)","v":""},{"$f":"IF(ISBLANK(Datenerfassung!C477),\"\",Datenerfassung!C477)","v":""},{"$f":"IF(ISBLANK(Datenerfassung!I477),\"\",Datenerfassung!I477)","v":""},{"$f":"IF(ISBLANK(Datenerfassung!J477),\"\",Datenerfassung!J477)","v":""},"",{"$f":"IF(ISBLANK(Datenerfassung!L477),\"\",Datenerfassung!L477)","v":""},{"$f":"IF(ISBLANK(Datenerfassung!F477),\"\",Datenerfassung!F477)","v":""},{"$f":"IF(ISBLANK(Datenerfassung!D477),IF(COUNTBLANK(A467:H467)+COUNTBLANK(J467:O467)=14,\"\",\"- ohne Titel -\"),Datenerfassung!D477)","v":""},{"$f":"IF(ISBLANK(Datenerfassung!E477),\"\",Datenerfassung!E477)","v":""},"",{"$f":"IF(ISBLANK(Datenerfassung!O477),\"\",Datenerfassung!O477)","v":""},{"$f":"IF(ISBLANK(Datenerfassung!G477),\"\",Datenerfassung!G477)","v":""},{"$f":"IF(ISBLANK(Datenerfassung!M477),\"\",Datenerfassung!M477)","v":""},{"$f":"IF(ISBLANK(Datenerfassung!H477),\"\",Datenerfassung!H477)","v":""}]
[{"$f":"IF(ISBLANK(Datenerfassung!A478),\"\",Datenerfassung!A478)","v":""},{"$f":"IF(ISBLANK(Datenerfassung!B478),\"\",Datenerfassung!B478)","v":""},{"$f":"IF(ISBLANK(Datenerfassung!C478),\"\",Datenerfassung!C478)","v":""},{"$f":"IF(ISBLANK(Datenerfassung!I478),\"\",Datenerfassung!I478)","v":""},{"$f":"IF(ISBLANK(Datenerfassung!J478),\"\",Datenerfassung!J478)","v":""},"",{"$f":"IF(ISBLANK(Datenerfassung!L478),\"\",Datenerfassung!L478)","v":""},{"$f":"IF(ISBLANK(Datenerfassung!F478),\"\",Datenerfassung!F478)","v":""},{"$f":"IF(ISBLANK(Datenerfassung!D478),IF(COUNTBLANK(A468:H468)+COUNTBLANK(J468:O468)=14,\"\",\"- ohne Titel -\"),Datenerfassung!D478)","v":""},{"$f":"IF(ISBLANK(Datenerfassung!E478),\"\",Datenerfassung!E478)","v":""},"",{"$f":"IF(ISBLANK(Datenerfassung!O478),\"\",Datenerfassung!O478)","v":""},{"$f":"IF(ISBLANK(Datenerfassung!G478),\"\",Datenerfassung!G478)","v":""},{"$f":"IF(ISBLANK(Datenerfassung!M478),\"\",Datenerfassung!M478)","v":""},{"$f":"IF(ISBLANK(Datenerfassung!H478),\"\",Datenerfassung!H478)","v":""}]
[{"$f":"IF(ISBLANK(Datenerfassung!A479),\"\",Datenerfassung!A479)","v":""},{"$f":"IF(ISBLANK(Datenerfassung!B479),\"\",Datenerfassung!B479)","v":""},{"$f":"IF(ISBLANK(Datenerfassung!C479),\"\",Datenerfassung!C479)","v":""},{"$f":"IF(ISBLANK(Datenerfassung!I479),\"\",Datenerfassung!I479)","v":""},{"$f":"IF(ISBLANK(Datenerfassung!J479),\"\",Datenerfassung!J479)","v":""},"",{"$f":"IF(ISBLANK(Datenerfassung!L479),\"\",Datenerfassung!L479)","v":""},{"$f":"IF(ISBLANK(Datenerfassung!F479),\"\",Datenerfassung!F479)","v":""},{"$f":"IF(ISBLANK(Datenerfassung!D479),IF(COUNTBLANK(A469:H469)+COUNTBLANK(J469:O469)=14,\"\",\"- ohne Titel -\"),Datenerfassung!D479)","v":""},{"$f":"IF(ISBLANK(Datenerfassung!E479),\"\",Datenerfassung!E479)","v":""},"",{"$f":"IF(ISBLANK(Datenerfassung!O479),\"\",Datenerfassung!O479)","v":""},{"$f":"IF(ISBLANK(Datenerfassung!G479),\"\",Datenerfassung!G479)","v":""},{"$f":"IF(ISBLANK(Datenerfassung!M479),\"\",Datenerfassung!M479)","v":""},{"$f":"IF(ISBLANK(Datenerfassung!H479),\"\",Datenerfassung!H479)","v":""}]
[{"$f":"IF(ISBLANK(Datenerfassung!A480),\"\",Datenerfassung!A480)","v":""},{"$f":"IF(ISBLANK(Datenerfassung!B480),\"\",Datenerfassung!B480)","v":""},{"$f":"IF(ISBLANK(Datenerfassung!C480),\"\",Datenerfassung!C480)","v":""},{"$f":"IF(ISBLANK(Datenerfassung!I480),\"\",Datenerfassung!I480)","v":""},{"$f":"IF(ISBLANK(Datenerfassung!J480),\"\",Datenerfassung!J480)","v":""},"",{"$f":"IF(ISBLANK(Datenerfassung!L480),\"\",Datenerfassung!L480)","v":""},{"$f":"IF(ISBLANK(Datenerfassung!F480),\"\",Datenerfassung!F480)","v":""},{"$f":"IF(ISBLANK(Datenerfassung!D480),IF(COUNTBLANK(A470:H470)+COUNTBLANK(J470:O470)=14,\"\",\"- ohne Titel -\"),Datenerfassung!D480)","v":""},{"$f":"IF(ISBLANK(Datenerfassung!E480),\"\",Datenerfassung!E480)","v":""},"",{"$f":"IF(ISBLANK(Datenerfassung!O480),\"\",Datenerfassung!O480)","v":""},{"$f":"IF(ISBLANK(Datenerfassung!G480),\"\",Datenerfassung!G480)","v":""},{"$f":"IF(ISBLANK(Datenerfassung!M480),\"\",Datenerfassung!M480)","v":""},{"$f":"IF(ISBLANK(Datenerfassung!H480),\"\",Datenerfassung!H480)","v":""}]
[{"$f":"IF(ISBLANK(Datenerfassung!A481),\"\",Datenerfassung!A481)","v":""},{"$f":"IF(ISBLANK(Datenerfassung!B481),\"\",Datenerfassung!B481)","v":""},{"$f":"IF(ISBLANK(Datenerfassung!C481),\"\",Datenerfassung!C481)","v":""},{"$f":"IF(ISBLANK(Datenerfassung!I481),\"\",Datenerfassung!I481)","v":""},{"$f":"IF(ISBLANK(Datenerfassung!J481),\"\",Datenerfassung!J481)","v":""},"",{"$f":"IF(ISBLANK(Datenerfassung!L481),\"\",Datenerfassung!L481)","v":""},{"$f":"IF(ISBLANK(Datenerfassung!F481),\"\",Datenerfassung!F481)","v":""},{"$f":"IF(ISBLANK(Datenerfassung!D481),IF(COUNTBLANK(A471:H471)+COUNTBLANK(J471:O471)=14,\"\",\"- ohne Titel -\"),Datenerfassung!D481)","v":""},{"$f":"IF(ISBLANK(Datenerfassung!E481),\"\",Datenerfassung!E481)","v":""},"",{"$f":"IF(ISBLANK(Datenerfassung!O481),\"\",Datenerfassung!O481)","v":""},{"$f":"IF(ISBLANK(Datenerfassung!G481),\"\",Datenerfassung!G481)","v":""},{"$f":"IF(ISBLANK(Datenerfassung!M481),\"\",Datenerfassung!M481)","v":""},{"$f":"IF(ISBLANK(Datenerfassung!H481),\"\",Datenerfassung!H481)","v":""}]
[{"$f":"IF(ISBLANK(Datenerfassung!A482),\"\",Datenerfassung!A482)","v":""},{"$f":"IF(ISBLANK(Datenerfassung!B482),\"\",Datenerfassung!B482)","v":""},{"$f":"IF(ISBLANK(Datenerfassung!C482),\"\",Datenerfassung!C482)","v":""},{"$f":"IF(ISBLANK(Datenerfassung!I482),\"\",Datenerfassung!I482)","v":""},{"$f":"IF(ISBLANK(Datenerfassung!J482),\"\",Datenerfassung!J482)","v":""},"",{"$f":"IF(ISBLANK(Datenerfassung!L482),\"\",Datenerfassung!L482)","v":""},{"$f":"IF(ISBLANK(Datenerfassung!F482),\"\",Datenerfassung!F482)","v":""},{"$f":"IF(ISBLANK(Datenerfassung!D482),IF(COUNTBLANK(A472:H472)+COUNTBLANK(J472:O472)=14,\"\",\"- ohne Titel -\"),Datenerfassung!D482)","v":""},{"$f":"IF(ISBLANK(Datenerfassung!E482),\"\",Datenerfassung!E482)","v":""},"",{"$f":"IF(ISBLANK(Datenerfassung!O482),\"\",Datenerfassung!O482)","v":""},{"$f":"IF(ISBLANK(Datenerfassung!G482),\"\",Datenerfassung!G482)","v":""},{"$f":"IF(ISBLANK(Datenerfassung!M482),\"\",Datenerfassung!M482)","v":""},{"$f":"IF(ISBLANK(Datenerfassung!H482),\"\",Datenerfassung!H482)","v":""}]
[{"$f":"IF(ISBLANK(Datenerfassung!A483),\"\",Datenerfassung!A483)","v":""},{"$f":"IF(ISBLANK(Datenerfassung!B483),\"\",Datenerfassung!B483)","v":""},{"$f":"IF(ISBLANK(Datenerfassung!C483),\"\",Datenerfassung!C483)","v":""},{"$f":"IF(ISBLANK(Datenerfassung!I483),\"\",Datenerfassung!I483)","v":""},{"$f":"IF(ISBLANK(Datenerfassung!J483),\"\",Datenerfassung!J483)","v":""},"",{"$f":"IF(ISBLANK(Datenerfassung!L483),\"\",Datenerfassung!L483)","v":""},{"$f":"IF(ISBLANK(Datenerfassung!F483),\"\",Datenerfassung!F483)","v":""},{"$f":"IF(ISBLANK(Datenerfassung!D483),IF(COUNTBLANK(A473:H473)+COUNTBLANK(J473:O473)=14,\"\",\"- ohne Titel -\"),Datenerfassung!D483)","v":""},{"$f":"IF(ISBLANK(Datenerfassung!E483),\"\",Datenerfassung!E483)","v":""},"",{"$f":"IF(ISBLANK(Datenerfassung!O483),\"\",Datenerfassung!O483)","v":""},{"$f":"IF(ISBLANK(Datenerfassung!G483),\"\",Datenerfassung!G483)","v":""},{"$f":"IF(ISBLANK(Datenerfassung!M483),\"\",Datenerfassung!M483)","v":""},{"$f":"IF(ISBLANK(Datenerfassung!H483),\"\",Datenerfassung!H483)","v":""}]
[{"$f":"IF(ISBLANK(Datenerfassung!A484),\"\",Datenerfassung!A484)","v":""},{"$f":"IF(ISBLANK(Datenerfassung!B484),\"\",Datenerfassung!B484)","v":""},{"$f":"IF(ISBLANK(Datenerfassung!C484),\"\",Datenerfassung!C484)","v":""},{"$f":"IF(ISBLANK(Datenerfassung!I484),\"\",Datenerfassung!I484)","v":""},{"$f":"IF(ISBLANK(Datenerfassung!J484),\"\",Datenerfassung!J484)","v":""},"",{"$f":"IF(ISBLANK(Datenerfassung!L484),\"\",Datenerfassung!L484)","v":""},{"$f":"IF(ISBLANK(Datenerfassung!F484),\"\",Datenerfassung!F484)","v":""},{"$f":"IF(ISBLANK(Datenerfassung!D484),IF(COUNTBLANK(A474:H474)+COUNTBLANK(J474:O474)=14,\"\",\"- ohne Titel -\"),Datenerfassung!D484)","v":""},{"$f":"IF(ISBLANK(Datenerfassung!E484),\"\",Datenerfassung!E484)","v":""},"",{"$f":"IF(ISBLANK(Datenerfassung!O484),\"\",Datenerfassung!O484)","v":""},{"$f":"IF(ISBLANK(Datenerfassung!G484),\"\",Datenerfassung!G484)","v":""},{"$f":"IF(ISBLANK(Datenerfassung!M484),\"\",Datenerfassung!M484)","v":""},{"$f":"IF(ISBLANK(Datenerfassung!H484),\"\",Datenerfassung!H484)","v":""}]
[{"$f":"IF(ISBLANK(Datenerfassung!A485),\"\",Datenerfassung!A485)","v":""},{"$f":"IF(ISBLANK(Datenerfassung!B485),\"\",Datenerfassung!B485)","v":""},{"$f":"IF(ISBLANK(Datenerfassung!C485),\"\",Datenerfassung!C485)","v":""},{"$f":"IF(ISBLANK(Datenerfassung!I485),\"\",Datenerfassung!I485)","v":""},{"$f":"IF(ISBLANK(Datenerfassung!J485),\"\",Datenerfassung!J485)","v":""},"",{"$f":"IF(ISBLANK(Datenerfassung!L485),\"\",Datenerfassung!L485)","v":""},{"$f":"IF(ISBLANK(Datenerfassung!F485),\"\",Datenerfassung!F485)","v":""},{"$f":"IF(ISBLANK(Datenerfassung!D485),IF(COUNTBLANK(A475:H475)+COUNTBLANK(J475:O475)=14,\"\",\"- ohne Titel -\"),Datenerfassung!D485)","v":""},{"$f":"IF(ISBLANK(Datenerfassung!E485),\"\",Datenerfassung!E485)","v":""},"",{"$f":"IF(ISBLANK(Datenerfassung!O485),\"\",Datenerfassung!O485)","v":""},{"$f":"IF(ISBLANK(Datenerfassung!G485),\"\",Datenerfassung!G485)","v":""},{"$f":"IF(ISBLANK(Datenerfassung!M485),\"\",Datenerfassung!M485)","v":""},{"$f":"IF(ISBLANK(Datenerfassung!H485),\"\",Datenerfassung!H485)","v":""}]
[{"$f":"IF(ISBLANK(Datenerfassung!A486),\"\",Datenerfassung!A486)","v":""},{"$f":"IF(ISBLANK(Datenerfassung!B486),\"\",Datenerfassung!B486)","v":""},{"$f":"IF(ISBLANK(Datenerfassung!C486),\"\",Datenerfassung!C486)","v":""},{"$f":"IF(ISBLANK(Datenerfassung!I486),\"\",Datenerfassung!I486)","v":""},{"$f":"IF(ISBLANK(Datenerfassung!J486),\"\",Datenerfassung!J486)","v":""},"",{"$f":"IF(ISBLANK(Datenerfassung!L486),\"\",Datenerfassung!L486)","v":""},{"$f":"IF(ISBLANK(Datenerfassung!F486),\"\",Datenerfassung!F486)","v":""},{"$f":"IF(ISBLANK(Datenerfassung!D486),IF(COUNTBLANK(A476:H476)+COUNTBLANK(J476:O476)=14,\"\",\"- ohne Titel -\"),Datenerfassung!D486)","v":""},{"$f":"IF(ISBLANK(Datenerfassung!E486),\"\",Datenerfassung!E486)","v":""},"",{"$f":"IF(ISBLANK(Datenerfassung!O486),\"\",Datenerfassung!O486)","v":""},{"$f":"IF(ISBLANK(Datenerfassung!G486),\"\",Datenerfassung!G486)","v":""},{"$f":"IF(ISBLANK(Datenerfassung!M486),\"\",Datenerfassung!M486)","v":""},{"$f":"IF(ISBLANK(Datenerfassung!H486),\"\",Datenerfassung!H486)","v":""}]
[{"$f":"IF(ISBLANK(Datenerfassung!A487),\"\",Datenerfassung!A487)","v":""},{"$f":"IF(ISBLANK(Datenerfassung!B487),\"\",Datenerfassung!B487)","v":""},{"$f":"IF(ISBLANK(Datenerfassung!C487),\"\",Datenerfassung!C487)","v":""},{"$f":"IF(ISBLANK(Datenerfassung!I487),\"\",Datenerfassung!I487)","v":""},{"$f":"IF(ISBLANK(Datenerfassung!J487),\"\",Datenerfassung!J487)","v":""},"",{"$f":"IF(ISBLANK(Datenerfassung!L487),\"\",Datenerfassung!L487)","v":""},{"$f":"IF(ISBLANK(Datenerfassung!F487),\"\",Datenerfassung!F487)","v":""},{"$f":"IF(ISBLANK(Datenerfassung!D487),IF(COUNTBLANK(A477:H477)+COUNTBLANK(J477:O477)=14,\"\",\"- ohne Titel -\"),Datenerfassung!D487)","v":""},{"$f":"IF(ISBLANK(Datenerfassung!E487),\"\",Datenerfassung!E487)","v":""},"",{"$f":"IF(ISBLANK(Datenerfassung!O487),\"\",Datenerfassung!O487)","v":""},{"$f":"IF(ISBLANK(Datenerfassung!G487),\"\",Datenerfassung!G487)","v":""},{"$f":"IF(ISBLANK(Datenerfassung!M487),\"\",Datenerfassung!M487)","v":""},{"$f":"IF(ISBLANK(Datenerfassung!H487),\"\",Datenerfassung!H487)","v":""}]
[{"$f":"IF(ISBLANK(Datenerfassung!A488),\"\",Datenerfassung!A488)","v":""},{"$f":"IF(ISBLANK(Datenerfassung!B488),\"\",Datenerfassung!B488)","v":""},{"$f":"IF(ISBLANK(Datenerfassung!C488),\"\",Datenerfassung!C488)","v":""},{"$f":"IF(ISBLANK(Datenerfassung!I488),\"\",Datenerfassung!I488)","v":""},{"$f":"IF(ISBLANK(Datenerfassung!J488),\"\",Datenerfassung!J488)","v":""},"",{"$f":"IF(ISBLANK(Datenerfassung!L488),\"\",Datenerfassung!L488)","v":""},{"$f":"IF(ISBLANK(Datenerfassung!F488),\"\",Datenerfassung!F488)","v":""},{"$f":"IF(ISBLANK(Datenerfassung!D488),IF(COUNTBLANK(A478:H478)+COUNTBLANK(J478:O478)=14,\"\",\"- ohne Titel -\"),Datenerfassung!D488)","v":""},{"$f":"IF(ISBLANK(Datenerfassung!E488),\"\",Datenerfassung!E488)","v":""},"",{"$f":"IF(ISBLANK(Datenerfassung!O488),\"\",Datenerfassung!O488)","v":""},{"$f":"IF(ISBLANK(Datenerfassung!G488),\"\",Datenerfassung!G488)","v":""},{"$f":"IF(ISBLANK(Datenerfassung!M488),\"\",Datenerfassung!M488)","v":""},{"$f":"IF(ISBLANK(Datenerfassung!H488),\"\",Datenerfassung!H488)","v":""}]
[{"$f":"IF(ISBLANK(Datenerfassung!A489),\"\",Datenerfassung!A489)","v":""},{"$f":"IF(ISBLANK(Datenerfassung!B489),\"\",Datenerfassung!B489)","v":""},{"$f":"IF(ISBLANK(Datenerfassung!C489),\"\",Datenerfassung!C489)","v":""},{"$f":"IF(ISBLANK(Datenerfassung!I489),\"\",Datenerfassung!I489)","v":""},{"$f":"IF(ISBLANK(Datenerfassung!J489),\"\",Datenerfassung!J489)","v":""},"",{"$f":"IF(ISBLANK(Datenerfassung!L489),\"\",Datenerfassung!L489)","v":""},{"$f":"IF(ISBLANK(Datenerfassung!F489),\"\",Datenerfassung!F489)","v":""},{"$f":"IF(ISBLANK(Datenerfassung!D489),IF(COUNTBLANK(A479:H479)+COUNTBLANK(J479:O479)=14,\"\",\"- ohne Titel -\"),Datenerfassung!D489)","v":""},{"$f":"IF(ISBLANK(Datenerfassung!E489),\"\",Datenerfassung!E489)","v":""},"",{"$f":"IF(ISBLANK(Datenerfassung!O489),\"\",Datenerfassung!O489)","v":""},{"$f":"IF(ISBLANK(Datenerfassung!G489),\"\",Datenerfassung!G489)","v":""},{"$f":"IF(ISBLANK(Datenerfassung!M489),\"\",Datenerfassung!M489)","v":""},{"$f":"IF(ISBLANK(Datenerfassung!H489),\"\",Datenerfassung!H489)","v":""}]
[{"$f":"IF(ISBLANK(Datenerfassung!A490),\"\",Datenerfassung!A490)","v":""},{"$f":"IF(ISBLANK(Datenerfassung!B490),\"\",Datenerfassung!B490)","v":""},{"$f":"IF(ISBLANK(Datenerfassung!C490),\"\",Datenerfassung!C490)","v":""},{"$f":"IF(ISBLANK(Datenerfassung!I490),\"\",Datenerfassung!I490)","v":""},{"$f":"IF(ISBLANK(Datenerfassung!J490),\"\",Datenerfassung!J490)","v":""},"",{"$f":"IF(ISBLANK(Datenerfassung!L490),\"\",Datenerfassung!L490)","v":""},{"$f":"IF(ISBLANK(Datenerfassung!F490),\"\",Datenerfassung!F490)","v":""},{"$f":"IF(ISBLANK(Datenerfassung!D490),IF(COUNTBLANK(A480:H480)+COUNTBLANK(J480:O480)=14,\"\",\"- ohne Titel -\"),Datenerfassung!D490)","v":""},{"$f":"IF(ISBLANK(Datenerfassung!E490),\"\",Datenerfassung!E490)","v":""},"",{"$f":"IF(ISBLANK(Datenerfassung!O490),\"\",Datenerfassung!O490)","v":""},{"$f":"IF(ISBLANK(Datenerfassung!G490),\"\",Datenerfassung!G490)","v":""},{"$f":"IF(ISBLANK(Datenerfassung!M490),\"\",Datenerfassung!M490)","v":""},{"$f":"IF(ISBLANK(Datenerfassung!H490),\"\",Datenerfassung!H490)","v":""}]
[{"$f":"IF(ISBLANK(Datenerfassung!A491),\"\",Datenerfassung!A491)","v":""},{"$f":"IF(ISBLANK(Datenerfassung!B491),\"\",Datenerfassung!B491)","v":""},{"$f":"IF(ISBLANK(Datenerfassung!C491),\"\",Datenerfassung!C491)","v":""},{"$f":"IF(ISBLANK(Datenerfassung!I491),\"\",Datenerfassung!I491)","v":""},{"$f":"IF(ISBLANK(Datenerfassung!J491),\"\",Datenerfassung!J491)","v":""},"",{"$f":"IF(ISBLANK(Datenerfassung!L491),\"\",Datenerfassung!L491)","v":""},{"$f":"IF(ISBLANK(Datenerfassung!F491),\"\",Datenerfassung!F491)","v":""},{"$f":"IF(ISBLANK(Datenerfassung!D491),IF(COUNTBLANK(A481:H481)+COUNTBLANK(J481:O481)=14,\"\",\"- ohne Titel -\"),Datenerfassung!D491)","v":""},{"$f":"IF(ISBLANK(Datenerfassung!E491),\"\",Datenerfassung!E491)","v":""},"",{"$f":"IF(ISBLANK(Datenerfassung!O491),\"\",Datenerfassung!O491)","v":""},{"$f":"IF(ISBLANK(Datenerfassung!G491),\"\",Datenerfassung!G491)","v":""},{"$f":"IF(ISBLANK(Datenerfassung!M491),\"\",Datenerfassung!M491)","v":""},{"$f":"IF(ISBLANK(Datenerfassung!H491),\"\",Datenerfassung!H491)","v":""}]
[{"$f":"IF(ISBLANK(Datenerfassung!A492),\"\",Datenerfassung!A492)","v":""},{"$f":"IF(ISBLANK(Datenerfassung!B492),\"\",Datenerfassung!B492)","v":""},{"$f":"IF(ISBLANK(Datenerfassung!C492),\"\",Datenerfassung!C492)","v":""},{"$f":"IF(ISBLANK(Datenerfassung!I492),\"\",Datenerfassung!I492)","v":""},{"$f":"IF(ISBLANK(Datenerfassung!J492),\"\",Datenerfassung!J492)","v":""},"",{"$f":"IF(ISBLANK(Datenerfassung!L492),\"\",Datenerfassung!L492)","v":""},{"$f":"IF(ISBLANK(Datenerfassung!F492),\"\",Datenerfassung!F492)","v":""},{"$f":"IF(ISBLANK(Datenerfassung!D492),IF(COUNTBLANK(A482:H482)+COUNTBLANK(J482:O482)=14,\"\",\"- ohne Titel -\"),Datenerfassung!D492)","v":""},{"$f":"IF(ISBLANK(Datenerfassung!E492),\"\",Datenerfassung!E492)","v":""},"",{"$f":"IF(ISBLANK(Datenerfassung!O492),\"\",Datenerfassung!O492)","v":""},{"$f":"IF(ISBLANK(Datenerfassung!G492),\"\",Datenerfassung!G492)","v":""},{"$f":"IF(ISBLANK(Datenerfassung!M492),\"\",Datenerfassung!M492)","v":""},{"$f":"IF(ISBLANK(Datenerfassung!H492),\"\",Datenerfassung!H492)","v":""}]
[{"$f":"IF(ISBLANK(Datenerfassung!A493),\"\",Datenerfassung!A493)","v":""},{"$f":"IF(ISBLANK(Datenerfassung!B493),\"\",Datenerfassung!B493)","v":""},{"$f":"IF(ISBLANK(Datenerfassung!C493),\"\",Datenerfassung!C493)","v":""},{"$f":"IF(ISBLANK(Datenerfassung!I493),\"\",Datenerfassung!I493)","v":""},{"$f":"IF(ISBLANK(Datenerfassung!J493),\"\",Datenerfassung!J493)","v":""},"",{"$f":"IF(ISBLANK(Datenerfassung!L493),\"\",Datenerfassung!L493)","v":""},{"$f":"IF(ISBLANK(Datenerfassung!F493),\"\",Datenerfassung!F493)","v":""},{"$f":"IF(ISBLANK(Datenerfassung!D493),IF(COUNTBLANK(A483:H483)+COUNTBLANK(J483:O483)=14,\"\",\"- ohne Titel -\"),Datenerfassung!D493)","v":""},{"$f":"IF(ISBLANK(Datenerfassung!E493),\"\",Datenerfassung!E493)","v":""},"",{"$f":"IF(ISBLANK(Datenerfassung!O493),\"\",Datenerfassung!O493)","v":""},{"$f":"IF(ISBLANK(Datenerfassung!G493),\"\",Datenerfassung!G493)","v":""},{"$f":"IF(ISBLANK(Datenerfassung!M493),\"\",Datenerfassung!M493)","v":""},{"$f":"IF(ISBLANK(Datenerfassung!H493),\"\",Datenerfassung!H493)","v":""}]
[{"$f":"IF(ISBLANK(Datenerfassung!A494),\"\",Datenerfassung!A494)","v":""},{"$f":"IF(ISBLANK(Datenerfassung!B494),\"\",Datenerfassung!B494)","v":""},{"$f":"IF(ISBLANK(Datenerfassung!C494),\"\",Datenerfassung!C494)","v":""},{"$f":"IF(ISBLANK(Datenerfassung!I494),\"\",Datenerfassung!I494)","v":""},{"$f":"IF(ISBLANK(Datenerfassung!J494),\"\",Datenerfassung!J494)","v":""},"",{"$f":"IF(ISBLANK(Datenerfassung!L494),\"\",Datenerfassung!L494)","v":""},{"$f":"IF(ISBLANK(Datenerfassung!F494),\"\",Datenerfassung!F494)","v":""},{"$f":"IF(ISBLANK(Datenerfassung!D494),IF(COUNTBLANK(A484:H484)+COUNTBLANK(J484:O484)=14,\"\",\"- ohne Titel -\"),Datenerfassung!D494)","v":""},{"$f":"IF(ISBLANK(Datenerfassung!E494),\"\",Datenerfassung!E494)","v":""},"",{"$f":"IF(ISBLANK(Datenerfassung!O494),\"\",Datenerfassung!O494)","v":""},{"$f":"IF(ISBLANK(Datenerfassung!G494),\"\",Datenerfassung!G494)","v":""},{"$f":"IF(ISBLANK(Datenerfassung!M494),\"\",Datenerfassung!M494)","v":""},{"$f":"IF(ISBLANK(Datenerfassung!H494),\"\",Datenerfassung!H494)","v":""}]
[{"$f":"IF(ISBLANK(Datenerfassung!A495),\"\",Datenerfassung!A495)","v":""},{"$f":"IF(ISBLANK(Datenerfassung!B495),\"\",Datenerfassung!B495)","v":""},{"$f":"IF(ISBLANK(Datenerfassung!C495),\"\",Datenerfassung!C495)","v":""},{"$f":"IF(ISBLANK(Datenerfassung!I495),\"\",Datenerfassung!I495)","v":""},{"$f":"IF(ISBLANK(Datenerfassung!J495),\"\",Datenerfassung!J495)","v":""},"",{"$f":"IF(ISBLANK(Datenerfassung!L495),\"\",Datenerfassung!L495)","v":""},{"$f":"IF(ISBLANK(Datenerfassung!F495),\"\",Datenerfassung!F495)","v":""},{"$f":"IF(ISBLANK(Datenerfassung!D495),IF(COUNTBLANK(A485:H485)+COUNTBLANK(J485:O485)=14,\"\",\"- ohne Titel -\"),Datenerfassung!D495)","v":""},{"$f":"IF(ISBLANK(Datenerfassung!E495),\"\",Datenerfassung!E495)","v":""},"",{"$f":"IF(ISBLANK(Datenerfassung!O495),\"\",Datenerfassung!O495)","v":""},{"$f":"IF(ISBLANK(Datenerfassung!G495),\"\",Datenerfassung!G495)","v":""},{"$f":"IF(ISBLANK(Datenerfassung!M495),\"\",Datenerfassung!M495)","v":""},{"$f":"IF(ISBLANK(Datenerfassung!H495),\"\",Datenerfassung!H495)","v":""}]
[{"$f":"IF(ISBLANK(Datenerfassung!A496),\"\",Datenerfassung!A496)","v":""},{"$f":"IF(ISBLANK(Datenerfassung!B496),\"\",Datenerfassung!B496)","v":""},{"$f":"IF(ISBLANK(Datenerfassung!C496),\"\",Datenerfassung!C496)","v":""},{"$f":"IF(ISBLANK(Datenerfassung!I496),\"\",Datenerfassung!I496)","v":""},{"$f":"IF(ISBLANK(Datenerfassung!J496),\"\",Datenerfassung!J496)","v":""},"",{"$f":"IF(ISBLANK(Datenerfassung!L496),\"\",Datenerfassung!L496)","v":""},{"$f":"IF(ISBLANK(Datenerfassung!F496),\"\",Datenerfassung!F496)","v":""},{"$f":"IF(ISBLANK(Datenerfassung!D496),IF(COUNTBLANK(A486:H486)+COUNTBLANK(J486:O486)=14,\"\",\"- ohne Titel -\"),Datenerfassung!D496)","v":""},{"$f":"IF(ISBLANK(Datenerfassung!E496),\"\",Datenerfassung!E496)","v":""},"",{"$f":"IF(ISBLANK(Datenerfassung!O496),\"\",Datenerfassung!O496)","v":""},{"$f":"IF(ISBLANK(Datenerfassung!G496),\"\",Datenerfassung!G496)","v":""},{"$f":"IF(ISBLANK(Datenerfassung!M496),\"\",Datenerfassung!M496)","v":""},{"$f":"IF(ISBLANK(Datenerfassung!H496),\"\",Datenerfassung!H496)","v":""}]
[{"$f":"IF(ISBLANK(Datenerfassung!A497),\"\",Datenerfassung!A497)","v":""},{"$f":"IF(ISBLANK(Datenerfassung!B497),\"\",Datenerfassung!B497)","v":""},{"$f":"IF(ISBLANK(Datenerfassung!C497),\"\",Datenerfassung!C497)","v":""},{"$f":"IF(ISBLANK(Datenerfassung!I497),\"\",Datenerfassung!I497)","v":""},{"$f":"IF(ISBLANK(Datenerfassung!J497),\"\",Datenerfassung!J497)","v":""},"",{"$f":"IF(ISBLANK(Datenerfassung!L497),\"\",Datenerfassung!L497)","v":""},{"$f":"IF(ISBLANK(Datenerfassung!F497),\"\",Datenerfassung!F497)","v":""},{"$f":"IF(ISBLANK(Datenerfassung!D497),IF(COUNTBLANK(A487:H487)+COUNTBLANK(J487:O487)=14,\"\",\"- ohne Titel -\"),Datenerfassung!D497)","v":""},{"$f":"IF(ISBLANK(Datenerfassung!E497),\"\",Datenerfassung!E497)","v":""},"",{"$f":"IF(ISBLANK(Datenerfassung!O497),\"\",Datenerfassung!O497)","v":""},{"$f":"IF(ISBLANK(Datenerfassung!G497),\"\",Datenerfassung!G497)","v":""},{"$f":"IF(ISBLANK(Datenerfassung!M497),\"\",Datenerfassung!M497)","v":""},{"$f":"IF(ISBLANK(Datenerfassung!H497),\"\",Datenerfassung!H497)","v":""}]
[{"$f":"IF(ISBLANK(Datenerfassung!A498),\"\",Datenerfassung!A498)","v":""},{"$f":"IF(ISBLANK(Datenerfassung!B498),\"\",Datenerfassung!B498)","v":""},{"$f":"IF(ISBLANK(Datenerfassung!C498),\"\",Datenerfassung!C498)","v":""},{"$f":"IF(ISBLANK(Datenerfassung!I498),\"\",Datenerfassung!I498)","v":""},{"$f":"IF(ISBLANK(Datenerfassung!J498),\"\",Datenerfassung!J498)","v":""},"",{"$f":"IF(ISBLANK(Datenerfassung!L498),\"\",Datenerfassung!L498)","v":""},{"$f":"IF(ISBLANK(Datenerfassung!F498),\"\",Datenerfassung!F498)","v":""},{"$f":"IF(ISBLANK(Datenerfassung!D498),IF(COUNTBLANK(A488:H488)+COUNTBLANK(J488:O488)=14,\"\",\"- ohne Titel -\"),Datenerfassung!D498)","v":""},{"$f":"IF(ISBLANK(Datenerfassung!E498),\"\",Datenerfassung!E498)","v":""},"",{"$f":"IF(ISBLANK(Datenerfassung!O498),\"\",Datenerfassung!O498)","v":""},{"$f":"IF(ISBLANK(Datenerfassung!G498),\"\",Datenerfassung!G498)","v":""},{"$f":"IF(ISBLANK(Datenerfassung!M498),\"\",Datenerfassung!M498)","v":""},{"$f":"IF(ISBLANK(Datenerfassung!H498),\"\",Datenerfassung!H498)","v":""}]
[{"$f":"IF(ISBLANK(Datenerfassung!A499),\"\",Datenerfassung!A499)","v":""},{"$f":"IF(ISBLANK(Datenerfassung!B499),\"\",Datenerfassung!B499)","v":""},{"$f":"IF(ISBLANK(Datenerfassung!C499),\"\",Datenerfassung!C499)","v":""},{"$f":"IF(ISBLANK(Datenerfassung!I499),\"\",Datenerfassung!I499)","v":""},{"$f":"IF(ISBLANK(Datenerfassung!J499),\"\",Datenerfassung!J499)","v":""},"",{"$f":"IF(ISBLANK(Datenerfassung!L499),\"\",Datenerfassung!L499)","v":""},{"$f":"IF(ISBLANK(Datenerfassung!F499),\"\",Datenerfassung!F499)","v":""},{"$f":"IF(ISBLANK(Datenerfassung!D499),IF(COUNTBLANK(A489:H489)+COUNTBLANK(J489:O489)=14,\"\",\"- ohne Titel -\"),Datenerfassung!D499)","v":""},{"$f":"IF(ISBLANK(Datenerfassung!E499),\"\",Datenerfassung!E499)","v":""},"",{"$f":"IF(ISBLANK(Datenerfassung!O499),\"\",Datenerfassung!O499)","v":""},{"$f":"IF(ISBLANK(Datenerfassung!G499),\"\",Datenerfassung!G499)","v":""},{"$f":"IF(ISBLANK(Datenerfassung!M499),\"\",Datenerfassung!M499)","v":""},{"$f":"IF(ISBLANK(Datenerfassung!H499),\"\",Datenerfassung!H499)","v":""}]
[{"$f":"IF(ISBLANK(Datenerfassung!A500),\"\",Datenerfassung!A500)","v":""},{"$f":"IF(ISBLANK(Datenerfassung!B500),\"\",Datenerfassung!B500)","v":""},{"$f":"IF(ISBLANK(Datenerfassung!C500),\"\",Datenerfassung!C500)","v":""},{"$f":"IF(ISBLANK(Datenerfassung!I500),\"\",Datenerfassung!I500)","v":""},{"$f":"IF(ISBLANK(Datenerfassung!J500),\"\",Datenerfassung!J500)","v":""},"",{"$f":"IF(ISBLANK(Datenerfassung!L500),\"\",Datenerfassung!L500)","v":""},{"$f":"IF(ISBLANK(Datenerfassung!F500),\"\",Datenerfassung!F500)","v":""},{"$f":"IF(ISBLANK(Datenerfassung!D500),IF(COUNTBLANK(A490:H490)+COUNTBLANK(J490:O490)=14,\"\",\"- ohne Titel -\"),Datenerfassung!D500)","v":""},{"$f":"IF(ISBLANK(Datenerfassung!E500),\"\",Datenerfassung!E500)","v":""},"",{"$f":"IF(ISBLANK(Datenerfassung!O500),\"\",Datenerfassung!O500)","v":""},{"$f":"IF(ISBLANK(Datenerfassung!G500),\"\",Datenerfassung!G500)","v":""},{"$f":"IF(ISBLANK(Datenerfassung!M500),\"\",Datenerfassung!M500)","v":""},{"$f":"IF(ISBLANK(Datenerfassung!H500),\"\",Datenerfassung!H500)","v":""}]
[{"$f":"IF(ISBLANK(Datenerfassung!A501),\"\",Datenerfassung!A501)","v":""},{"$f":"IF(ISBLANK(Datenerfassung!B501),\"\",Datenerfassung!B501)","v":""},{"$f":"IF(ISBLANK(Datenerfassung!C501),\"\",Datenerfassung!C501)","v":""},{"$f":"IF(ISBLANK(Datenerfassung!I501),\"\",Datenerfassung!I501)","v":""},{"$f":"IF(ISBLANK(Datenerfassung!J501),\"\",Datenerfassung!J501)","v":""},"",{"$f":"IF(ISBLANK(Datenerfassung!L501),\"\",Datenerfassung!L501)","v":""},{"$f":"IF(ISBLANK(Datenerfassung!F501),\"\",Datenerfassung!F501)","v":""},{"$f":"IF(ISBLANK(Datenerfassung!D501),IF(COUNTBLANK(A491:H491)+COUNTBLANK(J491:O491)=14,\"\",\"- ohne Titel -\"),Datenerfassung!D501)","v":""},{"$f":"IF(ISBLANK(Datenerfassung!E501),\"\",Datenerfassung!E501)","v":""},"",{"$f":"IF(ISBLANK(Datenerfassung!O501),\"\",Datenerfassung!O501)","v":""},{"$f":"IF(ISBLANK(Datenerfassung!G501),\"\",Datenerfassung!G501)","v":""},{"$f":"IF(ISBLANK(Datenerfassung!M501),\"\",Datenerfassung!M501)","v":""},{"$f":"IF(ISBLANK(Datenerfassung!H501),\"\",Datenerfassung!H501)","v":""}]
[{"$f":"IF(ISBLANK(Datenerfassung!A502),\"\",Datenerfassung!A502)","v":""},{"$f":"IF(ISBLANK(Datenerfassung!B502),\"\",Datenerfassung!B502)","v":""},{"$f":"IF(ISBLANK(Datenerfassung!C502),\"\",Datenerfassung!C502)","v":""},{"$f":"IF(ISBLANK(Datenerfassung!I502),\"\",Datenerfassung!I502)","v":""},{"$f":"IF(ISBLANK(Datenerfassung!J502),\"\",Datenerfassung!J502)","v":""},"",{"$f":"IF(ISBLANK(Datenerfassung!L502),\"\",Datenerfassung!L502)","v":""},{"$f":"IF(ISBLANK(Datenerfassung!F502),\"\",Datenerfassung!F502)","v":""},{"$f":"IF(ISBLANK(Datenerfassung!D502),IF(COUNTBLANK(A492:H492)+COUNTBLANK(J492:O492)=14,\"\",\"- ohne Titel -\"),Datenerfassung!D502)","v":""},{"$f":"IF(ISBLANK(Datenerfassung!E502),\"\",Datenerfassung!E502)","v":""},"",{"$f":"IF(ISBLANK(Datenerfassung!O502),\"\",Datenerfassung!O502)","v":""},{"$f":"IF(ISBLANK(Datenerfassung!G502),\"\",Datenerfassung!G502)","v":""},{"$f":"IF(ISBLANK(Datenerfassung!M502),\"\",Datenerfassung!M502)","v":""},{"$f":"IF(ISBLANK(Datenerfassung!H502),\"\",Datenerfassung!H502)","v":""}]
[{"$f":"IF(ISBLANK(Datenerfassung!A503),\"\",Datenerfassung!A503)","v":""},{"$f":"IF(ISBLANK(Datenerfassung!B503),\"\",Datenerfassung!B503)","v":""},{"$f":"IF(ISBLANK(Datenerfassung!C503),\"\",Datenerfassung!C503)","v":""},{"$f":"IF(ISBLANK(Datenerfassung!I503),\"\",Datenerfassung!I503)","v":""},{"$f":"IF(ISBLANK(Datenerfassung!J503),\"\",Datenerfassung!J503)","v":""},"",{"$f":"IF(ISBLANK(Datenerfassung!L503),\"\",Datenerfassung!L503)","v":""},{"$f":"IF(ISBLANK(Datenerfassung!F503),\"\",Datenerfassung!F503)","v":""},{"$f":"IF(ISBLANK(Datenerfassung!D503),IF(COUNTBLANK(A493:H493)+COUNTBLANK(J493:O493)=14,\"\",\"- ohne Titel -\"),Datenerfassung!D503)","v":""},{"$f":"IF(ISBLANK(Datenerfassung!E503),\"\",Datenerfassung!E503)","v":""},"",{"$f":"IF(ISBLANK(Datenerfassung!O503),\"\",Datenerfassung!O503)","v":""},{"$f":"IF(ISBLANK(Datenerfassung!G503),\"\",Datenerfassung!G503)","v":""},{"$f":"IF(ISBLANK(Datenerfassung!M503),\"\",Datenerfassung!M503)","v":""},{"$f":"IF(ISBLANK(Datenerfassung!H503),\"\",Datenerfassung!H503)","v":""}]
[{"$f":"IF(ISBLANK(Datenerfassung!A504),\"\",Datenerfassung!A504)","v":""},{"$f":"IF(ISBLANK(Datenerfassung!B504),\"\",Datenerfassung!B504)","v":""},{"$f":"IF(ISBLANK(Datenerfassung!C504),\"\",Datenerfassung!C504)","v":""},{"$f":"IF(ISBLANK(Datenerfassung!I504),\"\",Datenerfassung!I504)","v":""},{"$f":"IF(ISBLANK(Datenerfassung!J504),\"\",Datenerfassung!J504)","v":""},"",{"$f":"IF(ISBLANK(Datenerfassung!L504),\"\",Datenerfassung!L504)","v":""},{"$f":"IF(ISBLANK(Datenerfassung!F504),\"\",Datenerfassung!F504)","v":""},{"$f":"IF(ISBLANK(Datenerfassung!D504),IF(COUNTBLANK(A494:H494)+COUNTBLANK(J494:O494)=14,\"\",\"- ohne Titel -\"),Datenerfassung!D504)","v":""},{"$f":"IF(ISBLANK(Datenerfassung!E504),\"\",Datenerfassung!E504)","v":""},"",{"$f":"IF(ISBLANK(Datenerfassung!O504),\"\",Datenerfassung!O504)","v":""},{"$f":"IF(ISBLANK(Datenerfassung!G504),\"\",Datenerfassung!G504)","v":""},{"$f":"IF(ISBLANK(Datenerfassung!M504),\"\",Datenerfassung!M504)","v":""},{"$f":"IF(ISBLANK(Datenerfassung!H504),\"\",Datenerfassung!H504)","v":""}]
[{"$f":"IF(ISBLANK(Datenerfassung!A505),\"\",Datenerfassung!A505)","v":""},{"$f":"IF(ISBLANK(Datenerfassung!B505),\"\",Datenerfassung!B505)","v":""},{"$f":"IF(ISBLANK(Datenerfassung!C505),\"\",Datenerfassung!C505)","v":""},{"$f":"IF(ISBLANK(Datenerfassung!I505),\"\",Datenerfassung!I505)","v":""},{"$f":"IF(ISBLANK(Datenerfassung!J505),\"\",Datenerfassung!J505)","v":""},"",{"$f":"IF(ISBLANK(Datenerfassung!L505),\"\",Datenerfassung!L505)","v":""},{"$f":"IF(ISBLANK(Datenerfassung!F505),\"\",Datenerfassung!F505)","v":""},{"$f":"IF(ISBLANK(Datenerfassung!D505),IF(COUNTBLANK(A495:H495)+COUNTBLANK(J495:O495)=14,\"\",\"- ohne Titel -\"),Datenerfassung!D505)","v":""},{"$f":"IF(ISBLANK(Datenerfassung!E505),\"\",Datenerfassung!E505)","v":""},"",{"$f":"IF(ISBLANK(Datenerfassung!O505),\"\",Datenerfassung!O505)","v":""},{"$f":"IF(ISBLANK(Datenerfassung!G505),\"\",Datenerfassung!G505)","v":""},{"$f":"IF(ISBLANK(Datenerfassung!M505),\"\",Datenerfassung!M505)","v":""},{"$f":"IF(ISBLANK(Datenerfassung!H505),\"\",Datenerfassung!H505)","v":""}]
[{"$f":"IF(ISBLANK(Datenerfassung!A506),\"\",Datenerfassung!A506)","v":""},{"$f":"IF(ISBLANK(Datenerfassung!B506),\"\",Datenerfassung!B506)","v":""},{"$f":"IF(ISBLANK(Datenerfassung!C506),\"\",Datenerfassung!C506)","v":""},{"$f":"IF(ISBLANK(Datenerfassung!I506),\"\",Datenerfassung!I506)","v":""},{"$f":"IF(ISBLANK(Datenerfassung!J506),\"\",Datenerfassung!J506)","v":""},"",{"$f":"IF(ISBLANK(Datenerfassung!L506),\"\",Datenerfassung!L506)","v":""},{"$f":"IF(ISBLANK(Datenerfassung!F506),\"\",Datenerfassung!F506)","v":""},{"$f":"IF(ISBLANK(Datenerfassung!D506),IF(COUNTBLANK(A496:H496)+COUNTBLANK(J496:O496)=14,\"\",\"- ohne Titel -\"),Datenerfassung!D506)","v":""},{"$f":"IF(ISBLANK(Datenerfassung!E506),\"\",Datenerfassung!E506)","v":""},"",{"$f":"IF(ISBLANK(Datenerfassung!O506),\"\",Datenerfassung!O506)","v":""},{"$f":"IF(ISBLANK(Datenerfassung!G506),\"\",Datenerfassung!G506)","v":""},{"$f":"IF(ISBLANK(Datenerfassung!M506),\"\",Datenerfassung!M506)","v":""},{"$f":"IF(ISBLANK(Datenerfassung!H506),\"\",Datenerfassung!H506)","v":""}]
[{"$f":"IF(ISBLANK(Datenerfassung!A507),\"\",Datenerfassung!A507)","v":""},{"$f":"IF(ISBLANK(Datenerfassung!B507),\"\",Datenerfassung!B507)","v":""},{"$f":"IF(ISBLANK(Datenerfassung!C507),\"\",Datenerfassung!C507)","v":""},{"$f":"IF(ISBLANK(Datenerfassung!I507),\"\",Datenerfassung!I507)","v":""},{"$f":"IF(ISBLANK(Datenerfassung!J507),\"\",Datenerfassung!J507)","v":""},"",{"$f":"IF(ISBLANK(Datenerfassung!L507),\"\",Datenerfassung!L507)","v":""},{"$f":"IF(ISBLANK(Datenerfassung!F507),\"\",Datenerfassung!F507)","v":""},{"$f":"IF(ISBLANK(Datenerfassung!D507),IF(COUNTBLANK(A497:H497)+COUNTBLANK(J497:O497)=14,\"\",\"- ohne Titel -\"),Datenerfassung!D507)","v":""},{"$f":"IF(ISBLANK(Datenerfassung!E507),\"\",Datenerfassung!E507)","v":""},"",{"$f":"IF(ISBLANK(Datenerfassung!O507),\"\",Datenerfassung!O507)","v":""},{"$f":"IF(ISBLANK(Datenerfassung!G507),\"\",Datenerfassung!G507)","v":""},{"$f":"IF(ISBLANK(Datenerfassung!M507),\"\",Datenerfassung!M507)","v":""},{"$f":"IF(ISBLANK(Datenerfassung!H507),\"\",Datenerfassung!H507)","v":""}]
[{"$f":"IF(ISBLANK(Datenerfassung!A508),\"\",Datenerfassung!A508)","v":""},{"$f":"IF(ISBLANK(Datenerfassung!B508),\"\",Datenerfassung!B508)","v":""},{"$f":"IF(ISBLANK(Datenerfassung!C508),\"\",Datenerfassung!C508)","v":""},{"$f":"IF(ISBLANK(Datenerfassung!I508),\"\",Datenerfassung!I508)","v":""},{"$f":"IF(ISBLANK(Datenerfassung!J508),\"\",Datenerfassung!J508)","v":""},"",{"$f":"IF(ISBLANK(Datenerfassung!L508),\"\",Datenerfassung!L508)","v":""},{"$f":"IF(ISBLANK(Datenerfassung!F508),\"\",Datenerfassung!F508)","v":""},{"$f":"IF(ISBLANK(Datenerfassung!D508),IF(COUNTBLANK(A498:H498)+COUNTBLANK(J498:O498)=14,\"\",\"- ohne Titel -\"),Datenerfassung!D508)","v":""},{"$f":"IF(ISBLANK(Datenerfassung!E508),\"\",Datenerfassung!E508)","v":""},"",{"$f":"IF(ISBLANK(Datenerfassung!O508),\"\",Datenerfassung!O508)","v":""},{"$f":"IF(ISBLANK(Datenerfassung!G508),\"\",Datenerfassung!G508)","v":""},{"$f":"IF(ISBLANK(Datenerfassung!M508),\"\",Datenerfassung!M508)","v":""},{"$f":"IF(ISBLANK(Datenerfassung!H508),\"\",Datenerfassung!H508)","v":""}]
[{"$f":"IF(ISBLANK(Datenerfassung!A509),\"\",Datenerfassung!A509)","v":""},{"$f":"IF(ISBLANK(Datenerfassung!B509),\"\",Datenerfassung!B509)","v":""},{"$f":"IF(ISBLANK(Datenerfassung!C509),\"\",Datenerfassung!C509)","v":""},{"$f":"IF(ISBLANK(Datenerfassung!I509),\"\",Datenerfassung!I509)","v":""},{"$f":"IF(ISBLANK(Datenerfassung!J509),\"\",Datenerfassung!J509)","v":""},"",{"$f":"IF(ISBLANK(Datenerfassung!L509),\"\",Datenerfassung!L509)","v":""},{"$f":"IF(ISBLANK(Datenerfassung!F509),\"\",Datenerfassung!F509)","v":""},{"$f":"IF(ISBLANK(Datenerfassung!D509),IF(COUNTBLANK(A499:H499)+COUNTBLANK(J499:O499)=14,\"\",\"- ohne Titel -\"),Datenerfassung!D509)","v":""},{"$f":"IF(ISBLANK(Datenerfassung!E509),\"\",Datenerfassung!E509)","v":""},"",{"$f":"IF(ISBLANK(Datenerfassung!O509),\"\",Datenerfassung!O509)","v":""},{"$f":"IF(ISBLANK(Datenerfassung!G509),\"\",Datenerfassung!G509)","v":""},{"$f":"IF(ISBLANK(Datenerfassung!M509),\"\",Datenerfassung!M509)","v":""},{"$f":"IF(ISBLANK(Datenerfassung!H509),\"\",Datenerfassung!H509)","v":""}]
[{"$f":"IF(ISBLANK(Datenerfassung!A510),\"\",Datenerfassung!A510)","v":""},{"$f":"IF(ISBLANK(Datenerfassung!B510),\"\",Datenerfassung!B510)","v":""},{"$f":"IF(ISBLANK(Datenerfassung!C510),\"\",Datenerfassung!C510)","v":""},{"$f":"IF(ISBLANK(Datenerfassung!I510),\"\",Datenerfassung!I510)","v":""},{"$f":"IF(ISBLANK(Datenerfassung!J510),\"\",Datenerfassung!J510)","v":""},"",{"$f":"IF(ISBLANK(Datenerfassung!L510),\"\",Datenerfassung!L510)","v":""},{"$f":"IF(ISBLANK(Datenerfassung!F510),\"\",Datenerfassung!F510)","v":""},{"$f":"IF(ISBLANK(Datenerfassung!D510),IF(COUNTBLANK(A500:H500)+COUNTBLANK(J500:O500)=14,\"\",\"- ohne Titel -\"),Datenerfassung!D510)","v":""},{"$f":"IF(ISBLANK(Datenerfassung!E510),\"\",Datenerfassung!E510)","v":""},"",{"$f":"IF(ISBLANK(Datenerfassung!O510),\"\",Datenerfassung!O510)","v":""},{"$f":"IF(ISBLANK(Datenerfassung!G510),\"\",Datenerfassung!G510)","v":""},{"$f":"IF(ISBLANK(Datenerfassung!M510),\"\",Datenerfassung!M510)","v":""},{"$f":"IF(ISBLANK(Datenerfassung!H510),\"\",Datenerfassung!H510)","v":""}]
[{"$f":"IF(ISBLANK(Datenerfassung!A511),\"\",Datenerfassung!A511)","v":""},{"$f":"IF(ISBLANK(Datenerfassung!B511),\"\",Datenerfassung!B511)","v":""},{"$f":"IF(ISBLANK(Datenerfassung!C511),\"\",Datenerfassung!C511)","v":""},{"$f":"IF(ISBLANK(Datenerfassung!I511),\"\",Datenerfassung!I511)","v":""},{"$f":"IF(ISBLANK(Datenerfassung!J511),\"\",Datenerfassung!J511)","v":""},"",{"$f":"IF(ISBLANK(Datenerfassung!L511),\"\",Datenerfassung!L511)","v":""},{"$f":"IF(ISBLANK(Datenerfassung!F511),\"\",Datenerfassung!F511)","v":""},{"$f":"IF(ISBLANK(Datenerfassung!D511),IF(COUNTBLANK(A501:H501)+COUNTBLANK(J501:O501)=14,\"\",\"- ohne Titel -\"),Datenerfassung!D511)","v":""},{"$f":"IF(ISBLANK(Datenerfassung!E511),\"\",Datenerfassung!E511)","v":""},"",{"$f":"IF(ISBLANK(Datenerfassung!O511),\"\",Datenerfassung!O511)","v":""},{"$f":"IF(ISBLANK(Datenerfassung!G511),\"\",Datenerfassung!G511)","v":""},{"$f":"IF(ISBLANK(Datenerfassung!M511),\"\",Datenerfassung!M511)","v":""},{"$f":"IF(ISBLANK(Datenerfassung!H511),\"\",Datenerfassung!H511)","v":""}]
[{"$f":"IF(ISBLANK(Datenerfassung!A512),\"\",Datenerfassung!A512)","v":""},{"$f":"IF(ISBLANK(Datenerfassung!B512),\"\",Datenerfassung!B512)","v":""},{"$f":"IF(ISBLANK(Datenerfassung!C512),\"\",Datenerfassung!C512)","v":""},{"$f":"IF(ISBLANK(Datenerfassung!I512),\"\",Datenerfassung!I512)","v":""},{"$f":"IF(ISBLANK(Datenerfassung!J512),\"\",Datenerfassung!J512)","v":""},"",{"$f":"IF(ISBLANK(Datenerfassung!L512),\"\",Datenerfassung!L512)","v":""},{"$f":"IF(ISBLANK(Datenerfassung!F512),\"\",Datenerfassung!F512)","v":""},{"$f":"IF(ISBLANK(Datenerfassung!D512),IF(COUNTBLANK(A502:H502)+COUNTBLANK(J502:O502)=14,\"\",\"- ohne Titel -\"),Datenerfassung!D512)","v":""},{"$f":"IF(ISBLANK(Datenerfassung!E512),\"\",Datenerfassung!E512)","v":""},"",{"$f":"IF(ISBLANK(Datenerfassung!O512),\"\",Datenerfassung!O512)","v":""},{"$f":"IF(ISBLANK(Datenerfassung!G512),\"\",Datenerfassung!G512)","v":""},{"$f":"IF(ISBLANK(Datenerfassung!M512),\"\",Datenerfassung!M512)","v":""},{"$f":"IF(ISBLANK(Datenerfassung!H512),\"\",Datenerfassung!H512)","v":""}]
[{"$f":"IF(ISBLANK(Datenerfassung!A513),\"\",Datenerfassung!A513)","v":""},{"$f":"IF(ISBLANK(Datenerfassung!B513),\"\",Datenerfassung!B513)","v":""},{"$f":"IF(ISBLANK(Datenerfassung!C513),\"\",Datenerfassung!C513)","v":""},{"$f":"IF(ISBLANK(Datenerfassung!I513),\"\",Datenerfassung!I513)","v":""},{"$f":"IF(ISBLANK(Datenerfassung!J513),\"\",Datenerfassung!J513)","v":""},"",{"$f":"IF(ISBLANK(Datenerfassung!L513),\"\",Datenerfassung!L513)","v":""},{"$f":"IF(ISBLANK(Datenerfassung!F513),\"\",Datenerfassung!F513)","v":""},{"$f":"IF(ISBLANK(Datenerfassung!D513),IF(COUNTBLANK(A503:H503)+COUNTBLANK(J503:O503)=14,\"\",\"- ohne Titel -\"),Datenerfassung!D513)","v":""},{"$f":"IF(ISBLANK(Datenerfassung!E513),\"\",Datenerfassung!E513)","v":""},"",{"$f":"IF(ISBLANK(Datenerfassung!O513),\"\",Datenerfassung!O513)","v":""},{"$f":"IF(ISBLANK(Datenerfassung!G513),\"\",Datenerfassung!G513)","v":""},{"$f":"IF(ISBLANK(Datenerfassung!M513),\"\",Datenerfassung!M513)","v":""},{"$f":"IF(ISBLANK(Datenerfassung!H513),\"\",Datenerfassung!H513)","v":""}]
[{"$f":"IF(ISBLANK(Datenerfassung!A514),\"\",Datenerfassung!A514)","v":""},{"$f":"IF(ISBLANK(Datenerfassung!B514),\"\",Datenerfassung!B514)","v":""},{"$f":"IF(ISBLANK(Datenerfassung!C514),\"\",Datenerfassung!C514)","v":""},{"$f":"IF(ISBLANK(Datenerfassung!I514),\"\",Datenerfassung!I514)","v":""},{"$f":"IF(ISBLANK(Datenerfassung!J514),\"\",Datenerfassung!J514)","v":""},"",{"$f":"IF(ISBLANK(Datenerfassung!L514),\"\",Datenerfassung!L514)","v":""},{"$f":"IF(ISBLANK(Datenerfassung!F514),\"\",Datenerfassung!F514)","v":""},{"$f":"IF(ISBLANK(Datenerfassung!D514),IF(COUNTBLANK(A504:H504)+COUNTBLANK(J504:O504)=14,\"\",\"- ohne Titel -\"),Datenerfassung!D514)","v":""},{"$f":"IF(ISBLANK(Datenerfassung!E514),\"\",Datenerfassung!E514)","v":""},"",{"$f":"IF(ISBLANK(Datenerfassung!O514),\"\",Datenerfassung!O514)","v":""},{"$f":"IF(ISBLANK(Datenerfassung!G514),\"\",Datenerfassung!G514)","v":""},{"$f":"IF(ISBLANK(Datenerfassung!M514),\"\",Datenerfassung!M514)","v":""},{"$f":"IF(ISBLANK(Datenerfassung!H514),\"\",Datenerfassung!H514)","v":""}]
[{"$f":"IF(ISBLANK(Datenerfassung!A515),\"\",Datenerfassung!A515)","v":""},{"$f":"IF(ISBLANK(Datenerfassung!B515),\"\",Datenerfassung!B515)","v":""},{"$f":"IF(ISBLANK(Datenerfassung!C515),\"\",Datenerfassung!C515)","v":""},{"$f":"IF(ISBLANK(Datenerfassung!I515),\"\",Datenerfassung!I515)","v":""},{"$f":"IF(ISBLANK(Datenerfassung!J515),\"\",Datenerfassung!J515)","v":""},"",{"$f":"IF(ISBLANK(Datenerfassung!L515),\"\",Datenerfassung!L515)","v":""},{"$f":"IF(ISBLANK(Datenerfassung!F515),\"\",Datenerfassung!F515)","v":""},{"$f":"IF(ISBLANK(Datenerfassung!D515),IF(COUNTBLANK(A505:H505)+COUNTBLANK(J505:O505)=14,\"\",\"- ohne Titel -\"),Datenerfassung!D515)","v":""},{"$f":"IF(ISBLANK(Datenerfassung!E515),\"\",Datenerfassung!E515)","v":""},"",{"$f":"IF(ISBLANK(Datenerfassung!O515),\"\",Datenerfassung!O515)","v":""},{"$f":"IF(ISBLANK(Datenerfassung!G515),\"\",Datenerfassung!G515)","v":""},{"$f":"IF(ISBLANK(Datenerfassung!M515),\"\",Datenerfassung!M515)","v":""},{"$f":"IF(ISBLANK(Datenerfassung!H515),\"\",Datenerfassung!H515)","v":""}]
[{"$f":"IF(ISBLANK(Datenerfassung!A516),\"\",Datenerfassung!A516)","v":""},{"$f":"IF(ISBLANK(Datenerfassung!B516),\"\",Datenerfassung!B516)","v":""},{"$f":"IF(ISBLANK(Datenerfassung!C516),\"\",Datenerfassung!C516)","v":""},{"$f":"IF(ISBLANK(Datenerfassung!I516),\"\",Datenerfassung!I516)","v":""},{"$f":"IF(ISBLANK(Datenerfassung!J516),\"\",Datenerfassung!J516)","v":""},"",{"$f":"IF(ISBLANK(Datenerfassung!L516),\"\",Datenerfassung!L516)","v":""},{"$f":"IF(ISBLANK(Datenerfassung!F516),\"\",Datenerfassung!F516)","v":""},{"$f":"IF(ISBLANK(Datenerfassung!D516),IF(COUNTBLANK(A506:H506)+COUNTBLANK(J506:O506)=14,\"\",\"- ohne Titel -\"),Datenerfassung!D516)","v":""},{"$f":"IF(ISBLANK(Datenerfassung!E516),\"\",Datenerfassung!E516)","v":""},"",{"$f":"IF(ISBLANK(Datenerfassung!O516),\"\",Datenerfassung!O516)","v":""},{"$f":"IF(ISBLANK(Datenerfassung!G516),\"\",Datenerfassung!G516)","v":""},{"$f":"IF(ISBLANK(Datenerfassung!M516),\"\",Datenerfassung!M516)","v":""},{"$f":"IF(ISBLANK(Datenerfassung!H516),\"\",Datenerfassung!H516)","v":""}]
[{"$f":"IF(ISBLANK(Datenerfassung!A517),\"\",Datenerfassung!A517)","v":""},{"$f":"IF(ISBLANK(Datenerfassung!B517),\"\",Datenerfassung!B517)","v":""},{"$f":"IF(ISBLANK(Datenerfassung!C517),\"\",Datenerfassung!C517)","v":""},{"$f":"IF(ISBLANK(Datenerfassung!I517),\"\",Datenerfassung!I517)","v":""},{"$f":"IF(ISBLANK(Datenerfassung!J517),\"\",Datenerfassung!J517)","v":""},"",{"$f":"IF(ISBLANK(Datenerfassung!L517),\"\",Datenerfassung!L517)","v":""},{"$f":"IF(ISBLANK(Datenerfassung!F517),\"\",Datenerfassung!F517)","v":""},{"$f":"IF(ISBLANK(Datenerfassung!D517),IF(COUNTBLANK(A507:H507)+COUNTBLANK(J507:O507)=14,\"\",\"- ohne Titel -\"),Datenerfassung!D517)","v":""},{"$f":"IF(ISBLANK(Datenerfassung!E517),\"\",Datenerfassung!E517)","v":""},"",{"$f":"IF(ISBLANK(Datenerfassung!O517),\"\",Datenerfassung!O517)","v":""},{"$f":"IF(ISBLANK(Datenerfassung!G517),\"\",Datenerfassung!G517)","v":""},{"$f":"IF(ISBLANK(Datenerfassung!M517),\"\",Datenerfassung!M517)","v":""},{"$f":"IF(ISBLANK(Datenerfassung!H517),\"\",Datenerfassung!H517)","v":""}]
[{"$f":"IF(ISBLANK(Datenerfassung!A518),\"\",Datenerfassung!A518)","v":""},{"$f":"IF(ISBLANK(Datenerfassung!B518),\"\",Datenerfassung!B518)","v":""},{"$f":"IF(ISBLANK(Datenerfassung!C518),\"\",Datenerfassung!C518)","v":""},{"$f":"IF(ISBLANK(Datenerfassung!I518),\"\",Datenerfassung!I518)","v":""},{"$f":"IF(ISBLANK(Datenerfassung!J518),\"\",Datenerfassung!J518)","v":""},"",{"$f":"IF(ISBLANK(Datenerfassung!L518),\"\",Datenerfassung!L518)","v":""},{"$f":"IF(ISBLANK(Datenerfassung!F518),\"\",Datenerfassung!F518)","v":""},{"$f":"IF(ISBLANK(Datenerfassung!D518),IF(COUNTBLANK(A508:H508)+COUNTBLANK(J508:O508)=14,\"\",\"- ohne Titel -\"),Datenerfassung!D518)","v":""},{"$f":"IF(ISBLANK(Datenerfassung!E518),\"\",Datenerfassung!E518)","v":""},"",{"$f":"IF(ISBLANK(Datenerfassung!O518),\"\",Datenerfassung!O518)","v":""},{"$f":"IF(ISBLANK(Datenerfassung!G518),\"\",Datenerfassung!G518)","v":""},{"$f":"IF(ISBLANK(Datenerfassung!M518),\"\",Datenerfassung!M518)","v":""},{"$f":"IF(ISBLANK(Datenerfassung!H518),\"\",Datenerfassung!H518)","v":""}]
[{"$f":"IF(ISBLANK(Datenerfassung!A519),\"\",Datenerfassung!A519)","v":""},{"$f":"IF(ISBLANK(Datenerfassung!B519),\"\",Datenerfassung!B519)","v":""},{"$f":"IF(ISBLANK(Datenerfassung!C519),\"\",Datenerfassung!C519)","v":""},{"$f":"IF(ISBLANK(Datenerfassung!I519),\"\",Datenerfassung!I519)","v":""},{"$f":"IF(ISBLANK(Datenerfassung!J519),\"\",Datenerfassung!J519)","v":""},"",{"$f":"IF(ISBLANK(Datenerfassung!L519),\"\",Datenerfassung!L519)","v":""},{"$f":"IF(ISBLANK(Datenerfassung!F519),\"\",Datenerfassung!F519)","v":""},{"$f":"IF(ISBLANK(Datenerfassung!D519),IF(COUNTBLANK(A509:H509)+COUNTBLANK(J509:O509)=14,\"\",\"- ohne Titel -\"),Datenerfassung!D519)","v":""},{"$f":"IF(ISBLANK(Datenerfassung!E519),\"\",Datenerfassung!E519)","v":""},"",{"$f":"IF(ISBLANK(Datenerfassung!O519),\"\",Datenerfassung!O519)","v":""},{"$f":"IF(ISBLANK(Datenerfassung!G519),\"\",Datenerfassung!G519)","v":""},{"$f":"IF(ISBLANK(Datenerfassung!M519),\"\",Datenerfassung!M519)","v":""},{"$f":"IF(ISBLANK(Datenerfassung!H519),\"\",Datenerfassung!H519)","v":""}]
[{"$f":"IF(ISBLANK(Datenerfassung!A520),\"\",Datenerfassung!A520)","v":""},{"$f":"IF(ISBLANK(Datenerfassung!B520),\"\",Datenerfassung!B520)","v":""},{"$f":"IF(ISBLANK(Datenerfassung!C520),\"\",Datenerfassung!C520)","v":""},{"$f":"IF(ISBLANK(Datenerfassung!I520),\"\",Datenerfassung!I520)","v":""},{"$f":"IF(ISBLANK(Datenerfassung!J520),\"\",Datenerfassung!J520)","v":""},"",{"$f":"IF(ISBLANK(Datenerfassung!L520),\"\",Datenerfassung!L520)","v":""},{"$f":"IF(ISBLANK(Datenerfassung!F520),\"\",Datenerfassung!F520)","v":""},{"$f":"IF(ISBLANK(Datenerfassung!D520),IF(COUNTBLANK(A510:H510)+COUNTBLANK(J510:O510)=14,\"\",\"- ohne Titel -\"),Datenerfassung!D520)","v":""},{"$f":"IF(ISBLANK(Datenerfassung!E520),\"\",Datenerfassung!E520)","v":""},"",{"$f":"IF(ISBLANK(Datenerfassung!O520),\"\",Datenerfassung!O520)","v":""},{"$f":"IF(ISBLANK(Datenerfassung!G520),\"\",Datenerfassung!G520)","v":""},{"$f":"IF(ISBLANK(Datenerfassung!M520),\"\",Datenerfassung!M520)","v":""},{"$f":"IF(ISBLANK(Datenerfassung!H520),\"\",Datenerfassung!H520)","v":""}]
[{"$f":"IF(ISBLANK(Datenerfassung!A521),\"\",Datenerfassung!A521)","v":""},{"$f":"IF(ISBLANK(Datenerfassung!B521),\"\",Datenerfassung!B521)","v":""},{"$f":"IF(ISBLANK(Datenerfassung!C521),\"\",Datenerfassung!C521)","v":""},{"$f":"IF(ISBLANK(Datenerfassung!I521),\"\",Datenerfassung!I521)","v":""},{"$f":"IF(ISBLANK(Datenerfassung!J521),\"\",Datenerfassung!J521)","v":""},"",{"$f":"IF(ISBLANK(Datenerfassung!L521),\"\",Datenerfassung!L521)","v":""},{"$f":"IF(ISBLANK(Datenerfassung!F521),\"\",Datenerfassung!F521)","v":""},{"$f":"IF(ISBLANK(Datenerfassung!D521),IF(COUNTBLANK(A511:H511)+COUNTBLANK(J511:O511)=14,\"\",\"- ohne Titel -\"),Datenerfassung!D521)","v":""},{"$f":"IF(ISBLANK(Datenerfassung!E521),\"\",Datenerfassung!E521)","v":""},"",{"$f":"IF(ISBLANK(Datenerfassung!O521),\"\",Datenerfassung!O521)","v":""},{"$f":"IF(ISBLANK(Datenerfassung!G521),\"\",Datenerfassung!G521)","v":""},{"$f":"IF(ISBLANK(Datenerfassung!M521),\"\",Datenerfassung!M521)","v":""},{"$f":"IF(ISBLANK(Datenerfassung!H521),\"\",Datenerfassung!H521)","v":""}]
[{"$f":"IF(ISBLANK(Datenerfassung!A522),\"\",Datenerfassung!A522)","v":""},{"$f":"IF(ISBLANK(Datenerfassung!B522),\"\",Datenerfassung!B522)","v":""},{"$f":"IF(ISBLANK(Datenerfassung!C522),\"\",Datenerfassung!C522)","v":""},{"$f":"IF(ISBLANK(Datenerfassung!I522),\"\",Datenerfassung!I522)","v":""},{"$f":"IF(ISBLANK(Datenerfassung!J522),\"\",Datenerfassung!J522)","v":""},"",{"$f":"IF(ISBLANK(Datenerfassung!L522),\"\",Datenerfassung!L522)","v":""},{"$f":"IF(ISBLANK(Datenerfassung!F522),\"\",Datenerfassung!F522)","v":""},{"$f":"IF(ISBLANK(Datenerfassung!D522),IF(COUNTBLANK(A512:H512)+COUNTBLANK(J512:O512)=14,\"\",\"- ohne Titel -\"),Datenerfassung!D522)","v":""},{"$f":"IF(ISBLANK(Datenerfassung!E522),\"\",Datenerfassung!E522)","v":""},"",{"$f":"IF(ISBLANK(Datenerfassung!O522),\"\",Datenerfassung!O522)","v":""},{"$f":"IF(ISBLANK(Datenerfassung!G522),\"\",Datenerfassung!G522)","v":""},{"$f":"IF(ISBLANK(Datenerfassung!M522),\"\",Datenerfassung!M522)","v":""},{"$f":"IF(ISBLANK(Datenerfassung!H522),\"\",Datenerfassung!H522)","v":""}]
[{"$f":"IF(ISBLANK(Datenerfassung!A523),\"\",Datenerfassung!A523)","v":""},{"$f":"IF(ISBLANK(Datenerfassung!B523),\"\",Datenerfassung!B523)","v":""},{"$f":"IF(ISBLANK(Datenerfassung!C523),\"\",Datenerfassung!C523)","v":""},{"$f":"IF(ISBLANK(Datenerfassung!I523),\"\",Datenerfassung!I523)","v":""},{"$f":"IF(ISBLANK(Datenerfassung!J523),\"\",Datenerfassung!J523)","v":""},"",{"$f":"IF(ISBLANK(Datenerfassung!L523),\"\",Datenerfassung!L523)","v":""},{"$f":"IF(ISBLANK(Datenerfassung!F523),\"\",Datenerfassung!F523)","v":""},{"$f":"IF(ISBLANK(Datenerfassung!D523),IF(COUNTBLANK(A513:H513)+COUNTBLANK(J513:O513)=14,\"\",\"- ohne Titel -\"),Datenerfassung!D523)","v":""},{"$f":"IF(ISBLANK(Datenerfassung!E523),\"\",Datenerfassung!E523)","v":""},"",{"$f":"IF(ISBLANK(Datenerfassung!O523),\"\",Datenerfassung!O523)","v":""},{"$f":"IF(ISBLANK(Datenerfassung!G523),\"\",Datenerfassung!G523)","v":""},{"$f":"IF(ISBLANK(Datenerfassung!M523),\"\",Datenerfassung!M523)","v":""},{"$f":"IF(ISBLANK(Datenerfassung!H523),\"\",Datenerfassung!H523)","v":""}]
[{"$f":"IF(ISBLANK(Datenerfassung!A524),\"\",Datenerfassung!A524)","v":""},{"$f":"IF(ISBLANK(Datenerfassung!B524),\"\",Datenerfassung!B524)","v":""},{"$f":"IF(ISBLANK(Datenerfassung!C524),\"\",Datenerfassung!C524)","v":""},{"$f":"IF(ISBLANK(Datenerfassung!I524),\"\",Datenerfassung!I524)","v":""},{"$f":"IF(ISBLANK(Datenerfassung!J524),\"\",Datenerfassung!J524)","v":""},"",{"$f":"IF(ISBLANK(Datenerfassung!L524),\"\",Datenerfassung!L524)","v":""},{"$f":"IF(ISBLANK(Datenerfassung!F524),\"\",Datenerfassung!F524)","v":""},{"$f":"IF(ISBLANK(Datenerfassung!D524),IF(COUNTBLANK(A514:H514)+COUNTBLANK(J514:O514)=14,\"\",\"- ohne Titel -\"),Datenerfassung!D524)","v":""},{"$f":"IF(ISBLANK(Datenerfassung!E524),\"\",Datenerfassung!E524)","v":""},"",{"$f":"IF(ISBLANK(Datenerfassung!O524),\"\",Datenerfassung!O524)","v":""},{"$f":"IF(ISBLANK(Datenerfassung!G524),\"\",Datenerfassung!G524)","v":""},{"$f":"IF(ISBLANK(Datenerfassung!M524),\"\",Datenerfassung!M524)","v":""},{"$f":"IF(ISBLANK(Datenerfassung!H524),\"\",Datenerfassung!H524)","v":""}]
[{"$f":"IF(ISBLANK(Datenerfassung!A525),\"\",Datenerfassung!A525)","v":""},{"$f":"IF(ISBLANK(Datenerfassung!B525),\"\",Datenerfassung!B525)","v":""},{"$f":"IF(ISBLANK(Datenerfassung!C525),\"\",Datenerfassung!C525)","v":""},{"$f":"IF(ISBLANK(Datenerfassung!I525),\"\",Datenerfassung!I525)","v":""},{"$f":"IF(ISBLANK(Datenerfassung!J525),\"\",Datenerfassung!J525)","v":""},{"$f":"IF(D515=\"\",\"\",IF(E515=\"\",D515,D515&\" - \"&E515))","v":""},{"$f":"IF(ISBLANK(Datenerfassung!L525),\"\",Datenerfassung!L525)","v":""},{"$f":"IF(ISBLANK(Datenerfassung!F525),\"\",Datenerfassung!F525)","v":""},{"$f":"IF(ISBLANK(Datenerfassung!D525),IF(COUNTBLANK(A515:H515)+COUNTBLANK(J515:O515)=14,\"\",\"- ohne Titel -\"),Datenerfassung!D525)","v":""},{"$f":"IF(ISBLANK(Datenerfassung!E525),\"\",Datenerfassung!E525)","v":""},{"$f":"IF(OR(E515=\"\",G515=\"\"),\"\",\"01.01.\"&RIGHT(E515,4)+G515+1)","v":""},{"$f":"IF(ISBLANK(Datenerfassung!O525),\"\",Datenerfassung!O525)","v":""},{"$f":"IF(ISBLANK(Datenerfassung!G525),\"\",Datenerfassung!G525)","v":""},{"$f":"IF(ISBLANK(Datenerfassung!M525),\"\",Datenerfassung!M525)","v":""},{"$f":"IF(ISBLANK(Datenerfassung!H525),\"\",Datenerfassung!H525)","v":""}]
[{"$f":"IF(ISBLANK(Datenerfassung!A526),\"\",Datenerfassung!A526)","v":""},{"$f":"IF(ISBLANK(Datenerfassung!B526),\"\",Datenerfassung!B526)","v":""},{"$f":"IF(ISBLANK(Datenerfassung!C526),\"\",Datenerfassung!C526)","v":""},{"$f":"IF(ISBLANK(Datenerfassung!I526),\"\",Datenerfassung!I526)","v":""},{"$f":"IF(ISBLANK(Datenerfassung!J526),\"\",Datenerfassung!J526)","v":""},"",{"$f":"IF(ISBLANK(Datenerfassung!L526),\"\",Datenerfassung!L526)","v":""},{"$f":"IF(ISBLANK(Datenerfassung!F526),\"\",Datenerfassung!F526)","v":""},{"$f":"IF(ISBLANK(Datenerfassung!D526),IF(COUNTBLANK(A516:H516)+COUNTBLANK(J516:O516)=14,\"\",\"- ohne Titel -\"),Datenerfassung!D526)","v":""},{"$f":"IF(ISBLANK(Datenerfassung!E526),\"\",Datenerfassung!E526)","v":""},"",{"$f":"IF(ISBLANK(Datenerfassung!O526),\"\",Datenerfassung!O526)","v":""},{"$f":"IF(ISBLANK(Datenerfassung!G526),\"\",Datenerfassung!G526)","v":""},{"$f":"IF(ISBLANK(Datenerfassung!M526),\"\",Datenerfassung!M526)","v":""},{"$f":"IF(ISBLANK(Datenerfassung!H526),\"\",Datenerfassung!H526)","v":""}]
[{"$f":"IF(ISBLANK(Datenerfassung!A527),\"\",Datenerfassung!A527)","v":""},{"$f":"IF(ISBLANK(Datenerfassung!B527),\"\",Datenerfassung!B527)","v":""},{"$f":"IF(ISBLANK(Datenerfassung!C527),\"\",Datenerfassung!C527)","v":""},{"$f":"IF(ISBLANK(Datenerfassung!I527),\"\",Datenerfassung!I527)","v":""},{"$f":"IF(ISBLANK(Datenerfassung!J527),\"\",Datenerfassung!J527)","v":""},"",{"$f":"IF(ISBLANK(Datenerfassung!L527),\"\",Datenerfassung!L527)","v":""},{"$f":"IF(ISBLANK(Datenerfassung!F527),\"\",Datenerfassung!F527)","v":""},{"$f":"IF(ISBLANK(Datenerfassung!D527),IF(COUNTBLANK(A517:H517)+COUNTBLANK(J517:O517)=14,\"\",\"- ohne Titel -\"),Datenerfassung!D527)","v":""},{"$f":"IF(ISBLANK(Datenerfassung!E527),\"\",Datenerfassung!E527)","v":""},"",{"$f":"IF(ISBLANK(Datenerfassung!O527),\"\",Datenerfassung!O527)","v":""},{"$f":"IF(ISBLANK(Datenerfassung!G527),\"\",Datenerfassung!G527)","v":""},{"$f":"IF(ISBLANK(Datenerfassung!M527),\"\",Datenerfassung!M527)","v":""},{"$f":"IF(ISBLANK(Datenerfassung!H527),\"\",Datenerfassung!H527)","v":""}]
[{"$f":"IF(ISBLANK(Datenerfassung!A528),\"\",Datenerfassung!A528)","v":""},{"$f":"IF(ISBLANK(Datenerfassung!B528),\"\",Datenerfassung!B528)","v":""},{"$f":"IF(ISBLANK(Datenerfassung!C528),\"\",Datenerfassung!C528)","v":""},{"$f":"IF(ISBLANK(Datenerfassung!I528),\"\",Datenerfassung!I528)","v":""},{"$f":"IF(ISBLANK(Datenerfassung!J528),\"\",Datenerfassung!J528)","v":""},"",{"$f":"IF(ISBLANK(Datenerfassung!L528),\"\",Datenerfassung!L528)","v":""},{"$f":"IF(ISBLANK(Datenerfassung!F528),\"\",Datenerfassung!F528)","v":""},{"$f":"IF(ISBLANK(Datenerfassung!D528),IF(COUNTBLANK(A518:H518)+COUNTBLANK(J518:O518)=14,\"\",\"- ohne Titel -\"),Datenerfassung!D528)","v":""},{"$f":"IF(ISBLANK(Datenerfassung!E528),\"\",Datenerfassung!E528)","v":""},"",{"$f":"IF(ISBLANK(Datenerfassung!O528),\"\",Datenerfassung!O528)","v":""},{"$f":"IF(ISBLANK(Datenerfassung!G528),\"\",Datenerfassung!G528)","v":""},{"$f":"IF(ISBLANK(Datenerfassung!M528),\"\",Datenerfassung!M528)","v":""},{"$f":"IF(ISBLANK(Datenerfassung!H528),\"\",Datenerfassung!H528)","v":""}]
[{"$f":"IF(ISBLANK(Datenerfassung!A529),\"\",Datenerfassung!A529)","v":""},{"$f":"IF(ISBLANK(Datenerfassung!B529),\"\",Datenerfassung!B529)","v":""},{"$f":"IF(ISBLANK(Datenerfassung!C529),\"\",Datenerfassung!C529)","v":""},{"$f":"IF(ISBLANK(Datenerfassung!I529),\"\",Datenerfassung!I529)","v":""},{"$f":"IF(ISBLANK(Datenerfassung!J529),\"\",Datenerfassung!J529)","v":""},"",{"$f":"IF(ISBLANK(Datenerfassung!L529),\"\",Datenerfassung!L529)","v":""},{"$f":"IF(ISBLANK(Datenerfassung!F529),\"\",Datenerfassung!F529)","v":""},{"$f":"IF(ISBLANK(Datenerfassung!D529),IF(COUNTBLANK(A519:H519)+COUNTBLANK(J519:O519)=14,\"\",\"- ohne Titel -\"),Datenerfassung!D529)","v":""},{"$f":"IF(ISBLANK(Datenerfassung!E529),\"\",Datenerfassung!E529)","v":""},"",{"$f":"IF(ISBLANK(Datenerfassung!O529),\"\",Datenerfassung!O529)","v":""},{"$f":"IF(ISBLANK(Datenerfassung!G529),\"\",Datenerfassung!G529)","v":""},{"$f":"IF(ISBLANK(Datenerfassung!M529),\"\",Datenerfassung!M529)","v":""},{"$f":"IF(ISBLANK(Datenerfassung!H529),\"\",Datenerfassung!H529)","v":""}]
[{"$f":"IF(ISBLANK(Datenerfassung!A530),\"\",Datenerfassung!A530)","v":""},{"$f":"IF(ISBLANK(Datenerfassung!B530),\"\",Datenerfassung!B530)","v":""},{"$f":"IF(ISBLANK(Datenerfassung!C530),\"\",Datenerfassung!C530)","v":""},{"$f":"IF(ISBLANK(Datenerfassung!I530),\"\",Datenerfassung!I530)","v":""},{"$f":"IF(ISBLANK(Datenerfassung!J530),\"\",Datenerfassung!J530)","v":""},"",{"$f":"IF(ISBLANK(Datenerfassung!L530),\"\",Datenerfassung!L530)","v":""},{"$f":"IF(ISBLANK(Datenerfassung!F530),\"\",Datenerfassung!F530)","v":""},{"$f":"IF(ISBLANK(Datenerfassung!D530),IF(COUNTBLANK(A520:H520)+COUNTBLANK(J520:O520)=14,\"\",\"- ohne Titel -\"),Datenerfassung!D530)","v":""},{"$f":"IF(ISBLANK(Datenerfassung!E530),\"\",Datenerfassung!E530)","v":""},"",{"$f":"IF(ISBLANK(Datenerfassung!O530),\"\",Datenerfassung!O530)","v":""},{"$f":"IF(ISBLANK(Datenerfassung!G530),\"\",Datenerfassung!G530)","v":""},{"$f":"IF(ISBLANK(Datenerfassung!M530),\"\",Datenerfassung!M530)","v":""},{"$f":"IF(ISBLANK(Datenerfassung!H530),\"\",Datenerfassung!H530)","v":""}]
[{"$f":"IF(ISBLANK(Datenerfassung!A531),\"\",Datenerfassung!A531)","v":""},{"$f":"IF(ISBLANK(Datenerfassung!B531),\"\",Datenerfassung!B531)","v":""},{"$f":"IF(ISBLANK(Datenerfassung!C531),\"\",Datenerfassung!C531)","v":""},{"$f":"IF(ISBLANK(Datenerfassung!I531),\"\",Datenerfassung!I531)","v":""},{"$f":"IF(ISBLANK(Datenerfassung!J531),\"\",Datenerfassung!J531)","v":""},"",{"$f":"IF(ISBLANK(Datenerfassung!L531),\"\",Datenerfassung!L531)","v":""},{"$f":"IF(ISBLANK(Datenerfassung!F531),\"\",Datenerfassung!F531)","v":""},{"$f":"IF(ISBLANK(Datenerfassung!D531),IF(COUNTBLANK(A521:H521)+COUNTBLANK(J521:O521)=14,\"\",\"- ohne Titel -\"),Datenerfassung!D531)","v":""},{"$f":"IF(ISBLANK(Datenerfassung!E531),\"\",Datenerfassung!E531)","v":""},"",{"$f":"IF(ISBLANK(Datenerfassung!O531),\"\",Datenerfassung!O531)","v":""},{"$f":"IF(ISBLANK(Datenerfassung!G531),\"\",Datenerfassung!G531)","v":""},{"$f":"IF(ISBLANK(Datenerfassung!M531),\"\",Datenerfassung!M531)","v":""},{"$f":"IF(ISBLANK(Datenerfassung!H531),\"\",Datenerfassung!H531)","v":""}]
[{"$f":"IF(ISBLANK(Datenerfassung!A532),\"\",Datenerfassung!A532)","v":""},{"$f":"IF(ISBLANK(Datenerfassung!B532),\"\",Datenerfassung!B532)","v":""},{"$f":"IF(ISBLANK(Datenerfassung!C532),\"\",Datenerfassung!C532)","v":""},{"$f":"IF(ISBLANK(Datenerfassung!I532),\"\",Datenerfassung!I532)","v":""},{"$f":"IF(ISBLANK(Datenerfassung!J532),\"\",Datenerfassung!J532)","v":""},"",{"$f":"IF(ISBLANK(Datenerfassung!L532),\"\",Datenerfassung!L532)","v":""},{"$f":"IF(ISBLANK(Datenerfassung!F532),\"\",Datenerfassung!F532)","v":""},{"$f":"IF(ISBLANK(Datenerfassung!D532),IF(COUNTBLANK(A522:H522)+COUNTBLANK(J522:O522)=14,\"\",\"- ohne Titel -\"),Datenerfassung!D532)","v":""},{"$f":"IF(ISBLANK(Datenerfassung!E532),\"\",Datenerfassung!E532)","v":""},"",{"$f":"IF(ISBLANK(Datenerfassung!O532),\"\",Datenerfassung!O532)","v":""},{"$f":"IF(ISBLANK(Datenerfassung!G532),\"\",Datenerfassung!G532)","v":""},{"$f":"IF(ISBLANK(Datenerfassung!M532),\"\",Datenerfassung!M532)","v":""},{"$f":"IF(ISBLANK(Datenerfassung!H532),\"\",Datenerfassung!H532)","v":""}]
[{"$f":"IF(ISBLANK(Datenerfassung!A533),\"\",Datenerfassung!A533)","v":""},{"$f":"IF(ISBLANK(Datenerfassung!B533),\"\",Datenerfassung!B533)","v":""},{"$f":"IF(ISBLANK(Datenerfassung!C533),\"\",Datenerfassung!C533)","v":""},{"$f":"IF(ISBLANK(Datenerfassung!I533),\"\",Datenerfassung!I533)","v":""},{"$f":"IF(ISBLANK(Datenerfassung!J533),\"\",Datenerfassung!J533)","v":""},"",{"$f":"IF(ISBLANK(Datenerfassung!L533),\"\",Datenerfassung!L533)","v":""},{"$f":"IF(ISBLANK(Datenerfassung!F533),\"\",Datenerfassung!F533)","v":""},{"$f":"IF(ISBLANK(Datenerfassung!D533),IF(COUNTBLANK(A523:H523)+COUNTBLANK(J523:O523)=14,\"\",\"- ohne Titel -\"),Datenerfassung!D533)","v":""},{"$f":"IF(ISBLANK(Datenerfassung!E533),\"\",Datenerfassung!E533)","v":""},"",{"$f":"IF(ISBLANK(Datenerfassung!O533),\"\",Datenerfassung!O533)","v":""},{"$f":"IF(ISBLANK(Datenerfassung!G533),\"\",Datenerfassung!G533)","v":""},{"$f":"IF(ISBLANK(Datenerfassung!M533),\"\",Datenerfassung!M533)","v":""},{"$f":"IF(ISBLANK(Datenerfassung!H533),\"\",Datenerfassung!H533)","v":""}]
[{"$f":"IF(ISBLANK(Datenerfassung!A534),\"\",Datenerfassung!A534)","v":""},{"$f":"IF(ISBLANK(Datenerfassung!B534),\"\",Datenerfassung!B534)","v":""},{"$f":"IF(ISBLANK(Datenerfassung!C534),\"\",Datenerfassung!C534)","v":""},{"$f":"IF(ISBLANK(Datenerfassung!I534),\"\",Datenerfassung!I534)","v":""},{"$f":"IF(ISBLANK(Datenerfassung!J534),\"\",Datenerfassung!J534)","v":""},"",{"$f":"IF(ISBLANK(Datenerfassung!L534),\"\",Datenerfassung!L534)","v":""},{"$f":"IF(ISBLANK(Datenerfassung!F534),\"\",Datenerfassung!F534)","v":""},{"$f":"IF(ISBLANK(Datenerfassung!D534),IF(COUNTBLANK(A524:H524)+COUNTBLANK(J524:O524)=14,\"\",\"- ohne Titel -\"),Datenerfassung!D534)","v":""},{"$f":"IF(ISBLANK(Datenerfassung!E534),\"\",Datenerfassung!E534)","v":""},"",{"$f":"IF(ISBLANK(Datenerfassung!O534),\"\",Datenerfassung!O534)","v":""},{"$f":"IF(ISBLANK(Datenerfassung!G534),\"\",Datenerfassung!G534)","v":""},{"$f":"IF(ISBLANK(Datenerfassung!M534),\"\",Datenerfassung!M534)","v":""},{"$f":"IF(ISBLANK(Datenerfassung!H534),\"\",Datenerfassung!H534)","v":""}]
[{"$f":"IF(ISBLANK(Datenerfassung!A535),\"\",Datenerfassung!A535)","v":""},{"$f":"IF(ISBLANK(Datenerfassung!B535),\"\",Datenerfassung!B535)","v":""},{"$f":"IF(ISBLANK(Datenerfassung!C535),\"\",Datenerfassung!C535)","v":""},{"$f":"IF(ISBLANK(Datenerfassung!I535),\"\",Datenerfassung!I535)","v":""},{"$f":"IF(ISBLANK(Datenerfassung!J535),\"\",Datenerfassung!J535)","v":""},"",{"$f":"IF(ISBLANK(Datenerfassung!L535),\"\",Datenerfassung!L535)","v":""},{"$f":"IF(ISBLANK(Datenerfassung!F535),\"\",Datenerfassung!F535)","v":""},{"$f":"IF(ISBLANK(Datenerfassung!D535),IF(COUNTBLANK(A525:H525)+COUNTBLANK(J525:O525)=14,\"\",\"- ohne Titel -\"),Datenerfassung!D535)","v":""},{"$f":"IF(ISBLANK(Datenerfassung!E535),\"\",Datenerfassung!E535)","v":""},"",{"$f":"IF(ISBLANK(Datenerfassung!O535),\"\",Datenerfassung!O535)","v":""},{"$f":"IF(ISBLANK(Datenerfassung!G535),\"\",Datenerfassung!G535)","v":""},{"$f":"IF(ISBLANK(Datenerfassung!M535),\"\",Datenerfassung!M535)","v":""},{"$f":"IF(ISBLANK(Datenerfassung!H535),\"\",Datenerfassung!H535)","v":""}]
[{"$f":"IF(ISBLANK(Datenerfassung!A536),\"\",Datenerfassung!A536)","v":""},{"$f":"IF(ISBLANK(Datenerfassung!B536),\"\",Datenerfassung!B536)","v":""},{"$f":"IF(ISBLANK(Datenerfassung!C536),\"\",Datenerfassung!C536)","v":""},{"$f":"IF(ISBLANK(Datenerfassung!I536),\"\",Datenerfassung!I536)","v":""},{"$f":"IF(ISBLANK(Datenerfassung!J536),\"\",Datenerfassung!J536)","v":""},"",{"$f":"IF(ISBLANK(Datenerfassung!L536),\"\",Datenerfassung!L536)","v":""},{"$f":"IF(ISBLANK(Datenerfassung!F536),\"\",Datenerfassung!F536)","v":""},{"$f":"IF(ISBLANK(Datenerfassung!D536),IF(COUNTBLANK(A526:H526)+COUNTBLANK(J526:O526)=14,\"\",\"- ohne Titel -\"),Datenerfassung!D536)","v":""},{"$f":"IF(ISBLANK(Datenerfassung!E536),\"\",Datenerfassung!E536)","v":""},"",{"$f":"IF(ISBLANK(Datenerfassung!O536),\"\",Datenerfassung!O536)","v":""},{"$f":"IF(ISBLANK(Datenerfassung!G536),\"\",Datenerfassung!G536)","v":""},{"$f":"IF(ISBLANK(Datenerfassung!M536),\"\",Datenerfassung!M536)","v":""},{"$f":"IF(ISBLANK(Datenerfassung!H536),\"\",Datenerfassung!H536)","v":""}]
[{"$f":"IF(ISBLANK(Datenerfassung!A537),\"\",Datenerfassung!A537)","v":""},{"$f":"IF(ISBLANK(Datenerfassung!B537),\"\",Datenerfassung!B537)","v":""},{"$f":"IF(ISBLANK(Datenerfassung!C537),\"\",Datenerfassung!C537)","v":""},{"$f":"IF(ISBLANK(Datenerfassung!I537),\"\",Datenerfassung!I537)","v":""},{"$f":"IF(ISBLANK(Datenerfassung!J537),\"\",Datenerfassung!J537)","v":""},"",{"$f":"IF(ISBLANK(Datenerfassung!L537),\"\",Datenerfassung!L537)","v":""},{"$f":"IF(ISBLANK(Datenerfassung!F537),\"\",Datenerfassung!F537)","v":""},{"$f":"IF(ISBLANK(Datenerfassung!D537),IF(COUNTBLANK(A527:H527)+COUNTBLANK(J527:O527)=14,\"\",\"- ohne Titel -\"),Datenerfassung!D537)","v":""},{"$f":"IF(ISBLANK(Datenerfassung!E537),\"\",Datenerfassung!E537)","v":""},"",{"$f":"IF(ISBLANK(Datenerfassung!O537),\"\",Datenerfassung!O537)","v":""},{"$f":"IF(ISBLANK(Datenerfassung!G537),\"\",Datenerfassung!G537)","v":""},{"$f":"IF(ISBLANK(Datenerfassung!M537),\"\",Datenerfassung!M537)","v":""},{"$f":"IF(ISBLANK(Datenerfassung!H537),\"\",Datenerfassung!H537)","v":""}]
[{"$f":"IF(ISBLANK(Datenerfassung!A538),\"\",Datenerfassung!A538)","v":""},{"$f":"IF(ISBLANK(Datenerfassung!B538),\"\",Datenerfassung!B538)","v":""},{"$f":"IF(ISBLANK(Datenerfassung!C538),\"\",Datenerfassung!C538)","v":""},{"$f":"IF(ISBLANK(Datenerfassung!I538),\"\",Datenerfassung!I538)","v":""},{"$f":"IF(ISBLANK(Datenerfassung!J538),\"\",Datenerfassung!J538)","v":""},"",{"$f":"IF(ISBLANK(Datenerfassung!L538),\"\",Datenerfassung!L538)","v":""},{"$f":"IF(ISBLANK(Datenerfassung!F538),\"\",Datenerfassung!F538)","v":""},{"$f":"IF(ISBLANK(Datenerfassung!D538),IF(COUNTBLANK(A528:H528)+COUNTBLANK(J528:O528)=14,\"\",\"- ohne Titel -\"),Datenerfassung!D538)","v":""},{"$f":"IF(ISBLANK(Datenerfassung!E538),\"\",Datenerfassung!E538)","v":""},"",{"$f":"IF(ISBLANK(Datenerfassung!O538),\"\",Datenerfassung!O538)","v":""},{"$f":"IF(ISBLANK(Datenerfassung!G538),\"\",Datenerfassung!G538)","v":""},{"$f":"IF(ISBLANK(Datenerfassung!M538),\"\",Datenerfassung!M538)","v":""},{"$f":"IF(ISBLANK(Datenerfassung!H538),\"\",Datenerfassung!H538)","v":""}]
[{"$f":"IF(ISBLANK(Datenerfassung!A539),\"\",Datenerfassung!A539)","v":""},{"$f":"IF(ISBLANK(Datenerfassung!B539),\"\",Datenerfassung!B539)","v":""},{"$f":"IF(ISBLANK(Datenerfassung!C539),\"\",Datenerfassung!C539)","v":""},{"$f":"IF(ISBLANK(Datenerfassung!I539),\"\",Datenerfassung!I539)","v":""},{"$f":"IF(ISBLANK(Datenerfassung!J539),\"\",Datenerfassung!J539)","v":""},"",{"$f":"IF(ISBLANK(Datenerfassung!L539),\"\",Datenerfassung!L539)","v":""},{"$f":"IF(ISBLANK(Datenerfassung!F539),\"\",Datenerfassung!F539)","v":""},{"$f":"IF(ISBLANK(Datenerfassung!D539),IF(COUNTBLANK(A529:H529)+COUNTBLANK(J529:O529)=14,\"\",\"- ohne Titel -\"),Datenerfassung!D539)","v":""},{"$f":"IF(ISBLANK(Datenerfassung!E539),\"\",Datenerfassung!E539)","v":""},"",{"$f":"IF(ISBLANK(Datenerfassung!O539),\"\",Datenerfassung!O539)","v":""},{"$f":"IF(ISBLANK(Datenerfassung!G539),\"\",Datenerfassung!G539)","v":""},{"$f":"IF(ISBLANK(Datenerfassung!M539),\"\",Datenerfassung!M539)","v":""},{"$f":"IF(ISBLANK(Datenerfassung!H539),\"\",Datenerfassung!H539)","v":""}]
[{"$f":"IF(ISBLANK(Datenerfassung!A540),\"\",Datenerfassung!A540)","v":""},{"$f":"IF(ISBLANK(Datenerfassung!B540),\"\",Datenerfassung!B540)","v":""},{"$f":"IF(ISBLANK(Datenerfassung!C540),\"\",Datenerfassung!C540)","v":""},{"$f":"IF(ISBLANK(Datenerfassung!I540),\"\",Datenerfassung!I540)","v":""},{"$f":"IF(ISBLANK(Datenerfassung!J540),\"\",Datenerfassung!J540)","v":""},"",{"$f":"IF(ISBLANK(Datenerfassung!L540),\"\",Datenerfassung!L540)","v":""},{"$f":"IF(ISBLANK(Datenerfassung!F540),\"\",Datenerfassung!F540)","v":""},{"$f":"IF(ISBLANK(Datenerfassung!D540),IF(COUNTBLANK(A530:H530)+COUNTBLANK(J530:O530)=14,\"\",\"- ohne Titel -\"),Datenerfassung!D540)","v":""},{"$f":"IF(ISBLANK(Datenerfassung!E540),\"\",Datenerfassung!E540)","v":""},"",{"$f":"IF(ISBLANK(Datenerfassung!O540),\"\",Datenerfassung!O540)","v":""},{"$f":"IF(ISBLANK(Datenerfassung!G540),\"\",Datenerfassung!G540)","v":""},{"$f":"IF(ISBLANK(Datenerfassung!M540),\"\",Datenerfassung!M540)","v":""},{"$f":"IF(ISBLANK(Datenerfassung!H540),\"\",Datenerfassung!H540)","v":""}]
[{"$f":"IF(ISBLANK(Datenerfassung!A541),\"\",Datenerfassung!A541)","v":""},{"$f":"IF(ISBLANK(Datenerfassung!B541),\"\",Datenerfassung!B541)","v":""},{"$f":"IF(ISBLANK(Datenerfassung!C541),\"\",Datenerfassung!C541)","v":""},{"$f":"IF(ISBLANK(Datenerfassung!I541),\"\",Datenerfassung!I541)","v":""},{"$f":"IF(ISBLANK(Datenerfassung!J541),\"\",Datenerfassung!J541)","v":""},"",{"$f":"IF(ISBLANK(Datenerfassung!L541),\"\",Datenerfassung!L541)","v":""},{"$f":"IF(ISBLANK(Datenerfassung!F541),\"\",Datenerfassung!F541)","v":""},{"$f":"IF(ISBLANK(Datenerfassung!D541),IF(COUNTBLANK(A531:H531)+COUNTBLANK(J531:O531)=14,\"\",\"- ohne Titel -\"),Datenerfassung!D541)","v":""},{"$f":"IF(ISBLANK(Datenerfassung!E541),\"\",Datenerfassung!E541)","v":""},"",{"$f":"IF(ISBLANK(Datenerfassung!O541),\"\",Datenerfassung!O541)","v":""},{"$f":"IF(ISBLANK(Datenerfassung!G541),\"\",Datenerfassung!G541)","v":""},{"$f":"IF(ISBLANK(Datenerfassung!M541),\"\",Datenerfassung!M541)","v":""},{"$f":"IF(ISBLANK(Datenerfassung!H541),\"\",Datenerfassung!H541)","v":""}]
[{"$f":"IF(ISBLANK(Datenerfassung!A542),\"\",Datenerfassung!A542)","v":""},{"$f":"IF(ISBLANK(Datenerfassung!B542),\"\",Datenerfassung!B542)","v":""},{"$f":"IF(ISBLANK(Datenerfassung!C542),\"\",Datenerfassung!C542)","v":""},{"$f":"IF(ISBLANK(Datenerfassung!I542),\"\",Datenerfassung!I542)","v":""},{"$f":"IF(ISBLANK(Datenerfassung!J542),\"\",Datenerfassung!J542)","v":""},"",{"$f":"IF(ISBLANK(Datenerfassung!L542),\"\",Datenerfassung!L542)","v":""},{"$f":"IF(ISBLANK(Datenerfassung!F542),\"\",Datenerfassung!F542)","v":""},{"$f":"IF(ISBLANK(Datenerfassung!D542),IF(COUNTBLANK(A532:H532)+COUNTBLANK(J532:O532)=14,\"\",\"- ohne Titel -\"),Datenerfassung!D542)","v":""},{"$f":"IF(ISBLANK(Datenerfassung!E542),\"\",Datenerfassung!E542)","v":""},"",{"$f":"IF(ISBLANK(Datenerfassung!O542),\"\",Datenerfassung!O542)","v":""},{"$f":"IF(ISBLANK(Datenerfassung!G542),\"\",Datenerfassung!G542)","v":""},{"$f":"IF(ISBLANK(Datenerfassung!M542),\"\",Datenerfassung!M542)","v":""},{"$f":"IF(ISBLANK(Datenerfassung!H542),\"\",Datenerfassung!H542)","v":""}]
[{"$f":"IF(ISBLANK(Datenerfassung!A543),\"\",Datenerfassung!A543)","v":""},{"$f":"IF(ISBLANK(Datenerfassung!B543),\"\",Datenerfassung!B543)","v":""},{"$f":"IF(ISBLANK(Datenerfassung!C543),\"\",Datenerfassung!C543)","v":""},{"$f":"IF(ISBLANK(Datenerfassung!I543),\"\",Datenerfassung!I543)","v":""},{"$f":"IF(ISBLANK(Datenerfassung!J543),\"\",Datenerfassung!J543)","v":""},"",{"$f":"IF(ISBLANK(Datenerfassung!L543),\"\",Datenerfassung!L543)","v":""},{"$f":"IF(ISBLANK(Datenerfassung!F543),\"\",Datenerfassung!F543)","v":""},{"$f":"IF(ISBLANK(Datenerfassung!D543),IF(COUNTBLANK(A533:H533)+COUNTBLANK(J533:O533)=14,\"\",\"- ohne Titel -\"),Datenerfassung!D543)","v":""},{"$f":"IF(ISBLANK(Datenerfassung!E543),\"\",Datenerfassung!E543)","v":""},"",{"$f":"IF(ISBLANK(Datenerfassung!O543),\"\",Datenerfassung!O543)","v":""},{"$f":"IF(ISBLANK(Datenerfassung!G543),\"\",Datenerfassung!G543)","v":""},{"$f":"IF(ISBLANK(Datenerfassung!M543),\"\",Datenerfassung!M543)","v":""},{"$f":"IF(ISBLANK(Datenerfassung!H543),\"\",Datenerfassung!H543)","v":""}]
[{"$f":"IF(ISBLANK(Datenerfassung!A544),\"\",Datenerfassung!A544)","v":""},{"$f":"IF(ISBLANK(Datenerfassung!B544),\"\",Datenerfassung!B544)","v":""},{"$f":"IF(ISBLANK(Datenerfassung!C544),\"\",Datenerfassung!C544)","v":""},{"$f":"IF(ISBLANK(Datenerfassung!I544),\"\",Datenerfassung!I544)","v":""},{"$f":"IF(ISBLANK(Datenerfassung!J544),\"\",Datenerfassung!J544)","v":""},"",{"$f":"IF(ISBLANK(Datenerfassung!L544),\"\",Datenerfassung!L544)","v":""},{"$f":"IF(ISBLANK(Datenerfassung!F544),\"\",Datenerfassung!F544)","v":""},{"$f":"IF(ISBLANK(Datenerfassung!D544),IF(COUNTBLANK(A534:H534)+COUNTBLANK(J534:O534)=14,\"\",\"- ohne Titel -\"),Datenerfassung!D544)","v":""},{"$f":"IF(ISBLANK(Datenerfassung!E544),\"\",Datenerfassung!E544)","v":""},"",{"$f":"IF(ISBLANK(Datenerfassung!O544),\"\",Datenerfassung!O544)","v":""},{"$f":"IF(ISBLANK(Datenerfassung!G544),\"\",Datenerfassung!G544)","v":""},{"$f":"IF(ISBLANK(Datenerfassung!M544),\"\",Datenerfassung!M544)","v":""},{"$f":"IF(ISBLANK(Datenerfassung!H544),\"\",Datenerfassung!H544)","v":""}]
[{"$f":"IF(ISBLANK(Datenerfassung!A545),\"\",Datenerfassung!A545)","v":""},{"$f":"IF(ISBLANK(Datenerfassung!B545),\"\",Datenerfassung!B545)","v":""},{"$f":"IF(ISBLANK(Datenerfassung!C545),\"\",Datenerfassung!C545)","v":""},{"$f":"IF(ISBLANK(Datenerfassung!I545),\"\",Datenerfassung!I545)","v":""},{"$f":"IF(ISBLANK(Datenerfassung!J545),\"\",Datenerfassung!J545)","v":""},"",{"$f":"IF(ISBLANK(Datenerfassung!L545),\"\",Datenerfassung!L545)","v":""},{"$f":"IF(ISBLANK(Datenerfassung!F545),\"\",Datenerfassung!F545)","v":""},{"$f":"IF(ISBLANK(Datenerfassung!D545),IF(COUNTBLANK(A535:H535)+COUNTBLANK(J535:O535)=14,\"\",\"- ohne Titel -\"),Datenerfassung!D545)","v":""},{"$f":"IF(ISBLANK(Datenerfassung!E545),\"\",Datenerfassung!E545)","v":""},"",{"$f":"IF(ISBLANK(Datenerfassung!O545),\"\",Datenerfassung!O545)","v":""},{"$f":"IF(ISBLANK(Datenerfassung!G545),\"\",Datenerfassung!G545)","v":""},{"$f":"IF(ISBLANK(Datenerfassung!M545),\"\",Datenerfassung!M545)","v":""},{"$f":"IF(ISBLANK(Datenerfassung!H545),\"\",Datenerfassung!H545)","v":""}]
[{"$f":"IF(ISBLANK(Datenerfassung!A546),\"\",Datenerfassung!A546)","v":""},{"$f":"IF(ISBLANK(Datenerfassung!B546),\"\",Datenerfassung!B546)","v":""},{"$f":"IF(ISBLANK(Datenerfassung!C546),\"\",Datenerfassung!C546)","v":""},{"$f":"IF(ISBLANK(Datenerfassung!I546),\"\",Datenerfassung!I546)","v":""},{"$f":"IF(ISBLANK(Datenerfassung!J546),\"\",Datenerfassung!J546)","v":""},"",{"$f":"IF(ISBLANK(Datenerfassung!L546),\"\",Datenerfassung!L546)","v":""},{"$f":"IF(ISBLANK(Datenerfassung!F546),\"\",Datenerfassung!F546)","v":""},{"$f":"IF(ISBLANK(Datenerfassung!D546),IF(COUNTBLANK(A536:H536)+COUNTBLANK(J536:O536)=14,\"\",\"- ohne Titel -\"),Datenerfassung!D546)","v":""},{"$f":"IF(ISBLANK(Datenerfassung!E546),\"\",Datenerfassung!E546)","v":""},"",{"$f":"IF(ISBLANK(Datenerfassung!O546),\"\",Datenerfassung!O546)","v":""},{"$f":"IF(ISBLANK(Datenerfassung!G546),\"\",Datenerfassung!G546)","v":""},{"$f":"IF(ISBLANK(Datenerfassung!M546),\"\",Datenerfassung!M546)","v":""},{"$f":"IF(ISBLANK(Datenerfassung!H546),\"\",Datenerfassung!H546)","v":""}]
[{"$f":"IF(ISBLANK(Datenerfassung!A547),\"\",Datenerfassung!A547)","v":""},{"$f":"IF(ISBLANK(Datenerfassung!B547),\"\",Datenerfassung!B547)","v":""},{"$f":"IF(ISBLANK(Datenerfassung!C547),\"\",Datenerfassung!C547)","v":""},{"$f":"IF(ISBLANK(Datenerfassung!I547),\"\",Datenerfassung!I547)","v":""},{"$f":"IF(ISBLANK(Datenerfassung!J547),\"\",Datenerfassung!J547)","v":""},"",{"$f":"IF(ISBLANK(Datenerfassung!L547),\"\",Datenerfassung!L547)","v":""},{"$f":"IF(ISBLANK(Datenerfassung!F547),\"\",Datenerfassung!F547)","v":""},{"$f":"IF(ISBLANK(Datenerfassung!D547),IF(COUNTBLANK(A537:H537)+COUNTBLANK(J537:O537)=14,\"\",\"- ohne Titel -\"),Datenerfassung!D547)","v":""},{"$f":"IF(ISBLANK(Datenerfassung!E547),\"\",Datenerfassung!E547)","v":""},"",{"$f":"IF(ISBLANK(Datenerfassung!O547),\"\",Datenerfassung!O547)","v":""},{"$f":"IF(ISBLANK(Datenerfassung!G547),\"\",Datenerfassung!G547)","v":""},{"$f":"IF(ISBLANK(Datenerfassung!M547),\"\",Datenerfassung!M547)","v":""},{"$f":"IF(ISBLANK(Datenerfassung!H547),\"\",Datenerfassung!H547)","v":""}]
[{"$f":"IF(ISBLANK(Datenerfassung!A548),\"\",Datenerfassung!A548)","v":""},{"$f":"IF(ISBLANK(Datenerfassung!B548),\"\",Datenerfassung!B548)","v":""},{"$f":"IF(ISBLANK(Datenerfassung!C548),\"\",Datenerfassung!C548)","v":""},{"$f":"IF(ISBLANK(Datenerfassung!I548),\"\",Datenerfassung!I548)","v":""},{"$f":"IF(ISBLANK(Datenerfassung!J548),\"\",Datenerfassung!J548)","v":""},"",{"$f":"IF(ISBLANK(Datenerfassung!L548),\"\",Datenerfassung!L548)","v":""},{"$f":"IF(ISBLANK(Datenerfassung!F548),\"\",Datenerfassung!F548)","v":""},{"$f":"IF(ISBLANK(Datenerfassung!D548),IF(COUNTBLANK(A538:H538)+COUNTBLANK(J538:O538)=14,\"\",\"- ohne Titel -\"),Datenerfassung!D548)","v":""},{"$f":"IF(ISBLANK(Datenerfassung!E548),\"\",Datenerfassung!E548)","v":""},"",{"$f":"IF(ISBLANK(Datenerfassung!O548),\"\",Datenerfassung!O548)","v":""},{"$f":"IF(ISBLANK(Datenerfassung!G548),\"\",Datenerfassung!G548)","v":""},{"$f":"IF(ISBLANK(Datenerfassung!M548),\"\",Datenerfassung!M548)","v":""},{"$f":"IF(ISBLANK(Datenerfassung!H548),\"\",Datenerfassung!H548)","v":""}]
[{"$f":"IF(ISBLANK(Datenerfassung!A549),\"\",Datenerfassung!A549)","v":""},{"$f":"IF(ISBLANK(Datenerfassung!B549),\"\",Datenerfassung!B549)","v":""},{"$f":"IF(ISBLANK(Datenerfassung!C549),\"\",Datenerfassung!C549)","v":""},{"$f":"IF(ISBLANK(Datenerfassung!I549),\"\",Datenerfassung!I549)","v":""},{"$f":"IF(ISBLANK(Datenerfassung!J549),\"\",Datenerfassung!J549)","v":""},"",{"$f":"IF(ISBLANK(Datenerfassung!L549),\"\",Datenerfassung!L549)","v":""},{"$f":"IF(ISBLANK(Datenerfassung!F549),\"\",Datenerfassung!F549)","v":""},{"$f":"IF(ISBLANK(Datenerfassung!D549),IF(COUNTBLANK(A539:H539)+COUNTBLANK(J539:O539)=14,\"\",\"- ohne Titel -\"),Datenerfassung!D549)","v":""},{"$f":"IF(ISBLANK(Datenerfassung!E549),\"\",Datenerfassung!E549)","v":""},"",{"$f":"IF(ISBLANK(Datenerfassung!O549),\"\",Datenerfassung!O549)","v":""},{"$f":"IF(ISBLANK(Datenerfassung!G549),\"\",Datenerfassung!G549)","v":""},{"$f":"IF(ISBLANK(Datenerfassung!M549),\"\",Datenerfassung!M549)","v":""},{"$f":"IF(ISBLANK(Datenerfassung!H549),\"\",Datenerfassung!H549)","v":""}]
[{"$f":"IF(ISBLANK(Datenerfassung!A550),\"\",Datenerfassung!A550)","v":""},{"$f":"IF(ISBLANK(Datenerfassung!B550),\"\",Datenerfassung!B550)","v":""},{"$f":"IF(ISBLANK(Datenerfassung!C550),\"\",Datenerfassung!C550)","v":""},{"$f":"IF(ISBLANK(Datenerfassung!I550),\"\",Datenerfassung!I550)","v":""},{"$f":"IF(ISBLANK(Datenerfassung!J550),\"\",Datenerfassung!J550)","v":""},"",{"$f":"IF(ISBLANK(Datenerfassung!L550),\"\",Datenerfassung!L550)","v":""},{"$f":"IF(ISBLANK(Datenerfassung!F550),\"\",Datenerfassung!F550)","v":""},{"$f":"IF(ISBLANK(Datenerfassung!D550),IF(COUNTBLANK(A540:H540)+COUNTBLANK(J540:O540)=14,\"\",\"- ohne Titel -\"),Datenerfassung!D550)","v":""},{"$f":"IF(ISBLANK(Datenerfassung!E550),\"\",Datenerfassung!E550)","v":""},"",{"$f":"IF(ISBLANK(Datenerfassung!O550),\"\",Datenerfassung!O550)","v":""},{"$f":"IF(ISBLANK(Datenerfassung!G550),\"\",Datenerfassung!G550)","v":""},{"$f":"IF(ISBLANK(Datenerfassung!M550),\"\",Datenerfassung!M550)","v":""},{"$f":"IF(ISBLANK(Datenerfassung!H550),\"\",Datenerfassung!H550)","v":""}]
[{"$f":"IF(ISBLANK(Datenerfassung!A551),\"\",Datenerfassung!A551)","v":""},{"$f":"IF(ISBLANK(Datenerfassung!B551),\"\",Datenerfassung!B551)","v":""},{"$f":"IF(ISBLANK(Datenerfassung!C551),\"\",Datenerfassung!C551)","v":""},{"$f":"IF(ISBLANK(Datenerfassung!I551),\"\",Datenerfassung!I551)","v":""},{"$f":"IF(ISBLANK(Datenerfassung!J551),\"\",Datenerfassung!J551)","v":""},"",{"$f":"IF(ISBLANK(Datenerfassung!L551),\"\",Datenerfassung!L551)","v":""},{"$f":"IF(ISBLANK(Datenerfassung!F551),\"\",Datenerfassung!F551)","v":""},{"$f":"IF(ISBLANK(Datenerfassung!D551),IF(COUNTBLANK(A541:H541)+COUNTBLANK(J541:O541)=14,\"\",\"- ohne Titel -\"),Datenerfassung!D551)","v":""},{"$f":"IF(ISBLANK(Datenerfassung!E551),\"\",Datenerfassung!E551)","v":""},"",{"$f":"IF(ISBLANK(Datenerfassung!O551),\"\",Datenerfassung!O551)","v":""},{"$f":"IF(ISBLANK(Datenerfassung!G551),\"\",Datenerfassung!G551)","v":""},{"$f":"IF(ISBLANK(Datenerfassung!M551),\"\",Datenerfassung!M551)","v":""},{"$f":"IF(ISBLANK(Datenerfassung!H551),\"\",Datenerfassung!H551)","v":""}]
[{"$f":"IF(ISBLANK(Datenerfassung!A552),\"\",Datenerfassung!A552)","v":""},{"$f":"IF(ISBLANK(Datenerfassung!B552),\"\",Datenerfassung!B552)","v":""},{"$f":"IF(ISBLANK(Datenerfassung!C552),\"\",Datenerfassung!C552)","v":""},{"$f":"IF(ISBLANK(Datenerfassung!I552),\"\",Datenerfassung!I552)","v":""},{"$f":"IF(ISBLANK(Datenerfassung!J552),\"\",Datenerfassung!J552)","v":""},"",{"$f":"IF(ISBLANK(Datenerfassung!L552),\"\",Datenerfassung!L552)","v":""},{"$f":"IF(ISBLANK(Datenerfassung!F552),\"\",Datenerfassung!F552)","v":""},{"$f":"IF(ISBLANK(Datenerfassung!D552),IF(COUNTBLANK(A542:H542)+COUNTBLANK(J542:O542)=14,\"\",\"- ohne Titel -\"),Datenerfassung!D552)","v":""},{"$f":"IF(ISBLANK(Datenerfassung!E552),\"\",Datenerfassung!E552)","v":""},"",{"$f":"IF(ISBLANK(Datenerfassung!O552),\"\",Datenerfassung!O552)","v":""},{"$f":"IF(ISBLANK(Datenerfassung!G552),\"\",Datenerfassung!G552)","v":""},{"$f":"IF(ISBLANK(Datenerfassung!M552),\"\",Datenerfassung!M552)","v":""},{"$f":"IF(ISBLANK(Datenerfassung!H552),\"\",Datenerfassung!H552)","v":""}]
[{"$f":"IF(ISBLANK(Datenerfassung!A553),\"\",Datenerfassung!A553)","v":""},{"$f":"IF(ISBLANK(Datenerfassung!B553),\"\",Datenerfassung!B553)","v":""},{"$f":"IF(ISBLANK(Datenerfassung!C553),\"\",Datenerfassung!C553)","v":""},{"$f":"IF(ISBLANK(Datenerfassung!I553),\"\",Datenerfassung!I553)","v":""},{"$f":"IF(ISBLANK(Datenerfassung!J553),\"\",Datenerfassung!J553)","v":""},"",{"$f":"IF(ISBLANK(Datenerfassung!L553),\"\",Datenerfassung!L553)","v":""},{"$f":"IF(ISBLANK(Datenerfassung!F553),\"\",Datenerfassung!F553)","v":""},{"$f":"IF(ISBLANK(Datenerfassung!D553),IF(COUNTBLANK(A543:H543)+COUNTBLANK(J543:O543)=14,\"\",\"- ohne Titel -\"),Datenerfassung!D553)","v":""},{"$f":"IF(ISBLANK(Datenerfassung!E553),\"\",Datenerfassung!E553)","v":""},"",{"$f":"IF(ISBLANK(Datenerfassung!O553),\"\",Datenerfassung!O553)","v":""},{"$f":"IF(ISBLANK(Datenerfassung!G553),\"\",Datenerfassung!G553)","v":""},{"$f":"IF(ISBLANK(Datenerfassung!M553),\"\",Datenerfassung!M553)","v":""},{"$f":"IF(ISBLANK(Datenerfassung!H553),\"\",Datenerfassung!H553)","v":""}]
[{"$f":"IF(ISBLANK(Datenerfassung!A554),\"\",Datenerfassung!A554)","v":""},{"$f":"IF(ISBLANK(Datenerfassung!B554),\"\",Datenerfassung!B554)","v":""},{"$f":"IF(ISBLANK(Datenerfassung!C554),\"\",Datenerfassung!C554)","v":""},{"$f":"IF(ISBLANK(Datenerfassung!I554),\"\",Datenerfassung!I554)","v":""},{"$f":"IF(ISBLANK(Datenerfassung!J554),\"\",Datenerfassung!J554)","v":""},"",{"$f":"IF(ISBLANK(Datenerfassung!L554),\"\",Datenerfassung!L554)","v":""},{"$f":"IF(ISBLANK(Datenerfassung!F554),\"\",Datenerfassung!F554)","v":""},{"$f":"IF(ISBLANK(Datenerfassung!D554),IF(COUNTBLANK(A544:H544)+COUNTBLANK(J544:O544)=14,\"\",\"- ohne Titel -\"),Datenerfassung!D554)","v":""},{"$f":"IF(ISBLANK(Datenerfassung!E554),\"\",Datenerfassung!E554)","v":""},"",{"$f":"IF(ISBLANK(Datenerfassung!O554),\"\",Datenerfassung!O554)","v":""},{"$f":"IF(ISBLANK(Datenerfassung!G554),\"\",Datenerfassung!G554)","v":""},{"$f":"IF(ISBLANK(Datenerfassung!M554),\"\",Datenerfassung!M554)","v":""},{"$f":"IF(ISBLANK(Datenerfassung!H554),\"\",Datenerfassung!H554)","v":""}]
[{"$f":"IF(ISBLANK(Datenerfassung!A555),\"\",Datenerfassung!A555)","v":""},{"$f":"IF(ISBLANK(Datenerfassung!B555),\"\",Datenerfassung!B555)","v":""},{"$f":"IF(ISBLANK(Datenerfassung!C555),\"\",Datenerfassung!C555)","v":""},{"$f":"IF(ISBLANK(Datenerfassung!I555),\"\",Datenerfassung!I555)","v":""},{"$f":"IF(ISBLANK(Datenerfassung!J555),\"\",Datenerfassung!J555)","v":""},"",{"$f":"IF(ISBLANK(Datenerfassung!L555),\"\",Datenerfassung!L555)","v":""},{"$f":"IF(ISBLANK(Datenerfassung!F555),\"\",Datenerfassung!F555)","v":""},{"$f":"IF(ISBLANK(Datenerfassung!D555),IF(COUNTBLANK(A545:H545)+COUNTBLANK(J545:O545)=14,\"\",\"- ohne Titel -\"),Datenerfassung!D555)","v":""},{"$f":"IF(ISBLANK(Datenerfassung!E555),\"\",Datenerfassung!E555)","v":""},"",{"$f":"IF(ISBLANK(Datenerfassung!O555),\"\",Datenerfassung!O555)","v":""},{"$f":"IF(ISBLANK(Datenerfassung!G555),\"\",Datenerfassung!G555)","v":""},{"$f":"IF(ISBLANK(Datenerfassung!M555),\"\",Datenerfassung!M555)","v":""},{"$f":"IF(ISBLANK(Datenerfassung!H555),\"\",Datenerfassung!H555)","v":""}]
[{"$f":"IF(ISBLANK(Datenerfassung!A556),\"\",Datenerfassung!A556)","v":""},{"$f":"IF(ISBLANK(Datenerfassung!B556),\"\",Datenerfassung!B556)","v":""},{"$f":"IF(ISBLANK(Datenerfassung!C556),\"\",Datenerfassung!C556)","v":""},{"$f":"IF(ISBLANK(Datenerfassung!I556),\"\",Datenerfassung!I556)","v":""},{"$f":"IF(ISBLANK(Datenerfassung!J556),\"\",Datenerfassung!J556)","v":""},"",{"$f":"IF(ISBLANK(Datenerfassung!L556),\"\",Datenerfassung!L556)","v":""},{"$f":"IF(ISBLANK(Datenerfassung!F556),\"\",Datenerfassung!F556)","v":""},{"$f":"IF(ISBLANK(Datenerfassung!D556),IF(COUNTBLANK(A546:H546)+COUNTBLANK(J546:O546)=14,\"\",\"- ohne Titel -\"),Datenerfassung!D556)","v":""},{"$f":"IF(ISBLANK(Datenerfassung!E556),\"\",Datenerfassung!E556)","v":""},"",{"$f":"IF(ISBLANK(Datenerfassung!O556),\"\",Datenerfassung!O556)","v":""},{"$f":"IF(ISBLANK(Datenerfassung!G556),\"\",Datenerfassung!G556)","v":""},{"$f":"IF(ISBLANK(Datenerfassung!M556),\"\",Datenerfassung!M556)","v":""},{"$f":"IF(ISBLANK(Datenerfassung!H556),\"\",Datenerfassung!H556)","v":""}]
[{"$f":"IF(ISBLANK(Datenerfassung!A557),\"\",Datenerfassung!A557)","v":""},{"$f":"IF(ISBLANK(Datenerfassung!B557),\"\",Datenerfassung!B557)","v":""},{"$f":"IF(ISBLANK(Datenerfassung!C557),\"\",Datenerfassung!C557)","v":""},{"$f":"IF(ISBLANK(Datenerfassung!I557),\"\",Datenerfassung!I557)","v":""},{"$f":"IF(ISBLANK(Datenerfassung!J557),\"\",Datenerfassung!J557)","v":""},"",{"$f":"IF(ISBLANK(Datenerfassung!L557),\"\",Datenerfassung!L557)","v":""},{"$f":"IF(ISBLANK(Datenerfassung!F557),\"\",Datenerfassung!F557)","v":""},{"$f":"IF(ISBLANK(Datenerfassung!D557),IF(COUNTBLANK(A547:H547)+COUNTBLANK(J547:O547)=14,\"\",\"- ohne Titel -\"),Datenerfassung!D557)","v":""},{"$f":"IF(ISBLANK(Datenerfassung!E557),\"\",Datenerfassung!E557)","v":""},"",{"$f":"IF(ISBLANK(Datenerfassung!O557),\"\",Datenerfassung!O557)","v":""},{"$f":"IF(ISBLANK(Datenerfassung!G557),\"\",Datenerfassung!G557)","v":""},{"$f":"IF(ISBLANK(Datenerfassung!M557),\"\",Datenerfassung!M557)","v":""},{"$f":"IF(ISBLANK(Datenerfassung!H557),\"\",Datenerfassung!H557)","v":""}]
[{"$f":"IF(ISBLANK(Datenerfassung!A558),\"\",Datenerfassung!A558)","v":""},{"$f":"IF(ISBLANK(Datenerfassung!B558),\"\",Datenerfassung!B558)","v":""},{"$f":"IF(ISBLANK(Datenerfassung!C558),\"\",Datenerfassung!C558)","v":""},{"$f":"IF(ISBLANK(Datenerfassung!I558),\"\",Datenerfassung!I558)","v":""},{"$f":"IF(ISBLANK(Datenerfassung!J558),\"\",Datenerfassung!J558)","v":""},"",{"$f":"IF(ISBLANK(Datenerfassung!L558),\"\",Datenerfassung!L558)","v":""},{"$f":"IF(ISBLANK(Datenerfassung!F558),\"\",Datenerfassung!F558)","v":""},{"$f":"IF(ISBLANK(Datenerfassung!D558),IF(COUNTBLANK(A548:H548)+COUNTBLANK(J548:O548)=14,\"\",\"- ohne Titel -\"),Datenerfassung!D558)","v":""},{"$f":"IF(ISBLANK(Datenerfassung!E558),\"\",Datenerfassung!E558)","v":""},"",{"$f":"IF(ISBLANK(Datenerfassung!O558),\"\",Datenerfassung!O558)","v":""},{"$f":"IF(ISBLANK(Datenerfassung!G558),\"\",Datenerfassung!G558)","v":""},{"$f":"IF(ISBLANK(Datenerfassung!M558),\"\",Datenerfassung!M558)","v":""},{"$f":"IF(ISBLANK(Datenerfassung!H558),\"\",Datenerfassung!H558)","v":""}]
[{"$f":"IF(ISBLANK(Datenerfassung!A559),\"\",Datenerfassung!A559)","v":""},{"$f":"IF(ISBLANK(Datenerfassung!B559),\"\",Datenerfassung!B559)","v":""},{"$f":"IF(ISBLANK(Datenerfassung!C559),\"\",Datenerfassung!C559)","v":""},{"$f":"IF(ISBLANK(Datenerfassung!I559),\"\",Datenerfassung!I559)","v":""},{"$f":"IF(ISBLANK(Datenerfassung!J559),\"\",Datenerfassung!J559)","v":""},"",{"$f":"IF(ISBLANK(Datenerfassung!L559),\"\",Datenerfassung!L559)","v":""},{"$f":"IF(ISBLANK(Datenerfassung!F559),\"\",Datenerfassung!F559)","v":""},{"$f":"IF(ISBLANK(Datenerfassung!D559),IF(COUNTBLANK(A549:H549)+COUNTBLANK(J549:O549)=14,\"\",\"- ohne Titel -\"),Datenerfassung!D559)","v":""},{"$f":"IF(ISBLANK(Datenerfassung!E559),\"\",Datenerfassung!E559)","v":""},"",{"$f":"IF(ISBLANK(Datenerfassung!O559),\"\",Datenerfassung!O559)","v":""},{"$f":"IF(ISBLANK(Datenerfassung!G559),\"\",Datenerfassung!G559)","v":""},{"$f":"IF(ISBLANK(Datenerfassung!M559),\"\",Datenerfassung!M559)","v":""},{"$f":"IF(ISBLANK(Datenerfassung!H559),\"\",Datenerfassung!H559)","v":""}]
[{"$f":"IF(ISBLANK(Datenerfassung!A560),\"\",Datenerfassung!A560)","v":""},{"$f":"IF(ISBLANK(Datenerfassung!B560),\"\",Datenerfassung!B560)","v":""},{"$f":"IF(ISBLANK(Datenerfassung!C560),\"\",Datenerfassung!C560)","v":""},{"$f":"IF(ISBLANK(Datenerfassung!I560),\"\",Datenerfassung!I560)","v":""},{"$f":"IF(ISBLANK(Datenerfassung!J560),\"\",Datenerfassung!J560)","v":""},"",{"$f":"IF(ISBLANK(Datenerfassung!L560),\"\",Datenerfassung!L560)","v":""},{"$f":"IF(ISBLANK(Datenerfassung!F560),\"\",Datenerfassung!F560)","v":""},{"$f":"IF(ISBLANK(Datenerfassung!D560),IF(COUNTBLANK(A550:H550)+COUNTBLANK(J550:O550)=14,\"\",\"- ohne Titel -\"),Datenerfassung!D560)","v":""},{"$f":"IF(ISBLANK(Datenerfassung!E560),\"\",Datenerfassung!E560)","v":""},"",{"$f":"IF(ISBLANK(Datenerfassung!O560),\"\",Datenerfassung!O560)","v":""},{"$f":"IF(ISBLANK(Datenerfassung!G560),\"\",Datenerfassung!G560)","v":""},{"$f":"IF(ISBLANK(Datenerfassung!M560),\"\",Datenerfassung!M560)","v":""},{"$f":"IF(ISBLANK(Datenerfassung!H560),\"\",Datenerfassung!H560)","v":""}]
[{"$f":"IF(ISBLANK(Datenerfassung!A561),\"\",Datenerfassung!A561)","v":""},{"$f":"IF(ISBLANK(Datenerfassung!B561),\"\",Datenerfassung!B561)","v":""},{"$f":"IF(ISBLANK(Datenerfassung!C561),\"\",Datenerfassung!C561)","v":""},{"$f":"IF(ISBLANK(Datenerfassung!I561),\"\",Datenerfassung!I561)","v":""},{"$f":"IF(ISBLANK(Datenerfassung!J561),\"\",Datenerfassung!J561)","v":""},"",{"$f":"IF(ISBLANK(Datenerfassung!L561),\"\",Datenerfassung!L561)","v":""},{"$f":"IF(ISBLANK(Datenerfassung!F561),\"\",Datenerfassung!F561)","v":""},{"$f":"IF(ISBLANK(Datenerfassung!D561),IF(COUNTBLANK(A551:H551)+COUNTBLANK(J551:O551)=14,\"\",\"- ohne Titel -\"),Datenerfassung!D561)","v":""},{"$f":"IF(ISBLANK(Datenerfassung!E561),\"\",Datenerfassung!E561)","v":""},"",{"$f":"IF(ISBLANK(Datenerfassung!O561),\"\",Datenerfassung!O561)","v":""},{"$f":"IF(ISBLANK(Datenerfassung!G561),\"\",Datenerfassung!G561)","v":""},{"$f":"IF(ISBLANK(Datenerfassung!M561),\"\",Datenerfassung!M561)","v":""},{"$f":"IF(ISBLANK(Datenerfassung!H561),\"\",Datenerfassung!H561)","v":""}]
[{"$f":"IF(ISBLANK(Datenerfassung!A562),\"\",Datenerfassung!A562)","v":""},{"$f":"IF(ISBLANK(Datenerfassung!B562),\"\",Datenerfassung!B562)","v":""},{"$f":"IF(ISBLANK(Datenerfassung!C562),\"\",Datenerfassung!C562)","v":""},{"$f":"IF(ISBLANK(Datenerfassung!I562),\"\",Datenerfassung!I562)","v":""},{"$f":"IF(ISBLANK(Datenerfassung!J562),\"\",Datenerfassung!J562)","v":""},"",{"$f":"IF(ISBLANK(Datenerfassung!L562),\"\",Datenerfassung!L562)","v":""},{"$f":"IF(ISBLANK(Datenerfassung!F562),\"\",Datenerfassung!F562)","v":""},{"$f":"IF(ISBLANK(Datenerfassung!D562),IF(COUNTBLANK(A552:H552)+COUNTBLANK(J552:O552)=14,\"\",\"- ohne Titel -\"),Datenerfassung!D562)","v":""},{"$f":"IF(ISBLANK(Datenerfassung!E562),\"\",Datenerfassung!E562)","v":""},"",{"$f":"IF(ISBLANK(Datenerfassung!O562),\"\",Datenerfassung!O562)","v":""},{"$f":"IF(ISBLANK(Datenerfassung!G562),\"\",Datenerfassung!G562)","v":""},{"$f":"IF(ISBLANK(Datenerfassung!M562),\"\",Datenerfassung!M562)","v":""},{"$f":"IF(ISBLANK(Datenerfassung!H562),\"\",Datenerfassung!H562)","v":""}]
[{"$f":"IF(ISBLANK(Datenerfassung!A563),\"\",Datenerfassung!A563)","v":""},{"$f":"IF(ISBLANK(Datenerfassung!B563),\"\",Datenerfassung!B563)","v":""},{"$f":"IF(ISBLANK(Datenerfassung!C563),\"\",Datenerfassung!C563)","v":""},{"$f":"IF(ISBLANK(Datenerfassung!I563),\"\",Datenerfassung!I563)","v":""},{"$f":"IF(ISBLANK(Datenerfassung!J563),\"\",Datenerfassung!J563)","v":""},"",{"$f":"IF(ISBLANK(Datenerfassung!L563),\"\",Datenerfassung!L563)","v":""},{"$f":"IF(ISBLANK(Datenerfassung!F563),\"\",Datenerfassung!F563)","v":""},{"$f":"IF(ISBLANK(Datenerfassung!D563),IF(COUNTBLANK(A553:H553)+COUNTBLANK(J553:O553)=14,\"\",\"- ohne Titel -\"),Datenerfassung!D563)","v":""},{"$f":"IF(ISBLANK(Datenerfassung!E563),\"\",Datenerfassung!E563)","v":""},"",{"$f":"IF(ISBLANK(Datenerfassung!O563),\"\",Datenerfassung!O563)","v":""},{"$f":"IF(ISBLANK(Datenerfassung!G563),\"\",Datenerfassung!G563)","v":""},{"$f":"IF(ISBLANK(Datenerfassung!M563),\"\",Datenerfassung!M563)","v":""},{"$f":"IF(ISBLANK(Datenerfassung!H563),\"\",Datenerfassung!H563)","v":""}]
[{"$f":"IF(ISBLANK(Datenerfassung!A564),\"\",Datenerfassung!A564)","v":""},{"$f":"IF(ISBLANK(Datenerfassung!B564),\"\",Datenerfassung!B564)","v":""},{"$f":"IF(ISBLANK(Datenerfassung!C564),\"\",Datenerfassung!C564)","v":""},{"$f":"IF(ISBLANK(Datenerfassung!I564),\"\",Datenerfassung!I564)","v":""},{"$f":"IF(ISBLANK(Datenerfassung!J564),\"\",Datenerfassung!J564)","v":""},"",{"$f":"IF(ISBLANK(Datenerfassung!L564),\"\",Datenerfassung!L564)","v":""},{"$f":"IF(ISBLANK(Datenerfassung!F564),\"\",Datenerfassung!F564)","v":""},{"$f":"IF(ISBLANK(Datenerfassung!D564),IF(COUNTBLANK(A554:H554)+COUNTBLANK(J554:O554)=14,\"\",\"- ohne Titel -\"),Datenerfassung!D564)","v":""},{"$f":"IF(ISBLANK(Datenerfassung!E564),\"\",Datenerfassung!E564)","v":""},"",{"$f":"IF(ISBLANK(Datenerfassung!O564),\"\",Datenerfassung!O564)","v":""},{"$f":"IF(ISBLANK(Datenerfassung!G564),\"\",Datenerfassung!G564)","v":""},{"$f":"IF(ISBLANK(Datenerfassung!M564),\"\",Datenerfassung!M564)","v":""},{"$f":"IF(ISBLANK(Datenerfassung!H564),\"\",Datenerfassung!H564)","v":""}]
[{"$f":"IF(ISBLANK(Datenerfassung!A565),\"\",Datenerfassung!A565)","v":""},{"$f":"IF(ISBLANK(Datenerfassung!B565),\"\",Datenerfassung!B565)","v":""},{"$f":"IF(ISBLANK(Datenerfassung!C565),\"\",Datenerfassung!C565)","v":""},{"$f":"IF(ISBLANK(Datenerfassung!I565),\"\",Datenerfassung!I565)","v":""},{"$f":"IF(ISBLANK(Datenerfassung!J565),\"\",Datenerfassung!J565)","v":""},"",{"$f":"IF(ISBLANK(Datenerfassung!L565),\"\",Datenerfassung!L565)","v":""},{"$f":"IF(ISBLANK(Datenerfassung!F565),\"\",Datenerfassung!F565)","v":""},{"$f":"IF(ISBLANK(Datenerfassung!D565),IF(COUNTBLANK(A555:H555)+COUNTBLANK(J555:O555)=14,\"\",\"- ohne Titel -\"),Datenerfassung!D565)","v":""},{"$f":"IF(ISBLANK(Datenerfassung!E565),\"\",Datenerfassung!E565)","v":""},"",{"$f":"IF(ISBLANK(Datenerfassung!O565),\"\",Datenerfassung!O565)","v":""},{"$f":"IF(ISBLANK(Datenerfassung!G565),\"\",Datenerfassung!G565)","v":""},{"$f":"IF(ISBLANK(Datenerfassung!M565),\"\",Datenerfassung!M565)","v":""},{"$f":"IF(ISBLANK(Datenerfassung!H565),\"\",Datenerfassung!H565)","v":""}]
[{"$f":"IF(ISBLANK(Datenerfassung!A566),\"\",Datenerfassung!A566)","v":""},{"$f":"IF(ISBLANK(Datenerfassung!B566),\"\",Datenerfassung!B566)","v":""},{"$f":"IF(ISBLANK(Datenerfassung!C566),\"\",Datenerfassung!C566)","v":""},{"$f":"IF(ISBLANK(Datenerfassung!I566),\"\",Datenerfassung!I566)","v":""},{"$f":"IF(ISBLANK(Datenerfassung!J566),\"\",Datenerfassung!J566)","v":""},"",{"$f":"IF(ISBLANK(Datenerfassung!L566),\"\",Datenerfassung!L566)","v":""},{"$f":"IF(ISBLANK(Datenerfassung!F566),\"\",Datenerfassung!F566)","v":""},{"$f":"IF(ISBLANK(Datenerfassung!D566),IF(COUNTBLANK(A556:H556)+COUNTBLANK(J556:O556)=14,\"\",\"- ohne Titel -\"),Datenerfassung!D566)","v":""},{"$f":"IF(ISBLANK(Datenerfassung!E566),\"\",Datenerfassung!E566)","v":""},"",{"$f":"IF(ISBLANK(Datenerfassung!O566),\"\",Datenerfassung!O566)","v":""},{"$f":"IF(ISBLANK(Datenerfassung!G566),\"\",Datenerfassung!G566)","v":""},{"$f":"IF(ISBLANK(Datenerfassung!M566),\"\",Datenerfassung!M566)","v":""},{"$f":"IF(ISBLANK(Datenerfassung!H566),\"\",Datenerfassung!H566)","v":""}]
[{"$f":"IF(ISBLANK(Datenerfassung!A567),\"\",Datenerfassung!A567)","v":""},{"$f":"IF(ISBLANK(Datenerfassung!B567),\"\",Datenerfassung!B567)","v":""},{"$f":"IF(ISBLANK(Datenerfassung!C567),\"\",Datenerfassung!C567)","v":""},{"$f":"IF(ISBLANK(Datenerfassung!I567),\"\",Datenerfassung!I567)","v":""},{"$f":"IF(ISBLANK(Datenerfassung!J567),\"\",Datenerfassung!J567)","v":""},"",{"$f":"IF(ISBLANK(Datenerfassung!L567),\"\",Datenerfassung!L567)","v":""},{"$f":"IF(ISBLANK(Datenerfassung!F567),\"\",Datenerfassung!F567)","v":""},{"$f":"IF(ISBLANK(Datenerfassung!D567),IF(COUNTBLANK(A557:H557)+COUNTBLANK(J557:O557)=14,\"\",\"- ohne Titel -\"),Datenerfassung!D567)","v":""},{"$f":"IF(ISBLANK(Datenerfassung!E567),\"\",Datenerfassung!E567)","v":""},"",{"$f":"IF(ISBLANK(Datenerfassung!O567),\"\",Datenerfassung!O567)","v":""},{"$f":"IF(ISBLANK(Datenerfassung!G567),\"\",Datenerfassung!G567)","v":""},{"$f":"IF(ISBLANK(Datenerfassung!M567),\"\",Datenerfassung!M567)","v":""},{"$f":"IF(ISBLANK(Datenerfassung!H567),\"\",Datenerfassung!H567)","v":""}]
[{"$f":"IF(ISBLANK(Datenerfassung!A568),\"\",Datenerfassung!A568)","v":""},{"$f":"IF(ISBLANK(Datenerfassung!B568),\"\",Datenerfassung!B568)","v":""},{"$f":"IF(ISBLANK(Datenerfassung!C568),\"\",Datenerfassung!C568)","v":""},{"$f":"IF(ISBLANK(Datenerfassung!I568),\"\",Datenerfassung!I568)","v":""},{"$f":"IF(ISBLANK(Datenerfassung!J568),\"\",Datenerfassung!J568)","v":""},"",{"$f":"IF(ISBLANK(Datenerfassung!L568),\"\",Datenerfassung!L568)","v":""},{"$f":"IF(ISBLANK(Datenerfassung!F568),\"\",Datenerfassung!F568)","v":""},{"$f":"IF(ISBLANK(Datenerfassung!D568),IF(COUNTBLANK(A558:H558)+COUNTBLANK(J558:O558)=14,\"\",\"- ohne Titel -\"),Datenerfassung!D568)","v":""},{"$f":"IF(ISBLANK(Datenerfassung!E568),\"\",Datenerfassung!E568)","v":""},"",{"$f":"IF(ISBLANK(Datenerfassung!O568),\"\",Datenerfassung!O568)","v":""},{"$f":"IF(ISBLANK(Datenerfassung!G568),\"\",Datenerfassung!G568)","v":""},{"$f":"IF(ISBLANK(Datenerfassung!M568),\"\",Datenerfassung!M568)","v":""},{"$f":"IF(ISBLANK(Datenerfassung!H568),\"\",Datenerfassung!H568)","v":""}]
[{"$f":"IF(ISBLANK(Datenerfassung!A569),\"\",Datenerfassung!A569)","v":""},{"$f":"IF(ISBLANK(Datenerfassung!B569),\"\",Datenerfassung!B569)","v":""},{"$f":"IF(ISBLANK(Datenerfassung!C569),\"\",Datenerfassung!C569)","v":""},{"$f":"IF(ISBLANK(Datenerfassung!I569),\"\",Datenerfassung!I569)","v":""},{"$f":"IF(ISBLANK(Datenerfassung!J569),\"\",Datenerfassung!J569)","v":""},"",{"$f":"IF(ISBLANK(Datenerfassung!L569),\"\",Datenerfassung!L569)","v":""},{"$f":"IF(ISBLANK(Datenerfassung!F569),\"\",Datenerfassung!F569)","v":""},{"$f":"IF(ISBLANK(Datenerfassung!D569),IF(COUNTBLANK(A559:H559)+COUNTBLANK(J559:O559)=14,\"\",\"- ohne Titel -\"),Datenerfassung!D569)","v":""},{"$f":"IF(ISBLANK(Datenerfassung!E569),\"\",Datenerfassung!E569)","v":""},"",{"$f":"IF(ISBLANK(Datenerfassung!O569),\"\",Datenerfassung!O569)","v":""},{"$f":"IF(ISBLANK(Datenerfassung!G569),\"\",Datenerfassung!G569)","v":""},{"$f":"IF(ISBLANK(Datenerfassung!M569),\"\",Datenerfassung!M569)","v":""},{"$f":"IF(ISBLANK(Datenerfassung!H569),\"\",Datenerfassung!H569)","v":""}]
[{"$f":"IF(ISBLANK(Datenerfassung!A570),\"\",Datenerfassung!A570)","v":""},{"$f":"IF(ISBLANK(Datenerfassung!B570),\"\",Datenerfassung!B570)","v":""},{"$f":"IF(ISBLANK(Datenerfassung!C570),\"\",Datenerfassung!C570)","v":""},{"$f":"IF(ISBLANK(Datenerfassung!I570),\"\",Datenerfassung!I570)","v":""},{"$f":"IF(ISBLANK(Datenerfassung!J570),\"\",Datenerfassung!J570)","v":""},"",{"$f":"IF(ISBLANK(Datenerfassung!L570),\"\",Datenerfassung!L570)","v":""},{"$f":"IF(ISBLANK(Datenerfassung!F570),\"\",Datenerfassung!F570)","v":""},{"$f":"IF(ISBLANK(Datenerfassung!D570),IF(COUNTBLANK(A560:H560)+COUNTBLANK(J560:O560)=14,\"\",\"- ohne Titel -\"),Datenerfassung!D570)","v":""},{"$f":"IF(ISBLANK(Datenerfassung!E570),\"\",Datenerfassung!E570)","v":""},"",{"$f":"IF(ISBLANK(Datenerfassung!O570),\"\",Datenerfassung!O570)","v":""},{"$f":"IF(ISBLANK(Datenerfassung!G570),\"\",Datenerfassung!G570)","v":""},{"$f":"IF(ISBLANK(Datenerfassung!M570),\"\",Datenerfassung!M570)","v":""},{"$f":"IF(ISBLANK(Datenerfassung!H570),\"\",Datenerfassung!H570)","v":""}]
[{"$f":"IF(ISBLANK(Datenerfassung!A571),\"\",Datenerfassung!A571)","v":""},{"$f":"IF(ISBLANK(Datenerfassung!B571),\"\",Datenerfassung!B571)","v":""},{"$f":"IF(ISBLANK(Datenerfassung!C571),\"\",Datenerfassung!C571)","v":""},{"$f":"IF(ISBLANK(Datenerfassung!I571),\"\",Datenerfassung!I571)","v":""},{"$f":"IF(ISBLANK(Datenerfassung!J571),\"\",Datenerfassung!J571)","v":""},"",{"$f":"IF(ISBLANK(Datenerfassung!L571),\"\",Datenerfassung!L571)","v":""},{"$f":"IF(ISBLANK(Datenerfassung!F571),\"\",Datenerfassung!F571)","v":""},{"$f":"IF(ISBLANK(Datenerfassung!D571),IF(COUNTBLANK(A561:H561)+COUNTBLANK(J561:O561)=14,\"\",\"- ohne Titel -\"),Datenerfassung!D571)","v":""},{"$f":"IF(ISBLANK(Datenerfassung!E571),\"\",Datenerfassung!E571)","v":""},"",{"$f":"IF(ISBLANK(Datenerfassung!O571),\"\",Datenerfassung!O571)","v":""},{"$f":"IF(ISBLANK(Datenerfassung!G571),\"\",Datenerfassung!G571)","v":""},{"$f":"IF(ISBLANK(Datenerfassung!M571),\"\",Datenerfassung!M571)","v":""},{"$f":"IF(ISBLANK(Datenerfassung!H571),\"\",Datenerfassung!H571)","v":""}]
[{"$f":"IF(ISBLANK(Datenerfassung!A572),\"\",Datenerfassung!A572)","v":""},{"$f":"IF(ISBLANK(Datenerfassung!B572),\"\",Datenerfassung!B572)","v":""},{"$f":"IF(ISBLANK(Datenerfassung!C572),\"\",Datenerfassung!C572)","v":""},{"$f":"IF(ISBLANK(Datenerfassung!I572),\"\",Datenerfassung!I572)","v":""},{"$f":"IF(ISBLANK(Datenerfassung!J572),\"\",Datenerfassung!J572)","v":""},"",{"$f":"IF(ISBLANK(Datenerfassung!L572),\"\",Datenerfassung!L572)","v":""},{"$f":"IF(ISBLANK(Datenerfassung!F572),\"\",Datenerfassung!F572)","v":""},{"$f":"IF(ISBLANK(Datenerfassung!D572),IF(COUNTBLANK(A562:H562)+COUNTBLANK(J562:O562)=14,\"\",\"- ohne Titel -\"),Datenerfassung!D572)","v":""},{"$f":"IF(ISBLANK(Datenerfassung!E572),\"\",Datenerfassung!E572)","v":""},"",{"$f":"IF(ISBLANK(Datenerfassung!O572),\"\",Datenerfassung!O572)","v":""},{"$f":"IF(ISBLANK(Datenerfassung!G572),\"\",Datenerfassung!G572)","v":""},{"$f":"IF(ISBLANK(Datenerfassung!M572),\"\",Datenerfassung!M572)","v":""},{"$f":"IF(ISBLANK(Datenerfassung!H572),\"\",Datenerfassung!H572)","v":""}]
[{"$f":"IF(ISBLANK(Datenerfassung!A573),\"\",Datenerfassung!A573)","v":""},{"$f":"IF(ISBLANK(Datenerfassung!B573),\"\",Datenerfassung!B573)","v":""},{"$f":"IF(ISBLANK(Datenerfassung!C573),\"\",Datenerfassung!C573)","v":""},{"$f":"IF(ISBLANK(Datenerfassung!I573),\"\",Datenerfassung!I573)","v":""},{"$f":"IF(ISBLANK(Datenerfassung!J573),\"\",Datenerfassung!J573)","v":""},"",{"$f":"IF(ISBLANK(Datenerfassung!L573),\"\",Datenerfassung!L573)","v":""},{"$f":"IF(ISBLANK(Datenerfassung!F573),\"\",Datenerfassung!F573)","v":""},{"$f":"IF(ISBLANK(Datenerfassung!D573),IF(COUNTBLANK(A563:H563)+COUNTBLANK(J563:O563)=14,\"\",\"- ohne Titel -\"),Datenerfassung!D573)","v":""},{"$f":"IF(ISBLANK(Datenerfassung!E573),\"\",Datenerfassung!E573)","v":""},"",{"$f":"IF(ISBLANK(Datenerfassung!O573),\"\",Datenerfassung!O573)","v":""},{"$f":"IF(ISBLANK(Datenerfassung!G573),\"\",Datenerfassung!G573)","v":""},{"$f":"IF(ISBLANK(Datenerfassung!M573),\"\",Datenerfassung!M573)","v":""},{"$f":"IF(ISBLANK(Datenerfassung!H573),\"\",Datenerfassung!H573)","v":""}]
[{"$f":"IF(ISBLANK(Datenerfassung!A574),\"\",Datenerfassung!A574)","v":""},{"$f":"IF(ISBLANK(Datenerfassung!B574),\"\",Datenerfassung!B574)","v":""},{"$f":"IF(ISBLANK(Datenerfassung!C574),\"\",Datenerfassung!C574)","v":""},{"$f":"IF(ISBLANK(Datenerfassung!I574),\"\",Datenerfassung!I574)","v":""},{"$f":"IF(ISBLANK(Datenerfassung!J574),\"\",Datenerfassung!J574)","v":""},"",{"$f":"IF(ISBLANK(Datenerfassung!L574),\"\",Datenerfassung!L574)","v":""},{"$f":"IF(ISBLANK(Datenerfassung!F574),\"\",Datenerfassung!F574)","v":""},{"$f":"IF(ISBLANK(Datenerfassung!D574),IF(COUNTBLANK(A564:H564)+COUNTBLANK(J564:O564)=14,\"\",\"- ohne Titel -\"),Datenerfassung!D574)","v":""},{"$f":"IF(ISBLANK(Datenerfassung!E574),\"\",Datenerfassung!E574)","v":""},"",{"$f":"IF(ISBLANK(Datenerfassung!O574),\"\",Datenerfassung!O574)","v":""},{"$f":"IF(ISBLANK(Datenerfassung!G574),\"\",Datenerfassung!G574)","v":""},{"$f":"IF(ISBLANK(Datenerfassung!M574),\"\",Datenerfassung!M574)","v":""},{"$f":"IF(ISBLANK(Datenerfassung!H574),\"\",Datenerfassung!H574)","v":""}]
[{"$f":"IF(ISBLANK(Datenerfassung!A575),\"\",Datenerfassung!A575)","v":""},{"$f":"IF(ISBLANK(Datenerfassung!B575),\"\",Datenerfassung!B575)","v":""},{"$f":"IF(ISBLANK(Datenerfassung!C575),\"\",Datenerfassung!C575)","v":""},{"$f":"IF(ISBLANK(Datenerfassung!I575),\"\",Datenerfassung!I575)","v":""},{"$f":"IF(ISBLANK(Datenerfassung!J575),\"\",Datenerfassung!J575)","v":""},"",{"$f":"IF(ISBLANK(Datenerfassung!L575),\"\",Datenerfassung!L575)","v":""},{"$f":"IF(ISBLANK(Datenerfassung!F575),\"\",Datenerfassung!F575)","v":""},{"$f":"IF(ISBLANK(Datenerfassung!D575),IF(COUNTBLANK(A565:H565)+COUNTBLANK(J565:O565)=14,\"\",\"- ohne Titel -\"),Datenerfassung!D575)","v":""},{"$f":"IF(ISBLANK(Datenerfassung!E575),\"\",Datenerfassung!E575)","v":""},"",{"$f":"IF(ISBLANK(Datenerfassung!O575),\"\",Datenerfassung!O575)","v":""},{"$f":"IF(ISBLANK(Datenerfassung!G575),\"\",Datenerfassung!G575)","v":""},{"$f":"IF(ISBLANK(Datenerfassung!M575),\"\",Datenerfassung!M575)","v":""},{"$f":"IF(ISBLANK(Datenerfassung!H575),\"\",Datenerfassung!H575)","v":""}]
[{"$f":"IF(ISBLANK(Datenerfassung!A576),\"\",Datenerfassung!A576)","v":""},{"$f":"IF(ISBLANK(Datenerfassung!B576),\"\",Datenerfassung!B576)","v":""},{"$f":"IF(ISBLANK(Datenerfassung!C576),\"\",Datenerfassung!C576)","v":""},{"$f":"IF(ISBLANK(Datenerfassung!I576),\"\",Datenerfassung!I576)","v":""},{"$f":"IF(ISBLANK(Datenerfassung!J576),\"\",Datenerfassung!J576)","v":""},"",{"$f":"IF(ISBLANK(Datenerfassung!L576),\"\",Datenerfassung!L576)","v":""},{"$f":"IF(ISBLANK(Datenerfassung!F576),\"\",Datenerfassung!F576)","v":""},{"$f":"IF(ISBLANK(Datenerfassung!D576),IF(COUNTBLANK(A566:H566)+COUNTBLANK(J566:O566)=14,\"\",\"- ohne Titel -\"),Datenerfassung!D576)","v":""},{"$f":"IF(ISBLANK(Datenerfassung!E576),\"\",Datenerfassung!E576)","v":""},"",{"$f":"IF(ISBLANK(Datenerfassung!O576),\"\",Datenerfassung!O576)","v":""},{"$f":"IF(ISBLANK(Datenerfassung!G576),\"\",Datenerfassung!G576)","v":""},{"$f":"IF(ISBLANK(Datenerfassung!M576),\"\",Datenerfassung!M576)","v":""},{"$f":"IF(ISBLANK(Datenerfassung!H576),\"\",Datenerfassung!H576)","v":""}]
[{"$f":"IF(ISBLANK(Datenerfassung!A577),\"\",Datenerfassung!A577)","v":""},{"$f":"IF(ISBLANK(Datenerfassung!B577),\"\",Datenerfassung!B577)","v":""},{"$f":"IF(ISBLANK(Datenerfassung!C577),\"\",Datenerfassung!C577)","v":""},{"$f":"IF(ISBLANK(Datenerfassung!I577),\"\",Datenerfassung!I577)","v":""},{"$f":"IF(ISBLANK(Datenerfassung!J577),\"\",Datenerfassung!J577)","v":""},"",{"$f":"IF(ISBLANK(Datenerfassung!L577),\"\",Datenerfassung!L577)","v":""},{"$f":"IF(ISBLANK(Datenerfassung!F577),\"\",Datenerfassung!F577)","v":""},{"$f":"IF(ISBLANK(Datenerfassung!D577),IF(COUNTBLANK(A567:H567)+COUNTBLANK(J567:O567)=14,\"\",\"- ohne Titel -\"),Datenerfassung!D577)","v":""},{"$f":"IF(ISBLANK(Datenerfassung!E577),\"\",Datenerfassung!E577)","v":""},"",{"$f":"IF(ISBLANK(Datenerfassung!O577),\"\",Datenerfassung!O577)","v":""},{"$f":"IF(ISBLANK(Datenerfassung!G577),\"\",Datenerfassung!G577)","v":""},{"$f":"IF(ISBLANK(Datenerfassung!M577),\"\",Datenerfassung!M577)","v":""},{"$f":"IF(ISBLANK(Datenerfassung!H577),\"\",Datenerfassung!H577)","v":""}]
[{"$f":"IF(ISBLANK(Datenerfassung!A578),\"\",Datenerfassung!A578)","v":""},{"$f":"IF(ISBLANK(Datenerfassung!B578),\"\",Datenerfassung!B578)","v":""},{"$f":"IF(ISBLANK(Datenerfassung!C578),\"\",Datenerfassung!C578)","v":""},{"$f":"IF(ISBLANK(Datenerfassung!I578),\"\",Datenerfassung!I578)","v":""},{"$f":"IF(ISBLANK(Datenerfassung!J578),\"\",Datenerfassung!J578)","v":""},"",{"$f":"IF(ISBLANK(Datenerfassung!L578),\"\",Datenerfassung!L578)","v":""},{"$f":"IF(ISBLANK(Datenerfassung!F578),\"\",Datenerfassung!F578)","v":""},{"$f":"IF(ISBLANK(Datenerfassung!D578),IF(COUNTBLANK(A568:H568)+COUNTBLANK(J568:O568)=14,\"\",\"- ohne Titel -\"),Datenerfassung!D578)","v":""},{"$f":"IF(ISBLANK(Datenerfassung!E578),\"\",Datenerfassung!E578)","v":""},"",{"$f":"IF(ISBLANK(Datenerfassung!O578),\"\",Datenerfassung!O578)","v":""},{"$f":"IF(ISBLANK(Datenerfassung!G578),\"\",Datenerfassung!G578)","v":""},{"$f":"IF(ISBLANK(Datenerfassung!M578),\"\",Datenerfassung!M578)","v":""},{"$f":"IF(ISBLANK(Datenerfassung!H578),\"\",Datenerfassung!H578)","v":""}]
[{"$f":"IF(ISBLANK(Datenerfassung!A579),\"\",Datenerfassung!A579)","v":""},{"$f":"IF(ISBLANK(Datenerfassung!B579),\"\",Datenerfassung!B579)","v":""},{"$f":"IF(ISBLANK(Datenerfassung!C579),\"\",Datenerfassung!C579)","v":""},{"$f":"IF(ISBLANK(Datenerfassung!I579),\"\",Datenerfassung!I579)","v":""},{"$f":"IF(ISBLANK(Datenerfassung!J579),\"\",Datenerfassung!J579)","v":""},"",{"$f":"IF(ISBLANK(Datenerfassung!L579),\"\",Datenerfassung!L579)","v":""},{"$f":"IF(ISBLANK(Datenerfassung!F579),\"\",Datenerfassung!F579)","v":""},{"$f":"IF(ISBLANK(Datenerfassung!D579),IF(COUNTBLANK(A569:H569)+COUNTBLANK(J569:O569)=14,\"\",\"- ohne Titel -\"),Datenerfassung!D579)","v":""},{"$f":"IF(ISBLANK(Datenerfassung!E579),\"\",Datenerfassung!E579)","v":""},"",{"$f":"IF(ISBLANK(Datenerfassung!O579),\"\",Datenerfassung!O579)","v":""},{"$f":"IF(ISBLANK(Datenerfassung!G579),\"\",Datenerfassung!G579)","v":""},{"$f":"IF(ISBLANK(Datenerfassung!M579),\"\",Datenerfassung!M579)","v":""},{"$f":"IF(ISBLANK(Datenerfassung!H579),\"\",Datenerfassung!H579)","v":""}]
[{"$f":"IF(ISBLANK(Datenerfassung!A580),\"\",Datenerfassung!A580)","v":""},{"$f":"IF(ISBLANK(Datenerfassung!B580),\"\",Datenerfassung!B580)","v":""},{"$f":"IF(ISBLANK(Datenerfassung!C580),\"\",Datenerfassung!C580)","v":""},{"$f":"IF(ISBLANK(Datenerfassung!I580),\"\",Datenerfassung!I580)","v":""},{"$f":"IF(ISBLANK(Datenerfassung!J580),\"\",Datenerfassung!J580)","v":""},"",{"$f":"IF(ISBLANK(Datenerfassung!L580),\"\",Datenerfassung!L580)","v":""},{"$f":"IF(ISBLANK(Datenerfassung!F580),\"\",Datenerfassung!F580)","v":""},{"$f":"IF(ISBLANK(Datenerfassung!D580),IF(COUNTBLANK(A570:H570)+COUNTBLANK(J570:O570)=14,\"\",\"- ohne Titel -\"),Datenerfassung!D580)","v":""},{"$f":"IF(ISBLANK(Datenerfassung!E580),\"\",Datenerfassung!E580)","v":""},"",{"$f":"IF(ISBLANK(Datenerfassung!O580),\"\",Datenerfassung!O580)","v":""},{"$f":"IF(ISBLANK(Datenerfassung!G580),\"\",Datenerfassung!G580)","v":""},{"$f":"IF(ISBLANK(Datenerfassung!M580),\"\",Datenerfassung!M580)","v":""},{"$f":"IF(ISBLANK(Datenerfassung!H580),\"\",Datenerfassung!H580)","v":""}]
[{"$f":"IF(ISBLANK(Datenerfassung!A581),\"\",Datenerfassung!A581)","v":""},{"$f":"IF(ISBLANK(Datenerfassung!B581),\"\",Datenerfassung!B581)","v":""},{"$f":"IF(ISBLANK(Datenerfassung!C581),\"\",Datenerfassung!C581)","v":""},{"$f":"IF(ISBLANK(Datenerfassung!I581),\"\",Datenerfassung!I581)","v":""},{"$f":"IF(ISBLANK(Datenerfassung!J581),\"\",Datenerfassung!J581)","v":""},"",{"$f":"IF(ISBLANK(Datenerfassung!L581),\"\",Datenerfassung!L581)","v":""},{"$f":"IF(ISBLANK(Datenerfassung!F581),\"\",Datenerfassung!F581)","v":""},{"$f":"IF(ISBLANK(Datenerfassung!D581),IF(COUNTBLANK(A571:H571)+COUNTBLANK(J571:O571)=14,\"\",\"- ohne Titel -\"),Datenerfassung!D581)","v":""},{"$f":"IF(ISBLANK(Datenerfassung!E581),\"\",Datenerfassung!E581)","v":""},"",{"$f":"IF(ISBLANK(Datenerfassung!O581),\"\",Datenerfassung!O581)","v":""},{"$f":"IF(ISBLANK(Datenerfassung!G581),\"\",Datenerfassung!G581)","v":""},{"$f":"IF(ISBLANK(Datenerfassung!M581),\"\",Datenerfassung!M581)","v":""},{"$f":"IF(ISBLANK(Datenerfassung!H581),\"\",Datenerfassung!H581)","v":""}]
[{"$f":"IF(ISBLANK(Datenerfassung!A582),\"\",Datenerfassung!A582)","v":""},{"$f":"IF(ISBLANK(Datenerfassung!B582),\"\",Datenerfassung!B582)","v":""},{"$f":"IF(ISBLANK(Datenerfassung!C582),\"\",Datenerfassung!C582)","v":""},{"$f":"IF(ISBLANK(Datenerfassung!I582),\"\",Datenerfassung!I582)","v":""},{"$f":"IF(ISBLANK(Datenerfassung!J582),\"\",Datenerfassung!J582)","v":""},"",{"$f":"IF(ISBLANK(Datenerfassung!L582),\"\",Datenerfassung!L582)","v":""},{"$f":"IF(ISBLANK(Datenerfassung!F582),\"\",Datenerfassung!F582)","v":""},{"$f":"IF(ISBLANK(Datenerfassung!D582),IF(COUNTBLANK(A572:H572)+COUNTBLANK(J572:O572)=14,\"\",\"- ohne Titel -\"),Datenerfassung!D582)","v":""},{"$f":"IF(ISBLANK(Datenerfassung!E582),\"\",Datenerfassung!E582)","v":""},"",{"$f":"IF(ISBLANK(Datenerfassung!O582),\"\",Datenerfassung!O582)","v":""},{"$f":"IF(ISBLANK(Datenerfassung!G582),\"\",Datenerfassung!G582)","v":""},{"$f":"IF(ISBLANK(Datenerfassung!M582),\"\",Datenerfassung!M582)","v":""},{"$f":"IF(ISBLANK(Datenerfassung!H582),\"\",Datenerfassung!H582)","v":""}]
[{"$f":"IF(ISBLANK(Datenerfassung!A583),\"\",Datenerfassung!A583)","v":""},{"$f":"IF(ISBLANK(Datenerfassung!B583),\"\",Datenerfassung!B583)","v":""},{"$f":"IF(ISBLANK(Datenerfassung!C583),\"\",Datenerfassung!C583)","v":""},{"$f":"IF(ISBLANK(Datenerfassung!I583),\"\",Datenerfassung!I583)","v":""},{"$f":"IF(ISBLANK(Datenerfassung!J583),\"\",Datenerfassung!J583)","v":""},"",{"$f":"IF(ISBLANK(Datenerfassung!L583),\"\",Datenerfassung!L583)","v":""},{"$f":"IF(ISBLANK(Datenerfassung!F583),\"\",Datenerfassung!F583)","v":""},{"$f":"IF(ISBLANK(Datenerfassung!D583),IF(COUNTBLANK(A573:H573)+COUNTBLANK(J573:O573)=14,\"\",\"- ohne Titel -\"),Datenerfassung!D583)","v":""},{"$f":"IF(ISBLANK(Datenerfassung!E583),\"\",Datenerfassung!E583)","v":""},"",{"$f":"IF(ISBLANK(Datenerfassung!O583),\"\",Datenerfassung!O583)","v":""},{"$f":"IF(ISBLANK(Datenerfassung!G583),\"\",Datenerfassung!G583)","v":""},{"$f":"IF(ISBLANK(Datenerfassung!M583),\"\",Datenerfassung!M583)","v":""},{"$f":"IF(ISBLANK(Datenerfassung!H583),\"\",Datenerfassung!H583)","v":""}]
[{"$f":"IF(ISBLANK(Datenerfassung!A584),\"\",Datenerfassung!A584)","v":""},{"$f":"IF(ISBLANK(Datenerfassung!B584),\"\",Datenerfassung!B584)","v":""},{"$f":"IF(ISBLANK(Datenerfassung!C584),\"\",Datenerfassung!C584)","v":""},{"$f":"IF(ISBLANK(Datenerfassung!I584),\"\",Datenerfassung!I584)","v":""},{"$f":"IF(ISBLANK(Datenerfassung!J584),\"\",Datenerfassung!J584)","v":""},"",{"$f":"IF(ISBLANK(Datenerfassung!L584),\"\",Datenerfassung!L584)","v":""},{"$f":"IF(ISBLANK(Datenerfassung!F584),\"\",Datenerfassung!F584)","v":""},{"$f":"IF(ISBLANK(Datenerfassung!D584),IF(COUNTBLANK(A574:H574)+COUNTBLANK(J574:O574)=14,\"\",\"- ohne Titel -\"),Datenerfassung!D584)","v":""},{"$f":"IF(ISBLANK(Datenerfassung!E584),\"\",Datenerfassung!E584)","v":""},"",{"$f":"IF(ISBLANK(Datenerfassung!O584),\"\",Datenerfassung!O584)","v":""},{"$f":"IF(ISBLANK(Datenerfassung!G584),\"\",Datenerfassung!G584)","v":""},{"$f":"IF(ISBLANK(Datenerfassung!M584),\"\",Datenerfassung!M584)","v":""},{"$f":"IF(ISBLANK(Datenerfassung!H584),\"\",Datenerfassung!H584)","v":""}]
[{"$f":"IF(ISBLANK(Datenerfassung!A585),\"\",Datenerfassung!A585)","v":""},{"$f":"IF(ISBLANK(Datenerfassung!B585),\"\",Datenerfassung!B585)","v":""},{"$f":"IF(ISBLANK(Datenerfassung!C585),\"\",Datenerfassung!C585)","v":""},{"$f":"IF(ISBLANK(Datenerfassung!I585),\"\",Datenerfassung!I585)","v":""},{"$f":"IF(ISBLANK(Datenerfassung!J585),\"\",Datenerfassung!J585)","v":""},"",{"$f":"IF(ISBLANK(Datenerfassung!L585),\"\",Datenerfassung!L585)","v":""},{"$f":"IF(ISBLANK(Datenerfassung!F585),\"\",Datenerfassung!F585)","v":""},{"$f":"IF(ISBLANK(Datenerfassung!D585),IF(COUNTBLANK(A575:H575)+COUNTBLANK(J575:O575)=14,\"\",\"- ohne Titel -\"),Datenerfassung!D585)","v":""},{"$f":"IF(ISBLANK(Datenerfassung!E585),\"\",Datenerfassung!E585)","v":""},"",{"$f":"IF(ISBLANK(Datenerfassung!O585),\"\",Datenerfassung!O585)","v":""},{"$f":"IF(ISBLANK(Datenerfassung!G585),\"\",Datenerfassung!G585)","v":""},{"$f":"IF(ISBLANK(Datenerfassung!M585),\"\",Datenerfassung!M585)","v":""},{"$f":"IF(ISBLANK(Datenerfassung!H585),\"\",Datenerfassung!H585)","v":""}]
[{"$f":"IF(ISBLANK(Datenerfassung!A586),\"\",Datenerfassung!A586)","v":""},{"$f":"IF(ISBLANK(Datenerfassung!B586),\"\",Datenerfassung!B586)","v":""},{"$f":"IF(ISBLANK(Datenerfassung!C586),\"\",Datenerfassung!C586)","v":""},{"$f":"IF(ISBLANK(Datenerfassung!I586),\"\",Datenerfassung!I586)","v":""},{"$f":"IF(ISBLANK(Datenerfassung!J586),\"\",Datenerfassung!J586)","v":""},"",{"$f":"IF(ISBLANK(Datenerfassung!L586),\"\",Datenerfassung!L586)","v":""},{"$f":"IF(ISBLANK(Datenerfassung!F586),\"\",Datenerfassung!F586)","v":""},{"$f":"IF(ISBLANK(Datenerfassung!D586),IF(COUNTBLANK(A576:H576)+COUNTBLANK(J576:O576)=14,\"\",\"- ohne Titel -\"),Datenerfassung!D586)","v":""},{"$f":"IF(ISBLANK(Datenerfassung!E586),\"\",Datenerfassung!E586)","v":""},"",{"$f":"IF(ISBLANK(Datenerfassung!O586),\"\",Datenerfassung!O586)","v":""},{"$f":"IF(ISBLANK(Datenerfassung!G586),\"\",Datenerfassung!G586)","v":""},{"$f":"IF(ISBLANK(Datenerfassung!M586),\"\",Datenerfassung!M586)","v":""},{"$f":"IF(ISBLANK(Datenerfassung!H586),\"\",Datenerfassung!H586)","v":""}]
[{"$f":"IF(ISBLANK(Datenerfassung!A587),\"\",Datenerfassung!A587)","v":""},{"$f":"IF(ISBLANK(Datenerfassung!B587),\"\",Datenerfassung!B587)","v":""},{"$f":"IF(ISBLANK(Datenerfassung!C587),\"\",Datenerfassung!C587)","v":""},{"$f":"IF(ISBLANK(Datenerfassung!I587),\"\",Datenerfassung!I587)","v":""},{"$f":"IF(ISBLANK(Datenerfassung!J587),\"\",Datenerfassung!J587)","v":""},"",{"$f":"IF(ISBLANK(Datenerfassung!L587),\"\",Datenerfassung!L587)","v":""},{"$f":"IF(ISBLANK(Datenerfassung!F587),\"\",Datenerfassung!F587)","v":""},{"$f":"IF(ISBLANK(Datenerfassung!D587),IF(COUNTBLANK(A577:H577)+COUNTBLANK(J577:O577)=14,\"\",\"- ohne Titel -\"),Datenerfassung!D587)","v":""},{"$f":"IF(ISBLANK(Datenerfassung!E587),\"\",Datenerfassung!E587)","v":""},"",{"$f":"IF(ISBLANK(Datenerfassung!O587),\"\",Datenerfassung!O587)","v":""},{"$f":"IF(ISBLANK(Datenerfassung!G587),\"\",Datenerfassung!G587)","v":""},{"$f":"IF(ISBLANK(Datenerfassung!M587),\"\",Datenerfassung!M587)","v":""},{"$f":"IF(ISBLANK(Datenerfassung!H587),\"\",Datenerfassung!H587)","v":""}]
[{"$f":"IF(ISBLANK(Datenerfassung!A588),\"\",Datenerfassung!A588)","v":""},{"$f":"IF(ISBLANK(Datenerfassung!B588),\"\",Datenerfassung!B588)","v":""},{"$f":"IF(ISBLANK(Datenerfassung!C588),\"\",Datenerfassung!C588)","v":""},{"$f":"IF(ISBLANK(Datenerfassung!I588),\"\",Datenerfassung!I588)","v":""},{"$f":"IF(ISBLANK(Datenerfassung!J588),\"\",Datenerfassung!J588)","v":""},"",{"$f":"IF(ISBLANK(Datenerfassung!L588),\"\",Datenerfassung!L588)","v":""},{"$f":"IF(ISBLANK(Datenerfassung!F588),\"\",Datenerfassung!F588)","v":""},{"$f":"IF(ISBLANK(Datenerfassung!D588),IF(COUNTBLANK(A578:H578)+COUNTBLANK(J578:O578)=14,\"\",\"- ohne Titel -\"),Datenerfassung!D588)","v":""},{"$f":"IF(ISBLANK(Datenerfassung!E588),\"\",Datenerfassung!E588)","v":""},"",{"$f":"IF(ISBLANK(Datenerfassung!O588),\"\",Datenerfassung!O588)","v":""},{"$f":"IF(ISBLANK(Datenerfassung!G588),\"\",Datenerfassung!G588)","v":""},{"$f":"IF(ISBLANK(Datenerfassung!M588),\"\",Datenerfassung!M588)","v":""},{"$f":"IF(ISBLANK(Datenerfassung!H588),\"\",Datenerfassung!H588)","v":""}]
[{"$f":"IF(ISBLANK(Datenerfassung!A589),\"\",Datenerfassung!A589)","v":""},{"$f":"IF(ISBLANK(Datenerfassung!B589),\"\",Datenerfassung!B589)","v":""},{"$f":"IF(ISBLANK(Datenerfassung!C589),\"\",Datenerfassung!C589)","v":""},{"$f":"IF(ISBLANK(Datenerfassung!I589),\"\",Datenerfassung!I589)","v":""},{"$f":"IF(ISBLANK(Datenerfassung!J589),\"\",Datenerfassung!J589)","v":""},{"$f":"IF(D579=\"\",\"\",IF(E579=\"\",D579,D579&\" - \"&E579))","v":""},{"$f":"IF(ISBLANK(Datenerfassung!L589),\"\",Datenerfassung!L589)","v":""},{"$f":"IF(ISBLANK(Datenerfassung!F589),\"\",Datenerfassung!F589)","v":""},{"$f":"IF(ISBLANK(Datenerfassung!D589),IF(COUNTBLANK(A579:H579)+COUNTBLANK(J579:O579)=14,\"\",\"- ohne Titel -\"),Datenerfassung!D589)","v":""},{"$f":"IF(ISBLANK(Datenerfassung!E589),\"\",Datenerfassung!E589)","v":""},{"$f":"IF(OR(E579=\"\",G579=\"\"),\"\",\"01.01.\"&RIGHT(E579,4)+G579+1)","v":""},{"$f":"IF(ISBLANK(Datenerfassung!O589),\"\",Datenerfassung!O589)","v":""},{"$f":"IF(ISBLANK(Datenerfassung!G589),\"\",Datenerfassung!G589)","v":""},{"$f":"IF(ISBLANK(Datenerfassung!M589),\"\",Datenerfassung!M589)","v":""},{"$f":"IF(ISBLANK(Datenerfassung!H589),\"\",Datenerfassung!H589)","v":""}]
[{"$f":"IF(ISBLANK(Datenerfassung!A590),\"\",Datenerfassung!A590)","v":""},{"$f":"IF(ISBLANK(Datenerfassung!B590),\"\",Datenerfassung!B590)","v":""},{"$f":"IF(ISBLANK(Datenerfassung!C590),\"\",Datenerfassung!C590)","v":""},{"$f":"IF(ISBLANK(Datenerfassung!I590),\"\",Datenerfassung!I590)","v":""},{"$f":"IF(ISBLANK(Datenerfassung!J590),\"\",Datenerfassung!J590)","v":""},"",{"$f":"IF(ISBLANK(Datenerfassung!L590),\"\",Datenerfassung!L590)","v":""},{"$f":"IF(ISBLANK(Datenerfassung!F590),\"\",Datenerfassung!F590)","v":""},{"$f":"IF(ISBLANK(Datenerfassung!D590),IF(COUNTBLANK(A580:H580)+COUNTBLANK(J580:O580)=14,\"\",\"- ohne Titel -\"),Datenerfassung!D590)","v":""},{"$f":"IF(ISBLANK(Datenerfassung!E590),\"\",Datenerfassung!E590)","v":""},"",{"$f":"IF(ISBLANK(Datenerfassung!O590),\"\",Datenerfassung!O590)","v":""},{"$f":"IF(ISBLANK(Datenerfassung!G590),\"\",Datenerfassung!G590)","v":""},{"$f":"IF(ISBLANK(Datenerfassung!M590),\"\",Datenerfassung!M590)","v":""},{"$f":"IF(ISBLANK(Datenerfassung!H590),\"\",Datenerfassung!H590)","v":""}]
[{"$f":"IF(ISBLANK(Datenerfassung!A591),\"\",Datenerfassung!A591)","v":""},{"$f":"IF(ISBLANK(Datenerfassung!B591),\"\",Datenerfassung!B591)","v":""},{"$f":"IF(ISBLANK(Datenerfassung!C591),\"\",Datenerfassung!C591)","v":""},{"$f":"IF(ISBLANK(Datenerfassung!I591),\"\",Datenerfassung!I591)","v":""},{"$f":"IF(ISBLANK(Datenerfassung!J591),\"\",Datenerfassung!J591)","v":""},"",{"$f":"IF(ISBLANK(Datenerfassung!L591),\"\",Datenerfassung!L591)","v":""},{"$f":"IF(ISBLANK(Datenerfassung!F591),\"\",Datenerfassung!F591)","v":""},{"$f":"IF(ISBLANK(Datenerfassung!D591),IF(COUNTBLANK(A581:H581)+COUNTBLANK(J581:O581)=14,\"\",\"- ohne Titel -\"),Datenerfassung!D591)","v":""},{"$f":"IF(ISBLANK(Datenerfassung!E591),\"\",Datenerfassung!E591)","v":""},"",{"$f":"IF(ISBLANK(Datenerfassung!O591),\"\",Datenerfassung!O591)","v":""},{"$f":"IF(ISBLANK(Datenerfassung!G591),\"\",Datenerfassung!G591)","v":""},{"$f":"IF(ISBLANK(Datenerfassung!M591),\"\",Datenerfassung!M591)","v":""},{"$f":"IF(ISBLANK(Datenerfassung!H591),\"\",Datenerfassung!H591)","v":""}]
[{"$f":"IF(ISBLANK(Datenerfassung!A592),\"\",Datenerfassung!A592)","v":""},{"$f":"IF(ISBLANK(Datenerfassung!B592),\"\",Datenerfassung!B592)","v":""},{"$f":"IF(ISBLANK(Datenerfassung!C592),\"\",Datenerfassung!C592)","v":""},{"$f":"IF(ISBLANK(Datenerfassung!I592),\"\",Datenerfassung!I592)","v":""},{"$f":"IF(ISBLANK(Datenerfassung!J592),\"\",Datenerfassung!J592)","v":""},"",{"$f":"IF(ISBLANK(Datenerfassung!L592),\"\",Datenerfassung!L592)","v":""},{"$f":"IF(ISBLANK(Datenerfassung!F592),\"\",Datenerfassung!F592)","v":""},{"$f":"IF(ISBLANK(Datenerfassung!D592),IF(COUNTBLANK(A582:H582)+COUNTBLANK(J582:O582)=14,\"\",\"- ohne Titel -\"),Datenerfassung!D592)","v":""},{"$f":"IF(ISBLANK(Datenerfassung!E592),\"\",Datenerfassung!E592)","v":""},"",{"$f":"IF(ISBLANK(Datenerfassung!O592),\"\",Datenerfassung!O592)","v":""},{"$f":"IF(ISBLANK(Datenerfassung!G592),\"\",Datenerfassung!G592)","v":""},{"$f":"IF(ISBLANK(Datenerfassung!M592),\"\",Datenerfassung!M592)","v":""},{"$f":"IF(ISBLANK(Datenerfassung!H592),\"\",Datenerfassung!H592)","v":""}]
[{"$f":"IF(ISBLANK(Datenerfassung!A593),\"\",Datenerfassung!A593)","v":""},{"$f":"IF(ISBLANK(Datenerfassung!B593),\"\",Datenerfassung!B593)","v":""},{"$f":"IF(ISBLANK(Datenerfassung!C593),\"\",Datenerfassung!C593)","v":""},{"$f":"IF(ISBLANK(Datenerfassung!I593),\"\",Datenerfassung!I593)","v":""},{"$f":"IF(ISBLANK(Datenerfassung!J593),\"\",Datenerfassung!J593)","v":""},"",{"$f":"IF(ISBLANK(Datenerfassung!L593),\"\",Datenerfassung!L593)","v":""},{"$f":"IF(ISBLANK(Datenerfassung!F593),\"\",Datenerfassung!F593)","v":""},{"$f":"IF(ISBLANK(Datenerfassung!D593),IF(COUNTBLANK(A583:H583)+COUNTBLANK(J583:O583)=14,\"\",\"- ohne Titel -\"),Datenerfassung!D593)","v":""},{"$f":"IF(ISBLANK(Datenerfassung!E593),\"\",Datenerfassung!E593)","v":""},"",{"$f":"IF(ISBLANK(Datenerfassung!O593),\"\",Datenerfassung!O593)","v":""},{"$f":"IF(ISBLANK(Datenerfassung!G593),\"\",Datenerfassung!G593)","v":""},{"$f":"IF(ISBLANK(Datenerfassung!M593),\"\",Datenerfassung!M593)","v":""},{"$f":"IF(ISBLANK(Datenerfassung!H593),\"\",Datenerfassung!H593)","v":""}]
[{"$f":"IF(ISBLANK(Datenerfassung!A594),\"\",Datenerfassung!A594)","v":""},{"$f":"IF(ISBLANK(Datenerfassung!B594),\"\",Datenerfassung!B594)","v":""},{"$f":"IF(ISBLANK(Datenerfassung!C594),\"\",Datenerfassung!C594)","v":""},{"$f":"IF(ISBLANK(Datenerfassung!I594),\"\",Datenerfassung!I594)","v":""},{"$f":"IF(ISBLANK(Datenerfassung!J594),\"\",Datenerfassung!J594)","v":""},"",{"$f":"IF(ISBLANK(Datenerfassung!L594),\"\",Datenerfassung!L594)","v":""},{"$f":"IF(ISBLANK(Datenerfassung!F594),\"\",Datenerfassung!F594)","v":""},{"$f":"IF(ISBLANK(Datenerfassung!D594),IF(COUNTBLANK(A584:H584)+COUNTBLANK(J584:O584)=14,\"\",\"- ohne Titel -\"),Datenerfassung!D594)","v":""},{"$f":"IF(ISBLANK(Datenerfassung!E594),\"\",Datenerfassung!E594)","v":""},"",{"$f":"IF(ISBLANK(Datenerfassung!O594),\"\",Datenerfassung!O594)","v":""},{"$f":"IF(ISBLANK(Datenerfassung!G594),\"\",Datenerfassung!G594)","v":""},{"$f":"IF(ISBLANK(Datenerfassung!M594),\"\",Datenerfassung!M594)","v":""},{"$f":"IF(ISBLANK(Datenerfassung!H594),\"\",Datenerfassung!H594)","v":""}]
[{"$f":"IF(ISBLANK(Datenerfassung!A595),\"\",Datenerfassung!A595)","v":""},{"$f":"IF(ISBLANK(Datenerfassung!B595),\"\",Datenerfassung!B595)","v":""},{"$f":"IF(ISBLANK(Datenerfassung!C595),\"\",Datenerfassung!C595)","v":""},{"$f":"IF(ISBLANK(Datenerfassung!I595),\"\",Datenerfassung!I595)","v":""},{"$f":"IF(ISBLANK(Datenerfassung!J595),\"\",Datenerfassung!J595)","v":""},"",{"$f":"IF(ISBLANK(Datenerfassung!L595),\"\",Datenerfassung!L595)","v":""},{"$f":"IF(ISBLANK(Datenerfassung!F595),\"\",Datenerfassung!F595)","v":""},{"$f":"IF(ISBLANK(Datenerfassung!D595),IF(COUNTBLANK(A585:H585)+COUNTBLANK(J585:O585)=14,\"\",\"- ohne Titel -\"),Datenerfassung!D595)","v":""},{"$f":"IF(ISBLANK(Datenerfassung!E595),\"\",Datenerfassung!E595)","v":""},"",{"$f":"IF(ISBLANK(Datenerfassung!O595),\"\",Datenerfassung!O595)","v":""},{"$f":"IF(ISBLANK(Datenerfassung!G595),\"\",Datenerfassung!G595)","v":""},{"$f":"IF(ISBLANK(Datenerfassung!M595),\"\",Datenerfassung!M595)","v":""},{"$f":"IF(ISBLANK(Datenerfassung!H595),\"\",Datenerfassung!H595)","v":""}]
[{"$f":"IF(ISBLANK(Datenerfassung!A596),\"\",Datenerfassung!A596)","v":""},{"$f":"IF(ISBLANK(Datenerfassung!B596),\"\",Datenerfassung!B596)","v":""},{"$f":"IF(ISBLANK(Datenerfassung!C596),\"\",Datenerfassung!C596)","v":""},{"$f":"IF(ISBLANK(Datenerfassung!I596),\"\",Datenerfassung!I596)","v":""},{"$f":"IF(ISBLANK(Datenerfassung!J596),\"\",Datenerfassung!J596)","v":""},"",{"$f":"IF(ISBLANK(Datenerfassung!L596),\"\",Datenerfassung!L596)","v":""},{"$f":"IF(ISBLANK(Datenerfassung!F596),\"\",Datenerfassung!F596)","v":""},{"$f":"IF(ISBLANK(Datenerfassung!D596),IF(COUNTBLANK(A586:H586)+COUNTBLANK(J586:O586)=14,\"\",\"- ohne Titel -\"),Datenerfassung!D596)","v":""},{"$f":"IF(ISBLANK(Datenerfassung!E596),\"\",Datenerfassung!E596)","v":""},"",{"$f":"IF(ISBLANK(Datenerfassung!O596),\"\",Datenerfassung!O596)","v":""},{"$f":"IF(ISBLANK(Datenerfassung!G596),\"\",Datenerfassung!G596)","v":""},{"$f":"IF(ISBLANK(Datenerfassung!M596),\"\",Datenerfassung!M596)","v":""},{"$f":"IF(ISBLANK(Datenerfassung!H596),\"\",Datenerfassung!H596)","v":""}]
[{"$f":"IF(ISBLANK(Datenerfassung!A597),\"\",Datenerfassung!A597)","v":""},{"$f":"IF(ISBLANK(Datenerfassung!B597),\"\",Datenerfassung!B597)","v":""},{"$f":"IF(ISBLANK(Datenerfassung!C597),\"\",Datenerfassung!C597)","v":""},{"$f":"IF(ISBLANK(Datenerfassung!I597),\"\",Datenerfassung!I597)","v":""},{"$f":"IF(ISBLANK(Datenerfassung!J597),\"\",Datenerfassung!J597)","v":""},"",{"$f":"IF(ISBLANK(Datenerfassung!L597),\"\",Datenerfassung!L597)","v":""},{"$f":"IF(ISBLANK(Datenerfassung!F597),\"\",Datenerfassung!F597)","v":""},{"$f":"IF(ISBLANK(Datenerfassung!D597),IF(COUNTBLANK(A587:H587)+COUNTBLANK(J587:O587)=14,\"\",\"- ohne Titel -\"),Datenerfassung!D597)","v":""},{"$f":"IF(ISBLANK(Datenerfassung!E597),\"\",Datenerfassung!E597)","v":""},"",{"$f":"IF(ISBLANK(Datenerfassung!O597),\"\",Datenerfassung!O597)","v":""},{"$f":"IF(ISBLANK(Datenerfassung!G597),\"\",Datenerfassung!G597)","v":""},{"$f":"IF(ISBLANK(Datenerfassung!M597),\"\",Datenerfassung!M597)","v":""},{"$f":"IF(ISBLANK(Datenerfassung!H597),\"\",Datenerfassung!H597)","v":""}]
[{"$f":"IF(ISBLANK(Datenerfassung!A598),\"\",Datenerfassung!A598)","v":""},{"$f":"IF(ISBLANK(Datenerfassung!B598),\"\",Datenerfassung!B598)","v":""},{"$f":"IF(ISBLANK(Datenerfassung!C598),\"\",Datenerfassung!C598)","v":""},{"$f":"IF(ISBLANK(Datenerfassung!I598),\"\",Datenerfassung!I598)","v":""},{"$f":"IF(ISBLANK(Datenerfassung!J598),\"\",Datenerfassung!J598)","v":""},"",{"$f":"IF(ISBLANK(Datenerfassung!L598),\"\",Datenerfassung!L598)","v":""},{"$f":"IF(ISBLANK(Datenerfassung!F598),\"\",Datenerfassung!F598)","v":""},{"$f":"IF(ISBLANK(Datenerfassung!D598),IF(COUNTBLANK(A588:H588)+COUNTBLANK(J588:O588)=14,\"\",\"- ohne Titel -\"),Datenerfassung!D598)","v":""},{"$f":"IF(ISBLANK(Datenerfassung!E598),\"\",Datenerfassung!E598)","v":""},"",{"$f":"IF(ISBLANK(Datenerfassung!O598),\"\",Datenerfassung!O598)","v":""},{"$f":"IF(ISBLANK(Datenerfassung!G598),\"\",Datenerfassung!G598)","v":""},{"$f":"IF(ISBLANK(Datenerfassung!M598),\"\",Datenerfassung!M598)","v":""},{"$f":"IF(ISBLANK(Datenerfassung!H598),\"\",Datenerfassung!H598)","v":""}]
[{"$f":"IF(ISBLANK(Datenerfassung!A599),\"\",Datenerfassung!A599)","v":""},{"$f":"IF(ISBLANK(Datenerfassung!B599),\"\",Datenerfassung!B599)","v":""},{"$f":"IF(ISBLANK(Datenerfassung!C599),\"\",Datenerfassung!C599)","v":""},{"$f":"IF(ISBLANK(Datenerfassung!I599),\"\",Datenerfassung!I599)","v":""},{"$f":"IF(ISBLANK(Datenerfassung!J599),\"\",Datenerfassung!J599)","v":""},"",{"$f":"IF(ISBLANK(Datenerfassung!L599),\"\",Datenerfassung!L599)","v":""},{"$f":"IF(ISBLANK(Datenerfassung!F599),\"\",Datenerfassung!F599)","v":""},{"$f":"IF(ISBLANK(Datenerfassung!D599),IF(COUNTBLANK(A589:H589)+COUNTBLANK(J589:O589)=14,\"\",\"- ohne Titel -\"),Datenerfassung!D599)","v":""},{"$f":"IF(ISBLANK(Datenerfassung!E599),\"\",Datenerfassung!E599)","v":""},"",{"$f":"IF(ISBLANK(Datenerfassung!O599),\"\",Datenerfassung!O599)","v":""},{"$f":"IF(ISBLANK(Datenerfassung!G599),\"\",Datenerfassung!G599)","v":""},{"$f":"IF(ISBLANK(Datenerfassung!M599),\"\",Datenerfassung!M599)","v":""},{"$f":"IF(ISBLANK(Datenerfassung!H599),\"\",Datenerfassung!H599)","v":""}]
[{"$f":"IF(ISBLANK(Datenerfassung!A600),\"\",Datenerfassung!A600)","v":""},{"$f":"IF(ISBLANK(Datenerfassung!B600),\"\",Datenerfassung!B600)","v":""},{"$f":"IF(ISBLANK(Datenerfassung!C600),\"\",Datenerfassung!C600)","v":""},{"$f":"IF(ISBLANK(Datenerfassung!I600),\"\",Datenerfassung!I600)","v":""},{"$f":"IF(ISBLANK(Datenerfassung!J600),\"\",Datenerfassung!J600)","v":""},"",{"$f":"IF(ISBLANK(Datenerfassung!L600),\"\",Datenerfassung!L600)","v":""},{"$f":"IF(ISBLANK(Datenerfassung!F600),\"\",Datenerfassung!F600)","v":""},{"$f":"IF(ISBLANK(Datenerfassung!D600),IF(COUNTBLANK(A590:H590)+COUNTBLANK(J590:O590)=14,\"\",\"- ohne Titel -\"),Datenerfassung!D600)","v":""},{"$f":"IF(ISBLANK(Datenerfassung!E600),\"\",Datenerfassung!E600)","v":""},"",{"$f":"IF(ISBLANK(Datenerfassung!O600),\"\",Datenerfassung!O600)","v":""},{"$f":"IF(ISBLANK(Datenerfassung!G600),\"\",Datenerfassung!G600)","v":""},{"$f":"IF(ISBLANK(Datenerfassung!M600),\"\",Datenerfassung!M600)","v":""},{"$f":"IF(ISBLANK(Datenerfassung!H600),\"\",Datenerfassung!H600)","v":""}]
[{"$f":"IF(ISBLANK(Datenerfassung!A601),\"\",Datenerfassung!A601)","v":""},{"$f":"IF(ISBLANK(Datenerfassung!B601),\"\",Datenerfassung!B601)","v":""},{"$f":"IF(ISBLANK(Datenerfassung!C601),\"\",Datenerfassung!C601)","v":""},{"$f":"IF(ISBLANK(Datenerfassung!I601),\"\",Datenerfassung!I601)","v":""},{"$f":"IF(ISBLANK(Datenerfassung!J601),\"\",Datenerfassung!J601)","v":""},"",{"$f":"IF(ISBLANK(Datenerfassung!L601),\"\",Datenerfassung!L601)","v":""},{"$f":"IF(ISBLANK(Datenerfassung!F601),\"\",Datenerfassung!F601)","v":""},{"$f":"IF(ISBLANK(Datenerfassung!D601),IF(COUNTBLANK(A591:H591)+COUNTBLANK(J591:O591)=14,\"\",\"- ohne Titel -\"),Datenerfassung!D601)","v":""},{"$f":"IF(ISBLANK(Datenerfassung!E601),\"\",Datenerfassung!E601)","v":""},"",{"$f":"IF(ISBLANK(Datenerfassung!O601),\"\",Datenerfassung!O601)","v":""},{"$f":"IF(ISBLANK(Datenerfassung!G601),\"\",Datenerfassung!G601)","v":""},{"$f":"IF(ISBLANK(Datenerfassung!M601),\"\",Datenerfassung!M601)","v":""},{"$f":"IF(ISBLANK(Datenerfassung!H601),\"\",Datenerfassung!H601)","v":""}]
[{"$f":"IF(ISBLANK(Datenerfassung!A602),\"\",Datenerfassung!A602)","v":""},{"$f":"IF(ISBLANK(Datenerfassung!B602),\"\",Datenerfassung!B602)","v":""},{"$f":"IF(ISBLANK(Datenerfassung!C602),\"\",Datenerfassung!C602)","v":""},{"$f":"IF(ISBLANK(Datenerfassung!I602),\"\",Datenerfassung!I602)","v":""},{"$f":"IF(ISBLANK(Datenerfassung!J602),\"\",Datenerfassung!J602)","v":""},"",{"$f":"IF(ISBLANK(Datenerfassung!L602),\"\",Datenerfassung!L602)","v":""},{"$f":"IF(ISBLANK(Datenerfassung!F602),\"\",Datenerfassung!F602)","v":""},{"$f":"IF(ISBLANK(Datenerfassung!D602),IF(COUNTBLANK(A592:H592)+COUNTBLANK(J592:O592)=14,\"\",\"- ohne Titel -\"),Datenerfassung!D602)","v":""},{"$f":"IF(ISBLANK(Datenerfassung!E602),\"\",Datenerfassung!E602)","v":""},"",{"$f":"IF(ISBLANK(Datenerfassung!O602),\"\",Datenerfassung!O602)","v":""},{"$f":"IF(ISBLANK(Datenerfassung!G602),\"\",Datenerfassung!G602)","v":""},{"$f":"IF(ISBLANK(Datenerfassung!M602),\"\",Datenerfassung!M602)","v":""},{"$f":"IF(ISBLANK(Datenerfassung!H602),\"\",Datenerfassung!H602)","v":""}]
[{"$f":"IF(ISBLANK(Datenerfassung!A603),\"\",Datenerfassung!A603)","v":""},{"$f":"IF(ISBLANK(Datenerfassung!B603),\"\",Datenerfassung!B603)","v":""},{"$f":"IF(ISBLANK(Datenerfassung!C603),\"\",Datenerfassung!C603)","v":""},{"$f":"IF(ISBLANK(Datenerfassung!I603),\"\",Datenerfassung!I603)","v":""},{"$f":"IF(ISBLANK(Datenerfassung!J603),\"\",Datenerfassung!J603)","v":""},"",{"$f":"IF(ISBLANK(Datenerfassung!L603),\"\",Datenerfassung!L603)","v":""},{"$f":"IF(ISBLANK(Datenerfassung!F603),\"\",Datenerfassung!F603)","v":""},{"$f":"IF(ISBLANK(Datenerfassung!D603),IF(COUNTBLANK(A593:H593)+COUNTBLANK(J593:O593)=14,\"\",\"- ohne Titel -\"),Datenerfassung!D603)","v":""},{"$f":"IF(ISBLANK(Datenerfassung!E603),\"\",Datenerfassung!E603)","v":""},"",{"$f":"IF(ISBLANK(Datenerfassung!O603),\"\",Datenerfassung!O603)","v":""},{"$f":"IF(ISBLANK(Datenerfassung!G603),\"\",Datenerfassung!G603)","v":""},{"$f":"IF(ISBLANK(Datenerfassung!M603),\"\",Datenerfassung!M603)","v":""},{"$f":"IF(ISBLANK(Datenerfassung!H603),\"\",Datenerfassung!H603)","v":""}]
[{"$f":"IF(ISBLANK(Datenerfassung!A604),\"\",Datenerfassung!A604)","v":""},{"$f":"IF(ISBLANK(Datenerfassung!B604),\"\",Datenerfassung!B604)","v":""},{"$f":"IF(ISBLANK(Datenerfassung!C604),\"\",Datenerfassung!C604)","v":""},{"$f":"IF(ISBLANK(Datenerfassung!I604),\"\",Datenerfassung!I604)","v":""},{"$f":"IF(ISBLANK(Datenerfassung!J604),\"\",Datenerfassung!J604)","v":""},"",{"$f":"IF(ISBLANK(Datenerfassung!L604),\"\",Datenerfassung!L604)","v":""},{"$f":"IF(ISBLANK(Datenerfassung!F604),\"\",Datenerfassung!F604)","v":""},{"$f":"IF(ISBLANK(Datenerfassung!D604),IF(COUNTBLANK(A594:H594)+COUNTBLANK(J594:O594)=14,\"\",\"- ohne Titel -\"),Datenerfassung!D604)","v":""},{"$f":"IF(ISBLANK(Datenerfassung!E604),\"\",Datenerfassung!E604)","v":""},"",{"$f":"IF(ISBLANK(Datenerfassung!O604),\"\",Datenerfassung!O604)","v":""},{"$f":"IF(ISBLANK(Datenerfassung!G604),\"\",Datenerfassung!G604)","v":""},{"$f":"IF(ISBLANK(Datenerfassung!M604),\"\",Datenerfassung!M604)","v":""},{"$f":"IF(ISBLANK(Datenerfassung!H604),\"\",Datenerfassung!H604)","v":""}]
[{"$f":"IF(ISBLANK(Datenerfassung!A605),\"\",Datenerfassung!A605)","v":""},{"$f":"IF(ISBLANK(Datenerfassung!B605),\"\",Datenerfassung!B605)","v":""},{"$f":"IF(ISBLANK(Datenerfassung!C605),\"\",Datenerfassung!C605)","v":""},{"$f":"IF(ISBLANK(Datenerfassung!I605),\"\",Datenerfassung!I605)","v":""},{"$f":"IF(ISBLANK(Datenerfassung!J605),\"\",Datenerfassung!J605)","v":""},"",{"$f":"IF(ISBLANK(Datenerfassung!L605),\"\",Datenerfassung!L605)","v":""},{"$f":"IF(ISBLANK(Datenerfassung!F605),\"\",Datenerfassung!F605)","v":""},{"$f":"IF(ISBLANK(Datenerfassung!D605),IF(COUNTBLANK(A595:H595)+COUNTBLANK(J595:O595)=14,\"\",\"- ohne Titel -\"),Datenerfassung!D605)","v":""},{"$f":"IF(ISBLANK(Datenerfassung!E605),\"\",Datenerfassung!E605)","v":""},"",{"$f":"IF(ISBLANK(Datenerfassung!O605),\"\",Datenerfassung!O605)","v":""},{"$f":"IF(ISBLANK(Datenerfassung!G605),\"\",Datenerfassung!G605)","v":""},{"$f":"IF(ISBLANK(Datenerfassung!M605),\"\",Datenerfassung!M605)","v":""},{"$f":"IF(ISBLANK(Datenerfassung!H605),\"\",Datenerfassung!H605)","v":""}]
[{"$f":"IF(ISBLANK(Datenerfassung!A606),\"\",Datenerfassung!A606)","v":""},{"$f":"IF(ISBLANK(Datenerfassung!B606),\"\",Datenerfassung!B606)","v":""},{"$f":"IF(ISBLANK(Datenerfassung!C606),\"\",Datenerfassung!C606)","v":""},{"$f":"IF(ISBLANK(Datenerfassung!I606),\"\",Datenerfassung!I606)","v":""},{"$f":"IF(ISBLANK(Datenerfassung!J606),\"\",Datenerfassung!J606)","v":""},"",{"$f":"IF(ISBLANK(Datenerfassung!L606),\"\",Datenerfassung!L606)","v":""},{"$f":"IF(ISBLANK(Datenerfassung!F606),\"\",Datenerfassung!F606)","v":""},{"$f":"IF(ISBLANK(Datenerfassung!D606),IF(COUNTBLANK(A596:H596)+COUNTBLANK(J596:O596)=14,\"\",\"- ohne Titel -\"),Datenerfassung!D606)","v":""},{"$f":"IF(ISBLANK(Datenerfassung!E606),\"\",Datenerfassung!E606)","v":""},"",{"$f":"IF(ISBLANK(Datenerfassung!O606),\"\",Datenerfassung!O606)","v":""},{"$f":"IF(ISBLANK(Datenerfassung!G606),\"\",Datenerfassung!G606)","v":""},{"$f":"IF(ISBLANK(Datenerfassung!M606),\"\",Datenerfassung!M606)","v":""},{"$f":"IF(ISBLANK(Datenerfassung!H606),\"\",Datenerfassung!H606)","v":""}]
[{"$f":"IF(ISBLANK(Datenerfassung!A607),\"\",Datenerfassung!A607)","v":""},{"$f":"IF(ISBLANK(Datenerfassung!B607),\"\",Datenerfassung!B607)","v":""},{"$f":"IF(ISBLANK(Datenerfassung!C607),\"\",Datenerfassung!C607)","v":""},{"$f":"IF(ISBLANK(Datenerfassung!I607),\"\",Datenerfassung!I607)","v":""},{"$f":"IF(ISBLANK(Datenerfassung!J607),\"\",Datenerfassung!J607)","v":""},"",{"$f":"IF(ISBLANK(Datenerfassung!L607),\"\",Datenerfassung!L607)","v":""},{"$f":"IF(ISBLANK(Datenerfassung!F607),\"\",Datenerfassung!F607)","v":""},{"$f":"IF(ISBLANK(Datenerfassung!D607),IF(COUNTBLANK(A597:H597)+COUNTBLANK(J597:O597)=14,\"\",\"- ohne Titel -\"),Datenerfassung!D607)","v":""},{"$f":"IF(ISBLANK(Datenerfassung!E607),\"\",Datenerfassung!E607)","v":""},"",{"$f":"IF(ISBLANK(Datenerfassung!O607),\"\",Datenerfassung!O607)","v":""},{"$f":"IF(ISBLANK(Datenerfassung!G607),\"\",Datenerfassung!G607)","v":""},{"$f":"IF(ISBLANK(Datenerfassung!M607),\"\",Datenerfassung!M607)","v":""},{"$f":"IF(ISBLANK(Datenerfassung!H607),\"\",Datenerfassung!H607)","v":""}]
[{"$f":"IF(ISBLANK(Datenerfassung!A608),\"\",Datenerfassung!A608)","v":""},{"$f":"IF(ISBLANK(Datenerfassung!B608),\"\",Datenerfassung!B608)","v":""},{"$f":"IF(ISBLANK(Datenerfassung!C608),\"\",Datenerfassung!C608)","v":""},{"$f":"IF(ISBLANK(Datenerfassung!I608),\"\",Datenerfassung!I608)","v":""},{"$f":"IF(ISBLANK(Datenerfassung!J608),\"\",Datenerfassung!J608)","v":""},"",{"$f":"IF(ISBLANK(Datenerfassung!L608),\"\",Datenerfassung!L608)","v":""},{"$f":"IF(ISBLANK(Datenerfassung!F608),\"\",Datenerfassung!F608)","v":""},{"$f":"IF(ISBLANK(Datenerfassung!D608),IF(COUNTBLANK(A598:H598)+COUNTBLANK(J598:O598)=14,\"\",\"- ohne Titel -\"),Datenerfassung!D608)","v":""},{"$f":"IF(ISBLANK(Datenerfassung!E608),\"\",Datenerfassung!E608)","v":""},"",{"$f":"IF(ISBLANK(Datenerfassung!O608),\"\",Datenerfassung!O608)","v":""},{"$f":"IF(ISBLANK(Datenerfassung!G608),\"\",Datenerfassung!G608)","v":""},{"$f":"IF(ISBLANK(Datenerfassung!M608),\"\",Datenerfassung!M608)","v":""},{"$f":"IF(ISBLANK(Datenerfassung!H608),\"\",Datenerfassung!H608)","v":""}]
[{"$f":"IF(ISBLANK(Datenerfassung!A609),\"\",Datenerfassung!A609)","v":""},{"$f":"IF(ISBLANK(Datenerfassung!B609),\"\",Datenerfassung!B609)","v":""},{"$f":"IF(ISBLANK(Datenerfassung!C609),\"\",Datenerfassung!C609)","v":""},{"$f":"IF(ISBLANK(Datenerfassung!I609),\"\",Datenerfassung!I609)","v":""},{"$f":"IF(ISBLANK(Datenerfassung!J609),\"\",Datenerfassung!J609)","v":""},"",{"$f":"IF(ISBLANK(Datenerfassung!L609),\"\",Datenerfassung!L609)","v":""},{"$f":"IF(ISBLANK(Datenerfassung!F609),\"\",Datenerfassung!F609)","v":""},{"$f":"IF(ISBLANK(Datenerfassung!D609),IF(COUNTBLANK(A599:H599)+COUNTBLANK(J599:O599)=14,\"\",\"- ohne Titel -\"),Datenerfassung!D609)","v":""},{"$f":"IF(ISBLANK(Datenerfassung!E609),\"\",Datenerfassung!E609)","v":""},"",{"$f":"IF(ISBLANK(Datenerfassung!O609),\"\",Datenerfassung!O609)","v":""},{"$f":"IF(ISBLANK(Datenerfassung!G609),\"\",Datenerfassung!G609)","v":""},{"$f":"IF(ISBLANK(Datenerfassung!M609),\"\",Datenerfassung!M609)","v":""},{"$f":"IF(ISBLANK(Datenerfassung!H609),\"\",Datenerfassung!H609)","v":""}]
[{"$f":"IF(ISBLANK(Datenerfassung!A610),\"\",Datenerfassung!A610)","v":""},{"$f":"IF(ISBLANK(Datenerfassung!B610),\"\",Datenerfassung!B610)","v":""},{"$f":"IF(ISBLANK(Datenerfassung!C610),\"\",Datenerfassung!C610)","v":""},{"$f":"IF(ISBLANK(Datenerfassung!I610),\"\",Datenerfassung!I610)","v":""},{"$f":"IF(ISBLANK(Datenerfassung!J610),\"\",Datenerfassung!J610)","v":""},"",{"$f":"IF(ISBLANK(Datenerfassung!L610),\"\",Datenerfassung!L610)","v":""},{"$f":"IF(ISBLANK(Datenerfassung!F610),\"\",Datenerfassung!F610)","v":""},{"$f":"IF(ISBLANK(Datenerfassung!D610),IF(COUNTBLANK(A600:H600)+COUNTBLANK(J600:O600)=14,\"\",\"- ohne Titel -\"),Datenerfassung!D610)","v":""},{"$f":"IF(ISBLANK(Datenerfassung!E610),\"\",Datenerfassung!E610)","v":""},"",{"$f":"IF(ISBLANK(Datenerfassung!O610),\"\",Datenerfassung!O610)","v":""},{"$f":"IF(ISBLANK(Datenerfassung!G610),\"\",Datenerfassung!G610)","v":""},{"$f":"IF(ISBLANK(Datenerfassung!M610),\"\",Datenerfassung!M610)","v":""},{"$f":"IF(ISBLANK(Datenerfassung!H610),\"\",Datenerfassung!H610)","v":""}]
[{"$f":"IF(ISBLANK(Datenerfassung!A611),\"\",Datenerfassung!A611)","v":""},{"$f":"IF(ISBLANK(Datenerfassung!B611),\"\",Datenerfassung!B611)","v":""},{"$f":"IF(ISBLANK(Datenerfassung!C611),\"\",Datenerfassung!C611)","v":""},{"$f":"IF(ISBLANK(Datenerfassung!I611),\"\",Datenerfassung!I611)","v":""},{"$f":"IF(ISBLANK(Datenerfassung!J611),\"\",Datenerfassung!J611)","v":""},"",{"$f":"IF(ISBLANK(Datenerfassung!L611),\"\",Datenerfassung!L611)","v":""},{"$f":"IF(ISBLANK(Datenerfassung!F611),\"\",Datenerfassung!F611)","v":""},{"$f":"IF(ISBLANK(Datenerfassung!D611),IF(COUNTBLANK(A601:H601)+COUNTBLANK(J601:O601)=14,\"\",\"- ohne Titel -\"),Datenerfassung!D611)","v":""},{"$f":"IF(ISBLANK(Datenerfassung!E611),\"\",Datenerfassung!E611)","v":""},"",{"$f":"IF(ISBLANK(Datenerfassung!O611),\"\",Datenerfassung!O611)","v":""},{"$f":"IF(ISBLANK(Datenerfassung!G611),\"\",Datenerfassung!G611)","v":""},{"$f":"IF(ISBLANK(Datenerfassung!M611),\"\",Datenerfassung!M611)","v":""},{"$f":"IF(ISBLANK(Datenerfassung!H611),\"\",Datenerfassung!H611)","v":""}]
[{"$f":"IF(ISBLANK(Datenerfassung!A612),\"\",Datenerfassung!A612)","v":""},{"$f":"IF(ISBLANK(Datenerfassung!B612),\"\",Datenerfassung!B612)","v":""},{"$f":"IF(ISBLANK(Datenerfassung!C612),\"\",Datenerfassung!C612)","v":""},{"$f":"IF(ISBLANK(Datenerfassung!I612),\"\",Datenerfassung!I612)","v":""},{"$f":"IF(ISBLANK(Datenerfassung!J612),\"\",Datenerfassung!J612)","v":""},"",{"$f":"IF(ISBLANK(Datenerfassung!L612),\"\",Datenerfassung!L612)","v":""},{"$f":"IF(ISBLANK(Datenerfassung!F612),\"\",Datenerfassung!F612)","v":""},{"$f":"IF(ISBLANK(Datenerfassung!D612),IF(COUNTBLANK(A602:H602)+COUNTBLANK(J602:O602)=14,\"\",\"- ohne Titel -\"),Datenerfassung!D612)","v":""},{"$f":"IF(ISBLANK(Datenerfassung!E612),\"\",Datenerfassung!E612)","v":""},"",{"$f":"IF(ISBLANK(Datenerfassung!O612),\"\",Datenerfassung!O612)","v":""},{"$f":"IF(ISBLANK(Datenerfassung!G612),\"\",Datenerfassung!G612)","v":""},{"$f":"IF(ISBLANK(Datenerfassung!M612),\"\",Datenerfassung!M612)","v":""},{"$f":"IF(ISBLANK(Datenerfassung!H612),\"\",Datenerfassung!H612)","v":""}]
[{"$f":"IF(ISBLANK(Datenerfassung!A613),\"\",Datenerfassung!A613)","v":""},{"$f":"IF(ISBLANK(Datenerfassung!B613),\"\",Datenerfassung!B613)","v":""},{"$f":"IF(ISBLANK(Datenerfassung!C613),\"\",Datenerfassung!C613)","v":""},{"$f":"IF(ISBLANK(Datenerfassung!I613),\"\",Datenerfassung!I613)","v":""},{"$f":"IF(ISBLANK(Datenerfassung!J613),\"\",Datenerfassung!J613)","v":""},"",{"$f":"IF(ISBLANK(Datenerfassung!L613),\"\",Datenerfassung!L613)","v":""},{"$f":"IF(ISBLANK(Datenerfassung!F613),\"\",Datenerfassung!F613)","v":""},{"$f":"IF(ISBLANK(Datenerfassung!D613),IF(COUNTBLANK(A603:H603)+COUNTBLANK(J603:O603)=14,\"\",\"- ohne Titel -\"),Datenerfassung!D613)","v":""},{"$f":"IF(ISBLANK(Datenerfassung!E613),\"\",Datenerfassung!E613)","v":""},"",{"$f":"IF(ISBLANK(Datenerfassung!O613),\"\",Datenerfassung!O613)","v":""},{"$f":"IF(ISBLANK(Datenerfassung!G613),\"\",Datenerfassung!G613)","v":""},{"$f":"IF(ISBLANK(Datenerfassung!M613),\"\",Datenerfassung!M613)","v":""},{"$f":"IF(ISBLANK(Datenerfassung!H613),\"\",Datenerfassung!H613)","v":""}]
[{"$f":"IF(ISBLANK(Datenerfassung!A614),\"\",Datenerfassung!A614)","v":""},{"$f":"IF(ISBLANK(Datenerfassung!B614),\"\",Datenerfassung!B614)","v":""},{"$f":"IF(ISBLANK(Datenerfassung!C614),\"\",Datenerfassung!C614)","v":""},{"$f":"IF(ISBLANK(Datenerfassung!I614),\"\",Datenerfassung!I614)","v":""},{"$f":"IF(ISBLANK(Datenerfassung!J614),\"\",Datenerfassung!J614)","v":""},"",{"$f":"IF(ISBLANK(Datenerfassung!L614),\"\",Datenerfassung!L614)","v":""},{"$f":"IF(ISBLANK(Datenerfassung!F614),\"\",Datenerfassung!F614)","v":""},{"$f":"IF(ISBLANK(Datenerfassung!D614),IF(COUNTBLANK(A604:H604)+COUNTBLANK(J604:O604)=14,\"\",\"- ohne Titel -\"),Datenerfassung!D614)","v":""},{"$f":"IF(ISBLANK(Datenerfassung!E614),\"\",Datenerfassung!E614)","v":""},"",{"$f":"IF(ISBLANK(Datenerfassung!O614),\"\",Datenerfassung!O614)","v":""},{"$f":"IF(ISBLANK(Datenerfassung!G614),\"\",Datenerfassung!G614)","v":""},{"$f":"IF(ISBLANK(Datenerfassung!M614),\"\",Datenerfassung!M614)","v":""},{"$f":"IF(ISBLANK(Datenerfassung!H614),\"\",Datenerfassung!H614)","v":""}]
[{"$f":"IF(ISBLANK(Datenerfassung!A615),\"\",Datenerfassung!A615)","v":""},{"$f":"IF(ISBLANK(Datenerfassung!B615),\"\",Datenerfassung!B615)","v":""},{"$f":"IF(ISBLANK(Datenerfassung!C615),\"\",Datenerfassung!C615)","v":""},{"$f":"IF(ISBLANK(Datenerfassung!I615),\"\",Datenerfassung!I615)","v":""},{"$f":"IF(ISBLANK(Datenerfassung!J615),\"\",Datenerfassung!J615)","v":""},"",{"$f":"IF(ISBLANK(Datenerfassung!L615),\"\",Datenerfassung!L615)","v":""},{"$f":"IF(ISBLANK(Datenerfassung!F615),\"\",Datenerfassung!F615)","v":""},{"$f":"IF(ISBLANK(Datenerfassung!D615),IF(COUNTBLANK(A605:H605)+COUNTBLANK(J605:O605)=14,\"\",\"- ohne Titel -\"),Datenerfassung!D615)","v":""},{"$f":"IF(ISBLANK(Datenerfassung!E615),\"\",Datenerfassung!E615)","v":""},"",{"$f":"IF(ISBLANK(Datenerfassung!O615),\"\",Datenerfassung!O615)","v":""},{"$f":"IF(ISBLANK(Datenerfassung!G615),\"\",Datenerfassung!G615)","v":""},{"$f":"IF(ISBLANK(Datenerfassung!M615),\"\",Datenerfassung!M615)","v":""},{"$f":"IF(ISBLANK(Datenerfassung!H615),\"\",Datenerfassung!H615)","v":""}]
[{"$f":"IF(ISBLANK(Datenerfassung!A616),\"\",Datenerfassung!A616)","v":""},{"$f":"IF(ISBLANK(Datenerfassung!B616),\"\",Datenerfassung!B616)","v":""},{"$f":"IF(ISBLANK(Datenerfassung!C616),\"\",Datenerfassung!C616)","v":""},{"$f":"IF(ISBLANK(Datenerfassung!I616),\"\",Datenerfassung!I616)","v":""},{"$f":"IF(ISBLANK(Datenerfassung!J616),\"\",Datenerfassung!J616)","v":""},"",{"$f":"IF(ISBLANK(Datenerfassung!L616),\"\",Datenerfassung!L616)","v":""},{"$f":"IF(ISBLANK(Datenerfassung!F616),\"\",Datenerfassung!F616)","v":""},{"$f":"IF(ISBLANK(Datenerfassung!D616),IF(COUNTBLANK(A606:H606)+COUNTBLANK(J606:O606)=14,\"\",\"- ohne Titel -\"),Datenerfassung!D616)","v":""},{"$f":"IF(ISBLANK(Datenerfassung!E616),\"\",Datenerfassung!E616)","v":""},"",{"$f":"IF(ISBLANK(Datenerfassung!O616),\"\",Datenerfassung!O616)","v":""},{"$f":"IF(ISBLANK(Datenerfassung!G616),\"\",Datenerfassung!G616)","v":""},{"$f":"IF(ISBLANK(Datenerfassung!M616),\"\",Datenerfassung!M616)","v":""},{"$f":"IF(ISBLANK(Datenerfassung!H616),\"\",Datenerfassung!H616)","v":""}]
[{"$f":"IF(ISBLANK(Datenerfassung!A617),\"\",Datenerfassung!A617)","v":""},{"$f":"IF(ISBLANK(Datenerfassung!B617),\"\",Datenerfassung!B617)","v":""},{"$f":"IF(ISBLANK(Datenerfassung!C617),\"\",Datenerfassung!C617)","v":""},{"$f":"IF(ISBLANK(Datenerfassung!I617),\"\",Datenerfassung!I617)","v":""},{"$f":"IF(ISBLANK(Datenerfassung!J617),\"\",Datenerfassung!J617)","v":""},"",{"$f":"IF(ISBLANK(Datenerfassung!L617),\"\",Datenerfassung!L617)","v":""},{"$f":"IF(ISBLANK(Datenerfassung!F617),\"\",Datenerfassung!F617)","v":""},{"$f":"IF(ISBLANK(Datenerfassung!D617),IF(COUNTBLANK(A607:H607)+COUNTBLANK(J607:O607)=14,\"\",\"- ohne Titel -\"),Datenerfassung!D617)","v":""},{"$f":"IF(ISBLANK(Datenerfassung!E617),\"\",Datenerfassung!E617)","v":""},"",{"$f":"IF(ISBLANK(Datenerfassung!O617),\"\",Datenerfassung!O617)","v":""},{"$f":"IF(ISBLANK(Datenerfassung!G617),\"\",Datenerfassung!G617)","v":""},{"$f":"IF(ISBLANK(Datenerfassung!M617),\"\",Datenerfassung!M617)","v":""},{"$f":"IF(ISBLANK(Datenerfassung!H617),\"\",Datenerfassung!H617)","v":""}]
[{"$f":"IF(ISBLANK(Datenerfassung!A618),\"\",Datenerfassung!A618)","v":""},{"$f":"IF(ISBLANK(Datenerfassung!B618),\"\",Datenerfassung!B618)","v":""},{"$f":"IF(ISBLANK(Datenerfassung!C618),\"\",Datenerfassung!C618)","v":""},{"$f":"IF(ISBLANK(Datenerfassung!I618),\"\",Datenerfassung!I618)","v":""},{"$f":"IF(ISBLANK(Datenerfassung!J618),\"\",Datenerfassung!J618)","v":""},"",{"$f":"IF(ISBLANK(Datenerfassung!L618),\"\",Datenerfassung!L618)","v":""},{"$f":"IF(ISBLANK(Datenerfassung!F618),\"\",Datenerfassung!F618)","v":""},{"$f":"IF(ISBLANK(Datenerfassung!D618),IF(COUNTBLANK(A608:H608)+COUNTBLANK(J608:O608)=14,\"\",\"- ohne Titel -\"),Datenerfassung!D618)","v":""},{"$f":"IF(ISBLANK(Datenerfassung!E618),\"\",Datenerfassung!E618)","v":""},"",{"$f":"IF(ISBLANK(Datenerfassung!O618),\"\",Datenerfassung!O618)","v":""},{"$f":"IF(ISBLANK(Datenerfassung!G618),\"\",Datenerfassung!G618)","v":""},{"$f":"IF(ISBLANK(Datenerfassung!M618),\"\",Datenerfassung!M618)","v":""},{"$f":"IF(ISBLANK(Datenerfassung!H618),\"\",Datenerfassung!H618)","v":""}]
[{"$f":"IF(ISBLANK(Datenerfassung!A619),\"\",Datenerfassung!A619)","v":""},{"$f":"IF(ISBLANK(Datenerfassung!B619),\"\",Datenerfassung!B619)","v":""},{"$f":"IF(ISBLANK(Datenerfassung!C619),\"\",Datenerfassung!C619)","v":""},{"$f":"IF(ISBLANK(Datenerfassung!I619),\"\",Datenerfassung!I619)","v":""},{"$f":"IF(ISBLANK(Datenerfassung!J619),\"\",Datenerfassung!J619)","v":""},"",{"$f":"IF(ISBLANK(Datenerfassung!L619),\"\",Datenerfassung!L619)","v":""},{"$f":"IF(ISBLANK(Datenerfassung!F619),\"\",Datenerfassung!F619)","v":""},{"$f":"IF(ISBLANK(Datenerfassung!D619),IF(COUNTBLANK(A609:H609)+COUNTBLANK(J609:O609)=14,\"\",\"- ohne Titel -\"),Datenerfassung!D619)","v":""},{"$f":"IF(ISBLANK(Datenerfassung!E619),\"\",Datenerfassung!E619)","v":""},"",{"$f":"IF(ISBLANK(Datenerfassung!O619),\"\",Datenerfassung!O619)","v":""},{"$f":"IF(ISBLANK(Datenerfassung!G619),\"\",Datenerfassung!G619)","v":""},{"$f":"IF(ISBLANK(Datenerfassung!M619),\"\",Datenerfassung!M619)","v":""},{"$f":"IF(ISBLANK(Datenerfassung!H619),\"\",Datenerfassung!H619)","v":""}]
[{"$f":"IF(ISBLANK(Datenerfassung!A620),\"\",Datenerfassung!A620)","v":""},{"$f":"IF(ISBLANK(Datenerfassung!B620),\"\",Datenerfassung!B620)","v":""},{"$f":"IF(ISBLANK(Datenerfassung!C620),\"\",Datenerfassung!C620)","v":""},{"$f":"IF(ISBLANK(Datenerfassung!I620),\"\",Datenerfassung!I620)","v":""},{"$f":"IF(ISBLANK(Datenerfassung!J620),\"\",Datenerfassung!J620)","v":""},"",{"$f":"IF(ISBLANK(Datenerfassung!L620),\"\",Datenerfassung!L620)","v":""},{"$f":"IF(ISBLANK(Datenerfassung!F620),\"\",Datenerfassung!F620)","v":""},{"$f":"IF(ISBLANK(Datenerfassung!D620),IF(COUNTBLANK(A610:H610)+COUNTBLANK(J610:O610)=14,\"\",\"- ohne Titel -\"),Datenerfassung!D620)","v":""},{"$f":"IF(ISBLANK(Datenerfassung!E620),\"\",Datenerfassung!E620)","v":""},"",{"$f":"IF(ISBLANK(Datenerfassung!O620),\"\",Datenerfassung!O620)","v":""},{"$f":"IF(ISBLANK(Datenerfassung!G620),\"\",Datenerfassung!G620)","v":""},{"$f":"IF(ISBLANK(Datenerfassung!M620),\"\",Datenerfassung!M620)","v":""},{"$f":"IF(ISBLANK(Datenerfassung!H620),\"\",Datenerfassung!H620)","v":""}]
[{"$f":"IF(ISBLANK(Datenerfassung!A621),\"\",Datenerfassung!A621)","v":""},{"$f":"IF(ISBLANK(Datenerfassung!B621),\"\",Datenerfassung!B621)","v":""},{"$f":"IF(ISBLANK(Datenerfassung!C621),\"\",Datenerfassung!C621)","v":""},{"$f":"IF(ISBLANK(Datenerfassung!I621),\"\",Datenerfassung!I621)","v":""},{"$f":"IF(ISBLANK(Datenerfassung!J621),\"\",Datenerfassung!J621)","v":""},"",{"$f":"IF(ISBLANK(Datenerfassung!L621),\"\",Datenerfassung!L621)","v":""},{"$f":"IF(ISBLANK(Datenerfassung!F621),\"\",Datenerfassung!F621)","v":""},{"$f":"IF(ISBLANK(Datenerfassung!D621),IF(COUNTBLANK(A611:H611)+COUNTBLANK(J611:O611)=14,\"\",\"- ohne Titel -\"),Datenerfassung!D621)","v":""},{"$f":"IF(ISBLANK(Datenerfassung!E621),\"\",Datenerfassung!E621)","v":""},"",{"$f":"IF(ISBLANK(Datenerfassung!O621),\"\",Datenerfassung!O621)","v":""},{"$f":"IF(ISBLANK(Datenerfassung!G621),\"\",Datenerfassung!G621)","v":""},{"$f":"IF(ISBLANK(Datenerfassung!M621),\"\",Datenerfassung!M621)","v":""},{"$f":"IF(ISBLANK(Datenerfassung!H621),\"\",Datenerfassung!H621)","v":""}]
[{"$f":"IF(ISBLANK(Datenerfassung!A622),\"\",Datenerfassung!A622)","v":""},{"$f":"IF(ISBLANK(Datenerfassung!B622),\"\",Datenerfassung!B622)","v":""},{"$f":"IF(ISBLANK(Datenerfassung!C622),\"\",Datenerfassung!C622)","v":""},{"$f":"IF(ISBLANK(Datenerfassung!I622),\"\",Datenerfassung!I622)","v":""},{"$f":"IF(ISBLANK(Datenerfassung!J622),\"\",Datenerfassung!J622)","v":""},"",{"$f":"IF(ISBLANK(Datenerfassung!L622),\"\",Datenerfassung!L622)","v":""},{"$f":"IF(ISBLANK(Datenerfassung!F622),\"\",Datenerfassung!F622)","v":""},{"$f":"IF(ISBLANK(Datenerfassung!D622),IF(COUNTBLANK(A612:H612)+COUNTBLANK(J612:O612)=14,\"\",\"- ohne Titel -\"),Datenerfassung!D622)","v":""},{"$f":"IF(ISBLANK(Datenerfassung!E622),\"\",Datenerfassung!E622)","v":""},"",{"$f":"IF(ISBLANK(Datenerfassung!O622),\"\",Datenerfassung!O622)","v":""},{"$f":"IF(ISBLANK(Datenerfassung!G622),\"\",Datenerfassung!G622)","v":""},{"$f":"IF(ISBLANK(Datenerfassung!M622),\"\",Datenerfassung!M622)","v":""},{"$f":"IF(ISBLANK(Datenerfassung!H622),\"\",Datenerfassung!H622)","v":""}]
[{"$f":"IF(ISBLANK(Datenerfassung!A623),\"\",Datenerfassung!A623)","v":""},{"$f":"IF(ISBLANK(Datenerfassung!B623),\"\",Datenerfassung!B623)","v":""},{"$f":"IF(ISBLANK(Datenerfassung!C623),\"\",Datenerfassung!C623)","v":""},{"$f":"IF(ISBLANK(Datenerfassung!I623),\"\",Datenerfassung!I623)","v":""},{"$f":"IF(ISBLANK(Datenerfassung!J623),\"\",Datenerfassung!J623)","v":""},"",{"$f":"IF(ISBLANK(Datenerfassung!L623),\"\",Datenerfassung!L623)","v":""},{"$f":"IF(ISBLANK(Datenerfassung!F623),\"\",Datenerfassung!F623)","v":""},{"$f":"IF(ISBLANK(Datenerfassung!D623),IF(COUNTBLANK(A613:H613)+COUNTBLANK(J613:O613)=14,\"\",\"- ohne Titel -\"),Datenerfassung!D623)","v":""},{"$f":"IF(ISBLANK(Datenerfassung!E623),\"\",Datenerfassung!E623)","v":""},"",{"$f":"IF(ISBLANK(Datenerfassung!O623),\"\",Datenerfassung!O623)","v":""},{"$f":"IF(ISBLANK(Datenerfassung!G623),\"\",Datenerfassung!G623)","v":""},{"$f":"IF(ISBLANK(Datenerfassung!M623),\"\",Datenerfassung!M623)","v":""},{"$f":"IF(ISBLANK(Datenerfassung!H623),\"\",Datenerfassung!H623)","v":""}]
[{"$f":"IF(ISBLANK(Datenerfassung!A624),\"\",Datenerfassung!A624)","v":""},{"$f":"IF(ISBLANK(Datenerfassung!B624),\"\",Datenerfassung!B624)","v":""},{"$f":"IF(ISBLANK(Datenerfassung!C624),\"\",Datenerfassung!C624)","v":""},{"$f":"IF(ISBLANK(Datenerfassung!I624),\"\",Datenerfassung!I624)","v":""},{"$f":"IF(ISBLANK(Datenerfassung!J624),\"\",Datenerfassung!J624)","v":""},"",{"$f":"IF(ISBLANK(Datenerfassung!L624),\"\",Datenerfassung!L624)","v":""},{"$f":"IF(ISBLANK(Datenerfassung!F624),\"\",Datenerfassung!F624)","v":""},{"$f":"IF(ISBLANK(Datenerfassung!D624),IF(COUNTBLANK(A614:H614)+COUNTBLANK(J614:O614)=14,\"\",\"- ohne Titel -\"),Datenerfassung!D624)","v":""},{"$f":"IF(ISBLANK(Datenerfassung!E624),\"\",Datenerfassung!E624)","v":""},"",{"$f":"IF(ISBLANK(Datenerfassung!O624),\"\",Datenerfassung!O624)","v":""},{"$f":"IF(ISBLANK(Datenerfassung!G624),\"\",Datenerfassung!G624)","v":""},{"$f":"IF(ISBLANK(Datenerfassung!M624),\"\",Datenerfassung!M624)","v":""},{"$f":"IF(ISBLANK(Datenerfassung!H624),\"\",Datenerfassung!H624)","v":""}]
[{"$f":"IF(ISBLANK(Datenerfassung!A625),\"\",Datenerfassung!A625)","v":""},{"$f":"IF(ISBLANK(Datenerfassung!B625),\"\",Datenerfassung!B625)","v":""},{"$f":"IF(ISBLANK(Datenerfassung!C625),\"\",Datenerfassung!C625)","v":""},{"$f":"IF(ISBLANK(Datenerfassung!I625),\"\",Datenerfassung!I625)","v":""},{"$f":"IF(ISBLANK(Datenerfassung!J625),\"\",Datenerfassung!J625)","v":""},"",{"$f":"IF(ISBLANK(Datenerfassung!L625),\"\",Datenerfassung!L625)","v":""},{"$f":"IF(ISBLANK(Datenerfassung!F625),\"\",Datenerfassung!F625)","v":""},{"$f":"IF(ISBLANK(Datenerfassung!D625),IF(COUNTBLANK(A615:H615)+COUNTBLANK(J615:O615)=14,\"\",\"- ohne Titel -\"),Datenerfassung!D625)","v":""},{"$f":"IF(ISBLANK(Datenerfassung!E625),\"\",Datenerfassung!E625)","v":""},"",{"$f":"IF(ISBLANK(Datenerfassung!O625),\"\",Datenerfassung!O625)","v":""},{"$f":"IF(ISBLANK(Datenerfassung!G625),\"\",Datenerfassung!G625)","v":""},{"$f":"IF(ISBLANK(Datenerfassung!M625),\"\",Datenerfassung!M625)","v":""},{"$f":"IF(ISBLANK(Datenerfassung!H625),\"\",Datenerfassung!H625)","v":""}]
[{"$f":"IF(ISBLANK(Datenerfassung!A626),\"\",Datenerfassung!A626)","v":""},{"$f":"IF(ISBLANK(Datenerfassung!B626),\"\",Datenerfassung!B626)","v":""},{"$f":"IF(ISBLANK(Datenerfassung!C626),\"\",Datenerfassung!C626)","v":""},{"$f":"IF(ISBLANK(Datenerfassung!I626),\"\",Datenerfassung!I626)","v":""},{"$f":"IF(ISBLANK(Datenerfassung!J626),\"\",Datenerfassung!J626)","v":""},"",{"$f":"IF(ISBLANK(Datenerfassung!L626),\"\",Datenerfassung!L626)","v":""},{"$f":"IF(ISBLANK(Datenerfassung!F626),\"\",Datenerfassung!F626)","v":""},{"$f":"IF(ISBLANK(Datenerfassung!D626),IF(COUNTBLANK(A616:H616)+COUNTBLANK(J616:O616)=14,\"\",\"- ohne Titel -\"),Datenerfassung!D626)","v":""},{"$f":"IF(ISBLANK(Datenerfassung!E626),\"\",Datenerfassung!E626)","v":""},"",{"$f":"IF(ISBLANK(Datenerfassung!O626),\"\",Datenerfassung!O626)","v":""},{"$f":"IF(ISBLANK(Datenerfassung!G626),\"\",Datenerfassung!G626)","v":""},{"$f":"IF(ISBLANK(Datenerfassung!M626),\"\",Datenerfassung!M626)","v":""},{"$f":"IF(ISBLANK(Datenerfassung!H626),\"\",Datenerfassung!H626)","v":""}]
[{"$f":"IF(ISBLANK(Datenerfassung!A627),\"\",Datenerfassung!A627)","v":""},{"$f":"IF(ISBLANK(Datenerfassung!B627),\"\",Datenerfassung!B627)","v":""},{"$f":"IF(ISBLANK(Datenerfassung!C627),\"\",Datenerfassung!C627)","v":""},{"$f":"IF(ISBLANK(Datenerfassung!I627),\"\",Datenerfassung!I627)","v":""},{"$f":"IF(ISBLANK(Datenerfassung!J627),\"\",Datenerfassung!J627)","v":""},"",{"$f":"IF(ISBLANK(Datenerfassung!L627),\"\",Datenerfassung!L627)","v":""},{"$f":"IF(ISBLANK(Datenerfassung!F627),\"\",Datenerfassung!F627)","v":""},{"$f":"IF(ISBLANK(Datenerfassung!D627),IF(COUNTBLANK(A617:H617)+COUNTBLANK(J617:O617)=14,\"\",\"- ohne Titel -\"),Datenerfassung!D627)","v":""},{"$f":"IF(ISBLANK(Datenerfassung!E627),\"\",Datenerfassung!E627)","v":""},"",{"$f":"IF(ISBLANK(Datenerfassung!O627),\"\",Datenerfassung!O627)","v":""},{"$f":"IF(ISBLANK(Datenerfassung!G627),\"\",Datenerfassung!G627)","v":""},{"$f":"IF(ISBLANK(Datenerfassung!M627),\"\",Datenerfassung!M627)","v":""},{"$f":"IF(ISBLANK(Datenerfassung!H627),\"\",Datenerfassung!H627)","v":""}]
[{"$f":"IF(ISBLANK(Datenerfassung!A628),\"\",Datenerfassung!A628)","v":""},{"$f":"IF(ISBLANK(Datenerfassung!B628),\"\",Datenerfassung!B628)","v":""},{"$f":"IF(ISBLANK(Datenerfassung!C628),\"\",Datenerfassung!C628)","v":""},{"$f":"IF(ISBLANK(Datenerfassung!I628),\"\",Datenerfassung!I628)","v":""},{"$f":"IF(ISBLANK(Datenerfassung!J628),\"\",Datenerfassung!J628)","v":""},"",{"$f":"IF(ISBLANK(Datenerfassung!L628),\"\",Datenerfassung!L628)","v":""},{"$f":"IF(ISBLANK(Datenerfassung!F628),\"\",Datenerfassung!F628)","v":""},{"$f":"IF(ISBLANK(Datenerfassung!D628),IF(COUNTBLANK(A618:H618)+COUNTBLANK(J618:O618)=14,\"\",\"- ohne Titel -\"),Datenerfassung!D628)","v":""},{"$f":"IF(ISBLANK(Datenerfassung!E628),\"\",Datenerfassung!E628)","v":""},"",{"$f":"IF(ISBLANK(Datenerfassung!O628),\"\",Datenerfassung!O628)","v":""},{"$f":"IF(ISBLANK(Datenerfassung!G628),\"\",Datenerfassung!G628)","v":""},{"$f":"IF(ISBLANK(Datenerfassung!M628),\"\",Datenerfassung!M628)","v":""},{"$f":"IF(ISBLANK(Datenerfassung!H628),\"\",Datenerfassung!H628)","v":""}]
[{"$f":"IF(ISBLANK(Datenerfassung!A629),\"\",Datenerfassung!A629)","v":""},{"$f":"IF(ISBLANK(Datenerfassung!B629),\"\",Datenerfassung!B629)","v":""},{"$f":"IF(ISBLANK(Datenerfassung!C629),\"\",Datenerfassung!C629)","v":""},{"$f":"IF(ISBLANK(Datenerfassung!I629),\"\",Datenerfassung!I629)","v":""},{"$f":"IF(ISBLANK(Datenerfassung!J629),\"\",Datenerfassung!J629)","v":""},"",{"$f":"IF(ISBLANK(Datenerfassung!L629),\"\",Datenerfassung!L629)","v":""},{"$f":"IF(ISBLANK(Datenerfassung!F629),\"\",Datenerfassung!F629)","v":""},{"$f":"IF(ISBLANK(Datenerfassung!D629),IF(COUNTBLANK(A619:H619)+COUNTBLANK(J619:O619)=14,\"\",\"- ohne Titel -\"),Datenerfassung!D629)","v":""},{"$f":"IF(ISBLANK(Datenerfassung!E629),\"\",Datenerfassung!E629)","v":""},"",{"$f":"IF(ISBLANK(Datenerfassung!O629),\"\",Datenerfassung!O629)","v":""},{"$f":"IF(ISBLANK(Datenerfassung!G629),\"\",Datenerfassung!G629)","v":""},{"$f":"IF(ISBLANK(Datenerfassung!M629),\"\",Datenerfassung!M629)","v":""},{"$f":"IF(ISBLANK(Datenerfassung!H629),\"\",Datenerfassung!H629)","v":""}]
[{"$f":"IF(ISBLANK(Datenerfassung!A630),\"\",Datenerfassung!A630)","v":""},{"$f":"IF(ISBLANK(Datenerfassung!B630),\"\",Datenerfassung!B630)","v":""},{"$f":"IF(ISBLANK(Datenerfassung!C630),\"\",Datenerfassung!C630)","v":""},{"$f":"IF(ISBLANK(Datenerfassung!I630),\"\",Datenerfassung!I630)","v":""},{"$f":"IF(ISBLANK(Datenerfassung!J630),\"\",Datenerfassung!J630)","v":""},"",{"$f":"IF(ISBLANK(Datenerfassung!L630),\"\",Datenerfassung!L630)","v":""},{"$f":"IF(ISBLANK(Datenerfassung!F630),\"\",Datenerfassung!F630)","v":""},{"$f":"IF(ISBLANK(Datenerfassung!D630),IF(COUNTBLANK(A620:H620)+COUNTBLANK(J620:O620)=14,\"\",\"- ohne Titel -\"),Datenerfassung!D630)","v":""},{"$f":"IF(ISBLANK(Datenerfassung!E630),\"\",Datenerfassung!E630)","v":""},"",{"$f":"IF(ISBLANK(Datenerfassung!O630),\"\",Datenerfassung!O630)","v":""},{"$f":"IF(ISBLANK(Datenerfassung!G630),\"\",Datenerfassung!G630)","v":""},{"$f":"IF(ISBLANK(Datenerfassung!M630),\"\",Datenerfassung!M630)","v":""},{"$f":"IF(ISBLANK(Datenerfassung!H630),\"\",Datenerfassung!H630)","v":""}]
[{"$f":"IF(ISBLANK(Datenerfassung!A631),\"\",Datenerfassung!A631)","v":""},{"$f":"IF(ISBLANK(Datenerfassung!B631),\"\",Datenerfassung!B631)","v":""},{"$f":"IF(ISBLANK(Datenerfassung!C631),\"\",Datenerfassung!C631)","v":""},{"$f":"IF(ISBLANK(Datenerfassung!I631),\"\",Datenerfassung!I631)","v":""},{"$f":"IF(ISBLANK(Datenerfassung!J631),\"\",Datenerfassung!J631)","v":""},"",{"$f":"IF(ISBLANK(Datenerfassung!L631),\"\",Datenerfassung!L631)","v":""},{"$f":"IF(ISBLANK(Datenerfassung!F631),\"\",Datenerfassung!F631)","v":""},{"$f":"IF(ISBLANK(Datenerfassung!D631),IF(COUNTBLANK(A621:H621)+COUNTBLANK(J621:O621)=14,\"\",\"- ohne Titel -\"),Datenerfassung!D631)","v":""},{"$f":"IF(ISBLANK(Datenerfassung!E631),\"\",Datenerfassung!E631)","v":""},"",{"$f":"IF(ISBLANK(Datenerfassung!O631),\"\",Datenerfassung!O631)","v":""},{"$f":"IF(ISBLANK(Datenerfassung!G631),\"\",Datenerfassung!G631)","v":""},{"$f":"IF(ISBLANK(Datenerfassung!M631),\"\",Datenerfassung!M631)","v":""},{"$f":"IF(ISBLANK(Datenerfassung!H631),\"\",Datenerfassung!H631)","v":""}]
[{"$f":"IF(ISBLANK(Datenerfassung!A632),\"\",Datenerfassung!A632)","v":""},{"$f":"IF(ISBLANK(Datenerfassung!B632),\"\",Datenerfassung!B632)","v":""},{"$f":"IF(ISBLANK(Datenerfassung!C632),\"\",Datenerfassung!C632)","v":""},{"$f":"IF(ISBLANK(Datenerfassung!I632),\"\",Datenerfassung!I632)","v":""},{"$f":"IF(ISBLANK(Datenerfassung!J632),\"\",Datenerfassung!J632)","v":""},"",{"$f":"IF(ISBLANK(Datenerfassung!L632),\"\",Datenerfassung!L632)","v":""},{"$f":"IF(ISBLANK(Datenerfassung!F632),\"\",Datenerfassung!F632)","v":""},{"$f":"IF(ISBLANK(Datenerfassung!D632),IF(COUNTBLANK(A622:H622)+COUNTBLANK(J622:O622)=14,\"\",\"- ohne Titel -\"),Datenerfassung!D632)","v":""},{"$f":"IF(ISBLANK(Datenerfassung!E632),\"\",Datenerfassung!E632)","v":""},"",{"$f":"IF(ISBLANK(Datenerfassung!O632),\"\",Datenerfassung!O632)","v":""},{"$f":"IF(ISBLANK(Datenerfassung!G632),\"\",Datenerfassung!G632)","v":""},{"$f":"IF(ISBLANK(Datenerfassung!M632),\"\",Datenerfassung!M632)","v":""},{"$f":"IF(ISBLANK(Datenerfassung!H632),\"\",Datenerfassung!H632)","v":""}]
[{"$f":"IF(ISBLANK(Datenerfassung!A633),\"\",Datenerfassung!A633)","v":""},{"$f":"IF(ISBLANK(Datenerfassung!B633),\"\",Datenerfassung!B633)","v":""},{"$f":"IF(ISBLANK(Datenerfassung!C633),\"\",Datenerfassung!C633)","v":""},{"$f":"IF(ISBLANK(Datenerfassung!I633),\"\",Datenerfassung!I633)","v":""},{"$f":"IF(ISBLANK(Datenerfassung!J633),\"\",Datenerfassung!J633)","v":""},"",{"$f":"IF(ISBLANK(Datenerfassung!L633),\"\",Datenerfassung!L633)","v":""},{"$f":"IF(ISBLANK(Datenerfassung!F633),\"\",Datenerfassung!F633)","v":""},{"$f":"IF(ISBLANK(Datenerfassung!D633),IF(COUNTBLANK(A623:H623)+COUNTBLANK(J623:O623)=14,\"\",\"- ohne Titel -\"),Datenerfassung!D633)","v":""},{"$f":"IF(ISBLANK(Datenerfassung!E633),\"\",Datenerfassung!E633)","v":""},"",{"$f":"IF(ISBLANK(Datenerfassung!O633),\"\",Datenerfassung!O633)","v":""},{"$f":"IF(ISBLANK(Datenerfassung!G633),\"\",Datenerfassung!G633)","v":""},{"$f":"IF(ISBLANK(Datenerfassung!M633),\"\",Datenerfassung!M633)","v":""},{"$f":"IF(ISBLANK(Datenerfassung!H633),\"\",Datenerfassung!H633)","v":""}]
[{"$f":"IF(ISBLANK(Datenerfassung!A634),\"\",Datenerfassung!A634)","v":""},{"$f":"IF(ISBLANK(Datenerfassung!B634),\"\",Datenerfassung!B634)","v":""},{"$f":"IF(ISBLANK(Datenerfassung!C634),\"\",Datenerfassung!C634)","v":""},{"$f":"IF(ISBLANK(Datenerfassung!I634),\"\",Datenerfassung!I634)","v":""},{"$f":"IF(ISBLANK(Datenerfassung!J634),\"\",Datenerfassung!J634)","v":""},"",{"$f":"IF(ISBLANK(Datenerfassung!L634),\"\",Datenerfassung!L634)","v":""},{"$f":"IF(ISBLANK(Datenerfassung!F634),\"\",Datenerfassung!F634)","v":""},{"$f":"IF(ISBLANK(Datenerfassung!D634),IF(COUNTBLANK(A624:H624)+COUNTBLANK(J624:O624)=14,\"\",\"- ohne Titel -\"),Datenerfassung!D634)","v":""},{"$f":"IF(ISBLANK(Datenerfassung!E634),\"\",Datenerfassung!E634)","v":""},"",{"$f":"IF(ISBLANK(Datenerfassung!O634),\"\",Datenerfassung!O634)","v":""},{"$f":"IF(ISBLANK(Datenerfassung!G634),\"\",Datenerfassung!G634)","v":""},{"$f":"IF(ISBLANK(Datenerfassung!M634),\"\",Datenerfassung!M634)","v":""},{"$f":"IF(ISBLANK(Datenerfassung!H634),\"\",Datenerfassung!H634)","v":""}]
[{"$f":"IF(ISBLANK(Datenerfassung!A635),\"\",Datenerfassung!A635)","v":""},{"$f":"IF(ISBLANK(Datenerfassung!B635),\"\",Datenerfassung!B635)","v":""},{"$f":"IF(ISBLANK(Datenerfassung!C635),\"\",Datenerfassung!C635)","v":""},{"$f":"IF(ISBLANK(Datenerfassung!I635),\"\",Datenerfassung!I635)","v":""},{"$f":"IF(ISBLANK(Datenerfassung!J635),\"\",Datenerfassung!J635)","v":""},"",{"$f":"IF(ISBLANK(Datenerfassung!L635),\"\",Datenerfassung!L635)","v":""},{"$f":"IF(ISBLANK(Datenerfassung!F635),\"\",Datenerfassung!F635)","v":""},{"$f":"IF(ISBLANK(Datenerfassung!D635),IF(COUNTBLANK(A625:H625)+COUNTBLANK(J625:O625)=14,\"\",\"- ohne Titel -\"),Datenerfassung!D635)","v":""},{"$f":"IF(ISBLANK(Datenerfassung!E635),\"\",Datenerfassung!E635)","v":""},"",{"$f":"IF(ISBLANK(Datenerfassung!O635),\"\",Datenerfassung!O635)","v":""},{"$f":"IF(ISBLANK(Datenerfassung!G635),\"\",Datenerfassung!G635)","v":""},{"$f":"IF(ISBLANK(Datenerfassung!M635),\"\",Datenerfassung!M635)","v":""},{"$f":"IF(ISBLANK(Datenerfassung!H635),\"\",Datenerfassung!H635)","v":""}]
[{"$f":"IF(ISBLANK(Datenerfassung!A636),\"\",Datenerfassung!A636)","v":""},{"$f":"IF(ISBLANK(Datenerfassung!B636),\"\",Datenerfassung!B636)","v":""},{"$f":"IF(ISBLANK(Datenerfassung!C636),\"\",Datenerfassung!C636)","v":""},{"$f":"IF(ISBLANK(Datenerfassung!I636),\"\",Datenerfassung!I636)","v":""},{"$f":"IF(ISBLANK(Datenerfassung!J636),\"\",Datenerfassung!J636)","v":""},"",{"$f":"IF(ISBLANK(Datenerfassung!L636),\"\",Datenerfassung!L636)","v":""},{"$f":"IF(ISBLANK(Datenerfassung!F636),\"\",Datenerfassung!F636)","v":""},{"$f":"IF(ISBLANK(Datenerfassung!D636),IF(COUNTBLANK(A626:H626)+COUNTBLANK(J626:O626)=14,\"\",\"- ohne Titel -\"),Datenerfassung!D636)","v":""},{"$f":"IF(ISBLANK(Datenerfassung!E636),\"\",Datenerfassung!E636)","v":""},"",{"$f":"IF(ISBLANK(Datenerfassung!O636),\"\",Datenerfassung!O636)","v":""},{"$f":"IF(ISBLANK(Datenerfassung!G636),\"\",Datenerfassung!G636)","v":""},{"$f":"IF(ISBLANK(Datenerfassung!M636),\"\",Datenerfassung!M636)","v":""},{"$f":"IF(ISBLANK(Datenerfassung!H636),\"\",Datenerfassung!H636)","v":""}]
[{"$f":"IF(ISBLANK(Datenerfassung!A637),\"\",Datenerfassung!A637)","v":""},{"$f":"IF(ISBLANK(Datenerfassung!B637),\"\",Datenerfassung!B637)","v":""},{"$f":"IF(ISBLANK(Datenerfassung!C637),\"\",Datenerfassung!C637)","v":""},{"$f":"IF(ISBLANK(Datenerfassung!I637),\"\",Datenerfassung!I637)","v":""},{"$f":"IF(ISBLANK(Datenerfassung!J637),\"\",Datenerfassung!J637)","v":""},"",{"$f":"IF(ISBLANK(Datenerfassung!L637),\"\",Datenerfassung!L637)","v":""},{"$f":"IF(ISBLANK(Datenerfassung!F637),\"\",Datenerfassung!F637)","v":""},{"$f":"IF(ISBLANK(Datenerfassung!D637),IF(COUNTBLANK(A627:H627)+COUNTBLANK(J627:O627)=14,\"\",\"- ohne Titel -\"),Datenerfassung!D637)","v":""},{"$f":"IF(ISBLANK(Datenerfassung!E637),\"\",Datenerfassung!E637)","v":""},"",{"$f":"IF(ISBLANK(Datenerfassung!O637),\"\",Datenerfassung!O637)","v":""},{"$f":"IF(ISBLANK(Datenerfassung!G637),\"\",Datenerfassung!G637)","v":""},{"$f":"IF(ISBLANK(Datenerfassung!M637),\"\",Datenerfassung!M637)","v":""},{"$f":"IF(ISBLANK(Datenerfassung!H637),\"\",Datenerfassung!H637)","v":""}]
[{"$f":"IF(ISBLANK(Datenerfassung!A638),\"\",Datenerfassung!A638)","v":""},{"$f":"IF(ISBLANK(Datenerfassung!B638),\"\",Datenerfassung!B638)","v":""},{"$f":"IF(ISBLANK(Datenerfassung!C638),\"\",Datenerfassung!C638)","v":""},{"$f":"IF(ISBLANK(Datenerfassung!I638),\"\",Datenerfassung!I638)","v":""},{"$f":"IF(ISBLANK(Datenerfassung!J638),\"\",Datenerfassung!J638)","v":""},"",{"$f":"IF(ISBLANK(Datenerfassung!L638),\"\",Datenerfassung!L638)","v":""},{"$f":"IF(ISBLANK(Datenerfassung!F638),\"\",Datenerfassung!F638)","v":""},{"$f":"IF(ISBLANK(Datenerfassung!D638),IF(COUNTBLANK(A628:H628)+COUNTBLANK(J628:O628)=14,\"\",\"- ohne Titel -\"),Datenerfassung!D638)","v":""},{"$f":"IF(ISBLANK(Datenerfassung!E638),\"\",Datenerfassung!E638)","v":""},"",{"$f":"IF(ISBLANK(Datenerfassung!O638),\"\",Datenerfassung!O638)","v":""},{"$f":"IF(ISBLANK(Datenerfassung!G638),\"\",Datenerfassung!G638)","v":""},{"$f":"IF(ISBLANK(Datenerfassung!M638),\"\",Datenerfassung!M638)","v":""},{"$f":"IF(ISBLANK(Datenerfassung!H638),\"\",Datenerfassung!H638)","v":""}]
[{"$f":"IF(ISBLANK(Datenerfassung!A639),\"\",Datenerfassung!A639)","v":""},{"$f":"IF(ISBLANK(Datenerfassung!B639),\"\",Datenerfassung!B639)","v":""},{"$f":"IF(ISBLANK(Datenerfassung!C639),\"\",Datenerfassung!C639)","v":""},{"$f":"IF(ISBLANK(Datenerfassung!I639),\"\",Datenerfassung!I639)","v":""},{"$f":"IF(ISBLANK(Datenerfassung!J639),\"\",Datenerfassung!J639)","v":""},"",{"$f":"IF(ISBLANK(Datenerfassung!L639),\"\",Datenerfassung!L639)","v":""},{"$f":"IF(ISBLANK(Datenerfassung!F639),\"\",Datenerfassung!F639)","v":""},{"$f":"IF(ISBLANK(Datenerfassung!D639),IF(COUNTBLANK(A629:H629)+COUNTBLANK(J629:O629)=14,\"\",\"- ohne Titel -\"),Datenerfassung!D639)","v":""},{"$f":"IF(ISBLANK(Datenerfassung!E639),\"\",Datenerfassung!E639)","v":""},"",{"$f":"IF(ISBLANK(Datenerfassung!O639),\"\",Datenerfassung!O639)","v":""},{"$f":"IF(ISBLANK(Datenerfassung!G639),\"\",Datenerfassung!G639)","v":""},{"$f":"IF(ISBLANK(Datenerfassung!M639),\"\",Datenerfassung!M639)","v":""},{"$f":"IF(ISBLANK(Datenerfassung!H639),\"\",Datenerfassung!H639)","v":""}]
[{"$f":"IF(ISBLANK(Datenerfassung!A640),\"\",Datenerfassung!A640)","v":""},{"$f":"IF(ISBLANK(Datenerfassung!B640),\"\",Datenerfassung!B640)","v":""},{"$f":"IF(ISBLANK(Datenerfassung!C640),\"\",Datenerfassung!C640)","v":""},{"$f":"IF(ISBLANK(Datenerfassung!I640),\"\",Datenerfassung!I640)","v":""},{"$f":"IF(ISBLANK(Datenerfassung!J640),\"\",Datenerfassung!J640)","v":""},"",{"$f":"IF(ISBLANK(Datenerfassung!L640),\"\",Datenerfassung!L640)","v":""},{"$f":"IF(ISBLANK(Datenerfassung!F640),\"\",Datenerfassung!F640)","v":""},{"$f":"IF(ISBLANK(Datenerfassung!D640),IF(COUNTBLANK(A630:H630)+COUNTBLANK(J630:O630)=14,\"\",\"- ohne Titel -\"),Datenerfassung!D640)","v":""},{"$f":"IF(ISBLANK(Datenerfassung!E640),\"\",Datenerfassung!E640)","v":""},"",{"$f":"IF(ISBLANK(Datenerfassung!O640),\"\",Datenerfassung!O640)","v":""},{"$f":"IF(ISBLANK(Datenerfassung!G640),\"\",Datenerfassung!G640)","v":""},{"$f":"IF(ISBLANK(Datenerfassung!M640),\"\",Datenerfassung!M640)","v":""},{"$f":"IF(ISBLANK(Datenerfassung!H640),\"\",Datenerfassung!H640)","v":""}]
[{"$f":"IF(ISBLANK(Datenerfassung!A641),\"\",Datenerfassung!A641)","v":""},{"$f":"IF(ISBLANK(Datenerfassung!B641),\"\",Datenerfassung!B641)","v":""},{"$f":"IF(ISBLANK(Datenerfassung!C641),\"\",Datenerfassung!C641)","v":""},{"$f":"IF(ISBLANK(Datenerfassung!I641),\"\",Datenerfassung!I641)","v":""},{"$f":"IF(ISBLANK(Datenerfassung!J641),\"\",Datenerfassung!J641)","v":""},"",{"$f":"IF(ISBLANK(Datenerfassung!L641),\"\",Datenerfassung!L641)","v":""},{"$f":"IF(ISBLANK(Datenerfassung!F641),\"\",Datenerfassung!F641)","v":""},{"$f":"IF(ISBLANK(Datenerfassung!D641),IF(COUNTBLANK(A631:H631)+COUNTBLANK(J631:O631)=14,\"\",\"- ohne Titel -\"),Datenerfassung!D641)","v":""},{"$f":"IF(ISBLANK(Datenerfassung!E641),\"\",Datenerfassung!E641)","v":""},"",{"$f":"IF(ISBLANK(Datenerfassung!O641),\"\",Datenerfassung!O641)","v":""},{"$f":"IF(ISBLANK(Datenerfassung!G641),\"\",Datenerfassung!G641)","v":""},{"$f":"IF(ISBLANK(Datenerfassung!M641),\"\",Datenerfassung!M641)","v":""},{"$f":"IF(ISBLANK(Datenerfassung!H641),\"\",Datenerfassung!H641)","v":""}]
[{"$f":"IF(ISBLANK(Datenerfassung!A642),\"\",Datenerfassung!A642)","v":""},{"$f":"IF(ISBLANK(Datenerfassung!B642),\"\",Datenerfassung!B642)","v":""},{"$f":"IF(ISBLANK(Datenerfassung!C642),\"\",Datenerfassung!C642)","v":""},{"$f":"IF(ISBLANK(Datenerfassung!I642),\"\",Datenerfassung!I642)","v":""},{"$f":"IF(ISBLANK(Datenerfassung!J642),\"\",Datenerfassung!J642)","v":""},"",{"$f":"IF(ISBLANK(Datenerfassung!L642),\"\",Datenerfassung!L642)","v":""},{"$f":"IF(ISBLANK(Datenerfassung!F642),\"\",Datenerfassung!F642)","v":""},{"$f":"IF(ISBLANK(Datenerfassung!D642),IF(COUNTBLANK(A632:H632)+COUNTBLANK(J632:O632)=14,\"\",\"- ohne Titel -\"),Datenerfassung!D642)","v":""},{"$f":"IF(ISBLANK(Datenerfassung!E642),\"\",Datenerfassung!E642)","v":""},"",{"$f":"IF(ISBLANK(Datenerfassung!O642),\"\",Datenerfassung!O642)","v":""},{"$f":"IF(ISBLANK(Datenerfassung!G642),\"\",Datenerfassung!G642)","v":""},{"$f":"IF(ISBLANK(Datenerfassung!M642),\"\",Datenerfassung!M642)","v":""},{"$f":"IF(ISBLANK(Datenerfassung!H642),\"\",Datenerfassung!H642)","v":""}]
[{"$f":"IF(ISBLANK(Datenerfassung!A643),\"\",Datenerfassung!A643)","v":""},{"$f":"IF(ISBLANK(Datenerfassung!B643),\"\",Datenerfassung!B643)","v":""},{"$f":"IF(ISBLANK(Datenerfassung!C643),\"\",Datenerfassung!C643)","v":""},{"$f":"IF(ISBLANK(Datenerfassung!I643),\"\",Datenerfassung!I643)","v":""},{"$f":"IF(ISBLANK(Datenerfassung!J643),\"\",Datenerfassung!J643)","v":""},"",{"$f":"IF(ISBLANK(Datenerfassung!L643),\"\",Datenerfassung!L643)","v":""},{"$f":"IF(ISBLANK(Datenerfassung!F643),\"\",Datenerfassung!F643)","v":""},{"$f":"IF(ISBLANK(Datenerfassung!D643),IF(COUNTBLANK(A633:H633)+COUNTBLANK(J633:O633)=14,\"\",\"- ohne Titel -\"),Datenerfassung!D643)","v":""},{"$f":"IF(ISBLANK(Datenerfassung!E643),\"\",Datenerfassung!E643)","v":""},"",{"$f":"IF(ISBLANK(Datenerfassung!O643),\"\",Datenerfassung!O643)","v":""},{"$f":"IF(ISBLANK(Datenerfassung!G643),\"\",Datenerfassung!G643)","v":""},{"$f":"IF(ISBLANK(Datenerfassung!M643),\"\",Datenerfassung!M643)","v":""},{"$f":"IF(ISBLANK(Datenerfassung!H643),\"\",Datenerfassung!H643)","v":""}]
[{"$f":"IF(ISBLANK(Datenerfassung!A644),\"\",Datenerfassung!A644)","v":""},{"$f":"IF(ISBLANK(Datenerfassung!B644),\"\",Datenerfassung!B644)","v":""},{"$f":"IF(ISBLANK(Datenerfassung!C644),\"\",Datenerfassung!C644)","v":""},{"$f":"IF(ISBLANK(Datenerfassung!I644),\"\",Datenerfassung!I644)","v":""},{"$f":"IF(ISBLANK(Datenerfassung!J644),\"\",Datenerfassung!J644)","v":""},"",{"$f":"IF(ISBLANK(Datenerfassung!L644),\"\",Datenerfassung!L644)","v":""},{"$f":"IF(ISBLANK(Datenerfassung!F644),\"\",Datenerfassung!F644)","v":""},{"$f":"IF(ISBLANK(Datenerfassung!D644),IF(COUNTBLANK(A634:H634)+COUNTBLANK(J634:O634)=14,\"\",\"- ohne Titel -\"),Datenerfassung!D644)","v":""},{"$f":"IF(ISBLANK(Datenerfassung!E644),\"\",Datenerfassung!E644)","v":""},"",{"$f":"IF(ISBLANK(Datenerfassung!O644),\"\",Datenerfassung!O644)","v":""},{"$f":"IF(ISBLANK(Datenerfassung!G644),\"\",Datenerfassung!G644)","v":""},{"$f":"IF(ISBLANK(Datenerfassung!M644),\"\",Datenerfassung!M644)","v":""},{"$f":"IF(ISBLANK(Datenerfassung!H644),\"\",Datenerfassung!H644)","v":""}]
[{"$f":"IF(ISBLANK(Datenerfassung!A645),\"\",Datenerfassung!A645)","v":""},{"$f":"IF(ISBLANK(Datenerfassung!B645),\"\",Datenerfassung!B645)","v":""},{"$f":"IF(ISBLANK(Datenerfassung!C645),\"\",Datenerfassung!C645)","v":""},{"$f":"IF(ISBLANK(Datenerfassung!I645),\"\",Datenerfassung!I645)","v":""},{"$f":"IF(ISBLANK(Datenerfassung!J645),\"\",Datenerfassung!J645)","v":""},"",{"$f":"IF(ISBLANK(Datenerfassung!L645),\"\",Datenerfassung!L645)","v":""},{"$f":"IF(ISBLANK(Datenerfassung!F645),\"\",Datenerfassung!F645)","v":""},{"$f":"IF(ISBLANK(Datenerfassung!D645),IF(COUNTBLANK(A635:H635)+COUNTBLANK(J635:O635)=14,\"\",\"- ohne Titel -\"),Datenerfassung!D645)","v":""},{"$f":"IF(ISBLANK(Datenerfassung!E645),\"\",Datenerfassung!E645)","v":""},"",{"$f":"IF(ISBLANK(Datenerfassung!O645),\"\",Datenerfassung!O645)","v":""},{"$f":"IF(ISBLANK(Datenerfassung!G645),\"\",Datenerfassung!G645)","v":""},{"$f":"IF(ISBLANK(Datenerfassung!M645),\"\",Datenerfassung!M645)","v":""},{"$f":"IF(ISBLANK(Datenerfassung!H645),\"\",Datenerfassung!H645)","v":""}]
[{"$f":"IF(ISBLANK(Datenerfassung!A646),\"\",Datenerfassung!A646)","v":""},{"$f":"IF(ISBLANK(Datenerfassung!B646),\"\",Datenerfassung!B646)","v":""},{"$f":"IF(ISBLANK(Datenerfassung!C646),\"\",Datenerfassung!C646)","v":""},{"$f":"IF(ISBLANK(Datenerfassung!I646),\"\",Datenerfassung!I646)","v":""},{"$f":"IF(ISBLANK(Datenerfassung!J646),\"\",Datenerfassung!J646)","v":""},"",{"$f":"IF(ISBLANK(Datenerfassung!L646),\"\",Datenerfassung!L646)","v":""},{"$f":"IF(ISBLANK(Datenerfassung!F646),\"\",Datenerfassung!F646)","v":""},{"$f":"IF(ISBLANK(Datenerfassung!D646),IF(COUNTBLANK(A636:H636)+COUNTBLANK(J636:O636)=14,\"\",\"- ohne Titel -\"),Datenerfassung!D646)","v":""},{"$f":"IF(ISBLANK(Datenerfassung!E646),\"\",Datenerfassung!E646)","v":""},"",{"$f":"IF(ISBLANK(Datenerfassung!O646),\"\",Datenerfassung!O646)","v":""},{"$f":"IF(ISBLANK(Datenerfassung!G646),\"\",Datenerfassung!G646)","v":""},{"$f":"IF(ISBLANK(Datenerfassung!M646),\"\",Datenerfassung!M646)","v":""},{"$f":"IF(ISBLANK(Datenerfassung!H646),\"\",Datenerfassung!H646)","v":""}]
[{"$f":"IF(ISBLANK(Datenerfassung!A647),\"\",Datenerfassung!A647)","v":""},{"$f":"IF(ISBLANK(Datenerfassung!B647),\"\",Datenerfassung!B647)","v":""},{"$f":"IF(ISBLANK(Datenerfassung!C647),\"\",Datenerfassung!C647)","v":""},{"$f":"IF(ISBLANK(Datenerfassung!I647),\"\",Datenerfassung!I647)","v":""},{"$f":"IF(ISBLANK(Datenerfassung!J647),\"\",Datenerfassung!J647)","v":""},"",{"$f":"IF(ISBLANK(Datenerfassung!L647),\"\",Datenerfassung!L647)","v":""},{"$f":"IF(ISBLANK(Datenerfassung!F647),\"\",Datenerfassung!F647)","v":""},{"$f":"IF(ISBLANK(Datenerfassung!D647),IF(COUNTBLANK(A637:H637)+COUNTBLANK(J637:O637)=14,\"\",\"- ohne Titel -\"),Datenerfassung!D647)","v":""},{"$f":"IF(ISBLANK(Datenerfassung!E647),\"\",Datenerfassung!E647)","v":""},"",{"$f":"IF(ISBLANK(Datenerfassung!O647),\"\",Datenerfassung!O647)","v":""},{"$f":"IF(ISBLANK(Datenerfassung!G647),\"\",Datenerfassung!G647)","v":""},{"$f":"IF(ISBLANK(Datenerfassung!M647),\"\",Datenerfassung!M647)","v":""},{"$f":"IF(ISBLANK(Datenerfassung!H647),\"\",Datenerfassung!H647)","v":""}]
[{"$f":"IF(ISBLANK(Datenerfassung!A648),\"\",Datenerfassung!A648)","v":""},{"$f":"IF(ISBLANK(Datenerfassung!B648),\"\",Datenerfassung!B648)","v":""},{"$f":"IF(ISBLANK(Datenerfassung!C648),\"\",Datenerfassung!C648)","v":""},{"$f":"IF(ISBLANK(Datenerfassung!I648),\"\",Datenerfassung!I648)","v":""},{"$f":"IF(ISBLANK(Datenerfassung!J648),\"\",Datenerfassung!J648)","v":""},"",{"$f":"IF(ISBLANK(Datenerfassung!L648),\"\",Datenerfassung!L648)","v":""},{"$f":"IF(ISBLANK(Datenerfassung!F648),\"\",Datenerfassung!F648)","v":""},{"$f":"IF(ISBLANK(Datenerfassung!D648),IF(COUNTBLANK(A638:H638)+COUNTBLANK(J638:O638)=14,\"\",\"- ohne Titel -\"),Datenerfassung!D648)","v":""},{"$f":"IF(ISBLANK(Datenerfassung!E648),\"\",Datenerfassung!E648)","v":""},"",{"$f":"IF(ISBLANK(Datenerfassung!O648),\"\",Datenerfassung!O648)","v":""},{"$f":"IF(ISBLANK(Datenerfassung!G648),\"\",Datenerfassung!G648)","v":""},{"$f":"IF(ISBLANK(Datenerfassung!M648),\"\",Datenerfassung!M648)","v":""},{"$f":"IF(ISBLANK(Datenerfassung!H648),\"\",Datenerfassung!H648)","v":""}]
[{"$f":"IF(ISBLANK(Datenerfassung!A649),\"\",Datenerfassung!A649)","v":""},{"$f":"IF(ISBLANK(Datenerfassung!B649),\"\",Datenerfassung!B649)","v":""},{"$f":"IF(ISBLANK(Datenerfassung!C649),\"\",Datenerfassung!C649)","v":""},{"$f":"IF(ISBLANK(Datenerfassung!I649),\"\",Datenerfassung!I649)","v":""},{"$f":"IF(ISBLANK(Datenerfassung!J649),\"\",Datenerfassung!J649)","v":""},"",{"$f":"IF(ISBLANK(Datenerfassung!L649),\"\",Datenerfassung!L649)","v":""},{"$f":"IF(ISBLANK(Datenerfassung!F649),\"\",Datenerfassung!F649)","v":""},{"$f":"IF(ISBLANK(Datenerfassung!D649),IF(COUNTBLANK(A639:H639)+COUNTBLANK(J639:O639)=14,\"\",\"- ohne Titel -\"),Datenerfassung!D649)","v":""},{"$f":"IF(ISBLANK(Datenerfassung!E649),\"\",Datenerfassung!E649)","v":""},"",{"$f":"IF(ISBLANK(Datenerfassung!O649),\"\",Datenerfassung!O649)","v":""},{"$f":"IF(ISBLANK(Datenerfassung!G649),\"\",Datenerfassung!G649)","v":""},{"$f":"IF(ISBLANK(Datenerfassung!M649),\"\",Datenerfassung!M649)","v":""},{"$f":"IF(ISBLANK(Datenerfassung!H649),\"\",Datenerfassung!H649)","v":""}]
[{"$f":"IF(ISBLANK(Datenerfassung!A650),\"\",Datenerfassung!A650)","v":""},{"$f":"IF(ISBLANK(Datenerfassung!B650),\"\",Datenerfassung!B650)","v":""},{"$f":"IF(ISBLANK(Datenerfassung!C650),\"\",Datenerfassung!C650)","v":""},{"$f":"IF(ISBLANK(Datenerfassung!I650),\"\",Datenerfassung!I650)","v":""},{"$f":"IF(ISBLANK(Datenerfassung!J650),\"\",Datenerfassung!J650)","v":""},"",{"$f":"IF(ISBLANK(Datenerfassung!L650),\"\",Datenerfassung!L650)","v":""},{"$f":"IF(ISBLANK(Datenerfassung!F650),\"\",Datenerfassung!F650)","v":""},{"$f":"IF(ISBLANK(Datenerfassung!D650),IF(COUNTBLANK(A640:H640)+COUNTBLANK(J640:O640)=14,\"\",\"- ohne Titel -\"),Datenerfassung!D650)","v":""},{"$f":"IF(ISBLANK(Datenerfassung!E650),\"\",Datenerfassung!E650)","v":""},"",{"$f":"IF(ISBLANK(Datenerfassung!O650),\"\",Datenerfassung!O650)","v":""},{"$f":"IF(ISBLANK(Datenerfassung!G650),\"\",Datenerfassung!G650)","v":""},{"$f":"IF(ISBLANK(Datenerfassung!M650),\"\",Datenerfassung!M650)","v":""},{"$f":"IF(ISBLANK(Datenerfassung!H650),\"\",Datenerfassung!H650)","v":""}]
[{"$f":"IF(ISBLANK(Datenerfassung!A651),\"\",Datenerfassung!A651)","v":""},{"$f":"IF(ISBLANK(Datenerfassung!B651),\"\",Datenerfassung!B651)","v":""},{"$f":"IF(ISBLANK(Datenerfassung!C651),\"\",Datenerfassung!C651)","v":""},{"$f":"IF(ISBLANK(Datenerfassung!I651),\"\",Datenerfassung!I651)","v":""},{"$f":"IF(ISBLANK(Datenerfassung!J651),\"\",Datenerfassung!J651)","v":""},"",{"$f":"IF(ISBLANK(Datenerfassung!L651),\"\",Datenerfassung!L651)","v":""},{"$f":"IF(ISBLANK(Datenerfassung!F651),\"\",Datenerfassung!F651)","v":""},{"$f":"IF(ISBLANK(Datenerfassung!D651),IF(COUNTBLANK(A641:H641)+COUNTBLANK(J641:O641)=14,\"\",\"- ohne Titel -\"),Datenerfassung!D651)","v":""},{"$f":"IF(ISBLANK(Datenerfassung!E651),\"\",Datenerfassung!E651)","v":""},"",{"$f":"IF(ISBLANK(Datenerfassung!O651),\"\",Datenerfassung!O651)","v":""},{"$f":"IF(ISBLANK(Datenerfassung!G651),\"\",Datenerfassung!G651)","v":""},{"$f":"IF(ISBLANK(Datenerfassung!M651),\"\",Datenerfassung!M651)","v":""},{"$f":"IF(ISBLANK(Datenerfassung!H651),\"\",Datenerfassung!H651)","v":""}]
[{"$f":"IF(ISBLANK(Datenerfassung!A652),\"\",Datenerfassung!A652)","v":""},{"$f":"IF(ISBLANK(Datenerfassung!B652),\"\",Datenerfassung!B652)","v":""},{"$f":"IF(ISBLANK(Datenerfassung!C652),\"\",Datenerfassung!C652)","v":""},{"$f":"IF(ISBLANK(Datenerfassung!I652),\"\",Datenerfassung!I652)","v":""},{"$f":"IF(ISBLANK(Datenerfassung!J652),\"\",Datenerfassung!J652)","v":""},"",{"$f":"IF(ISBLANK(Datenerfassung!L652),\"\",Datenerfassung!L652)","v":""},{"$f":"IF(ISBLANK(Datenerfassung!F652),\"\",Datenerfassung!F652)","v":""},{"$f":"IF(ISBLANK(Datenerfassung!D652),IF(COUNTBLANK(A642:H642)+COUNTBLANK(J642:O642)=14,\"\",\"- ohne Titel -\"),Datenerfassung!D652)","v":""},{"$f":"IF(ISBLANK(Datenerfassung!E652),\"\",Datenerfassung!E652)","v":""},"",{"$f":"IF(ISBLANK(Datenerfassung!O652),\"\",Datenerfassung!O652)","v":""},{"$f":"IF(ISBLANK(Datenerfassung!G652),\"\",Datenerfassung!G652)","v":""},{"$f":"IF(ISBLANK(Datenerfassung!M652),\"\",Datenerfassung!M652)","v":""},{"$f":"IF(ISBLANK(Datenerfassung!H652),\"\",Datenerfassung!H652)","v":""}]
[{"$f":"IF(ISBLANK(Datenerfassung!A653),\"\",Datenerfassung!A653)","v":""},{"$f":"IF(ISBLANK(Datenerfassung!B653),\"\",Datenerfassung!B653)","v":""},{"$f":"IF(ISBLANK(Datenerfassung!C653),\"\",Datenerfassung!C653)","v":""},{"$f":"IF(ISBLANK(Datenerfassung!I653),\"\",Datenerfassung!I653)","v":""},{"$f":"IF(ISBLANK(Datenerfassung!J653),\"\",Datenerfassung!J653)","v":""},{"$f":"IF(D643=\"\",\"\",IF(E643=\"\",D643,D643&\" - \"&E643))","v":""},{"$f":"IF(ISBLANK(Datenerfassung!L653),\"\",Datenerfassung!L653)","v":""},{"$f":"IF(ISBLANK(Datenerfassung!F653),\"\",Datenerfassung!F653)","v":""},{"$f":"IF(ISBLANK(Datenerfassung!D653),IF(COUNTBLANK(A643:H643)+COUNTBLANK(J643:O643)=14,\"\",\"- ohne Titel -\"),Datenerfassung!D653)","v":""},{"$f":"IF(ISBLANK(Datenerfassung!E653),\"\",Datenerfassung!E653)","v":""},{"$f":"IF(OR(E643=\"\",G643=\"\"),\"\",\"01.01.\"&RIGHT(E643,4)+G643+1)","v":""},{"$f":"IF(ISBLANK(Datenerfassung!O653),\"\",Datenerfassung!O653)","v":""},{"$f":"IF(ISBLANK(Datenerfassung!G653),\"\",Datenerfassung!G653)","v":""},{"$f":"IF(ISBLANK(Datenerfassung!M653),\"\",Datenerfassung!M653)","v":""},{"$f":"IF(ISBLANK(Datenerfassung!H653),\"\",Datenerfassung!H653)","v":""}]
[{"$f":"IF(ISBLANK(Datenerfassung!A654),\"\",Datenerfassung!A654)","v":""},{"$f":"IF(ISBLANK(Datenerfassung!B654),\"\",Datenerfassung!B654)","v":""},{"$f":"IF(ISBLANK(Datenerfassung!C654),\"\",Datenerfassung!C654)","v":""},{"$f":"IF(ISBLANK(Datenerfassung!I654),\"\",Datenerfassung!I654)","v":""},{"$f":"IF(ISBLANK(Datenerfassung!J654),\"\",Datenerfassung!J654)","v":""},"",{"$f":"IF(ISBLANK(Datenerfassung!L654),\"\",Datenerfassung!L654)","v":""},{"$f":"IF(ISBLANK(Datenerfassung!F654),\"\",Datenerfassung!F654)","v":""},{"$f":"IF(ISBLANK(Datenerfassung!D654),IF(COUNTBLANK(A644:H644)+COUNTBLANK(J644:O644)=14,\"\",\"- ohne Titel -\"),Datenerfassung!D654)","v":""},{"$f":"IF(ISBLANK(Datenerfassung!E654),\"\",Datenerfassung!E654)","v":""},"",{"$f":"IF(ISBLANK(Datenerfassung!O654),\"\",Datenerfassung!O654)","v":""},{"$f":"IF(ISBLANK(Datenerfassung!G654),\"\",Datenerfassung!G654)","v":""},{"$f":"IF(ISBLANK(Datenerfassung!M654),\"\",Datenerfassung!M654)","v":""},{"$f":"IF(ISBLANK(Datenerfassung!H654),\"\",Datenerfassung!H654)","v":""}]
[{"$f":"IF(ISBLANK(Datenerfassung!A655),\"\",Datenerfassung!A655)","v":""},{"$f":"IF(ISBLANK(Datenerfassung!B655),\"\",Datenerfassung!B655)","v":""},{"$f":"IF(ISBLANK(Datenerfassung!C655),\"\",Datenerfassung!C655)","v":""},{"$f":"IF(ISBLANK(Datenerfassung!I655),\"\",Datenerfassung!I655)","v":""},{"$f":"IF(ISBLANK(Datenerfassung!J655),\"\",Datenerfassung!J655)","v":""},"",{"$f":"IF(ISBLANK(Datenerfassung!L655),\"\",Datenerfassung!L655)","v":""},{"$f":"IF(ISBLANK(Datenerfassung!F655),\"\",Datenerfassung!F655)","v":""},{"$f":"IF(ISBLANK(Datenerfassung!D655),IF(COUNTBLANK(A645:H645)+COUNTBLANK(J645:O645)=14,\"\",\"- ohne Titel -\"),Datenerfassung!D655)","v":""},{"$f":"IF(ISBLANK(Datenerfassung!E655),\"\",Datenerfassung!E655)","v":""},"",{"$f":"IF(ISBLANK(Datenerfassung!O655),\"\",Datenerfassung!O655)","v":""},{"$f":"IF(ISBLANK(Datenerfassung!G655),\"\",Datenerfassung!G655)","v":""},{"$f":"IF(ISBLANK(Datenerfassung!M655),\"\",Datenerfassung!M655)","v":""},{"$f":"IF(ISBLANK(Datenerfassung!H655),\"\",Datenerfassung!H655)","v":""}]
[{"$f":"IF(ISBLANK(Datenerfassung!A656),\"\",Datenerfassung!A656)","v":""},{"$f":"IF(ISBLANK(Datenerfassung!B656),\"\",Datenerfassung!B656)","v":""},{"$f":"IF(ISBLANK(Datenerfassung!C656),\"\",Datenerfassung!C656)","v":""},{"$f":"IF(ISBLANK(Datenerfassung!I656),\"\",Datenerfassung!I656)","v":""},{"$f":"IF(ISBLANK(Datenerfassung!J656),\"\",Datenerfassung!J656)","v":""},"",{"$f":"IF(ISBLANK(Datenerfassung!L656),\"\",Datenerfassung!L656)","v":""},{"$f":"IF(ISBLANK(Datenerfassung!F656),\"\",Datenerfassung!F656)","v":""},{"$f":"IF(ISBLANK(Datenerfassung!D656),IF(COUNTBLANK(A646:H646)+COUNTBLANK(J646:O646)=14,\"\",\"- ohne Titel -\"),Datenerfassung!D656)","v":""},{"$f":"IF(ISBLANK(Datenerfassung!E656),\"\",Datenerfassung!E656)","v":""},"",{"$f":"IF(ISBLANK(Datenerfassung!O656),\"\",Datenerfassung!O656)","v":""},{"$f":"IF(ISBLANK(Datenerfassung!G656),\"\",Datenerfassung!G656)","v":""},{"$f":"IF(ISBLANK(Datenerfassung!M656),\"\",Datenerfassung!M656)","v":""},{"$f":"IF(ISBLANK(Datenerfassung!H656),\"\",Datenerfassung!H656)","v":""}]
[{"$f":"IF(ISBLANK(Datenerfassung!A657),\"\",Datenerfassung!A657)","v":""},{"$f":"IF(ISBLANK(Datenerfassung!B657),\"\",Datenerfassung!B657)","v":""},{"$f":"IF(ISBLANK(Datenerfassung!C657),\"\",Datenerfassung!C657)","v":""},{"$f":"IF(ISBLANK(Datenerfassung!I657),\"\",Datenerfassung!I657)","v":""},{"$f":"IF(ISBLANK(Datenerfassung!J657),\"\",Datenerfassung!J657)","v":""},"",{"$f":"IF(ISBLANK(Datenerfassung!L657),\"\",Datenerfassung!L657)","v":""},{"$f":"IF(ISBLANK(Datenerfassung!F657),\"\",Datenerfassung!F657)","v":""},{"$f":"IF(ISBLANK(Datenerfassung!D657),IF(COUNTBLANK(A647:H647)+COUNTBLANK(J647:O647)=14,\"\",\"- ohne Titel -\"),Datenerfassung!D657)","v":""},{"$f":"IF(ISBLANK(Datenerfassung!E657),\"\",Datenerfassung!E657)","v":""},"",{"$f":"IF(ISBLANK(Datenerfassung!O657),\"\",Datenerfassung!O657)","v":""},{"$f":"IF(ISBLANK(Datenerfassung!G657),\"\",Datenerfassung!G657)","v":""},{"$f":"IF(ISBLANK(Datenerfassung!M657),\"\",Datenerfassung!M657)","v":""},{"$f":"IF(ISBLANK(Datenerfassung!H657),\"\",Datenerfassung!H657)","v":""}]
[{"$f":"IF(ISBLANK(Datenerfassung!A658),\"\",Datenerfassung!A658)","v":""},{"$f":"IF(ISBLANK(Datenerfassung!B658),\"\",Datenerfassung!B658)","v":""},{"$f":"IF(ISBLANK(Datenerfassung!C658),\"\",Datenerfassung!C658)","v":""},{"$f":"IF(ISBLANK(Datenerfassung!I658),\"\",Datenerfassung!I658)","v":""},{"$f":"IF(ISBLANK(Datenerfassung!J658),\"\",Datenerfassung!J658)","v":""},"",{"$f":"IF(ISBLANK(Datenerfassung!L658),\"\",Datenerfassung!L658)","v":""},{"$f":"IF(ISBLANK(Datenerfassung!F658),\"\",Datenerfassung!F658)","v":""},{"$f":"IF(ISBLANK(Datenerfassung!D658),IF(COUNTBLANK(A648:H648)+COUNTBLANK(J648:O648)=14,\"\",\"- ohne Titel -\"),Datenerfassung!D658)","v":""},{"$f":"IF(ISBLANK(Datenerfassung!E658),\"\",Datenerfassung!E658)","v":""},"",{"$f":"IF(ISBLANK(Datenerfassung!O658),\"\",Datenerfassung!O658)","v":""},{"$f":"IF(ISBLANK(Datenerfassung!G658),\"\",Datenerfassung!G658)","v":""},{"$f":"IF(ISBLANK(Datenerfassung!M658),\"\",Datenerfassung!M658)","v":""},{"$f":"IF(ISBLANK(Datenerfassung!H658),\"\",Datenerfassung!H658)","v":""}]
[{"$f":"IF(ISBLANK(Datenerfassung!A659),\"\",Datenerfassung!A659)","v":""},{"$f":"IF(ISBLANK(Datenerfassung!B659),\"\",Datenerfassung!B659)","v":""},{"$f":"IF(ISBLANK(Datenerfassung!C659),\"\",Datenerfassung!C659)","v":""},{"$f":"IF(ISBLANK(Datenerfassung!I659),\"\",Datenerfassung!I659)","v":""},{"$f":"IF(ISBLANK(Datenerfassung!J659),\"\",Datenerfassung!J659)","v":""},"",{"$f":"IF(ISBLANK(Datenerfassung!L659),\"\",Datenerfassung!L659)","v":""},{"$f":"IF(ISBLANK(Datenerfassung!F659),\"\",Datenerfassung!F659)","v":""},{"$f":"IF(ISBLANK(Datenerfassung!D659),IF(COUNTBLANK(A649:H649)+COUNTBLANK(J649:O649)=14,\"\",\"- ohne Titel -\"),Datenerfassung!D659)","v":""},{"$f":"IF(ISBLANK(Datenerfassung!E659),\"\",Datenerfassung!E659)","v":""},"",{"$f":"IF(ISBLANK(Datenerfassung!O659),\"\",Datenerfassung!O659)","v":""},{"$f":"IF(ISBLANK(Datenerfassung!G659),\"\",Datenerfassung!G659)","v":""},{"$f":"IF(ISBLANK(Datenerfassung!M659),\"\",Datenerfassung!M659)","v":""},{"$f":"IF(ISBLANK(Datenerfassung!H659),\"\",Datenerfassung!H659)","v":""}]
[{"$f":"IF(ISBLANK(Datenerfassung!A660),\"\",Datenerfassung!A660)","v":""},{"$f":"IF(ISBLANK(Datenerfassung!B660),\"\",Datenerfassung!B660)","v":""},{"$f":"IF(ISBLANK(Datenerfassung!C660),\"\",Datenerfassung!C660)","v":""},{"$f":"IF(ISBLANK(Datenerfassung!I660),\"\",Datenerfassung!I660)","v":""},{"$f":"IF(ISBLANK(Datenerfassung!J660),\"\",Datenerfassung!J660)","v":""},"",{"$f":"IF(ISBLANK(Datenerfassung!L660),\"\",Datenerfassung!L660)","v":""},{"$f":"IF(ISBLANK(Datenerfassung!F660),\"\",Datenerfassung!F660)","v":""},{"$f":"IF(ISBLANK(Datenerfassung!D660),IF(COUNTBLANK(A650:H650)+COUNTBLANK(J650:O650)=14,\"\",\"- ohne Titel -\"),Datenerfassung!D660)","v":""},{"$f":"IF(ISBLANK(Datenerfassung!E660),\"\",Datenerfassung!E660)","v":""},"",{"$f":"IF(ISBLANK(Datenerfassung!O660),\"\",Datenerfassung!O660)","v":""},{"$f":"IF(ISBLANK(Datenerfassung!G660),\"\",Datenerfassung!G660)","v":""},{"$f":"IF(ISBLANK(Datenerfassung!M660),\"\",Datenerfassung!M660)","v":""},{"$f":"IF(ISBLANK(Datenerfassung!H660),\"\",Datenerfassung!H660)","v":""}]
[{"$f":"IF(ISBLANK(Datenerfassung!A661),\"\",Datenerfassung!A661)","v":""},{"$f":"IF(ISBLANK(Datenerfassung!B661),\"\",Datenerfassung!B661)","v":""},{"$f":"IF(ISBLANK(Datenerfassung!C661),\"\",Datenerfassung!C661)","v":""},{"$f":"IF(ISBLANK(Datenerfassung!I661),\"\",Datenerfassung!I661)","v":""},{"$f":"IF(ISBLANK(Datenerfassung!J661),\"\",Datenerfassung!J661)","v":""},"",{"$f":"IF(ISBLANK(Datenerfassung!L661),\"\",Datenerfassung!L661)","v":""},{"$f":"IF(ISBLANK(Datenerfassung!F661),\"\",Datenerfassung!F661)","v":""},{"$f":"IF(ISBLANK(Datenerfassung!D661),IF(COUNTBLANK(A651:H651)+COUNTBLANK(J651:O651)=14,\"\",\"- ohne Titel -\"),Datenerfassung!D661)","v":""},{"$f":"IF(ISBLANK(Datenerfassung!E661),\"\",Datenerfassung!E661)","v":""},"",{"$f":"IF(ISBLANK(Datenerfassung!O661),\"\",Datenerfassung!O661)","v":""},{"$f":"IF(ISBLANK(Datenerfassung!G661),\"\",Datenerfassung!G661)","v":""},{"$f":"IF(ISBLANK(Datenerfassung!M661),\"\",Datenerfassung!M661)","v":""},{"$f":"IF(ISBLANK(Datenerfassung!H661),\"\",Datenerfassung!H661)","v":""}]
[{"$f":"IF(ISBLANK(Datenerfassung!A662),\"\",Datenerfassung!A662)","v":""},{"$f":"IF(ISBLANK(Datenerfassung!B662),\"\",Datenerfassung!B662)","v":""},{"$f":"IF(ISBLANK(Datenerfassung!C662),\"\",Datenerfassung!C662)","v":""},{"$f":"IF(ISBLANK(Datenerfassung!I662),\"\",Datenerfassung!I662)","v":""},{"$f":"IF(ISBLANK(Datenerfassung!J662),\"\",Datenerfassung!J662)","v":""},"",{"$f":"IF(ISBLANK(Datenerfassung!L662),\"\",Datenerfassung!L662)","v":""},{"$f":"IF(ISBLANK(Datenerfassung!F662),\"\",Datenerfassung!F662)","v":""},{"$f":"IF(ISBLANK(Datenerfassung!D662),IF(COUNTBLANK(A652:H652)+COUNTBLANK(J652:O652)=14,\"\",\"- ohne Titel -\"),Datenerfassung!D662)","v":""},{"$f":"IF(ISBLANK(Datenerfassung!E662),\"\",Datenerfassung!E662)","v":""},"",{"$f":"IF(ISBLANK(Datenerfassung!O662),\"\",Datenerfassung!O662)","v":""},{"$f":"IF(ISBLANK(Datenerfassung!G662),\"\",Datenerfassung!G662)","v":""},{"$f":"IF(ISBLANK(Datenerfassung!M662),\"\",Datenerfassung!M662)","v":""},{"$f":"IF(ISBLANK(Datenerfassung!H662),\"\",Datenerfassung!H662)","v":""}]
[{"$f":"IF(ISBLANK(Datenerfassung!A663),\"\",Datenerfassung!A663)","v":""},{"$f":"IF(ISBLANK(Datenerfassung!B663),\"\",Datenerfassung!B663)","v":""},{"$f":"IF(ISBLANK(Datenerfassung!C663),\"\",Datenerfassung!C663)","v":""},{"$f":"IF(ISBLANK(Datenerfassung!I663),\"\",Datenerfassung!I663)","v":""},{"$f":"IF(ISBLANK(Datenerfassung!J663),\"\",Datenerfassung!J663)","v":""},"",{"$f":"IF(ISBLANK(Datenerfassung!L663),\"\",Datenerfassung!L663)","v":""},{"$f":"IF(ISBLANK(Datenerfassung!F663),\"\",Datenerfassung!F663)","v":""},{"$f":"IF(ISBLANK(Datenerfassung!D663),IF(COUNTBLANK(A653:H653)+COUNTBLANK(J653:O653)=14,\"\",\"- ohne Titel -\"),Datenerfassung!D663)","v":""},{"$f":"IF(ISBLANK(Datenerfassung!E663),\"\",Datenerfassung!E663)","v":""},"",{"$f":"IF(ISBLANK(Datenerfassung!O663),\"\",Datenerfassung!O663)","v":""},{"$f":"IF(ISBLANK(Datenerfassung!G663),\"\",Datenerfassung!G663)","v":""},{"$f":"IF(ISBLANK(Datenerfassung!M663),\"\",Datenerfassung!M663)","v":""},{"$f":"IF(ISBLANK(Datenerfassung!H663),\"\",Datenerfassung!H663)","v":""}]
[{"$f":"IF(ISBLANK(Datenerfassung!A664),\"\",Datenerfassung!A664)","v":""},{"$f":"IF(ISBLANK(Datenerfassung!B664),\"\",Datenerfassung!B664)","v":""},{"$f":"IF(ISBLANK(Datenerfassung!C664),\"\",Datenerfassung!C664)","v":""},{"$f":"IF(ISBLANK(Datenerfassung!I664),\"\",Datenerfassung!I664)","v":""},{"$f":"IF(ISBLANK(Datenerfassung!J664),\"\",Datenerfassung!J664)","v":""},"",{"$f":"IF(ISBLANK(Datenerfassung!L664),\"\",Datenerfassung!L664)","v":""},{"$f":"IF(ISBLANK(Datenerfassung!F664),\"\",Datenerfassung!F664)","v":""},{"$f":"IF(ISBLANK(Datenerfassung!D664),IF(COUNTBLANK(A654:H654)+COUNTBLANK(J654:O654)=14,\"\",\"- ohne Titel -\"),Datenerfassung!D664)","v":""},{"$f":"IF(ISBLANK(Datenerfassung!E664),\"\",Datenerfassung!E664)","v":""},"",{"$f":"IF(ISBLANK(Datenerfassung!O664),\"\",Datenerfassung!O664)","v":""},{"$f":"IF(ISBLANK(Datenerfassung!G664),\"\",Datenerfassung!G664)","v":""},{"$f":"IF(ISBLANK(Datenerfassung!M664),\"\",Datenerfassung!M664)","v":""},{"$f":"IF(ISBLANK(Datenerfassung!H664),\"\",Datenerfassung!H664)","v":""}]
[{"$f":"IF(ISBLANK(Datenerfassung!A665),\"\",Datenerfassung!A665)","v":""},{"$f":"IF(ISBLANK(Datenerfassung!B665),\"\",Datenerfassung!B665)","v":""},{"$f":"IF(ISBLANK(Datenerfassung!C665),\"\",Datenerfassung!C665)","v":""},{"$f":"IF(ISBLANK(Datenerfassung!I665),\"\",Datenerfassung!I665)","v":""},{"$f":"IF(ISBLANK(Datenerfassung!J665),\"\",Datenerfassung!J665)","v":""},"",{"$f":"IF(ISBLANK(Datenerfassung!L665),\"\",Datenerfassung!L665)","v":""},{"$f":"IF(ISBLANK(Datenerfassung!F665),\"\",Datenerfassung!F665)","v":""},{"$f":"IF(ISBLANK(Datenerfassung!D665),IF(COUNTBLANK(A655:H655)+COUNTBLANK(J655:O655)=14,\"\",\"- ohne Titel -\"),Datenerfassung!D665)","v":""},{"$f":"IF(ISBLANK(Datenerfassung!E665),\"\",Datenerfassung!E665)","v":""},"",{"$f":"IF(ISBLANK(Datenerfassung!O665),\"\",Datenerfassung!O665)","v":""},{"$f":"IF(ISBLANK(Datenerfassung!G665),\"\",Datenerfassung!G665)","v":""},{"$f":"IF(ISBLANK(Datenerfassung!M665),\"\",Datenerfassung!M665)","v":""},{"$f":"IF(ISBLANK(Datenerfassung!H665),\"\",Datenerfassung!H665)","v":""}]
[{"$f":"IF(ISBLANK(Datenerfassung!A666),\"\",Datenerfassung!A666)","v":""},{"$f":"IF(ISBLANK(Datenerfassung!B666),\"\",Datenerfassung!B666)","v":""},{"$f":"IF(ISBLANK(Datenerfassung!C666),\"\",Datenerfassung!C666)","v":""},{"$f":"IF(ISBLANK(Datenerfassung!I666),\"\",Datenerfassung!I666)","v":""},{"$f":"IF(ISBLANK(Datenerfassung!J666),\"\",Datenerfassung!J666)","v":""},"",{"$f":"IF(ISBLANK(Datenerfassung!L666),\"\",Datenerfassung!L666)","v":""},{"$f":"IF(ISBLANK(Datenerfassung!F666),\"\",Datenerfassung!F666)","v":""},{"$f":"IF(ISBLANK(Datenerfassung!D666),IF(COUNTBLANK(A656:H656)+COUNTBLANK(J656:O656)=14,\"\",\"- ohne Titel -\"),Datenerfassung!D666)","v":""},{"$f":"IF(ISBLANK(Datenerfassung!E666),\"\",Datenerfassung!E666)","v":""},"",{"$f":"IF(ISBLANK(Datenerfassung!O666),\"\",Datenerfassung!O666)","v":""},{"$f":"IF(ISBLANK(Datenerfassung!G666),\"\",Datenerfassung!G666)","v":""},{"$f":"IF(ISBLANK(Datenerfassung!M666),\"\",Datenerfassung!M666)","v":""},{"$f":"IF(ISBLANK(Datenerfassung!H666),\"\",Datenerfassung!H666)","v":""}]
[{"$f":"IF(ISBLANK(Datenerfassung!A667),\"\",Datenerfassung!A667)","v":""},{"$f":"IF(ISBLANK(Datenerfassung!B667),\"\",Datenerfassung!B667)","v":""},{"$f":"IF(ISBLANK(Datenerfassung!C667),\"\",Datenerfassung!C667)","v":""},{"$f":"IF(ISBLANK(Datenerfassung!I667),\"\",Datenerfassung!I667)","v":""},{"$f":"IF(ISBLANK(Datenerfassung!J667),\"\",Datenerfassung!J667)","v":""},"",{"$f":"IF(ISBLANK(Datenerfassung!L667),\"\",Datenerfassung!L667)","v":""},{"$f":"IF(ISBLANK(Datenerfassung!F667),\"\",Datenerfassung!F667)","v":""},{"$f":"IF(ISBLANK(Datenerfassung!D667),IF(COUNTBLANK(A657:H657)+COUNTBLANK(J657:O657)=14,\"\",\"- ohne Titel -\"),Datenerfassung!D667)","v":""},{"$f":"IF(ISBLANK(Datenerfassung!E667),\"\",Datenerfassung!E667)","v":""},"",{"$f":"IF(ISBLANK(Datenerfassung!O667),\"\",Datenerfassung!O667)","v":""},{"$f":"IF(ISBLANK(Datenerfassung!G667),\"\",Datenerfassung!G667)","v":""},{"$f":"IF(ISBLANK(Datenerfassung!M667),\"\",Datenerfassung!M667)","v":""},{"$f":"IF(ISBLANK(Datenerfassung!H667),\"\",Datenerfassung!H667)","v":""}]
[{"$f":"IF(ISBLANK(Datenerfassung!A668),\"\",Datenerfassung!A668)","v":""},{"$f":"IF(ISBLANK(Datenerfassung!B668),\"\",Datenerfassung!B668)","v":""},{"$f":"IF(ISBLANK(Datenerfassung!C668),\"\",Datenerfassung!C668)","v":""},{"$f":"IF(ISBLANK(Datenerfassung!I668),\"\",Datenerfassung!I668)","v":""},{"$f":"IF(ISBLANK(Datenerfassung!J668),\"\",Datenerfassung!J668)","v":""},"",{"$f":"IF(ISBLANK(Datenerfassung!L668),\"\",Datenerfassung!L668)","v":""},{"$f":"IF(ISBLANK(Datenerfassung!F668),\"\",Datenerfassung!F668)","v":""},{"$f":"IF(ISBLANK(Datenerfassung!D668),IF(COUNTBLANK(A658:H658)+COUNTBLANK(J658:O658)=14,\"\",\"- ohne Titel -\"),Datenerfassung!D668)","v":""},{"$f":"IF(ISBLANK(Datenerfassung!E668),\"\",Datenerfassung!E668)","v":""},"",{"$f":"IF(ISBLANK(Datenerfassung!O668),\"\",Datenerfassung!O668)","v":""},{"$f":"IF(ISBLANK(Datenerfassung!G668),\"\",Datenerfassung!G668)","v":""},{"$f":"IF(ISBLANK(Datenerfassung!M668),\"\",Datenerfassung!M668)","v":""},{"$f":"IF(ISBLANK(Datenerfassung!H668),\"\",Datenerfassung!H668)","v":""}]
[{"$f":"IF(ISBLANK(Datenerfassung!A669),\"\",Datenerfassung!A669)","v":""},{"$f":"IF(ISBLANK(Datenerfassung!B669),\"\",Datenerfassung!B669)","v":""},{"$f":"IF(ISBLANK(Datenerfassung!C669),\"\",Datenerfassung!C669)","v":""},{"$f":"IF(ISBLANK(Datenerfassung!I669),\"\",Datenerfassung!I669)","v":""},{"$f":"IF(ISBLANK(Datenerfassung!J669),\"\",Datenerfassung!J669)","v":""},"",{"$f":"IF(ISBLANK(Datenerfassung!L669),\"\",Datenerfassung!L669)","v":""},{"$f":"IF(ISBLANK(Datenerfassung!F669),\"\",Datenerfassung!F669)","v":""},{"$f":"IF(ISBLANK(Datenerfassung!D669),IF(COUNTBLANK(A659:H659)+COUNTBLANK(J659:O659)=14,\"\",\"- ohne Titel -\"),Datenerfassung!D669)","v":""},{"$f":"IF(ISBLANK(Datenerfassung!E669),\"\",Datenerfassung!E669)","v":""},"",{"$f":"IF(ISBLANK(Datenerfassung!O669),\"\",Datenerfassung!O669)","v":""},{"$f":"IF(ISBLANK(Datenerfassung!G669),\"\",Datenerfassung!G669)","v":""},{"$f":"IF(ISBLANK(Datenerfassung!M669),\"\",Datenerfassung!M669)","v":""},{"$f":"IF(ISBLANK(Datenerfassung!H669),\"\",Datenerfassung!H669)","v":""}]
[{"$f":"IF(ISBLANK(Datenerfassung!A670),\"\",Datenerfassung!A670)","v":""},{"$f":"IF(ISBLANK(Datenerfassung!B670),\"\",Datenerfassung!B670)","v":""},{"$f":"IF(ISBLANK(Datenerfassung!C670),\"\",Datenerfassung!C670)","v":""},{"$f":"IF(ISBLANK(Datenerfassung!I670),\"\",Datenerfassung!I670)","v":""},{"$f":"IF(ISBLANK(Datenerfassung!J670),\"\",Datenerfassung!J670)","v":""},"",{"$f":"IF(ISBLANK(Datenerfassung!L670),\"\",Datenerfassung!L670)","v":""},{"$f":"IF(ISBLANK(Datenerfassung!F670),\"\",Datenerfassung!F670)","v":""},{"$f":"IF(ISBLANK(Datenerfassung!D670),IF(COUNTBLANK(A660:H660)+COUNTBLANK(J660:O660)=14,\"\",\"- ohne Titel -\"),Datenerfassung!D670)","v":""},{"$f":"IF(ISBLANK(Datenerfassung!E670),\"\",Datenerfassung!E670)","v":""},"",{"$f":"IF(ISBLANK(Datenerfassung!O670),\"\",Datenerfassung!O670)","v":""},{"$f":"IF(ISBLANK(Datenerfassung!G670),\"\",Datenerfassung!G670)","v":""},{"$f":"IF(ISBLANK(Datenerfassung!M670),\"\",Datenerfassung!M670)","v":""},{"$f":"IF(ISBLANK(Datenerfassung!H670),\"\",Datenerfassung!H670)","v":""}]
[{"$f":"IF(ISBLANK(Datenerfassung!A671),\"\",Datenerfassung!A671)","v":""},{"$f":"IF(ISBLANK(Datenerfassung!B671),\"\",Datenerfassung!B671)","v":""},{"$f":"IF(ISBLANK(Datenerfassung!C671),\"\",Datenerfassung!C671)","v":""},{"$f":"IF(ISBLANK(Datenerfassung!I671),\"\",Datenerfassung!I671)","v":""},{"$f":"IF(ISBLANK(Datenerfassung!J671),\"\",Datenerfassung!J671)","v":""},"",{"$f":"IF(ISBLANK(Datenerfassung!L671),\"\",Datenerfassung!L671)","v":""},{"$f":"IF(ISBLANK(Datenerfassung!F671),\"\",Datenerfassung!F671)","v":""},{"$f":"IF(ISBLANK(Datenerfassung!D671),IF(COUNTBLANK(A661:H661)+COUNTBLANK(J661:O661)=14,\"\",\"- ohne Titel -\"),Datenerfassung!D671)","v":""},{"$f":"IF(ISBLANK(Datenerfassung!E671),\"\",Datenerfassung!E671)","v":""},"",{"$f":"IF(ISBLANK(Datenerfassung!O671),\"\",Datenerfassung!O671)","v":""},{"$f":"IF(ISBLANK(Datenerfassung!G671),\"\",Datenerfassung!G671)","v":""},{"$f":"IF(ISBLANK(Datenerfassung!M671),\"\",Datenerfassung!M671)","v":""},{"$f":"IF(ISBLANK(Datenerfassung!H671),\"\",Datenerfassung!H671)","v":""}]
[{"$f":"IF(ISBLANK(Datenerfassung!A672),\"\",Datenerfassung!A672)","v":""},{"$f":"IF(ISBLANK(Datenerfassung!B672),\"\",Datenerfassung!B672)","v":""},{"$f":"IF(ISBLANK(Datenerfassung!C672),\"\",Datenerfassung!C672)","v":""},{"$f":"IF(ISBLANK(Datenerfassung!I672),\"\",Datenerfassung!I672)","v":""},{"$f":"IF(ISBLANK(Datenerfassung!J672),\"\",Datenerfassung!J672)","v":""},"",{"$f":"IF(ISBLANK(Datenerfassung!L672),\"\",Datenerfassung!L672)","v":""},{"$f":"IF(ISBLANK(Datenerfassung!F672),\"\",Datenerfassung!F672)","v":""},{"$f":"IF(ISBLANK(Datenerfassung!D672),IF(COUNTBLANK(A662:H662)+COUNTBLANK(J662:O662)=14,\"\",\"- ohne Titel -\"),Datenerfassung!D672)","v":""},{"$f":"IF(ISBLANK(Datenerfassung!E672),\"\",Datenerfassung!E672)","v":""},"",{"$f":"IF(ISBLANK(Datenerfassung!O672),\"\",Datenerfassung!O672)","v":""},{"$f":"IF(ISBLANK(Datenerfassung!G672),\"\",Datenerfassung!G672)","v":""},{"$f":"IF(ISBLANK(Datenerfassung!M672),\"\",Datenerfassung!M672)","v":""},{"$f":"IF(ISBLANK(Datenerfassung!H672),\"\",Datenerfassung!H672)","v":""}]
[{"$f":"IF(ISBLANK(Datenerfassung!A673),\"\",Datenerfassung!A673)","v":""},{"$f":"IF(ISBLANK(Datenerfassung!B673),\"\",Datenerfassung!B673)","v":""},{"$f":"IF(ISBLANK(Datenerfassung!C673),\"\",Datenerfassung!C673)","v":""},{"$f":"IF(ISBLANK(Datenerfassung!I673),\"\",Datenerfassung!I673)","v":""},{"$f":"IF(ISBLANK(Datenerfassung!J673),\"\",Datenerfassung!J673)","v":""},"",{"$f":"IF(ISBLANK(Datenerfassung!L673),\"\",Datenerfassung!L673)","v":""},{"$f":"IF(ISBLANK(Datenerfassung!F673),\"\",Datenerfassung!F673)","v":""},{"$f":"IF(ISBLANK(Datenerfassung!D673),IF(COUNTBLANK(A663:H663)+COUNTBLANK(J663:O663)=14,\"\",\"- ohne Titel -\"),Datenerfassung!D673)","v":""},{"$f":"IF(ISBLANK(Datenerfassung!E673),\"\",Datenerfassung!E673)","v":""},"",{"$f":"IF(ISBLANK(Datenerfassung!O673),\"\",Datenerfassung!O673)","v":""},{"$f":"IF(ISBLANK(Datenerfassung!G673),\"\",Datenerfassung!G673)","v":""},{"$f":"IF(ISBLANK(Datenerfassung!M673),\"\",Datenerfassung!M673)","v":""},{"$f":"IF(ISBLANK(Datenerfassung!H673),\"\",Datenerfassung!H673)","v":""}]
[{"$f":"IF(ISBLANK(Datenerfassung!A674),\"\",Datenerfassung!A674)","v":""},{"$f":"IF(ISBLANK(Datenerfassung!B674),\"\",Datenerfassung!B674)","v":""},{"$f":"IF(ISBLANK(Datenerfassung!C674),\"\",Datenerfassung!C674)","v":""},{"$f":"IF(ISBLANK(Datenerfassung!I674),\"\",Datenerfassung!I674)","v":""},{"$f":"IF(ISBLANK(Datenerfassung!J674),\"\",Datenerfassung!J674)","v":""},"",{"$f":"IF(ISBLANK(Datenerfassung!L674),\"\",Datenerfassung!L674)","v":""},{"$f":"IF(ISBLANK(Datenerfassung!F674),\"\",Datenerfassung!F674)","v":""},{"$f":"IF(ISBLANK(Datenerfassung!D674),IF(COUNTBLANK(A664:H664)+COUNTBLANK(J664:O664)=14,\"\",\"- ohne Titel -\"),Datenerfassung!D674)","v":""},{"$f":"IF(ISBLANK(Datenerfassung!E674),\"\",Datenerfassung!E674)","v":""},"",{"$f":"IF(ISBLANK(Datenerfassung!O674),\"\",Datenerfassung!O674)","v":""},{"$f":"IF(ISBLANK(Datenerfassung!G674),\"\",Datenerfassung!G674)","v":""},{"$f":"IF(ISBLANK(Datenerfassung!M674),\"\",Datenerfassung!M674)","v":""},{"$f":"IF(ISBLANK(Datenerfassung!H674),\"\",Datenerfassung!H674)","v":""}]
[{"$f":"IF(ISBLANK(Datenerfassung!A675),\"\",Datenerfassung!A675)","v":""},{"$f":"IF(ISBLANK(Datenerfassung!B675),\"\",Datenerfassung!B675)","v":""},{"$f":"IF(ISBLANK(Datenerfassung!C675),\"\",Datenerfassung!C675)","v":""},{"$f":"IF(ISBLANK(Datenerfassung!I675),\"\",Datenerfassung!I675)","v":""},{"$f":"IF(ISBLANK(Datenerfassung!J675),\"\",Datenerfassung!J675)","v":""},"",{"$f":"IF(ISBLANK(Datenerfassung!L675),\"\",Datenerfassung!L675)","v":""},{"$f":"IF(ISBLANK(Datenerfassung!F675),\"\",Datenerfassung!F675)","v":""},{"$f":"IF(ISBLANK(Datenerfassung!D675),IF(COUNTBLANK(A665:H665)+COUNTBLANK(J665:O665)=14,\"\",\"- ohne Titel -\"),Datenerfassung!D675)","v":""},{"$f":"IF(ISBLANK(Datenerfassung!E675),\"\",Datenerfassung!E675)","v":""},"",{"$f":"IF(ISBLANK(Datenerfassung!O675),\"\",Datenerfassung!O675)","v":""},{"$f":"IF(ISBLANK(Datenerfassung!G675),\"\",Datenerfassung!G675)","v":""},{"$f":"IF(ISBLANK(Datenerfassung!M675),\"\",Datenerfassung!M675)","v":""},{"$f":"IF(ISBLANK(Datenerfassung!H675),\"\",Datenerfassung!H675)","v":""}]
[{"$f":"IF(ISBLANK(Datenerfassung!A676),\"\",Datenerfassung!A676)","v":""},{"$f":"IF(ISBLANK(Datenerfassung!B676),\"\",Datenerfassung!B676)","v":""},{"$f":"IF(ISBLANK(Datenerfassung!C676),\"\",Datenerfassung!C676)","v":""},{"$f":"IF(ISBLANK(Datenerfassung!I676),\"\",Datenerfassung!I676)","v":""},{"$f":"IF(ISBLANK(Datenerfassung!J676),\"\",Datenerfassung!J676)","v":""},"",{"$f":"IF(ISBLANK(Datenerfassung!L676),\"\",Datenerfassung!L676)","v":""},{"$f":"IF(ISBLANK(Datenerfassung!F676),\"\",Datenerfassung!F676)","v":""},{"$f":"IF(ISBLANK(Datenerfassung!D676),IF(COUNTBLANK(A666:H666)+COUNTBLANK(J666:O666)=14,\"\",\"- ohne Titel -\"),Datenerfassung!D676)","v":""},{"$f":"IF(ISBLANK(Datenerfassung!E676),\"\",Datenerfassung!E676)","v":""},"",{"$f":"IF(ISBLANK(Datenerfassung!O676),\"\",Datenerfassung!O676)","v":""},{"$f":"IF(ISBLANK(Datenerfassung!G676),\"\",Datenerfassung!G676)","v":""},{"$f":"IF(ISBLANK(Datenerfassung!M676),\"\",Datenerfassung!M676)","v":""},{"$f":"IF(ISBLANK(Datenerfassung!H676),\"\",Datenerfassung!H676)","v":""}]
[{"$f":"IF(ISBLANK(Datenerfassung!A677),\"\",Datenerfassung!A677)","v":""},{"$f":"IF(ISBLANK(Datenerfassung!B677),\"\",Datenerfassung!B677)","v":""},{"$f":"IF(ISBLANK(Datenerfassung!C677),\"\",Datenerfassung!C677)","v":""},{"$f":"IF(ISBLANK(Datenerfassung!I677),\"\",Datenerfassung!I677)","v":""},{"$f":"IF(ISBLANK(Datenerfassung!J677),\"\",Datenerfassung!J677)","v":""},"",{"$f":"IF(ISBLANK(Datenerfassung!L677),\"\",Datenerfassung!L677)","v":""},{"$f":"IF(ISBLANK(Datenerfassung!F677),\"\",Datenerfassung!F677)","v":""},{"$f":"IF(ISBLANK(Datenerfassung!D677),IF(COUNTBLANK(A667:H667)+COUNTBLANK(J667:O667)=14,\"\",\"- ohne Titel -\"),Datenerfassung!D677)","v":""},{"$f":"IF(ISBLANK(Datenerfassung!E677),\"\",Datenerfassung!E677)","v":""},"",{"$f":"IF(ISBLANK(Datenerfassung!O677),\"\",Datenerfassung!O677)","v":""},{"$f":"IF(ISBLANK(Datenerfassung!G677),\"\",Datenerfassung!G677)","v":""},{"$f":"IF(ISBLANK(Datenerfassung!M677),\"\",Datenerfassung!M677)","v":""},{"$f":"IF(ISBLANK(Datenerfassung!H677),\"\",Datenerfassung!H677)","v":""}]
[{"$f":"IF(ISBLANK(Datenerfassung!A678),\"\",Datenerfassung!A678)","v":""},{"$f":"IF(ISBLANK(Datenerfassung!B678),\"\",Datenerfassung!B678)","v":""},{"$f":"IF(ISBLANK(Datenerfassung!C678),\"\",Datenerfassung!C678)","v":""},{"$f":"IF(ISBLANK(Datenerfassung!I678),\"\",Datenerfassung!I678)","v":""},{"$f":"IF(ISBLANK(Datenerfassung!J678),\"\",Datenerfassung!J678)","v":""},"",{"$f":"IF(ISBLANK(Datenerfassung!L678),\"\",Datenerfassung!L678)","v":""},{"$f":"IF(ISBLANK(Datenerfassung!F678),\"\",Datenerfassung!F678)","v":""},{"$f":"IF(ISBLANK(Datenerfassung!D678),IF(COUNTBLANK(A668:H668)+COUNTBLANK(J668:O668)=14,\"\",\"- ohne Titel -\"),Datenerfassung!D678)","v":""},{"$f":"IF(ISBLANK(Datenerfassung!E678),\"\",Datenerfassung!E678)","v":""},"",{"$f":"IF(ISBLANK(Datenerfassung!O678),\"\",Datenerfassung!O678)","v":""},{"$f":"IF(ISBLANK(Datenerfassung!G678),\"\",Datenerfassung!G678)","v":""},{"$f":"IF(ISBLANK(Datenerfassung!M678),\"\",Datenerfassung!M678)","v":""},{"$f":"IF(ISBLANK(Datenerfassung!H678),\"\",Datenerfassung!H678)","v":""}]
[{"$f":"IF(ISBLANK(Datenerfassung!A679),\"\",Datenerfassung!A679)","v":""},{"$f":"IF(ISBLANK(Datenerfassung!B679),\"\",Datenerfassung!B679)","v":""},{"$f":"IF(ISBLANK(Datenerfassung!C679),\"\",Datenerfassung!C679)","v":""},{"$f":"IF(ISBLANK(Datenerfassung!I679),\"\",Datenerfassung!I679)","v":""},{"$f":"IF(ISBLANK(Datenerfassung!J679),\"\",Datenerfassung!J679)","v":""},"",{"$f":"IF(ISBLANK(Datenerfassung!L679),\"\",Datenerfassung!L679)","v":""},{"$f":"IF(ISBLANK(Datenerfassung!F679),\"\",Datenerfassung!F679)","v":""},{"$f":"IF(ISBLANK(Datenerfassung!D679),IF(COUNTBLANK(A669:H669)+COUNTBLANK(J669:O669)=14,\"\",\"- ohne Titel -\"),Datenerfassung!D679)","v":""},{"$f":"IF(ISBLANK(Datenerfassung!E679),\"\",Datenerfassung!E679)","v":""},"",{"$f":"IF(ISBLANK(Datenerfassung!O679),\"\",Datenerfassung!O679)","v":""},{"$f":"IF(ISBLANK(Datenerfassung!G679),\"\",Datenerfassung!G679)","v":""},{"$f":"IF(ISBLANK(Datenerfassung!M679),\"\",Datenerfassung!M679)","v":""},{"$f":"IF(ISBLANK(Datenerfassung!H679),\"\",Datenerfassung!H679)","v":""}]
[{"$f":"IF(ISBLANK(Datenerfassung!A680),\"\",Datenerfassung!A680)","v":""},{"$f":"IF(ISBLANK(Datenerfassung!B680),\"\",Datenerfassung!B680)","v":""},{"$f":"IF(ISBLANK(Datenerfassung!C680),\"\",Datenerfassung!C680)","v":""},{"$f":"IF(ISBLANK(Datenerfassung!I680),\"\",Datenerfassung!I680)","v":""},{"$f":"IF(ISBLANK(Datenerfassung!J680),\"\",Datenerfassung!J680)","v":""},"",{"$f":"IF(ISBLANK(Datenerfassung!L680),\"\",Datenerfassung!L680)","v":""},{"$f":"IF(ISBLANK(Datenerfassung!F680),\"\",Datenerfassung!F680)","v":""},{"$f":"IF(ISBLANK(Datenerfassung!D680),IF(COUNTBLANK(A670:H670)+COUNTBLANK(J670:O670)=14,\"\",\"- ohne Titel -\"),Datenerfassung!D680)","v":""},{"$f":"IF(ISBLANK(Datenerfassung!E680),\"\",Datenerfassung!E680)","v":""},"",{"$f":"IF(ISBLANK(Datenerfassung!O680),\"\",Datenerfassung!O680)","v":""},{"$f":"IF(ISBLANK(Datenerfassung!G680),\"\",Datenerfassung!G680)","v":""},{"$f":"IF(ISBLANK(Datenerfassung!M680),\"\",Datenerfassung!M680)","v":""},{"$f":"IF(ISBLANK(Datenerfassung!H680),\"\",Datenerfassung!H680)","v":""}]
[{"$f":"IF(ISBLANK(Datenerfassung!A681),\"\",Datenerfassung!A681)","v":""},{"$f":"IF(ISBLANK(Datenerfassung!B681),\"\",Datenerfassung!B681)","v":""},{"$f":"IF(ISBLANK(Datenerfassung!C681),\"\",Datenerfassung!C681)","v":""},{"$f":"IF(ISBLANK(Datenerfassung!I681),\"\",Datenerfassung!I681)","v":""},{"$f":"IF(ISBLANK(Datenerfassung!J681),\"\",Datenerfassung!J681)","v":""},"",{"$f":"IF(ISBLANK(Datenerfassung!L681),\"\",Datenerfassung!L681)","v":""},{"$f":"IF(ISBLANK(Datenerfassung!F681),\"\",Datenerfassung!F681)","v":""},{"$f":"IF(ISBLANK(Datenerfassung!D681),IF(COUNTBLANK(A671:H671)+COUNTBLANK(J671:O671)=14,\"\",\"- ohne Titel -\"),Datenerfassung!D681)","v":""},{"$f":"IF(ISBLANK(Datenerfassung!E681),\"\",Datenerfassung!E681)","v":""},"",{"$f":"IF(ISBLANK(Datenerfassung!O681),\"\",Datenerfassung!O681)","v":""},{"$f":"IF(ISBLANK(Datenerfassung!G681),\"\",Datenerfassung!G681)","v":""},{"$f":"IF(ISBLANK(Datenerfassung!M681),\"\",Datenerfassung!M681)","v":""},{"$f":"IF(ISBLANK(Datenerfassung!H681),\"\",Datenerfassung!H681)","v":""}]
[{"$f":"IF(ISBLANK(Datenerfassung!A682),\"\",Datenerfassung!A682)","v":""},{"$f":"IF(ISBLANK(Datenerfassung!B682),\"\",Datenerfassung!B682)","v":""},{"$f":"IF(ISBLANK(Datenerfassung!C682),\"\",Datenerfassung!C682)","v":""},{"$f":"IF(ISBLANK(Datenerfassung!I682),\"\",Datenerfassung!I682)","v":""},{"$f":"IF(ISBLANK(Datenerfassung!J682),\"\",Datenerfassung!J682)","v":""},"",{"$f":"IF(ISBLANK(Datenerfassung!L682),\"\",Datenerfassung!L682)","v":""},{"$f":"IF(ISBLANK(Datenerfassung!F682),\"\",Datenerfassung!F682)","v":""},{"$f":"IF(ISBLANK(Datenerfassung!D682),IF(COUNTBLANK(A672:H672)+COUNTBLANK(J672:O672)=14,\"\",\"- ohne Titel -\"),Datenerfassung!D682)","v":""},{"$f":"IF(ISBLANK(Datenerfassung!E682),\"\",Datenerfassung!E682)","v":""},"",{"$f":"IF(ISBLANK(Datenerfassung!O682),\"\",Datenerfassung!O682)","v":""},{"$f":"IF(ISBLANK(Datenerfassung!G682),\"\",Datenerfassung!G682)","v":""},{"$f":"IF(ISBLANK(Datenerfassung!M682),\"\",Datenerfassung!M682)","v":""},{"$f":"IF(ISBLANK(Datenerfassung!H682),\"\",Datenerfassung!H682)","v":""}]
[{"$f":"IF(ISBLANK(Datenerfassung!A683),\"\",Datenerfassung!A683)","v":""},{"$f":"IF(ISBLANK(Datenerfassung!B683),\"\",Datenerfassung!B683)","v":""},{"$f":"IF(ISBLANK(Datenerfassung!C683),\"\",Datenerfassung!C683)","v":""},{"$f":"IF(ISBLANK(Datenerfassung!I683),\"\",Datenerfassung!I683)","v":""},{"$f":"IF(ISBLANK(Datenerfassung!J683),\"\",Datenerfassung!J683)","v":""},"",{"$f":"IF(ISBLANK(Datenerfassung!L683),\"\",Datenerfassung!L683)","v":""},{"$f":"IF(ISBLANK(Datenerfassung!F683),\"\",Datenerfassung!F683)","v":""},{"$f":"IF(ISBLANK(Datenerfassung!D683),IF(COUNTBLANK(A673:H673)+COUNTBLANK(J673:O673)=14,\"\",\"- ohne Titel -\"),Datenerfassung!D683)","v":""},{"$f":"IF(ISBLANK(Datenerfassung!E683),\"\",Datenerfassung!E683)","v":""},"",{"$f":"IF(ISBLANK(Datenerfassung!O683),\"\",Datenerfassung!O683)","v":""},{"$f":"IF(ISBLANK(Datenerfassung!G683),\"\",Datenerfassung!G683)","v":""},{"$f":"IF(ISBLANK(Datenerfassung!M683),\"\",Datenerfassung!M683)","v":""},{"$f":"IF(ISBLANK(Datenerfassung!H683),\"\",Datenerfassung!H683)","v":""}]
[{"$f":"IF(ISBLANK(Datenerfassung!A684),\"\",Datenerfassung!A684)","v":""},{"$f":"IF(ISBLANK(Datenerfassung!B684),\"\",Datenerfassung!B684)","v":""},{"$f":"IF(ISBLANK(Datenerfassung!C684),\"\",Datenerfassung!C684)","v":""},{"$f":"IF(ISBLANK(Datenerfassung!I684),\"\",Datenerfassung!I684)","v":""},{"$f":"IF(ISBLANK(Datenerfassung!J684),\"\",Datenerfassung!J684)","v":""},"",{"$f":"IF(ISBLANK(Datenerfassung!L684),\"\",Datenerfassung!L684)","v":""},{"$f":"IF(ISBLANK(Datenerfassung!F684),\"\",Datenerfassung!F684)","v":""},{"$f":"IF(ISBLANK(Datenerfassung!D684),IF(COUNTBLANK(A674:H674)+COUNTBLANK(J674:O674)=14,\"\",\"- ohne Titel -\"),Datenerfassung!D684)","v":""},{"$f":"IF(ISBLANK(Datenerfassung!E684),\"\",Datenerfassung!E684)","v":""},"",{"$f":"IF(ISBLANK(Datenerfassung!O684),\"\",Datenerfassung!O684)","v":""},{"$f":"IF(ISBLANK(Datenerfassung!G684),\"\",Datenerfassung!G684)","v":""},{"$f":"IF(ISBLANK(Datenerfassung!M684),\"\",Datenerfassung!M684)","v":""},{"$f":"IF(ISBLANK(Datenerfassung!H684),\"\",Datenerfassung!H684)","v":""}]
[{"$f":"IF(ISBLANK(Datenerfassung!A685),\"\",Datenerfassung!A685)","v":""},{"$f":"IF(ISBLANK(Datenerfassung!B685),\"\",Datenerfassung!B685)","v":""},{"$f":"IF(ISBLANK(Datenerfassung!C685),\"\",Datenerfassung!C685)","v":""},{"$f":"IF(ISBLANK(Datenerfassung!I685),\"\",Datenerfassung!I685)","v":""},{"$f":"IF(ISBLANK(Datenerfassung!J685),\"\",Datenerfassung!J685)","v":""},"",{"$f":"IF(ISBLANK(Datenerfassung!L685),\"\",Datenerfassung!L685)","v":""},{"$f":"IF(ISBLANK(Datenerfassung!F685),\"\",Datenerfassung!F685)","v":""},{"$f":"IF(ISBLANK(Datenerfassung!D685),IF(COUNTBLANK(A675:H675)+COUNTBLANK(J675:O675)=14,\"\",\"- ohne Titel -\"),Datenerfassung!D685)","v":""},{"$f":"IF(ISBLANK(Datenerfassung!E685),\"\",Datenerfassung!E685)","v":""},"",{"$f":"IF(ISBLANK(Datenerfassung!O685),\"\",Datenerfassung!O685)","v":""},{"$f":"IF(ISBLANK(Datenerfassung!G685),\"\",Datenerfassung!G685)","v":""},{"$f":"IF(ISBLANK(Datenerfassung!M685),\"\",Datenerfassung!M685)","v":""},{"$f":"IF(ISBLANK(Datenerfassung!H685),\"\",Datenerfassung!H685)","v":""}]
[{"$f":"IF(ISBLANK(Datenerfassung!A686),\"\",Datenerfassung!A686)","v":""},{"$f":"IF(ISBLANK(Datenerfassung!B686),\"\",Datenerfassung!B686)","v":""},{"$f":"IF(ISBLANK(Datenerfassung!C686),\"\",Datenerfassung!C686)","v":""},{"$f":"IF(ISBLANK(Datenerfassung!I686),\"\",Datenerfassung!I686)","v":""},{"$f":"IF(ISBLANK(Datenerfassung!J686),\"\",Datenerfassung!J686)","v":""},"",{"$f":"IF(ISBLANK(Datenerfassung!L686),\"\",Datenerfassung!L686)","v":""},{"$f":"IF(ISBLANK(Datenerfassung!F686),\"\",Datenerfassung!F686)","v":""},{"$f":"IF(ISBLANK(Datenerfassung!D686),IF(COUNTBLANK(A676:H676)+COUNTBLANK(J676:O676)=14,\"\",\"- ohne Titel -\"),Datenerfassung!D686)","v":""},{"$f":"IF(ISBLANK(Datenerfassung!E686),\"\",Datenerfassung!E686)","v":""},"",{"$f":"IF(ISBLANK(Datenerfassung!O686),\"\",Datenerfassung!O686)","v":""},{"$f":"IF(ISBLANK(Datenerfassung!G686),\"\",Datenerfassung!G686)","v":""},{"$f":"IF(ISBLANK(Datenerfassung!M686),\"\",Datenerfassung!M686)","v":""},{"$f":"IF(ISBLANK(Datenerfassung!H686),\"\",Datenerfassung!H686)","v":""}]
[{"$f":"IF(ISBLANK(Datenerfassung!A687),\"\",Datenerfassung!A687)","v":""},{"$f":"IF(ISBLANK(Datenerfassung!B687),\"\",Datenerfassung!B687)","v":""},{"$f":"IF(ISBLANK(Datenerfassung!C687),\"\",Datenerfassung!C687)","v":""},{"$f":"IF(ISBLANK(Datenerfassung!I687),\"\",Datenerfassung!I687)","v":""},{"$f":"IF(ISBLANK(Datenerfassung!J687),\"\",Datenerfassung!J687)","v":""},"",{"$f":"IF(ISBLANK(Datenerfassung!L687),\"\",Datenerfassung!L687)","v":""},{"$f":"IF(ISBLANK(Datenerfassung!F687),\"\",Datenerfassung!F687)","v":""},{"$f":"IF(ISBLANK(Datenerfassung!D687),IF(COUNTBLANK(A677:H677)+COUNTBLANK(J677:O677)=14,\"\",\"- ohne Titel -\"),Datenerfassung!D687)","v":""},{"$f":"IF(ISBLANK(Datenerfassung!E687),\"\",Datenerfassung!E687)","v":""},"",{"$f":"IF(ISBLANK(Datenerfassung!O687),\"\",Datenerfassung!O687)","v":""},{"$f":"IF(ISBLANK(Datenerfassung!G687),\"\",Datenerfassung!G687)","v":""},{"$f":"IF(ISBLANK(Datenerfassung!M687),\"\",Datenerfassung!M687)","v":""},{"$f":"IF(ISBLANK(Datenerfassung!H687),\"\",Datenerfassung!H687)","v":""}]
[{"$f":"IF(ISBLANK(Datenerfassung!A688),\"\",Datenerfassung!A688)","v":""},{"$f":"IF(ISBLANK(Datenerfassung!B688),\"\",Datenerfassung!B688)","v":""},{"$f":"IF(ISBLANK(Datenerfassung!C688),\"\",Datenerfassung!C688)","v":""},{"$f":"IF(ISBLANK(Datenerfassung!I688),\"\",Datenerfassung!I688)","v":""},{"$f":"IF(ISBLANK(Datenerfassung!J688),\"\",Datenerfassung!J688)","v":""},"",{"$f":"IF(ISBLANK(Datenerfassung!L688),\"\",Datenerfassung!L688)","v":""},{"$f":"IF(ISBLANK(Datenerfassung!F688),\"\",Datenerfassung!F688)","v":""},{"$f":"IF(ISBLANK(Datenerfassung!D688),IF(COUNTBLANK(A678:H678)+COUNTBLANK(J678:O678)=14,\"\",\"- ohne Titel -\"),Datenerfassung!D688)","v":""},{"$f":"IF(ISBLANK(Datenerfassung!E688),\"\",Datenerfassung!E688)","v":""},"",{"$f":"IF(ISBLANK(Datenerfassung!O688),\"\",Datenerfassung!O688)","v":""},{"$f":"IF(ISBLANK(Datenerfassung!G688),\"\",Datenerfassung!G688)","v":""},{"$f":"IF(ISBLANK(Datenerfassung!M688),\"\",Datenerfassung!M688)","v":""},{"$f":"IF(ISBLANK(Datenerfassung!H688),\"\",Datenerfassung!H688)","v":""}]
[{"$f":"IF(ISBLANK(Datenerfassung!A689),\"\",Datenerfassung!A689)","v":""},{"$f":"IF(ISBLANK(Datenerfassung!B689),\"\",Datenerfassung!B689)","v":""},{"$f":"IF(ISBLANK(Datenerfassung!C689),\"\",Datenerfassung!C689)","v":""},{"$f":"IF(ISBLANK(Datenerfassung!I689),\"\",Datenerfassung!I689)","v":""},{"$f":"IF(ISBLANK(Datenerfassung!J689),\"\",Datenerfassung!J689)","v":""},"",{"$f":"IF(ISBLANK(Datenerfassung!L689),\"\",Datenerfassung!L689)","v":""},{"$f":"IF(ISBLANK(Datenerfassung!F689),\"\",Datenerfassung!F689)","v":""},{"$f":"IF(ISBLANK(Datenerfassung!D689),IF(COUNTBLANK(A679:H679)+COUNTBLANK(J679:O679)=14,\"\",\"- ohne Titel -\"),Datenerfassung!D689)","v":""},{"$f":"IF(ISBLANK(Datenerfassung!E689),\"\",Datenerfassung!E689)","v":""},"",{"$f":"IF(ISBLANK(Datenerfassung!O689),\"\",Datenerfassung!O689)","v":""},{"$f":"IF(ISBLANK(Datenerfassung!G689),\"\",Datenerfassung!G689)","v":""},{"$f":"IF(ISBLANK(Datenerfassung!M689),\"\",Datenerfassung!M689)","v":""},{"$f":"IF(ISBLANK(Datenerfassung!H689),\"\",Datenerfassung!H689)","v":""}]
[{"$f":"IF(ISBLANK(Datenerfassung!A690),\"\",Datenerfassung!A690)","v":""},{"$f":"IF(ISBLANK(Datenerfassung!B690),\"\",Datenerfassung!B690)","v":""},{"$f":"IF(ISBLANK(Datenerfassung!C690),\"\",Datenerfassung!C690)","v":""},{"$f":"IF(ISBLANK(Datenerfassung!I690),\"\",Datenerfassung!I690)","v":""},{"$f":"IF(ISBLANK(Datenerfassung!J690),\"\",Datenerfassung!J690)","v":""},"",{"$f":"IF(ISBLANK(Datenerfassung!L690),\"\",Datenerfassung!L690)","v":""},{"$f":"IF(ISBLANK(Datenerfassung!F690),\"\",Datenerfassung!F690)","v":""},{"$f":"IF(ISBLANK(Datenerfassung!D690),IF(COUNTBLANK(A680:H680)+COUNTBLANK(J680:O680)=14,\"\",\"- ohne Titel -\"),Datenerfassung!D690)","v":""},{"$f":"IF(ISBLANK(Datenerfassung!E690),\"\",Datenerfassung!E690)","v":""},"",{"$f":"IF(ISBLANK(Datenerfassung!O690),\"\",Datenerfassung!O690)","v":""},{"$f":"IF(ISBLANK(Datenerfassung!G690),\"\",Datenerfassung!G690)","v":""},{"$f":"IF(ISBLANK(Datenerfassung!M690),\"\",Datenerfassung!M690)","v":""},{"$f":"IF(ISBLANK(Datenerfassung!H690),\"\",Datenerfassung!H690)","v":""}]
[{"$f":"IF(ISBLANK(Datenerfassung!A691),\"\",Datenerfassung!A691)","v":""},{"$f":"IF(ISBLANK(Datenerfassung!B691),\"\",Datenerfassung!B691)","v":""},{"$f":"IF(ISBLANK(Datenerfassung!C691),\"\",Datenerfassung!C691)","v":""},{"$f":"IF(ISBLANK(Datenerfassung!I691),\"\",Datenerfassung!I691)","v":""},{"$f":"IF(ISBLANK(Datenerfassung!J691),\"\",Datenerfassung!J691)","v":""},"",{"$f":"IF(ISBLANK(Datenerfassung!L691),\"\",Datenerfassung!L691)","v":""},{"$f":"IF(ISBLANK(Datenerfassung!F691),\"\",Datenerfassung!F691)","v":""},{"$f":"IF(ISBLANK(Datenerfassung!D691),IF(COUNTBLANK(A681:H681)+COUNTBLANK(J681:O681)=14,\"\",\"- ohne Titel -\"),Datenerfassung!D691)","v":""},{"$f":"IF(ISBLANK(Datenerfassung!E691),\"\",Datenerfassung!E691)","v":""},"",{"$f":"IF(ISBLANK(Datenerfassung!O691),\"\",Datenerfassung!O691)","v":""},{"$f":"IF(ISBLANK(Datenerfassung!G691),\"\",Datenerfassung!G691)","v":""},{"$f":"IF(ISBLANK(Datenerfassung!M691),\"\",Datenerfassung!M691)","v":""},{"$f":"IF(ISBLANK(Datenerfassung!H691),\"\",Datenerfassung!H691)","v":""}]
[{"$f":"IF(ISBLANK(Datenerfassung!A692),\"\",Datenerfassung!A692)","v":""},{"$f":"IF(ISBLANK(Datenerfassung!B692),\"\",Datenerfassung!B692)","v":""},{"$f":"IF(ISBLANK(Datenerfassung!C692),\"\",Datenerfassung!C692)","v":""},{"$f":"IF(ISBLANK(Datenerfassung!I692),\"\",Datenerfassung!I692)","v":""},{"$f":"IF(ISBLANK(Datenerfassung!J692),\"\",Datenerfassung!J692)","v":""},"",{"$f":"IF(ISBLANK(Datenerfassung!L692),\"\",Datenerfassung!L692)","v":""},{"$f":"IF(ISBLANK(Datenerfassung!F692),\"\",Datenerfassung!F692)","v":""},{"$f":"IF(ISBLANK(Datenerfassung!D692),IF(COUNTBLANK(A682:H682)+COUNTBLANK(J682:O682)=14,\"\",\"- ohne Titel -\"),Datenerfassung!D692)","v":""},{"$f":"IF(ISBLANK(Datenerfassung!E692),\"\",Datenerfassung!E692)","v":""},"",{"$f":"IF(ISBLANK(Datenerfassung!O692),\"\",Datenerfassung!O692)","v":""},{"$f":"IF(ISBLANK(Datenerfassung!G692),\"\",Datenerfassung!G692)","v":""},{"$f":"IF(ISBLANK(Datenerfassung!M692),\"\",Datenerfassung!M692)","v":""},{"$f":"IF(ISBLANK(Datenerfassung!H692),\"\",Datenerfassung!H692)","v":""}]
[{"$f":"IF(ISBLANK(Datenerfassung!A693),\"\",Datenerfassung!A693)","v":""},{"$f":"IF(ISBLANK(Datenerfassung!B693),\"\",Datenerfassung!B693)","v":""},{"$f":"IF(ISBLANK(Datenerfassung!C693),\"\",Datenerfassung!C693)","v":""},{"$f":"IF(ISBLANK(Datenerfassung!I693),\"\",Datenerfassung!I693)","v":""},{"$f":"IF(ISBLANK(Datenerfassung!J693),\"\",Datenerfassung!J693)","v":""},"",{"$f":"IF(ISBLANK(Datenerfassung!L693),\"\",Datenerfassung!L693)","v":""},{"$f":"IF(ISBLANK(Datenerfassung!F693),\"\",Datenerfassung!F693)","v":""},{"$f":"IF(ISBLANK(Datenerfassung!D693),IF(COUNTBLANK(A683:H683)+COUNTBLANK(J683:O683)=14,\"\",\"- ohne Titel -\"),Datenerfassung!D693)","v":""},{"$f":"IF(ISBLANK(Datenerfassung!E693),\"\",Datenerfassung!E693)","v":""},"",{"$f":"IF(ISBLANK(Datenerfassung!O693),\"\",Datenerfassung!O693)","v":""},{"$f":"IF(ISBLANK(Datenerfassung!G693),\"\",Datenerfassung!G693)","v":""},{"$f":"IF(ISBLANK(Datenerfassung!M693),\"\",Datenerfassung!M693)","v":""},{"$f":"IF(ISBLANK(Datenerfassung!H693),\"\",Datenerfassung!H693)","v":""}]
[{"$f":"IF(ISBLANK(Datenerfassung!A694),\"\",Datenerfassung!A694)","v":""},{"$f":"IF(ISBLANK(Datenerfassung!B694),\"\",Datenerfassung!B694)","v":""},{"$f":"IF(ISBLANK(Datenerfassung!C694),\"\",Datenerfassung!C694)","v":""},{"$f":"IF(ISBLANK(Datenerfassung!I694),\"\",Datenerfassung!I694)","v":""},{"$f":"IF(ISBLANK(Datenerfassung!J694),\"\",Datenerfassung!J694)","v":""},"",{"$f":"IF(ISBLANK(Datenerfassung!L694),\"\",Datenerfassung!L694)","v":""},{"$f":"IF(ISBLANK(Datenerfassung!F694),\"\",Datenerfassung!F694)","v":""},{"$f":"IF(ISBLANK(Datenerfassung!D694),IF(COUNTBLANK(A684:H684)+COUNTBLANK(J684:O684)=14,\"\",\"- ohne Titel -\"),Datenerfassung!D694)","v":""},{"$f":"IF(ISBLANK(Datenerfassung!E694),\"\",Datenerfassung!E694)","v":""},"",{"$f":"IF(ISBLANK(Datenerfassung!O694),\"\",Datenerfassung!O694)","v":""},{"$f":"IF(ISBLANK(Datenerfassung!G694),\"\",Datenerfassung!G694)","v":""},{"$f":"IF(ISBLANK(Datenerfassung!M694),\"\",Datenerfassung!M694)","v":""},{"$f":"IF(ISBLANK(Datenerfassung!H694),\"\",Datenerfassung!H694)","v":""}]
[{"$f":"IF(ISBLANK(Datenerfassung!A695),\"\",Datenerfassung!A695)","v":""},{"$f":"IF(ISBLANK(Datenerfassung!B695),\"\",Datenerfassung!B695)","v":""},{"$f":"IF(ISBLANK(Datenerfassung!C695),\"\",Datenerfassung!C695)","v":""},{"$f":"IF(ISBLANK(Datenerfassung!I695),\"\",Datenerfassung!I695)","v":""},{"$f":"IF(ISBLANK(Datenerfassung!J695),\"\",Datenerfassung!J695)","v":""},"",{"$f":"IF(ISBLANK(Datenerfassung!L695),\"\",Datenerfassung!L695)","v":""},{"$f":"IF(ISBLANK(Datenerfassung!F695),\"\",Datenerfassung!F695)","v":""},{"$f":"IF(ISBLANK(Datenerfassung!D695),IF(COUNTBLANK(A685:H685)+COUNTBLANK(J685:O685)=14,\"\",\"- ohne Titel -\"),Datenerfassung!D695)","v":""},{"$f":"IF(ISBLANK(Datenerfassung!E695),\"\",Datenerfassung!E695)","v":""},"",{"$f":"IF(ISBLANK(Datenerfassung!O695),\"\",Datenerfassung!O695)","v":""},{"$f":"IF(ISBLANK(Datenerfassung!G695),\"\",Datenerfassung!G695)","v":""},{"$f":"IF(ISBLANK(Datenerfassung!M695),\"\",Datenerfassung!M695)","v":""},{"$f":"IF(ISBLANK(Datenerfassung!H695),\"\",Datenerfassung!H695)","v":""}]
[{"$f":"IF(ISBLANK(Datenerfassung!A696),\"\",Datenerfassung!A696)","v":""},{"$f":"IF(ISBLANK(Datenerfassung!B696),\"\",Datenerfassung!B696)","v":""},{"$f":"IF(ISBLANK(Datenerfassung!C696),\"\",Datenerfassung!C696)","v":""},{"$f":"IF(ISBLANK(Datenerfassung!I696),\"\",Datenerfassung!I696)","v":""},{"$f":"IF(ISBLANK(Datenerfassung!J696),\"\",Datenerfassung!J696)","v":""},"",{"$f":"IF(ISBLANK(Datenerfassung!L696),\"\",Datenerfassung!L696)","v":""},{"$f":"IF(ISBLANK(Datenerfassung!F696),\"\",Datenerfassung!F696)","v":""},{"$f":"IF(ISBLANK(Datenerfassung!D696),IF(COUNTBLANK(A686:H686)+COUNTBLANK(J686:O686)=14,\"\",\"- ohne Titel -\"),Datenerfassung!D696)","v":""},{"$f":"IF(ISBLANK(Datenerfassung!E696),\"\",Datenerfassung!E696)","v":""},"",{"$f":"IF(ISBLANK(Datenerfassung!O696),\"\",Datenerfassung!O696)","v":""},{"$f":"IF(ISBLANK(Datenerfassung!G696),\"\",Datenerfassung!G696)","v":""},{"$f":"IF(ISBLANK(Datenerfassung!M696),\"\",Datenerfassung!M696)","v":""},{"$f":"IF(ISBLANK(Datenerfassung!H696),\"\",Datenerfassung!H696)","v":""}]
[{"$f":"IF(ISBLANK(Datenerfassung!A697),\"\",Datenerfassung!A697)","v":""},{"$f":"IF(ISBLANK(Datenerfassung!B697),\"\",Datenerfassung!B697)","v":""},{"$f":"IF(ISBLANK(Datenerfassung!C697),\"\",Datenerfassung!C697)","v":""},{"$f":"IF(ISBLANK(Datenerfassung!I697),\"\",Datenerfassung!I697)","v":""},{"$f":"IF(ISBLANK(Datenerfassung!J697),\"\",Datenerfassung!J697)","v":""},"",{"$f":"IF(ISBLANK(Datenerfassung!L697),\"\",Datenerfassung!L697)","v":""},{"$f":"IF(ISBLANK(Datenerfassung!F697),\"\",Datenerfassung!F697)","v":""},{"$f":"IF(ISBLANK(Datenerfassung!D697),IF(COUNTBLANK(A687:H687)+COUNTBLANK(J687:O687)=14,\"\",\"- ohne Titel -\"),Datenerfassung!D697)","v":""},{"$f":"IF(ISBLANK(Datenerfassung!E697),\"\",Datenerfassung!E697)","v":""},"",{"$f":"IF(ISBLANK(Datenerfassung!O697),\"\",Datenerfassung!O697)","v":""},{"$f":"IF(ISBLANK(Datenerfassung!G697),\"\",Datenerfassung!G697)","v":""},{"$f":"IF(ISBLANK(Datenerfassung!M697),\"\",Datenerfassung!M697)","v":""},{"$f":"IF(ISBLANK(Datenerfassung!H697),\"\",Datenerfassung!H697)","v":""}]
[{"$f":"IF(ISBLANK(Datenerfassung!A698),\"\",Datenerfassung!A698)","v":""},{"$f":"IF(ISBLANK(Datenerfassung!B698),\"\",Datenerfassung!B698)","v":""},{"$f":"IF(ISBLANK(Datenerfassung!C698),\"\",Datenerfassung!C698)","v":""},{"$f":"IF(ISBLANK(Datenerfassung!I698),\"\",Datenerfassung!I698)","v":""},{"$f":"IF(ISBLANK(Datenerfassung!J698),\"\",Datenerfassung!J698)","v":""},"",{"$f":"IF(ISBLANK(Datenerfassung!L698),\"\",Datenerfassung!L698)","v":""},{"$f":"IF(ISBLANK(Datenerfassung!F698),\"\",Datenerfassung!F698)","v":""},{"$f":"IF(ISBLANK(Datenerfassung!D698),IF(COUNTBLANK(A688:H688)+COUNTBLANK(J688:O688)=14,\"\",\"- ohne Titel -\"),Datenerfassung!D698)","v":""},{"$f":"IF(ISBLANK(Datenerfassung!E698),\"\",Datenerfassung!E698)","v":""},"",{"$f":"IF(ISBLANK(Datenerfassung!O698),\"\",Datenerfassung!O698)","v":""},{"$f":"IF(ISBLANK(Datenerfassung!G698),\"\",Datenerfassung!G698)","v":""},{"$f":"IF(ISBLANK(Datenerfassung!M698),\"\",Datenerfassung!M698)","v":""},{"$f":"IF(ISBLANK(Datenerfassung!H698),\"\",Datenerfassung!H698)","v":""}]
[{"$f":"IF(ISBLANK(Datenerfassung!A699),\"\",Datenerfassung!A699)","v":""},{"$f":"IF(ISBLANK(Datenerfassung!B699),\"\",Datenerfassung!B699)","v":""},{"$f":"IF(ISBLANK(Datenerfassung!C699),\"\",Datenerfassung!C699)","v":""},{"$f":"IF(ISBLANK(Datenerfassung!I699),\"\",Datenerfassung!I699)","v":""},{"$f":"IF(ISBLANK(Datenerfassung!J699),\"\",Datenerfassung!J699)","v":""},"",{"$f":"IF(ISBLANK(Datenerfassung!L699),\"\",Datenerfassung!L699)","v":""},{"$f":"IF(ISBLANK(Datenerfassung!F699),\"\",Datenerfassung!F699)","v":""},{"$f":"IF(ISBLANK(Datenerfassung!D699),IF(COUNTBLANK(A689:H689)+COUNTBLANK(J689:O689)=14,\"\",\"- ohne Titel -\"),Datenerfassung!D699)","v":""},{"$f":"IF(ISBLANK(Datenerfassung!E699),\"\",Datenerfassung!E699)","v":""},"",{"$f":"IF(ISBLANK(Datenerfassung!O699),\"\",Datenerfassung!O699)","v":""},{"$f":"IF(ISBLANK(Datenerfassung!G699),\"\",Datenerfassung!G699)","v":""},{"$f":"IF(ISBLANK(Datenerfassung!M699),\"\",Datenerfassung!M699)","v":""},{"$f":"IF(ISBLANK(Datenerfassung!H699),\"\",Datenerfassung!H699)","v":""}]
[{"$f":"IF(ISBLANK(Datenerfassung!A700),\"\",Datenerfassung!A700)","v":""},{"$f":"IF(ISBLANK(Datenerfassung!B700),\"\",Datenerfassung!B700)","v":""},{"$f":"IF(ISBLANK(Datenerfassung!C700),\"\",Datenerfassung!C700)","v":""},{"$f":"IF(ISBLANK(Datenerfassung!I700),\"\",Datenerfassung!I700)","v":""},{"$f":"IF(ISBLANK(Datenerfassung!J700),\"\",Datenerfassung!J700)","v":""},"",{"$f":"IF(ISBLANK(Datenerfassung!L700),\"\",Datenerfassung!L700)","v":""},{"$f":"IF(ISBLANK(Datenerfassung!F700),\"\",Datenerfassung!F700)","v":""},{"$f":"IF(ISBLANK(Datenerfassung!D700),IF(COUNTBLANK(A690:H690)+COUNTBLANK(J690:O690)=14,\"\",\"- ohne Titel -\"),Datenerfassung!D700)","v":""},{"$f":"IF(ISBLANK(Datenerfassung!E700),\"\",Datenerfassung!E700)","v":""},"",{"$f":"IF(ISBLANK(Datenerfassung!O700),\"\",Datenerfassung!O700)","v":""},{"$f":"IF(ISBLANK(Datenerfassung!G700),\"\",Datenerfassung!G700)","v":""},{"$f":"IF(ISBLANK(Datenerfassung!M700),\"\",Datenerfassung!M700)","v":""},{"$f":"IF(ISBLANK(Datenerfassung!H700),\"\",Datenerfassung!H700)","v":""}]
[{"$f":"IF(ISBLANK(Datenerfassung!A701),\"\",Datenerfassung!A701)","v":""},{"$f":"IF(ISBLANK(Datenerfassung!B701),\"\",Datenerfassung!B701)","v":""},{"$f":"IF(ISBLANK(Datenerfassung!C701),\"\",Datenerfassung!C701)","v":""},{"$f":"IF(ISBLANK(Datenerfassung!I701),\"\",Datenerfassung!I701)","v":""},{"$f":"IF(ISBLANK(Datenerfassung!J701),\"\",Datenerfassung!J701)","v":""},"",{"$f":"IF(ISBLANK(Datenerfassung!L701),\"\",Datenerfassung!L701)","v":""},{"$f":"IF(ISBLANK(Datenerfassung!F701),\"\",Datenerfassung!F701)","v":""},{"$f":"IF(ISBLANK(Datenerfassung!D701),IF(COUNTBLANK(A691:H691)+COUNTBLANK(J691:O691)=14,\"\",\"- ohne Titel -\"),Datenerfassung!D701)","v":""},{"$f":"IF(ISBLANK(Datenerfassung!E701),\"\",Datenerfassung!E701)","v":""},"",{"$f":"IF(ISBLANK(Datenerfassung!O701),\"\",Datenerfassung!O701)","v":""},{"$f":"IF(ISBLANK(Datenerfassung!G701),\"\",Datenerfassung!G701)","v":""},{"$f":"IF(ISBLANK(Datenerfassung!M701),\"\",Datenerfassung!M701)","v":""},{"$f":"IF(ISBLANK(Datenerfassung!H701),\"\",Datenerfassung!H701)","v":""}]
[{"$f":"IF(ISBLANK(Datenerfassung!A702),\"\",Datenerfassung!A702)","v":""},{"$f":"IF(ISBLANK(Datenerfassung!B702),\"\",Datenerfassung!B702)","v":""},{"$f":"IF(ISBLANK(Datenerfassung!C702),\"\",Datenerfassung!C702)","v":""},{"$f":"IF(ISBLANK(Datenerfassung!I702),\"\",Datenerfassung!I702)","v":""},{"$f":"IF(ISBLANK(Datenerfassung!J702),\"\",Datenerfassung!J702)","v":""},"",{"$f":"IF(ISBLANK(Datenerfassung!L702),\"\",Datenerfassung!L702)","v":""},{"$f":"IF(ISBLANK(Datenerfassung!F702),\"\",Datenerfassung!F702)","v":""},{"$f":"IF(ISBLANK(Datenerfassung!D702),IF(COUNTBLANK(A692:H692)+COUNTBLANK(J692:O692)=14,\"\",\"- ohne Titel -\"),Datenerfassung!D702)","v":""},{"$f":"IF(ISBLANK(Datenerfassung!E702),\"\",Datenerfassung!E702)","v":""},"",{"$f":"IF(ISBLANK(Datenerfassung!O702),\"\",Datenerfassung!O702)","v":""},{"$f":"IF(ISBLANK(Datenerfassung!G702),\"\",Datenerfassung!G702)","v":""},{"$f":"IF(ISBLANK(Datenerfassung!M702),\"\",Datenerfassung!M702)","v":""},{"$f":"IF(ISBLANK(Datenerfassung!H702),\"\",Datenerfassung!H702)","v":""}]
[{"$f":"IF(ISBLANK(Datenerfassung!A703),\"\",Datenerfassung!A703)","v":""},{"$f":"IF(ISBLANK(Datenerfassung!B703),\"\",Datenerfassung!B703)","v":""},{"$f":"IF(ISBLANK(Datenerfassung!C703),\"\",Datenerfassung!C703)","v":""},{"$f":"IF(ISBLANK(Datenerfassung!I703),\"\",Datenerfassung!I703)","v":""},{"$f":"IF(ISBLANK(Datenerfassung!J703),\"\",Datenerfassung!J703)","v":""},"",{"$f":"IF(ISBLANK(Datenerfassung!L703),\"\",Datenerfassung!L703)","v":""},{"$f":"IF(ISBLANK(Datenerfassung!F703),\"\",Datenerfassung!F703)","v":""},{"$f":"IF(ISBLANK(Datenerfassung!D703),IF(COUNTBLANK(A693:H693)+COUNTBLANK(J693:O693)=14,\"\",\"- ohne Titel -\"),Datenerfassung!D703)","v":""},{"$f":"IF(ISBLANK(Datenerfassung!E703),\"\",Datenerfassung!E703)","v":""},"",{"$f":"IF(ISBLANK(Datenerfassung!O703),\"\",Datenerfassung!O703)","v":""},{"$f":"IF(ISBLANK(Datenerfassung!G703),\"\",Datenerfassung!G703)","v":""},{"$f":"IF(ISBLANK(Datenerfassung!M703),\"\",Datenerfassung!M703)","v":""},{"$f":"IF(ISBLANK(Datenerfassung!H703),\"\",Datenerfassung!H703)","v":""}]
[{"$f":"IF(ISBLANK(Datenerfassung!A704),\"\",Datenerfassung!A704)","v":""},{"$f":"IF(ISBLANK(Datenerfassung!B704),\"\",Datenerfassung!B704)","v":""},{"$f":"IF(ISBLANK(Datenerfassung!C704),\"\",Datenerfassung!C704)","v":""},{"$f":"IF(ISBLANK(Datenerfassung!I704),\"\",Datenerfassung!I704)","v":""},{"$f":"IF(ISBLANK(Datenerfassung!J704),\"\",Datenerfassung!J704)","v":""},"",{"$f":"IF(ISBLANK(Datenerfassung!L704),\"\",Datenerfassung!L704)","v":""},{"$f":"IF(ISBLANK(Datenerfassung!F704),\"\",Datenerfassung!F704)","v":""},{"$f":"IF(ISBLANK(Datenerfassung!D704),IF(COUNTBLANK(A694:H694)+COUNTBLANK(J694:O694)=14,\"\",\"- ohne Titel -\"),Datenerfassung!D704)","v":""},{"$f":"IF(ISBLANK(Datenerfassung!E704),\"\",Datenerfassung!E704)","v":""},"",{"$f":"IF(ISBLANK(Datenerfassung!O704),\"\",Datenerfassung!O704)","v":""},{"$f":"IF(ISBLANK(Datenerfassung!G704),\"\",Datenerfassung!G704)","v":""},{"$f":"IF(ISBLANK(Datenerfassung!M704),\"\",Datenerfassung!M704)","v":""},{"$f":"IF(ISBLANK(Datenerfassung!H704),\"\",Datenerfassung!H704)","v":""}]
[{"$f":"IF(ISBLANK(Datenerfassung!A705),\"\",Datenerfassung!A705)","v":""},{"$f":"IF(ISBLANK(Datenerfassung!B705),\"\",Datenerfassung!B705)","v":""},{"$f":"IF(ISBLANK(Datenerfassung!C705),\"\",Datenerfassung!C705)","v":""},{"$f":"IF(ISBLANK(Datenerfassung!I705),\"\",Datenerfassung!I705)","v":""},{"$f":"IF(ISBLANK(Datenerfassung!J705),\"\",Datenerfassung!J705)","v":""},"",{"$f":"IF(ISBLANK(Datenerfassung!L705),\"\",Datenerfassung!L705)","v":""},{"$f":"IF(ISBLANK(Datenerfassung!F705),\"\",Datenerfassung!F705)","v":""},{"$f":"IF(ISBLANK(Datenerfassung!D705),IF(COUNTBLANK(A695:H695)+COUNTBLANK(J695:O695)=14,\"\",\"- ohne Titel -\"),Datenerfassung!D705)","v":""},{"$f":"IF(ISBLANK(Datenerfassung!E705),\"\",Datenerfassung!E705)","v":""},"",{"$f":"IF(ISBLANK(Datenerfassung!O705),\"\",Datenerfassung!O705)","v":""},{"$f":"IF(ISBLANK(Datenerfassung!G705),\"\",Datenerfassung!G705)","v":""},{"$f":"IF(ISBLANK(Datenerfassung!M705),\"\",Datenerfassung!M705)","v":""},{"$f":"IF(ISBLANK(Datenerfassung!H705),\"\",Datenerfassung!H705)","v":""}]
[{"$f":"IF(ISBLANK(Datenerfassung!A706),\"\",Datenerfassung!A706)","v":""},{"$f":"IF(ISBLANK(Datenerfassung!B706),\"\",Datenerfassung!B706)","v":""},{"$f":"IF(ISBLANK(Datenerfassung!C706),\"\",Datenerfassung!C706)","v":""},{"$f":"IF(ISBLANK(Datenerfassung!I706),\"\",Datenerfassung!I706)","v":""},{"$f":"IF(ISBLANK(Datenerfassung!J706),\"\",Datenerfassung!J706)","v":""},"",{"$f":"IF(ISBLANK(Datenerfassung!L706),\"\",Datenerfassung!L706)","v":""},{"$f":"IF(ISBLANK(Datenerfassung!F706),\"\",Datenerfassung!F706)","v":""},{"$f":"IF(ISBLANK(Datenerfassung!D706),IF(COUNTBLANK(A696:H696)+COUNTBLANK(J696:O696)=14,\"\",\"- ohne Titel -\"),Datenerfassung!D706)","v":""},{"$f":"IF(ISBLANK(Datenerfassung!E706),\"\",Datenerfassung!E706)","v":""},"",{"$f":"IF(ISBLANK(Datenerfassung!O706),\"\",Datenerfassung!O706)","v":""},{"$f":"IF(ISBLANK(Datenerfassung!G706),\"\",Datenerfassung!G706)","v":""},{"$f":"IF(ISBLANK(Datenerfassung!M706),\"\",Datenerfassung!M706)","v":""},{"$f":"IF(ISBLANK(Datenerfassung!H706),\"\",Datenerfassung!H706)","v":""}]
[{"$f":"IF(ISBLANK(Datenerfassung!A707),\"\",Datenerfassung!A707)","v":""},{"$f":"IF(ISBLANK(Datenerfassung!B707),\"\",Datenerfassung!B707)","v":""},{"$f":"IF(ISBLANK(Datenerfassung!C707),\"\",Datenerfassung!C707)","v":""},{"$f":"IF(ISBLANK(Datenerfassung!I707),\"\",Datenerfassung!I707)","v":""},{"$f":"IF(ISBLANK(Datenerfassung!J707),\"\",Datenerfassung!J707)","v":""},"",{"$f":"IF(ISBLANK(Datenerfassung!L707),\"\",Datenerfassung!L707)","v":""},{"$f":"IF(ISBLANK(Datenerfassung!F707),\"\",Datenerfassung!F707)","v":""},{"$f":"IF(ISBLANK(Datenerfassung!D707),IF(COUNTBLANK(A697:H697)+COUNTBLANK(J697:O697)=14,\"\",\"- ohne Titel -\"),Datenerfassung!D707)","v":""},{"$f":"IF(ISBLANK(Datenerfassung!E707),\"\",Datenerfassung!E707)","v":""},"",{"$f":"IF(ISBLANK(Datenerfassung!O707),\"\",Datenerfassung!O707)","v":""},{"$f":"IF(ISBLANK(Datenerfassung!G707),\"\",Datenerfassung!G707)","v":""},{"$f":"IF(ISBLANK(Datenerfassung!M707),\"\",Datenerfassung!M707)","v":""},{"$f":"IF(ISBLANK(Datenerfassung!H707),\"\",Datenerfassung!H707)","v":""}]
[{"$f":"IF(ISBLANK(Datenerfassung!A708),\"\",Datenerfassung!A708)","v":""},{"$f":"IF(ISBLANK(Datenerfassung!B708),\"\",Datenerfassung!B708)","v":""},{"$f":"IF(ISBLANK(Datenerfassung!C708),\"\",Datenerfassung!C708)","v":""},{"$f":"IF(ISBLANK(Datenerfassung!I708),\"\",Datenerfassung!I708)","v":""},{"$f":"IF(ISBLANK(Datenerfassung!J708),\"\",Datenerfassung!J708)","v":""},"",{"$f":"IF(ISBLANK(Datenerfassung!L708),\"\",Datenerfassung!L708)","v":""},{"$f":"IF(ISBLANK(Datenerfassung!F708),\"\",Datenerfassung!F708)","v":""},{"$f":"IF(ISBLANK(Datenerfassung!D708),IF(COUNTBLANK(A698:H698)+COUNTBLANK(J698:O698)=14,\"\",\"- ohne Titel -\"),Datenerfassung!D708)","v":""},{"$f":"IF(ISBLANK(Datenerfassung!E708),\"\",Datenerfassung!E708)","v":""},"",{"$f":"IF(ISBLANK(Datenerfassung!O708),\"\",Datenerfassung!O708)","v":""},{"$f":"IF(ISBLANK(Datenerfassung!G708),\"\",Datenerfassung!G708)","v":""},{"$f":"IF(ISBLANK(Datenerfassung!M708),\"\",Datenerfassung!M708)","v":""},{"$f":"IF(ISBLANK(Datenerfassung!H708),\"\",Datenerfassung!H708)","v":""}]
[{"$f":"IF(ISBLANK(Datenerfassung!A709),\"\",Datenerfassung!A709)","v":""},{"$f":"IF(ISBLANK(Datenerfassung!B709),\"\",Datenerfassung!B709)","v":""},{"$f":"IF(ISBLANK(Datenerfassung!C709),\"\",Datenerfassung!C709)","v":""},{"$f":"IF(ISBLANK(Datenerfassung!I709),\"\",Datenerfassung!I709)","v":""},{"$f":"IF(ISBLANK(Datenerfassung!J709),\"\",Datenerfassung!J709)","v":""},"",{"$f":"IF(ISBLANK(Datenerfassung!L709),\"\",Datenerfassung!L709)","v":""},{"$f":"IF(ISBLANK(Datenerfassung!F709),\"\",Datenerfassung!F709)","v":""},{"$f":"IF(ISBLANK(Datenerfassung!D709),IF(COUNTBLANK(A699:H699)+COUNTBLANK(J699:O699)=14,\"\",\"- ohne Titel -\"),Datenerfassung!D709)","v":""},{"$f":"IF(ISBLANK(Datenerfassung!E709),\"\",Datenerfassung!E709)","v":""},"",{"$f":"IF(ISBLANK(Datenerfassung!O709),\"\",Datenerfassung!O709)","v":""},{"$f":"IF(ISBLANK(Datenerfassung!G709),\"\",Datenerfassung!G709)","v":""},{"$f":"IF(ISBLANK(Datenerfassung!M709),\"\",Datenerfassung!M709)","v":""},{"$f":"IF(ISBLANK(Datenerfassung!H709),\"\",Datenerfassung!H709)","v":""}]
[{"$f":"IF(ISBLANK(Datenerfassung!A710),\"\",Datenerfassung!A710)","v":""},{"$f":"IF(ISBLANK(Datenerfassung!B710),\"\",Datenerfassung!B710)","v":""},{"$f":"IF(ISBLANK(Datenerfassung!C710),\"\",Datenerfassung!C710)","v":""},{"$f":"IF(ISBLANK(Datenerfassung!I710),\"\",Datenerfassung!I710)","v":""},{"$f":"IF(ISBLANK(Datenerfassung!J710),\"\",Datenerfassung!J710)","v":""},"",{"$f":"IF(ISBLANK(Datenerfassung!L710),\"\",Datenerfassung!L710)","v":""},{"$f":"IF(ISBLANK(Datenerfassung!F710),\"\",Datenerfassung!F710)","v":""},{"$f":"IF(ISBLANK(Datenerfassung!D710),IF(COUNTBLANK(A700:H700)+COUNTBLANK(J700:O700)=14,\"\",\"- ohne Titel -\"),Datenerfassung!D710)","v":""},{"$f":"IF(ISBLANK(Datenerfassung!E710),\"\",Datenerfassung!E710)","v":""},"",{"$f":"IF(ISBLANK(Datenerfassung!O710),\"\",Datenerfassung!O710)","v":""},{"$f":"IF(ISBLANK(Datenerfassung!G710),\"\",Datenerfassung!G710)","v":""},{"$f":"IF(ISBLANK(Datenerfassung!M710),\"\",Datenerfassung!M710)","v":""},{"$f":"IF(ISBLANK(Datenerfassung!H710),\"\",Datenerfassung!H710)","v":""}]
[{"$f":"IF(ISBLANK(Datenerfassung!A711),\"\",Datenerfassung!A711)","v":""},{"$f":"IF(ISBLANK(Datenerfassung!B711),\"\",Datenerfassung!B711)","v":""},{"$f":"IF(ISBLANK(Datenerfassung!C711),\"\",Datenerfassung!C711)","v":""},{"$f":"IF(ISBLANK(Datenerfassung!I711),\"\",Datenerfassung!I711)","v":""},{"$f":"IF(ISBLANK(Datenerfassung!J711),\"\",Datenerfassung!J711)","v":""},"",{"$f":"IF(ISBLANK(Datenerfassung!L711),\"\",Datenerfassung!L711)","v":""},{"$f":"IF(ISBLANK(Datenerfassung!F711),\"\",Datenerfassung!F711)","v":""},{"$f":"IF(ISBLANK(Datenerfassung!D711),IF(COUNTBLANK(A701:H701)+COUNTBLANK(J701:O701)=14,\"\",\"- ohne Titel -\"),Datenerfassung!D711)","v":""},{"$f":"IF(ISBLANK(Datenerfassung!E711),\"\",Datenerfassung!E711)","v":""},"",{"$f":"IF(ISBLANK(Datenerfassung!O711),\"\",Datenerfassung!O711)","v":""},{"$f":"IF(ISBLANK(Datenerfassung!G711),\"\",Datenerfassung!G711)","v":""},{"$f":"IF(ISBLANK(Datenerfassung!M711),\"\",Datenerfassung!M711)","v":""},{"$f":"IF(ISBLANK(Datenerfassung!H711),\"\",Datenerfassung!H711)","v":""}]
[{"$f":"IF(ISBLANK(Datenerfassung!A712),\"\",Datenerfassung!A712)","v":""},{"$f":"IF(ISBLANK(Datenerfassung!B712),\"\",Datenerfassung!B712)","v":""},{"$f":"IF(ISBLANK(Datenerfassung!C712),\"\",Datenerfassung!C712)","v":""},{"$f":"IF(ISBLANK(Datenerfassung!I712),\"\",Datenerfassung!I712)","v":""},{"$f":"IF(ISBLANK(Datenerfassung!J712),\"\",Datenerfassung!J712)","v":""},"",{"$f":"IF(ISBLANK(Datenerfassung!L712),\"\",Datenerfassung!L712)","v":""},{"$f":"IF(ISBLANK(Datenerfassung!F712),\"\",Datenerfassung!F712)","v":""},{"$f":"IF(ISBLANK(Datenerfassung!D712),IF(COUNTBLANK(A702:H702)+COUNTBLANK(J702:O702)=14,\"\",\"- ohne Titel -\"),Datenerfassung!D712)","v":""},{"$f":"IF(ISBLANK(Datenerfassung!E712),\"\",Datenerfassung!E712)","v":""},"",{"$f":"IF(ISBLANK(Datenerfassung!O712),\"\",Datenerfassung!O712)","v":""},{"$f":"IF(ISBLANK(Datenerfassung!G712),\"\",Datenerfassung!G712)","v":""},{"$f":"IF(ISBLANK(Datenerfassung!M712),\"\",Datenerfassung!M712)","v":""},{"$f":"IF(ISBLANK(Datenerfassung!H712),\"\",Datenerfassung!H712)","v":""}]
[{"$f":"IF(ISBLANK(Datenerfassung!A713),\"\",Datenerfassung!A713)","v":""},{"$f":"IF(ISBLANK(Datenerfassung!B713),\"\",Datenerfassung!B713)","v":""},{"$f":"IF(ISBLANK(Datenerfassung!C713),\"\",Datenerfassung!C713)","v":""},{"$f":"IF(ISBLANK(Datenerfassung!I713),\"\",Datenerfassung!I713)","v":""},{"$f":"IF(ISBLANK(Datenerfassung!J713),\"\",Datenerfassung!J713)","v":""},"",{"$f":"IF(ISBLANK(Datenerfassung!L713),\"\",Datenerfassung!L713)","v":""},{"$f":"IF(ISBLANK(Datenerfassung!F713),\"\",Datenerfassung!F713)","v":""},{"$f":"IF(ISBLANK(Datenerfassung!D713),IF(COUNTBLANK(A703:H703)+COUNTBLANK(J703:O703)=14,\"\",\"- ohne Titel -\"),Datenerfassung!D713)","v":""},{"$f":"IF(ISBLANK(Datenerfassung!E713),\"\",Datenerfassung!E713)","v":""},"",{"$f":"IF(ISBLANK(Datenerfassung!O713),\"\",Datenerfassung!O713)","v":""},{"$f":"IF(ISBLANK(Datenerfassung!G713),\"\",Datenerfassung!G713)","v":""},{"$f":"IF(ISBLANK(Datenerfassung!M713),\"\",Datenerfassung!M713)","v":""},{"$f":"IF(ISBLANK(Datenerfassung!H713),\"\",Datenerfassung!H713)","v":""}]
[{"$f":"IF(ISBLANK(Datenerfassung!A714),\"\",Datenerfassung!A714)","v":""},{"$f":"IF(ISBLANK(Datenerfassung!B714),\"\",Datenerfassung!B714)","v":""},{"$f":"IF(ISBLANK(Datenerfassung!C714),\"\",Datenerfassung!C714)","v":""},{"$f":"IF(ISBLANK(Datenerfassung!I714),\"\",Datenerfassung!I714)","v":""},{"$f":"IF(ISBLANK(Datenerfassung!J714),\"\",Datenerfassung!J714)","v":""},"",{"$f":"IF(ISBLANK(Datenerfassung!L714),\"\",Datenerfassung!L714)","v":""},{"$f":"IF(ISBLANK(Datenerfassung!F714),\"\",Datenerfassung!F714)","v":""},{"$f":"IF(ISBLANK(Datenerfassung!D714),IF(COUNTBLANK(A704:H704)+COUNTBLANK(J704:O704)=14,\"\",\"- ohne Titel -\"),Datenerfassung!D714)","v":""},{"$f":"IF(ISBLANK(Datenerfassung!E714),\"\",Datenerfassung!E714)","v":""},"",{"$f":"IF(ISBLANK(Datenerfassung!O714),\"\",Datenerfassung!O714)","v":""},{"$f":"IF(ISBLANK(Datenerfassung!G714),\"\",Datenerfassung!G714)","v":""},{"$f":"IF(ISBLANK(Datenerfassung!M714),\"\",Datenerfassung!M714)","v":""},{"$f":"IF(ISBLANK(Datenerfassung!H714),\"\",Datenerfassung!H714)","v":""}]
[{"$f":"IF(ISBLANK(Datenerfassung!A715),\"\",Datenerfassung!A715)","v":""},{"$f":"IF(ISBLANK(Datenerfassung!B715),\"\",Datenerfassung!B715)","v":""},{"$f":"IF(ISBLANK(Datenerfassung!C715),\"\",Datenerfassung!C715)","v":""},{"$f":"IF(ISBLANK(Datenerfassung!I715),\"\",Datenerfassung!I715)","v":""},{"$f":"IF(ISBLANK(Datenerfassung!J715),\"\",Datenerfassung!J715)","v":""},"",{"$f":"IF(ISBLANK(Datenerfassung!L715),\"\",Datenerfassung!L715)","v":""},{"$f":"IF(ISBLANK(Datenerfassung!F715),\"\",Datenerfassung!F715)","v":""},{"$f":"IF(ISBLANK(Datenerfassung!D715),IF(COUNTBLANK(A705:H705)+COUNTBLANK(J705:O705)=14,\"\",\"- ohne Titel -\"),Datenerfassung!D715)","v":""},{"$f":"IF(ISBLANK(Datenerfassung!E715),\"\",Datenerfassung!E715)","v":""},"",{"$f":"IF(ISBLANK(Datenerfassung!O715),\"\",Datenerfassung!O715)","v":""},{"$f":"IF(ISBLANK(Datenerfassung!G715),\"\",Datenerfassung!G715)","v":""},{"$f":"IF(ISBLANK(Datenerfassung!M715),\"\",Datenerfassung!M715)","v":""},{"$f":"IF(ISBLANK(Datenerfassung!H715),\"\",Datenerfassung!H715)","v":""}]
[{"$f":"IF(ISBLANK(Datenerfassung!A716),\"\",Datenerfassung!A716)","v":""},{"$f":"IF(ISBLANK(Datenerfassung!B716),\"\",Datenerfassung!B716)","v":""},{"$f":"IF(ISBLANK(Datenerfassung!C716),\"\",Datenerfassung!C716)","v":""},{"$f":"IF(ISBLANK(Datenerfassung!I716),\"\",Datenerfassung!I716)","v":""},{"$f":"IF(ISBLANK(Datenerfassung!J716),\"\",Datenerfassung!J716)","v":""},"",{"$f":"IF(ISBLANK(Datenerfassung!L716),\"\",Datenerfassung!L716)","v":""},{"$f":"IF(ISBLANK(Datenerfassung!F716),\"\",Datenerfassung!F716)","v":""},{"$f":"IF(ISBLANK(Datenerfassung!D716),IF(COUNTBLANK(A706:H706)+COUNTBLANK(J706:O706)=14,\"\",\"- ohne Titel -\"),Datenerfassung!D716)","v":""},{"$f":"IF(ISBLANK(Datenerfassung!E716),\"\",Datenerfassung!E716)","v":""},"",{"$f":"IF(ISBLANK(Datenerfassung!O716),\"\",Datenerfassung!O716)","v":""},{"$f":"IF(ISBLANK(Datenerfassung!G716),\"\",Datenerfassung!G716)","v":""},{"$f":"IF(ISBLANK(Datenerfassung!M716),\"\",Datenerfassung!M716)","v":""},{"$f":"IF(ISBLANK(Datenerfassung!H716),\"\",Datenerfassung!H716)","v":""}]
[{"$f":"IF(ISBLANK(Datenerfassung!A717),\"\",Datenerfassung!A717)","v":""},{"$f":"IF(ISBLANK(Datenerfassung!B717),\"\",Datenerfassung!B717)","v":""},{"$f":"IF(ISBLANK(Datenerfassung!C717),\"\",Datenerfassung!C717)","v":""},{"$f":"IF(ISBLANK(Datenerfassung!I717),\"\",Datenerfassung!I717)","v":""},{"$f":"IF(ISBLANK(Datenerfassung!J717),\"\",Datenerfassung!J717)","v":""},{"$f":"IF(D707=\"\",\"\",IF(E707=\"\",D707,D707&\" - \"&E707))","v":""},{"$f":"IF(ISBLANK(Datenerfassung!L717),\"\",Datenerfassung!L717)","v":""},{"$f":"IF(ISBLANK(Datenerfassung!F717),\"\",Datenerfassung!F717)","v":""},{"$f":"IF(ISBLANK(Datenerfassung!D717),IF(COUNTBLANK(A707:H707)+COUNTBLANK(J707:O707)=14,\"\",\"- ohne Titel -\"),Datenerfassung!D717)","v":""},{"$f":"IF(ISBLANK(Datenerfassung!E717),\"\",Datenerfassung!E717)","v":""},{"$f":"IF(OR(E707=\"\",G707=\"\"),\"\",\"01.01.\"&RIGHT(E707,4)+G707+1)","v":""},{"$f":"IF(ISBLANK(Datenerfassung!O717),\"\",Datenerfassung!O717)","v":""},{"$f":"IF(ISBLANK(Datenerfassung!G717),\"\",Datenerfassung!G717)","v":""},{"$f":"IF(ISBLANK(Datenerfassung!M717),\"\",Datenerfassung!M717)","v":""},{"$f":"IF(ISBLANK(Datenerfassung!H717),\"\",Datenerfassung!H717)","v":""}]
[{"$f":"IF(ISBLANK(Datenerfassung!A718),\"\",Datenerfassung!A718)","v":""},{"$f":"IF(ISBLANK(Datenerfassung!B718),\"\",Datenerfassung!B718)","v":""},{"$f":"IF(ISBLANK(Datenerfassung!C718),\"\",Datenerfassung!C718)","v":""},{"$f":"IF(ISBLANK(Datenerfassung!I718),\"\",Datenerfassung!I718)","v":""},{"$f":"IF(ISBLANK(Datenerfassung!J718),\"\",Datenerfassung!J718)","v":""},"",{"$f":"IF(ISBLANK(Datenerfassung!L718),\"\",Datenerfassung!L718)","v":""},{"$f":"IF(ISBLANK(Datenerfassung!F718),\"\",Datenerfassung!F718)","v":""},{"$f":"IF(ISBLANK(Datenerfassung!D718),IF(COUNTBLANK(A708:H708)+COUNTBLANK(J708:O708)=14,\"\",\"- ohne Titel -\"),Datenerfassung!D718)","v":""},{"$f":"IF(ISBLANK(Datenerfassung!E718),\"\",Datenerfassung!E718)","v":""},"",{"$f":"IF(ISBLANK(Datenerfassung!O718),\"\",Datenerfassung!O718)","v":""},{"$f":"IF(ISBLANK(Datenerfassung!G718),\"\",Datenerfassung!G718)","v":""},{"$f":"IF(ISBLANK(Datenerfassung!M718),\"\",Datenerfassung!M718)","v":""},{"$f":"IF(ISBLANK(Datenerfassung!H718),\"\",Datenerfassung!H718)","v":""}]
[{"$f":"IF(ISBLANK(Datenerfassung!A719),\"\",Datenerfassung!A719)","v":""},{"$f":"IF(ISBLANK(Datenerfassung!B719),\"\",Datenerfassung!B719)","v":""},{"$f":"IF(ISBLANK(Datenerfassung!C719),\"\",Datenerfassung!C719)","v":""},{"$f":"IF(ISBLANK(Datenerfassung!I719),\"\",Datenerfassung!I719)","v":""},{"$f":"IF(ISBLANK(Datenerfassung!J719),\"\",Datenerfassung!J719)","v":""},"",{"$f":"IF(ISBLANK(Datenerfassung!L719),\"\",Datenerfassung!L719)","v":""},{"$f":"IF(ISBLANK(Datenerfassung!F719),\"\",Datenerfassung!F719)","v":""},{"$f":"IF(ISBLANK(Datenerfassung!D719),IF(COUNTBLANK(A709:H709)+COUNTBLANK(J709:O709)=14,\"\",\"- ohne Titel -\"),Datenerfassung!D719)","v":""},{"$f":"IF(ISBLANK(Datenerfassung!E719),\"\",Datenerfassung!E719)","v":""},"",{"$f":"IF(ISBLANK(Datenerfassung!O719),\"\",Datenerfassung!O719)","v":""},{"$f":"IF(ISBLANK(Datenerfassung!G719),\"\",Datenerfassung!G719)","v":""},{"$f":"IF(ISBLANK(Datenerfassung!M719),\"\",Datenerfassung!M719)","v":""},{"$f":"IF(ISBLANK(Datenerfassung!H719),\"\",Datenerfassung!H719)","v":""}]
[{"$f":"IF(ISBLANK(Datenerfassung!A720),\"\",Datenerfassung!A720)","v":""},{"$f":"IF(ISBLANK(Datenerfassung!B720),\"\",Datenerfassung!B720)","v":""},{"$f":"IF(ISBLANK(Datenerfassung!C720),\"\",Datenerfassung!C720)","v":""},{"$f":"IF(ISBLANK(Datenerfassung!I720),\"\",Datenerfassung!I720)","v":""},{"$f":"IF(ISBLANK(Datenerfassung!J720),\"\",Datenerfassung!J720)","v":""},"",{"$f":"IF(ISBLANK(Datenerfassung!L720),\"\",Datenerfassung!L720)","v":""},{"$f":"IF(ISBLANK(Datenerfassung!F720),\"\",Datenerfassung!F720)","v":""},{"$f":"IF(ISBLANK(Datenerfassung!D720),IF(COUNTBLANK(A710:H710)+COUNTBLANK(J710:O710)=14,\"\",\"- ohne Titel -\"),Datenerfassung!D720)","v":""},{"$f":"IF(ISBLANK(Datenerfassung!E720),\"\",Datenerfassung!E720)","v":""},"",{"$f":"IF(ISBLANK(Datenerfassung!O720),\"\",Datenerfassung!O720)","v":""},{"$f":"IF(ISBLANK(Datenerfassung!G720),\"\",Datenerfassung!G720)","v":""},{"$f":"IF(ISBLANK(Datenerfassung!M720),\"\",Datenerfassung!M720)","v":""},{"$f":"IF(ISBLANK(Datenerfassung!H720),\"\",Datenerfassung!H720)","v":""}]
[{"$f":"IF(ISBLANK(Datenerfassung!A721),\"\",Datenerfassung!A721)","v":""},{"$f":"IF(ISBLANK(Datenerfassung!B721),\"\",Datenerfassung!B721)","v":""},{"$f":"IF(ISBLANK(Datenerfassung!C721),\"\",Datenerfassung!C721)","v":""},{"$f":"IF(ISBLANK(Datenerfassung!I721),\"\",Datenerfassung!I721)","v":""},{"$f":"IF(ISBLANK(Datenerfassung!J721),\"\",Datenerfassung!J721)","v":""},"",{"$f":"IF(ISBLANK(Datenerfassung!L721),\"\",Datenerfassung!L721)","v":""},{"$f":"IF(ISBLANK(Datenerfassung!F721),\"\",Datenerfassung!F721)","v":""},{"$f":"IF(ISBLANK(Datenerfassung!D721),IF(COUNTBLANK(A711:H711)+COUNTBLANK(J711:O711)=14,\"\",\"- ohne Titel -\"),Datenerfassung!D721)","v":""},{"$f":"IF(ISBLANK(Datenerfassung!E721),\"\",Datenerfassung!E721)","v":""},"",{"$f":"IF(ISBLANK(Datenerfassung!O721),\"\",Datenerfassung!O721)","v":""},{"$f":"IF(ISBLANK(Datenerfassung!G721),\"\",Datenerfassung!G721)","v":""},{"$f":"IF(ISBLANK(Datenerfassung!M721),\"\",Datenerfassung!M721)","v":""},{"$f":"IF(ISBLANK(Datenerfassung!H721),\"\",Datenerfassung!H721)","v":""}]
[{"$f":"IF(ISBLANK(Datenerfassung!A722),\"\",Datenerfassung!A722)","v":""},{"$f":"IF(ISBLANK(Datenerfassung!B722),\"\",Datenerfassung!B722)","v":""},{"$f":"IF(ISBLANK(Datenerfassung!C722),\"\",Datenerfassung!C722)","v":""},{"$f":"IF(ISBLANK(Datenerfassung!I722),\"\",Datenerfassung!I722)","v":""},{"$f":"IF(ISBLANK(Datenerfassung!J722),\"\",Datenerfassung!J722)","v":""},"",{"$f":"IF(ISBLANK(Datenerfassung!L722),\"\",Datenerfassung!L722)","v":""},{"$f":"IF(ISBLANK(Datenerfassung!F722),\"\",Datenerfassung!F722)","v":""},{"$f":"IF(ISBLANK(Datenerfassung!D722),IF(COUNTBLANK(A712:H712)+COUNTBLANK(J712:O712)=14,\"\",\"- ohne Titel -\"),Datenerfassung!D722)","v":""},{"$f":"IF(ISBLANK(Datenerfassung!E722),\"\",Datenerfassung!E722)","v":""},"",{"$f":"IF(ISBLANK(Datenerfassung!O722),\"\",Datenerfassung!O722)","v":""},{"$f":"IF(ISBLANK(Datenerfassung!G722),\"\",Datenerfassung!G722)","v":""},{"$f":"IF(ISBLANK(Datenerfassung!M722),\"\",Datenerfassung!M722)","v":""},{"$f":"IF(ISBLANK(Datenerfassung!H722),\"\",Datenerfassung!H722)","v":""}]
[{"$f":"IF(ISBLANK(Datenerfassung!A723),\"\",Datenerfassung!A723)","v":""},{"$f":"IF(ISBLANK(Datenerfassung!B723),\"\",Datenerfassung!B723)","v":""},{"$f":"IF(ISBLANK(Datenerfassung!C723),\"\",Datenerfassung!C723)","v":""},{"$f":"IF(ISBLANK(Datenerfassung!I723),\"\",Datenerfassung!I723)","v":""},{"$f":"IF(ISBLANK(Datenerfassung!J723),\"\",Datenerfassung!J723)","v":""},"",{"$f":"IF(ISBLANK(Datenerfassung!L723),\"\",Datenerfassung!L723)","v":""},{"$f":"IF(ISBLANK(Datenerfassung!F723),\"\",Datenerfassung!F723)","v":""},{"$f":"IF(ISBLANK(Datenerfassung!D723),IF(COUNTBLANK(A713:H713)+COUNTBLANK(J713:O713)=14,\"\",\"- ohne Titel -\"),Datenerfassung!D723)","v":""},{"$f":"IF(ISBLANK(Datenerfassung!E723),\"\",Datenerfassung!E723)","v":""},"",{"$f":"IF(ISBLANK(Datenerfassung!O723),\"\",Datenerfassung!O723)","v":""},{"$f":"IF(ISBLANK(Datenerfassung!G723),\"\",Datenerfassung!G723)","v":""},{"$f":"IF(ISBLANK(Datenerfassung!M723),\"\",Datenerfassung!M723)","v":""},{"$f":"IF(ISBLANK(Datenerfassung!H723),\"\",Datenerfassung!H723)","v":""}]
[{"$f":"IF(ISBLANK(Datenerfassung!A724),\"\",Datenerfassung!A724)","v":""},{"$f":"IF(ISBLANK(Datenerfassung!B724),\"\",Datenerfassung!B724)","v":""},{"$f":"IF(ISBLANK(Datenerfassung!C724),\"\",Datenerfassung!C724)","v":""},{"$f":"IF(ISBLANK(Datenerfassung!I724),\"\",Datenerfassung!I724)","v":""},{"$f":"IF(ISBLANK(Datenerfassung!J724),\"\",Datenerfassung!J724)","v":""},"",{"$f":"IF(ISBLANK(Datenerfassung!L724),\"\",Datenerfassung!L724)","v":""},{"$f":"IF(ISBLANK(Datenerfassung!F724),\"\",Datenerfassung!F724)","v":""},{"$f":"IF(ISBLANK(Datenerfassung!D724),IF(COUNTBLANK(A714:H714)+COUNTBLANK(J714:O714)=14,\"\",\"- ohne Titel -\"),Datenerfassung!D724)","v":""},{"$f":"IF(ISBLANK(Datenerfassung!E724),\"\",Datenerfassung!E724)","v":""},"",{"$f":"IF(ISBLANK(Datenerfassung!O724),\"\",Datenerfassung!O724)","v":""},{"$f":"IF(ISBLANK(Datenerfassung!G724),\"\",Datenerfassung!G724)","v":""},{"$f":"IF(ISBLANK(Datenerfassung!M724),\"\",Datenerfassung!M724)","v":""},{"$f":"IF(ISBLANK(Datenerfassung!H724),\"\",Datenerfassung!H724)","v":""}]
[{"$f":"IF(ISBLANK(Datenerfassung!A725),\"\",Datenerfassung!A725)","v":""},{"$f":"IF(ISBLANK(Datenerfassung!B725),\"\",Datenerfassung!B725)","v":""},{"$f":"IF(ISBLANK(Datenerfassung!C725),\"\",Datenerfassung!C725)","v":""},{"$f":"IF(ISBLANK(Datenerfassung!I725),\"\",Datenerfassung!I725)","v":""},{"$f":"IF(ISBLANK(Datenerfassung!J725),\"\",Datenerfassung!J725)","v":""},"",{"$f":"IF(ISBLANK(Datenerfassung!L725),\"\",Datenerfassung!L725)","v":""},{"$f":"IF(ISBLANK(Datenerfassung!F725),\"\",Datenerfassung!F725)","v":""},{"$f":"IF(ISBLANK(Datenerfassung!D725),IF(COUNTBLANK(A715:H715)+COUNTBLANK(J715:O715)=14,\"\",\"- ohne Titel -\"),Datenerfassung!D725)","v":""},{"$f":"IF(ISBLANK(Datenerfassung!E725),\"\",Datenerfassung!E725)","v":""},"",{"$f":"IF(ISBLANK(Datenerfassung!O725),\"\",Datenerfassung!O725)","v":""},{"$f":"IF(ISBLANK(Datenerfassung!G725),\"\",Datenerfassung!G725)","v":""},{"$f":"IF(ISBLANK(Datenerfassung!M725),\"\",Datenerfassung!M725)","v":""},{"$f":"IF(ISBLANK(Datenerfassung!H725),\"\",Datenerfassung!H725)","v":""}]
[{"$f":"IF(ISBLANK(Datenerfassung!A726),\"\",Datenerfassung!A726)","v":""},{"$f":"IF(ISBLANK(Datenerfassung!B726),\"\",Datenerfassung!B726)","v":""},{"$f":"IF(ISBLANK(Datenerfassung!C726),\"\",Datenerfassung!C726)","v":""},{"$f":"IF(ISBLANK(Datenerfassung!I726),\"\",Datenerfassung!I726)","v":""},{"$f":"IF(ISBLANK(Datenerfassung!J726),\"\",Datenerfassung!J726)","v":""},"",{"$f":"IF(ISBLANK(Datenerfassung!L726),\"\",Datenerfassung!L726)","v":""},{"$f":"IF(ISBLANK(Datenerfassung!F726),\"\",Datenerfassung!F726)","v":""},{"$f":"IF(ISBLANK(Datenerfassung!D726),IF(COUNTBLANK(A716:H716)+COUNTBLANK(J716:O716)=14,\"\",\"- ohne Titel -\"),Datenerfassung!D726)","v":""},{"$f":"IF(ISBLANK(Datenerfassung!E726),\"\",Datenerfassung!E726)","v":""},"",{"$f":"IF(ISBLANK(Datenerfassung!O726),\"\",Datenerfassung!O726)","v":""},{"$f":"IF(ISBLANK(Datenerfassung!G726),\"\",Datenerfassung!G726)","v":""},{"$f":"IF(ISBLANK(Datenerfassung!M726),\"\",Datenerfassung!M726)","v":""},{"$f":"IF(ISBLANK(Datenerfassung!H726),\"\",Datenerfassung!H726)","v":""}]
[{"$f":"IF(ISBLANK(Datenerfassung!A727),\"\",Datenerfassung!A727)","v":""},{"$f":"IF(ISBLANK(Datenerfassung!B727),\"\",Datenerfassung!B727)","v":""},{"$f":"IF(ISBLANK(Datenerfassung!C727),\"\",Datenerfassung!C727)","v":""},{"$f":"IF(ISBLANK(Datenerfassung!I727),\"\",Datenerfassung!I727)","v":""},{"$f":"IF(ISBLANK(Datenerfassung!J727),\"\",Datenerfassung!J727)","v":""},"",{"$f":"IF(ISBLANK(Datenerfassung!L727),\"\",Datenerfassung!L727)","v":""},{"$f":"IF(ISBLANK(Datenerfassung!F727),\"\",Datenerfassung!F727)","v":""},{"$f":"IF(ISBLANK(Datenerfassung!D727),IF(COUNTBLANK(A717:H717)+COUNTBLANK(J717:O717)=14,\"\",\"- ohne Titel -\"),Datenerfassung!D727)","v":""},{"$f":"IF(ISBLANK(Datenerfassung!E727),\"\",Datenerfassung!E727)","v":""},"",{"$f":"IF(ISBLANK(Datenerfassung!O727),\"\",Datenerfassung!O727)","v":""},{"$f":"IF(ISBLANK(Datenerfassung!G727),\"\",Datenerfassung!G727)","v":""},{"$f":"IF(ISBLANK(Datenerfassung!M727),\"\",Datenerfassung!M727)","v":""},{"$f":"IF(ISBLANK(Datenerfassung!H727),\"\",Datenerfassung!H727)","v":""}]
[{"$f":"IF(ISBLANK(Datenerfassung!A728),\"\",Datenerfassung!A728)","v":""},{"$f":"IF(ISBLANK(Datenerfassung!B728),\"\",Datenerfassung!B728)","v":""},{"$f":"IF(ISBLANK(Datenerfassung!C728),\"\",Datenerfassung!C728)","v":""},{"$f":"IF(ISBLANK(Datenerfassung!I728),\"\",Datenerfassung!I728)","v":""},{"$f":"IF(ISBLANK(Datenerfassung!J728),\"\",Datenerfassung!J728)","v":""},"",{"$f":"IF(ISBLANK(Datenerfassung!L728),\"\",Datenerfassung!L728)","v":""},{"$f":"IF(ISBLANK(Datenerfassung!F728),\"\",Datenerfassung!F728)","v":""},{"$f":"IF(ISBLANK(Datenerfassung!D728),IF(COUNTBLANK(A718:H718)+COUNTBLANK(J718:O718)=14,\"\",\"- ohne Titel -\"),Datenerfassung!D728)","v":""},{"$f":"IF(ISBLANK(Datenerfassung!E728),\"\",Datenerfassung!E728)","v":""},"",{"$f":"IF(ISBLANK(Datenerfassung!O728),\"\",Datenerfassung!O728)","v":""},{"$f":"IF(ISBLANK(Datenerfassung!G728),\"\",Datenerfassung!G728)","v":""},{"$f":"IF(ISBLANK(Datenerfassung!M728),\"\",Datenerfassung!M728)","v":""},{"$f":"IF(ISBLANK(Datenerfassung!H728),\"\",Datenerfassung!H728)","v":""}]
[{"$f":"IF(ISBLANK(Datenerfassung!A729),\"\",Datenerfassung!A729)","v":""},{"$f":"IF(ISBLANK(Datenerfassung!B729),\"\",Datenerfassung!B729)","v":""},{"$f":"IF(ISBLANK(Datenerfassung!C729),\"\",Datenerfassung!C729)","v":""},{"$f":"IF(ISBLANK(Datenerfassung!I729),\"\",Datenerfassung!I729)","v":""},{"$f":"IF(ISBLANK(Datenerfassung!J729),\"\",Datenerfassung!J729)","v":""},"",{"$f":"IF(ISBLANK(Datenerfassung!L729),\"\",Datenerfassung!L729)","v":""},{"$f":"IF(ISBLANK(Datenerfassung!F729),\"\",Datenerfassung!F729)","v":""},{"$f":"IF(ISBLANK(Datenerfassung!D729),IF(COUNTBLANK(A719:H719)+COUNTBLANK(J719:O719)=14,\"\",\"- ohne Titel -\"),Datenerfassung!D729)","v":""},{"$f":"IF(ISBLANK(Datenerfassung!E729),\"\",Datenerfassung!E729)","v":""},"",{"$f":"IF(ISBLANK(Datenerfassung!O729),\"\",Datenerfassung!O729)","v":""},{"$f":"IF(ISBLANK(Datenerfassung!G729),\"\",Datenerfassung!G729)","v":""},{"$f":"IF(ISBLANK(Datenerfassung!M729),\"\",Datenerfassung!M729)","v":""},{"$f":"IF(ISBLANK(Datenerfassung!H729),\"\",Datenerfassung!H729)","v":""}]
[{"$f":"IF(ISBLANK(Datenerfassung!A730),\"\",Datenerfassung!A730)","v":""},{"$f":"IF(ISBLANK(Datenerfassung!B730),\"\",Datenerfassung!B730)","v":""},{"$f":"IF(ISBLANK(Datenerfassung!C730),\"\",Datenerfassung!C730)","v":""},{"$f":"IF(ISBLANK(Datenerfassung!I730),\"\",Datenerfassung!I730)","v":""},{"$f":"IF(ISBLANK(Datenerfassung!J730),\"\",Datenerfassung!J730)","v":""},"",{"$f":"IF(ISBLANK(Datenerfassung!L730),\"\",Datenerfassung!L730)","v":""},{"$f":"IF(ISBLANK(Datenerfassung!F730),\"\",Datenerfassung!F730)","v":""},{"$f":"IF(ISBLANK(Datenerfassung!D730),IF(COUNTBLANK(A720:H720)+COUNTBLANK(J720:O720)=14,\"\",\"- ohne Titel -\"),Datenerfassung!D730)","v":""},{"$f":"IF(ISBLANK(Datenerfassung!E730),\"\",Datenerfassung!E730)","v":""},"",{"$f":"IF(ISBLANK(Datenerfassung!O730),\"\",Datenerfassung!O730)","v":""},{"$f":"IF(ISBLANK(Datenerfassung!G730),\"\",Datenerfassung!G730)","v":""},{"$f":"IF(ISBLANK(Datenerfassung!M730),\"\",Datenerfassung!M730)","v":""},{"$f":"IF(ISBLANK(Datenerfassung!H730),\"\",Datenerfassung!H730)","v":""}]
[{"$f":"IF(ISBLANK(Datenerfassung!A731),\"\",Datenerfassung!A731)","v":""},{"$f":"IF(ISBLANK(Datenerfassung!B731),\"\",Datenerfassung!B731)","v":""},{"$f":"IF(ISBLANK(Datenerfassung!C731),\"\",Datenerfassung!C731)","v":""},{"$f":"IF(ISBLANK(Datenerfassung!I731),\"\",Datenerfassung!I731)","v":""},{"$f":"IF(ISBLANK(Datenerfassung!J731),\"\",Datenerfassung!J731)","v":""},"",{"$f":"IF(ISBLANK(Datenerfassung!L731),\"\",Datenerfassung!L731)","v":""},{"$f":"IF(ISBLANK(Datenerfassung!F731),\"\",Datenerfassung!F731)","v":""},{"$f":"IF(ISBLANK(Datenerfassung!D731),IF(COUNTBLANK(A721:H721)+COUNTBLANK(J721:O721)=14,\"\",\"- ohne Titel -\"),Datenerfassung!D731)","v":""},{"$f":"IF(ISBLANK(Datenerfassung!E731),\"\",Datenerfassung!E731)","v":""},"",{"$f":"IF(ISBLANK(Datenerfassung!O731),\"\",Datenerfassung!O731)","v":""},{"$f":"IF(ISBLANK(Datenerfassung!G731),\"\",Datenerfassung!G731)","v":""},{"$f":"IF(ISBLANK(Datenerfassung!M731),\"\",Datenerfassung!M731)","v":""},{"$f":"IF(ISBLANK(Datenerfassung!H731),\"\",Datenerfassung!H731)","v":""}]
[{"$f":"IF(ISBLANK(Datenerfassung!A732),\"\",Datenerfassung!A732)","v":""},{"$f":"IF(ISBLANK(Datenerfassung!B732),\"\",Datenerfassung!B732)","v":""},{"$f":"IF(ISBLANK(Datenerfassung!C732),\"\",Datenerfassung!C732)","v":""},{"$f":"IF(ISBLANK(Datenerfassung!I732),\"\",Datenerfassung!I732)","v":""},{"$f":"IF(ISBLANK(Datenerfassung!J732),\"\",Datenerfassung!J732)","v":""},"",{"$f":"IF(ISBLANK(Datenerfassung!L732),\"\",Datenerfassung!L732)","v":""},{"$f":"IF(ISBLANK(Datenerfassung!F732),\"\",Datenerfassung!F732)","v":""},{"$f":"IF(ISBLANK(Datenerfassung!D732),IF(COUNTBLANK(A722:H722)+COUNTBLANK(J722:O722)=14,\"\",\"- ohne Titel -\"),Datenerfassung!D732)","v":""},{"$f":"IF(ISBLANK(Datenerfassung!E732),\"\",Datenerfassung!E732)","v":""},"",{"$f":"IF(ISBLANK(Datenerfassung!O732),\"\",Datenerfassung!O732)","v":""},{"$f":"IF(ISBLANK(Datenerfassung!G732),\"\",Datenerfassung!G732)","v":""},{"$f":"IF(ISBLANK(Datenerfassung!M732),\"\",Datenerfassung!M732)","v":""},{"$f":"IF(ISBLANK(Datenerfassung!H732),\"\",Datenerfassung!H732)","v":""}]
[{"$f":"IF(ISBLANK(Datenerfassung!A733),\"\",Datenerfassung!A733)","v":""},{"$f":"IF(ISBLANK(Datenerfassung!B733),\"\",Datenerfassung!B733)","v":""},{"$f":"IF(ISBLANK(Datenerfassung!C733),\"\",Datenerfassung!C733)","v":""},{"$f":"IF(ISBLANK(Datenerfassung!I733),\"\",Datenerfassung!I733)","v":""},{"$f":"IF(ISBLANK(Datenerfassung!J733),\"\",Datenerfassung!J733)","v":""},"",{"$f":"IF(ISBLANK(Datenerfassung!L733),\"\",Datenerfassung!L733)","v":""},{"$f":"IF(ISBLANK(Datenerfassung!F733),\"\",Datenerfassung!F733)","v":""},{"$f":"IF(ISBLANK(Datenerfassung!D733),IF(COUNTBLANK(A723:H723)+COUNTBLANK(J723:O723)=14,\"\",\"- ohne Titel -\"),Datenerfassung!D733)","v":""},{"$f":"IF(ISBLANK(Datenerfassung!E733),\"\",Datenerfassung!E733)","v":""},"",{"$f":"IF(ISBLANK(Datenerfassung!O733),\"\",Datenerfassung!O733)","v":""},{"$f":"IF(ISBLANK(Datenerfassung!G733),\"\",Datenerfassung!G733)","v":""},{"$f":"IF(ISBLANK(Datenerfassung!M733),\"\",Datenerfassung!M733)","v":""},{"$f":"IF(ISBLANK(Datenerfassung!H733),\"\",Datenerfassung!H733)","v":""}]
[{"$f":"IF(ISBLANK(Datenerfassung!A734),\"\",Datenerfassung!A734)","v":""},{"$f":"IF(ISBLANK(Datenerfassung!B734),\"\",Datenerfassung!B734)","v":""},{"$f":"IF(ISBLANK(Datenerfassung!C734),\"\",Datenerfassung!C734)","v":""},{"$f":"IF(ISBLANK(Datenerfassung!I734),\"\",Datenerfassung!I734)","v":""},{"$f":"IF(ISBLANK(Datenerfassung!J734),\"\",Datenerfassung!J734)","v":""},"",{"$f":"IF(ISBLANK(Datenerfassung!L734),\"\",Datenerfassung!L734)","v":""},{"$f":"IF(ISBLANK(Datenerfassung!F734),\"\",Datenerfassung!F734)","v":""},{"$f":"IF(ISBLANK(Datenerfassung!D734),IF(COUNTBLANK(A724:H724)+COUNTBLANK(J724:O724)=14,\"\",\"- ohne Titel -\"),Datenerfassung!D734)","v":""},{"$f":"IF(ISBLANK(Datenerfassung!E734),\"\",Datenerfassung!E734)","v":""},"",{"$f":"IF(ISBLANK(Datenerfassung!O734),\"\",Datenerfassung!O734)","v":""},{"$f":"IF(ISBLANK(Datenerfassung!G734),\"\",Datenerfassung!G734)","v":""},{"$f":"IF(ISBLANK(Datenerfassung!M734),\"\",Datenerfassung!M734)","v":""},{"$f":"IF(ISBLANK(Datenerfassung!H734),\"\",Datenerfassung!H734)","v":""}]
[{"$f":"IF(ISBLANK(Datenerfassung!A735),\"\",Datenerfassung!A735)","v":""},{"$f":"IF(ISBLANK(Datenerfassung!B735),\"\",Datenerfassung!B735)","v":""},{"$f":"IF(ISBLANK(Datenerfassung!C735),\"\",Datenerfassung!C735)","v":""},{"$f":"IF(ISBLANK(Datenerfassung!I735),\"\",Datenerfassung!I735)","v":""},{"$f":"IF(ISBLANK(Datenerfassung!J735),\"\",Datenerfassung!J735)","v":""},"",{"$f":"IF(ISBLANK(Datenerfassung!L735),\"\",Datenerfassung!L735)","v":""},{"$f":"IF(ISBLANK(Datenerfassung!F735),\"\",Datenerfassung!F735)","v":""},{"$f":"IF(ISBLANK(Datenerfassung!D735),IF(COUNTBLANK(A725:H725)+COUNTBLANK(J725:O725)=14,\"\",\"- ohne Titel -\"),Datenerfassung!D735)","v":""},{"$f":"IF(ISBLANK(Datenerfassung!E735),\"\",Datenerfassung!E735)","v":""},"",{"$f":"IF(ISBLANK(Datenerfassung!O735),\"\",Datenerfassung!O735)","v":""},{"$f":"IF(ISBLANK(Datenerfassung!G735),\"\",Datenerfassung!G735)","v":""},{"$f":"IF(ISBLANK(Datenerfassung!M735),\"\",Datenerfassung!M735)","v":""},{"$f":"IF(ISBLANK(Datenerfassung!H735),\"\",Datenerfassung!H735)","v":""}]
[{"$f":"IF(ISBLANK(Datenerfassung!A736),\"\",Datenerfassung!A736)","v":""},{"$f":"IF(ISBLANK(Datenerfassung!B736),\"\",Datenerfassung!B736)","v":""},{"$f":"IF(ISBLANK(Datenerfassung!C736),\"\",Datenerfassung!C736)","v":""},{"$f":"IF(ISBLANK(Datenerfassung!I736),\"\",Datenerfassung!I736)","v":""},{"$f":"IF(ISBLANK(Datenerfassung!J736),\"\",Datenerfassung!J736)","v":""},"",{"$f":"IF(ISBLANK(Datenerfassung!L736),\"\",Datenerfassung!L736)","v":""},{"$f":"IF(ISBLANK(Datenerfassung!F736),\"\",Datenerfassung!F736)","v":""},{"$f":"IF(ISBLANK(Datenerfassung!D736),IF(COUNTBLANK(A726:H726)+COUNTBLANK(J726:O726)=14,\"\",\"- ohne Titel -\"),Datenerfassung!D736)","v":""},{"$f":"IF(ISBLANK(Datenerfassung!E736),\"\",Datenerfassung!E736)","v":""},"",{"$f":"IF(ISBLANK(Datenerfassung!O736),\"\",Datenerfassung!O736)","v":""},{"$f":"IF(ISBLANK(Datenerfassung!G736),\"\",Datenerfassung!G736)","v":""},{"$f":"IF(ISBLANK(Datenerfassung!M736),\"\",Datenerfassung!M736)","v":""},{"$f":"IF(ISBLANK(Datenerfassung!H736),\"\",Datenerfassung!H736)","v":""}]
[{"$f":"IF(ISBLANK(Datenerfassung!A737),\"\",Datenerfassung!A737)","v":""},{"$f":"IF(ISBLANK(Datenerfassung!B737),\"\",Datenerfassung!B737)","v":""},{"$f":"IF(ISBLANK(Datenerfassung!C737),\"\",Datenerfassung!C737)","v":""},{"$f":"IF(ISBLANK(Datenerfassung!I737),\"\",Datenerfassung!I737)","v":""},{"$f":"IF(ISBLANK(Datenerfassung!J737),\"\",Datenerfassung!J737)","v":""},"",{"$f":"IF(ISBLANK(Datenerfassung!L737),\"\",Datenerfassung!L737)","v":""},{"$f":"IF(ISBLANK(Datenerfassung!F737),\"\",Datenerfassung!F737)","v":""},{"$f":"IF(ISBLANK(Datenerfassung!D737),IF(COUNTBLANK(A727:H727)+COUNTBLANK(J727:O727)=14,\"\",\"- ohne Titel -\"),Datenerfassung!D737)","v":""},{"$f":"IF(ISBLANK(Datenerfassung!E737),\"\",Datenerfassung!E737)","v":""},"",{"$f":"IF(ISBLANK(Datenerfassung!O737),\"\",Datenerfassung!O737)","v":""},{"$f":"IF(ISBLANK(Datenerfassung!G737),\"\",Datenerfassung!G737)","v":""},{"$f":"IF(ISBLANK(Datenerfassung!M737),\"\",Datenerfassung!M737)","v":""},{"$f":"IF(ISBLANK(Datenerfassung!H737),\"\",Datenerfassung!H737)","v":""}]
[{"$f":"IF(ISBLANK(Datenerfassung!A738),\"\",Datenerfassung!A738)","v":""},{"$f":"IF(ISBLANK(Datenerfassung!B738),\"\",Datenerfassung!B738)","v":""},{"$f":"IF(ISBLANK(Datenerfassung!C738),\"\",Datenerfassung!C738)","v":""},{"$f":"IF(ISBLANK(Datenerfassung!I738),\"\",Datenerfassung!I738)","v":""},{"$f":"IF(ISBLANK(Datenerfassung!J738),\"\",Datenerfassung!J738)","v":""},"",{"$f":"IF(ISBLANK(Datenerfassung!L738),\"\",Datenerfassung!L738)","v":""},{"$f":"IF(ISBLANK(Datenerfassung!F738),\"\",Datenerfassung!F738)","v":""},{"$f":"IF(ISBLANK(Datenerfassung!D738),IF(COUNTBLANK(A728:H728)+COUNTBLANK(J728:O728)=14,\"\",\"- ohne Titel -\"),Datenerfassung!D738)","v":""},{"$f":"IF(ISBLANK(Datenerfassung!E738),\"\",Datenerfassung!E738)","v":""},"",{"$f":"IF(ISBLANK(Datenerfassung!O738),\"\",Datenerfassung!O738)","v":""},{"$f":"IF(ISBLANK(Datenerfassung!G738),\"\",Datenerfassung!G738)","v":""},{"$f":"IF(ISBLANK(Datenerfassung!M738),\"\",Datenerfassung!M738)","v":""},{"$f":"IF(ISBLANK(Datenerfassung!H738),\"\",Datenerfassung!H738)","v":""}]
[{"$f":"IF(ISBLANK(Datenerfassung!A739),\"\",Datenerfassung!A739)","v":""},{"$f":"IF(ISBLANK(Datenerfassung!B739),\"\",Datenerfassung!B739)","v":""},{"$f":"IF(ISBLANK(Datenerfassung!C739),\"\",Datenerfassung!C739)","v":""},{"$f":"IF(ISBLANK(Datenerfassung!I739),\"\",Datenerfassung!I739)","v":""},{"$f":"IF(ISBLANK(Datenerfassung!J739),\"\",Datenerfassung!J739)","v":""},"",{"$f":"IF(ISBLANK(Datenerfassung!L739),\"\",Datenerfassung!L739)","v":""},{"$f":"IF(ISBLANK(Datenerfassung!F739),\"\",Datenerfassung!F739)","v":""},{"$f":"IF(ISBLANK(Datenerfassung!D739),IF(COUNTBLANK(A729:H729)+COUNTBLANK(J729:O729)=14,\"\",\"- ohne Titel -\"),Datenerfassung!D739)","v":""},{"$f":"IF(ISBLANK(Datenerfassung!E739),\"\",Datenerfassung!E739)","v":""},"",{"$f":"IF(ISBLANK(Datenerfassung!O739),\"\",Datenerfassung!O739)","v":""},{"$f":"IF(ISBLANK(Datenerfassung!G739),\"\",Datenerfassung!G739)","v":""},{"$f":"IF(ISBLANK(Datenerfassung!M739),\"\",Datenerfassung!M739)","v":""},{"$f":"IF(ISBLANK(Datenerfassung!H739),\"\",Datenerfassung!H739)","v":""}]
[{"$f":"IF(ISBLANK(Datenerfassung!A740),\"\",Datenerfassung!A740)","v":""},{"$f":"IF(ISBLANK(Datenerfassung!B740),\"\",Datenerfassung!B740)","v":""},{"$f":"IF(ISBLANK(Datenerfassung!C740),\"\",Datenerfassung!C740)","v":""},{"$f":"IF(ISBLANK(Datenerfassung!I740),\"\",Datenerfassung!I740)","v":""},{"$f":"IF(ISBLANK(Datenerfassung!J740),\"\",Datenerfassung!J740)","v":""},"",{"$f":"IF(ISBLANK(Datenerfassung!L740),\"\",Datenerfassung!L740)","v":""},{"$f":"IF(ISBLANK(Datenerfassung!F740),\"\",Datenerfassung!F740)","v":""},{"$f":"IF(ISBLANK(Datenerfassung!D740),IF(COUNTBLANK(A730:H730)+COUNTBLANK(J730:O730)=14,\"\",\"- ohne Titel -\"),Datenerfassung!D740)","v":""},{"$f":"IF(ISBLANK(Datenerfassung!E740),\"\",Datenerfassung!E740)","v":""},"",{"$f":"IF(ISBLANK(Datenerfassung!O740),\"\",Datenerfassung!O740)","v":""},{"$f":"IF(ISBLANK(Datenerfassung!G740),\"\",Datenerfassung!G740)","v":""},{"$f":"IF(ISBLANK(Datenerfassung!M740),\"\",Datenerfassung!M740)","v":""},{"$f":"IF(ISBLANK(Datenerfassung!H740),\"\",Datenerfassung!H740)","v":""}]
[{"$f":"IF(ISBLANK(Datenerfassung!A741),\"\",Datenerfassung!A741)","v":""},{"$f":"IF(ISBLANK(Datenerfassung!B741),\"\",Datenerfassung!B741)","v":""},{"$f":"IF(ISBLANK(Datenerfassung!C741),\"\",Datenerfassung!C741)","v":""},{"$f":"IF(ISBLANK(Datenerfassung!I741),\"\",Datenerfassung!I741)","v":""},{"$f":"IF(ISBLANK(Datenerfassung!J741),\"\",Datenerfassung!J741)","v":""},"",{"$f":"IF(ISBLANK(Datenerfassung!L741),\"\",Datenerfassung!L741)","v":""},{"$f":"IF(ISBLANK(Datenerfassung!F741),\"\",Datenerfassung!F741)","v":""},{"$f":"IF(ISBLANK(Datenerfassung!D741),IF(COUNTBLANK(A731:H731)+COUNTBLANK(J731:O731)=14,\"\",\"- ohne Titel -\"),Datenerfassung!D741)","v":""},{"$f":"IF(ISBLANK(Datenerfassung!E741),\"\",Datenerfassung!E741)","v":""},"",{"$f":"IF(ISBLANK(Datenerfassung!O741),\"\",Datenerfassung!O741)","v":""},{"$f":"IF(ISBLANK(Datenerfassung!G741),\"\",Datenerfassung!G741)","v":""},{"$f":"IF(ISBLANK(Datenerfassung!M741),\"\",Datenerfassung!M741)","v":""},{"$f":"IF(ISBLANK(Datenerfassung!H741),\"\",Datenerfassung!H741)","v":""}]
[{"$f":"IF(ISBLANK(Datenerfassung!A742),\"\",Datenerfassung!A742)","v":""},{"$f":"IF(ISBLANK(Datenerfassung!B742),\"\",Datenerfassung!B742)","v":""},{"$f":"IF(ISBLANK(Datenerfassung!C742),\"\",Datenerfassung!C742)","v":""},{"$f":"IF(ISBLANK(Datenerfassung!I742),\"\",Datenerfassung!I742)","v":""},{"$f":"IF(ISBLANK(Datenerfassung!J742),\"\",Datenerfassung!J742)","v":""},"",{"$f":"IF(ISBLANK(Datenerfassung!L742),\"\",Datenerfassung!L742)","v":""},{"$f":"IF(ISBLANK(Datenerfassung!F742),\"\",Datenerfassung!F742)","v":""},{"$f":"IF(ISBLANK(Datenerfassung!D742),IF(COUNTBLANK(A732:H732)+COUNTBLANK(J732:O732)=14,\"\",\"- ohne Titel -\"),Datenerfassung!D742)","v":""},{"$f":"IF(ISBLANK(Datenerfassung!E742),\"\",Datenerfassung!E742)","v":""},"",{"$f":"IF(ISBLANK(Datenerfassung!O742),\"\",Datenerfassung!O742)","v":""},{"$f":"IF(ISBLANK(Datenerfassung!G742),\"\",Datenerfassung!G742)","v":""},{"$f":"IF(ISBLANK(Datenerfassung!M742),\"\",Datenerfassung!M742)","v":""},{"$f":"IF(ISBLANK(Datenerfassung!H742),\"\",Datenerfassung!H742)","v":""}]
[{"$f":"IF(ISBLANK(Datenerfassung!A743),\"\",Datenerfassung!A743)","v":""},{"$f":"IF(ISBLANK(Datenerfassung!B743),\"\",Datenerfassung!B743)","v":""},{"$f":"IF(ISBLANK(Datenerfassung!C743),\"\",Datenerfassung!C743)","v":""},{"$f":"IF(ISBLANK(Datenerfassung!I743),\"\",Datenerfassung!I743)","v":""},{"$f":"IF(ISBLANK(Datenerfassung!J743),\"\",Datenerfassung!J743)","v":""},"",{"$f":"IF(ISBLANK(Datenerfassung!L743),\"\",Datenerfassung!L743)","v":""},{"$f":"IF(ISBLANK(Datenerfassung!F743),\"\",Datenerfassung!F743)","v":""},{"$f":"IF(ISBLANK(Datenerfassung!D743),IF(COUNTBLANK(A733:H733)+COUNTBLANK(J733:O733)=14,\"\",\"- ohne Titel -\"),Datenerfassung!D743)","v":""},{"$f":"IF(ISBLANK(Datenerfassung!E743),\"\",Datenerfassung!E743)","v":""},"",{"$f":"IF(ISBLANK(Datenerfassung!O743),\"\",Datenerfassung!O743)","v":""},{"$f":"IF(ISBLANK(Datenerfassung!G743),\"\",Datenerfassung!G743)","v":""},{"$f":"IF(ISBLANK(Datenerfassung!M743),\"\",Datenerfassung!M743)","v":""},{"$f":"IF(ISBLANK(Datenerfassung!H743),\"\",Datenerfassung!H743)","v":""}]
[{"$f":"IF(ISBLANK(Datenerfassung!A744),\"\",Datenerfassung!A744)","v":""},{"$f":"IF(ISBLANK(Datenerfassung!B744),\"\",Datenerfassung!B744)","v":""},{"$f":"IF(ISBLANK(Datenerfassung!C744),\"\",Datenerfassung!C744)","v":""},{"$f":"IF(ISBLANK(Datenerfassung!I744),\"\",Datenerfassung!I744)","v":""},{"$f":"IF(ISBLANK(Datenerfassung!J744),\"\",Datenerfassung!J744)","v":""},"",{"$f":"IF(ISBLANK(Datenerfassung!L744),\"\",Datenerfassung!L744)","v":""},{"$f":"IF(ISBLANK(Datenerfassung!F744),\"\",Datenerfassung!F744)","v":""},{"$f":"IF(ISBLANK(Datenerfassung!D744),IF(COUNTBLANK(A734:H734)+COUNTBLANK(J734:O734)=14,\"\",\"- ohne Titel -\"),Datenerfassung!D744)","v":""},{"$f":"IF(ISBLANK(Datenerfassung!E744),\"\",Datenerfassung!E744)","v":""},"",{"$f":"IF(ISBLANK(Datenerfassung!O744),\"\",Datenerfassung!O744)","v":""},{"$f":"IF(ISBLANK(Datenerfassung!G744),\"\",Datenerfassung!G744)","v":""},{"$f":"IF(ISBLANK(Datenerfassung!M744),\"\",Datenerfassung!M744)","v":""},{"$f":"IF(ISBLANK(Datenerfassung!H744),\"\",Datenerfassung!H744)","v":""}]
[{"$f":"IF(ISBLANK(Datenerfassung!A745),\"\",Datenerfassung!A745)","v":""},{"$f":"IF(ISBLANK(Datenerfassung!B745),\"\",Datenerfassung!B745)","v":""},{"$f":"IF(ISBLANK(Datenerfassung!C745),\"\",Datenerfassung!C745)","v":""},{"$f":"IF(ISBLANK(Datenerfassung!I745),\"\",Datenerfassung!I745)","v":""},{"$f":"IF(ISBLANK(Datenerfassung!J745),\"\",Datenerfassung!J745)","v":""},"",{"$f":"IF(ISBLANK(Datenerfassung!L745),\"\",Datenerfassung!L745)","v":""},{"$f":"IF(ISBLANK(Datenerfassung!F745),\"\",Datenerfassung!F745)","v":""},{"$f":"IF(ISBLANK(Datenerfassung!D745),IF(COUNTBLANK(A735:H735)+COUNTBLANK(J735:O735)=14,\"\",\"- ohne Titel -\"),Datenerfassung!D745)","v":""},{"$f":"IF(ISBLANK(Datenerfassung!E745),\"\",Datenerfassung!E745)","v":""},"",{"$f":"IF(ISBLANK(Datenerfassung!O745),\"\",Datenerfassung!O745)","v":""},{"$f":"IF(ISBLANK(Datenerfassung!G745),\"\",Datenerfassung!G745)","v":""},{"$f":"IF(ISBLANK(Datenerfassung!M745),\"\",Datenerfassung!M745)","v":""},{"$f":"IF(ISBLANK(Datenerfassung!H745),\"\",Datenerfassung!H745)","v":""}]
[{"$f":"IF(ISBLANK(Datenerfassung!A746),\"\",Datenerfassung!A746)","v":""},{"$f":"IF(ISBLANK(Datenerfassung!B746),\"\",Datenerfassung!B746)","v":""},{"$f":"IF(ISBLANK(Datenerfassung!C746),\"\",Datenerfassung!C746)","v":""},{"$f":"IF(ISBLANK(Datenerfassung!I746),\"\",Datenerfassung!I746)","v":""},{"$f":"IF(ISBLANK(Datenerfassung!J746),\"\",Datenerfassung!J746)","v":""},"",{"$f":"IF(ISBLANK(Datenerfassung!L746),\"\",Datenerfassung!L746)","v":""},{"$f":"IF(ISBLANK(Datenerfassung!F746),\"\",Datenerfassung!F746)","v":""},{"$f":"IF(ISBLANK(Datenerfassung!D746),IF(COUNTBLANK(A736:H736)+COUNTBLANK(J736:O736)=14,\"\",\"- ohne Titel -\"),Datenerfassung!D746)","v":""},{"$f":"IF(ISBLANK(Datenerfassung!E746),\"\",Datenerfassung!E746)","v":""},"",{"$f":"IF(ISBLANK(Datenerfassung!O746),\"\",Datenerfassung!O746)","v":""},{"$f":"IF(ISBLANK(Datenerfassung!G746),\"\",Datenerfassung!G746)","v":""},{"$f":"IF(ISBLANK(Datenerfassung!M746),\"\",Datenerfassung!M746)","v":""},{"$f":"IF(ISBLANK(Datenerfassung!H746),\"\",Datenerfassung!H746)","v":""}]
[{"$f":"IF(ISBLANK(Datenerfassung!A747),\"\",Datenerfassung!A747)","v":""},{"$f":"IF(ISBLANK(Datenerfassung!B747),\"\",Datenerfassung!B747)","v":""},{"$f":"IF(ISBLANK(Datenerfassung!C747),\"\",Datenerfassung!C747)","v":""},{"$f":"IF(ISBLANK(Datenerfassung!I747),\"\",Datenerfassung!I747)","v":""},{"$f":"IF(ISBLANK(Datenerfassung!J747),\"\",Datenerfassung!J747)","v":""},"",{"$f":"IF(ISBLANK(Datenerfassung!L747),\"\",Datenerfassung!L747)","v":""},{"$f":"IF(ISBLANK(Datenerfassung!F747),\"\",Datenerfassung!F747)","v":""},{"$f":"IF(ISBLANK(Datenerfassung!D747),IF(COUNTBLANK(A737:H737)+COUNTBLANK(J737:O737)=14,\"\",\"- ohne Titel -\"),Datenerfassung!D747)","v":""},{"$f":"IF(ISBLANK(Datenerfassung!E747),\"\",Datenerfassung!E747)","v":""},"",{"$f":"IF(ISBLANK(Datenerfassung!O747),\"\",Datenerfassung!O747)","v":""},{"$f":"IF(ISBLANK(Datenerfassung!G747),\"\",Datenerfassung!G747)","v":""},{"$f":"IF(ISBLANK(Datenerfassung!M747),\"\",Datenerfassung!M747)","v":""},{"$f":"IF(ISBLANK(Datenerfassung!H747),\"\",Datenerfassung!H747)","v":""}]
[{"$f":"IF(ISBLANK(Datenerfassung!A748),\"\",Datenerfassung!A748)","v":""},{"$f":"IF(ISBLANK(Datenerfassung!B748),\"\",Datenerfassung!B748)","v":""},{"$f":"IF(ISBLANK(Datenerfassung!C748),\"\",Datenerfassung!C748)","v":""},{"$f":"IF(ISBLANK(Datenerfassung!I748),\"\",Datenerfassung!I748)","v":""},{"$f":"IF(ISBLANK(Datenerfassung!J748),\"\",Datenerfassung!J748)","v":""},"",{"$f":"IF(ISBLANK(Datenerfassung!L748),\"\",Datenerfassung!L748)","v":""},{"$f":"IF(ISBLANK(Datenerfassung!F748),\"\",Datenerfassung!F748)","v":""},{"$f":"IF(ISBLANK(Datenerfassung!D748),IF(COUNTBLANK(A738:H738)+COUNTBLANK(J738:O738)=14,\"\",\"- ohne Titel -\"),Datenerfassung!D748)","v":""},{"$f":"IF(ISBLANK(Datenerfassung!E748),\"\",Datenerfassung!E748)","v":""},"",{"$f":"IF(ISBLANK(Datenerfassung!O748),\"\",Datenerfassung!O748)","v":""},{"$f":"IF(ISBLANK(Datenerfassung!G748),\"\",Datenerfassung!G748)","v":""},{"$f":"IF(ISBLANK(Datenerfassung!M748),\"\",Datenerfassung!M748)","v":""},{"$f":"IF(ISBLANK(Datenerfassung!H748),\"\",Datenerfassung!H748)","v":""}]
[{"$f":"IF(ISBLANK(Datenerfassung!A749),\"\",Datenerfassung!A749)","v":""},{"$f":"IF(ISBLANK(Datenerfassung!B749),\"\",Datenerfassung!B749)","v":""},{"$f":"IF(ISBLANK(Datenerfassung!C749),\"\",Datenerfassung!C749)","v":""},{"$f":"IF(ISBLANK(Datenerfassung!I749),\"\",Datenerfassung!I749)","v":""},{"$f":"IF(ISBLANK(Datenerfassung!J749),\"\",Datenerfassung!J749)","v":""},"",{"$f":"IF(ISBLANK(Datenerfassung!L749),\"\",Datenerfassung!L749)","v":""},{"$f":"IF(ISBLANK(Datenerfassung!F749),\"\",Datenerfassung!F749)","v":""},{"$f":"IF(ISBLANK(Datenerfassung!D749),IF(COUNTBLANK(A739:H739)+COUNTBLANK(J739:O739)=14,\"\",\"- ohne Titel -\"),Datenerfassung!D749)","v":""},{"$f":"IF(ISBLANK(Datenerfassung!E749),\"\",Datenerfassung!E749)","v":""},"",{"$f":"IF(ISBLANK(Datenerfassung!O749),\"\",Datenerfassung!O749)","v":""},{"$f":"IF(ISBLANK(Datenerfassung!G749),\"\",Datenerfassung!G749)","v":""},{"$f":"IF(ISBLANK(Datenerfassung!M749),\"\",Datenerfassung!M749)","v":""},{"$f":"IF(ISBLANK(Datenerfassung!H749),\"\",Datenerfassung!H749)","v":""}]
[{"$f":"IF(ISBLANK(Datenerfassung!A750),\"\",Datenerfassung!A750)","v":""},{"$f":"IF(ISBLANK(Datenerfassung!B750),\"\",Datenerfassung!B750)","v":""},{"$f":"IF(ISBLANK(Datenerfassung!C750),\"\",Datenerfassung!C750)","v":""},{"$f":"IF(ISBLANK(Datenerfassung!I750),\"\",Datenerfassung!I750)","v":""},{"$f":"IF(ISBLANK(Datenerfassung!J750),\"\",Datenerfassung!J750)","v":""},"",{"$f":"IF(ISBLANK(Datenerfassung!L750),\"\",Datenerfassung!L750)","v":""},{"$f":"IF(ISBLANK(Datenerfassung!F750),\"\",Datenerfassung!F750)","v":""},{"$f":"IF(ISBLANK(Datenerfassung!D750),IF(COUNTBLANK(A740:H740)+COUNTBLANK(J740:O740)=14,\"\",\"- ohne Titel -\"),Datenerfassung!D750)","v":""},{"$f":"IF(ISBLANK(Datenerfassung!E750),\"\",Datenerfassung!E750)","v":""},"",{"$f":"IF(ISBLANK(Datenerfassung!O750),\"\",Datenerfassung!O750)","v":""},{"$f":"IF(ISBLANK(Datenerfassung!G750),\"\",Datenerfassung!G750)","v":""},{"$f":"IF(ISBLANK(Datenerfassung!M750),\"\",Datenerfassung!M750)","v":""},{"$f":"IF(ISBLANK(Datenerfassung!H750),\"\",Datenerfassung!H750)","v":""}]
[{"$f":"IF(ISBLANK(Datenerfassung!A751),\"\",Datenerfassung!A751)","v":""},{"$f":"IF(ISBLANK(Datenerfassung!B751),\"\",Datenerfassung!B751)","v":""},{"$f":"IF(ISBLANK(Datenerfassung!C751),\"\",Datenerfassung!C751)","v":""},{"$f":"IF(ISBLANK(Datenerfassung!I751),\"\",Datenerfassung!I751)","v":""},{"$f":"IF(ISBLANK(Datenerfassung!J751),\"\",Datenerfassung!J751)","v":""},"",{"$f":"IF(ISBLANK(Datenerfassung!L751),\"\",Datenerfassung!L751)","v":""},{"$f":"IF(ISBLANK(Datenerfassung!F751),\"\",Datenerfassung!F751)","v":""},{"$f":"IF(ISBLANK(Datenerfassung!D751),IF(COUNTBLANK(A741:H741)+COUNTBLANK(J741:O741)=14,\"\",\"- ohne Titel -\"),Datenerfassung!D751)","v":""},{"$f":"IF(ISBLANK(Datenerfassung!E751),\"\",Datenerfassung!E751)","v":""},"",{"$f":"IF(ISBLANK(Datenerfassung!O751),\"\",Datenerfassung!O751)","v":""},{"$f":"IF(ISBLANK(Datenerfassung!G751),\"\",Datenerfassung!G751)","v":""},{"$f":"IF(ISBLANK(Datenerfassung!M751),\"\",Datenerfassung!M751)","v":""},{"$f":"IF(ISBLANK(Datenerfassung!H751),\"\",Datenerfassung!H751)","v":""}]
[{"$f":"IF(ISBLANK(Datenerfassung!A752),\"\",Datenerfassung!A752)","v":""},{"$f":"IF(ISBLANK(Datenerfassung!B752),\"\",Datenerfassung!B752)","v":""},{"$f":"IF(ISBLANK(Datenerfassung!C752),\"\",Datenerfassung!C752)","v":""},{"$f":"IF(ISBLANK(Datenerfassung!I752),\"\",Datenerfassung!I752)","v":""},{"$f":"IF(ISBLANK(Datenerfassung!J752),\"\",Datenerfassung!J752)","v":""},"",{"$f":"IF(ISBLANK(Datenerfassung!L752),\"\",Datenerfassung!L752)","v":""},{"$f":"IF(ISBLANK(Datenerfassung!F752),\"\",Datenerfassung!F752)","v":""},{"$f":"IF(ISBLANK(Datenerfassung!D752),IF(COUNTBLANK(A742:H742)+COUNTBLANK(J742:O742)=14,\"\",\"- ohne Titel -\"),Datenerfassung!D752)","v":""},{"$f":"IF(ISBLANK(Datenerfassung!E752),\"\",Datenerfassung!E752)","v":""},"",{"$f":"IF(ISBLANK(Datenerfassung!O752),\"\",Datenerfassung!O752)","v":""},{"$f":"IF(ISBLANK(Datenerfassung!G752),\"\",Datenerfassung!G752)","v":""},{"$f":"IF(ISBLANK(Datenerfassung!M752),\"\",Datenerfassung!M752)","v":""},{"$f":"IF(ISBLANK(Datenerfassung!H752),\"\",Datenerfassung!H752)","v":""}]
[{"$f":"IF(ISBLANK(Datenerfassung!A753),\"\",Datenerfassung!A753)","v":""},{"$f":"IF(ISBLANK(Datenerfassung!B753),\"\",Datenerfassung!B753)","v":""},{"$f":"IF(ISBLANK(Datenerfassung!C753),\"\",Datenerfassung!C753)","v":""},{"$f":"IF(ISBLANK(Datenerfassung!I753),\"\",Datenerfassung!I753)","v":""},{"$f":"IF(ISBLANK(Datenerfassung!J753),\"\",Datenerfassung!J753)","v":""},"",{"$f":"IF(ISBLANK(Datenerfassung!L753),\"\",Datenerfassung!L753)","v":""},{"$f":"IF(ISBLANK(Datenerfassung!F753),\"\",Datenerfassung!F753)","v":""},{"$f":"IF(ISBLANK(Datenerfassung!D753),IF(COUNTBLANK(A743:H743)+COUNTBLANK(J743:O743)=14,\"\",\"- ohne Titel -\"),Datenerfassung!D753)","v":""},{"$f":"IF(ISBLANK(Datenerfassung!E753),\"\",Datenerfassung!E753)","v":""},"",{"$f":"IF(ISBLANK(Datenerfassung!O753),\"\",Datenerfassung!O753)","v":""},{"$f":"IF(ISBLANK(Datenerfassung!G753),\"\",Datenerfassung!G753)","v":""},{"$f":"IF(ISBLANK(Datenerfassung!M753),\"\",Datenerfassung!M753)","v":""},{"$f":"IF(ISBLANK(Datenerfassung!H753),\"\",Datenerfassung!H753)","v":""}]
[{"$f":"IF(ISBLANK(Datenerfassung!A754),\"\",Datenerfassung!A754)","v":""},{"$f":"IF(ISBLANK(Datenerfassung!B754),\"\",Datenerfassung!B754)","v":""},{"$f":"IF(ISBLANK(Datenerfassung!C754),\"\",Datenerfassung!C754)","v":""},{"$f":"IF(ISBLANK(Datenerfassung!I754),\"\",Datenerfassung!I754)","v":""},{"$f":"IF(ISBLANK(Datenerfassung!J754),\"\",Datenerfassung!J754)","v":""},"",{"$f":"IF(ISBLANK(Datenerfassung!L754),\"\",Datenerfassung!L754)","v":""},{"$f":"IF(ISBLANK(Datenerfassung!F754),\"\",Datenerfassung!F754)","v":""},{"$f":"IF(ISBLANK(Datenerfassung!D754),IF(COUNTBLANK(A744:H744)+COUNTBLANK(J744:O744)=14,\"\",\"- ohne Titel -\"),Datenerfassung!D754)","v":""},{"$f":"IF(ISBLANK(Datenerfassung!E754),\"\",Datenerfassung!E754)","v":""},"",{"$f":"IF(ISBLANK(Datenerfassung!O754),\"\",Datenerfassung!O754)","v":""},{"$f":"IF(ISBLANK(Datenerfassung!G754),\"\",Datenerfassung!G754)","v":""},{"$f":"IF(ISBLANK(Datenerfassung!M754),\"\",Datenerfassung!M754)","v":""},{"$f":"IF(ISBLANK(Datenerfassung!H754),\"\",Datenerfassung!H754)","v":""}]
[{"$f":"IF(ISBLANK(Datenerfassung!A755),\"\",Datenerfassung!A755)","v":""},{"$f":"IF(ISBLANK(Datenerfassung!B755),\"\",Datenerfassung!B755)","v":""},{"$f":"IF(ISBLANK(Datenerfassung!C755),\"\",Datenerfassung!C755)","v":""},{"$f":"IF(ISBLANK(Datenerfassung!I755),\"\",Datenerfassung!I755)","v":""},{"$f":"IF(ISBLANK(Datenerfassung!J755),\"\",Datenerfassung!J755)","v":""},"",{"$f":"IF(ISBLANK(Datenerfassung!L755),\"\",Datenerfassung!L755)","v":""},{"$f":"IF(ISBLANK(Datenerfassung!F755),\"\",Datenerfassung!F755)","v":""},{"$f":"IF(ISBLANK(Datenerfassung!D755),IF(COUNTBLANK(A745:H745)+COUNTBLANK(J745:O745)=14,\"\",\"- ohne Titel -\"),Datenerfassung!D755)","v":""},{"$f":"IF(ISBLANK(Datenerfassung!E755),\"\",Datenerfassung!E755)","v":""},"",{"$f":"IF(ISBLANK(Datenerfassung!O755),\"\",Datenerfassung!O755)","v":""},{"$f":"IF(ISBLANK(Datenerfassung!G755),\"\",Datenerfassung!G755)","v":""},{"$f":"IF(ISBLANK(Datenerfassung!M755),\"\",Datenerfassung!M755)","v":""},{"$f":"IF(ISBLANK(Datenerfassung!H755),\"\",Datenerfassung!H755)","v":""}]
[{"$f":"IF(ISBLANK(Datenerfassung!A756),\"\",Datenerfassung!A756)","v":""},{"$f":"IF(ISBLANK(Datenerfassung!B756),\"\",Datenerfassung!B756)","v":""},{"$f":"IF(ISBLANK(Datenerfassung!C756),\"\",Datenerfassung!C756)","v":""},{"$f":"IF(ISBLANK(Datenerfassung!I756),\"\",Datenerfassung!I756)","v":""},{"$f":"IF(ISBLANK(Datenerfassung!J756),\"\",Datenerfassung!J756)","v":""},"",{"$f":"IF(ISBLANK(Datenerfassung!L756),\"\",Datenerfassung!L756)","v":""},{"$f":"IF(ISBLANK(Datenerfassung!F756),\"\",Datenerfassung!F756)","v":""},{"$f":"IF(ISBLANK(Datenerfassung!D756),IF(COUNTBLANK(A746:H746)+COUNTBLANK(J746:O746)=14,\"\",\"- ohne Titel -\"),Datenerfassung!D756)","v":""},{"$f":"IF(ISBLANK(Datenerfassung!E756),\"\",Datenerfassung!E756)","v":""},"",{"$f":"IF(ISBLANK(Datenerfassung!O756),\"\",Datenerfassung!O756)","v":""},{"$f":"IF(ISBLANK(Datenerfassung!G756),\"\",Datenerfassung!G756)","v":""},{"$f":"IF(ISBLANK(Datenerfassung!M756),\"\",Datenerfassung!M756)","v":""},{"$f":"IF(ISBLANK(Datenerfassung!H756),\"\",Datenerfassung!H756)","v":""}]
[{"$f":"IF(ISBLANK(Datenerfassung!A757),\"\",Datenerfassung!A757)","v":""},{"$f":"IF(ISBLANK(Datenerfassung!B757),\"\",Datenerfassung!B757)","v":""},{"$f":"IF(ISBLANK(Datenerfassung!C757),\"\",Datenerfassung!C757)","v":""},{"$f":"IF(ISBLANK(Datenerfassung!I757),\"\",Datenerfassung!I757)","v":""},{"$f":"IF(ISBLANK(Datenerfassung!J757),\"\",Datenerfassung!J757)","v":""},"",{"$f":"IF(ISBLANK(Datenerfassung!L757),\"\",Datenerfassung!L757)","v":""},{"$f":"IF(ISBLANK(Datenerfassung!F757),\"\",Datenerfassung!F757)","v":""},{"$f":"IF(ISBLANK(Datenerfassung!D757),IF(COUNTBLANK(A747:H747)+COUNTBLANK(J747:O747)=14,\"\",\"- ohne Titel -\"),Datenerfassung!D757)","v":""},{"$f":"IF(ISBLANK(Datenerfassung!E757),\"\",Datenerfassung!E757)","v":""},"",{"$f":"IF(ISBLANK(Datenerfassung!O757),\"\",Datenerfassung!O757)","v":""},{"$f":"IF(ISBLANK(Datenerfassung!G757),\"\",Datenerfassung!G757)","v":""},{"$f":"IF(ISBLANK(Datenerfassung!M757),\"\",Datenerfassung!M757)","v":""},{"$f":"IF(ISBLANK(Datenerfassung!H757),\"\",Datenerfassung!H757)","v":""}]
[{"$f":"IF(ISBLANK(Datenerfassung!A758),\"\",Datenerfassung!A758)","v":""},{"$f":"IF(ISBLANK(Datenerfassung!B758),\"\",Datenerfassung!B758)","v":""},{"$f":"IF(ISBLANK(Datenerfassung!C758),\"\",Datenerfassung!C758)","v":""},{"$f":"IF(ISBLANK(Datenerfassung!I758),\"\",Datenerfassung!I758)","v":""},{"$f":"IF(ISBLANK(Datenerfassung!J758),\"\",Datenerfassung!J758)","v":""},"",{"$f":"IF(ISBLANK(Datenerfassung!L758),\"\",Datenerfassung!L758)","v":""},{"$f":"IF(ISBLANK(Datenerfassung!F758),\"\",Datenerfassung!F758)","v":""},{"$f":"IF(ISBLANK(Datenerfassung!D758),IF(COUNTBLANK(A748:H748)+COUNTBLANK(J748:O748)=14,\"\",\"- ohne Titel -\"),Datenerfassung!D758)","v":""},{"$f":"IF(ISBLANK(Datenerfassung!E758),\"\",Datenerfassung!E758)","v":""},"",{"$f":"IF(ISBLANK(Datenerfassung!O758),\"\",Datenerfassung!O758)","v":""},{"$f":"IF(ISBLANK(Datenerfassung!G758),\"\",Datenerfassung!G758)","v":""},{"$f":"IF(ISBLANK(Datenerfassung!M758),\"\",Datenerfassung!M758)","v":""},{"$f":"IF(ISBLANK(Datenerfassung!H758),\"\",Datenerfassung!H758)","v":""}]
[{"$f":"IF(ISBLANK(Datenerfassung!A759),\"\",Datenerfassung!A759)","v":""},{"$f":"IF(ISBLANK(Datenerfassung!B759),\"\",Datenerfassung!B759)","v":""},{"$f":"IF(ISBLANK(Datenerfassung!C759),\"\",Datenerfassung!C759)","v":""},{"$f":"IF(ISBLANK(Datenerfassung!I759),\"\",Datenerfassung!I759)","v":""},{"$f":"IF(ISBLANK(Datenerfassung!J759),\"\",Datenerfassung!J759)","v":""},"",{"$f":"IF(ISBLANK(Datenerfassung!L759),\"\",Datenerfassung!L759)","v":""},{"$f":"IF(ISBLANK(Datenerfassung!F759),\"\",Datenerfassung!F759)","v":""},{"$f":"IF(ISBLANK(Datenerfassung!D759),IF(COUNTBLANK(A749:H749)+COUNTBLANK(J749:O749)=14,\"\",\"- ohne Titel -\"),Datenerfassung!D759)","v":""},{"$f":"IF(ISBLANK(Datenerfassung!E759),\"\",Datenerfassung!E759)","v":""},"",{"$f":"IF(ISBLANK(Datenerfassung!O759),\"\",Datenerfassung!O759)","v":""},{"$f":"IF(ISBLANK(Datenerfassung!G759),\"\",Datenerfassung!G759)","v":""},{"$f":"IF(ISBLANK(Datenerfassung!M759),\"\",Datenerfassung!M759)","v":""},{"$f":"IF(ISBLANK(Datenerfassung!H759),\"\",Datenerfassung!H759)","v":""}]
[{"$f":"IF(ISBLANK(Datenerfassung!A760),\"\",Datenerfassung!A760)","v":""},{"$f":"IF(ISBLANK(Datenerfassung!B760),\"\",Datenerfassung!B760)","v":""},{"$f":"IF(ISBLANK(Datenerfassung!C760),\"\",Datenerfassung!C760)","v":""},{"$f":"IF(ISBLANK(Datenerfassung!I760),\"\",Datenerfassung!I760)","v":""},{"$f":"IF(ISBLANK(Datenerfassung!J760),\"\",Datenerfassung!J760)","v":""},"",{"$f":"IF(ISBLANK(Datenerfassung!L760),\"\",Datenerfassung!L760)","v":""},{"$f":"IF(ISBLANK(Datenerfassung!F760),\"\",Datenerfassung!F760)","v":""},{"$f":"IF(ISBLANK(Datenerfassung!D760),IF(COUNTBLANK(A750:H750)+COUNTBLANK(J750:O750)=14,\"\",\"- ohne Titel -\"),Datenerfassung!D760)","v":""},{"$f":"IF(ISBLANK(Datenerfassung!E760),\"\",Datenerfassung!E760)","v":""},"",{"$f":"IF(ISBLANK(Datenerfassung!O760),\"\",Datenerfassung!O760)","v":""},{"$f":"IF(ISBLANK(Datenerfassung!G760),\"\",Datenerfassung!G760)","v":""},{"$f":"IF(ISBLANK(Datenerfassung!M760),\"\",Datenerfassung!M760)","v":""},{"$f":"IF(ISBLANK(Datenerfassung!H760),\"\",Datenerfassung!H760)","v":""}]
[{"$f":"IF(ISBLANK(Datenerfassung!A761),\"\",Datenerfassung!A761)","v":""},{"$f":"IF(ISBLANK(Datenerfassung!B761),\"\",Datenerfassung!B761)","v":""},{"$f":"IF(ISBLANK(Datenerfassung!C761),\"\",Datenerfassung!C761)","v":""},{"$f":"IF(ISBLANK(Datenerfassung!I761),\"\",Datenerfassung!I761)","v":""},{"$f":"IF(ISBLANK(Datenerfassung!J761),\"\",Datenerfassung!J761)","v":""},"",{"$f":"IF(ISBLANK(Datenerfassung!L761),\"\",Datenerfassung!L761)","v":""},{"$f":"IF(ISBLANK(Datenerfassung!F761),\"\",Datenerfassung!F761)","v":""},{"$f":"IF(ISBLANK(Datenerfassung!D761),IF(COUNTBLANK(A751:H751)+COUNTBLANK(J751:O751)=14,\"\",\"- ohne Titel -\"),Datenerfassung!D761)","v":""},{"$f":"IF(ISBLANK(Datenerfassung!E761),\"\",Datenerfassung!E761)","v":""},"",{"$f":"IF(ISBLANK(Datenerfassung!O761),\"\",Datenerfassung!O761)","v":""},{"$f":"IF(ISBLANK(Datenerfassung!G761),\"\",Datenerfassung!G761)","v":""},{"$f":"IF(ISBLANK(Datenerfassung!M761),\"\",Datenerfassung!M761)","v":""},{"$f":"IF(ISBLANK(Datenerfassung!H761),\"\",Datenerfassung!H761)","v":""}]
[{"$f":"IF(ISBLANK(Datenerfassung!A762),\"\",Datenerfassung!A762)","v":""},{"$f":"IF(ISBLANK(Datenerfassung!B762),\"\",Datenerfassung!B762)","v":""},{"$f":"IF(ISBLANK(Datenerfassung!C762),\"\",Datenerfassung!C762)","v":""},{"$f":"IF(ISBLANK(Datenerfassung!I762),\"\",Datenerfassung!I762)","v":""},{"$f":"IF(ISBLANK(Datenerfassung!J762),\"\",Datenerfassung!J762)","v":""},"",{"$f":"IF(ISBLANK(Datenerfassung!L762),\"\",Datenerfassung!L762)","v":""},{"$f":"IF(ISBLANK(Datenerfassung!F762),\"\",Datenerfassung!F762)","v":""},{"$f":"IF(ISBLANK(Datenerfassung!D762),IF(COUNTBLANK(A752:H752)+COUNTBLANK(J752:O752)=14,\"\",\"- ohne Titel -\"),Datenerfassung!D762)","v":""},{"$f":"IF(ISBLANK(Datenerfassung!E762),\"\",Datenerfassung!E762)","v":""},"",{"$f":"IF(ISBLANK(Datenerfassung!O762),\"\",Datenerfassung!O762)","v":""},{"$f":"IF(ISBLANK(Datenerfassung!G762),\"\",Datenerfassung!G762)","v":""},{"$f":"IF(ISBLANK(Datenerfassung!M762),\"\",Datenerfassung!M762)","v":""},{"$f":"IF(ISBLANK(Datenerfassung!H762),\"\",Datenerfassung!H762)","v":""}]
[{"$f":"IF(ISBLANK(Datenerfassung!A763),\"\",Datenerfassung!A763)","v":""},{"$f":"IF(ISBLANK(Datenerfassung!B763),\"\",Datenerfassung!B763)","v":""},{"$f":"IF(ISBLANK(Datenerfassung!C763),\"\",Datenerfassung!C763)","v":""},{"$f":"IF(ISBLANK(Datenerfassung!I763),\"\",Datenerfassung!I763)","v":""},{"$f":"IF(ISBLANK(Datenerfassung!J763),\"\",Datenerfassung!J763)","v":""},"",{"$f":"IF(ISBLANK(Datenerfassung!L763),\"\",Datenerfassung!L763)","v":""},{"$f":"IF(ISBLANK(Datenerfassung!F763),\"\",Datenerfassung!F763)","v":""},{"$f":"IF(ISBLANK(Datenerfassung!D763),IF(COUNTBLANK(A753:H753)+COUNTBLANK(J753:O753)=14,\"\",\"- ohne Titel -\"),Datenerfassung!D763)","v":""},{"$f":"IF(ISBLANK(Datenerfassung!E763),\"\",Datenerfassung!E763)","v":""},"",{"$f":"IF(ISBLANK(Datenerfassung!O763),\"\",Datenerfassung!O763)","v":""},{"$f":"IF(ISBLANK(Datenerfassung!G763),\"\",Datenerfassung!G763)","v":""},{"$f":"IF(ISBLANK(Datenerfassung!M763),\"\",Datenerfassung!M763)","v":""},{"$f":"IF(ISBLANK(Datenerfassung!H763),\"\",Datenerfassung!H763)","v":""}]
[{"$f":"IF(ISBLANK(Datenerfassung!A764),\"\",Datenerfassung!A764)","v":""},{"$f":"IF(ISBLANK(Datenerfassung!B764),\"\",Datenerfassung!B764)","v":""},{"$f":"IF(ISBLANK(Datenerfassung!C764),\"\",Datenerfassung!C764)","v":""},{"$f":"IF(ISBLANK(Datenerfassung!I764),\"\",Datenerfassung!I764)","v":""},{"$f":"IF(ISBLANK(Datenerfassung!J764),\"\",Datenerfassung!J764)","v":""},"",{"$f":"IF(ISBLANK(Datenerfassung!L764),\"\",Datenerfassung!L764)","v":""},{"$f":"IF(ISBLANK(Datenerfassung!F764),\"\",Datenerfassung!F764)","v":""},{"$f":"IF(ISBLANK(Datenerfassung!D764),IF(COUNTBLANK(A754:H754)+COUNTBLANK(J754:O754)=14,\"\",\"- ohne Titel -\"),Datenerfassung!D764)","v":""},{"$f":"IF(ISBLANK(Datenerfassung!E764),\"\",Datenerfassung!E764)","v":""},"",{"$f":"IF(ISBLANK(Datenerfassung!O764),\"\",Datenerfassung!O764)","v":""},{"$f":"IF(ISBLANK(Datenerfassung!G764),\"\",Datenerfassung!G764)","v":""},{"$f":"IF(ISBLANK(Datenerfassung!M764),\"\",Datenerfassung!M764)","v":""},{"$f":"IF(ISBLANK(Datenerfassung!H764),\"\",Datenerfassung!H764)","v":""}]
[{"$f":"IF(ISBLANK(Datenerfassung!A765),\"\",Datenerfassung!A765)","v":""},{"$f":"IF(ISBLANK(Datenerfassung!B765),\"\",Datenerfassung!B765)","v":""},{"$f":"IF(ISBLANK(Datenerfassung!C765),\"\",Datenerfassung!C765)","v":""},{"$f":"IF(ISBLANK(Datenerfassung!I765),\"\",Datenerfassung!I765)","v":""},{"$f":"IF(ISBLANK(Datenerfassung!J765),\"\",Datenerfassung!J765)","v":""},"",{"$f":"IF(ISBLANK(Datenerfassung!L765),\"\",Datenerfassung!L765)","v":""},{"$f":"IF(ISBLANK(Datenerfassung!F765),\"\",Datenerfassung!F765)","v":""},{"$f":"IF(ISBLANK(Datenerfassung!D765),IF(COUNTBLANK(A755:H755)+COUNTBLANK(J755:O755)=14,\"\",\"- ohne Titel -\"),Datenerfassung!D765)","v":""},{"$f":"IF(ISBLANK(Datenerfassung!E765),\"\",Datenerfassung!E765)","v":""},"",{"$f":"IF(ISBLANK(Datenerfassung!O765),\"\",Datenerfassung!O765)","v":""},{"$f":"IF(ISBLANK(Datenerfassung!G765),\"\",Datenerfassung!G765)","v":""},{"$f":"IF(ISBLANK(Datenerfassung!M765),\"\",Datenerfassung!M765)","v":""},{"$f":"IF(ISBLANK(Datenerfassung!H765),\"\",Datenerfassung!H765)","v":""}]
[{"$f":"IF(ISBLANK(Datenerfassung!A766),\"\",Datenerfassung!A766)","v":""},{"$f":"IF(ISBLANK(Datenerfassung!B766),\"\",Datenerfassung!B766)","v":""},{"$f":"IF(ISBLANK(Datenerfassung!C766),\"\",Datenerfassung!C766)","v":""},{"$f":"IF(ISBLANK(Datenerfassung!I766),\"\",Datenerfassung!I766)","v":""},{"$f":"IF(ISBLANK(Datenerfassung!J766),\"\",Datenerfassung!J766)","v":""},"",{"$f":"IF(ISBLANK(Datenerfassung!L766),\"\",Datenerfassung!L766)","v":""},{"$f":"IF(ISBLANK(Datenerfassung!F766),\"\",Datenerfassung!F766)","v":""},{"$f":"IF(ISBLANK(Datenerfassung!D766),IF(COUNTBLANK(A756:H756)+COUNTBLANK(J756:O756)=14,\"\",\"- ohne Titel -\"),Datenerfassung!D766)","v":""},{"$f":"IF(ISBLANK(Datenerfassung!E766),\"\",Datenerfassung!E766)","v":""},"",{"$f":"IF(ISBLANK(Datenerfassung!O766),\"\",Datenerfassung!O766)","v":""},{"$f":"IF(ISBLANK(Datenerfassung!G766),\"\",Datenerfassung!G766)","v":""},{"$f":"IF(ISBLANK(Datenerfassung!M766),\"\",Datenerfassung!M766)","v":""},{"$f":"IF(ISBLANK(Datenerfassung!H766),\"\",Datenerfassung!H766)","v":""}]
[{"$f":"IF(ISBLANK(Datenerfassung!A767),\"\",Datenerfassung!A767)","v":""},{"$f":"IF(ISBLANK(Datenerfassung!B767),\"\",Datenerfassung!B767)","v":""},{"$f":"IF(ISBLANK(Datenerfassung!C767),\"\",Datenerfassung!C767)","v":""},{"$f":"IF(ISBLANK(Datenerfassung!I767),\"\",Datenerfassung!I767)","v":""},{"$f":"IF(ISBLANK(Datenerfassung!J767),\"\",Datenerfassung!J767)","v":""},"",{"$f":"IF(ISBLANK(Datenerfassung!L767),\"\",Datenerfassung!L767)","v":""},{"$f":"IF(ISBLANK(Datenerfassung!F767),\"\",Datenerfassung!F767)","v":""},{"$f":"IF(ISBLANK(Datenerfassung!D767),IF(COUNTBLANK(A757:H757)+COUNTBLANK(J757:O757)=14,\"\",\"- ohne Titel -\"),Datenerfassung!D767)","v":""},{"$f":"IF(ISBLANK(Datenerfassung!E767),\"\",Datenerfassung!E767)","v":""},"",{"$f":"IF(ISBLANK(Datenerfassung!O767),\"\",Datenerfassung!O767)","v":""},{"$f":"IF(ISBLANK(Datenerfassung!G767),\"\",Datenerfassung!G767)","v":""},{"$f":"IF(ISBLANK(Datenerfassung!M767),\"\",Datenerfassung!M767)","v":""},{"$f":"IF(ISBLANK(Datenerfassung!H767),\"\",Datenerfassung!H767)","v":""}]
[{"$f":"IF(ISBLANK(Datenerfassung!A768),\"\",Datenerfassung!A768)","v":""},{"$f":"IF(ISBLANK(Datenerfassung!B768),\"\",Datenerfassung!B768)","v":""},{"$f":"IF(ISBLANK(Datenerfassung!C768),\"\",Datenerfassung!C768)","v":""},{"$f":"IF(ISBLANK(Datenerfassung!I768),\"\",Datenerfassung!I768)","v":""},{"$f":"IF(ISBLANK(Datenerfassung!J768),\"\",Datenerfassung!J768)","v":""},"",{"$f":"IF(ISBLANK(Datenerfassung!L768),\"\",Datenerfassung!L768)","v":""},{"$f":"IF(ISBLANK(Datenerfassung!F768),\"\",Datenerfassung!F768)","v":""},{"$f":"IF(ISBLANK(Datenerfassung!D768),IF(COUNTBLANK(A758:H758)+COUNTBLANK(J758:O758)=14,\"\",\"- ohne Titel -\"),Datenerfassung!D768)","v":""},{"$f":"IF(ISBLANK(Datenerfassung!E768),\"\",Datenerfassung!E768)","v":""},"",{"$f":"IF(ISBLANK(Datenerfassung!O768),\"\",Datenerfassung!O768)","v":""},{"$f":"IF(ISBLANK(Datenerfassung!G768),\"\",Datenerfassung!G768)","v":""},{"$f":"IF(ISBLANK(Datenerfassung!M768),\"\",Datenerfassung!M768)","v":""},{"$f":"IF(ISBLANK(Datenerfassung!H768),\"\",Datenerfassung!H768)","v":""}]
[{"$f":"IF(ISBLANK(Datenerfassung!A769),\"\",Datenerfassung!A769)","v":""},{"$f":"IF(ISBLANK(Datenerfassung!B769),\"\",Datenerfassung!B769)","v":""},{"$f":"IF(ISBLANK(Datenerfassung!C769),\"\",Datenerfassung!C769)","v":""},{"$f":"IF(ISBLANK(Datenerfassung!I769),\"\",Datenerfassung!I769)","v":""},{"$f":"IF(ISBLANK(Datenerfassung!J769),\"\",Datenerfassung!J769)","v":""},"",{"$f":"IF(ISBLANK(Datenerfassung!L769),\"\",Datenerfassung!L769)","v":""},{"$f":"IF(ISBLANK(Datenerfassung!F769),\"\",Datenerfassung!F769)","v":""},{"$f":"IF(ISBLANK(Datenerfassung!D769),IF(COUNTBLANK(A759:H759)+COUNTBLANK(J759:O759)=14,\"\",\"- ohne Titel -\"),Datenerfassung!D769)","v":""},{"$f":"IF(ISBLANK(Datenerfassung!E769),\"\",Datenerfassung!E769)","v":""},"",{"$f":"IF(ISBLANK(Datenerfassung!O769),\"\",Datenerfassung!O769)","v":""},{"$f":"IF(ISBLANK(Datenerfassung!G769),\"\",Datenerfassung!G769)","v":""},{"$f":"IF(ISBLANK(Datenerfassung!M769),\"\",Datenerfassung!M769)","v":""},{"$f":"IF(ISBLANK(Datenerfassung!H769),\"\",Datenerfassung!H769)","v":""}]
[{"$f":"IF(ISBLANK(Datenerfassung!A770),\"\",Datenerfassung!A770)","v":""},{"$f":"IF(ISBLANK(Datenerfassung!B770),\"\",Datenerfassung!B770)","v":""},{"$f":"IF(ISBLANK(Datenerfassung!C770),\"\",Datenerfassung!C770)","v":""},{"$f":"IF(ISBLANK(Datenerfassung!I770),\"\",Datenerfassung!I770)","v":""},{"$f":"IF(ISBLANK(Datenerfassung!J770),\"\",Datenerfassung!J770)","v":""},"",{"$f":"IF(ISBLANK(Datenerfassung!L770),\"\",Datenerfassung!L770)","v":""},{"$f":"IF(ISBLANK(Datenerfassung!F770),\"\",Datenerfassung!F770)","v":""},{"$f":"IF(ISBLANK(Datenerfassung!D770),IF(COUNTBLANK(A760:H760)+COUNTBLANK(J760:O760)=14,\"\",\"- ohne Titel -\"),Datenerfassung!D770)","v":""},{"$f":"IF(ISBLANK(Datenerfassung!E770),\"\",Datenerfassung!E770)","v":""},"",{"$f":"IF(ISBLANK(Datenerfassung!O770),\"\",Datenerfassung!O770)","v":""},{"$f":"IF(ISBLANK(Datenerfassung!G770),\"\",Datenerfassung!G770)","v":""},{"$f":"IF(ISBLANK(Datenerfassung!M770),\"\",Datenerfassung!M770)","v":""},{"$f":"IF(ISBLANK(Datenerfassung!H770),\"\",Datenerfassung!H770)","v":""}]
[{"$f":"IF(ISBLANK(Datenerfassung!A771),\"\",Datenerfassung!A771)","v":""},{"$f":"IF(ISBLANK(Datenerfassung!B771),\"\",Datenerfassung!B771)","v":""},{"$f":"IF(ISBLANK(Datenerfassung!C771),\"\",Datenerfassung!C771)","v":""},{"$f":"IF(ISBLANK(Datenerfassung!I771),\"\",Datenerfassung!I771)","v":""},{"$f":"IF(ISBLANK(Datenerfassung!J771),\"\",Datenerfassung!J771)","v":""},"",{"$f":"IF(ISBLANK(Datenerfassung!L771),\"\",Datenerfassung!L771)","v":""},{"$f":"IF(ISBLANK(Datenerfassung!F771),\"\",Datenerfassung!F771)","v":""},{"$f":"IF(ISBLANK(Datenerfassung!D771),IF(COUNTBLANK(A761:H761)+COUNTBLANK(J761:O761)=14,\"\",\"- ohne Titel -\"),Datenerfassung!D771)","v":""},{"$f":"IF(ISBLANK(Datenerfassung!E771),\"\",Datenerfassung!E771)","v":""},"",{"$f":"IF(ISBLANK(Datenerfassung!O771),\"\",Datenerfassung!O771)","v":""},{"$f":"IF(ISBLANK(Datenerfassung!G771),\"\",Datenerfassung!G771)","v":""},{"$f":"IF(ISBLANK(Datenerfassung!M771),\"\",Datenerfassung!M771)","v":""},{"$f":"IF(ISBLANK(Datenerfassung!H771),\"\",Datenerfassung!H771)","v":""}]
[{"$f":"IF(ISBLANK(Datenerfassung!A772),\"\",Datenerfassung!A772)","v":""},{"$f":"IF(ISBLANK(Datenerfassung!B772),\"\",Datenerfassung!B772)","v":""},{"$f":"IF(ISBLANK(Datenerfassung!C772),\"\",Datenerfassung!C772)","v":""},{"$f":"IF(ISBLANK(Datenerfassung!I772),\"\",Datenerfassung!I772)","v":""},{"$f":"IF(ISBLANK(Datenerfassung!J772),\"\",Datenerfassung!J772)","v":""},"",{"$f":"IF(ISBLANK(Datenerfassung!L772),\"\",Datenerfassung!L772)","v":""},{"$f":"IF(ISBLANK(Datenerfassung!F772),\"\",Datenerfassung!F772)","v":""},{"$f":"IF(ISBLANK(Datenerfassung!D772),IF(COUNTBLANK(A762:H762)+COUNTBLANK(J762:O762)=14,\"\",\"- ohne Titel -\"),Datenerfassung!D772)","v":""},{"$f":"IF(ISBLANK(Datenerfassung!E772),\"\",Datenerfassung!E772)","v":""},"",{"$f":"IF(ISBLANK(Datenerfassung!O772),\"\",Datenerfassung!O772)","v":""},{"$f":"IF(ISBLANK(Datenerfassung!G772),\"\",Datenerfassung!G772)","v":""},{"$f":"IF(ISBLANK(Datenerfassung!M772),\"\",Datenerfassung!M772)","v":""},{"$f":"IF(ISBLANK(Datenerfassung!H772),\"\",Datenerfassung!H772)","v":""}]
[{"$f":"IF(ISBLANK(Datenerfassung!A773),\"\",Datenerfassung!A773)","v":""},{"$f":"IF(ISBLANK(Datenerfassung!B773),\"\",Datenerfassung!B773)","v":""},{"$f":"IF(ISBLANK(Datenerfassung!C773),\"\",Datenerfassung!C773)","v":""},{"$f":"IF(ISBLANK(Datenerfassung!I773),\"\",Datenerfassung!I773)","v":""},{"$f":"IF(ISBLANK(Datenerfassung!J773),\"\",Datenerfassung!J773)","v":""},"",{"$f":"IF(ISBLANK(Datenerfassung!L773),\"\",Datenerfassung!L773)","v":""},{"$f":"IF(ISBLANK(Datenerfassung!F773),\"\",Datenerfassung!F773)","v":""},{"$f":"IF(ISBLANK(Datenerfassung!D773),IF(COUNTBLANK(A763:H763)+COUNTBLANK(J763:O763)=14,\"\",\"- ohne Titel -\"),Datenerfassung!D773)","v":""},{"$f":"IF(ISBLANK(Datenerfassung!E773),\"\",Datenerfassung!E773)","v":""},"",{"$f":"IF(ISBLANK(Datenerfassung!O773),\"\",Datenerfassung!O773)","v":""},{"$f":"IF(ISBLANK(Datenerfassung!G773),\"\",Datenerfassung!G773)","v":""},{"$f":"IF(ISBLANK(Datenerfassung!M773),\"\",Datenerfassung!M773)","v":""},{"$f":"IF(ISBLANK(Datenerfassung!H773),\"\",Datenerfassung!H773)","v":""}]
[{"$f":"IF(ISBLANK(Datenerfassung!A774),\"\",Datenerfassung!A774)","v":""},{"$f":"IF(ISBLANK(Datenerfassung!B774),\"\",Datenerfassung!B774)","v":""},{"$f":"IF(ISBLANK(Datenerfassung!C774),\"\",Datenerfassung!C774)","v":""},{"$f":"IF(ISBLANK(Datenerfassung!I774),\"\",Datenerfassung!I774)","v":""},{"$f":"IF(ISBLANK(Datenerfassung!J774),\"\",Datenerfassung!J774)","v":""},"",{"$f":"IF(ISBLANK(Datenerfassung!L774),\"\",Datenerfassung!L774)","v":""},{"$f":"IF(ISBLANK(Datenerfassung!F774),\"\",Datenerfassung!F774)","v":""},{"$f":"IF(ISBLANK(Datenerfassung!D774),IF(COUNTBLANK(A764:H764)+COUNTBLANK(J764:O764)=14,\"\",\"- ohne Titel -\"),Datenerfassung!D774)","v":""},{"$f":"IF(ISBLANK(Datenerfassung!E774),\"\",Datenerfassung!E774)","v":""},"",{"$f":"IF(ISBLANK(Datenerfassung!O774),\"\",Datenerfassung!O774)","v":""},{"$f":"IF(ISBLANK(Datenerfassung!G774),\"\",Datenerfassung!G774)","v":""},{"$f":"IF(ISBLANK(Datenerfassung!M774),\"\",Datenerfassung!M774)","v":""},{"$f":"IF(ISBLANK(Datenerfassung!H774),\"\",Datenerfassung!H774)","v":""}]
[{"$f":"IF(ISBLANK(Datenerfassung!A775),\"\",Datenerfassung!A775)","v":""},{"$f":"IF(ISBLANK(Datenerfassung!B775),\"\",Datenerfassung!B775)","v":""},{"$f":"IF(ISBLANK(Datenerfassung!C775),\"\",Datenerfassung!C775)","v":""},{"$f":"IF(ISBLANK(Datenerfassung!I775),\"\",Datenerfassung!I775)","v":""},{"$f":"IF(ISBLANK(Datenerfassung!J775),\"\",Datenerfassung!J775)","v":""},"",{"$f":"IF(ISBLANK(Datenerfassung!L775),\"\",Datenerfassung!L775)","v":""},{"$f":"IF(ISBLANK(Datenerfassung!F775),\"\",Datenerfassung!F775)","v":""},{"$f":"IF(ISBLANK(Datenerfassung!D775),IF(COUNTBLANK(A765:H765)+COUNTBLANK(J765:O765)=14,\"\",\"- ohne Titel -\"),Datenerfassung!D775)","v":""},{"$f":"IF(ISBLANK(Datenerfassung!E775),\"\",Datenerfassung!E775)","v":""},"",{"$f":"IF(ISBLANK(Datenerfassung!O775),\"\",Datenerfassung!O775)","v":""},{"$f":"IF(ISBLANK(Datenerfassung!G775),\"\",Datenerfassung!G775)","v":""},{"$f":"IF(ISBLANK(Datenerfassung!M775),\"\",Datenerfassung!M775)","v":""},{"$f":"IF(ISBLANK(Datenerfassung!H775),\"\",Datenerfassung!H775)","v":""}]
[{"$f":"IF(ISBLANK(Datenerfassung!A776),\"\",Datenerfassung!A776)","v":""},{"$f":"IF(ISBLANK(Datenerfassung!B776),\"\",Datenerfassung!B776)","v":""},{"$f":"IF(ISBLANK(Datenerfassung!C776),\"\",Datenerfassung!C776)","v":""},{"$f":"IF(ISBLANK(Datenerfassung!I776),\"\",Datenerfassung!I776)","v":""},{"$f":"IF(ISBLANK(Datenerfassung!J776),\"\",Datenerfassung!J776)","v":""},"",{"$f":"IF(ISBLANK(Datenerfassung!L776),\"\",Datenerfassung!L776)","v":""},{"$f":"IF(ISBLANK(Datenerfassung!F776),\"\",Datenerfassung!F776)","v":""},{"$f":"IF(ISBLANK(Datenerfassung!D776),IF(COUNTBLANK(A766:H766)+COUNTBLANK(J766:O766)=14,\"\",\"- ohne Titel -\"),Datenerfassung!D776)","v":""},{"$f":"IF(ISBLANK(Datenerfassung!E776),\"\",Datenerfassung!E776)","v":""},"",{"$f":"IF(ISBLANK(Datenerfassung!O776),\"\",Datenerfassung!O776)","v":""},{"$f":"IF(ISBLANK(Datenerfassung!G776),\"\",Datenerfassung!G776)","v":""},{"$f":"IF(ISBLANK(Datenerfassung!M776),\"\",Datenerfassung!M776)","v":""},{"$f":"IF(ISBLANK(Datenerfassung!H776),\"\",Datenerfassung!H776)","v":""}]
[{"$f":"IF(ISBLANK(Datenerfassung!A777),\"\",Datenerfassung!A777)","v":""},{"$f":"IF(ISBLANK(Datenerfassung!B777),\"\",Datenerfassung!B777)","v":""},{"$f":"IF(ISBLANK(Datenerfassung!C777),\"\",Datenerfassung!C777)","v":""},{"$f":"IF(ISBLANK(Datenerfassung!I777),\"\",Datenerfassung!I777)","v":""},{"$f":"IF(ISBLANK(Datenerfassung!J777),\"\",Datenerfassung!J777)","v":""},"",{"$f":"IF(ISBLANK(Datenerfassung!L777),\"\",Datenerfassung!L777)","v":""},{"$f":"IF(ISBLANK(Datenerfassung!F777),\"\",Datenerfassung!F777)","v":""},{"$f":"IF(ISBLANK(Datenerfassung!D777),IF(COUNTBLANK(A767:H767)+COUNTBLANK(J767:O767)=14,\"\",\"- ohne Titel -\"),Datenerfassung!D777)","v":""},{"$f":"IF(ISBLANK(Datenerfassung!E777),\"\",Datenerfassung!E777)","v":""},"",{"$f":"IF(ISBLANK(Datenerfassung!O777),\"\",Datenerfassung!O777)","v":""},{"$f":"IF(ISBLANK(Datenerfassung!G777),\"\",Datenerfassung!G777)","v":""},{"$f":"IF(ISBLANK(Datenerfassung!M777),\"\",Datenerfassung!M777)","v":""},{"$f":"IF(ISBLANK(Datenerfassung!H777),\"\",Datenerfassung!H777)","v":""}]
[{"$f":"IF(ISBLANK(Datenerfassung!A778),\"\",Datenerfassung!A778)","v":""},{"$f":"IF(ISBLANK(Datenerfassung!B778),\"\",Datenerfassung!B778)","v":""},{"$f":"IF(ISBLANK(Datenerfassung!C778),\"\",Datenerfassung!C778)","v":""},{"$f":"IF(ISBLANK(Datenerfassung!I778),\"\",Datenerfassung!I778)","v":""},{"$f":"IF(ISBLANK(Datenerfassung!J778),\"\",Datenerfassung!J778)","v":""},"",{"$f":"IF(ISBLANK(Datenerfassung!L778),\"\",Datenerfassung!L778)","v":""},{"$f":"IF(ISBLANK(Datenerfassung!F778),\"\",Datenerfassung!F778)","v":""},{"$f":"IF(ISBLANK(Datenerfassung!D778),IF(COUNTBLANK(A768:H768)+COUNTBLANK(J768:O768)=14,\"\",\"- ohne Titel -\"),Datenerfassung!D778)","v":""},{"$f":"IF(ISBLANK(Datenerfassung!E778),\"\",Datenerfassung!E778)","v":""},"",{"$f":"IF(ISBLANK(Datenerfassung!O778),\"\",Datenerfassung!O778)","v":""},{"$f":"IF(ISBLANK(Datenerfassung!G778),\"\",Datenerfassung!G778)","v":""},{"$f":"IF(ISBLANK(Datenerfassung!M778),\"\",Datenerfassung!M778)","v":""},{"$f":"IF(ISBLANK(Datenerfassung!H778),\"\",Datenerfassung!H778)","v":""}]
[{"$f":"IF(ISBLANK(Datenerfassung!A779),\"\",Datenerfassung!A779)","v":""},{"$f":"IF(ISBLANK(Datenerfassung!B779),\"\",Datenerfassung!B779)","v":""},{"$f":"IF(ISBLANK(Datenerfassung!C779),\"\",Datenerfassung!C779)","v":""},{"$f":"IF(ISBLANK(Datenerfassung!I779),\"\",Datenerfassung!I779)","v":""},{"$f":"IF(ISBLANK(Datenerfassung!J779),\"\",Datenerfassung!J779)","v":""},"",{"$f":"IF(ISBLANK(Datenerfassung!L779),\"\",Datenerfassung!L779)","v":""},{"$f":"IF(ISBLANK(Datenerfassung!F779),\"\",Datenerfassung!F779)","v":""},{"$f":"IF(ISBLANK(Datenerfassung!D779),IF(COUNTBLANK(A769:H769)+COUNTBLANK(J769:O769)=14,\"\",\"- ohne Titel -\"),Datenerfassung!D779)","v":""},{"$f":"IF(ISBLANK(Datenerfassung!E779),\"\",Datenerfassung!E779)","v":""},"",{"$f":"IF(ISBLANK(Datenerfassung!O779),\"\",Datenerfassung!O779)","v":""},{"$f":"IF(ISBLANK(Datenerfassung!G779),\"\",Datenerfassung!G779)","v":""},{"$f":"IF(ISBLANK(Datenerfassung!M779),\"\",Datenerfassung!M779)","v":""},{"$f":"IF(ISBLANK(Datenerfassung!H779),\"\",Datenerfassung!H779)","v":""}]
[{"$f":"IF(ISBLANK(Datenerfassung!A780),\"\",Datenerfassung!A780)","v":""},{"$f":"IF(ISBLANK(Datenerfassung!B780),\"\",Datenerfassung!B780)","v":""},{"$f":"IF(ISBLANK(Datenerfassung!C780),\"\",Datenerfassung!C780)","v":""},{"$f":"IF(ISBLANK(Datenerfassung!I780),\"\",Datenerfassung!I780)","v":""},{"$f":"IF(ISBLANK(Datenerfassung!J780),\"\",Datenerfassung!J780)","v":""},"",{"$f":"IF(ISBLANK(Datenerfassung!L780),\"\",Datenerfassung!L780)","v":""},{"$f":"IF(ISBLANK(Datenerfassung!F780),\"\",Datenerfassung!F780)","v":""},{"$f":"IF(ISBLANK(Datenerfassung!D780),IF(COUNTBLANK(A770:H770)+COUNTBLANK(J770:O770)=14,\"\",\"- ohne Titel -\"),Datenerfassung!D780)","v":""},{"$f":"IF(ISBLANK(Datenerfassung!E780),\"\",Datenerfassung!E780)","v":""},"",{"$f":"IF(ISBLANK(Datenerfassung!O780),\"\",Datenerfassung!O780)","v":""},{"$f":"IF(ISBLANK(Datenerfassung!G780),\"\",Datenerfassung!G780)","v":""},{"$f":"IF(ISBLANK(Datenerfassung!M780),\"\",Datenerfassung!M780)","v":""},{"$f":"IF(ISBLANK(Datenerfassung!H780),\"\",Datenerfassung!H780)","v":""}]
[{"$f":"IF(ISBLANK(Datenerfassung!A781),\"\",Datenerfassung!A781)","v":""},{"$f":"IF(ISBLANK(Datenerfassung!B781),\"\",Datenerfassung!B781)","v":""},{"$f":"IF(ISBLANK(Datenerfassung!C781),\"\",Datenerfassung!C781)","v":""},{"$f":"IF(ISBLANK(Datenerfassung!I781),\"\",Datenerfassung!I781)","v":""},{"$f":"IF(ISBLANK(Datenerfassung!J781),\"\",Datenerfassung!J781)","v":""},{"$f":"IF(D771=\"\",\"\",IF(E771=\"\",D771,D771&\" - \"&E771))","v":""},{"$f":"IF(ISBLANK(Datenerfassung!L781),\"\",Datenerfassung!L781)","v":""},{"$f":"IF(ISBLANK(Datenerfassung!F781),\"\",Datenerfassung!F781)","v":""},{"$f":"IF(ISBLANK(Datenerfassung!D781),IF(COUNTBLANK(A771:H771)+COUNTBLANK(J771:O771)=14,\"\",\"- ohne Titel -\"),Datenerfassung!D781)","v":""},{"$f":"IF(ISBLANK(Datenerfassung!E781),\"\",Datenerfassung!E781)","v":""},{"$f":"IF(OR(E771=\"\",G771=\"\"),\"\",\"01.01.\"&RIGHT(E771,4)+G771+1)","v":""},{"$f":"IF(ISBLANK(Datenerfassung!O781),\"\",Datenerfassung!O781)","v":""},{"$f":"IF(ISBLANK(Datenerfassung!G781),\"\",Datenerfassung!G781)","v":""},{"$f":"IF(ISBLANK(Datenerfassung!M781),\"\",Datenerfassung!M781)","v":""},{"$f":"IF(ISBLANK(Datenerfassung!H781),\"\",Datenerfassung!H781)","v":""}]
[{"$f":"IF(ISBLANK(Datenerfassung!A782),\"\",Datenerfassung!A782)","v":""},{"$f":"IF(ISBLANK(Datenerfassung!B782),\"\",Datenerfassung!B782)","v":""},{"$f":"IF(ISBLANK(Datenerfassung!C782),\"\",Datenerfassung!C782)","v":""},{"$f":"IF(ISBLANK(Datenerfassung!I782),\"\",Datenerfassung!I782)","v":""},{"$f":"IF(ISBLANK(Datenerfassung!J782),\"\",Datenerfassung!J782)","v":""},"",{"$f":"IF(ISBLANK(Datenerfassung!L782),\"\",Datenerfassung!L782)","v":""},{"$f":"IF(ISBLANK(Datenerfassung!F782),\"\",Datenerfassung!F782)","v":""},{"$f":"IF(ISBLANK(Datenerfassung!D782),IF(COUNTBLANK(A772:H772)+COUNTBLANK(J772:O772)=14,\"\",\"- ohne Titel -\"),Datenerfassung!D782)","v":""},{"$f":"IF(ISBLANK(Datenerfassung!E782),\"\",Datenerfassung!E782)","v":""},"",{"$f":"IF(ISBLANK(Datenerfassung!O782),\"\",Datenerfassung!O782)","v":""},{"$f":"IF(ISBLANK(Datenerfassung!G782),\"\",Datenerfassung!G782)","v":""},{"$f":"IF(ISBLANK(Datenerfassung!M782),\"\",Datenerfassung!M782)","v":""},{"$f":"IF(ISBLANK(Datenerfassung!H782),\"\",Datenerfassung!H782)","v":""}]
[{"$f":"IF(ISBLANK(Datenerfassung!A783),\"\",Datenerfassung!A783)","v":""},{"$f":"IF(ISBLANK(Datenerfassung!B783),\"\",Datenerfassung!B783)","v":""},{"$f":"IF(ISBLANK(Datenerfassung!C783),\"\",Datenerfassung!C783)","v":""},{"$f":"IF(ISBLANK(Datenerfassung!I783),\"\",Datenerfassung!I783)","v":""},{"$f":"IF(ISBLANK(Datenerfassung!J783),\"\",Datenerfassung!J783)","v":""},"",{"$f":"IF(ISBLANK(Datenerfassung!L783),\"\",Datenerfassung!L783)","v":""},{"$f":"IF(ISBLANK(Datenerfassung!F783),\"\",Datenerfassung!F783)","v":""},{"$f":"IF(ISBLANK(Datenerfassung!D783),IF(COUNTBLANK(A773:H773)+COUNTBLANK(J773:O773)=14,\"\",\"- ohne Titel -\"),Datenerfassung!D783)","v":""},{"$f":"IF(ISBLANK(Datenerfassung!E783),\"\",Datenerfassung!E783)","v":""},"",{"$f":"IF(ISBLANK(Datenerfassung!O783),\"\",Datenerfassung!O783)","v":""},{"$f":"IF(ISBLANK(Datenerfassung!G783),\"\",Datenerfassung!G783)","v":""},{"$f":"IF(ISBLANK(Datenerfassung!M783),\"\",Datenerfassung!M783)","v":""},{"$f":"IF(ISBLANK(Datenerfassung!H783),\"\",Datenerfassung!H783)","v":""}]
[{"$f":"IF(ISBLANK(Datenerfassung!A784),\"\",Datenerfassung!A784)","v":""},{"$f":"IF(ISBLANK(Datenerfassung!B784),\"\",Datenerfassung!B784)","v":""},{"$f":"IF(ISBLANK(Datenerfassung!C784),\"\",Datenerfassung!C784)","v":""},{"$f":"IF(ISBLANK(Datenerfassung!I784),\"\",Datenerfassung!I784)","v":""},{"$f":"IF(ISBLANK(Datenerfassung!J784),\"\",Datenerfassung!J784)","v":""},"",{"$f":"IF(ISBLANK(Datenerfassung!L784),\"\",Datenerfassung!L784)","v":""},{"$f":"IF(ISBLANK(Datenerfassung!F784),\"\",Datenerfassung!F784)","v":""},{"$f":"IF(ISBLANK(Datenerfassung!D784),IF(COUNTBLANK(A774:H774)+COUNTBLANK(J774:O774)=14,\"\",\"- ohne Titel -\"),Datenerfassung!D784)","v":""},{"$f":"IF(ISBLANK(Datenerfassung!E784),\"\",Datenerfassung!E784)","v":""},"",{"$f":"IF(ISBLANK(Datenerfassung!O784),\"\",Datenerfassung!O784)","v":""},{"$f":"IF(ISBLANK(Datenerfassung!G784),\"\",Datenerfassung!G784)","v":""},{"$f":"IF(ISBLANK(Datenerfassung!M784),\"\",Datenerfassung!M784)","v":""},{"$f":"IF(ISBLANK(Datenerfassung!H784),\"\",Datenerfassung!H784)","v":""}]
[{"$f":"IF(ISBLANK(Datenerfassung!A785),\"\",Datenerfassung!A785)","v":""},{"$f":"IF(ISBLANK(Datenerfassung!B785),\"\",Datenerfassung!B785)","v":""},{"$f":"IF(ISBLANK(Datenerfassung!C785),\"\",Datenerfassung!C785)","v":""},{"$f":"IF(ISBLANK(Datenerfassung!I785),\"\",Datenerfassung!I785)","v":""},{"$f":"IF(ISBLANK(Datenerfassung!J785),\"\",Datenerfassung!J785)","v":""},"",{"$f":"IF(ISBLANK(Datenerfassung!L785),\"\",Datenerfassung!L785)","v":""},{"$f":"IF(ISBLANK(Datenerfassung!F785),\"\",Datenerfassung!F785)","v":""},{"$f":"IF(ISBLANK(Datenerfassung!D785),IF(COUNTBLANK(A775:H775)+COUNTBLANK(J775:O775)=14,\"\",\"- ohne Titel -\"),Datenerfassung!D785)","v":""},{"$f":"IF(ISBLANK(Datenerfassung!E785),\"\",Datenerfassung!E785)","v":""},"",{"$f":"IF(ISBLANK(Datenerfassung!O785),\"\",Datenerfassung!O785)","v":""},{"$f":"IF(ISBLANK(Datenerfassung!G785),\"\",Datenerfassung!G785)","v":""},{"$f":"IF(ISBLANK(Datenerfassung!M785),\"\",Datenerfassung!M785)","v":""},{"$f":"IF(ISBLANK(Datenerfassung!H785),\"\",Datenerfassung!H785)","v":""}]
[{"$f":"IF(ISBLANK(Datenerfassung!A786),\"\",Datenerfassung!A786)","v":""},{"$f":"IF(ISBLANK(Datenerfassung!B786),\"\",Datenerfassung!B786)","v":""},{"$f":"IF(ISBLANK(Datenerfassung!C786),\"\",Datenerfassung!C786)","v":""},{"$f":"IF(ISBLANK(Datenerfassung!I786),\"\",Datenerfassung!I786)","v":""},{"$f":"IF(ISBLANK(Datenerfassung!J786),\"\",Datenerfassung!J786)","v":""},"",{"$f":"IF(ISBLANK(Datenerfassung!L786),\"\",Datenerfassung!L786)","v":""},{"$f":"IF(ISBLANK(Datenerfassung!F786),\"\",Datenerfassung!F786)","v":""},{"$f":"IF(ISBLANK(Datenerfassung!D786),IF(COUNTBLANK(A776:H776)+COUNTBLANK(J776:O776)=14,\"\",\"- ohne Titel -\"),Datenerfassung!D786)","v":""},{"$f":"IF(ISBLANK(Datenerfassung!E786),\"\",Datenerfassung!E786)","v":""},"",{"$f":"IF(ISBLANK(Datenerfassung!O786),\"\",Datenerfassung!O786)","v":""},{"$f":"IF(ISBLANK(Datenerfassung!G786),\"\",Datenerfassung!G786)","v":""},{"$f":"IF(ISBLANK(Datenerfassung!M786),\"\",Datenerfassung!M786)","v":""},{"$f":"IF(ISBLANK(Datenerfassung!H786),\"\",Datenerfassung!H786)","v":""}]
[{"$f":"IF(ISBLANK(Datenerfassung!A787),\"\",Datenerfassung!A787)","v":""},{"$f":"IF(ISBLANK(Datenerfassung!B787),\"\",Datenerfassung!B787)","v":""},{"$f":"IF(ISBLANK(Datenerfassung!C787),\"\",Datenerfassung!C787)","v":""},{"$f":"IF(ISBLANK(Datenerfassung!I787),\"\",Datenerfassung!I787)","v":""},{"$f":"IF(ISBLANK(Datenerfassung!J787),\"\",Datenerfassung!J787)","v":""},"",{"$f":"IF(ISBLANK(Datenerfassung!L787),\"\",Datenerfassung!L787)","v":""},{"$f":"IF(ISBLANK(Datenerfassung!F787),\"\",Datenerfassung!F787)","v":""},{"$f":"IF(ISBLANK(Datenerfassung!D787),IF(COUNTBLANK(A777:H777)+COUNTBLANK(J777:O777)=14,\"\",\"- ohne Titel -\"),Datenerfassung!D787)","v":""},{"$f":"IF(ISBLANK(Datenerfassung!E787),\"\",Datenerfassung!E787)","v":""},"",{"$f":"IF(ISBLANK(Datenerfassung!O787),\"\",Datenerfassung!O787)","v":""},{"$f":"IF(ISBLANK(Datenerfassung!G787),\"\",Datenerfassung!G787)","v":""},{"$f":"IF(ISBLANK(Datenerfassung!M787),\"\",Datenerfassung!M787)","v":""},{"$f":"IF(ISBLANK(Datenerfassung!H787),\"\",Datenerfassung!H787)","v":""}]
[{"$f":"IF(ISBLANK(Datenerfassung!A788),\"\",Datenerfassung!A788)","v":""},{"$f":"IF(ISBLANK(Datenerfassung!B788),\"\",Datenerfassung!B788)","v":""},{"$f":"IF(ISBLANK(Datenerfassung!C788),\"\",Datenerfassung!C788)","v":""},{"$f":"IF(ISBLANK(Datenerfassung!I788),\"\",Datenerfassung!I788)","v":""},{"$f":"IF(ISBLANK(Datenerfassung!J788),\"\",Datenerfassung!J788)","v":""},"",{"$f":"IF(ISBLANK(Datenerfassung!L788),\"\",Datenerfassung!L788)","v":""},{"$f":"IF(ISBLANK(Datenerfassung!F788),\"\",Datenerfassung!F788)","v":""},{"$f":"IF(ISBLANK(Datenerfassung!D788),IF(COUNTBLANK(A778:H778)+COUNTBLANK(J778:O778)=14,\"\",\"- ohne Titel -\"),Datenerfassung!D788)","v":""},{"$f":"IF(ISBLANK(Datenerfassung!E788),\"\",Datenerfassung!E788)","v":""},"",{"$f":"IF(ISBLANK(Datenerfassung!O788),\"\",Datenerfassung!O788)","v":""},{"$f":"IF(ISBLANK(Datenerfassung!G788),\"\",Datenerfassung!G788)","v":""},{"$f":"IF(ISBLANK(Datenerfassung!M788),\"\",Datenerfassung!M788)","v":""},{"$f":"IF(ISBLANK(Datenerfassung!H788),\"\",Datenerfassung!H788)","v":""}]
[{"$f":"IF(ISBLANK(Datenerfassung!A789),\"\",Datenerfassung!A789)","v":""},{"$f":"IF(ISBLANK(Datenerfassung!B789),\"\",Datenerfassung!B789)","v":""},{"$f":"IF(ISBLANK(Datenerfassung!C789),\"\",Datenerfassung!C789)","v":""},{"$f":"IF(ISBLANK(Datenerfassung!I789),\"\",Datenerfassung!I789)","v":""},{"$f":"IF(ISBLANK(Datenerfassung!J789),\"\",Datenerfassung!J789)","v":""},"",{"$f":"IF(ISBLANK(Datenerfassung!L789),\"\",Datenerfassung!L789)","v":""},{"$f":"IF(ISBLANK(Datenerfassung!F789),\"\",Datenerfassung!F789)","v":""},{"$f":"IF(ISBLANK(Datenerfassung!D789),IF(COUNTBLANK(A779:H779)+COUNTBLANK(J779:O779)=14,\"\",\"- ohne Titel -\"),Datenerfassung!D789)","v":""},{"$f":"IF(ISBLANK(Datenerfassung!E789),\"\",Datenerfassung!E789)","v":""},"",{"$f":"IF(ISBLANK(Datenerfassung!O789),\"\",Datenerfassung!O789)","v":""},{"$f":"IF(ISBLANK(Datenerfassung!G789),\"\",Datenerfassung!G789)","v":""},{"$f":"IF(ISBLANK(Datenerfassung!M789),\"\",Datenerfassung!M789)","v":""},{"$f":"IF(ISBLANK(Datenerfassung!H789),\"\",Datenerfassung!H789)","v":""}]
[{"$f":"IF(ISBLANK(Datenerfassung!A790),\"\",Datenerfassung!A790)","v":""},{"$f":"IF(ISBLANK(Datenerfassung!B790),\"\",Datenerfassung!B790)","v":""},{"$f":"IF(ISBLANK(Datenerfassung!C790),\"\",Datenerfassung!C790)","v":""},{"$f":"IF(ISBLANK(Datenerfassung!I790),\"\",Datenerfassung!I790)","v":""},{"$f":"IF(ISBLANK(Datenerfassung!J790),\"\",Datenerfassung!J790)","v":""},"",{"$f":"IF(ISBLANK(Datenerfassung!L790),\"\",Datenerfassung!L790)","v":""},{"$f":"IF(ISBLANK(Datenerfassung!F790),\"\",Datenerfassung!F790)","v":""},{"$f":"IF(ISBLANK(Datenerfassung!D790),IF(COUNTBLANK(A780:H780)+COUNTBLANK(J780:O780)=14,\"\",\"- ohne Titel -\"),Datenerfassung!D790)","v":""},{"$f":"IF(ISBLANK(Datenerfassung!E790),\"\",Datenerfassung!E790)","v":""},"",{"$f":"IF(ISBLANK(Datenerfassung!O790),\"\",Datenerfassung!O790)","v":""},{"$f":"IF(ISBLANK(Datenerfassung!G790),\"\",Datenerfassung!G790)","v":""},{"$f":"IF(ISBLANK(Datenerfassung!M790),\"\",Datenerfassung!M790)","v":""},{"$f":"IF(ISBLANK(Datenerfassung!H790),\"\",Datenerfassung!H790)","v":""}]
[{"$f":"IF(ISBLANK(Datenerfassung!A791),\"\",Datenerfassung!A791)","v":""},{"$f":"IF(ISBLANK(Datenerfassung!B791),\"\",Datenerfassung!B791)","v":""},{"$f":"IF(ISBLANK(Datenerfassung!C791),\"\",Datenerfassung!C791)","v":""},{"$f":"IF(ISBLANK(Datenerfassung!I791),\"\",Datenerfassung!I791)","v":""},{"$f":"IF(ISBLANK(Datenerfassung!J791),\"\",Datenerfassung!J791)","v":""},"",{"$f":"IF(ISBLANK(Datenerfassung!L791),\"\",Datenerfassung!L791)","v":""},{"$f":"IF(ISBLANK(Datenerfassung!F791),\"\",Datenerfassung!F791)","v":""},{"$f":"IF(ISBLANK(Datenerfassung!D791),IF(COUNTBLANK(A781:H781)+COUNTBLANK(J781:O781)=14,\"\",\"- ohne Titel -\"),Datenerfassung!D791)","v":""},{"$f":"IF(ISBLANK(Datenerfassung!E791),\"\",Datenerfassung!E791)","v":""},"",{"$f":"IF(ISBLANK(Datenerfassung!O791),\"\",Datenerfassung!O791)","v":""},{"$f":"IF(ISBLANK(Datenerfassung!G791),\"\",Datenerfassung!G791)","v":""},{"$f":"IF(ISBLANK(Datenerfassung!M791),\"\",Datenerfassung!M791)","v":""},{"$f":"IF(ISBLANK(Datenerfassung!H791),\"\",Datenerfassung!H791)","v":""}]
[{"$f":"IF(ISBLANK(Datenerfassung!A792),\"\",Datenerfassung!A792)","v":""},{"$f":"IF(ISBLANK(Datenerfassung!B792),\"\",Datenerfassung!B792)","v":""},{"$f":"IF(ISBLANK(Datenerfassung!C792),\"\",Datenerfassung!C792)","v":""},{"$f":"IF(ISBLANK(Datenerfassung!I792),\"\",Datenerfassung!I792)","v":""},{"$f":"IF(ISBLANK(Datenerfassung!J792),\"\",Datenerfassung!J792)","v":""},"",{"$f":"IF(ISBLANK(Datenerfassung!L792),\"\",Datenerfassung!L792)","v":""},{"$f":"IF(ISBLANK(Datenerfassung!F792),\"\",Datenerfassung!F792)","v":""},{"$f":"IF(ISBLANK(Datenerfassung!D792),IF(COUNTBLANK(A782:H782)+COUNTBLANK(J782:O782)=14,\"\",\"- ohne Titel -\"),Datenerfassung!D792)","v":""},{"$f":"IF(ISBLANK(Datenerfassung!E792),\"\",Datenerfassung!E792)","v":""},"",{"$f":"IF(ISBLANK(Datenerfassung!O792),\"\",Datenerfassung!O792)","v":""},{"$f":"IF(ISBLANK(Datenerfassung!G792),\"\",Datenerfassung!G792)","v":""},{"$f":"IF(ISBLANK(Datenerfassung!M792),\"\",Datenerfassung!M792)","v":""},{"$f":"IF(ISBLANK(Datenerfassung!H792),\"\",Datenerfassung!H792)","v":""}]
[{"$f":"IF(ISBLANK(Datenerfassung!A793),\"\",Datenerfassung!A793)","v":""},{"$f":"IF(ISBLANK(Datenerfassung!B793),\"\",Datenerfassung!B793)","v":""},{"$f":"IF(ISBLANK(Datenerfassung!C793),\"\",Datenerfassung!C793)","v":""},{"$f":"IF(ISBLANK(Datenerfassung!I793),\"\",Datenerfassung!I793)","v":""},{"$f":"IF(ISBLANK(Datenerfassung!J793),\"\",Datenerfassung!J793)","v":""},"",{"$f":"IF(ISBLANK(Datenerfassung!L793),\"\",Datenerfassung!L793)","v":""},{"$f":"IF(ISBLANK(Datenerfassung!F793),\"\",Datenerfassung!F793)","v":""},{"$f":"IF(ISBLANK(Datenerfassung!D793),IF(COUNTBLANK(A783:H783)+COUNTBLANK(J783:O783)=14,\"\",\"- ohne Titel -\"),Datenerfassung!D793)","v":""},{"$f":"IF(ISBLANK(Datenerfassung!E793),\"\",Datenerfassung!E793)","v":""},"",{"$f":"IF(ISBLANK(Datenerfassung!O793),\"\",Datenerfassung!O793)","v":""},{"$f":"IF(ISBLANK(Datenerfassung!G793),\"\",Datenerfassung!G793)","v":""},{"$f":"IF(ISBLANK(Datenerfassung!M793),\"\",Datenerfassung!M793)","v":""},{"$f":"IF(ISBLANK(Datenerfassung!H793),\"\",Datenerfassung!H793)","v":""}]
[{"$f":"IF(ISBLANK(Datenerfassung!A794),\"\",Datenerfassung!A794)","v":""},{"$f":"IF(ISBLANK(Datenerfassung!B794),\"\",Datenerfassung!B794)","v":""},{"$f":"IF(ISBLANK(Datenerfassung!C794),\"\",Datenerfassung!C794)","v":""},{"$f":"IF(ISBLANK(Datenerfassung!I794),\"\",Datenerfassung!I794)","v":""},{"$f":"IF(ISBLANK(Datenerfassung!J794),\"\",Datenerfassung!J794)","v":""},"",{"$f":"IF(ISBLANK(Datenerfassung!L794),\"\",Datenerfassung!L794)","v":""},{"$f":"IF(ISBLANK(Datenerfassung!F794),\"\",Datenerfassung!F794)","v":""},{"$f":"IF(ISBLANK(Datenerfassung!D794),IF(COUNTBLANK(A784:H784)+COUNTBLANK(J784:O784)=14,\"\",\"- ohne Titel -\"),Datenerfassung!D794)","v":""},{"$f":"IF(ISBLANK(Datenerfassung!E794),\"\",Datenerfassung!E794)","v":""},"",{"$f":"IF(ISBLANK(Datenerfassung!O794),\"\",Datenerfassung!O794)","v":""},{"$f":"IF(ISBLANK(Datenerfassung!G794),\"\",Datenerfassung!G794)","v":""},{"$f":"IF(ISBLANK(Datenerfassung!M794),\"\",Datenerfassung!M794)","v":""},{"$f":"IF(ISBLANK(Datenerfassung!H794),\"\",Datenerfassung!H794)","v":""}]
[{"$f":"IF(ISBLANK(Datenerfassung!A795),\"\",Datenerfassung!A795)","v":""},{"$f":"IF(ISBLANK(Datenerfassung!B795),\"\",Datenerfassung!B795)","v":""},{"$f":"IF(ISBLANK(Datenerfassung!C795),\"\",Datenerfassung!C795)","v":""},{"$f":"IF(ISBLANK(Datenerfassung!I795),\"\",Datenerfassung!I795)","v":""},{"$f":"IF(ISBLANK(Datenerfassung!J795),\"\",Datenerfassung!J795)","v":""},"",{"$f":"IF(ISBLANK(Datenerfassung!L795),\"\",Datenerfassung!L795)","v":""},{"$f":"IF(ISBLANK(Datenerfassung!F795),\"\",Datenerfassung!F795)","v":""},{"$f":"IF(ISBLANK(Datenerfassung!D795),IF(COUNTBLANK(A785:H785)+COUNTBLANK(J785:O785)=14,\"\",\"- ohne Titel -\"),Datenerfassung!D795)","v":""},{"$f":"IF(ISBLANK(Datenerfassung!E795),\"\",Datenerfassung!E795)","v":""},"",{"$f":"IF(ISBLANK(Datenerfassung!O795),\"\",Datenerfassung!O795)","v":""},{"$f":"IF(ISBLANK(Datenerfassung!G795),\"\",Datenerfassung!G795)","v":""},{"$f":"IF(ISBLANK(Datenerfassung!M795),\"\",Datenerfassung!M795)","v":""},{"$f":"IF(ISBLANK(Datenerfassung!H795),\"\",Datenerfassung!H795)","v":""}]
[{"$f":"IF(ISBLANK(Datenerfassung!A796),\"\",Datenerfassung!A796)","v":""},{"$f":"IF(ISBLANK(Datenerfassung!B796),\"\",Datenerfassung!B796)","v":""},{"$f":"IF(ISBLANK(Datenerfassung!C796),\"\",Datenerfassung!C796)","v":""},{"$f":"IF(ISBLANK(Datenerfassung!I796),\"\",Datenerfassung!I796)","v":""},{"$f":"IF(ISBLANK(Datenerfassung!J796),\"\",Datenerfassung!J796)","v":""},"",{"$f":"IF(ISBLANK(Datenerfassung!L796),\"\",Datenerfassung!L796)","v":""},{"$f":"IF(ISBLANK(Datenerfassung!F796),\"\",Datenerfassung!F796)","v":""},{"$f":"IF(ISBLANK(Datenerfassung!D796),IF(COUNTBLANK(A786:H786)+COUNTBLANK(J786:O786)=14,\"\",\"- ohne Titel -\"),Datenerfassung!D796)","v":""},{"$f":"IF(ISBLANK(Datenerfassung!E796),\"\",Datenerfassung!E796)","v":""},"",{"$f":"IF(ISBLANK(Datenerfassung!O796),\"\",Datenerfassung!O796)","v":""},{"$f":"IF(ISBLANK(Datenerfassung!G796),\"\",Datenerfassung!G796)","v":""},{"$f":"IF(ISBLANK(Datenerfassung!M796),\"\",Datenerfassung!M796)","v":""},{"$f":"IF(ISBLANK(Datenerfassung!H796),\"\",Datenerfassung!H796)","v":""}]
[{"$f":"IF(ISBLANK(Datenerfassung!A797),\"\",Datenerfassung!A797)","v":""},{"$f":"IF(ISBLANK(Datenerfassung!B797),\"\",Datenerfassung!B797)","v":""},{"$f":"IF(ISBLANK(Datenerfassung!C797),\"\",Datenerfassung!C797)","v":""},{"$f":"IF(ISBLANK(Datenerfassung!I797),\"\",Datenerfassung!I797)","v":""},{"$f":"IF(ISBLANK(Datenerfassung!J797),\"\",Datenerfassung!J797)","v":""},"",{"$f":"IF(ISBLANK(Datenerfassung!L797),\"\",Datenerfassung!L797)","v":""},{"$f":"IF(ISBLANK(Datenerfassung!F797),\"\",Datenerfassung!F797)","v":""},{"$f":"IF(ISBLANK(Datenerfassung!D797),IF(COUNTBLANK(A787:H787)+COUNTBLANK(J787:O787)=14,\"\",\"- ohne Titel -\"),Datenerfassung!D797)","v":""},{"$f":"IF(ISBLANK(Datenerfassung!E797),\"\",Datenerfassung!E797)","v":""},"",{"$f":"IF(ISBLANK(Datenerfassung!O797),\"\",Datenerfassung!O797)","v":""},{"$f":"IF(ISBLANK(Datenerfassung!G797),\"\",Datenerfassung!G797)","v":""},{"$f":"IF(ISBLANK(Datenerfassung!M797),\"\",Datenerfassung!M797)","v":""},{"$f":"IF(ISBLANK(Datenerfassung!H797),\"\",Datenerfassung!H797)","v":""}]
[{"$f":"IF(ISBLANK(Datenerfassung!A798),\"\",Datenerfassung!A798)","v":""},{"$f":"IF(ISBLANK(Datenerfassung!B798),\"\",Datenerfassung!B798)","v":""},{"$f":"IF(ISBLANK(Datenerfassung!C798),\"\",Datenerfassung!C798)","v":""},{"$f":"IF(ISBLANK(Datenerfassung!I798),\"\",Datenerfassung!I798)","v":""},{"$f":"IF(ISBLANK(Datenerfassung!J798),\"\",Datenerfassung!J798)","v":""},"",{"$f":"IF(ISBLANK(Datenerfassung!L798),\"\",Datenerfassung!L798)","v":""},{"$f":"IF(ISBLANK(Datenerfassung!F798),\"\",Datenerfassung!F798)","v":""},{"$f":"IF(ISBLANK(Datenerfassung!D798),IF(COUNTBLANK(A788:H788)+COUNTBLANK(J788:O788)=14,\"\",\"- ohne Titel -\"),Datenerfassung!D798)","v":""},{"$f":"IF(ISBLANK(Datenerfassung!E798),\"\",Datenerfassung!E798)","v":""},"",{"$f":"IF(ISBLANK(Datenerfassung!O798),\"\",Datenerfassung!O798)","v":""},{"$f":"IF(ISBLANK(Datenerfassung!G798),\"\",Datenerfassung!G798)","v":""},{"$f":"IF(ISBLANK(Datenerfassung!M798),\"\",Datenerfassung!M798)","v":""},{"$f":"IF(ISBLANK(Datenerfassung!H798),\"\",Datenerfassung!H798)","v":""}]
[{"$f":"IF(ISBLANK(Datenerfassung!A799),\"\",Datenerfassung!A799)","v":""},{"$f":"IF(ISBLANK(Datenerfassung!B799),\"\",Datenerfassung!B799)","v":""},{"$f":"IF(ISBLANK(Datenerfassung!C799),\"\",Datenerfassung!C799)","v":""},{"$f":"IF(ISBLANK(Datenerfassung!I799),\"\",Datenerfassung!I799)","v":""},{"$f":"IF(ISBLANK(Datenerfassung!J799),\"\",Datenerfassung!J799)","v":""},"",{"$f":"IF(ISBLANK(Datenerfassung!L799),\"\",Datenerfassung!L799)","v":""},{"$f":"IF(ISBLANK(Datenerfassung!F799),\"\",Datenerfassung!F799)","v":""},{"$f":"IF(ISBLANK(Datenerfassung!D799),IF(COUNTBLANK(A789:H789)+COUNTBLANK(J789:O789)=14,\"\",\"- ohne Titel -\"),Datenerfassung!D799)","v":""},{"$f":"IF(ISBLANK(Datenerfassung!E799),\"\",Datenerfassung!E799)","v":""},"",{"$f":"IF(ISBLANK(Datenerfassung!O799),\"\",Datenerfassung!O799)","v":""},{"$f":"IF(ISBLANK(Datenerfassung!G799),\"\",Datenerfassung!G799)","v":""},{"$f":"IF(ISBLANK(Datenerfassung!M799),\"\",Datenerfassung!M799)","v":""},{"$f":"IF(ISBLANK(Datenerfassung!H799),\"\",Datenerfassung!H799)","v":""}]
[{"$f":"IF(ISBLANK(Datenerfassung!A800),\"\",Datenerfassung!A800)","v":""},{"$f":"IF(ISBLANK(Datenerfassung!B800),\"\",Datenerfassung!B800)","v":""},{"$f":"IF(ISBLANK(Datenerfassung!C800),\"\",Datenerfassung!C800)","v":""},{"$f":"IF(ISBLANK(Datenerfassung!I800),\"\",Datenerfassung!I800)","v":""},{"$f":"IF(ISBLANK(Datenerfassung!J800),\"\",Datenerfassung!J800)","v":""},"",{"$f":"IF(ISBLANK(Datenerfassung!L800),\"\",Datenerfassung!L800)","v":""},{"$f":"IF(ISBLANK(Datenerfassung!F800),\"\",Datenerfassung!F800)","v":""},{"$f":"IF(ISBLANK(Datenerfassung!D800),IF(COUNTBLANK(A790:H790)+COUNTBLANK(J790:O790)=14,\"\",\"- ohne Titel -\"),Datenerfassung!D800)","v":""},{"$f":"IF(ISBLANK(Datenerfassung!E800),\"\",Datenerfassung!E800)","v":""},"",{"$f":"IF(ISBLANK(Datenerfassung!O800),\"\",Datenerfassung!O800)","v":""},{"$f":"IF(ISBLANK(Datenerfassung!G800),\"\",Datenerfassung!G800)","v":""},{"$f":"IF(ISBLANK(Datenerfassung!M800),\"\",Datenerfassung!M800)","v":""},{"$f":"IF(ISBLANK(Datenerfassung!H800),\"\",Datenerfassung!H800)","v":""}]
[{"$f":"IF(ISBLANK(Datenerfassung!A801),\"\",Datenerfassung!A801)","v":""},{"$f":"IF(ISBLANK(Datenerfassung!B801),\"\",Datenerfassung!B801)","v":""},{"$f":"IF(ISBLANK(Datenerfassung!C801),\"\",Datenerfassung!C801)","v":""},{"$f":"IF(ISBLANK(Datenerfassung!I801),\"\",Datenerfassung!I801)","v":""},{"$f":"IF(ISBLANK(Datenerfassung!J801),\"\",Datenerfassung!J801)","v":""},"",{"$f":"IF(ISBLANK(Datenerfassung!L801),\"\",Datenerfassung!L801)","v":""},{"$f":"IF(ISBLANK(Datenerfassung!F801),\"\",Datenerfassung!F801)","v":""},{"$f":"IF(ISBLANK(Datenerfassung!D801),IF(COUNTBLANK(A791:H791)+COUNTBLANK(J791:O791)=14,\"\",\"- ohne Titel -\"),Datenerfassung!D801)","v":""},{"$f":"IF(ISBLANK(Datenerfassung!E801),\"\",Datenerfassung!E801)","v":""},"",{"$f":"IF(ISBLANK(Datenerfassung!O801),\"\",Datenerfassung!O801)","v":""},{"$f":"IF(ISBLANK(Datenerfassung!G801),\"\",Datenerfassung!G801)","v":""},{"$f":"IF(ISBLANK(Datenerfassung!M801),\"\",Datenerfassung!M801)","v":""},{"$f":"IF(ISBLANK(Datenerfassung!H801),\"\",Datenerfassung!H801)","v":""}]
[{"$f":"IF(ISBLANK(Datenerfassung!A802),\"\",Datenerfassung!A802)","v":""},{"$f":"IF(ISBLANK(Datenerfassung!B802),\"\",Datenerfassung!B802)","v":""},{"$f":"IF(ISBLANK(Datenerfassung!C802),\"\",Datenerfassung!C802)","v":""},{"$f":"IF(ISBLANK(Datenerfassung!I802),\"\",Datenerfassung!I802)","v":""},{"$f":"IF(ISBLANK(Datenerfassung!J802),\"\",Datenerfassung!J802)","v":""},"",{"$f":"IF(ISBLANK(Datenerfassung!L802),\"\",Datenerfassung!L802)","v":""},{"$f":"IF(ISBLANK(Datenerfassung!F802),\"\",Datenerfassung!F802)","v":""},{"$f":"IF(ISBLANK(Datenerfassung!D802),IF(COUNTBLANK(A792:H792)+COUNTBLANK(J792:O792)=14,\"\",\"- ohne Titel -\"),Datenerfassung!D802)","v":""},{"$f":"IF(ISBLANK(Datenerfassung!E802),\"\",Datenerfassung!E802)","v":""},"",{"$f":"IF(ISBLANK(Datenerfassung!O802),\"\",Datenerfassung!O802)","v":""},{"$f":"IF(ISBLANK(Datenerfassung!G802),\"\",Datenerfassung!G802)","v":""},{"$f":"IF(ISBLANK(Datenerfassung!M802),\"\",Datenerfassung!M802)","v":""},{"$f":"IF(ISBLANK(Datenerfassung!H802),\"\",Datenerfassung!H802)","v":""}]
[{"$f":"IF(ISBLANK(Datenerfassung!A803),\"\",Datenerfassung!A803)","v":""},{"$f":"IF(ISBLANK(Datenerfassung!B803),\"\",Datenerfassung!B803)","v":""},{"$f":"IF(ISBLANK(Datenerfassung!C803),\"\",Datenerfassung!C803)","v":""},{"$f":"IF(ISBLANK(Datenerfassung!I803),\"\",Datenerfassung!I803)","v":""},{"$f":"IF(ISBLANK(Datenerfassung!J803),\"\",Datenerfassung!J803)","v":""},"",{"$f":"IF(ISBLANK(Datenerfassung!L803),\"\",Datenerfassung!L803)","v":""},{"$f":"IF(ISBLANK(Datenerfassung!F803),\"\",Datenerfassung!F803)","v":""},{"$f":"IF(ISBLANK(Datenerfassung!D803),IF(COUNTBLANK(A793:H793)+COUNTBLANK(J793:O793)=14,\"\",\"- ohne Titel -\"),Datenerfassung!D803)","v":""},{"$f":"IF(ISBLANK(Datenerfassung!E803),\"\",Datenerfassung!E803)","v":""},"",{"$f":"IF(ISBLANK(Datenerfassung!O803),\"\",Datenerfassung!O803)","v":""},{"$f":"IF(ISBLANK(Datenerfassung!G803),\"\",Datenerfassung!G803)","v":""},{"$f":"IF(ISBLANK(Datenerfassung!M803),\"\",Datenerfassung!M803)","v":""},{"$f":"IF(ISBLANK(Datenerfassung!H803),\"\",Datenerfassung!H803)","v":""}]
[{"$f":"IF(ISBLANK(Datenerfassung!A804),\"\",Datenerfassung!A804)","v":""},{"$f":"IF(ISBLANK(Datenerfassung!B804),\"\",Datenerfassung!B804)","v":""},{"$f":"IF(ISBLANK(Datenerfassung!C804),\"\",Datenerfassung!C804)","v":""},{"$f":"IF(ISBLANK(Datenerfassung!I804),\"\",Datenerfassung!I804)","v":""},{"$f":"IF(ISBLANK(Datenerfassung!J804),\"\",Datenerfassung!J804)","v":""},"",{"$f":"IF(ISBLANK(Datenerfassung!L804),\"\",Datenerfassung!L804)","v":""},{"$f":"IF(ISBLANK(Datenerfassung!F804),\"\",Datenerfassung!F804)","v":""},{"$f":"IF(ISBLANK(Datenerfassung!D804),IF(COUNTBLANK(A794:H794)+COUNTBLANK(J794:O794)=14,\"\",\"- ohne Titel -\"),Datenerfassung!D804)","v":""},{"$f":"IF(ISBLANK(Datenerfassung!E804),\"\",Datenerfassung!E804)","v":""},"",{"$f":"IF(ISBLANK(Datenerfassung!O804),\"\",Datenerfassung!O804)","v":""},{"$f":"IF(ISBLANK(Datenerfassung!G804),\"\",Datenerfassung!G804)","v":""},{"$f":"IF(ISBLANK(Datenerfassung!M804),\"\",Datenerfassung!M804)","v":""},{"$f":"IF(ISBLANK(Datenerfassung!H804),\"\",Datenerfassung!H804)","v":""}]
[{"$f":"IF(ISBLANK(Datenerfassung!A805),\"\",Datenerfassung!A805)","v":""},{"$f":"IF(ISBLANK(Datenerfassung!B805),\"\",Datenerfassung!B805)","v":""},{"$f":"IF(ISBLANK(Datenerfassung!C805),\"\",Datenerfassung!C805)","v":""},{"$f":"IF(ISBLANK(Datenerfassung!I805),\"\",Datenerfassung!I805)","v":""},{"$f":"IF(ISBLANK(Datenerfassung!J805),\"\",Datenerfassung!J805)","v":""},"",{"$f":"IF(ISBLANK(Datenerfassung!L805),\"\",Datenerfassung!L805)","v":""},{"$f":"IF(ISBLANK(Datenerfassung!F805),\"\",Datenerfassung!F805)","v":""},{"$f":"IF(ISBLANK(Datenerfassung!D805),IF(COUNTBLANK(A795:H795)+COUNTBLANK(J795:O795)=14,\"\",\"- ohne Titel -\"),Datenerfassung!D805)","v":""},{"$f":"IF(ISBLANK(Datenerfassung!E805),\"\",Datenerfassung!E805)","v":""},"",{"$f":"IF(ISBLANK(Datenerfassung!O805),\"\",Datenerfassung!O805)","v":""},{"$f":"IF(ISBLANK(Datenerfassung!G805),\"\",Datenerfassung!G805)","v":""},{"$f":"IF(ISBLANK(Datenerfassung!M805),\"\",Datenerfassung!M805)","v":""},{"$f":"IF(ISBLANK(Datenerfassung!H805),\"\",Datenerfassung!H805)","v":""}]
[{"$f":"IF(ISBLANK(Datenerfassung!A806),\"\",Datenerfassung!A806)","v":""},{"$f":"IF(ISBLANK(Datenerfassung!B806),\"\",Datenerfassung!B806)","v":""},{"$f":"IF(ISBLANK(Datenerfassung!C806),\"\",Datenerfassung!C806)","v":""},{"$f":"IF(ISBLANK(Datenerfassung!I806),\"\",Datenerfassung!I806)","v":""},{"$f":"IF(ISBLANK(Datenerfassung!J806),\"\",Datenerfassung!J806)","v":""},"",{"$f":"IF(ISBLANK(Datenerfassung!L806),\"\",Datenerfassung!L806)","v":""},{"$f":"IF(ISBLANK(Datenerfassung!F806),\"\",Datenerfassung!F806)","v":""},{"$f":"IF(ISBLANK(Datenerfassung!D806),IF(COUNTBLANK(A796:H796)+COUNTBLANK(J796:O796)=14,\"\",\"- ohne Titel -\"),Datenerfassung!D806)","v":""},{"$f":"IF(ISBLANK(Datenerfassung!E806),\"\",Datenerfassung!E806)","v":""},"",{"$f":"IF(ISBLANK(Datenerfassung!O806),\"\",Datenerfassung!O806)","v":""},{"$f":"IF(ISBLANK(Datenerfassung!G806),\"\",Datenerfassung!G806)","v":""},{"$f":"IF(ISBLANK(Datenerfassung!M806),\"\",Datenerfassung!M806)","v":""},{"$f":"IF(ISBLANK(Datenerfassung!H806),\"\",Datenerfassung!H806)","v":""}]
[{"$f":"IF(ISBLANK(Datenerfassung!A807),\"\",Datenerfassung!A807)","v":""},{"$f":"IF(ISBLANK(Datenerfassung!B807),\"\",Datenerfassung!B807)","v":""},{"$f":"IF(ISBLANK(Datenerfassung!C807),\"\",Datenerfassung!C807)","v":""},{"$f":"IF(ISBLANK(Datenerfassung!I807),\"\",Datenerfassung!I807)","v":""},{"$f":"IF(ISBLANK(Datenerfassung!J807),\"\",Datenerfassung!J807)","v":""},"",{"$f":"IF(ISBLANK(Datenerfassung!L807),\"\",Datenerfassung!L807)","v":""},{"$f":"IF(ISBLANK(Datenerfassung!F807),\"\",Datenerfassung!F807)","v":""},{"$f":"IF(ISBLANK(Datenerfassung!D807),IF(COUNTBLANK(A797:H797)+COUNTBLANK(J797:O797)=14,\"\",\"- ohne Titel -\"),Datenerfassung!D807)","v":""},{"$f":"IF(ISBLANK(Datenerfassung!E807),\"\",Datenerfassung!E807)","v":""},"",{"$f":"IF(ISBLANK(Datenerfassung!O807),\"\",Datenerfassung!O807)","v":""},{"$f":"IF(ISBLANK(Datenerfassung!G807),\"\",Datenerfassung!G807)","v":""},{"$f":"IF(ISBLANK(Datenerfassung!M807),\"\",Datenerfassung!M807)","v":""},{"$f":"IF(ISBLANK(Datenerfassung!H807),\"\",Datenerfassung!H807)","v":""}]
[{"$f":"IF(ISBLANK(Datenerfassung!A808),\"\",Datenerfassung!A808)","v":""},{"$f":"IF(ISBLANK(Datenerfassung!B808),\"\",Datenerfassung!B808)","v":""},{"$f":"IF(ISBLANK(Datenerfassung!C808),\"\",Datenerfassung!C808)","v":""},{"$f":"IF(ISBLANK(Datenerfassung!I808),\"\",Datenerfassung!I808)","v":""},{"$f":"IF(ISBLANK(Datenerfassung!J808),\"\",Datenerfassung!J808)","v":""},"",{"$f":"IF(ISBLANK(Datenerfassung!L808),\"\",Datenerfassung!L808)","v":""},{"$f":"IF(ISBLANK(Datenerfassung!F808),\"\",Datenerfassung!F808)","v":""},{"$f":"IF(ISBLANK(Datenerfassung!D808),IF(COUNTBLANK(A798:H798)+COUNTBLANK(J798:O798)=14,\"\",\"- ohne Titel -\"),Datenerfassung!D808)","v":""},{"$f":"IF(ISBLANK(Datenerfassung!E808),\"\",Datenerfassung!E808)","v":""},"",{"$f":"IF(ISBLANK(Datenerfassung!O808),\"\",Datenerfassung!O808)","v":""},{"$f":"IF(ISBLANK(Datenerfassung!G808),\"\",Datenerfassung!G808)","v":""},{"$f":"IF(ISBLANK(Datenerfassung!M808),\"\",Datenerfassung!M808)","v":""},{"$f":"IF(ISBLANK(Datenerfassung!H808),\"\",Datenerfassung!H808)","v":""}]
[{"$f":"IF(ISBLANK(Datenerfassung!A809),\"\",Datenerfassung!A809)","v":""},{"$f":"IF(ISBLANK(Datenerfassung!B809),\"\",Datenerfassung!B809)","v":""},{"$f":"IF(ISBLANK(Datenerfassung!C809),\"\",Datenerfassung!C809)","v":""},{"$f":"IF(ISBLANK(Datenerfassung!I809),\"\",Datenerfassung!I809)","v":""},{"$f":"IF(ISBLANK(Datenerfassung!J809),\"\",Datenerfassung!J809)","v":""},"",{"$f":"IF(ISBLANK(Datenerfassung!L809),\"\",Datenerfassung!L809)","v":""},{"$f":"IF(ISBLANK(Datenerfassung!F809),\"\",Datenerfassung!F809)","v":""},{"$f":"IF(ISBLANK(Datenerfassung!D809),IF(COUNTBLANK(A799:H799)+COUNTBLANK(J799:O799)=14,\"\",\"- ohne Titel -\"),Datenerfassung!D809)","v":""},{"$f":"IF(ISBLANK(Datenerfassung!E809),\"\",Datenerfassung!E809)","v":""},"",{"$f":"IF(ISBLANK(Datenerfassung!O809),\"\",Datenerfassung!O809)","v":""},{"$f":"IF(ISBLANK(Datenerfassung!G809),\"\",Datenerfassung!G809)","v":""},{"$f":"IF(ISBLANK(Datenerfassung!M809),\"\",Datenerfassung!M809)","v":""},{"$f":"IF(ISBLANK(Datenerfassung!H809),\"\",Datenerfassung!H809)","v":""}]
[{"$f":"IF(ISBLANK(Datenerfassung!A810),\"\",Datenerfassung!A810)","v":""},{"$f":"IF(ISBLANK(Datenerfassung!B810),\"\",Datenerfassung!B810)","v":""},{"$f":"IF(ISBLANK(Datenerfassung!C810),\"\",Datenerfassung!C810)","v":""},{"$f":"IF(ISBLANK(Datenerfassung!I810),\"\",Datenerfassung!I810)","v":""},{"$f":"IF(ISBLANK(Datenerfassung!J810),\"\",Datenerfassung!J810)","v":""},"",{"$f":"IF(ISBLANK(Datenerfassung!L810),\"\",Datenerfassung!L810)","v":""},{"$f":"IF(ISBLANK(Datenerfassung!F810),\"\",Datenerfassung!F810)","v":""},{"$f":"IF(ISBLANK(Datenerfassung!D810),IF(COUNTBLANK(A800:H800)+COUNTBLANK(J800:O800)=14,\"\",\"- ohne Titel -\"),Datenerfassung!D810)","v":""},{"$f":"IF(ISBLANK(Datenerfassung!E810),\"\",Datenerfassung!E810)","v":""},"",{"$f":"IF(ISBLANK(Datenerfassung!O810),\"\",Datenerfassung!O810)","v":""},{"$f":"IF(ISBLANK(Datenerfassung!G810),\"\",Datenerfassung!G810)","v":""},{"$f":"IF(ISBLANK(Datenerfassung!M810),\"\",Datenerfassung!M810)","v":""},{"$f":"IF(ISBLANK(Datenerfassung!H810),\"\",Datenerfassung!H810)","v":""}]
[{"$f":"IF(ISBLANK(Datenerfassung!A811),\"\",Datenerfassung!A811)","v":""},{"$f":"IF(ISBLANK(Datenerfassung!B811),\"\",Datenerfassung!B811)","v":""},{"$f":"IF(ISBLANK(Datenerfassung!C811),\"\",Datenerfassung!C811)","v":""},{"$f":"IF(ISBLANK(Datenerfassung!I811),\"\",Datenerfassung!I811)","v":""},{"$f":"IF(ISBLANK(Datenerfassung!J811),\"\",Datenerfassung!J811)","v":""},"",{"$f":"IF(ISBLANK(Datenerfassung!L811),\"\",Datenerfassung!L811)","v":""},{"$f":"IF(ISBLANK(Datenerfassung!F811),\"\",Datenerfassung!F811)","v":""},{"$f":"IF(ISBLANK(Datenerfassung!D811),IF(COUNTBLANK(A801:H801)+COUNTBLANK(J801:O801)=14,\"\",\"- ohne Titel -\"),Datenerfassung!D811)","v":""},{"$f":"IF(ISBLANK(Datenerfassung!E811),\"\",Datenerfassung!E811)","v":""},"",{"$f":"IF(ISBLANK(Datenerfassung!O811),\"\",Datenerfassung!O811)","v":""},{"$f":"IF(ISBLANK(Datenerfassung!G811),\"\",Datenerfassung!G811)","v":""},{"$f":"IF(ISBLANK(Datenerfassung!M811),\"\",Datenerfassung!M811)","v":""},{"$f":"IF(ISBLANK(Datenerfassung!H811),\"\",Datenerfassung!H811)","v":""}]
[{"$f":"IF(ISBLANK(Datenerfassung!A812),\"\",Datenerfassung!A812)","v":""},{"$f":"IF(ISBLANK(Datenerfassung!B812),\"\",Datenerfassung!B812)","v":""},{"$f":"IF(ISBLANK(Datenerfassung!C812),\"\",Datenerfassung!C812)","v":""},{"$f":"IF(ISBLANK(Datenerfassung!I812),\"\",Datenerfassung!I812)","v":""},{"$f":"IF(ISBLANK(Datenerfassung!J812),\"\",Datenerfassung!J812)","v":""},"",{"$f":"IF(ISBLANK(Datenerfassung!L812),\"\",Datenerfassung!L812)","v":""},{"$f":"IF(ISBLANK(Datenerfassung!F812),\"\",Datenerfassung!F812)","v":""},{"$f":"IF(ISBLANK(Datenerfassung!D812),IF(COUNTBLANK(A802:H802)+COUNTBLANK(J802:O802)=14,\"\",\"- ohne Titel -\"),Datenerfassung!D812)","v":""},{"$f":"IF(ISBLANK(Datenerfassung!E812),\"\",Datenerfassung!E812)","v":""},"",{"$f":"IF(ISBLANK(Datenerfassung!O812),\"\",Datenerfassung!O812)","v":""},{"$f":"IF(ISBLANK(Datenerfassung!G812),\"\",Datenerfassung!G812)","v":""},{"$f":"IF(ISBLANK(Datenerfassung!M812),\"\",Datenerfassung!M812)","v":""},{"$f":"IF(ISBLANK(Datenerfassung!H812),\"\",Datenerfassung!H812)","v":""}]
[{"$f":"IF(ISBLANK(Datenerfassung!A813),\"\",Datenerfassung!A813)","v":""},{"$f":"IF(ISBLANK(Datenerfassung!B813),\"\",Datenerfassung!B813)","v":""},{"$f":"IF(ISBLANK(Datenerfassung!C813),\"\",Datenerfassung!C813)","v":""},{"$f":"IF(ISBLANK(Datenerfassung!I813),\"\",Datenerfassung!I813)","v":""},{"$f":"IF(ISBLANK(Datenerfassung!J813),\"\",Datenerfassung!J813)","v":""},"",{"$f":"IF(ISBLANK(Datenerfassung!L813),\"\",Datenerfassung!L813)","v":""},{"$f":"IF(ISBLANK(Datenerfassung!F813),\"\",Datenerfassung!F813)","v":""},{"$f":"IF(ISBLANK(Datenerfassung!D813),IF(COUNTBLANK(A803:H803)+COUNTBLANK(J803:O803)=14,\"\",\"- ohne Titel -\"),Datenerfassung!D813)","v":""},{"$f":"IF(ISBLANK(Datenerfassung!E813),\"\",Datenerfassung!E813)","v":""},"",{"$f":"IF(ISBLANK(Datenerfassung!O813),\"\",Datenerfassung!O813)","v":""},{"$f":"IF(ISBLANK(Datenerfassung!G813),\"\",Datenerfassung!G813)","v":""},{"$f":"IF(ISBLANK(Datenerfassung!M813),\"\",Datenerfassung!M813)","v":""},{"$f":"IF(ISBLANK(Datenerfassung!H813),\"\",Datenerfassung!H813)","v":""}]
[{"$f":"IF(ISBLANK(Datenerfassung!A814),\"\",Datenerfassung!A814)","v":""},{"$f":"IF(ISBLANK(Datenerfassung!B814),\"\",Datenerfassung!B814)","v":""},{"$f":"IF(ISBLANK(Datenerfassung!C814),\"\",Datenerfassung!C814)","v":""},{"$f":"IF(ISBLANK(Datenerfassung!I814),\"\",Datenerfassung!I814)","v":""},{"$f":"IF(ISBLANK(Datenerfassung!J814),\"\",Datenerfassung!J814)","v":""},"",{"$f":"IF(ISBLANK(Datenerfassung!L814),\"\",Datenerfassung!L814)","v":""},{"$f":"IF(ISBLANK(Datenerfassung!F814),\"\",Datenerfassung!F814)","v":""},{"$f":"IF(ISBLANK(Datenerfassung!D814),IF(COUNTBLANK(A804:H804)+COUNTBLANK(J804:O804)=14,\"\",\"- ohne Titel -\"),Datenerfassung!D814)","v":""},{"$f":"IF(ISBLANK(Datenerfassung!E814),\"\",Datenerfassung!E814)","v":""},"",{"$f":"IF(ISBLANK(Datenerfassung!O814),\"\",Datenerfassung!O814)","v":""},{"$f":"IF(ISBLANK(Datenerfassung!G814),\"\",Datenerfassung!G814)","v":""},{"$f":"IF(ISBLANK(Datenerfassung!M814),\"\",Datenerfassung!M814)","v":""},{"$f":"IF(ISBLANK(Datenerfassung!H814),\"\",Datenerfassung!H814)","v":""}]
[{"$f":"IF(ISBLANK(Datenerfassung!A815),\"\",Datenerfassung!A815)","v":""},{"$f":"IF(ISBLANK(Datenerfassung!B815),\"\",Datenerfassung!B815)","v":""},{"$f":"IF(ISBLANK(Datenerfassung!C815),\"\",Datenerfassung!C815)","v":""},{"$f":"IF(ISBLANK(Datenerfassung!I815),\"\",Datenerfassung!I815)","v":""},{"$f":"IF(ISBLANK(Datenerfassung!J815),\"\",Datenerfassung!J815)","v":""},"",{"$f":"IF(ISBLANK(Datenerfassung!L815),\"\",Datenerfassung!L815)","v":""},{"$f":"IF(ISBLANK(Datenerfassung!F815),\"\",Datenerfassung!F815)","v":""},{"$f":"IF(ISBLANK(Datenerfassung!D815),IF(COUNTBLANK(A805:H805)+COUNTBLANK(J805:O805)=14,\"\",\"- ohne Titel -\"),Datenerfassung!D815)","v":""},{"$f":"IF(ISBLANK(Datenerfassung!E815),\"\",Datenerfassung!E815)","v":""},"",{"$f":"IF(ISBLANK(Datenerfassung!O815),\"\",Datenerfassung!O815)","v":""},{"$f":"IF(ISBLANK(Datenerfassung!G815),\"\",Datenerfassung!G815)","v":""},{"$f":"IF(ISBLANK(Datenerfassung!M815),\"\",Datenerfassung!M815)","v":""},{"$f":"IF(ISBLANK(Datenerfassung!H815),\"\",Datenerfassung!H815)","v":""}]
[{"$f":"IF(ISBLANK(Datenerfassung!A816),\"\",Datenerfassung!A816)","v":""},{"$f":"IF(ISBLANK(Datenerfassung!B816),\"\",Datenerfassung!B816)","v":""},{"$f":"IF(ISBLANK(Datenerfassung!C816),\"\",Datenerfassung!C816)","v":""},{"$f":"IF(ISBLANK(Datenerfassung!I816),\"\",Datenerfassung!I816)","v":""},{"$f":"IF(ISBLANK(Datenerfassung!J816),\"\",Datenerfassung!J816)","v":""},"",{"$f":"IF(ISBLANK(Datenerfassung!L816),\"\",Datenerfassung!L816)","v":""},{"$f":"IF(ISBLANK(Datenerfassung!F816),\"\",Datenerfassung!F816)","v":""},{"$f":"IF(ISBLANK(Datenerfassung!D816),IF(COUNTBLANK(A806:H806)+COUNTBLANK(J806:O806)=14,\"\",\"- ohne Titel -\"),Datenerfassung!D816)","v":""},{"$f":"IF(ISBLANK(Datenerfassung!E816),\"\",Datenerfassung!E816)","v":""},"",{"$f":"IF(ISBLANK(Datenerfassung!O816),\"\",Datenerfassung!O816)","v":""},{"$f":"IF(ISBLANK(Datenerfassung!G816),\"\",Datenerfassung!G816)","v":""},{"$f":"IF(ISBLANK(Datenerfassung!M816),\"\",Datenerfassung!M816)","v":""},{"$f":"IF(ISBLANK(Datenerfassung!H816),\"\",Datenerfassung!H816)","v":""}]
[{"$f":"IF(ISBLANK(Datenerfassung!A817),\"\",Datenerfassung!A817)","v":""},{"$f":"IF(ISBLANK(Datenerfassung!B817),\"\",Datenerfassung!B817)","v":""},{"$f":"IF(ISBLANK(Datenerfassung!C817),\"\",Datenerfassung!C817)","v":""},{"$f":"IF(ISBLANK(Datenerfassung!I817),\"\",Datenerfassung!I817)","v":""},{"$f":"IF(ISBLANK(Datenerfassung!J817),\"\",Datenerfassung!J817)","v":""},"",{"$f":"IF(ISBLANK(Datenerfassung!L817),\"\",Datenerfassung!L817)","v":""},{"$f":"IF(ISBLANK(Datenerfassung!F817),\"\",Datenerfassung!F817)","v":""},{"$f":"IF(ISBLANK(Datenerfassung!D817),IF(COUNTBLANK(A807:H807)+COUNTBLANK(J807:O807)=14,\"\",\"- ohne Titel -\"),Datenerfassung!D817)","v":""},{"$f":"IF(ISBLANK(Datenerfassung!E817),\"\",Datenerfassung!E817)","v":""},"",{"$f":"IF(ISBLANK(Datenerfassung!O817),\"\",Datenerfassung!O817)","v":""},{"$f":"IF(ISBLANK(Datenerfassung!G817),\"\",Datenerfassung!G817)","v":""},{"$f":"IF(ISBLANK(Datenerfassung!M817),\"\",Datenerfassung!M817)","v":""},{"$f":"IF(ISBLANK(Datenerfassung!H817),\"\",Datenerfassung!H817)","v":""}]
[{"$f":"IF(ISBLANK(Datenerfassung!A818),\"\",Datenerfassung!A818)","v":""},{"$f":"IF(ISBLANK(Datenerfassung!B818),\"\",Datenerfassung!B818)","v":""},{"$f":"IF(ISBLANK(Datenerfassung!C818),\"\",Datenerfassung!C818)","v":""},{"$f":"IF(ISBLANK(Datenerfassung!I818),\"\",Datenerfassung!I818)","v":""},{"$f":"IF(ISBLANK(Datenerfassung!J818),\"\",Datenerfassung!J818)","v":""},"",{"$f":"IF(ISBLANK(Datenerfassung!L818),\"\",Datenerfassung!L818)","v":""},{"$f":"IF(ISBLANK(Datenerfassung!F818),\"\",Datenerfassung!F818)","v":""},{"$f":"IF(ISBLANK(Datenerfassung!D818),IF(COUNTBLANK(A808:H808)+COUNTBLANK(J808:O808)=14,\"\",\"- ohne Titel -\"),Datenerfassung!D818)","v":""},{"$f":"IF(ISBLANK(Datenerfassung!E818),\"\",Datenerfassung!E818)","v":""},"",{"$f":"IF(ISBLANK(Datenerfassung!O818),\"\",Datenerfassung!O818)","v":""},{"$f":"IF(ISBLANK(Datenerfassung!G818),\"\",Datenerfassung!G818)","v":""},{"$f":"IF(ISBLANK(Datenerfassung!M818),\"\",Datenerfassung!M818)","v":""},{"$f":"IF(ISBLANK(Datenerfassung!H818),\"\",Datenerfassung!H818)","v":""}]
[{"$f":"IF(ISBLANK(Datenerfassung!A819),\"\",Datenerfassung!A819)","v":""},{"$f":"IF(ISBLANK(Datenerfassung!B819),\"\",Datenerfassung!B819)","v":""},{"$f":"IF(ISBLANK(Datenerfassung!C819),\"\",Datenerfassung!C819)","v":""},{"$f":"IF(ISBLANK(Datenerfassung!I819),\"\",Datenerfassung!I819)","v":""},{"$f":"IF(ISBLANK(Datenerfassung!J819),\"\",Datenerfassung!J819)","v":""},"",{"$f":"IF(ISBLANK(Datenerfassung!L819),\"\",Datenerfassung!L819)","v":""},{"$f":"IF(ISBLANK(Datenerfassung!F819),\"\",Datenerfassung!F819)","v":""},{"$f":"IF(ISBLANK(Datenerfassung!D819),IF(COUNTBLANK(A809:H809)+COUNTBLANK(J809:O809)=14,\"\",\"- ohne Titel -\"),Datenerfassung!D819)","v":""},{"$f":"IF(ISBLANK(Datenerfassung!E819),\"\",Datenerfassung!E819)","v":""},"",{"$f":"IF(ISBLANK(Datenerfassung!O819),\"\",Datenerfassung!O819)","v":""},{"$f":"IF(ISBLANK(Datenerfassung!G819),\"\",Datenerfassung!G819)","v":""},{"$f":"IF(ISBLANK(Datenerfassung!M819),\"\",Datenerfassung!M819)","v":""},{"$f":"IF(ISBLANK(Datenerfassung!H819),\"\",Datenerfassung!H819)","v":""}]
[{"$f":"IF(ISBLANK(Datenerfassung!A820),\"\",Datenerfassung!A820)","v":""},{"$f":"IF(ISBLANK(Datenerfassung!B820),\"\",Datenerfassung!B820)","v":""},{"$f":"IF(ISBLANK(Datenerfassung!C820),\"\",Datenerfassung!C820)","v":""},{"$f":"IF(ISBLANK(Datenerfassung!I820),\"\",Datenerfassung!I820)","v":""},{"$f":"IF(ISBLANK(Datenerfassung!J820),\"\",Datenerfassung!J820)","v":""},"",{"$f":"IF(ISBLANK(Datenerfassung!L820),\"\",Datenerfassung!L820)","v":""},{"$f":"IF(ISBLANK(Datenerfassung!F820),\"\",Datenerfassung!F820)","v":""},{"$f":"IF(ISBLANK(Datenerfassung!D820),IF(COUNTBLANK(A810:H810)+COUNTBLANK(J810:O810)=14,\"\",\"- ohne Titel -\"),Datenerfassung!D820)","v":""},{"$f":"IF(ISBLANK(Datenerfassung!E820),\"\",Datenerfassung!E820)","v":""},"",{"$f":"IF(ISBLANK(Datenerfassung!O820),\"\",Datenerfassung!O820)","v":""},{"$f":"IF(ISBLANK(Datenerfassung!G820),\"\",Datenerfassung!G820)","v":""},{"$f":"IF(ISBLANK(Datenerfassung!M820),\"\",Datenerfassung!M820)","v":""},{"$f":"IF(ISBLANK(Datenerfassung!H820),\"\",Datenerfassung!H820)","v":""}]
[{"$f":"IF(ISBLANK(Datenerfassung!A821),\"\",Datenerfassung!A821)","v":""},{"$f":"IF(ISBLANK(Datenerfassung!B821),\"\",Datenerfassung!B821)","v":""},{"$f":"IF(ISBLANK(Datenerfassung!C821),\"\",Datenerfassung!C821)","v":""},{"$f":"IF(ISBLANK(Datenerfassung!I821),\"\",Datenerfassung!I821)","v":""},{"$f":"IF(ISBLANK(Datenerfassung!J821),\"\",Datenerfassung!J821)","v":""},"",{"$f":"IF(ISBLANK(Datenerfassung!L821),\"\",Datenerfassung!L821)","v":""},{"$f":"IF(ISBLANK(Datenerfassung!F821),\"\",Datenerfassung!F821)","v":""},{"$f":"IF(ISBLANK(Datenerfassung!D821),IF(COUNTBLANK(A811:H811)+COUNTBLANK(J811:O811)=14,\"\",\"- ohne Titel -\"),Datenerfassung!D821)","v":""},{"$f":"IF(ISBLANK(Datenerfassung!E821),\"\",Datenerfassung!E821)","v":""},"",{"$f":"IF(ISBLANK(Datenerfassung!O821),\"\",Datenerfassung!O821)","v":""},{"$f":"IF(ISBLANK(Datenerfassung!G821),\"\",Datenerfassung!G821)","v":""},{"$f":"IF(ISBLANK(Datenerfassung!M821),\"\",Datenerfassung!M821)","v":""},{"$f":"IF(ISBLANK(Datenerfassung!H821),\"\",Datenerfassung!H821)","v":""}]
[{"$f":"IF(ISBLANK(Datenerfassung!A822),\"\",Datenerfassung!A822)","v":""},{"$f":"IF(ISBLANK(Datenerfassung!B822),\"\",Datenerfassung!B822)","v":""},{"$f":"IF(ISBLANK(Datenerfassung!C822),\"\",Datenerfassung!C822)","v":""},{"$f":"IF(ISBLANK(Datenerfassung!I822),\"\",Datenerfassung!I822)","v":""},{"$f":"IF(ISBLANK(Datenerfassung!J822),\"\",Datenerfassung!J822)","v":""},"",{"$f":"IF(ISBLANK(Datenerfassung!L822),\"\",Datenerfassung!L822)","v":""},{"$f":"IF(ISBLANK(Datenerfassung!F822),\"\",Datenerfassung!F822)","v":""},{"$f":"IF(ISBLANK(Datenerfassung!D822),IF(COUNTBLANK(A812:H812)+COUNTBLANK(J812:O812)=14,\"\",\"- ohne Titel -\"),Datenerfassung!D822)","v":""},{"$f":"IF(ISBLANK(Datenerfassung!E822),\"\",Datenerfassung!E822)","v":""},"",{"$f":"IF(ISBLANK(Datenerfassung!O822),\"\",Datenerfassung!O822)","v":""},{"$f":"IF(ISBLANK(Datenerfassung!G822),\"\",Datenerfassung!G822)","v":""},{"$f":"IF(ISBLANK(Datenerfassung!M822),\"\",Datenerfassung!M822)","v":""},{"$f":"IF(ISBLANK(Datenerfassung!H822),\"\",Datenerfassung!H822)","v":""}]
[{"$f":"IF(ISBLANK(Datenerfassung!A823),\"\",Datenerfassung!A823)","v":""},{"$f":"IF(ISBLANK(Datenerfassung!B823),\"\",Datenerfassung!B823)","v":""},{"$f":"IF(ISBLANK(Datenerfassung!C823),\"\",Datenerfassung!C823)","v":""},{"$f":"IF(ISBLANK(Datenerfassung!I823),\"\",Datenerfassung!I823)","v":""},{"$f":"IF(ISBLANK(Datenerfassung!J823),\"\",Datenerfassung!J823)","v":""},"",{"$f":"IF(ISBLANK(Datenerfassung!L823),\"\",Datenerfassung!L823)","v":""},{"$f":"IF(ISBLANK(Datenerfassung!F823),\"\",Datenerfassung!F823)","v":""},{"$f":"IF(ISBLANK(Datenerfassung!D823),IF(COUNTBLANK(A813:H813)+COUNTBLANK(J813:O813)=14,\"\",\"- ohne Titel -\"),Datenerfassung!D823)","v":""},{"$f":"IF(ISBLANK(Datenerfassung!E823),\"\",Datenerfassung!E823)","v":""},"",{"$f":"IF(ISBLANK(Datenerfassung!O823),\"\",Datenerfassung!O823)","v":""},{"$f":"IF(ISBLANK(Datenerfassung!G823),\"\",Datenerfassung!G823)","v":""},{"$f":"IF(ISBLANK(Datenerfassung!M823),\"\",Datenerfassung!M823)","v":""},{"$f":"IF(ISBLANK(Datenerfassung!H823),\"\",Datenerfassung!H823)","v":""}]
[{"$f":"IF(ISBLANK(Datenerfassung!A824),\"\",Datenerfassung!A824)","v":""},{"$f":"IF(ISBLANK(Datenerfassung!B824),\"\",Datenerfassung!B824)","v":""},{"$f":"IF(ISBLANK(Datenerfassung!C824),\"\",Datenerfassung!C824)","v":""},{"$f":"IF(ISBLANK(Datenerfassung!I824),\"\",Datenerfassung!I824)","v":""},{"$f":"IF(ISBLANK(Datenerfassung!J824),\"\",Datenerfassung!J824)","v":""},"",{"$f":"IF(ISBLANK(Datenerfassung!L824),\"\",Datenerfassung!L824)","v":""},{"$f":"IF(ISBLANK(Datenerfassung!F824),\"\",Datenerfassung!F824)","v":""},{"$f":"IF(ISBLANK(Datenerfassung!D824),IF(COUNTBLANK(A814:H814)+COUNTBLANK(J814:O814)=14,\"\",\"- ohne Titel -\"),Datenerfassung!D824)","v":""},{"$f":"IF(ISBLANK(Datenerfassung!E824),\"\",Datenerfassung!E824)","v":""},"",{"$f":"IF(ISBLANK(Datenerfassung!O824),\"\",Datenerfassung!O824)","v":""},{"$f":"IF(ISBLANK(Datenerfassung!G824),\"\",Datenerfassung!G824)","v":""},{"$f":"IF(ISBLANK(Datenerfassung!M824),\"\",Datenerfassung!M824)","v":""},{"$f":"IF(ISBLANK(Datenerfassung!H824),\"\",Datenerfassung!H824)","v":""}]
[{"$f":"IF(ISBLANK(Datenerfassung!A825),\"\",Datenerfassung!A825)","v":""},{"$f":"IF(ISBLANK(Datenerfassung!B825),\"\",Datenerfassung!B825)","v":""},{"$f":"IF(ISBLANK(Datenerfassung!C825),\"\",Datenerfassung!C825)","v":""},{"$f":"IF(ISBLANK(Datenerfassung!I825),\"\",Datenerfassung!I825)","v":""},{"$f":"IF(ISBLANK(Datenerfassung!J825),\"\",Datenerfassung!J825)","v":""},"",{"$f":"IF(ISBLANK(Datenerfassung!L825),\"\",Datenerfassung!L825)","v":""},{"$f":"IF(ISBLANK(Datenerfassung!F825),\"\",Datenerfassung!F825)","v":""},{"$f":"IF(ISBLANK(Datenerfassung!D825),IF(COUNTBLANK(A815:H815)+COUNTBLANK(J815:O815)=14,\"\",\"- ohne Titel -\"),Datenerfassung!D825)","v":""},{"$f":"IF(ISBLANK(Datenerfassung!E825),\"\",Datenerfassung!E825)","v":""},"",{"$f":"IF(ISBLANK(Datenerfassung!O825),\"\",Datenerfassung!O825)","v":""},{"$f":"IF(ISBLANK(Datenerfassung!G825),\"\",Datenerfassung!G825)","v":""},{"$f":"IF(ISBLANK(Datenerfassung!M825),\"\",Datenerfassung!M825)","v":""},{"$f":"IF(ISBLANK(Datenerfassung!H825),\"\",Datenerfassung!H825)","v":""}]
[{"$f":"IF(ISBLANK(Datenerfassung!A826),\"\",Datenerfassung!A826)","v":""},{"$f":"IF(ISBLANK(Datenerfassung!B826),\"\",Datenerfassung!B826)","v":""},{"$f":"IF(ISBLANK(Datenerfassung!C826),\"\",Datenerfassung!C826)","v":""},{"$f":"IF(ISBLANK(Datenerfassung!I826),\"\",Datenerfassung!I826)","v":""},{"$f":"IF(ISBLANK(Datenerfassung!J826),\"\",Datenerfassung!J826)","v":""},"",{"$f":"IF(ISBLANK(Datenerfassung!L826),\"\",Datenerfassung!L826)","v":""},{"$f":"IF(ISBLANK(Datenerfassung!F826),\"\",Datenerfassung!F826)","v":""},{"$f":"IF(ISBLANK(Datenerfassung!D826),IF(COUNTBLANK(A816:H816)+COUNTBLANK(J816:O816)=14,\"\",\"- ohne Titel -\"),Datenerfassung!D826)","v":""},{"$f":"IF(ISBLANK(Datenerfassung!E826),\"\",Datenerfassung!E826)","v":""},"",{"$f":"IF(ISBLANK(Datenerfassung!O826),\"\",Datenerfassung!O826)","v":""},{"$f":"IF(ISBLANK(Datenerfassung!G826),\"\",Datenerfassung!G826)","v":""},{"$f":"IF(ISBLANK(Datenerfassung!M826),\"\",Datenerfassung!M826)","v":""},{"$f":"IF(ISBLANK(Datenerfassung!H826),\"\",Datenerfassung!H826)","v":""}]
[{"$f":"IF(ISBLANK(Datenerfassung!A827),\"\",Datenerfassung!A827)","v":""},{"$f":"IF(ISBLANK(Datenerfassung!B827),\"\",Datenerfassung!B827)","v":""},{"$f":"IF(ISBLANK(Datenerfassung!C827),\"\",Datenerfassung!C827)","v":""},{"$f":"IF(ISBLANK(Datenerfassung!I827),\"\",Datenerfassung!I827)","v":""},{"$f":"IF(ISBLANK(Datenerfassung!J827),\"\",Datenerfassung!J827)","v":""},"",{"$f":"IF(ISBLANK(Datenerfassung!L827),\"\",Datenerfassung!L827)","v":""},{"$f":"IF(ISBLANK(Datenerfassung!F827),\"\",Datenerfassung!F827)","v":""},{"$f":"IF(ISBLANK(Datenerfassung!D827),IF(COUNTBLANK(A817:H817)+COUNTBLANK(J817:O817)=14,\"\",\"- ohne Titel -\"),Datenerfassung!D827)","v":""},{"$f":"IF(ISBLANK(Datenerfassung!E827),\"\",Datenerfassung!E827)","v":""},"",{"$f":"IF(ISBLANK(Datenerfassung!O827),\"\",Datenerfassung!O827)","v":""},{"$f":"IF(ISBLANK(Datenerfassung!G827),\"\",Datenerfassung!G827)","v":""},{"$f":"IF(ISBLANK(Datenerfassung!M827),\"\",Datenerfassung!M827)","v":""},{"$f":"IF(ISBLANK(Datenerfassung!H827),\"\",Datenerfassung!H827)","v":""}]
[{"$f":"IF(ISBLANK(Datenerfassung!A828),\"\",Datenerfassung!A828)","v":""},{"$f":"IF(ISBLANK(Datenerfassung!B828),\"\",Datenerfassung!B828)","v":""},{"$f":"IF(ISBLANK(Datenerfassung!C828),\"\",Datenerfassung!C828)","v":""},{"$f":"IF(ISBLANK(Datenerfassung!I828),\"\",Datenerfassung!I828)","v":""},{"$f":"IF(ISBLANK(Datenerfassung!J828),\"\",Datenerfassung!J828)","v":""},"",{"$f":"IF(ISBLANK(Datenerfassung!L828),\"\",Datenerfassung!L828)","v":""},{"$f":"IF(ISBLANK(Datenerfassung!F828),\"\",Datenerfassung!F828)","v":""},{"$f":"IF(ISBLANK(Datenerfassung!D828),IF(COUNTBLANK(A818:H818)+COUNTBLANK(J818:O818)=14,\"\",\"- ohne Titel -\"),Datenerfassung!D828)","v":""},{"$f":"IF(ISBLANK(Datenerfassung!E828),\"\",Datenerfassung!E828)","v":""},"",{"$f":"IF(ISBLANK(Datenerfassung!O828),\"\",Datenerfassung!O828)","v":""},{"$f":"IF(ISBLANK(Datenerfassung!G828),\"\",Datenerfassung!G828)","v":""},{"$f":"IF(ISBLANK(Datenerfassung!M828),\"\",Datenerfassung!M828)","v":""},{"$f":"IF(ISBLANK(Datenerfassung!H828),\"\",Datenerfassung!H828)","v":""}]
[{"$f":"IF(ISBLANK(Datenerfassung!A829),\"\",Datenerfassung!A829)","v":""},{"$f":"IF(ISBLANK(Datenerfassung!B829),\"\",Datenerfassung!B829)","v":""},{"$f":"IF(ISBLANK(Datenerfassung!C829),\"\",Datenerfassung!C829)","v":""},{"$f":"IF(ISBLANK(Datenerfassung!I829),\"\",Datenerfassung!I829)","v":""},{"$f":"IF(ISBLANK(Datenerfassung!J829),\"\",Datenerfassung!J829)","v":""},"",{"$f":"IF(ISBLANK(Datenerfassung!L829),\"\",Datenerfassung!L829)","v":""},{"$f":"IF(ISBLANK(Datenerfassung!F829),\"\",Datenerfassung!F829)","v":""},{"$f":"IF(ISBLANK(Datenerfassung!D829),IF(COUNTBLANK(A819:H819)+COUNTBLANK(J819:O819)=14,\"\",\"- ohne Titel -\"),Datenerfassung!D829)","v":""},{"$f":"IF(ISBLANK(Datenerfassung!E829),\"\",Datenerfassung!E829)","v":""},"",{"$f":"IF(ISBLANK(Datenerfassung!O829),\"\",Datenerfassung!O829)","v":""},{"$f":"IF(ISBLANK(Datenerfassung!G829),\"\",Datenerfassung!G829)","v":""},{"$f":"IF(ISBLANK(Datenerfassung!M829),\"\",Datenerfassung!M829)","v":""},{"$f":"IF(ISBLANK(Datenerfassung!H829),\"\",Datenerfassung!H829)","v":""}]
[{"$f":"IF(ISBLANK(Datenerfassung!A830),\"\",Datenerfassung!A830)","v":""},{"$f":"IF(ISBLANK(Datenerfassung!B830),\"\",Datenerfassung!B830)","v":""},{"$f":"IF(ISBLANK(Datenerfassung!C830),\"\",Datenerfassung!C830)","v":""},{"$f":"IF(ISBLANK(Datenerfassung!I830),\"\",Datenerfassung!I830)","v":""},{"$f":"IF(ISBLANK(Datenerfassung!J830),\"\",Datenerfassung!J830)","v":""},"",{"$f":"IF(ISBLANK(Datenerfassung!L830),\"\",Datenerfassung!L830)","v":""},{"$f":"IF(ISBLANK(Datenerfassung!F830),\"\",Datenerfassung!F830)","v":""},{"$f":"IF(ISBLANK(Datenerfassung!D830),IF(COUNTBLANK(A820:H820)+COUNTBLANK(J820:O820)=14,\"\",\"- ohne Titel -\"),Datenerfassung!D830)","v":""},{"$f":"IF(ISBLANK(Datenerfassung!E830),\"\",Datenerfassung!E830)","v":""},"",{"$f":"IF(ISBLANK(Datenerfassung!O830),\"\",Datenerfassung!O830)","v":""},{"$f":"IF(ISBLANK(Datenerfassung!G830),\"\",Datenerfassung!G830)","v":""},{"$f":"IF(ISBLANK(Datenerfassung!M830),\"\",Datenerfassung!M830)","v":""},{"$f":"IF(ISBLANK(Datenerfassung!H830),\"\",Datenerfassung!H830)","v":""}]
[{"$f":"IF(ISBLANK(Datenerfassung!A831),\"\",Datenerfassung!A831)","v":""},{"$f":"IF(ISBLANK(Datenerfassung!B831),\"\",Datenerfassung!B831)","v":""},{"$f":"IF(ISBLANK(Datenerfassung!C831),\"\",Datenerfassung!C831)","v":""},{"$f":"IF(ISBLANK(Datenerfassung!I831),\"\",Datenerfassung!I831)","v":""},{"$f":"IF(ISBLANK(Datenerfassung!J831),\"\",Datenerfassung!J831)","v":""},"",{"$f":"IF(ISBLANK(Datenerfassung!L831),\"\",Datenerfassung!L831)","v":""},{"$f":"IF(ISBLANK(Datenerfassung!F831),\"\",Datenerfassung!F831)","v":""},{"$f":"IF(ISBLANK(Datenerfassung!D831),IF(COUNTBLANK(A821:H821)+COUNTBLANK(J821:O821)=14,\"\",\"- ohne Titel -\"),Datenerfassung!D831)","v":""},{"$f":"IF(ISBLANK(Datenerfassung!E831),\"\",Datenerfassung!E831)","v":""},"",{"$f":"IF(ISBLANK(Datenerfassung!O831),\"\",Datenerfassung!O831)","v":""},{"$f":"IF(ISBLANK(Datenerfassung!G831),\"\",Datenerfassung!G831)","v":""},{"$f":"IF(ISBLANK(Datenerfassung!M831),\"\",Datenerfassung!M831)","v":""},{"$f":"IF(ISBLANK(Datenerfassung!H831),\"\",Datenerfassung!H831)","v":""}]
[{"$f":"IF(ISBLANK(Datenerfassung!A832),\"\",Datenerfassung!A832)","v":""},{"$f":"IF(ISBLANK(Datenerfassung!B832),\"\",Datenerfassung!B832)","v":""},{"$f":"IF(ISBLANK(Datenerfassung!C832),\"\",Datenerfassung!C832)","v":""},{"$f":"IF(ISBLANK(Datenerfassung!I832),\"\",Datenerfassung!I832)","v":""},{"$f":"IF(ISBLANK(Datenerfassung!J832),\"\",Datenerfassung!J832)","v":""},"",{"$f":"IF(ISBLANK(Datenerfassung!L832),\"\",Datenerfassung!L832)","v":""},{"$f":"IF(ISBLANK(Datenerfassung!F832),\"\",Datenerfassung!F832)","v":""},{"$f":"IF(ISBLANK(Datenerfassung!D832),IF(COUNTBLANK(A822:H822)+COUNTBLANK(J822:O822)=14,\"\",\"- ohne Titel -\"),Datenerfassung!D832)","v":""},{"$f":"IF(ISBLANK(Datenerfassung!E832),\"\",Datenerfassung!E832)","v":""},"",{"$f":"IF(ISBLANK(Datenerfassung!O832),\"\",Datenerfassung!O832)","v":""},{"$f":"IF(ISBLANK(Datenerfassung!G832),\"\",Datenerfassung!G832)","v":""},{"$f":"IF(ISBLANK(Datenerfassung!M832),\"\",Datenerfassung!M832)","v":""},{"$f":"IF(ISBLANK(Datenerfassung!H832),\"\",Datenerfassung!H832)","v":""}]
[{"$f":"IF(ISBLANK(Datenerfassung!A833),\"\",Datenerfassung!A833)","v":""},{"$f":"IF(ISBLANK(Datenerfassung!B833),\"\",Datenerfassung!B833)","v":""},{"$f":"IF(ISBLANK(Datenerfassung!C833),\"\",Datenerfassung!C833)","v":""},{"$f":"IF(ISBLANK(Datenerfassung!I833),\"\",Datenerfassung!I833)","v":""},{"$f":"IF(ISBLANK(Datenerfassung!J833),\"\",Datenerfassung!J833)","v":""},"",{"$f":"IF(ISBLANK(Datenerfassung!L833),\"\",Datenerfassung!L833)","v":""},{"$f":"IF(ISBLANK(Datenerfassung!F833),\"\",Datenerfassung!F833)","v":""},{"$f":"IF(ISBLANK(Datenerfassung!D833),IF(COUNTBLANK(A823:H823)+COUNTBLANK(J823:O823)=14,\"\",\"- ohne Titel -\"),Datenerfassung!D833)","v":""},{"$f":"IF(ISBLANK(Datenerfassung!E833),\"\",Datenerfassung!E833)","v":""},"",{"$f":"IF(ISBLANK(Datenerfassung!O833),\"\",Datenerfassung!O833)","v":""},{"$f":"IF(ISBLANK(Datenerfassung!G833),\"\",Datenerfassung!G833)","v":""},{"$f":"IF(ISBLANK(Datenerfassung!M833),\"\",Datenerfassung!M833)","v":""},{"$f":"IF(ISBLANK(Datenerfassung!H833),\"\",Datenerfassung!H833)","v":""}]
[{"$f":"IF(ISBLANK(Datenerfassung!A834),\"\",Datenerfassung!A834)","v":""},{"$f":"IF(ISBLANK(Datenerfassung!B834),\"\",Datenerfassung!B834)","v":""},{"$f":"IF(ISBLANK(Datenerfassung!C834),\"\",Datenerfassung!C834)","v":""},{"$f":"IF(ISBLANK(Datenerfassung!I834),\"\",Datenerfassung!I834)","v":""},{"$f":"IF(ISBLANK(Datenerfassung!J834),\"\",Datenerfassung!J834)","v":""},"",{"$f":"IF(ISBLANK(Datenerfassung!L834),\"\",Datenerfassung!L834)","v":""},{"$f":"IF(ISBLANK(Datenerfassung!F834),\"\",Datenerfassung!F834)","v":""},{"$f":"IF(ISBLANK(Datenerfassung!D834),IF(COUNTBLANK(A824:H824)+COUNTBLANK(J824:O824)=14,\"\",\"- ohne Titel -\"),Datenerfassung!D834)","v":""},{"$f":"IF(ISBLANK(Datenerfassung!E834),\"\",Datenerfassung!E834)","v":""},"",{"$f":"IF(ISBLANK(Datenerfassung!O834),\"\",Datenerfassung!O834)","v":""},{"$f":"IF(ISBLANK(Datenerfassung!G834),\"\",Datenerfassung!G834)","v":""},{"$f":"IF(ISBLANK(Datenerfassung!M834),\"\",Datenerfassung!M834)","v":""},{"$f":"IF(ISBLANK(Datenerfassung!H834),\"\",Datenerfassung!H834)","v":""}]
[{"$f":"IF(ISBLANK(Datenerfassung!A835),\"\",Datenerfassung!A835)","v":""},{"$f":"IF(ISBLANK(Datenerfassung!B835),\"\",Datenerfassung!B835)","v":""},{"$f":"IF(ISBLANK(Datenerfassung!C835),\"\",Datenerfassung!C835)","v":""},{"$f":"IF(ISBLANK(Datenerfassung!I835),\"\",Datenerfassung!I835)","v":""},{"$f":"IF(ISBLANK(Datenerfassung!J835),\"\",Datenerfassung!J835)","v":""},"",{"$f":"IF(ISBLANK(Datenerfassung!L835),\"\",Datenerfassung!L835)","v":""},{"$f":"IF(ISBLANK(Datenerfassung!F835),\"\",Datenerfassung!F835)","v":""},{"$f":"IF(ISBLANK(Datenerfassung!D835),IF(COUNTBLANK(A825:H825)+COUNTBLANK(J825:O825)=14,\"\",\"- ohne Titel -\"),Datenerfassung!D835)","v":""},{"$f":"IF(ISBLANK(Datenerfassung!E835),\"\",Datenerfassung!E835)","v":""},"",{"$f":"IF(ISBLANK(Datenerfassung!O835),\"\",Datenerfassung!O835)","v":""},{"$f":"IF(ISBLANK(Datenerfassung!G835),\"\",Datenerfassung!G835)","v":""},{"$f":"IF(ISBLANK(Datenerfassung!M835),\"\",Datenerfassung!M835)","v":""},{"$f":"IF(ISBLANK(Datenerfassung!H835),\"\",Datenerfassung!H835)","v":""}]
[{"$f":"IF(ISBLANK(Datenerfassung!A836),\"\",Datenerfassung!A836)","v":""},{"$f":"IF(ISBLANK(Datenerfassung!B836),\"\",Datenerfassung!B836)","v":""},{"$f":"IF(ISBLANK(Datenerfassung!C836),\"\",Datenerfassung!C836)","v":""},{"$f":"IF(ISBLANK(Datenerfassung!I836),\"\",Datenerfassung!I836)","v":""},{"$f":"IF(ISBLANK(Datenerfassung!J836),\"\",Datenerfassung!J836)","v":""},"",{"$f":"IF(ISBLANK(Datenerfassung!L836),\"\",Datenerfassung!L836)","v":""},{"$f":"IF(ISBLANK(Datenerfassung!F836),\"\",Datenerfassung!F836)","v":""},{"$f":"IF(ISBLANK(Datenerfassung!D836),IF(COUNTBLANK(A826:H826)+COUNTBLANK(J826:O826)=14,\"\",\"- ohne Titel -\"),Datenerfassung!D836)","v":""},{"$f":"IF(ISBLANK(Datenerfassung!E836),\"\",Datenerfassung!E836)","v":""},"",{"$f":"IF(ISBLANK(Datenerfassung!O836),\"\",Datenerfassung!O836)","v":""},{"$f":"IF(ISBLANK(Datenerfassung!G836),\"\",Datenerfassung!G836)","v":""},{"$f":"IF(ISBLANK(Datenerfassung!M836),\"\",Datenerfassung!M836)","v":""},{"$f":"IF(ISBLANK(Datenerfassung!H836),\"\",Datenerfassung!H836)","v":""}]
[{"$f":"IF(ISBLANK(Datenerfassung!A837),\"\",Datenerfassung!A837)","v":""},{"$f":"IF(ISBLANK(Datenerfassung!B837),\"\",Datenerfassung!B837)","v":""},{"$f":"IF(ISBLANK(Datenerfassung!C837),\"\",Datenerfassung!C837)","v":""},{"$f":"IF(ISBLANK(Datenerfassung!I837),\"\",Datenerfassung!I837)","v":""},{"$f":"IF(ISBLANK(Datenerfassung!J837),\"\",Datenerfassung!J837)","v":""},"",{"$f":"IF(ISBLANK(Datenerfassung!L837),\"\",Datenerfassung!L837)","v":""},{"$f":"IF(ISBLANK(Datenerfassung!F837),\"\",Datenerfassung!F837)","v":""},{"$f":"IF(ISBLANK(Datenerfassung!D837),IF(COUNTBLANK(A827:H827)+COUNTBLANK(J827:O827)=14,\"\",\"- ohne Titel -\"),Datenerfassung!D837)","v":""},{"$f":"IF(ISBLANK(Datenerfassung!E837),\"\",Datenerfassung!E837)","v":""},"",{"$f":"IF(ISBLANK(Datenerfassung!O837),\"\",Datenerfassung!O837)","v":""},{"$f":"IF(ISBLANK(Datenerfassung!G837),\"\",Datenerfassung!G837)","v":""},{"$f":"IF(ISBLANK(Datenerfassung!M837),\"\",Datenerfassung!M837)","v":""},{"$f":"IF(ISBLANK(Datenerfassung!H837),\"\",Datenerfassung!H837)","v":""}]
[{"$f":"IF(ISBLANK(Datenerfassung!A838),\"\",Datenerfassung!A838)","v":""},{"$f":"IF(ISBLANK(Datenerfassung!B838),\"\",Datenerfassung!B838)","v":""},{"$f":"IF(ISBLANK(Datenerfassung!C838),\"\",Datenerfassung!C838)","v":""},{"$f":"IF(ISBLANK(Datenerfassung!I838),\"\",Datenerfassung!I838)","v":""},{"$f":"IF(ISBLANK(Datenerfassung!J838),\"\",Datenerfassung!J838)","v":""},"",{"$f":"IF(ISBLANK(Datenerfassung!L838),\"\",Datenerfassung!L838)","v":""},{"$f":"IF(ISBLANK(Datenerfassung!F838),\"\",Datenerfassung!F838)","v":""},{"$f":"IF(ISBLANK(Datenerfassung!D838),IF(COUNTBLANK(A828:H828)+COUNTBLANK(J828:O828)=14,\"\",\"- ohne Titel -\"),Datenerfassung!D838)","v":""},{"$f":"IF(ISBLANK(Datenerfassung!E838),\"\",Datenerfassung!E838)","v":""},"",{"$f":"IF(ISBLANK(Datenerfassung!O838),\"\",Datenerfassung!O838)","v":""},{"$f":"IF(ISBLANK(Datenerfassung!G838),\"\",Datenerfassung!G838)","v":""},{"$f":"IF(ISBLANK(Datenerfassung!M838),\"\",Datenerfassung!M838)","v":""},{"$f":"IF(ISBLANK(Datenerfassung!H838),\"\",Datenerfassung!H838)","v":""}]
[{"$f":"IF(ISBLANK(Datenerfassung!A839),\"\",Datenerfassung!A839)","v":""},{"$f":"IF(ISBLANK(Datenerfassung!B839),\"\",Datenerfassung!B839)","v":""},{"$f":"IF(ISBLANK(Datenerfassung!C839),\"\",Datenerfassung!C839)","v":""},{"$f":"IF(ISBLANK(Datenerfassung!I839),\"\",Datenerfassung!I839)","v":""},{"$f":"IF(ISBLANK(Datenerfassung!J839),\"\",Datenerfassung!J839)","v":""},"",{"$f":"IF(ISBLANK(Datenerfassung!L839),\"\",Datenerfassung!L839)","v":""},{"$f":"IF(ISBLANK(Datenerfassung!F839),\"\",Datenerfassung!F839)","v":""},{"$f":"IF(ISBLANK(Datenerfassung!D839),IF(COUNTBLANK(A829:H829)+COUNTBLANK(J829:O829)=14,\"\",\"- ohne Titel -\"),Datenerfassung!D839)","v":""},{"$f":"IF(ISBLANK(Datenerfassung!E839),\"\",Datenerfassung!E839)","v":""},"",{"$f":"IF(ISBLANK(Datenerfassung!O839),\"\",Datenerfassung!O839)","v":""},{"$f":"IF(ISBLANK(Datenerfassung!G839),\"\",Datenerfassung!G839)","v":""},{"$f":"IF(ISBLANK(Datenerfassung!M839),\"\",Datenerfassung!M839)","v":""},{"$f":"IF(ISBLANK(Datenerfassung!H839),\"\",Datenerfassung!H839)","v":""}]
[{"$f":"IF(ISBLANK(Datenerfassung!A840),\"\",Datenerfassung!A840)","v":""},{"$f":"IF(ISBLANK(Datenerfassung!B840),\"\",Datenerfassung!B840)","v":""},{"$f":"IF(ISBLANK(Datenerfassung!C840),\"\",Datenerfassung!C840)","v":""},{"$f":"IF(ISBLANK(Datenerfassung!I840),\"\",Datenerfassung!I840)","v":""},{"$f":"IF(ISBLANK(Datenerfassung!J840),\"\",Datenerfassung!J840)","v":""},"",{"$f":"IF(ISBLANK(Datenerfassung!L840),\"\",Datenerfassung!L840)","v":""},{"$f":"IF(ISBLANK(Datenerfassung!F840),\"\",Datenerfassung!F840)","v":""},{"$f":"IF(ISBLANK(Datenerfassung!D840),IF(COUNTBLANK(A830:H830)+COUNTBLANK(J830:O830)=14,\"\",\"- ohne Titel -\"),Datenerfassung!D840)","v":""},{"$f":"IF(ISBLANK(Datenerfassung!E840),\"\",Datenerfassung!E840)","v":""},"",{"$f":"IF(ISBLANK(Datenerfassung!O840),\"\",Datenerfassung!O840)","v":""},{"$f":"IF(ISBLANK(Datenerfassung!G840),\"\",Datenerfassung!G840)","v":""},{"$f":"IF(ISBLANK(Datenerfassung!M840),\"\",Datenerfassung!M840)","v":""},{"$f":"IF(ISBLANK(Datenerfassung!H840),\"\",Datenerfassung!H840)","v":""}]
[{"$f":"IF(ISBLANK(Datenerfassung!A841),\"\",Datenerfassung!A841)","v":""},{"$f":"IF(ISBLANK(Datenerfassung!B841),\"\",Datenerfassung!B841)","v":""},{"$f":"IF(ISBLANK(Datenerfassung!C841),\"\",Datenerfassung!C841)","v":""},{"$f":"IF(ISBLANK(Datenerfassung!I841),\"\",Datenerfassung!I841)","v":""},{"$f":"IF(ISBLANK(Datenerfassung!J841),\"\",Datenerfassung!J841)","v":""},"",{"$f":"IF(ISBLANK(Datenerfassung!L841),\"\",Datenerfassung!L841)","v":""},{"$f":"IF(ISBLANK(Datenerfassung!F841),\"\",Datenerfassung!F841)","v":""},{"$f":"IF(ISBLANK(Datenerfassung!D841),IF(COUNTBLANK(A831:H831)+COUNTBLANK(J831:O831)=14,\"\",\"- ohne Titel -\"),Datenerfassung!D841)","v":""},{"$f":"IF(ISBLANK(Datenerfassung!E841),\"\",Datenerfassung!E841)","v":""},"",{"$f":"IF(ISBLANK(Datenerfassung!O841),\"\",Datenerfassung!O841)","v":""},{"$f":"IF(ISBLANK(Datenerfassung!G841),\"\",Datenerfassung!G841)","v":""},{"$f":"IF(ISBLANK(Datenerfassung!M841),\"\",Datenerfassung!M841)","v":""},{"$f":"IF(ISBLANK(Datenerfassung!H841),\"\",Datenerfassung!H841)","v":""}]
[{"$f":"IF(ISBLANK(Datenerfassung!A842),\"\",Datenerfassung!A842)","v":""},{"$f":"IF(ISBLANK(Datenerfassung!B842),\"\",Datenerfassung!B842)","v":""},{"$f":"IF(ISBLANK(Datenerfassung!C842),\"\",Datenerfassung!C842)","v":""},{"$f":"IF(ISBLANK(Datenerfassung!I842),\"\",Datenerfassung!I842)","v":""},{"$f":"IF(ISBLANK(Datenerfassung!J842),\"\",Datenerfassung!J842)","v":""},"",{"$f":"IF(ISBLANK(Datenerfassung!L842),\"\",Datenerfassung!L842)","v":""},{"$f":"IF(ISBLANK(Datenerfassung!F842),\"\",Datenerfassung!F842)","v":""},{"$f":"IF(ISBLANK(Datenerfassung!D842),IF(COUNTBLANK(A832:H832)+COUNTBLANK(J832:O832)=14,\"\",\"- ohne Titel -\"),Datenerfassung!D842)","v":""},{"$f":"IF(ISBLANK(Datenerfassung!E842),\"\",Datenerfassung!E842)","v":""},"",{"$f":"IF(ISBLANK(Datenerfassung!O842),\"\",Datenerfassung!O842)","v":""},{"$f":"IF(ISBLANK(Datenerfassung!G842),\"\",Datenerfassung!G842)","v":""},{"$f":"IF(ISBLANK(Datenerfassung!M842),\"\",Datenerfassung!M842)","v":""},{"$f":"IF(ISBLANK(Datenerfassung!H842),\"\",Datenerfassung!H842)","v":""}]
[{"$f":"IF(ISBLANK(Datenerfassung!A843),\"\",Datenerfassung!A843)","v":""},{"$f":"IF(ISBLANK(Datenerfassung!B843),\"\",Datenerfassung!B843)","v":""},{"$f":"IF(ISBLANK(Datenerfassung!C843),\"\",Datenerfassung!C843)","v":""},{"$f":"IF(ISBLANK(Datenerfassung!I843),\"\",Datenerfassung!I843)","v":""},{"$f":"IF(ISBLANK(Datenerfassung!J843),\"\",Datenerfassung!J843)","v":""},"",{"$f":"IF(ISBLANK(Datenerfassung!L843),\"\",Datenerfassung!L843)","v":""},{"$f":"IF(ISBLANK(Datenerfassung!F843),\"\",Datenerfassung!F843)","v":""},{"$f":"IF(ISBLANK(Datenerfassung!D843),IF(COUNTBLANK(A833:H833)+COUNTBLANK(J833:O833)=14,\"\",\"- ohne Titel -\"),Datenerfassung!D843)","v":""},{"$f":"IF(ISBLANK(Datenerfassung!E843),\"\",Datenerfassung!E843)","v":""},"",{"$f":"IF(ISBLANK(Datenerfassung!O843),\"\",Datenerfassung!O843)","v":""},{"$f":"IF(ISBLANK(Datenerfassung!G843),\"\",Datenerfassung!G843)","v":""},{"$f":"IF(ISBLANK(Datenerfassung!M843),\"\",Datenerfassung!M843)","v":""},{"$f":"IF(ISBLANK(Datenerfassung!H843),\"\",Datenerfassung!H843)","v":""}]
[{"$f":"IF(ISBLANK(Datenerfassung!A844),\"\",Datenerfassung!A844)","v":""},{"$f":"IF(ISBLANK(Datenerfassung!B844),\"\",Datenerfassung!B844)","v":""},{"$f":"IF(ISBLANK(Datenerfassung!C844),\"\",Datenerfassung!C844)","v":""},{"$f":"IF(ISBLANK(Datenerfassung!I844),\"\",Datenerfassung!I844)","v":""},{"$f":"IF(ISBLANK(Datenerfassung!J844),\"\",Datenerfassung!J844)","v":""},"",{"$f":"IF(ISBLANK(Datenerfassung!L844),\"\",Datenerfassung!L844)","v":""},{"$f":"IF(ISBLANK(Datenerfassung!F844),\"\",Datenerfassung!F844)","v":""},{"$f":"IF(ISBLANK(Datenerfassung!D844),IF(COUNTBLANK(A834:H834)+COUNTBLANK(J834:O834)=14,\"\",\"- ohne Titel -\"),Datenerfassung!D844)","v":""},{"$f":"IF(ISBLANK(Datenerfassung!E844),\"\",Datenerfassung!E844)","v":""},"",{"$f":"IF(ISBLANK(Datenerfassung!O844),\"\",Datenerfassung!O844)","v":""},{"$f":"IF(ISBLANK(Datenerfassung!G844),\"\",Datenerfassung!G844)","v":""},{"$f":"IF(ISBLANK(Datenerfassung!M844),\"\",Datenerfassung!M844)","v":""},{"$f":"IF(ISBLANK(Datenerfassung!H844),\"\",Datenerfassung!H844)","v":""}]
[{"$f":"IF(ISBLANK(Datenerfassung!A845),\"\",Datenerfassung!A845)","v":""},{"$f":"IF(ISBLANK(Datenerfassung!B845),\"\",Datenerfassung!B845)","v":""},{"$f":"IF(ISBLANK(Datenerfassung!C845),\"\",Datenerfassung!C845)","v":""},{"$f":"IF(ISBLANK(Datenerfassung!I845),\"\",Datenerfassung!I845)","v":""},{"$f":"IF(ISBLANK(Datenerfassung!J845),\"\",Datenerfassung!J845)","v":""},{"$f":"IF(D835=\"\",\"\",IF(E835=\"\",D835,D835&\" - \"&E835))","v":""},{"$f":"IF(ISBLANK(Datenerfassung!L845),\"\",Datenerfassung!L845)","v":""},{"$f":"IF(ISBLANK(Datenerfassung!F845),\"\",Datenerfassung!F845)","v":""},{"$f":"IF(ISBLANK(Datenerfassung!D845),IF(COUNTBLANK(A835:H835)+COUNTBLANK(J835:O835)=14,\"\",\"- ohne Titel -\"),Datenerfassung!D845)","v":""},{"$f":"IF(ISBLANK(Datenerfassung!E845),\"\",Datenerfassung!E845)","v":""},{"$f":"IF(OR(E835=\"\",G835=\"\"),\"\",\"01.01.\"&RIGHT(E835,4)+G835+1)","v":""},{"$f":"IF(ISBLANK(Datenerfassung!O845),\"\",Datenerfassung!O845)","v":""},{"$f":"IF(ISBLANK(Datenerfassung!G845),\"\",Datenerfassung!G845)","v":""},{"$f":"IF(ISBLANK(Datenerfassung!M845),\"\",Datenerfassung!M845)","v":""},{"$f":"IF(ISBLANK(Datenerfassung!H845),\"\",Datenerfassung!H845)","v":""}]
[{"$f":"IF(ISBLANK(Datenerfassung!A846),\"\",Datenerfassung!A846)","v":""},{"$f":"IF(ISBLANK(Datenerfassung!B846),\"\",Datenerfassung!B846)","v":""},{"$f":"IF(ISBLANK(Datenerfassung!C846),\"\",Datenerfassung!C846)","v":""},{"$f":"IF(ISBLANK(Datenerfassung!I846),\"\",Datenerfassung!I846)","v":""},{"$f":"IF(ISBLANK(Datenerfassung!J846),\"\",Datenerfassung!J846)","v":""},"",{"$f":"IF(ISBLANK(Datenerfassung!L846),\"\",Datenerfassung!L846)","v":""},{"$f":"IF(ISBLANK(Datenerfassung!F846),\"\",Datenerfassung!F846)","v":""},{"$f":"IF(ISBLANK(Datenerfassung!D846),IF(COUNTBLANK(A836:H836)+COUNTBLANK(J836:O836)=14,\"\",\"- ohne Titel -\"),Datenerfassung!D846)","v":""},{"$f":"IF(ISBLANK(Datenerfassung!E846),\"\",Datenerfassung!E846)","v":""},"",{"$f":"IF(ISBLANK(Datenerfassung!O846),\"\",Datenerfassung!O846)","v":""},{"$f":"IF(ISBLANK(Datenerfassung!G846),\"\",Datenerfassung!G846)","v":""},{"$f":"IF(ISBLANK(Datenerfassung!M846),\"\",Datenerfassung!M846)","v":""},{"$f":"IF(ISBLANK(Datenerfassung!H846),\"\",Datenerfassung!H846)","v":""}]
[{"$f":"IF(ISBLANK(Datenerfassung!A847),\"\",Datenerfassung!A847)","v":""},{"$f":"IF(ISBLANK(Datenerfassung!B847),\"\",Datenerfassung!B847)","v":""},{"$f":"IF(ISBLANK(Datenerfassung!C847),\"\",Datenerfassung!C847)","v":""},{"$f":"IF(ISBLANK(Datenerfassung!I847),\"\",Datenerfassung!I847)","v":""},{"$f":"IF(ISBLANK(Datenerfassung!J847),\"\",Datenerfassung!J847)","v":""},"",{"$f":"IF(ISBLANK(Datenerfassung!L847),\"\",Datenerfassung!L847)","v":""},{"$f":"IF(ISBLANK(Datenerfassung!F847),\"\",Datenerfassung!F847)","v":""},{"$f":"IF(ISBLANK(Datenerfassung!D847),IF(COUNTBLANK(A837:H837)+COUNTBLANK(J837:O837)=14,\"\",\"- ohne Titel -\"),Datenerfassung!D847)","v":""},{"$f":"IF(ISBLANK(Datenerfassung!E847),\"\",Datenerfassung!E847)","v":""},"",{"$f":"IF(ISBLANK(Datenerfassung!O847),\"\",Datenerfassung!O847)","v":""},{"$f":"IF(ISBLANK(Datenerfassung!G847),\"\",Datenerfassung!G847)","v":""},{"$f":"IF(ISBLANK(Datenerfassung!M847),\"\",Datenerfassung!M847)","v":""},{"$f":"IF(ISBLANK(Datenerfassung!H847),\"\",Datenerfassung!H847)","v":""}]
[{"$f":"IF(ISBLANK(Datenerfassung!A848),\"\",Datenerfassung!A848)","v":""},{"$f":"IF(ISBLANK(Datenerfassung!B848),\"\",Datenerfassung!B848)","v":""},{"$f":"IF(ISBLANK(Datenerfassung!C848),\"\",Datenerfassung!C848)","v":""},{"$f":"IF(ISBLANK(Datenerfassung!I848),\"\",Datenerfassung!I848)","v":""},{"$f":"IF(ISBLANK(Datenerfassung!J848),\"\",Datenerfassung!J848)","v":""},"",{"$f":"IF(ISBLANK(Datenerfassung!L848),\"\",Datenerfassung!L848)","v":""},{"$f":"IF(ISBLANK(Datenerfassung!F848),\"\",Datenerfassung!F848)","v":""},{"$f":"IF(ISBLANK(Datenerfassung!D848),IF(COUNTBLANK(A838:H838)+COUNTBLANK(J838:O838)=14,\"\",\"- ohne Titel -\"),Datenerfassung!D848)","v":""},{"$f":"IF(ISBLANK(Datenerfassung!E848),\"\",Datenerfassung!E848)","v":""},"",{"$f":"IF(ISBLANK(Datenerfassung!O848),\"\",Datenerfassung!O848)","v":""},{"$f":"IF(ISBLANK(Datenerfassung!G848),\"\",Datenerfassung!G848)","v":""},{"$f":"IF(ISBLANK(Datenerfassung!M848),\"\",Datenerfassung!M848)","v":""},{"$f":"IF(ISBLANK(Datenerfassung!H848),\"\",Datenerfassung!H848)","v":""}]
[{"$f":"IF(ISBLANK(Datenerfassung!A849),\"\",Datenerfassung!A849)","v":""},{"$f":"IF(ISBLANK(Datenerfassung!B849),\"\",Datenerfassung!B849)","v":""},{"$f":"IF(ISBLANK(Datenerfassung!C849),\"\",Datenerfassung!C849)","v":""},{"$f":"IF(ISBLANK(Datenerfassung!I849),\"\",Datenerfassung!I849)","v":""},{"$f":"IF(ISBLANK(Datenerfassung!J849),\"\",Datenerfassung!J849)","v":""},"",{"$f":"IF(ISBLANK(Datenerfassung!L849),\"\",Datenerfassung!L849)","v":""},{"$f":"IF(ISBLANK(Datenerfassung!F849),\"\",Datenerfassung!F849)","v":""},{"$f":"IF(ISBLANK(Datenerfassung!D849),IF(COUNTBLANK(A839:H839)+COUNTBLANK(J839:O839)=14,\"\",\"- ohne Titel -\"),Datenerfassung!D849)","v":""},{"$f":"IF(ISBLANK(Datenerfassung!E849),\"\",Datenerfassung!E849)","v":""},"",{"$f":"IF(ISBLANK(Datenerfassung!O849),\"\",Datenerfassung!O849)","v":""},{"$f":"IF(ISBLANK(Datenerfassung!G849),\"\",Datenerfassung!G849)","v":""},{"$f":"IF(ISBLANK(Datenerfassung!M849),\"\",Datenerfassung!M849)","v":""},{"$f":"IF(ISBLANK(Datenerfassung!H849),\"\",Datenerfassung!H849)","v":""}]
[{"$f":"IF(ISBLANK(Datenerfassung!A850),\"\",Datenerfassung!A850)","v":""},{"$f":"IF(ISBLANK(Datenerfassung!B850),\"\",Datenerfassung!B850)","v":""},{"$f":"IF(ISBLANK(Datenerfassung!C850),\"\",Datenerfassung!C850)","v":""},{"$f":"IF(ISBLANK(Datenerfassung!I850),\"\",Datenerfassung!I850)","v":""},{"$f":"IF(ISBLANK(Datenerfassung!J850),\"\",Datenerfassung!J850)","v":""},"",{"$f":"IF(ISBLANK(Datenerfassung!L850),\"\",Datenerfassung!L850)","v":""},{"$f":"IF(ISBLANK(Datenerfassung!F850),\"\",Datenerfassung!F850)","v":""},{"$f":"IF(ISBLANK(Datenerfassung!D850),IF(COUNTBLANK(A840:H840)+COUNTBLANK(J840:O840)=14,\"\",\"- ohne Titel -\"),Datenerfassung!D850)","v":""},{"$f":"IF(ISBLANK(Datenerfassung!E850),\"\",Datenerfassung!E850)","v":""},"",{"$f":"IF(ISBLANK(Datenerfassung!O850),\"\",Datenerfassung!O850)","v":""},{"$f":"IF(ISBLANK(Datenerfassung!G850),\"\",Datenerfassung!G850)","v":""},{"$f":"IF(ISBLANK(Datenerfassung!M850),\"\",Datenerfassung!M850)","v":""},{"$f":"IF(ISBLANK(Datenerfassung!H850),\"\",Datenerfassung!H850)","v":""}]
[{"$f":"IF(ISBLANK(Datenerfassung!A851),\"\",Datenerfassung!A851)","v":""},{"$f":"IF(ISBLANK(Datenerfassung!B851),\"\",Datenerfassung!B851)","v":""},{"$f":"IF(ISBLANK(Datenerfassung!C851),\"\",Datenerfassung!C851)","v":""},{"$f":"IF(ISBLANK(Datenerfassung!I851),\"\",Datenerfassung!I851)","v":""},{"$f":"IF(ISBLANK(Datenerfassung!J851),\"\",Datenerfassung!J851)","v":""},"",{"$f":"IF(ISBLANK(Datenerfassung!L851),\"\",Datenerfassung!L851)","v":""},{"$f":"IF(ISBLANK(Datenerfassung!F851),\"\",Datenerfassung!F851)","v":""},{"$f":"IF(ISBLANK(Datenerfassung!D851),IF(COUNTBLANK(A841:H841)+COUNTBLANK(J841:O841)=14,\"\",\"- ohne Titel -\"),Datenerfassung!D851)","v":""},{"$f":"IF(ISBLANK(Datenerfassung!E851),\"\",Datenerfassung!E851)","v":""},"",{"$f":"IF(ISBLANK(Datenerfassung!O851),\"\",Datenerfassung!O851)","v":""},{"$f":"IF(ISBLANK(Datenerfassung!G851),\"\",Datenerfassung!G851)","v":""},{"$f":"IF(ISBLANK(Datenerfassung!M851),\"\",Datenerfassung!M851)","v":""},{"$f":"IF(ISBLANK(Datenerfassung!H851),\"\",Datenerfassung!H851)","v":""}]
[{"$f":"IF(ISBLANK(Datenerfassung!A852),\"\",Datenerfassung!A852)","v":""},{"$f":"IF(ISBLANK(Datenerfassung!B852),\"\",Datenerfassung!B852)","v":""},{"$f":"IF(ISBLANK(Datenerfassung!C852),\"\",Datenerfassung!C852)","v":""},{"$f":"IF(ISBLANK(Datenerfassung!I852),\"\",Datenerfassung!I852)","v":""},{"$f":"IF(ISBLANK(Datenerfassung!J852),\"\",Datenerfassung!J852)","v":""},"",{"$f":"IF(ISBLANK(Datenerfassung!L852),\"\",Datenerfassung!L852)","v":""},{"$f":"IF(ISBLANK(Datenerfassung!F852),\"\",Datenerfassung!F852)","v":""},{"$f":"IF(ISBLANK(Datenerfassung!D852),IF(COUNTBLANK(A842:H842)+COUNTBLANK(J842:O842)=14,\"\",\"- ohne Titel -\"),Datenerfassung!D852)","v":""},{"$f":"IF(ISBLANK(Datenerfassung!E852),\"\",Datenerfassung!E852)","v":""},"",{"$f":"IF(ISBLANK(Datenerfassung!O852),\"\",Datenerfassung!O852)","v":""},{"$f":"IF(ISBLANK(Datenerfassung!G852),\"\",Datenerfassung!G852)","v":""},{"$f":"IF(ISBLANK(Datenerfassung!M852),\"\",Datenerfassung!M852)","v":""},{"$f":"IF(ISBLANK(Datenerfassung!H852),\"\",Datenerfassung!H852)","v":""}]
[{"$f":"IF(ISBLANK(Datenerfassung!A853),\"\",Datenerfassung!A853)","v":""},{"$f":"IF(ISBLANK(Datenerfassung!B853),\"\",Datenerfassung!B853)","v":""},{"$f":"IF(ISBLANK(Datenerfassung!C853),\"\",Datenerfassung!C853)","v":""},{"$f":"IF(ISBLANK(Datenerfassung!I853),\"\",Datenerfassung!I853)","v":""},{"$f":"IF(ISBLANK(Datenerfassung!J853),\"\",Datenerfassung!J853)","v":""},"",{"$f":"IF(ISBLANK(Datenerfassung!L853),\"\",Datenerfassung!L853)","v":""},{"$f":"IF(ISBLANK(Datenerfassung!F853),\"\",Datenerfassung!F853)","v":""},{"$f":"IF(ISBLANK(Datenerfassung!D853),IF(COUNTBLANK(A843:H843)+COUNTBLANK(J843:O843)=14,\"\",\"- ohne Titel -\"),Datenerfassung!D853)","v":""},{"$f":"IF(ISBLANK(Datenerfassung!E853),\"\",Datenerfassung!E853)","v":""},"",{"$f":"IF(ISBLANK(Datenerfassung!O853),\"\",Datenerfassung!O853)","v":""},{"$f":"IF(ISBLANK(Datenerfassung!G853),\"\",Datenerfassung!G853)","v":""},{"$f":"IF(ISBLANK(Datenerfassung!M853),\"\",Datenerfassung!M853)","v":""},{"$f":"IF(ISBLANK(Datenerfassung!H853),\"\",Datenerfassung!H853)","v":""}]
[{"$f":"IF(ISBLANK(Datenerfassung!A854),\"\",Datenerfassung!A854)","v":""},{"$f":"IF(ISBLANK(Datenerfassung!B854),\"\",Datenerfassung!B854)","v":""},{"$f":"IF(ISBLANK(Datenerfassung!C854),\"\",Datenerfassung!C854)","v":""},{"$f":"IF(ISBLANK(Datenerfassung!I854),\"\",Datenerfassung!I854)","v":""},{"$f":"IF(ISBLANK(Datenerfassung!J854),\"\",Datenerfassung!J854)","v":""},"",{"$f":"IF(ISBLANK(Datenerfassung!L854),\"\",Datenerfassung!L854)","v":""},{"$f":"IF(ISBLANK(Datenerfassung!F854),\"\",Datenerfassung!F854)","v":""},{"$f":"IF(ISBLANK(Datenerfassung!D854),IF(COUNTBLANK(A844:H844)+COUNTBLANK(J844:O844)=14,\"\",\"- ohne Titel -\"),Datenerfassung!D854)","v":""},{"$f":"IF(ISBLANK(Datenerfassung!E854),\"\",Datenerfassung!E854)","v":""},"",{"$f":"IF(ISBLANK(Datenerfassung!O854),\"\",Datenerfassung!O854)","v":""},{"$f":"IF(ISBLANK(Datenerfassung!G854),\"\",Datenerfassung!G854)","v":""},{"$f":"IF(ISBLANK(Datenerfassung!M854),\"\",Datenerfassung!M854)","v":""},{"$f":"IF(ISBLANK(Datenerfassung!H854),\"\",Datenerfassung!H854)","v":""}]
[{"$f":"IF(ISBLANK(Datenerfassung!A855),\"\",Datenerfassung!A855)","v":""},{"$f":"IF(ISBLANK(Datenerfassung!B855),\"\",Datenerfassung!B855)","v":""},{"$f":"IF(ISBLANK(Datenerfassung!C855),\"\",Datenerfassung!C855)","v":""},{"$f":"IF(ISBLANK(Datenerfassung!I855),\"\",Datenerfassung!I855)","v":""},{"$f":"IF(ISBLANK(Datenerfassung!J855),\"\",Datenerfassung!J855)","v":""},"",{"$f":"IF(ISBLANK(Datenerfassung!L855),\"\",Datenerfassung!L855)","v":""},{"$f":"IF(ISBLANK(Datenerfassung!F855),\"\",Datenerfassung!F855)","v":""},{"$f":"IF(ISBLANK(Datenerfassung!D855),IF(COUNTBLANK(A845:H845)+COUNTBLANK(J845:O845)=14,\"\",\"- ohne Titel -\"),Datenerfassung!D855)","v":""},{"$f":"IF(ISBLANK(Datenerfassung!E855),\"\",Datenerfassung!E855)","v":""},"",{"$f":"IF(ISBLANK(Datenerfassung!O855),\"\",Datenerfassung!O855)","v":""},{"$f":"IF(ISBLANK(Datenerfassung!G855),\"\",Datenerfassung!G855)","v":""},{"$f":"IF(ISBLANK(Datenerfassung!M855),\"\",Datenerfassung!M855)","v":""},{"$f":"IF(ISBLANK(Datenerfassung!H855),\"\",Datenerfassung!H855)","v":""}]
[{"$f":"IF(ISBLANK(Datenerfassung!A856),\"\",Datenerfassung!A856)","v":""},{"$f":"IF(ISBLANK(Datenerfassung!B856),\"\",Datenerfassung!B856)","v":""},{"$f":"IF(ISBLANK(Datenerfassung!C856),\"\",Datenerfassung!C856)","v":""},{"$f":"IF(ISBLANK(Datenerfassung!I856),\"\",Datenerfassung!I856)","v":""},{"$f":"IF(ISBLANK(Datenerfassung!J856),\"\",Datenerfassung!J856)","v":""},"",{"$f":"IF(ISBLANK(Datenerfassung!L856),\"\",Datenerfassung!L856)","v":""},{"$f":"IF(ISBLANK(Datenerfassung!F856),\"\",Datenerfassung!F856)","v":""},{"$f":"IF(ISBLANK(Datenerfassung!D856),IF(COUNTBLANK(A846:H846)+COUNTBLANK(J846:O846)=14,\"\",\"- ohne Titel -\"),Datenerfassung!D856)","v":""},{"$f":"IF(ISBLANK(Datenerfassung!E856),\"\",Datenerfassung!E856)","v":""},"",{"$f":"IF(ISBLANK(Datenerfassung!O856),\"\",Datenerfassung!O856)","v":""},{"$f":"IF(ISBLANK(Datenerfassung!G856),\"\",Datenerfassung!G856)","v":""},{"$f":"IF(ISBLANK(Datenerfassung!M856),\"\",Datenerfassung!M856)","v":""},{"$f":"IF(ISBLANK(Datenerfassung!H856),\"\",Datenerfassung!H856)","v":""}]
[{"$f":"IF(ISBLANK(Datenerfassung!A857),\"\",Datenerfassung!A857)","v":""},{"$f":"IF(ISBLANK(Datenerfassung!B857),\"\",Datenerfassung!B857)","v":""},{"$f":"IF(ISBLANK(Datenerfassung!C857),\"\",Datenerfassung!C857)","v":""},{"$f":"IF(ISBLANK(Datenerfassung!I857),\"\",Datenerfassung!I857)","v":""},{"$f":"IF(ISBLANK(Datenerfassung!J857),\"\",Datenerfassung!J857)","v":""},"",{"$f":"IF(ISBLANK(Datenerfassung!L857),\"\",Datenerfassung!L857)","v":""},{"$f":"IF(ISBLANK(Datenerfassung!F857),\"\",Datenerfassung!F857)","v":""},{"$f":"IF(ISBLANK(Datenerfassung!D857),IF(COUNTBLANK(A847:H847)+COUNTBLANK(J847:O847)=14,\"\",\"- ohne Titel -\"),Datenerfassung!D857)","v":""},{"$f":"IF(ISBLANK(Datenerfassung!E857),\"\",Datenerfassung!E857)","v":""},"",{"$f":"IF(ISBLANK(Datenerfassung!O857),\"\",Datenerfassung!O857)","v":""},{"$f":"IF(ISBLANK(Datenerfassung!G857),\"\",Datenerfassung!G857)","v":""},{"$f":"IF(ISBLANK(Datenerfassung!M857),\"\",Datenerfassung!M857)","v":""},{"$f":"IF(ISBLANK(Datenerfassung!H857),\"\",Datenerfassung!H857)","v":""}]
[{"$f":"IF(ISBLANK(Datenerfassung!A858),\"\",Datenerfassung!A858)","v":""},{"$f":"IF(ISBLANK(Datenerfassung!B858),\"\",Datenerfassung!B858)","v":""},{"$f":"IF(ISBLANK(Datenerfassung!C858),\"\",Datenerfassung!C858)","v":""},{"$f":"IF(ISBLANK(Datenerfassung!I858),\"\",Datenerfassung!I858)","v":""},{"$f":"IF(ISBLANK(Datenerfassung!J858),\"\",Datenerfassung!J858)","v":""},"",{"$f":"IF(ISBLANK(Datenerfassung!L858),\"\",Datenerfassung!L858)","v":""},{"$f":"IF(ISBLANK(Datenerfassung!F858),\"\",Datenerfassung!F858)","v":""},{"$f":"IF(ISBLANK(Datenerfassung!D858),IF(COUNTBLANK(A848:H848)+COUNTBLANK(J848:O848)=14,\"\",\"- ohne Titel -\"),Datenerfassung!D858)","v":""},{"$f":"IF(ISBLANK(Datenerfassung!E858),\"\",Datenerfassung!E858)","v":""},"",{"$f":"IF(ISBLANK(Datenerfassung!O858),\"\",Datenerfassung!O858)","v":""},{"$f":"IF(ISBLANK(Datenerfassung!G858),\"\",Datenerfassung!G858)","v":""},{"$f":"IF(ISBLANK(Datenerfassung!M858),\"\",Datenerfassung!M858)","v":""},{"$f":"IF(ISBLANK(Datenerfassung!H858),\"\",Datenerfassung!H858)","v":""}]
[{"$f":"IF(ISBLANK(Datenerfassung!A859),\"\",Datenerfassung!A859)","v":""},{"$f":"IF(ISBLANK(Datenerfassung!B859),\"\",Datenerfassung!B859)","v":""},{"$f":"IF(ISBLANK(Datenerfassung!C859),\"\",Datenerfassung!C859)","v":""},{"$f":"IF(ISBLANK(Datenerfassung!I859),\"\",Datenerfassung!I859)","v":""},{"$f":"IF(ISBLANK(Datenerfassung!J859),\"\",Datenerfassung!J859)","v":""},"",{"$f":"IF(ISBLANK(Datenerfassung!L859),\"\",Datenerfassung!L859)","v":""},{"$f":"IF(ISBLANK(Datenerfassung!F859),\"\",Datenerfassung!F859)","v":""},{"$f":"IF(ISBLANK(Datenerfassung!D859),IF(COUNTBLANK(A849:H849)+COUNTBLANK(J849:O849)=14,\"\",\"- ohne Titel -\"),Datenerfassung!D859)","v":""},{"$f":"IF(ISBLANK(Datenerfassung!E859),\"\",Datenerfassung!E859)","v":""},"",{"$f":"IF(ISBLANK(Datenerfassung!O859),\"\",Datenerfassung!O859)","v":""},{"$f":"IF(ISBLANK(Datenerfassung!G859),\"\",Datenerfassung!G859)","v":""},{"$f":"IF(ISBLANK(Datenerfassung!M859),\"\",Datenerfassung!M859)","v":""},{"$f":"IF(ISBLANK(Datenerfassung!H859),\"\",Datenerfassung!H859)","v":""}]
[{"$f":"IF(ISBLANK(Datenerfassung!A860),\"\",Datenerfassung!A860)","v":""},{"$f":"IF(ISBLANK(Datenerfassung!B860),\"\",Datenerfassung!B860)","v":""},{"$f":"IF(ISBLANK(Datenerfassung!C860),\"\",Datenerfassung!C860)","v":""},{"$f":"IF(ISBLANK(Datenerfassung!I860),\"\",Datenerfassung!I860)","v":""},{"$f":"IF(ISBLANK(Datenerfassung!J860),\"\",Datenerfassung!J860)","v":""},"",{"$f":"IF(ISBLANK(Datenerfassung!L860),\"\",Datenerfassung!L860)","v":""},{"$f":"IF(ISBLANK(Datenerfassung!F860),\"\",Datenerfassung!F860)","v":""},{"$f":"IF(ISBLANK(Datenerfassung!D860),IF(COUNTBLANK(A850:H850)+COUNTBLANK(J850:O850)=14,\"\",\"- ohne Titel -\"),Datenerfassung!D860)","v":""},{"$f":"IF(ISBLANK(Datenerfassung!E860),\"\",Datenerfassung!E860)","v":""},"",{"$f":"IF(ISBLANK(Datenerfassung!O860),\"\",Datenerfassung!O860)","v":""},{"$f":"IF(ISBLANK(Datenerfassung!G860),\"\",Datenerfassung!G860)","v":""},{"$f":"IF(ISBLANK(Datenerfassung!M860),\"\",Datenerfassung!M860)","v":""},{"$f":"IF(ISBLANK(Datenerfassung!H860),\"\",Datenerfassung!H860)","v":""}]
[{"$f":"IF(ISBLANK(Datenerfassung!A861),\"\",Datenerfassung!A861)","v":""},{"$f":"IF(ISBLANK(Datenerfassung!B861),\"\",Datenerfassung!B861)","v":""},{"$f":"IF(ISBLANK(Datenerfassung!C861),\"\",Datenerfassung!C861)","v":""},{"$f":"IF(ISBLANK(Datenerfassung!I861),\"\",Datenerfassung!I861)","v":""},{"$f":"IF(ISBLANK(Datenerfassung!J861),\"\",Datenerfassung!J861)","v":""},"",{"$f":"IF(ISBLANK(Datenerfassung!L861),\"\",Datenerfassung!L861)","v":""},{"$f":"IF(ISBLANK(Datenerfassung!F861),\"\",Datenerfassung!F861)","v":""},{"$f":"IF(ISBLANK(Datenerfassung!D861),IF(COUNTBLANK(A851:H851)+COUNTBLANK(J851:O851)=14,\"\",\"- ohne Titel -\"),Datenerfassung!D861)","v":""},{"$f":"IF(ISBLANK(Datenerfassung!E861),\"\",Datenerfassung!E861)","v":""},"",{"$f":"IF(ISBLANK(Datenerfassung!O861),\"\",Datenerfassung!O861)","v":""},{"$f":"IF(ISBLANK(Datenerfassung!G861),\"\",Datenerfassung!G861)","v":""},{"$f":"IF(ISBLANK(Datenerfassung!M861),\"\",Datenerfassung!M861)","v":""},{"$f":"IF(ISBLANK(Datenerfassung!H861),\"\",Datenerfassung!H861)","v":""}]
[{"$f":"IF(ISBLANK(Datenerfassung!A862),\"\",Datenerfassung!A862)","v":""},{"$f":"IF(ISBLANK(Datenerfassung!B862),\"\",Datenerfassung!B862)","v":""},{"$f":"IF(ISBLANK(Datenerfassung!C862),\"\",Datenerfassung!C862)","v":""},{"$f":"IF(ISBLANK(Datenerfassung!I862),\"\",Datenerfassung!I862)","v":""},{"$f":"IF(ISBLANK(Datenerfassung!J862),\"\",Datenerfassung!J862)","v":""},"",{"$f":"IF(ISBLANK(Datenerfassung!L862),\"\",Datenerfassung!L862)","v":""},{"$f":"IF(ISBLANK(Datenerfassung!F862),\"\",Datenerfassung!F862)","v":""},{"$f":"IF(ISBLANK(Datenerfassung!D862),IF(COUNTBLANK(A852:H852)+COUNTBLANK(J852:O852)=14,\"\",\"- ohne Titel -\"),Datenerfassung!D862)","v":""},{"$f":"IF(ISBLANK(Datenerfassung!E862),\"\",Datenerfassung!E862)","v":""},"",{"$f":"IF(ISBLANK(Datenerfassung!O862),\"\",Datenerfassung!O862)","v":""},{"$f":"IF(ISBLANK(Datenerfassung!G862),\"\",Datenerfassung!G862)","v":""},{"$f":"IF(ISBLANK(Datenerfassung!M862),\"\",Datenerfassung!M862)","v":""},{"$f":"IF(ISBLANK(Datenerfassung!H862),\"\",Datenerfassung!H862)","v":""}]
[{"$f":"IF(ISBLANK(Datenerfassung!A863),\"\",Datenerfassung!A863)","v":""},{"$f":"IF(ISBLANK(Datenerfassung!B863),\"\",Datenerfassung!B863)","v":""},{"$f":"IF(ISBLANK(Datenerfassung!C863),\"\",Datenerfassung!C863)","v":""},{"$f":"IF(ISBLANK(Datenerfassung!I863),\"\",Datenerfassung!I863)","v":""},{"$f":"IF(ISBLANK(Datenerfassung!J863),\"\",Datenerfassung!J863)","v":""},"",{"$f":"IF(ISBLANK(Datenerfassung!L863),\"\",Datenerfassung!L863)","v":""},{"$f":"IF(ISBLANK(Datenerfassung!F863),\"\",Datenerfassung!F863)","v":""},{"$f":"IF(ISBLANK(Datenerfassung!D863),IF(COUNTBLANK(A853:H853)+COUNTBLANK(J853:O853)=14,\"\",\"- ohne Titel -\"),Datenerfassung!D863)","v":""},{"$f":"IF(ISBLANK(Datenerfassung!E863),\"\",Datenerfassung!E863)","v":""},"",{"$f":"IF(ISBLANK(Datenerfassung!O863),\"\",Datenerfassung!O863)","v":""},{"$f":"IF(ISBLANK(Datenerfassung!G863),\"\",Datenerfassung!G863)","v":""},{"$f":"IF(ISBLANK(Datenerfassung!M863),\"\",Datenerfassung!M863)","v":""},{"$f":"IF(ISBLANK(Datenerfassung!H863),\"\",Datenerfassung!H863)","v":""}]
[{"$f":"IF(ISBLANK(Datenerfassung!A864),\"\",Datenerfassung!A864)","v":""},{"$f":"IF(ISBLANK(Datenerfassung!B864),\"\",Datenerfassung!B864)","v":""},{"$f":"IF(ISBLANK(Datenerfassung!C864),\"\",Datenerfassung!C864)","v":""},{"$f":"IF(ISBLANK(Datenerfassung!I864),\"\",Datenerfassung!I864)","v":""},{"$f":"IF(ISBLANK(Datenerfassung!J864),\"\",Datenerfassung!J864)","v":""},"",{"$f":"IF(ISBLANK(Datenerfassung!L864),\"\",Datenerfassung!L864)","v":""},{"$f":"IF(ISBLANK(Datenerfassung!F864),\"\",Datenerfassung!F864)","v":""},{"$f":"IF(ISBLANK(Datenerfassung!D864),IF(COUNTBLANK(A854:H854)+COUNTBLANK(J854:O854)=14,\"\",\"- ohne Titel -\"),Datenerfassung!D864)","v":""},{"$f":"IF(ISBLANK(Datenerfassung!E864),\"\",Datenerfassung!E864)","v":""},"",{"$f":"IF(ISBLANK(Datenerfassung!O864),\"\",Datenerfassung!O864)","v":""},{"$f":"IF(ISBLANK(Datenerfassung!G864),\"\",Datenerfassung!G864)","v":""},{"$f":"IF(ISBLANK(Datenerfassung!M864),\"\",Datenerfassung!M864)","v":""},{"$f":"IF(ISBLANK(Datenerfassung!H864),\"\",Datenerfassung!H864)","v":""}]
[{"$f":"IF(ISBLANK(Datenerfassung!A865),\"\",Datenerfassung!A865)","v":""},{"$f":"IF(ISBLANK(Datenerfassung!B865),\"\",Datenerfassung!B865)","v":""},{"$f":"IF(ISBLANK(Datenerfassung!C865),\"\",Datenerfassung!C865)","v":""},{"$f":"IF(ISBLANK(Datenerfassung!I865),\"\",Datenerfassung!I865)","v":""},{"$f":"IF(ISBLANK(Datenerfassung!J865),\"\",Datenerfassung!J865)","v":""},"",{"$f":"IF(ISBLANK(Datenerfassung!L865),\"\",Datenerfassung!L865)","v":""},{"$f":"IF(ISBLANK(Datenerfassung!F865),\"\",Datenerfassung!F865)","v":""},{"$f":"IF(ISBLANK(Datenerfassung!D865),IF(COUNTBLANK(A855:H855)+COUNTBLANK(J855:O855)=14,\"\",\"- ohne Titel -\"),Datenerfassung!D865)","v":""},{"$f":"IF(ISBLANK(Datenerfassung!E865),\"\",Datenerfassung!E865)","v":""},"",{"$f":"IF(ISBLANK(Datenerfassung!O865),\"\",Datenerfassung!O865)","v":""},{"$f":"IF(ISBLANK(Datenerfassung!G865),\"\",Datenerfassung!G865)","v":""},{"$f":"IF(ISBLANK(Datenerfassung!M865),\"\",Datenerfassung!M865)","v":""},{"$f":"IF(ISBLANK(Datenerfassung!H865),\"\",Datenerfassung!H865)","v":""}]
[{"$f":"IF(ISBLANK(Datenerfassung!A866),\"\",Datenerfassung!A866)","v":""},{"$f":"IF(ISBLANK(Datenerfassung!B866),\"\",Datenerfassung!B866)","v":""},{"$f":"IF(ISBLANK(Datenerfassung!C866),\"\",Datenerfassung!C866)","v":""},{"$f":"IF(ISBLANK(Datenerfassung!I866),\"\",Datenerfassung!I866)","v":""},{"$f":"IF(ISBLANK(Datenerfassung!J866),\"\",Datenerfassung!J866)","v":""},"",{"$f":"IF(ISBLANK(Datenerfassung!L866),\"\",Datenerfassung!L866)","v":""},{"$f":"IF(ISBLANK(Datenerfassung!F866),\"\",Datenerfassung!F866)","v":""},{"$f":"IF(ISBLANK(Datenerfassung!D866),IF(COUNTBLANK(A856:H856)+COUNTBLANK(J856:O856)=14,\"\",\"- ohne Titel -\"),Datenerfassung!D866)","v":""},{"$f":"IF(ISBLANK(Datenerfassung!E866),\"\",Datenerfassung!E866)","v":""},"",{"$f":"IF(ISBLANK(Datenerfassung!O866),\"\",Datenerfassung!O866)","v":""},{"$f":"IF(ISBLANK(Datenerfassung!G866),\"\",Datenerfassung!G866)","v":""},{"$f":"IF(ISBLANK(Datenerfassung!M866),\"\",Datenerfassung!M866)","v":""},{"$f":"IF(ISBLANK(Datenerfassung!H866),\"\",Datenerfassung!H866)","v":""}]
[{"$f":"IF(ISBLANK(Datenerfassung!A867),\"\",Datenerfassung!A867)","v":""},{"$f":"IF(ISBLANK(Datenerfassung!B867),\"\",Datenerfassung!B867)","v":""},{"$f":"IF(ISBLANK(Datenerfassung!C867),\"\",Datenerfassung!C867)","v":""},{"$f":"IF(ISBLANK(Datenerfassung!I867),\"\",Datenerfassung!I867)","v":""},{"$f":"IF(ISBLANK(Datenerfassung!J867),\"\",Datenerfassung!J867)","v":""},"",{"$f":"IF(ISBLANK(Datenerfassung!L867),\"\",Datenerfassung!L867)","v":""},{"$f":"IF(ISBLANK(Datenerfassung!F867),\"\",Datenerfassung!F867)","v":""},{"$f":"IF(ISBLANK(Datenerfassung!D867),IF(COUNTBLANK(A857:H857)+COUNTBLANK(J857:O857)=14,\"\",\"- ohne Titel -\"),Datenerfassung!D867)","v":""},{"$f":"IF(ISBLANK(Datenerfassung!E867),\"\",Datenerfassung!E867)","v":""},"",{"$f":"IF(ISBLANK(Datenerfassung!O867),\"\",Datenerfassung!O867)","v":""},{"$f":"IF(ISBLANK(Datenerfassung!G867),\"\",Datenerfassung!G867)","v":""},{"$f":"IF(ISBLANK(Datenerfassung!M867),\"\",Datenerfassung!M867)","v":""},{"$f":"IF(ISBLANK(Datenerfassung!H867),\"\",Datenerfassung!H867)","v":""}]
[{"$f":"IF(ISBLANK(Datenerfassung!A868),\"\",Datenerfassung!A868)","v":""},{"$f":"IF(ISBLANK(Datenerfassung!B868),\"\",Datenerfassung!B868)","v":""},{"$f":"IF(ISBLANK(Datenerfassung!C868),\"\",Datenerfassung!C868)","v":""},{"$f":"IF(ISBLANK(Datenerfassung!I868),\"\",Datenerfassung!I868)","v":""},{"$f":"IF(ISBLANK(Datenerfassung!J868),\"\",Datenerfassung!J868)","v":""},"",{"$f":"IF(ISBLANK(Datenerfassung!L868),\"\",Datenerfassung!L868)","v":""},{"$f":"IF(ISBLANK(Datenerfassung!F868),\"\",Datenerfassung!F868)","v":""},{"$f":"IF(ISBLANK(Datenerfassung!D868),IF(COUNTBLANK(A858:H858)+COUNTBLANK(J858:O858)=14,\"\",\"- ohne Titel -\"),Datenerfassung!D868)","v":""},{"$f":"IF(ISBLANK(Datenerfassung!E868),\"\",Datenerfassung!E868)","v":""},"",{"$f":"IF(ISBLANK(Datenerfassung!O868),\"\",Datenerfassung!O868)","v":""},{"$f":"IF(ISBLANK(Datenerfassung!G868),\"\",Datenerfassung!G868)","v":""},{"$f":"IF(ISBLANK(Datenerfassung!M868),\"\",Datenerfassung!M868)","v":""},{"$f":"IF(ISBLANK(Datenerfassung!H868),\"\",Datenerfassung!H868)","v":""}]
[{"$f":"IF(ISBLANK(Datenerfassung!A869),\"\",Datenerfassung!A869)","v":""},{"$f":"IF(ISBLANK(Datenerfassung!B869),\"\",Datenerfassung!B869)","v":""},{"$f":"IF(ISBLANK(Datenerfassung!C869),\"\",Datenerfassung!C869)","v":""},{"$f":"IF(ISBLANK(Datenerfassung!I869),\"\",Datenerfassung!I869)","v":""},{"$f":"IF(ISBLANK(Datenerfassung!J869),\"\",Datenerfassung!J869)","v":""},"",{"$f":"IF(ISBLANK(Datenerfassung!L869),\"\",Datenerfassung!L869)","v":""},{"$f":"IF(ISBLANK(Datenerfassung!F869),\"\",Datenerfassung!F869)","v":""},{"$f":"IF(ISBLANK(Datenerfassung!D869),IF(COUNTBLANK(A859:H859)+COUNTBLANK(J859:O859)=14,\"\",\"- ohne Titel -\"),Datenerfassung!D869)","v":""},{"$f":"IF(ISBLANK(Datenerfassung!E869),\"\",Datenerfassung!E869)","v":""},"",{"$f":"IF(ISBLANK(Datenerfassung!O869),\"\",Datenerfassung!O869)","v":""},{"$f":"IF(ISBLANK(Datenerfassung!G869),\"\",Datenerfassung!G869)","v":""},{"$f":"IF(ISBLANK(Datenerfassung!M869),\"\",Datenerfassung!M869)","v":""},{"$f":"IF(ISBLANK(Datenerfassung!H869),\"\",Datenerfassung!H869)","v":""}]
[{"$f":"IF(ISBLANK(Datenerfassung!A870),\"\",Datenerfassung!A870)","v":""},{"$f":"IF(ISBLANK(Datenerfassung!B870),\"\",Datenerfassung!B870)","v":""},{"$f":"IF(ISBLANK(Datenerfassung!C870),\"\",Datenerfassung!C870)","v":""},{"$f":"IF(ISBLANK(Datenerfassung!I870),\"\",Datenerfassung!I870)","v":""},{"$f":"IF(ISBLANK(Datenerfassung!J870),\"\",Datenerfassung!J870)","v":""},"",{"$f":"IF(ISBLANK(Datenerfassung!L870),\"\",Datenerfassung!L870)","v":""},{"$f":"IF(ISBLANK(Datenerfassung!F870),\"\",Datenerfassung!F870)","v":""},{"$f":"IF(ISBLANK(Datenerfassung!D870),IF(COUNTBLANK(A860:H860)+COUNTBLANK(J860:O860)=14,\"\",\"- ohne Titel -\"),Datenerfassung!D870)","v":""},{"$f":"IF(ISBLANK(Datenerfassung!E870),\"\",Datenerfassung!E870)","v":""},"",{"$f":"IF(ISBLANK(Datenerfassung!O870),\"\",Datenerfassung!O870)","v":""},{"$f":"IF(ISBLANK(Datenerfassung!G870),\"\",Datenerfassung!G870)","v":""},{"$f":"IF(ISBLANK(Datenerfassung!M870),\"\",Datenerfassung!M870)","v":""},{"$f":"IF(ISBLANK(Datenerfassung!H870),\"\",Datenerfassung!H870)","v":""}]
[{"$f":"IF(ISBLANK(Datenerfassung!A871),\"\",Datenerfassung!A871)","v":""},{"$f":"IF(ISBLANK(Datenerfassung!B871),\"\",Datenerfassung!B871)","v":""},{"$f":"IF(ISBLANK(Datenerfassung!C871),\"\",Datenerfassung!C871)","v":""},{"$f":"IF(ISBLANK(Datenerfassung!I871),\"\",Datenerfassung!I871)","v":""},{"$f":"IF(ISBLANK(Datenerfassung!J871),\"\",Datenerfassung!J871)","v":""},"",{"$f":"IF(ISBLANK(Datenerfassung!L871),\"\",Datenerfassung!L871)","v":""},{"$f":"IF(ISBLANK(Datenerfassung!F871),\"\",Datenerfassung!F871)","v":""},{"$f":"IF(ISBLANK(Datenerfassung!D871),IF(COUNTBLANK(A861:H861)+COUNTBLANK(J861:O861)=14,\"\",\"- ohne Titel -\"),Datenerfassung!D871)","v":""},{"$f":"IF(ISBLANK(Datenerfassung!E871),\"\",Datenerfassung!E871)","v":""},"",{"$f":"IF(ISBLANK(Datenerfassung!O871),\"\",Datenerfassung!O871)","v":""},{"$f":"IF(ISBLANK(Datenerfassung!G871),\"\",Datenerfassung!G871)","v":""},{"$f":"IF(ISBLANK(Datenerfassung!M871),\"\",Datenerfassung!M871)","v":""},{"$f":"IF(ISBLANK(Datenerfassung!H871),\"\",Datenerfassung!H871)","v":""}]
[{"$f":"IF(ISBLANK(Datenerfassung!A872),\"\",Datenerfassung!A872)","v":""},{"$f":"IF(ISBLANK(Datenerfassung!B872),\"\",Datenerfassung!B872)","v":""},{"$f":"IF(ISBLANK(Datenerfassung!C872),\"\",Datenerfassung!C872)","v":""},{"$f":"IF(ISBLANK(Datenerfassung!I872),\"\",Datenerfassung!I872)","v":""},{"$f":"IF(ISBLANK(Datenerfassung!J872),\"\",Datenerfassung!J872)","v":""},"",{"$f":"IF(ISBLANK(Datenerfassung!L872),\"\",Datenerfassung!L872)","v":""},{"$f":"IF(ISBLANK(Datenerfassung!F872),\"\",Datenerfassung!F872)","v":""},{"$f":"IF(ISBLANK(Datenerfassung!D872),IF(COUNTBLANK(A862:H862)+COUNTBLANK(J862:O862)=14,\"\",\"- ohne Titel -\"),Datenerfassung!D872)","v":""},{"$f":"IF(ISBLANK(Datenerfassung!E872),\"\",Datenerfassung!E872)","v":""},"",{"$f":"IF(ISBLANK(Datenerfassung!O872),\"\",Datenerfassung!O872)","v":""},{"$f":"IF(ISBLANK(Datenerfassung!G872),\"\",Datenerfassung!G872)","v":""},{"$f":"IF(ISBLANK(Datenerfassung!M872),\"\",Datenerfassung!M872)","v":""},{"$f":"IF(ISBLANK(Datenerfassung!H872),\"\",Datenerfassung!H872)","v":""}]
[{"$f":"IF(ISBLANK(Datenerfassung!A873),\"\",Datenerfassung!A873)","v":""},{"$f":"IF(ISBLANK(Datenerfassung!B873),\"\",Datenerfassung!B873)","v":""},{"$f":"IF(ISBLANK(Datenerfassung!C873),\"\",Datenerfassung!C873)","v":""},{"$f":"IF(ISBLANK(Datenerfassung!I873),\"\",Datenerfassung!I873)","v":""},{"$f":"IF(ISBLANK(Datenerfassung!J873),\"\",Datenerfassung!J873)","v":""},"",{"$f":"IF(ISBLANK(Datenerfassung!L873),\"\",Datenerfassung!L873)","v":""},{"$f":"IF(ISBLANK(Datenerfassung!F873),\"\",Datenerfassung!F873)","v":""},{"$f":"IF(ISBLANK(Datenerfassung!D873),IF(COUNTBLANK(A863:H863)+COUNTBLANK(J863:O863)=14,\"\",\"- ohne Titel -\"),Datenerfassung!D873)","v":""},{"$f":"IF(ISBLANK(Datenerfassung!E873),\"\",Datenerfassung!E873)","v":""},"",{"$f":"IF(ISBLANK(Datenerfassung!O873),\"\",Datenerfassung!O873)","v":""},{"$f":"IF(ISBLANK(Datenerfassung!G873),\"\",Datenerfassung!G873)","v":""},{"$f":"IF(ISBLANK(Datenerfassung!M873),\"\",Datenerfassung!M873)","v":""},{"$f":"IF(ISBLANK(Datenerfassung!H873),\"\",Datenerfassung!H873)","v":""}]
[{"$f":"IF(ISBLANK(Datenerfassung!A874),\"\",Datenerfassung!A874)","v":""},{"$f":"IF(ISBLANK(Datenerfassung!B874),\"\",Datenerfassung!B874)","v":""},{"$f":"IF(ISBLANK(Datenerfassung!C874),\"\",Datenerfassung!C874)","v":""},{"$f":"IF(ISBLANK(Datenerfassung!I874),\"\",Datenerfassung!I874)","v":""},{"$f":"IF(ISBLANK(Datenerfassung!J874),\"\",Datenerfassung!J874)","v":""},"",{"$f":"IF(ISBLANK(Datenerfassung!L874),\"\",Datenerfassung!L874)","v":""},{"$f":"IF(ISBLANK(Datenerfassung!F874),\"\",Datenerfassung!F874)","v":""},{"$f":"IF(ISBLANK(Datenerfassung!D874),IF(COUNTBLANK(A864:H864)+COUNTBLANK(J864:O864)=14,\"\",\"- ohne Titel -\"),Datenerfassung!D874)","v":""},{"$f":"IF(ISBLANK(Datenerfassung!E874),\"\",Datenerfassung!E874)","v":""},"",{"$f":"IF(ISBLANK(Datenerfassung!O874),\"\",Datenerfassung!O874)","v":""},{"$f":"IF(ISBLANK(Datenerfassung!G874),\"\",Datenerfassung!G874)","v":""},{"$f":"IF(ISBLANK(Datenerfassung!M874),\"\",Datenerfassung!M874)","v":""},{"$f":"IF(ISBLANK(Datenerfassung!H874),\"\",Datenerfassung!H874)","v":""}]
[{"$f":"IF(ISBLANK(Datenerfassung!A875),\"\",Datenerfassung!A875)","v":""},{"$f":"IF(ISBLANK(Datenerfassung!B875),\"\",Datenerfassung!B875)","v":""},{"$f":"IF(ISBLANK(Datenerfassung!C875),\"\",Datenerfassung!C875)","v":""},{"$f":"IF(ISBLANK(Datenerfassung!I875),\"\",Datenerfassung!I875)","v":""},{"$f":"IF(ISBLANK(Datenerfassung!J875),\"\",Datenerfassung!J875)","v":""},"",{"$f":"IF(ISBLANK(Datenerfassung!L875),\"\",Datenerfassung!L875)","v":""},{"$f":"IF(ISBLANK(Datenerfassung!F875),\"\",Datenerfassung!F875)","v":""},{"$f":"IF(ISBLANK(Datenerfassung!D875),IF(COUNTBLANK(A865:H865)+COUNTBLANK(J865:O865)=14,\"\",\"- ohne Titel -\"),Datenerfassung!D875)","v":""},{"$f":"IF(ISBLANK(Datenerfassung!E875),\"\",Datenerfassung!E875)","v":""},"",{"$f":"IF(ISBLANK(Datenerfassung!O875),\"\",Datenerfassung!O875)","v":""},{"$f":"IF(ISBLANK(Datenerfassung!G875),\"\",Datenerfassung!G875)","v":""},{"$f":"IF(ISBLANK(Datenerfassung!M875),\"\",Datenerfassung!M875)","v":""},{"$f":"IF(ISBLANK(Datenerfassung!H875),\"\",Datenerfassung!H875)","v":""}]
[{"$f":"IF(ISBLANK(Datenerfassung!A876),\"\",Datenerfassung!A876)","v":""},{"$f":"IF(ISBLANK(Datenerfassung!B876),\"\",Datenerfassung!B876)","v":""},{"$f":"IF(ISBLANK(Datenerfassung!C876),\"\",Datenerfassung!C876)","v":""},{"$f":"IF(ISBLANK(Datenerfassung!I876),\"\",Datenerfassung!I876)","v":""},{"$f":"IF(ISBLANK(Datenerfassung!J876),\"\",Datenerfassung!J876)","v":""},"",{"$f":"IF(ISBLANK(Datenerfassung!L876),\"\",Datenerfassung!L876)","v":""},{"$f":"IF(ISBLANK(Datenerfassung!F876),\"\",Datenerfassung!F876)","v":""},{"$f":"IF(ISBLANK(Datenerfassung!D876),IF(COUNTBLANK(A866:H866)+COUNTBLANK(J866:O866)=14,\"\",\"- ohne Titel -\"),Datenerfassung!D876)","v":""},{"$f":"IF(ISBLANK(Datenerfassung!E876),\"\",Datenerfassung!E876)","v":""},"",{"$f":"IF(ISBLANK(Datenerfassung!O876),\"\",Datenerfassung!O876)","v":""},{"$f":"IF(ISBLANK(Datenerfassung!G876),\"\",Datenerfassung!G876)","v":""},{"$f":"IF(ISBLANK(Datenerfassung!M876),\"\",Datenerfassung!M876)","v":""},{"$f":"IF(ISBLANK(Datenerfassung!H876),\"\",Datenerfassung!H876)","v":""}]
[{"$f":"IF(ISBLANK(Datenerfassung!A877),\"\",Datenerfassung!A877)","v":""},{"$f":"IF(ISBLANK(Datenerfassung!B877),\"\",Datenerfassung!B877)","v":""},{"$f":"IF(ISBLANK(Datenerfassung!C877),\"\",Datenerfassung!C877)","v":""},{"$f":"IF(ISBLANK(Datenerfassung!I877),\"\",Datenerfassung!I877)","v":""},{"$f":"IF(ISBLANK(Datenerfassung!J877),\"\",Datenerfassung!J877)","v":""},"",{"$f":"IF(ISBLANK(Datenerfassung!L877),\"\",Datenerfassung!L877)","v":""},{"$f":"IF(ISBLANK(Datenerfassung!F877),\"\",Datenerfassung!F877)","v":""},{"$f":"IF(ISBLANK(Datenerfassung!D877),IF(COUNTBLANK(A867:H867)+COUNTBLANK(J867:O867)=14,\"\",\"- ohne Titel -\"),Datenerfassung!D877)","v":""},{"$f":"IF(ISBLANK(Datenerfassung!E877),\"\",Datenerfassung!E877)","v":""},"",{"$f":"IF(ISBLANK(Datenerfassung!O877),\"\",Datenerfassung!O877)","v":""},{"$f":"IF(ISBLANK(Datenerfassung!G877),\"\",Datenerfassung!G877)","v":""},{"$f":"IF(ISBLANK(Datenerfassung!M877),\"\",Datenerfassung!M877)","v":""},{"$f":"IF(ISBLANK(Datenerfassung!H877),\"\",Datenerfassung!H877)","v":""}]
[{"$f":"IF(ISBLANK(Datenerfassung!A878),\"\",Datenerfassung!A878)","v":""},{"$f":"IF(ISBLANK(Datenerfassung!B878),\"\",Datenerfassung!B878)","v":""},{"$f":"IF(ISBLANK(Datenerfassung!C878),\"\",Datenerfassung!C878)","v":""},{"$f":"IF(ISBLANK(Datenerfassung!I878),\"\",Datenerfassung!I878)","v":""},{"$f":"IF(ISBLANK(Datenerfassung!J878),\"\",Datenerfassung!J878)","v":""},"",{"$f":"IF(ISBLANK(Datenerfassung!L878),\"\",Datenerfassung!L878)","v":""},{"$f":"IF(ISBLANK(Datenerfassung!F878),\"\",Datenerfassung!F878)","v":""},{"$f":"IF(ISBLANK(Datenerfassung!D878),IF(COUNTBLANK(A868:H868)+COUNTBLANK(J868:O868)=14,\"\",\"- ohne Titel -\"),Datenerfassung!D878)","v":""},{"$f":"IF(ISBLANK(Datenerfassung!E878),\"\",Datenerfassung!E878)","v":""},"",{"$f":"IF(ISBLANK(Datenerfassung!O878),\"\",Datenerfassung!O878)","v":""},{"$f":"IF(ISBLANK(Datenerfassung!G878),\"\",Datenerfassung!G878)","v":""},{"$f":"IF(ISBLANK(Datenerfassung!M878),\"\",Datenerfassung!M878)","v":""},{"$f":"IF(ISBLANK(Datenerfassung!H878),\"\",Datenerfassung!H878)","v":""}]
[{"$f":"IF(ISBLANK(Datenerfassung!A879),\"\",Datenerfassung!A879)","v":""},{"$f":"IF(ISBLANK(Datenerfassung!B879),\"\",Datenerfassung!B879)","v":""},{"$f":"IF(ISBLANK(Datenerfassung!C879),\"\",Datenerfassung!C879)","v":""},{"$f":"IF(ISBLANK(Datenerfassung!I879),\"\",Datenerfassung!I879)","v":""},{"$f":"IF(ISBLANK(Datenerfassung!J879),\"\",Datenerfassung!J879)","v":""},"",{"$f":"IF(ISBLANK(Datenerfassung!L879),\"\",Datenerfassung!L879)","v":""},{"$f":"IF(ISBLANK(Datenerfassung!F879),\"\",Datenerfassung!F879)","v":""},{"$f":"IF(ISBLANK(Datenerfassung!D879),IF(COUNTBLANK(A869:H869)+COUNTBLANK(J869:O869)=14,\"\",\"- ohne Titel -\"),Datenerfassung!D879)","v":""},{"$f":"IF(ISBLANK(Datenerfassung!E879),\"\",Datenerfassung!E879)","v":""},"",{"$f":"IF(ISBLANK(Datenerfassung!O879),\"\",Datenerfassung!O879)","v":""},{"$f":"IF(ISBLANK(Datenerfassung!G879),\"\",Datenerfassung!G879)","v":""},{"$f":"IF(ISBLANK(Datenerfassung!M879),\"\",Datenerfassung!M879)","v":""},{"$f":"IF(ISBLANK(Datenerfassung!H879),\"\",Datenerfassung!H879)","v":""}]
[{"$f":"IF(ISBLANK(Datenerfassung!A880),\"\",Datenerfassung!A880)","v":""},{"$f":"IF(ISBLANK(Datenerfassung!B880),\"\",Datenerfassung!B880)","v":""},{"$f":"IF(ISBLANK(Datenerfassung!C880),\"\",Datenerfassung!C880)","v":""},{"$f":"IF(ISBLANK(Datenerfassung!I880),\"\",Datenerfassung!I880)","v":""},{"$f":"IF(ISBLANK(Datenerfassung!J880),\"\",Datenerfassung!J880)","v":""},"",{"$f":"IF(ISBLANK(Datenerfassung!L880),\"\",Datenerfassung!L880)","v":""},{"$f":"IF(ISBLANK(Datenerfassung!F880),\"\",Datenerfassung!F880)","v":""},{"$f":"IF(ISBLANK(Datenerfassung!D880),IF(COUNTBLANK(A870:H870)+COUNTBLANK(J870:O870)=14,\"\",\"- ohne Titel -\"),Datenerfassung!D880)","v":""},{"$f":"IF(ISBLANK(Datenerfassung!E880),\"\",Datenerfassung!E880)","v":""},"",{"$f":"IF(ISBLANK(Datenerfassung!O880),\"\",Datenerfassung!O880)","v":""},{"$f":"IF(ISBLANK(Datenerfassung!G880),\"\",Datenerfassung!G880)","v":""},{"$f":"IF(ISBLANK(Datenerfassung!M880),\"\",Datenerfassung!M880)","v":""},{"$f":"IF(ISBLANK(Datenerfassung!H880),\"\",Datenerfassung!H880)","v":""}]
[{"$f":"IF(ISBLANK(Datenerfassung!A881),\"\",Datenerfassung!A881)","v":""},{"$f":"IF(ISBLANK(Datenerfassung!B881),\"\",Datenerfassung!B881)","v":""},{"$f":"IF(ISBLANK(Datenerfassung!C881),\"\",Datenerfassung!C881)","v":""},{"$f":"IF(ISBLANK(Datenerfassung!I881),\"\",Datenerfassung!I881)","v":""},{"$f":"IF(ISBLANK(Datenerfassung!J881),\"\",Datenerfassung!J881)","v":""},"",{"$f":"IF(ISBLANK(Datenerfassung!L881),\"\",Datenerfassung!L881)","v":""},{"$f":"IF(ISBLANK(Datenerfassung!F881),\"\",Datenerfassung!F881)","v":""},{"$f":"IF(ISBLANK(Datenerfassung!D881),IF(COUNTBLANK(A871:H871)+COUNTBLANK(J871:O871)=14,\"\",\"- ohne Titel -\"),Datenerfassung!D881)","v":""},{"$f":"IF(ISBLANK(Datenerfassung!E881),\"\",Datenerfassung!E881)","v":""},"",{"$f":"IF(ISBLANK(Datenerfassung!O881),\"\",Datenerfassung!O881)","v":""},{"$f":"IF(ISBLANK(Datenerfassung!G881),\"\",Datenerfassung!G881)","v":""},{"$f":"IF(ISBLANK(Datenerfassung!M881),\"\",Datenerfassung!M881)","v":""},{"$f":"IF(ISBLANK(Datenerfassung!H881),\"\",Datenerfassung!H881)","v":""}]
[{"$f":"IF(ISBLANK(Datenerfassung!A882),\"\",Datenerfassung!A882)","v":""},{"$f":"IF(ISBLANK(Datenerfassung!B882),\"\",Datenerfassung!B882)","v":""},{"$f":"IF(ISBLANK(Datenerfassung!C882),\"\",Datenerfassung!C882)","v":""},{"$f":"IF(ISBLANK(Datenerfassung!I882),\"\",Datenerfassung!I882)","v":""},{"$f":"IF(ISBLANK(Datenerfassung!J882),\"\",Datenerfassung!J882)","v":""},"",{"$f":"IF(ISBLANK(Datenerfassung!L882),\"\",Datenerfassung!L882)","v":""},{"$f":"IF(ISBLANK(Datenerfassung!F882),\"\",Datenerfassung!F882)","v":""},{"$f":"IF(ISBLANK(Datenerfassung!D882),IF(COUNTBLANK(A872:H872)+COUNTBLANK(J872:O872)=14,\"\",\"- ohne Titel -\"),Datenerfassung!D882)","v":""},{"$f":"IF(ISBLANK(Datenerfassung!E882),\"\",Datenerfassung!E882)","v":""},"",{"$f":"IF(ISBLANK(Datenerfassung!O882),\"\",Datenerfassung!O882)","v":""},{"$f":"IF(ISBLANK(Datenerfassung!G882),\"\",Datenerfassung!G882)","v":""},{"$f":"IF(ISBLANK(Datenerfassung!M882),\"\",Datenerfassung!M882)","v":""},{"$f":"IF(ISBLANK(Datenerfassung!H882),\"\",Datenerfassung!H882)","v":""}]
[{"$f":"IF(ISBLANK(Datenerfassung!A883),\"\",Datenerfassung!A883)","v":""},{"$f":"IF(ISBLANK(Datenerfassung!B883),\"\",Datenerfassung!B883)","v":""},{"$f":"IF(ISBLANK(Datenerfassung!C883),\"\",Datenerfassung!C883)","v":""},{"$f":"IF(ISBLANK(Datenerfassung!I883),\"\",Datenerfassung!I883)","v":""},{"$f":"IF(ISBLANK(Datenerfassung!J883),\"\",Datenerfassung!J883)","v":""},"",{"$f":"IF(ISBLANK(Datenerfassung!L883),\"\",Datenerfassung!L883)","v":""},{"$f":"IF(ISBLANK(Datenerfassung!F883),\"\",Datenerfassung!F883)","v":""},{"$f":"IF(ISBLANK(Datenerfassung!D883),IF(COUNTBLANK(A873:H873)+COUNTBLANK(J873:O873)=14,\"\",\"- ohne Titel -\"),Datenerfassung!D883)","v":""},{"$f":"IF(ISBLANK(Datenerfassung!E883),\"\",Datenerfassung!E883)","v":""},"",{"$f":"IF(ISBLANK(Datenerfassung!O883),\"\",Datenerfassung!O883)","v":""},{"$f":"IF(ISBLANK(Datenerfassung!G883),\"\",Datenerfassung!G883)","v":""},{"$f":"IF(ISBLANK(Datenerfassung!M883),\"\",Datenerfassung!M883)","v":""},{"$f":"IF(ISBLANK(Datenerfassung!H883),\"\",Datenerfassung!H883)","v":""}]
[{"$f":"IF(ISBLANK(Datenerfassung!A884),\"\",Datenerfassung!A884)","v":""},{"$f":"IF(ISBLANK(Datenerfassung!B884),\"\",Datenerfassung!B884)","v":""},{"$f":"IF(ISBLANK(Datenerfassung!C884),\"\",Datenerfassung!C884)","v":""},{"$f":"IF(ISBLANK(Datenerfassung!I884),\"\",Datenerfassung!I884)","v":""},{"$f":"IF(ISBLANK(Datenerfassung!J884),\"\",Datenerfassung!J884)","v":""},"",{"$f":"IF(ISBLANK(Datenerfassung!L884),\"\",Datenerfassung!L884)","v":""},{"$f":"IF(ISBLANK(Datenerfassung!F884),\"\",Datenerfassung!F884)","v":""},{"$f":"IF(ISBLANK(Datenerfassung!D884),IF(COUNTBLANK(A874:H874)+COUNTBLANK(J874:O874)=14,\"\",\"- ohne Titel -\"),Datenerfassung!D884)","v":""},{"$f":"IF(ISBLANK(Datenerfassung!E884),\"\",Datenerfassung!E884)","v":""},"",{"$f":"IF(ISBLANK(Datenerfassung!O884),\"\",Datenerfassung!O884)","v":""},{"$f":"IF(ISBLANK(Datenerfassung!G884),\"\",Datenerfassung!G884)","v":""},{"$f":"IF(ISBLANK(Datenerfassung!M884),\"\",Datenerfassung!M884)","v":""},{"$f":"IF(ISBLANK(Datenerfassung!H884),\"\",Datenerfassung!H884)","v":""}]
[{"$f":"IF(ISBLANK(Datenerfassung!A885),\"\",Datenerfassung!A885)","v":""},{"$f":"IF(ISBLANK(Datenerfassung!B885),\"\",Datenerfassung!B885)","v":""},{"$f":"IF(ISBLANK(Datenerfassung!C885),\"\",Datenerfassung!C885)","v":""},{"$f":"IF(ISBLANK(Datenerfassung!I885),\"\",Datenerfassung!I885)","v":""},{"$f":"IF(ISBLANK(Datenerfassung!J885),\"\",Datenerfassung!J885)","v":""},"",{"$f":"IF(ISBLANK(Datenerfassung!L885),\"\",Datenerfassung!L885)","v":""},{"$f":"IF(ISBLANK(Datenerfassung!F885),\"\",Datenerfassung!F885)","v":""},{"$f":"IF(ISBLANK(Datenerfassung!D885),IF(COUNTBLANK(A875:H875)+COUNTBLANK(J875:O875)=14,\"\",\"- ohne Titel -\"),Datenerfassung!D885)","v":""},{"$f":"IF(ISBLANK(Datenerfassung!E885),\"\",Datenerfassung!E885)","v":""},"",{"$f":"IF(ISBLANK(Datenerfassung!O885),\"\",Datenerfassung!O885)","v":""},{"$f":"IF(ISBLANK(Datenerfassung!G885),\"\",Datenerfassung!G885)","v":""},{"$f":"IF(ISBLANK(Datenerfassung!M885),\"\",Datenerfassung!M885)","v":""},{"$f":"IF(ISBLANK(Datenerfassung!H885),\"\",Datenerfassung!H885)","v":""}]
[{"$f":"IF(ISBLANK(Datenerfassung!A886),\"\",Datenerfassung!A886)","v":""},{"$f":"IF(ISBLANK(Datenerfassung!B886),\"\",Datenerfassung!B886)","v":""},{"$f":"IF(ISBLANK(Datenerfassung!C886),\"\",Datenerfassung!C886)","v":""},{"$f":"IF(ISBLANK(Datenerfassung!I886),\"\",Datenerfassung!I886)","v":""},{"$f":"IF(ISBLANK(Datenerfassung!J886),\"\",Datenerfassung!J886)","v":""},"",{"$f":"IF(ISBLANK(Datenerfassung!L886),\"\",Datenerfassung!L886)","v":""},{"$f":"IF(ISBLANK(Datenerfassung!F886),\"\",Datenerfassung!F886)","v":""},{"$f":"IF(ISBLANK(Datenerfassung!D886),IF(COUNTBLANK(A876:H876)+COUNTBLANK(J876:O876)=14,\"\",\"- ohne Titel -\"),Datenerfassung!D886)","v":""},{"$f":"IF(ISBLANK(Datenerfassung!E886),\"\",Datenerfassung!E886)","v":""},"",{"$f":"IF(ISBLANK(Datenerfassung!O886),\"\",Datenerfassung!O886)","v":""},{"$f":"IF(ISBLANK(Datenerfassung!G886),\"\",Datenerfassung!G886)","v":""},{"$f":"IF(ISBLANK(Datenerfassung!M886),\"\",Datenerfassung!M886)","v":""},{"$f":"IF(ISBLANK(Datenerfassung!H886),\"\",Datenerfassung!H886)","v":""}]
[{"$f":"IF(ISBLANK(Datenerfassung!A887),\"\",Datenerfassung!A887)","v":""},{"$f":"IF(ISBLANK(Datenerfassung!B887),\"\",Datenerfassung!B887)","v":""},{"$f":"IF(ISBLANK(Datenerfassung!C887),\"\",Datenerfassung!C887)","v":""},{"$f":"IF(ISBLANK(Datenerfassung!I887),\"\",Datenerfassung!I887)","v":""},{"$f":"IF(ISBLANK(Datenerfassung!J887),\"\",Datenerfassung!J887)","v":""},"",{"$f":"IF(ISBLANK(Datenerfassung!L887),\"\",Datenerfassung!L887)","v":""},{"$f":"IF(ISBLANK(Datenerfassung!F887),\"\",Datenerfassung!F887)","v":""},{"$f":"IF(ISBLANK(Datenerfassung!D887),IF(COUNTBLANK(A877:H877)+COUNTBLANK(J877:O877)=14,\"\",\"- ohne Titel -\"),Datenerfassung!D887)","v":""},{"$f":"IF(ISBLANK(Datenerfassung!E887),\"\",Datenerfassung!E887)","v":""},"",{"$f":"IF(ISBLANK(Datenerfassung!O887),\"\",Datenerfassung!O887)","v":""},{"$f":"IF(ISBLANK(Datenerfassung!G887),\"\",Datenerfassung!G887)","v":""},{"$f":"IF(ISBLANK(Datenerfassung!M887),\"\",Datenerfassung!M887)","v":""},{"$f":"IF(ISBLANK(Datenerfassung!H887),\"\",Datenerfassung!H887)","v":""}]
[{"$f":"IF(ISBLANK(Datenerfassung!A888),\"\",Datenerfassung!A888)","v":""},{"$f":"IF(ISBLANK(Datenerfassung!B888),\"\",Datenerfassung!B888)","v":""},{"$f":"IF(ISBLANK(Datenerfassung!C888),\"\",Datenerfassung!C888)","v":""},{"$f":"IF(ISBLANK(Datenerfassung!I888),\"\",Datenerfassung!I888)","v":""},{"$f":"IF(ISBLANK(Datenerfassung!J888),\"\",Datenerfassung!J888)","v":""},"",{"$f":"IF(ISBLANK(Datenerfassung!L888),\"\",Datenerfassung!L888)","v":""},{"$f":"IF(ISBLANK(Datenerfassung!F888),\"\",Datenerfassung!F888)","v":""},{"$f":"IF(ISBLANK(Datenerfassung!D888),IF(COUNTBLANK(A878:H878)+COUNTBLANK(J878:O878)=14,\"\",\"- ohne Titel -\"),Datenerfassung!D888)","v":""},{"$f":"IF(ISBLANK(Datenerfassung!E888),\"\",Datenerfassung!E888)","v":""},"",{"$f":"IF(ISBLANK(Datenerfassung!O888),\"\",Datenerfassung!O888)","v":""},{"$f":"IF(ISBLANK(Datenerfassung!G888),\"\",Datenerfassung!G888)","v":""},{"$f":"IF(ISBLANK(Datenerfassung!M888),\"\",Datenerfassung!M888)","v":""},{"$f":"IF(ISBLANK(Datenerfassung!H888),\"\",Datenerfassung!H888)","v":""}]
[{"$f":"IF(ISBLANK(Datenerfassung!A889),\"\",Datenerfassung!A889)","v":""},{"$f":"IF(ISBLANK(Datenerfassung!B889),\"\",Datenerfassung!B889)","v":""},{"$f":"IF(ISBLANK(Datenerfassung!C889),\"\",Datenerfassung!C889)","v":""},{"$f":"IF(ISBLANK(Datenerfassung!I889),\"\",Datenerfassung!I889)","v":""},{"$f":"IF(ISBLANK(Datenerfassung!J889),\"\",Datenerfassung!J889)","v":""},"",{"$f":"IF(ISBLANK(Datenerfassung!L889),\"\",Datenerfassung!L889)","v":""},{"$f":"IF(ISBLANK(Datenerfassung!F889),\"\",Datenerfassung!F889)","v":""},{"$f":"IF(ISBLANK(Datenerfassung!D889),IF(COUNTBLANK(A879:H879)+COUNTBLANK(J879:O879)=14,\"\",\"- ohne Titel -\"),Datenerfassung!D889)","v":""},{"$f":"IF(ISBLANK(Datenerfassung!E889),\"\",Datenerfassung!E889)","v":""},"",{"$f":"IF(ISBLANK(Datenerfassung!O889),\"\",Datenerfassung!O889)","v":""},{"$f":"IF(ISBLANK(Datenerfassung!G889),\"\",Datenerfassung!G889)","v":""},{"$f":"IF(ISBLANK(Datenerfassung!M889),\"\",Datenerfassung!M889)","v":""},{"$f":"IF(ISBLANK(Datenerfassung!H889),\"\",Datenerfassung!H889)","v":""}]
[{"$f":"IF(ISBLANK(Datenerfassung!A890),\"\",Datenerfassung!A890)","v":""},{"$f":"IF(ISBLANK(Datenerfassung!B890),\"\",Datenerfassung!B890)","v":""},{"$f":"IF(ISBLANK(Datenerfassung!C890),\"\",Datenerfassung!C890)","v":""},{"$f":"IF(ISBLANK(Datenerfassung!I890),\"\",Datenerfassung!I890)","v":""},{"$f":"IF(ISBLANK(Datenerfassung!J890),\"\",Datenerfassung!J890)","v":""},"",{"$f":"IF(ISBLANK(Datenerfassung!L890),\"\",Datenerfassung!L890)","v":""},{"$f":"IF(ISBLANK(Datenerfassung!F890),\"\",Datenerfassung!F890)","v":""},{"$f":"IF(ISBLANK(Datenerfassung!D890),IF(COUNTBLANK(A880:H880)+COUNTBLANK(J880:O880)=14,\"\",\"- ohne Titel -\"),Datenerfassung!D890)","v":""},{"$f":"IF(ISBLANK(Datenerfassung!E890),\"\",Datenerfassung!E890)","v":""},"",{"$f":"IF(ISBLANK(Datenerfassung!O890),\"\",Datenerfassung!O890)","v":""},{"$f":"IF(ISBLANK(Datenerfassung!G890),\"\",Datenerfassung!G890)","v":""},{"$f":"IF(ISBLANK(Datenerfassung!M890),\"\",Datenerfassung!M890)","v":""},{"$f":"IF(ISBLANK(Datenerfassung!H890),\"\",Datenerfassung!H890)","v":""}]
[{"$f":"IF(ISBLANK(Datenerfassung!A891),\"\",Datenerfassung!A891)","v":""},{"$f":"IF(ISBLANK(Datenerfassung!B891),\"\",Datenerfassung!B891)","v":""},{"$f":"IF(ISBLANK(Datenerfassung!C891),\"\",Datenerfassung!C891)","v":""},{"$f":"IF(ISBLANK(Datenerfassung!I891),\"\",Datenerfassung!I891)","v":""},{"$f":"IF(ISBLANK(Datenerfassung!J891),\"\",Datenerfassung!J891)","v":""},"",{"$f":"IF(ISBLANK(Datenerfassung!L891),\"\",Datenerfassung!L891)","v":""},{"$f":"IF(ISBLANK(Datenerfassung!F891),\"\",Datenerfassung!F891)","v":""},{"$f":"IF(ISBLANK(Datenerfassung!D891),IF(COUNTBLANK(A881:H881)+COUNTBLANK(J881:O881)=14,\"\",\"- ohne Titel -\"),Datenerfassung!D891)","v":""},{"$f":"IF(ISBLANK(Datenerfassung!E891),\"\",Datenerfassung!E891)","v":""},"",{"$f":"IF(ISBLANK(Datenerfassung!O891),\"\",Datenerfassung!O891)","v":""},{"$f":"IF(ISBLANK(Datenerfassung!G891),\"\",Datenerfassung!G891)","v":""},{"$f":"IF(ISBLANK(Datenerfassung!M891),\"\",Datenerfassung!M891)","v":""},{"$f":"IF(ISBLANK(Datenerfassung!H891),\"\",Datenerfassung!H891)","v":""}]
[{"$f":"IF(ISBLANK(Datenerfassung!A892),\"\",Datenerfassung!A892)","v":""},{"$f":"IF(ISBLANK(Datenerfassung!B892),\"\",Datenerfassung!B892)","v":""},{"$f":"IF(ISBLANK(Datenerfassung!C892),\"\",Datenerfassung!C892)","v":""},{"$f":"IF(ISBLANK(Datenerfassung!I892),\"\",Datenerfassung!I892)","v":""},{"$f":"IF(ISBLANK(Datenerfassung!J892),\"\",Datenerfassung!J892)","v":""},"",{"$f":"IF(ISBLANK(Datenerfassung!L892),\"\",Datenerfassung!L892)","v":""},{"$f":"IF(ISBLANK(Datenerfassung!F892),\"\",Datenerfassung!F892)","v":""},{"$f":"IF(ISBLANK(Datenerfassung!D892),IF(COUNTBLANK(A882:H882)+COUNTBLANK(J882:O882)=14,\"\",\"- ohne Titel -\"),Datenerfassung!D892)","v":""},{"$f":"IF(ISBLANK(Datenerfassung!E892),\"\",Datenerfassung!E892)","v":""},"",{"$f":"IF(ISBLANK(Datenerfassung!O892),\"\",Datenerfassung!O892)","v":""},{"$f":"IF(ISBLANK(Datenerfassung!G892),\"\",Datenerfassung!G892)","v":""},{"$f":"IF(ISBLANK(Datenerfassung!M892),\"\",Datenerfassung!M892)","v":""},{"$f":"IF(ISBLANK(Datenerfassung!H892),\"\",Datenerfassung!H892)","v":""}]
[{"$f":"IF(ISBLANK(Datenerfassung!A893),\"\",Datenerfassung!A893)","v":""},{"$f":"IF(ISBLANK(Datenerfassung!B893),\"\",Datenerfassung!B893)","v":""},{"$f":"IF(ISBLANK(Datenerfassung!C893),\"\",Datenerfassung!C893)","v":""},{"$f":"IF(ISBLANK(Datenerfassung!I893),\"\",Datenerfassung!I893)","v":""},{"$f":"IF(ISBLANK(Datenerfassung!J893),\"\",Datenerfassung!J893)","v":""},"",{"$f":"IF(ISBLANK(Datenerfassung!L893),\"\",Datenerfassung!L893)","v":""},{"$f":"IF(ISBLANK(Datenerfassung!F893),\"\",Datenerfassung!F893)","v":""},{"$f":"IF(ISBLANK(Datenerfassung!D893),IF(COUNTBLANK(A883:H883)+COUNTBLANK(J883:O883)=14,\"\",\"- ohne Titel -\"),Datenerfassung!D893)","v":""},{"$f":"IF(ISBLANK(Datenerfassung!E893),\"\",Datenerfassung!E893)","v":""},"",{"$f":"IF(ISBLANK(Datenerfassung!O893),\"\",Datenerfassung!O893)","v":""},{"$f":"IF(ISBLANK(Datenerfassung!G893),\"\",Datenerfassung!G893)","v":""},{"$f":"IF(ISBLANK(Datenerfassung!M893),\"\",Datenerfassung!M893)","v":""},{"$f":"IF(ISBLANK(Datenerfassung!H893),\"\",Datenerfassung!H893)","v":""}]
[{"$f":"IF(ISBLANK(Datenerfassung!A894),\"\",Datenerfassung!A894)","v":""},{"$f":"IF(ISBLANK(Datenerfassung!B894),\"\",Datenerfassung!B894)","v":""},{"$f":"IF(ISBLANK(Datenerfassung!C894),\"\",Datenerfassung!C894)","v":""},{"$f":"IF(ISBLANK(Datenerfassung!I894),\"\",Datenerfassung!I894)","v":""},{"$f":"IF(ISBLANK(Datenerfassung!J894),\"\",Datenerfassung!J894)","v":""},"",{"$f":"IF(ISBLANK(Datenerfassung!L894),\"\",Datenerfassung!L894)","v":""},{"$f":"IF(ISBLANK(Datenerfassung!F894),\"\",Datenerfassung!F894)","v":""},{"$f":"IF(ISBLANK(Datenerfassung!D894),IF(COUNTBLANK(A884:H884)+COUNTBLANK(J884:O884)=14,\"\",\"- ohne Titel -\"),Datenerfassung!D894)","v":""},{"$f":"IF(ISBLANK(Datenerfassung!E894),\"\",Datenerfassung!E894)","v":""},"",{"$f":"IF(ISBLANK(Datenerfassung!O894),\"\",Datenerfassung!O894)","v":""},{"$f":"IF(ISBLANK(Datenerfassung!G894),\"\",Datenerfassung!G894)","v":""},{"$f":"IF(ISBLANK(Datenerfassung!M894),\"\",Datenerfassung!M894)","v":""},{"$f":"IF(ISBLANK(Datenerfassung!H894),\"\",Datenerfassung!H894)","v":""}]
[{"$f":"IF(ISBLANK(Datenerfassung!A895),\"\",Datenerfassung!A895)","v":""},{"$f":"IF(ISBLANK(Datenerfassung!B895),\"\",Datenerfassung!B895)","v":""},{"$f":"IF(ISBLANK(Datenerfassung!C895),\"\",Datenerfassung!C895)","v":""},{"$f":"IF(ISBLANK(Datenerfassung!I895),\"\",Datenerfassung!I895)","v":""},{"$f":"IF(ISBLANK(Datenerfassung!J895),\"\",Datenerfassung!J895)","v":""},"",{"$f":"IF(ISBLANK(Datenerfassung!L895),\"\",Datenerfassung!L895)","v":""},{"$f":"IF(ISBLANK(Datenerfassung!F895),\"\",Datenerfassung!F895)","v":""},{"$f":"IF(ISBLANK(Datenerfassung!D895),IF(COUNTBLANK(A885:H885)+COUNTBLANK(J885:O885)=14,\"\",\"- ohne Titel -\"),Datenerfassung!D895)","v":""},{"$f":"IF(ISBLANK(Datenerfassung!E895),\"\",Datenerfassung!E895)","v":""},"",{"$f":"IF(ISBLANK(Datenerfassung!O895),\"\",Datenerfassung!O895)","v":""},{"$f":"IF(ISBLANK(Datenerfassung!G895),\"\",Datenerfassung!G895)","v":""},{"$f":"IF(ISBLANK(Datenerfassung!M895),\"\",Datenerfassung!M895)","v":""},{"$f":"IF(ISBLANK(Datenerfassung!H895),\"\",Datenerfassung!H895)","v":""}]
[{"$f":"IF(ISBLANK(Datenerfassung!A896),\"\",Datenerfassung!A896)","v":""},{"$f":"IF(ISBLANK(Datenerfassung!B896),\"\",Datenerfassung!B896)","v":""},{"$f":"IF(ISBLANK(Datenerfassung!C896),\"\",Datenerfassung!C896)","v":""},{"$f":"IF(ISBLANK(Datenerfassung!I896),\"\",Datenerfassung!I896)","v":""},{"$f":"IF(ISBLANK(Datenerfassung!J896),\"\",Datenerfassung!J896)","v":""},"",{"$f":"IF(ISBLANK(Datenerfassung!L896),\"\",Datenerfassung!L896)","v":""},{"$f":"IF(ISBLANK(Datenerfassung!F896),\"\",Datenerfassung!F896)","v":""},{"$f":"IF(ISBLANK(Datenerfassung!D896),IF(COUNTBLANK(A886:H886)+COUNTBLANK(J886:O886)=14,\"\",\"- ohne Titel -\"),Datenerfassung!D896)","v":""},{"$f":"IF(ISBLANK(Datenerfassung!E896),\"\",Datenerfassung!E896)","v":""},"",{"$f":"IF(ISBLANK(Datenerfassung!O896),\"\",Datenerfassung!O896)","v":""},{"$f":"IF(ISBLANK(Datenerfassung!G896),\"\",Datenerfassung!G896)","v":""},{"$f":"IF(ISBLANK(Datenerfassung!M896),\"\",Datenerfassung!M896)","v":""},{"$f":"IF(ISBLANK(Datenerfassung!H896),\"\",Datenerfassung!H896)","v":""}]
[{"$f":"IF(ISBLANK(Datenerfassung!A897),\"\",Datenerfassung!A897)","v":""},{"$f":"IF(ISBLANK(Datenerfassung!B897),\"\",Datenerfassung!B897)","v":""},{"$f":"IF(ISBLANK(Datenerfassung!C897),\"\",Datenerfassung!C897)","v":""},{"$f":"IF(ISBLANK(Datenerfassung!I897),\"\",Datenerfassung!I897)","v":""},{"$f":"IF(ISBLANK(Datenerfassung!J897),\"\",Datenerfassung!J897)","v":""},"",{"$f":"IF(ISBLANK(Datenerfassung!L897),\"\",Datenerfassung!L897)","v":""},{"$f":"IF(ISBLANK(Datenerfassung!F897),\"\",Datenerfassung!F897)","v":""},{"$f":"IF(ISBLANK(Datenerfassung!D897),IF(COUNTBLANK(A887:H887)+COUNTBLANK(J887:O887)=14,\"\",\"- ohne Titel -\"),Datenerfassung!D897)","v":""},{"$f":"IF(ISBLANK(Datenerfassung!E897),\"\",Datenerfassung!E897)","v":""},"",{"$f":"IF(ISBLANK(Datenerfassung!O897),\"\",Datenerfassung!O897)","v":""},{"$f":"IF(ISBLANK(Datenerfassung!G897),\"\",Datenerfassung!G897)","v":""},{"$f":"IF(ISBLANK(Datenerfassung!M897),\"\",Datenerfassung!M897)","v":""},{"$f":"IF(ISBLANK(Datenerfassung!H897),\"\",Datenerfassung!H897)","v":""}]
[{"$f":"IF(ISBLANK(Datenerfassung!A898),\"\",Datenerfassung!A898)","v":""},{"$f":"IF(ISBLANK(Datenerfassung!B898),\"\",Datenerfassung!B898)","v":""},{"$f":"IF(ISBLANK(Datenerfassung!C898),\"\",Datenerfassung!C898)","v":""},{"$f":"IF(ISBLANK(Datenerfassung!I898),\"\",Datenerfassung!I898)","v":""},{"$f":"IF(ISBLANK(Datenerfassung!J898),\"\",Datenerfassung!J898)","v":""},"",{"$f":"IF(ISBLANK(Datenerfassung!L898),\"\",Datenerfassung!L898)","v":""},{"$f":"IF(ISBLANK(Datenerfassung!F898),\"\",Datenerfassung!F898)","v":""},{"$f":"IF(ISBLANK(Datenerfassung!D898),IF(COUNTBLANK(A888:H888)+COUNTBLANK(J888:O888)=14,\"\",\"- ohne Titel -\"),Datenerfassung!D898)","v":""},{"$f":"IF(ISBLANK(Datenerfassung!E898),\"\",Datenerfassung!E898)","v":""},"",{"$f":"IF(ISBLANK(Datenerfassung!O898),\"\",Datenerfassung!O898)","v":""},{"$f":"IF(ISBLANK(Datenerfassung!G898),\"\",Datenerfassung!G898)","v":""},{"$f":"IF(ISBLANK(Datenerfassung!M898),\"\",Datenerfassung!M898)","v":""},{"$f":"IF(ISBLANK(Datenerfassung!H898),\"\",Datenerfassung!H898)","v":""}]
[{"$f":"IF(ISBLANK(Datenerfassung!A899),\"\",Datenerfassung!A899)","v":""},{"$f":"IF(ISBLANK(Datenerfassung!B899),\"\",Datenerfassung!B899)","v":""},{"$f":"IF(ISBLANK(Datenerfassung!C899),\"\",Datenerfassung!C899)","v":""},{"$f":"IF(ISBLANK(Datenerfassung!I899),\"\",Datenerfassung!I899)","v":""},{"$f":"IF(ISBLANK(Datenerfassung!J899),\"\",Datenerfassung!J899)","v":""},"",{"$f":"IF(ISBLANK(Datenerfassung!L899),\"\",Datenerfassung!L899)","v":""},{"$f":"IF(ISBLANK(Datenerfassung!F899),\"\",Datenerfassung!F899)","v":""},{"$f":"IF(ISBLANK(Datenerfassung!D899),IF(COUNTBLANK(A889:H889)+COUNTBLANK(J889:O889)=14,\"\",\"- ohne Titel -\"),Datenerfassung!D899)","v":""},{"$f":"IF(ISBLANK(Datenerfassung!E899),\"\",Datenerfassung!E899)","v":""},"",{"$f":"IF(ISBLANK(Datenerfassung!O899),\"\",Datenerfassung!O899)","v":""},{"$f":"IF(ISBLANK(Datenerfassung!G899),\"\",Datenerfassung!G899)","v":""},{"$f":"IF(ISBLANK(Datenerfassung!M899),\"\",Datenerfassung!M899)","v":""},{"$f":"IF(ISBLANK(Datenerfassung!H899),\"\",Datenerfassung!H899)","v":""}]
[{"$f":"IF(ISBLANK(Datenerfassung!A900),\"\",Datenerfassung!A900)","v":""},{"$f":"IF(ISBLANK(Datenerfassung!B900),\"\",Datenerfassung!B900)","v":""},{"$f":"IF(ISBLANK(Datenerfassung!C900),\"\",Datenerfassung!C900)","v":""},{"$f":"IF(ISBLANK(Datenerfassung!I900),\"\",Datenerfassung!I900)","v":""},{"$f":"IF(ISBLANK(Datenerfassung!J900),\"\",Datenerfassung!J900)","v":""},"",{"$f":"IF(ISBLANK(Datenerfassung!L900),\"\",Datenerfassung!L900)","v":""},{"$f":"IF(ISBLANK(Datenerfassung!F900),\"\",Datenerfassung!F900)","v":""},{"$f":"IF(ISBLANK(Datenerfassung!D900),IF(COUNTBLANK(A890:H890)+COUNTBLANK(J890:O890)=14,\"\",\"- ohne Titel -\"),Datenerfassung!D900)","v":""},{"$f":"IF(ISBLANK(Datenerfassung!E900),\"\",Datenerfassung!E900)","v":""},"",{"$f":"IF(ISBLANK(Datenerfassung!O900),\"\",Datenerfassung!O900)","v":""},{"$f":"IF(ISBLANK(Datenerfassung!G900),\"\",Datenerfassung!G900)","v":""},{"$f":"IF(ISBLANK(Datenerfassung!M900),\"\",Datenerfassung!M900)","v":""},{"$f":"IF(ISBLANK(Datenerfassung!H900),\"\",Datenerfassung!H900)","v":""}]
[{"$f":"IF(ISBLANK(Datenerfassung!A901),\"\",Datenerfassung!A901)","v":""},{"$f":"IF(ISBLANK(Datenerfassung!B901),\"\",Datenerfassung!B901)","v":""},{"$f":"IF(ISBLANK(Datenerfassung!C901),\"\",Datenerfassung!C901)","v":""},{"$f":"IF(ISBLANK(Datenerfassung!I901),\"\",Datenerfassung!I901)","v":""},{"$f":"IF(ISBLANK(Datenerfassung!J901),\"\",Datenerfassung!J901)","v":""},"",{"$f":"IF(ISBLANK(Datenerfassung!L901),\"\",Datenerfassung!L901)","v":""},{"$f":"IF(ISBLANK(Datenerfassung!F901),\"\",Datenerfassung!F901)","v":""},{"$f":"IF(ISBLANK(Datenerfassung!D901),IF(COUNTBLANK(A891:H891)+COUNTBLANK(J891:O891)=14,\"\",\"- ohne Titel -\"),Datenerfassung!D901)","v":""},{"$f":"IF(ISBLANK(Datenerfassung!E901),\"\",Datenerfassung!E901)","v":""},"",{"$f":"IF(ISBLANK(Datenerfassung!O901),\"\",Datenerfassung!O901)","v":""},{"$f":"IF(ISBLANK(Datenerfassung!G901),\"\",Datenerfassung!G901)","v":""},{"$f":"IF(ISBLANK(Datenerfassung!M901),\"\",Datenerfassung!M901)","v":""},{"$f":"IF(ISBLANK(Datenerfassung!H901),\"\",Datenerfassung!H901)","v":""}]
[{"$f":"IF(ISBLANK(Datenerfassung!A902),\"\",Datenerfassung!A902)","v":""},{"$f":"IF(ISBLANK(Datenerfassung!B902),\"\",Datenerfassung!B902)","v":""},{"$f":"IF(ISBLANK(Datenerfassung!C902),\"\",Datenerfassung!C902)","v":""},{"$f":"IF(ISBLANK(Datenerfassung!I902),\"\",Datenerfassung!I902)","v":""},{"$f":"IF(ISBLANK(Datenerfassung!J902),\"\",Datenerfassung!J902)","v":""},"",{"$f":"IF(ISBLANK(Datenerfassung!L902),\"\",Datenerfassung!L902)","v":""},{"$f":"IF(ISBLANK(Datenerfassung!F902),\"\",Datenerfassung!F902)","v":""},{"$f":"IF(ISBLANK(Datenerfassung!D902),IF(COUNTBLANK(A892:H892)+COUNTBLANK(J892:O892)=14,\"\",\"- ohne Titel -\"),Datenerfassung!D902)","v":""},{"$f":"IF(ISBLANK(Datenerfassung!E902),\"\",Datenerfassung!E902)","v":""},"",{"$f":"IF(ISBLANK(Datenerfassung!O902),\"\",Datenerfassung!O902)","v":""},{"$f":"IF(ISBLANK(Datenerfassung!G902),\"\",Datenerfassung!G902)","v":""},{"$f":"IF(ISBLANK(Datenerfassung!M902),\"\",Datenerfassung!M902)","v":""},{"$f":"IF(ISBLANK(Datenerfassung!H902),\"\",Datenerfassung!H902)","v":""}]
[{"$f":"IF(ISBLANK(Datenerfassung!A903),\"\",Datenerfassung!A903)","v":""},{"$f":"IF(ISBLANK(Datenerfassung!B903),\"\",Datenerfassung!B903)","v":""},{"$f":"IF(ISBLANK(Datenerfassung!C903),\"\",Datenerfassung!C903)","v":""},{"$f":"IF(ISBLANK(Datenerfassung!I903),\"\",Datenerfassung!I903)","v":""},{"$f":"IF(ISBLANK(Datenerfassung!J903),\"\",Datenerfassung!J903)","v":""},"",{"$f":"IF(ISBLANK(Datenerfassung!L903),\"\",Datenerfassung!L903)","v":""},{"$f":"IF(ISBLANK(Datenerfassung!F903),\"\",Datenerfassung!F903)","v":""},{"$f":"IF(ISBLANK(Datenerfassung!D903),IF(COUNTBLANK(A893:H893)+COUNTBLANK(J893:O893)=14,\"\",\"- ohne Titel -\"),Datenerfassung!D903)","v":""},{"$f":"IF(ISBLANK(Datenerfassung!E903),\"\",Datenerfassung!E903)","v":""},"",{"$f":"IF(ISBLANK(Datenerfassung!O903),\"\",Datenerfassung!O903)","v":""},{"$f":"IF(ISBLANK(Datenerfassung!G903),\"\",Datenerfassung!G903)","v":""},{"$f":"IF(ISBLANK(Datenerfassung!M903),\"\",Datenerfassung!M903)","v":""},{"$f":"IF(ISBLANK(Datenerfassung!H903),\"\",Datenerfassung!H903)","v":""}]
[{"$f":"IF(ISBLANK(Datenerfassung!A904),\"\",Datenerfassung!A904)","v":""},{"$f":"IF(ISBLANK(Datenerfassung!B904),\"\",Datenerfassung!B904)","v":""},{"$f":"IF(ISBLANK(Datenerfassung!C904),\"\",Datenerfassung!C904)","v":""},{"$f":"IF(ISBLANK(Datenerfassung!I904),\"\",Datenerfassung!I904)","v":""},{"$f":"IF(ISBLANK(Datenerfassung!J904),\"\",Datenerfassung!J904)","v":""},"",{"$f":"IF(ISBLANK(Datenerfassung!L904),\"\",Datenerfassung!L904)","v":""},{"$f":"IF(ISBLANK(Datenerfassung!F904),\"\",Datenerfassung!F904)","v":""},{"$f":"IF(ISBLANK(Datenerfassung!D904),IF(COUNTBLANK(A894:H894)+COUNTBLANK(J894:O894)=14,\"\",\"- ohne Titel -\"),Datenerfassung!D904)","v":""},{"$f":"IF(ISBLANK(Datenerfassung!E904),\"\",Datenerfassung!E904)","v":""},"",{"$f":"IF(ISBLANK(Datenerfassung!O904),\"\",Datenerfassung!O904)","v":""},{"$f":"IF(ISBLANK(Datenerfassung!G904),\"\",Datenerfassung!G904)","v":""},{"$f":"IF(ISBLANK(Datenerfassung!M904),\"\",Datenerfassung!M904)","v":""},{"$f":"IF(ISBLANK(Datenerfassung!H904),\"\",Datenerfassung!H904)","v":""}]
[{"$f":"IF(ISBLANK(Datenerfassung!A905),\"\",Datenerfassung!A905)","v":""},{"$f":"IF(ISBLANK(Datenerfassung!B905),\"\",Datenerfassung!B905)","v":""},{"$f":"IF(ISBLANK(Datenerfassung!C905),\"\",Datenerfassung!C905)","v":""},{"$f":"IF(ISBLANK(Datenerfassung!I905),\"\",Datenerfassung!I905)","v":""},{"$f":"IF(ISBLANK(Datenerfassung!J905),\"\",Datenerfassung!J905)","v":""},"",{"$f":"IF(ISBLANK(Datenerfassung!L905),\"\",Datenerfassung!L905)","v":""},{"$f":"IF(ISBLANK(Datenerfassung!F905),\"\",Datenerfassung!F905)","v":""},{"$f":"IF(ISBLANK(Datenerfassung!D905),IF(COUNTBLANK(A895:H895)+COUNTBLANK(J895:O895)=14,\"\",\"- ohne Titel -\"),Datenerfassung!D905)","v":""},{"$f":"IF(ISBLANK(Datenerfassung!E905),\"\",Datenerfassung!E905)","v":""},"",{"$f":"IF(ISBLANK(Datenerfassung!O905),\"\",Datenerfassung!O905)","v":""},{"$f":"IF(ISBLANK(Datenerfassung!G905),\"\",Datenerfassung!G905)","v":""},{"$f":"IF(ISBLANK(Datenerfassung!M905),\"\",Datenerfassung!M905)","v":""},{"$f":"IF(ISBLANK(Datenerfassung!H905),\"\",Datenerfassung!H905)","v":""}]
[{"$f":"IF(ISBLANK(Datenerfassung!A906),\"\",Datenerfassung!A906)","v":""},{"$f":"IF(ISBLANK(Datenerfassung!B906),\"\",Datenerfassung!B906)","v":""},{"$f":"IF(ISBLANK(Datenerfassung!C906),\"\",Datenerfassung!C906)","v":""},{"$f":"IF(ISBLANK(Datenerfassung!I906),\"\",Datenerfassung!I906)","v":""},{"$f":"IF(ISBLANK(Datenerfassung!J906),\"\",Datenerfassung!J906)","v":""},"",{"$f":"IF(ISBLANK(Datenerfassung!L906),\"\",Datenerfassung!L906)","v":""},{"$f":"IF(ISBLANK(Datenerfassung!F906),\"\",Datenerfassung!F906)","v":""},{"$f":"IF(ISBLANK(Datenerfassung!D906),IF(COUNTBLANK(A896:H896)+COUNTBLANK(J896:O896)=14,\"\",\"- ohne Titel -\"),Datenerfassung!D906)","v":""},{"$f":"IF(ISBLANK(Datenerfassung!E906),\"\",Datenerfassung!E906)","v":""},"",{"$f":"IF(ISBLANK(Datenerfassung!O906),\"\",Datenerfassung!O906)","v":""},{"$f":"IF(ISBLANK(Datenerfassung!G906),\"\",Datenerfassung!G906)","v":""},{"$f":"IF(ISBLANK(Datenerfassung!M906),\"\",Datenerfassung!M906)","v":""},{"$f":"IF(ISBLANK(Datenerfassung!H906),\"\",Datenerfassung!H906)","v":""}]
[{"$f":"IF(ISBLANK(Datenerfassung!A907),\"\",Datenerfassung!A907)","v":""},{"$f":"IF(ISBLANK(Datenerfassung!B907),\"\",Datenerfassung!B907)","v":""},{"$f":"IF(ISBLANK(Datenerfassung!C907),\"\",Datenerfassung!C907)","v":""},{"$f":"IF(ISBLANK(Datenerfassung!I907),\"\",Datenerfassung!I907)","v":""},{"$f":"IF(ISBLANK(Datenerfassung!J907),\"\",Datenerfassung!J907)","v":""},"",{"$f":"IF(ISBLANK(Datenerfassung!L907),\"\",Datenerfassung!L907)","v":""},{"$f":"IF(ISBLANK(Datenerfassung!F907),\"\",Datenerfassung!F907)","v":""},{"$f":"IF(ISBLANK(Datenerfassung!D907),IF(COUNTBLANK(A897:H897)+COUNTBLANK(J897:O897)=14,\"\",\"- ohne Titel -\"),Datenerfassung!D907)","v":""},{"$f":"IF(ISBLANK(Datenerfassung!E907),\"\",Datenerfassung!E907)","v":""},"",{"$f":"IF(ISBLANK(Datenerfassung!O907),\"\",Datenerfassung!O907)","v":""},{"$f":"IF(ISBLANK(Datenerfassung!G907),\"\",Datenerfassung!G907)","v":""},{"$f":"IF(ISBLANK(Datenerfassung!M907),\"\",Datenerfassung!M907)","v":""},{"$f":"IF(ISBLANK(Datenerfassung!H907),\"\",Datenerfassung!H907)","v":""}]
[{"$f":"IF(ISBLANK(Datenerfassung!A908),\"\",Datenerfassung!A908)","v":""},{"$f":"IF(ISBLANK(Datenerfassung!B908),\"\",Datenerfassung!B908)","v":""},{"$f":"IF(ISBLANK(Datenerfassung!C908),\"\",Datenerfassung!C908)","v":""},{"$f":"IF(ISBLANK(Datenerfassung!I908),\"\",Datenerfassung!I908)","v":""},{"$f":"IF(ISBLANK(Datenerfassung!J908),\"\",Datenerfassung!J908)","v":""},"",{"$f":"IF(ISBLANK(Datenerfassung!L908),\"\",Datenerfassung!L908)","v":""},{"$f":"IF(ISBLANK(Datenerfassung!F908),\"\",Datenerfassung!F908)","v":""},{"$f":"IF(ISBLANK(Datenerfassung!D908),IF(COUNTBLANK(A898:H898)+COUNTBLANK(J898:O898)=14,\"\",\"- ohne Titel -\"),Datenerfassung!D908)","v":""},{"$f":"IF(ISBLANK(Datenerfassung!E908),\"\",Datenerfassung!E908)","v":""},"",{"$f":"IF(ISBLANK(Datenerfassung!O908),\"\",Datenerfassung!O908)","v":""},{"$f":"IF(ISBLANK(Datenerfassung!G908),\"\",Datenerfassung!G908)","v":""},{"$f":"IF(ISBLANK(Datenerfassung!M908),\"\",Datenerfassung!M908)","v":""},{"$f":"IF(ISBLANK(Datenerfassung!H908),\"\",Datenerfassung!H908)","v":""}]
[{"$f":"IF(ISBLANK(Datenerfassung!A909),\"\",Datenerfassung!A909)","v":""},{"$f":"IF(ISBLANK(Datenerfassung!B909),\"\",Datenerfassung!B909)","v":""},{"$f":"IF(ISBLANK(Datenerfassung!C909),\"\",Datenerfassung!C909)","v":""},{"$f":"IF(ISBLANK(Datenerfassung!I909),\"\",Datenerfassung!I909)","v":""},{"$f":"IF(ISBLANK(Datenerfassung!J909),\"\",Datenerfassung!J909)","v":""},{"$f":"IF(D899=\"\",\"\",IF(E899=\"\",D899,D899&\" - \"&E899))","v":""},{"$f":"IF(ISBLANK(Datenerfassung!L909),\"\",Datenerfassung!L909)","v":""},{"$f":"IF(ISBLANK(Datenerfassung!F909),\"\",Datenerfassung!F909)","v":""},{"$f":"IF(ISBLANK(Datenerfassung!D909),IF(COUNTBLANK(A899:H899)+COUNTBLANK(J899:O899)=14,\"\",\"- ohne Titel -\"),Datenerfassung!D909)","v":""},{"$f":"IF(ISBLANK(Datenerfassung!E909),\"\",Datenerfassung!E909)","v":""},{"$f":"IF(OR(E899=\"\",G899=\"\"),\"\",\"01.01.\"&RIGHT(E899,4)+G899+1)","v":""},{"$f":"IF(ISBLANK(Datenerfassung!O909),\"\",Datenerfassung!O909)","v":""},{"$f":"IF(ISBLANK(Datenerfassung!G909),\"\",Datenerfassung!G909)","v":""},{"$f":"IF(ISBLANK(Datenerfassung!M909),\"\",Datenerfassung!M909)","v":""},{"$f":"IF(ISBLANK(Datenerfassung!H909),\"\",Datenerfassung!H909)","v":""}]
[{"$f":"IF(ISBLANK(Datenerfassung!A910),\"\",Datenerfassung!A910)","v":""},{"$f":"IF(ISBLANK(Datenerfassung!B910),\"\",Datenerfassung!B910)","v":""},{"$f":"IF(ISBLANK(Datenerfassung!C910),\"\",Datenerfassung!C910)","v":""},{"$f":"IF(ISBLANK(Datenerfassung!I910),\"\",Datenerfassung!I910)","v":""},{"$f":"IF(ISBLANK(Datenerfassung!J910),\"\",Datenerfassung!J910)","v":""},"",{"$f":"IF(ISBLANK(Datenerfassung!L910),\"\",Datenerfassung!L910)","v":""},{"$f":"IF(ISBLANK(Datenerfassung!F910),\"\",Datenerfassung!F910)","v":""},{"$f":"IF(ISBLANK(Datenerfassung!D910),IF(COUNTBLANK(A900:H900)+COUNTBLANK(J900:O900)=14,\"\",\"- ohne Titel -\"),Datenerfassung!D910)","v":""},{"$f":"IF(ISBLANK(Datenerfassung!E910),\"\",Datenerfassung!E910)","v":""},"",{"$f":"IF(ISBLANK(Datenerfassung!O910),\"\",Datenerfassung!O910)","v":""},{"$f":"IF(ISBLANK(Datenerfassung!G910),\"\",Datenerfassung!G910)","v":""},{"$f":"IF(ISBLANK(Datenerfassung!M910),\"\",Datenerfassung!M910)","v":""},{"$f":"IF(ISBLANK(Datenerfassung!H910),\"\",Datenerfassung!H910)","v":""}]
[{"$f":"IF(ISBLANK(Datenerfassung!A911),\"\",Datenerfassung!A911)","v":""},{"$f":"IF(ISBLANK(Datenerfassung!B911),\"\",Datenerfassung!B911)","v":""},{"$f":"IF(ISBLANK(Datenerfassung!C911),\"\",Datenerfassung!C911)","v":""},{"$f":"IF(ISBLANK(Datenerfassung!I911),\"\",Datenerfassung!I911)","v":""},{"$f":"IF(ISBLANK(Datenerfassung!J911),\"\",Datenerfassung!J911)","v":""},"",{"$f":"IF(ISBLANK(Datenerfassung!L911),\"\",Datenerfassung!L911)","v":""},{"$f":"IF(ISBLANK(Datenerfassung!F911),\"\",Datenerfassung!F911)","v":""},{"$f":"IF(ISBLANK(Datenerfassung!D911),IF(COUNTBLANK(A901:H901)+COUNTBLANK(J901:O901)=14,\"\",\"- ohne Titel -\"),Datenerfassung!D911)","v":""},{"$f":"IF(ISBLANK(Datenerfassung!E911),\"\",Datenerfassung!E911)","v":""},"",{"$f":"IF(ISBLANK(Datenerfassung!O911),\"\",Datenerfassung!O911)","v":""},{"$f":"IF(ISBLANK(Datenerfassung!G911),\"\",Datenerfassung!G911)","v":""},{"$f":"IF(ISBLANK(Datenerfassung!M911),\"\",Datenerfassung!M911)","v":""},{"$f":"IF(ISBLANK(Datenerfassung!H911),\"\",Datenerfassung!H911)","v":""}]
[{"$f":"IF(ISBLANK(Datenerfassung!A912),\"\",Datenerfassung!A912)","v":""},{"$f":"IF(ISBLANK(Datenerfassung!B912),\"\",Datenerfassung!B912)","v":""},{"$f":"IF(ISBLANK(Datenerfassung!C912),\"\",Datenerfassung!C912)","v":""},{"$f":"IF(ISBLANK(Datenerfassung!I912),\"\",Datenerfassung!I912)","v":""},{"$f":"IF(ISBLANK(Datenerfassung!J912),\"\",Datenerfassung!J912)","v":""},"",{"$f":"IF(ISBLANK(Datenerfassung!L912),\"\",Datenerfassung!L912)","v":""},{"$f":"IF(ISBLANK(Datenerfassung!F912),\"\",Datenerfassung!F912)","v":""},{"$f":"IF(ISBLANK(Datenerfassung!D912),IF(COUNTBLANK(A902:H902)+COUNTBLANK(J902:O902)=14,\"\",\"- ohne Titel -\"),Datenerfassung!D912)","v":""},{"$f":"IF(ISBLANK(Datenerfassung!E912),\"\",Datenerfassung!E912)","v":""},"",{"$f":"IF(ISBLANK(Datenerfassung!O912),\"\",Datenerfassung!O912)","v":""},{"$f":"IF(ISBLANK(Datenerfassung!G912),\"\",Datenerfassung!G912)","v":""},{"$f":"IF(ISBLANK(Datenerfassung!M912),\"\",Datenerfassung!M912)","v":""},{"$f":"IF(ISBLANK(Datenerfassung!H912),\"\",Datenerfassung!H912)","v":""}]
[{"$f":"IF(ISBLANK(Datenerfassung!A913),\"\",Datenerfassung!A913)","v":""},{"$f":"IF(ISBLANK(Datenerfassung!B913),\"\",Datenerfassung!B913)","v":""},{"$f":"IF(ISBLANK(Datenerfassung!C913),\"\",Datenerfassung!C913)","v":""},{"$f":"IF(ISBLANK(Datenerfassung!I913),\"\",Datenerfassung!I913)","v":""},{"$f":"IF(ISBLANK(Datenerfassung!J913),\"\",Datenerfassung!J913)","v":""},"",{"$f":"IF(ISBLANK(Datenerfassung!L913),\"\",Datenerfassung!L913)","v":""},{"$f":"IF(ISBLANK(Datenerfassung!F913),\"\",Datenerfassung!F913)","v":""},{"$f":"IF(ISBLANK(Datenerfassung!D913),IF(COUNTBLANK(A903:H903)+COUNTBLANK(J903:O903)=14,\"\",\"- ohne Titel -\"),Datenerfassung!D913)","v":""},{"$f":"IF(ISBLANK(Datenerfassung!E913),\"\",Datenerfassung!E913)","v":""},"",{"$f":"IF(ISBLANK(Datenerfassung!O913),\"\",Datenerfassung!O913)","v":""},{"$f":"IF(ISBLANK(Datenerfassung!G913),\"\",Datenerfassung!G913)","v":""},{"$f":"IF(ISBLANK(Datenerfassung!M913),\"\",Datenerfassung!M913)","v":""},{"$f":"IF(ISBLANK(Datenerfassung!H913),\"\",Datenerfassung!H913)","v":""}]
[{"$f":"IF(ISBLANK(Datenerfassung!A914),\"\",Datenerfassung!A914)","v":""},{"$f":"IF(ISBLANK(Datenerfassung!B914),\"\",Datenerfassung!B914)","v":""},{"$f":"IF(ISBLANK(Datenerfassung!C914),\"\",Datenerfassung!C914)","v":""},{"$f":"IF(ISBLANK(Datenerfassung!I914),\"\",Datenerfassung!I914)","v":""},{"$f":"IF(ISBLANK(Datenerfassung!J914),\"\",Datenerfassung!J914)","v":""},"",{"$f":"IF(ISBLANK(Datenerfassung!L914),\"\",Datenerfassung!L914)","v":""},{"$f":"IF(ISBLANK(Datenerfassung!F914),\"\",Datenerfassung!F914)","v":""},{"$f":"IF(ISBLANK(Datenerfassung!D914),IF(COUNTBLANK(A904:H904)+COUNTBLANK(J904:O904)=14,\"\",\"- ohne Titel -\"),Datenerfassung!D914)","v":""},{"$f":"IF(ISBLANK(Datenerfassung!E914),\"\",Datenerfassung!E914)","v":""},"",{"$f":"IF(ISBLANK(Datenerfassung!O914),\"\",Datenerfassung!O914)","v":""},{"$f":"IF(ISBLANK(Datenerfassung!G914),\"\",Datenerfassung!G914)","v":""},{"$f":"IF(ISBLANK(Datenerfassung!M914),\"\",Datenerfassung!M914)","v":""},{"$f":"IF(ISBLANK(Datenerfassung!H914),\"\",Datenerfassung!H914)","v":""}]
[{"$f":"IF(ISBLANK(Datenerfassung!A915),\"\",Datenerfassung!A915)","v":""},{"$f":"IF(ISBLANK(Datenerfassung!B915),\"\",Datenerfassung!B915)","v":""},{"$f":"IF(ISBLANK(Datenerfassung!C915),\"\",Datenerfassung!C915)","v":""},{"$f":"IF(ISBLANK(Datenerfassung!I915),\"\",Datenerfassung!I915)","v":""},{"$f":"IF(ISBLANK(Datenerfassung!J915),\"\",Datenerfassung!J915)","v":""},"",{"$f":"IF(ISBLANK(Datenerfassung!L915),\"\",Datenerfassung!L915)","v":""},{"$f":"IF(ISBLANK(Datenerfassung!F915),\"\",Datenerfassung!F915)","v":""},{"$f":"IF(ISBLANK(Datenerfassung!D915),IF(COUNTBLANK(A905:H905)+COUNTBLANK(J905:O905)=14,\"\",\"- ohne Titel -\"),Datenerfassung!D915)","v":""},{"$f":"IF(ISBLANK(Datenerfassung!E915),\"\",Datenerfassung!E915)","v":""},"",{"$f":"IF(ISBLANK(Datenerfassung!O915),\"\",Datenerfassung!O915)","v":""},{"$f":"IF(ISBLANK(Datenerfassung!G915),\"\",Datenerfassung!G915)","v":""},{"$f":"IF(ISBLANK(Datenerfassung!M915),\"\",Datenerfassung!M915)","v":""},{"$f":"IF(ISBLANK(Datenerfassung!H915),\"\",Datenerfassung!H915)","v":""}]
[{"$f":"IF(ISBLANK(Datenerfassung!A916),\"\",Datenerfassung!A916)","v":""},{"$f":"IF(ISBLANK(Datenerfassung!B916),\"\",Datenerfassung!B916)","v":""},{"$f":"IF(ISBLANK(Datenerfassung!C916),\"\",Datenerfassung!C916)","v":""},{"$f":"IF(ISBLANK(Datenerfassung!I916),\"\",Datenerfassung!I916)","v":""},{"$f":"IF(ISBLANK(Datenerfassung!J916),\"\",Datenerfassung!J916)","v":""},"",{"$f":"IF(ISBLANK(Datenerfassung!L916),\"\",Datenerfassung!L916)","v":""},{"$f":"IF(ISBLANK(Datenerfassung!F916),\"\",Datenerfassung!F916)","v":""},{"$f":"IF(ISBLANK(Datenerfassung!D916),IF(COUNTBLANK(A906:H906)+COUNTBLANK(J906:O906)=14,\"\",\"- ohne Titel -\"),Datenerfassung!D916)","v":""},{"$f":"IF(ISBLANK(Datenerfassung!E916),\"\",Datenerfassung!E916)","v":""},"",{"$f":"IF(ISBLANK(Datenerfassung!O916),\"\",Datenerfassung!O916)","v":""},{"$f":"IF(ISBLANK(Datenerfassung!G916),\"\",Datenerfassung!G916)","v":""},{"$f":"IF(ISBLANK(Datenerfassung!M916),\"\",Datenerfassung!M916)","v":""},{"$f":"IF(ISBLANK(Datenerfassung!H916),\"\",Datenerfassung!H916)","v":""}]
[{"$f":"IF(ISBLANK(Datenerfassung!A917),\"\",Datenerfassung!A917)","v":""},{"$f":"IF(ISBLANK(Datenerfassung!B917),\"\",Datenerfassung!B917)","v":""},{"$f":"IF(ISBLANK(Datenerfassung!C917),\"\",Datenerfassung!C917)","v":""},{"$f":"IF(ISBLANK(Datenerfassung!I917),\"\",Datenerfassung!I917)","v":""},{"$f":"IF(ISBLANK(Datenerfassung!J917),\"\",Datenerfassung!J917)","v":""},"",{"$f":"IF(ISBLANK(Datenerfassung!L917),\"\",Datenerfassung!L917)","v":""},{"$f":"IF(ISBLANK(Datenerfassung!F917),\"\",Datenerfassung!F917)","v":""},{"$f":"IF(ISBLANK(Datenerfassung!D917),IF(COUNTBLANK(A907:H907)+COUNTBLANK(J907:O907)=14,\"\",\"- ohne Titel -\"),Datenerfassung!D917)","v":""},{"$f":"IF(ISBLANK(Datenerfassung!E917),\"\",Datenerfassung!E917)","v":""},"",{"$f":"IF(ISBLANK(Datenerfassung!O917),\"\",Datenerfassung!O917)","v":""},{"$f":"IF(ISBLANK(Datenerfassung!G917),\"\",Datenerfassung!G917)","v":""},{"$f":"IF(ISBLANK(Datenerfassung!M917),\"\",Datenerfassung!M917)","v":""},{"$f":"IF(ISBLANK(Datenerfassung!H917),\"\",Datenerfassung!H917)","v":""}]
[{"$f":"IF(ISBLANK(Datenerfassung!A918),\"\",Datenerfassung!A918)","v":""},{"$f":"IF(ISBLANK(Datenerfassung!B918),\"\",Datenerfassung!B918)","v":""},{"$f":"IF(ISBLANK(Datenerfassung!C918),\"\",Datenerfassung!C918)","v":""},{"$f":"IF(ISBLANK(Datenerfassung!I918),\"\",Datenerfassung!I918)","v":""},{"$f":"IF(ISBLANK(Datenerfassung!J918),\"\",Datenerfassung!J918)","v":""},"",{"$f":"IF(ISBLANK(Datenerfassung!L918),\"\",Datenerfassung!L918)","v":""},{"$f":"IF(ISBLANK(Datenerfassung!F918),\"\",Datenerfassung!F918)","v":""},{"$f":"IF(ISBLANK(Datenerfassung!D918),IF(COUNTBLANK(A908:H908)+COUNTBLANK(J908:O908)=14,\"\",\"- ohne Titel -\"),Datenerfassung!D918)","v":""},{"$f":"IF(ISBLANK(Datenerfassung!E918),\"\",Datenerfassung!E918)","v":""},"",{"$f":"IF(ISBLANK(Datenerfassung!O918),\"\",Datenerfassung!O918)","v":""},{"$f":"IF(ISBLANK(Datenerfassung!G918),\"\",Datenerfassung!G918)","v":""},{"$f":"IF(ISBLANK(Datenerfassung!M918),\"\",Datenerfassung!M918)","v":""},{"$f":"IF(ISBLANK(Datenerfassung!H918),\"\",Datenerfassung!H918)","v":""}]
[{"$f":"IF(ISBLANK(Datenerfassung!A919),\"\",Datenerfassung!A919)","v":""},{"$f":"IF(ISBLANK(Datenerfassung!B919),\"\",Datenerfassung!B919)","v":""},{"$f":"IF(ISBLANK(Datenerfassung!C919),\"\",Datenerfassung!C919)","v":""},{"$f":"IF(ISBLANK(Datenerfassung!I919),\"\",Datenerfassung!I919)","v":""},{"$f":"IF(ISBLANK(Datenerfassung!J919),\"\",Datenerfassung!J919)","v":""},"",{"$f":"IF(ISBLANK(Datenerfassung!L919),\"\",Datenerfassung!L919)","v":""},{"$f":"IF(ISBLANK(Datenerfassung!F919),\"\",Datenerfassung!F919)","v":""},{"$f":"IF(ISBLANK(Datenerfassung!D919),IF(COUNTBLANK(A909:H909)+COUNTBLANK(J909:O909)=14,\"\",\"- ohne Titel -\"),Datenerfassung!D919)","v":""},{"$f":"IF(ISBLANK(Datenerfassung!E919),\"\",Datenerfassung!E919)","v":""},"",{"$f":"IF(ISBLANK(Datenerfassung!O919),\"\",Datenerfassung!O919)","v":""},{"$f":"IF(ISBLANK(Datenerfassung!G919),\"\",Datenerfassung!G919)","v":""},{"$f":"IF(ISBLANK(Datenerfassung!M919),\"\",Datenerfassung!M919)","v":""},{"$f":"IF(ISBLANK(Datenerfassung!H919),\"\",Datenerfassung!H919)","v":""}]
[{"$f":"IF(ISBLANK(Datenerfassung!A920),\"\",Datenerfassung!A920)","v":""},{"$f":"IF(ISBLANK(Datenerfassung!B920),\"\",Datenerfassung!B920)","v":""},{"$f":"IF(ISBLANK(Datenerfassung!C920),\"\",Datenerfassung!C920)","v":""},{"$f":"IF(ISBLANK(Datenerfassung!I920),\"\",Datenerfassung!I920)","v":""},{"$f":"IF(ISBLANK(Datenerfassung!J920),\"\",Datenerfassung!J920)","v":""},"",{"$f":"IF(ISBLANK(Datenerfassung!L920),\"\",Datenerfassung!L920)","v":""},{"$f":"IF(ISBLANK(Datenerfassung!F920),\"\",Datenerfassung!F920)","v":""},{"$f":"IF(ISBLANK(Datenerfassung!D920),IF(COUNTBLANK(A910:H910)+COUNTBLANK(J910:O910)=14,\"\",\"- ohne Titel -\"),Datenerfassung!D920)","v":""},{"$f":"IF(ISBLANK(Datenerfassung!E920),\"\",Datenerfassung!E920)","v":""},"",{"$f":"IF(ISBLANK(Datenerfassung!O920),\"\",Datenerfassung!O920)","v":""},{"$f":"IF(ISBLANK(Datenerfassung!G920),\"\",Datenerfassung!G920)","v":""},{"$f":"IF(ISBLANK(Datenerfassung!M920),\"\",Datenerfassung!M920)","v":""},{"$f":"IF(ISBLANK(Datenerfassung!H920),\"\",Datenerfassung!H920)","v":""}]
[{"$f":"IF(ISBLANK(Datenerfassung!A921),\"\",Datenerfassung!A921)","v":""},{"$f":"IF(ISBLANK(Datenerfassung!B921),\"\",Datenerfassung!B921)","v":""},{"$f":"IF(ISBLANK(Datenerfassung!C921),\"\",Datenerfassung!C921)","v":""},{"$f":"IF(ISBLANK(Datenerfassung!I921),\"\",Datenerfassung!I921)","v":""},{"$f":"IF(ISBLANK(Datenerfassung!J921),\"\",Datenerfassung!J921)","v":""},"",{"$f":"IF(ISBLANK(Datenerfassung!L921),\"\",Datenerfassung!L921)","v":""},{"$f":"IF(ISBLANK(Datenerfassung!F921),\"\",Datenerfassung!F921)","v":""},{"$f":"IF(ISBLANK(Datenerfassung!D921),IF(COUNTBLANK(A911:H911)+COUNTBLANK(J911:O911)=14,\"\",\"- ohne Titel -\"),Datenerfassung!D921)","v":""},{"$f":"IF(ISBLANK(Datenerfassung!E921),\"\",Datenerfassung!E921)","v":""},"",{"$f":"IF(ISBLANK(Datenerfassung!O921),\"\",Datenerfassung!O921)","v":""},{"$f":"IF(ISBLANK(Datenerfassung!G921),\"\",Datenerfassung!G921)","v":""},{"$f":"IF(ISBLANK(Datenerfassung!M921),\"\",Datenerfassung!M921)","v":""},{"$f":"IF(ISBLANK(Datenerfassung!H921),\"\",Datenerfassung!H921)","v":""}]
[{"$f":"IF(ISBLANK(Datenerfassung!A922),\"\",Datenerfassung!A922)","v":""},{"$f":"IF(ISBLANK(Datenerfassung!B922),\"\",Datenerfassung!B922)","v":""},{"$f":"IF(ISBLANK(Datenerfassung!C922),\"\",Datenerfassung!C922)","v":""},{"$f":"IF(ISBLANK(Datenerfassung!I922),\"\",Datenerfassung!I922)","v":""},{"$f":"IF(ISBLANK(Datenerfassung!J922),\"\",Datenerfassung!J922)","v":""},"",{"$f":"IF(ISBLANK(Datenerfassung!L922),\"\",Datenerfassung!L922)","v":""},{"$f":"IF(ISBLANK(Datenerfassung!F922),\"\",Datenerfassung!F922)","v":""},{"$f":"IF(ISBLANK(Datenerfassung!D922),IF(COUNTBLANK(A912:H912)+COUNTBLANK(J912:O912)=14,\"\",\"- ohne Titel -\"),Datenerfassung!D922)","v":""},{"$f":"IF(ISBLANK(Datenerfassung!E922),\"\",Datenerfassung!E922)","v":""},"",{"$f":"IF(ISBLANK(Datenerfassung!O922),\"\",Datenerfassung!O922)","v":""},{"$f":"IF(ISBLANK(Datenerfassung!G922),\"\",Datenerfassung!G922)","v":""},{"$f":"IF(ISBLANK(Datenerfassung!M922),\"\",Datenerfassung!M922)","v":""},{"$f":"IF(ISBLANK(Datenerfassung!H922),\"\",Datenerfassung!H922)","v":""}]
[{"$f":"IF(ISBLANK(Datenerfassung!A923),\"\",Datenerfassung!A923)","v":""},{"$f":"IF(ISBLANK(Datenerfassung!B923),\"\",Datenerfassung!B923)","v":""},{"$f":"IF(ISBLANK(Datenerfassung!C923),\"\",Datenerfassung!C923)","v":""},{"$f":"IF(ISBLANK(Datenerfassung!I923),\"\",Datenerfassung!I923)","v":""},{"$f":"IF(ISBLANK(Datenerfassung!J923),\"\",Datenerfassung!J923)","v":""},"",{"$f":"IF(ISBLANK(Datenerfassung!L923),\"\",Datenerfassung!L923)","v":""},{"$f":"IF(ISBLANK(Datenerfassung!F923),\"\",Datenerfassung!F923)","v":""},{"$f":"IF(ISBLANK(Datenerfassung!D923),IF(COUNTBLANK(A913:H913)+COUNTBLANK(J913:O913)=14,\"\",\"- ohne Titel -\"),Datenerfassung!D923)","v":""},{"$f":"IF(ISBLANK(Datenerfassung!E923),\"\",Datenerfassung!E923)","v":""},"",{"$f":"IF(ISBLANK(Datenerfassung!O923),\"\",Datenerfassung!O923)","v":""},{"$f":"IF(ISBLANK(Datenerfassung!G923),\"\",Datenerfassung!G923)","v":""},{"$f":"IF(ISBLANK(Datenerfassung!M923),\"\",Datenerfassung!M923)","v":""},{"$f":"IF(ISBLANK(Datenerfassung!H923),\"\",Datenerfassung!H923)","v":""}]
[{"$f":"IF(ISBLANK(Datenerfassung!A924),\"\",Datenerfassung!A924)","v":""},{"$f":"IF(ISBLANK(Datenerfassung!B924),\"\",Datenerfassung!B924)","v":""},{"$f":"IF(ISBLANK(Datenerfassung!C924),\"\",Datenerfassung!C924)","v":""},{"$f":"IF(ISBLANK(Datenerfassung!I924),\"\",Datenerfassung!I924)","v":""},{"$f":"IF(ISBLANK(Datenerfassung!J924),\"\",Datenerfassung!J924)","v":""},"",{"$f":"IF(ISBLANK(Datenerfassung!L924),\"\",Datenerfassung!L924)","v":""},{"$f":"IF(ISBLANK(Datenerfassung!F924),\"\",Datenerfassung!F924)","v":""},{"$f":"IF(ISBLANK(Datenerfassung!D924),IF(COUNTBLANK(A914:H914)+COUNTBLANK(J914:O914)=14,\"\",\"- ohne Titel -\"),Datenerfassung!D924)","v":""},{"$f":"IF(ISBLANK(Datenerfassung!E924),\"\",Datenerfassung!E924)","v":""},"",{"$f":"IF(ISBLANK(Datenerfassung!O924),\"\",Datenerfassung!O924)","v":""},{"$f":"IF(ISBLANK(Datenerfassung!G924),\"\",Datenerfassung!G924)","v":""},{"$f":"IF(ISBLANK(Datenerfassung!M924),\"\",Datenerfassung!M924)","v":""},{"$f":"IF(ISBLANK(Datenerfassung!H924),\"\",Datenerfassung!H924)","v":""}]
[{"$f":"IF(ISBLANK(Datenerfassung!A925),\"\",Datenerfassung!A925)","v":""},{"$f":"IF(ISBLANK(Datenerfassung!B925),\"\",Datenerfassung!B925)","v":""},{"$f":"IF(ISBLANK(Datenerfassung!C925),\"\",Datenerfassung!C925)","v":""},{"$f":"IF(ISBLANK(Datenerfassung!I925),\"\",Datenerfassung!I925)","v":""},{"$f":"IF(ISBLANK(Datenerfassung!J925),\"\",Datenerfassung!J925)","v":""},"",{"$f":"IF(ISBLANK(Datenerfassung!L925),\"\",Datenerfassung!L925)","v":""},{"$f":"IF(ISBLANK(Datenerfassung!F925),\"\",Datenerfassung!F925)","v":""},{"$f":"IF(ISBLANK(Datenerfassung!D925),IF(COUNTBLANK(A915:H915)+COUNTBLANK(J915:O915)=14,\"\",\"- ohne Titel -\"),Datenerfassung!D925)","v":""},{"$f":"IF(ISBLANK(Datenerfassung!E925),\"\",Datenerfassung!E925)","v":""},"",{"$f":"IF(ISBLANK(Datenerfassung!O925),\"\",Datenerfassung!O925)","v":""},{"$f":"IF(ISBLANK(Datenerfassung!G925),\"\",Datenerfassung!G925)","v":""},{"$f":"IF(ISBLANK(Datenerfassung!M925),\"\",Datenerfassung!M925)","v":""},{"$f":"IF(ISBLANK(Datenerfassung!H925),\"\",Datenerfassung!H925)","v":""}]
[{"$f":"IF(ISBLANK(Datenerfassung!A926),\"\",Datenerfassung!A926)","v":""},{"$f":"IF(ISBLANK(Datenerfassung!B926),\"\",Datenerfassung!B926)","v":""},{"$f":"IF(ISBLANK(Datenerfassung!C926),\"\",Datenerfassung!C926)","v":""},{"$f":"IF(ISBLANK(Datenerfassung!I926),\"\",Datenerfassung!I926)","v":""},{"$f":"IF(ISBLANK(Datenerfassung!J926),\"\",Datenerfassung!J926)","v":""},"",{"$f":"IF(ISBLANK(Datenerfassung!L926),\"\",Datenerfassung!L926)","v":""},{"$f":"IF(ISBLANK(Datenerfassung!F926),\"\",Datenerfassung!F926)","v":""},{"$f":"IF(ISBLANK(Datenerfassung!D926),IF(COUNTBLANK(A916:H916)+COUNTBLANK(J916:O916)=14,\"\",\"- ohne Titel -\"),Datenerfassung!D926)","v":""},{"$f":"IF(ISBLANK(Datenerfassung!E926),\"\",Datenerfassung!E926)","v":""},"",{"$f":"IF(ISBLANK(Datenerfassung!O926),\"\",Datenerfassung!O926)","v":""},{"$f":"IF(ISBLANK(Datenerfassung!G926),\"\",Datenerfassung!G926)","v":""},{"$f":"IF(ISBLANK(Datenerfassung!M926),\"\",Datenerfassung!M926)","v":""},{"$f":"IF(ISBLANK(Datenerfassung!H926),\"\",Datenerfassung!H926)","v":""}]
[{"$f":"IF(ISBLANK(Datenerfassung!A927),\"\",Datenerfassung!A927)","v":""},{"$f":"IF(ISBLANK(Datenerfassung!B927),\"\",Datenerfassung!B927)","v":""},{"$f":"IF(ISBLANK(Datenerfassung!C927),\"\",Datenerfassung!C927)","v":""},{"$f":"IF(ISBLANK(Datenerfassung!I927),\"\",Datenerfassung!I927)","v":""},{"$f":"IF(ISBLANK(Datenerfassung!J927),\"\",Datenerfassung!J927)","v":""},"",{"$f":"IF(ISBLANK(Datenerfassung!L927),\"\",Datenerfassung!L927)","v":""},{"$f":"IF(ISBLANK(Datenerfassung!F927),\"\",Datenerfassung!F927)","v":""},{"$f":"IF(ISBLANK(Datenerfassung!D927),IF(COUNTBLANK(A917:H917)+COUNTBLANK(J917:O917)=14,\"\",\"- ohne Titel -\"),Datenerfassung!D927)","v":""},{"$f":"IF(ISBLANK(Datenerfassung!E927),\"\",Datenerfassung!E927)","v":""},"",{"$f":"IF(ISBLANK(Datenerfassung!O927),\"\",Datenerfassung!O927)","v":""},{"$f":"IF(ISBLANK(Datenerfassung!G927),\"\",Datenerfassung!G927)","v":""},{"$f":"IF(ISBLANK(Datenerfassung!M927),\"\",Datenerfassung!M927)","v":""},{"$f":"IF(ISBLANK(Datenerfassung!H927),\"\",Datenerfassung!H927)","v":""}]
[{"$f":"IF(ISBLANK(Datenerfassung!A928),\"\",Datenerfassung!A928)","v":""},{"$f":"IF(ISBLANK(Datenerfassung!B928),\"\",Datenerfassung!B928)","v":""},{"$f":"IF(ISBLANK(Datenerfassung!C928),\"\",Datenerfassung!C928)","v":""},{"$f":"IF(ISBLANK(Datenerfassung!I928),\"\",Datenerfassung!I928)","v":""},{"$f":"IF(ISBLANK(Datenerfassung!J928),\"\",Datenerfassung!J928)","v":""},"",{"$f":"IF(ISBLANK(Datenerfassung!L928),\"\",Datenerfassung!L928)","v":""},{"$f":"IF(ISBLANK(Datenerfassung!F928),\"\",Datenerfassung!F928)","v":""},{"$f":"IF(ISBLANK(Datenerfassung!D928),IF(COUNTBLANK(A918:H918)+COUNTBLANK(J918:O918)=14,\"\",\"- ohne Titel -\"),Datenerfassung!D928)","v":""},{"$f":"IF(ISBLANK(Datenerfassung!E928),\"\",Datenerfassung!E928)","v":""},"",{"$f":"IF(ISBLANK(Datenerfassung!O928),\"\",Datenerfassung!O928)","v":""},{"$f":"IF(ISBLANK(Datenerfassung!G928),\"\",Datenerfassung!G928)","v":""},{"$f":"IF(ISBLANK(Datenerfassung!M928),\"\",Datenerfassung!M928)","v":""},{"$f":"IF(ISBLANK(Datenerfassung!H928),\"\",Datenerfassung!H928)","v":""}]
[{"$f":"IF(ISBLANK(Datenerfassung!A929),\"\",Datenerfassung!A929)","v":""},{"$f":"IF(ISBLANK(Datenerfassung!B929),\"\",Datenerfassung!B929)","v":""},{"$f":"IF(ISBLANK(Datenerfassung!C929),\"\",Datenerfassung!C929)","v":""},{"$f":"IF(ISBLANK(Datenerfassung!I929),\"\",Datenerfassung!I929)","v":""},{"$f":"IF(ISBLANK(Datenerfassung!J929),\"\",Datenerfassung!J929)","v":""},"",{"$f":"IF(ISBLANK(Datenerfassung!L929),\"\",Datenerfassung!L929)","v":""},{"$f":"IF(ISBLANK(Datenerfassung!F929),\"\",Datenerfassung!F929)","v":""},{"$f":"IF(ISBLANK(Datenerfassung!D929),IF(COUNTBLANK(A919:H919)+COUNTBLANK(J919:O919)=14,\"\",\"- ohne Titel -\"),Datenerfassung!D929)","v":""},{"$f":"IF(ISBLANK(Datenerfassung!E929),\"\",Datenerfassung!E929)","v":""},"",{"$f":"IF(ISBLANK(Datenerfassung!O929),\"\",Datenerfassung!O929)","v":""},{"$f":"IF(ISBLANK(Datenerfassung!G929),\"\",Datenerfassung!G929)","v":""},{"$f":"IF(ISBLANK(Datenerfassung!M929),\"\",Datenerfassung!M929)","v":""},{"$f":"IF(ISBLANK(Datenerfassung!H929),\"\",Datenerfassung!H929)","v":""}]
[{"$f":"IF(ISBLANK(Datenerfassung!A930),\"\",Datenerfassung!A930)","v":""},{"$f":"IF(ISBLANK(Datenerfassung!B930),\"\",Datenerfassung!B930)","v":""},{"$f":"IF(ISBLANK(Datenerfassung!C930),\"\",Datenerfassung!C930)","v":""},{"$f":"IF(ISBLANK(Datenerfassung!I930),\"\",Datenerfassung!I930)","v":""},{"$f":"IF(ISBLANK(Datenerfassung!J930),\"\",Datenerfassung!J930)","v":""},"",{"$f":"IF(ISBLANK(Datenerfassung!L930),\"\",Datenerfassung!L930)","v":""},{"$f":"IF(ISBLANK(Datenerfassung!F930),\"\",Datenerfassung!F930)","v":""},{"$f":"IF(ISBLANK(Datenerfassung!D930),IF(COUNTBLANK(A920:H920)+COUNTBLANK(J920:O920)=14,\"\",\"- ohne Titel -\"),Datenerfassung!D930)","v":""},{"$f":"IF(ISBLANK(Datenerfassung!E930),\"\",Datenerfassung!E930)","v":""},"",{"$f":"IF(ISBLANK(Datenerfassung!O930),\"\",Datenerfassung!O930)","v":""},{"$f":"IF(ISBLANK(Datenerfassung!G930),\"\",Datenerfassung!G930)","v":""},{"$f":"IF(ISBLANK(Datenerfassung!M930),\"\",Datenerfassung!M930)","v":""},{"$f":"IF(ISBLANK(Datenerfassung!H930),\"\",Datenerfassung!H930)","v":""}]
[{"$f":"IF(ISBLANK(Datenerfassung!A931),\"\",Datenerfassung!A931)","v":""},{"$f":"IF(ISBLANK(Datenerfassung!B931),\"\",Datenerfassung!B931)","v":""},{"$f":"IF(ISBLANK(Datenerfassung!C931),\"\",Datenerfassung!C931)","v":""},{"$f":"IF(ISBLANK(Datenerfassung!I931),\"\",Datenerfassung!I931)","v":""},{"$f":"IF(ISBLANK(Datenerfassung!J931),\"\",Datenerfassung!J931)","v":""},"",{"$f":"IF(ISBLANK(Datenerfassung!L931),\"\",Datenerfassung!L931)","v":""},{"$f":"IF(ISBLANK(Datenerfassung!F931),\"\",Datenerfassung!F931)","v":""},{"$f":"IF(ISBLANK(Datenerfassung!D931),IF(COUNTBLANK(A921:H921)+COUNTBLANK(J921:O921)=14,\"\",\"- ohne Titel -\"),Datenerfassung!D931)","v":""},{"$f":"IF(ISBLANK(Datenerfassung!E931),\"\",Datenerfassung!E931)","v":""},"",{"$f":"IF(ISBLANK(Datenerfassung!O931),\"\",Datenerfassung!O931)","v":""},{"$f":"IF(ISBLANK(Datenerfassung!G931),\"\",Datenerfassung!G931)","v":""},{"$f":"IF(ISBLANK(Datenerfassung!M931),\"\",Datenerfassung!M931)","v":""},{"$f":"IF(ISBLANK(Datenerfassung!H931),\"\",Datenerfassung!H931)","v":""}]
[{"$f":"IF(ISBLANK(Datenerfassung!A932),\"\",Datenerfassung!A932)","v":""},{"$f":"IF(ISBLANK(Datenerfassung!B932),\"\",Datenerfassung!B932)","v":""},{"$f":"IF(ISBLANK(Datenerfassung!C932),\"\",Datenerfassung!C932)","v":""},{"$f":"IF(ISBLANK(Datenerfassung!I932),\"\",Datenerfassung!I932)","v":""},{"$f":"IF(ISBLANK(Datenerfassung!J932),\"\",Datenerfassung!J932)","v":""},"",{"$f":"IF(ISBLANK(Datenerfassung!L932),\"\",Datenerfassung!L932)","v":""},{"$f":"IF(ISBLANK(Datenerfassung!F932),\"\",Datenerfassung!F932)","v":""},{"$f":"IF(ISBLANK(Datenerfassung!D932),IF(COUNTBLANK(A922:H922)+COUNTBLANK(J922:O922)=14,\"\",\"- ohne Titel -\"),Datenerfassung!D932)","v":""},{"$f":"IF(ISBLANK(Datenerfassung!E932),\"\",Datenerfassung!E932)","v":""},"",{"$f":"IF(ISBLANK(Datenerfassung!O932),\"\",Datenerfassung!O932)","v":""},{"$f":"IF(ISBLANK(Datenerfassung!G932),\"\",Datenerfassung!G932)","v":""},{"$f":"IF(ISBLANK(Datenerfassung!M932),\"\",Datenerfassung!M932)","v":""},{"$f":"IF(ISBLANK(Datenerfassung!H932),\"\",Datenerfassung!H932)","v":""}]
[{"$f":"IF(ISBLANK(Datenerfassung!A933),\"\",Datenerfassung!A933)","v":""},{"$f":"IF(ISBLANK(Datenerfassung!B933),\"\",Datenerfassung!B933)","v":""},{"$f":"IF(ISBLANK(Datenerfassung!C933),\"\",Datenerfassung!C933)","v":""},{"$f":"IF(ISBLANK(Datenerfassung!I933),\"\",Datenerfassung!I933)","v":""},{"$f":"IF(ISBLANK(Datenerfassung!J933),\"\",Datenerfassung!J933)","v":""},"",{"$f":"IF(ISBLANK(Datenerfassung!L933),\"\",Datenerfassung!L933)","v":""},{"$f":"IF(ISBLANK(Datenerfassung!F933),\"\",Datenerfassung!F933)","v":""},{"$f":"IF(ISBLANK(Datenerfassung!D933),IF(COUNTBLANK(A923:H923)+COUNTBLANK(J923:O923)=14,\"\",\"- ohne Titel -\"),Datenerfassung!D933)","v":""},{"$f":"IF(ISBLANK(Datenerfassung!E933),\"\",Datenerfassung!E933)","v":""},"",{"$f":"IF(ISBLANK(Datenerfassung!O933),\"\",Datenerfassung!O933)","v":""},{"$f":"IF(ISBLANK(Datenerfassung!G933),\"\",Datenerfassung!G933)","v":""},{"$f":"IF(ISBLANK(Datenerfassung!M933),\"\",Datenerfassung!M933)","v":""},{"$f":"IF(ISBLANK(Datenerfassung!H933),\"\",Datenerfassung!H933)","v":""}]
[{"$f":"IF(ISBLANK(Datenerfassung!A934),\"\",Datenerfassung!A934)","v":""},{"$f":"IF(ISBLANK(Datenerfassung!B934),\"\",Datenerfassung!B934)","v":""},{"$f":"IF(ISBLANK(Datenerfassung!C934),\"\",Datenerfassung!C934)","v":""},{"$f":"IF(ISBLANK(Datenerfassung!I934),\"\",Datenerfassung!I934)","v":""},{"$f":"IF(ISBLANK(Datenerfassung!J934),\"\",Datenerfassung!J934)","v":""},"",{"$f":"IF(ISBLANK(Datenerfassung!L934),\"\",Datenerfassung!L934)","v":""},{"$f":"IF(ISBLANK(Datenerfassung!F934),\"\",Datenerfassung!F934)","v":""},{"$f":"IF(ISBLANK(Datenerfassung!D934),IF(COUNTBLANK(A924:H924)+COUNTBLANK(J924:O924)=14,\"\",\"- ohne Titel -\"),Datenerfassung!D934)","v":""},{"$f":"IF(ISBLANK(Datenerfassung!E934),\"\",Datenerfassung!E934)","v":""},"",{"$f":"IF(ISBLANK(Datenerfassung!O934),\"\",Datenerfassung!O934)","v":""},{"$f":"IF(ISBLANK(Datenerfassung!G934),\"\",Datenerfassung!G934)","v":""},{"$f":"IF(ISBLANK(Datenerfassung!M934),\"\",Datenerfassung!M934)","v":""},{"$f":"IF(ISBLANK(Datenerfassung!H934),\"\",Datenerfassung!H934)","v":""}]
[{"$f":"IF(ISBLANK(Datenerfassung!A935),\"\",Datenerfassung!A935)","v":""},{"$f":"IF(ISBLANK(Datenerfassung!B935),\"\",Datenerfassung!B935)","v":""},{"$f":"IF(ISBLANK(Datenerfassung!C935),\"\",Datenerfassung!C935)","v":""},{"$f":"IF(ISBLANK(Datenerfassung!I935),\"\",Datenerfassung!I935)","v":""},{"$f":"IF(ISBLANK(Datenerfassung!J935),\"\",Datenerfassung!J935)","v":""},"",{"$f":"IF(ISBLANK(Datenerfassung!L935),\"\",Datenerfassung!L935)","v":""},{"$f":"IF(ISBLANK(Datenerfassung!F935),\"\",Datenerfassung!F935)","v":""},{"$f":"IF(ISBLANK(Datenerfassung!D935),IF(COUNTBLANK(A925:H925)+COUNTBLANK(J925:O925)=14,\"\",\"- ohne Titel -\"),Datenerfassung!D935)","v":""},{"$f":"IF(ISBLANK(Datenerfassung!E935),\"\",Datenerfassung!E935)","v":""},"",{"$f":"IF(ISBLANK(Datenerfassung!O935),\"\",Datenerfassung!O935)","v":""},{"$f":"IF(ISBLANK(Datenerfassung!G935),\"\",Datenerfassung!G935)","v":""},{"$f":"IF(ISBLANK(Datenerfassung!M935),\"\",Datenerfassung!M935)","v":""},{"$f":"IF(ISBLANK(Datenerfassung!H935),\"\",Datenerfassung!H935)","v":""}]
[{"$f":"IF(ISBLANK(Datenerfassung!A936),\"\",Datenerfassung!A936)","v":""},{"$f":"IF(ISBLANK(Datenerfassung!B936),\"\",Datenerfassung!B936)","v":""},{"$f":"IF(ISBLANK(Datenerfassung!C936),\"\",Datenerfassung!C936)","v":""},{"$f":"IF(ISBLANK(Datenerfassung!I936),\"\",Datenerfassung!I936)","v":""},{"$f":"IF(ISBLANK(Datenerfassung!J936),\"\",Datenerfassung!J936)","v":""},"",{"$f":"IF(ISBLANK(Datenerfassung!L936),\"\",Datenerfassung!L936)","v":""},{"$f":"IF(ISBLANK(Datenerfassung!F936),\"\",Datenerfassung!F936)","v":""},{"$f":"IF(ISBLANK(Datenerfassung!D936),IF(COUNTBLANK(A926:H926)+COUNTBLANK(J926:O926)=14,\"\",\"- ohne Titel -\"),Datenerfassung!D936)","v":""},{"$f":"IF(ISBLANK(Datenerfassung!E936),\"\",Datenerfassung!E936)","v":""},"",{"$f":"IF(ISBLANK(Datenerfassung!O936),\"\",Datenerfassung!O936)","v":""},{"$f":"IF(ISBLANK(Datenerfassung!G936),\"\",Datenerfassung!G936)","v":""},{"$f":"IF(ISBLANK(Datenerfassung!M936),\"\",Datenerfassung!M936)","v":""},{"$f":"IF(ISBLANK(Datenerfassung!H936),\"\",Datenerfassung!H936)","v":""}]
[{"$f":"IF(ISBLANK(Datenerfassung!A937),\"\",Datenerfassung!A937)","v":""},{"$f":"IF(ISBLANK(Datenerfassung!B937),\"\",Datenerfassung!B937)","v":""},{"$f":"IF(ISBLANK(Datenerfassung!C937),\"\",Datenerfassung!C937)","v":""},{"$f":"IF(ISBLANK(Datenerfassung!I937),\"\",Datenerfassung!I937)","v":""},{"$f":"IF(ISBLANK(Datenerfassung!J937),\"\",Datenerfassung!J937)","v":""},"",{"$f":"IF(ISBLANK(Datenerfassung!L937),\"\",Datenerfassung!L937)","v":""},{"$f":"IF(ISBLANK(Datenerfassung!F937),\"\",Datenerfassung!F937)","v":""},{"$f":"IF(ISBLANK(Datenerfassung!D937),IF(COUNTBLANK(A927:H927)+COUNTBLANK(J927:O927)=14,\"\",\"- ohne Titel -\"),Datenerfassung!D937)","v":""},{"$f":"IF(ISBLANK(Datenerfassung!E937),\"\",Datenerfassung!E937)","v":""},"",{"$f":"IF(ISBLANK(Datenerfassung!O937),\"\",Datenerfassung!O937)","v":""},{"$f":"IF(ISBLANK(Datenerfassung!G937),\"\",Datenerfassung!G937)","v":""},{"$f":"IF(ISBLANK(Datenerfassung!M937),\"\",Datenerfassung!M937)","v":""},{"$f":"IF(ISBLANK(Datenerfassung!H937),\"\",Datenerfassung!H937)","v":""}]
[{"$f":"IF(ISBLANK(Datenerfassung!A938),\"\",Datenerfassung!A938)","v":""},{"$f":"IF(ISBLANK(Datenerfassung!B938),\"\",Datenerfassung!B938)","v":""},{"$f":"IF(ISBLANK(Datenerfassung!C938),\"\",Datenerfassung!C938)","v":""},{"$f":"IF(ISBLANK(Datenerfassung!I938),\"\",Datenerfassung!I938)","v":""},{"$f":"IF(ISBLANK(Datenerfassung!J938),\"\",Datenerfassung!J938)","v":""},"",{"$f":"IF(ISBLANK(Datenerfassung!L938),\"\",Datenerfassung!L938)","v":""},{"$f":"IF(ISBLANK(Datenerfassung!F938),\"\",Datenerfassung!F938)","v":""},{"$f":"IF(ISBLANK(Datenerfassung!D938),IF(COUNTBLANK(A928:H928)+COUNTBLANK(J928:O928)=14,\"\",\"- ohne Titel -\"),Datenerfassung!D938)","v":""},{"$f":"IF(ISBLANK(Datenerfassung!E938),\"\",Datenerfassung!E938)","v":""},"",{"$f":"IF(ISBLANK(Datenerfassung!O938),\"\",Datenerfassung!O938)","v":""},{"$f":"IF(ISBLANK(Datenerfassung!G938),\"\",Datenerfassung!G938)","v":""},{"$f":"IF(ISBLANK(Datenerfassung!M938),\"\",Datenerfassung!M938)","v":""},{"$f":"IF(ISBLANK(Datenerfassung!H938),\"\",Datenerfassung!H938)","v":""}]
[{"$f":"IF(ISBLANK(Datenerfassung!A939),\"\",Datenerfassung!A939)","v":""},{"$f":"IF(ISBLANK(Datenerfassung!B939),\"\",Datenerfassung!B939)","v":""},{"$f":"IF(ISBLANK(Datenerfassung!C939),\"\",Datenerfassung!C939)","v":""},{"$f":"IF(ISBLANK(Datenerfassung!I939),\"\",Datenerfassung!I939)","v":""},{"$f":"IF(ISBLANK(Datenerfassung!J939),\"\",Datenerfassung!J939)","v":""},"",{"$f":"IF(ISBLANK(Datenerfassung!L939),\"\",Datenerfassung!L939)","v":""},{"$f":"IF(ISBLANK(Datenerfassung!F939),\"\",Datenerfassung!F939)","v":""},{"$f":"IF(ISBLANK(Datenerfassung!D939),IF(COUNTBLANK(A929:H929)+COUNTBLANK(J929:O929)=14,\"\",\"- ohne Titel -\"),Datenerfassung!D939)","v":""},{"$f":"IF(ISBLANK(Datenerfassung!E939),\"\",Datenerfassung!E939)","v":""},"",{"$f":"IF(ISBLANK(Datenerfassung!O939),\"\",Datenerfassung!O939)","v":""},{"$f":"IF(ISBLANK(Datenerfassung!G939),\"\",Datenerfassung!G939)","v":""},{"$f":"IF(ISBLANK(Datenerfassung!M939),\"\",Datenerfassung!M939)","v":""},{"$f":"IF(ISBLANK(Datenerfassung!H939),\"\",Datenerfassung!H939)","v":""}]
[{"$f":"IF(ISBLANK(Datenerfassung!A940),\"\",Datenerfassung!A940)","v":""},{"$f":"IF(ISBLANK(Datenerfassung!B940),\"\",Datenerfassung!B940)","v":""},{"$f":"IF(ISBLANK(Datenerfassung!C940),\"\",Datenerfassung!C940)","v":""},{"$f":"IF(ISBLANK(Datenerfassung!I940),\"\",Datenerfassung!I940)","v":""},{"$f":"IF(ISBLANK(Datenerfassung!J940),\"\",Datenerfassung!J940)","v":""},"",{"$f":"IF(ISBLANK(Datenerfassung!L940),\"\",Datenerfassung!L940)","v":""},{"$f":"IF(ISBLANK(Datenerfassung!F940),\"\",Datenerfassung!F940)","v":""},{"$f":"IF(ISBLANK(Datenerfassung!D940),IF(COUNTBLANK(A930:H930)+COUNTBLANK(J930:O930)=14,\"\",\"- ohne Titel -\"),Datenerfassung!D940)","v":""},{"$f":"IF(ISBLANK(Datenerfassung!E940),\"\",Datenerfassung!E940)","v":""},"",{"$f":"IF(ISBLANK(Datenerfassung!O940),\"\",Datenerfassung!O940)","v":""},{"$f":"IF(ISBLANK(Datenerfassung!G940),\"\",Datenerfassung!G940)","v":""},{"$f":"IF(ISBLANK(Datenerfassung!M940),\"\",Datenerfassung!M940)","v":""},{"$f":"IF(ISBLANK(Datenerfassung!H940),\"\",Datenerfassung!H940)","v":""}]
[{"$f":"IF(ISBLANK(Datenerfassung!A941),\"\",Datenerfassung!A941)","v":""},{"$f":"IF(ISBLANK(Datenerfassung!B941),\"\",Datenerfassung!B941)","v":""},{"$f":"IF(ISBLANK(Datenerfassung!C941),\"\",Datenerfassung!C941)","v":""},{"$f":"IF(ISBLANK(Datenerfassung!I941),\"\",Datenerfassung!I941)","v":""},{"$f":"IF(ISBLANK(Datenerfassung!J941),\"\",Datenerfassung!J941)","v":""},"",{"$f":"IF(ISBLANK(Datenerfassung!L941),\"\",Datenerfassung!L941)","v":""},{"$f":"IF(ISBLANK(Datenerfassung!F941),\"\",Datenerfassung!F941)","v":""},{"$f":"IF(ISBLANK(Datenerfassung!D941),IF(COUNTBLANK(A931:H931)+COUNTBLANK(J931:O931)=14,\"\",\"- ohne Titel -\"),Datenerfassung!D941)","v":""},{"$f":"IF(ISBLANK(Datenerfassung!E941),\"\",Datenerfassung!E941)","v":""},"",{"$f":"IF(ISBLANK(Datenerfassung!O941),\"\",Datenerfassung!O941)","v":""},{"$f":"IF(ISBLANK(Datenerfassung!G941),\"\",Datenerfassung!G941)","v":""},{"$f":"IF(ISBLANK(Datenerfassung!M941),\"\",Datenerfassung!M941)","v":""},{"$f":"IF(ISBLANK(Datenerfassung!H941),\"\",Datenerfassung!H941)","v":""}]
[{"$f":"IF(ISBLANK(Datenerfassung!A942),\"\",Datenerfassung!A942)","v":""},{"$f":"IF(ISBLANK(Datenerfassung!B942),\"\",Datenerfassung!B942)","v":""},{"$f":"IF(ISBLANK(Datenerfassung!C942),\"\",Datenerfassung!C942)","v":""},{"$f":"IF(ISBLANK(Datenerfassung!I942),\"\",Datenerfassung!I942)","v":""},{"$f":"IF(ISBLANK(Datenerfassung!J942),\"\",Datenerfassung!J942)","v":""},"",{"$f":"IF(ISBLANK(Datenerfassung!L942),\"\",Datenerfassung!L942)","v":""},{"$f":"IF(ISBLANK(Datenerfassung!F942),\"\",Datenerfassung!F942)","v":""},{"$f":"IF(ISBLANK(Datenerfassung!D942),IF(COUNTBLANK(A932:H932)+COUNTBLANK(J932:O932)=14,\"\",\"- ohne Titel -\"),Datenerfassung!D942)","v":""},{"$f":"IF(ISBLANK(Datenerfassung!E942),\"\",Datenerfassung!E942)","v":""},"",{"$f":"IF(ISBLANK(Datenerfassung!O942),\"\",Datenerfassung!O942)","v":""},{"$f":"IF(ISBLANK(Datenerfassung!G942),\"\",Datenerfassung!G942)","v":""},{"$f":"IF(ISBLANK(Datenerfassung!M942),\"\",Datenerfassung!M942)","v":""},{"$f":"IF(ISBLANK(Datenerfassung!H942),\"\",Datenerfassung!H942)","v":""}]
[{"$f":"IF(ISBLANK(Datenerfassung!A943),\"\",Datenerfassung!A943)","v":""},{"$f":"IF(ISBLANK(Datenerfassung!B943),\"\",Datenerfassung!B943)","v":""},{"$f":"IF(ISBLANK(Datenerfassung!C943),\"\",Datenerfassung!C943)","v":""},{"$f":"IF(ISBLANK(Datenerfassung!I943),\"\",Datenerfassung!I943)","v":""},{"$f":"IF(ISBLANK(Datenerfassung!J943),\"\",Datenerfassung!J943)","v":""},"",{"$f":"IF(ISBLANK(Datenerfassung!L943),\"\",Datenerfassung!L943)","v":""},{"$f":"IF(ISBLANK(Datenerfassung!F943),\"\",Datenerfassung!F943)","v":""},{"$f":"IF(ISBLANK(Datenerfassung!D943),IF(COUNTBLANK(A933:H933)+COUNTBLANK(J933:O933)=14,\"\",\"- ohne Titel -\"),Datenerfassung!D943)","v":""},{"$f":"IF(ISBLANK(Datenerfassung!E943),\"\",Datenerfassung!E943)","v":""},"",{"$f":"IF(ISBLANK(Datenerfassung!O943),\"\",Datenerfassung!O943)","v":""},{"$f":"IF(ISBLANK(Datenerfassung!G943),\"\",Datenerfassung!G943)","v":""},{"$f":"IF(ISBLANK(Datenerfassung!M943),\"\",Datenerfassung!M943)","v":""},{"$f":"IF(ISBLANK(Datenerfassung!H943),\"\",Datenerfassung!H943)","v":""}]
[{"$f":"IF(ISBLANK(Datenerfassung!A944),\"\",Datenerfassung!A944)","v":""},{"$f":"IF(ISBLANK(Datenerfassung!B944),\"\",Datenerfassung!B944)","v":""},{"$f":"IF(ISBLANK(Datenerfassung!C944),\"\",Datenerfassung!C944)","v":""},{"$f":"IF(ISBLANK(Datenerfassung!I944),\"\",Datenerfassung!I944)","v":""},{"$f":"IF(ISBLANK(Datenerfassung!J944),\"\",Datenerfassung!J944)","v":""},"",{"$f":"IF(ISBLANK(Datenerfassung!L944),\"\",Datenerfassung!L944)","v":""},{"$f":"IF(ISBLANK(Datenerfassung!F944),\"\",Datenerfassung!F944)","v":""},{"$f":"IF(ISBLANK(Datenerfassung!D944),IF(COUNTBLANK(A934:H934)+COUNTBLANK(J934:O934)=14,\"\",\"- ohne Titel -\"),Datenerfassung!D944)","v":""},{"$f":"IF(ISBLANK(Datenerfassung!E944),\"\",Datenerfassung!E944)","v":""},"",{"$f":"IF(ISBLANK(Datenerfassung!O944),\"\",Datenerfassung!O944)","v":""},{"$f":"IF(ISBLANK(Datenerfassung!G944),\"\",Datenerfassung!G944)","v":""},{"$f":"IF(ISBLANK(Datenerfassung!M944),\"\",Datenerfassung!M944)","v":""},{"$f":"IF(ISBLANK(Datenerfassung!H944),\"\",Datenerfassung!H944)","v":""}]
[{"$f":"IF(ISBLANK(Datenerfassung!A945),\"\",Datenerfassung!A945)","v":""},{"$f":"IF(ISBLANK(Datenerfassung!B945),\"\",Datenerfassung!B945)","v":""},{"$f":"IF(ISBLANK(Datenerfassung!C945),\"\",Datenerfassung!C945)","v":""},{"$f":"IF(ISBLANK(Datenerfassung!I945),\"\",Datenerfassung!I945)","v":""},{"$f":"IF(ISBLANK(Datenerfassung!J945),\"\",Datenerfassung!J945)","v":""},"",{"$f":"IF(ISBLANK(Datenerfassung!L945),\"\",Datenerfassung!L945)","v":""},{"$f":"IF(ISBLANK(Datenerfassung!F945),\"\",Datenerfassung!F945)","v":""},{"$f":"IF(ISBLANK(Datenerfassung!D945),IF(COUNTBLANK(A935:H935)+COUNTBLANK(J935:O935)=14,\"\",\"- ohne Titel -\"),Datenerfassung!D945)","v":""},{"$f":"IF(ISBLANK(Datenerfassung!E945),\"\",Datenerfassung!E945)","v":""},"",{"$f":"IF(ISBLANK(Datenerfassung!O945),\"\",Datenerfassung!O945)","v":""},{"$f":"IF(ISBLANK(Datenerfassung!G945),\"\",Datenerfassung!G945)","v":""},{"$f":"IF(ISBLANK(Datenerfassung!M945),\"\",Datenerfassung!M945)","v":""},{"$f":"IF(ISBLANK(Datenerfassung!H945),\"\",Datenerfassung!H945)","v":""}]
[{"$f":"IF(ISBLANK(Datenerfassung!A946),\"\",Datenerfassung!A946)","v":""},{"$f":"IF(ISBLANK(Datenerfassung!B946),\"\",Datenerfassung!B946)","v":""},{"$f":"IF(ISBLANK(Datenerfassung!C946),\"\",Datenerfassung!C946)","v":""},{"$f":"IF(ISBLANK(Datenerfassung!I946),\"\",Datenerfassung!I946)","v":""},{"$f":"IF(ISBLANK(Datenerfassung!J946),\"\",Datenerfassung!J946)","v":""},"",{"$f":"IF(ISBLANK(Datenerfassung!L946),\"\",Datenerfassung!L946)","v":""},{"$f":"IF(ISBLANK(Datenerfassung!F946),\"\",Datenerfassung!F946)","v":""},{"$f":"IF(ISBLANK(Datenerfassung!D946),IF(COUNTBLANK(A936:H936)+COUNTBLANK(J936:O936)=14,\"\",\"- ohne Titel -\"),Datenerfassung!D946)","v":""},{"$f":"IF(ISBLANK(Datenerfassung!E946),\"\",Datenerfassung!E946)","v":""},"",{"$f":"IF(ISBLANK(Datenerfassung!O946),\"\",Datenerfassung!O946)","v":""},{"$f":"IF(ISBLANK(Datenerfassung!G946),\"\",Datenerfassung!G946)","v":""},{"$f":"IF(ISBLANK(Datenerfassung!M946),\"\",Datenerfassung!M946)","v":""},{"$f":"IF(ISBLANK(Datenerfassung!H946),\"\",Datenerfassung!H946)","v":""}]
[{"$f":"IF(ISBLANK(Datenerfassung!A947),\"\",Datenerfassung!A947)","v":""},{"$f":"IF(ISBLANK(Datenerfassung!B947),\"\",Datenerfassung!B947)","v":""},{"$f":"IF(ISBLANK(Datenerfassung!C947),\"\",Datenerfassung!C947)","v":""},{"$f":"IF(ISBLANK(Datenerfassung!I947),\"\",Datenerfassung!I947)","v":""},{"$f":"IF(ISBLANK(Datenerfassung!J947),\"\",Datenerfassung!J947)","v":""},"",{"$f":"IF(ISBLANK(Datenerfassung!L947),\"\",Datenerfassung!L947)","v":""},{"$f":"IF(ISBLANK(Datenerfassung!F947),\"\",Datenerfassung!F947)","v":""},{"$f":"IF(ISBLANK(Datenerfassung!D947),IF(COUNTBLANK(A937:H937)+COUNTBLANK(J937:O937)=14,\"\",\"- ohne Titel -\"),Datenerfassung!D947)","v":""},{"$f":"IF(ISBLANK(Datenerfassung!E947),\"\",Datenerfassung!E947)","v":""},"",{"$f":"IF(ISBLANK(Datenerfassung!O947),\"\",Datenerfassung!O947)","v":""},{"$f":"IF(ISBLANK(Datenerfassung!G947),\"\",Datenerfassung!G947)","v":""},{"$f":"IF(ISBLANK(Datenerfassung!M947),\"\",Datenerfassung!M947)","v":""},{"$f":"IF(ISBLANK(Datenerfassung!H947),\"\",Datenerfassung!H947)","v":""}]
[{"$f":"IF(ISBLANK(Datenerfassung!A948),\"\",Datenerfassung!A948)","v":""},{"$f":"IF(ISBLANK(Datenerfassung!B948),\"\",Datenerfassung!B948)","v":""},{"$f":"IF(ISBLANK(Datenerfassung!C948),\"\",Datenerfassung!C948)","v":""},{"$f":"IF(ISBLANK(Datenerfassung!I948),\"\",Datenerfassung!I948)","v":""},{"$f":"IF(ISBLANK(Datenerfassung!J948),\"\",Datenerfassung!J948)","v":""},"",{"$f":"IF(ISBLANK(Datenerfassung!L948),\"\",Datenerfassung!L948)","v":""},{"$f":"IF(ISBLANK(Datenerfassung!F948),\"\",Datenerfassung!F948)","v":""},{"$f":"IF(ISBLANK(Datenerfassung!D948),IF(COUNTBLANK(A938:H938)+COUNTBLANK(J938:O938)=14,\"\",\"- ohne Titel -\"),Datenerfassung!D948)","v":""},{"$f":"IF(ISBLANK(Datenerfassung!E948),\"\",Datenerfassung!E948)","v":""},"",{"$f":"IF(ISBLANK(Datenerfassung!O948),\"\",Datenerfassung!O948)","v":""},{"$f":"IF(ISBLANK(Datenerfassung!G948),\"\",Datenerfassung!G948)","v":""},{"$f":"IF(ISBLANK(Datenerfassung!M948),\"\",Datenerfassung!M948)","v":""},{"$f":"IF(ISBLANK(Datenerfassung!H948),\"\",Datenerfassung!H948)","v":""}]
[{"$f":"IF(ISBLANK(Datenerfassung!A949),\"\",Datenerfassung!A949)","v":""},{"$f":"IF(ISBLANK(Datenerfassung!B949),\"\",Datenerfassung!B949)","v":""},{"$f":"IF(ISBLANK(Datenerfassung!C949),\"\",Datenerfassung!C949)","v":""},{"$f":"IF(ISBLANK(Datenerfassung!I949),\"\",Datenerfassung!I949)","v":""},{"$f":"IF(ISBLANK(Datenerfassung!J949),\"\",Datenerfassung!J949)","v":""},"",{"$f":"IF(ISBLANK(Datenerfassung!L949),\"\",Datenerfassung!L949)","v":""},{"$f":"IF(ISBLANK(Datenerfassung!F949),\"\",Datenerfassung!F949)","v":""},{"$f":"IF(ISBLANK(Datenerfassung!D949),IF(COUNTBLANK(A939:H939)+COUNTBLANK(J939:O939)=14,\"\",\"- ohne Titel -\"),Datenerfassung!D949)","v":""},{"$f":"IF(ISBLANK(Datenerfassung!E949),\"\",Datenerfassung!E949)","v":""},"",{"$f":"IF(ISBLANK(Datenerfassung!O949),\"\",Datenerfassung!O949)","v":""},{"$f":"IF(ISBLANK(Datenerfassung!G949),\"\",Datenerfassung!G949)","v":""},{"$f":"IF(ISBLANK(Datenerfassung!M949),\"\",Datenerfassung!M949)","v":""},{"$f":"IF(ISBLANK(Datenerfassung!H949),\"\",Datenerfassung!H949)","v":""}]
[{"$f":"IF(ISBLANK(Datenerfassung!A950),\"\",Datenerfassung!A950)","v":""},{"$f":"IF(ISBLANK(Datenerfassung!B950),\"\",Datenerfassung!B950)","v":""},{"$f":"IF(ISBLANK(Datenerfassung!C950),\"\",Datenerfassung!C950)","v":""},{"$f":"IF(ISBLANK(Datenerfassung!I950),\"\",Datenerfassung!I950)","v":""},{"$f":"IF(ISBLANK(Datenerfassung!J950),\"\",Datenerfassung!J950)","v":""},"",{"$f":"IF(ISBLANK(Datenerfassung!L950),\"\",Datenerfassung!L950)","v":""},{"$f":"IF(ISBLANK(Datenerfassung!F950),\"\",Datenerfassung!F950)","v":""},{"$f":"IF(ISBLANK(Datenerfassung!D950),IF(COUNTBLANK(A940:H940)+COUNTBLANK(J940:O940)=14,\"\",\"- ohne Titel -\"),Datenerfassung!D950)","v":""},{"$f":"IF(ISBLANK(Datenerfassung!E950),\"\",Datenerfassung!E950)","v":""},"",{"$f":"IF(ISBLANK(Datenerfassung!O950),\"\",Datenerfassung!O950)","v":""},{"$f":"IF(ISBLANK(Datenerfassung!G950),\"\",Datenerfassung!G950)","v":""},{"$f":"IF(ISBLANK(Datenerfassung!M950),\"\",Datenerfassung!M950)","v":""},{"$f":"IF(ISBLANK(Datenerfassung!H950),\"\",Datenerfassung!H950)","v":""}]
[{"$f":"IF(ISBLANK(Datenerfassung!A951),\"\",Datenerfassung!A951)","v":""},{"$f":"IF(ISBLANK(Datenerfassung!B951),\"\",Datenerfassung!B951)","v":""},{"$f":"IF(ISBLANK(Datenerfassung!C951),\"\",Datenerfassung!C951)","v":""},{"$f":"IF(ISBLANK(Datenerfassung!I951),\"\",Datenerfassung!I951)","v":""},{"$f":"IF(ISBLANK(Datenerfassung!J951),\"\",Datenerfassung!J951)","v":""},"",{"$f":"IF(ISBLANK(Datenerfassung!L951),\"\",Datenerfassung!L951)","v":""},{"$f":"IF(ISBLANK(Datenerfassung!F951),\"\",Datenerfassung!F951)","v":""},{"$f":"IF(ISBLANK(Datenerfassung!D951),IF(COUNTBLANK(A941:H941)+COUNTBLANK(J941:O941)=14,\"\",\"- ohne Titel -\"),Datenerfassung!D951)","v":""},{"$f":"IF(ISBLANK(Datenerfassung!E951),\"\",Datenerfassung!E951)","v":""},"",{"$f":"IF(ISBLANK(Datenerfassung!O951),\"\",Datenerfassung!O951)","v":""},{"$f":"IF(ISBLANK(Datenerfassung!G951),\"\",Datenerfassung!G951)","v":""},{"$f":"IF(ISBLANK(Datenerfassung!M951),\"\",Datenerfassung!M951)","v":""},{"$f":"IF(ISBLANK(Datenerfassung!H951),\"\",Datenerfassung!H951)","v":""}]
[{"$f":"IF(ISBLANK(Datenerfassung!A952),\"\",Datenerfassung!A952)","v":""},{"$f":"IF(ISBLANK(Datenerfassung!B952),\"\",Datenerfassung!B952)","v":""},{"$f":"IF(ISBLANK(Datenerfassung!C952),\"\",Datenerfassung!C952)","v":""},{"$f":"IF(ISBLANK(Datenerfassung!I952),\"\",Datenerfassung!I952)","v":""},{"$f":"IF(ISBLANK(Datenerfassung!J952),\"\",Datenerfassung!J952)","v":""},"",{"$f":"IF(ISBLANK(Datenerfassung!L952),\"\",Datenerfassung!L952)","v":""},{"$f":"IF(ISBLANK(Datenerfassung!F952),\"\",Datenerfassung!F952)","v":""},{"$f":"IF(ISBLANK(Datenerfassung!D952),IF(COUNTBLANK(A942:H942)+COUNTBLANK(J942:O942)=14,\"\",\"- ohne Titel -\"),Datenerfassung!D952)","v":""},{"$f":"IF(ISBLANK(Datenerfassung!E952),\"\",Datenerfassung!E952)","v":""},"",{"$f":"IF(ISBLANK(Datenerfassung!O952),\"\",Datenerfassung!O952)","v":""},{"$f":"IF(ISBLANK(Datenerfassung!G952),\"\",Datenerfassung!G952)","v":""},{"$f":"IF(ISBLANK(Datenerfassung!M952),\"\",Datenerfassung!M952)","v":""},{"$f":"IF(ISBLANK(Datenerfassung!H952),\"\",Datenerfassung!H952)","v":""}]
[{"$f":"IF(ISBLANK(Datenerfassung!A953),\"\",Datenerfassung!A953)","v":""},{"$f":"IF(ISBLANK(Datenerfassung!B953),\"\",Datenerfassung!B953)","v":""},{"$f":"IF(ISBLANK(Datenerfassung!C953),\"\",Datenerfassung!C953)","v":""},{"$f":"IF(ISBLANK(Datenerfassung!I953),\"\",Datenerfassung!I953)","v":""},{"$f":"IF(ISBLANK(Datenerfassung!J953),\"\",Datenerfassung!J953)","v":""},"",{"$f":"IF(ISBLANK(Datenerfassung!L953),\"\",Datenerfassung!L953)","v":""},{"$f":"IF(ISBLANK(Datenerfassung!F953),\"\",Datenerfassung!F953)","v":""},{"$f":"IF(ISBLANK(Datenerfassung!D953),IF(COUNTBLANK(A943:H943)+COUNTBLANK(J943:O943)=14,\"\",\"- ohne Titel -\"),Datenerfassung!D953)","v":""},{"$f":"IF(ISBLANK(Datenerfassung!E953),\"\",Datenerfassung!E953)","v":""},"",{"$f":"IF(ISBLANK(Datenerfassung!O953),\"\",Datenerfassung!O953)","v":""},{"$f":"IF(ISBLANK(Datenerfassung!G953),\"\",Datenerfassung!G953)","v":""},{"$f":"IF(ISBLANK(Datenerfassung!M953),\"\",Datenerfassung!M953)","v":""},{"$f":"IF(ISBLANK(Datenerfassung!H953),\"\",Datenerfassung!H953)","v":""}]
[{"$f":"IF(ISBLANK(Datenerfassung!A954),\"\",Datenerfassung!A954)","v":""},{"$f":"IF(ISBLANK(Datenerfassung!B954),\"\",Datenerfassung!B954)","v":""},{"$f":"IF(ISBLANK(Datenerfassung!C954),\"\",Datenerfassung!C954)","v":""},{"$f":"IF(ISBLANK(Datenerfassung!I954),\"\",Datenerfassung!I954)","v":""},{"$f":"IF(ISBLANK(Datenerfassung!J954),\"\",Datenerfassung!J954)","v":""},"",{"$f":"IF(ISBLANK(Datenerfassung!L954),\"\",Datenerfassung!L954)","v":""},{"$f":"IF(ISBLANK(Datenerfassung!F954),\"\",Datenerfassung!F954)","v":""},{"$f":"IF(ISBLANK(Datenerfassung!D954),IF(COUNTBLANK(A944:H944)+COUNTBLANK(J944:O944)=14,\"\",\"- ohne Titel -\"),Datenerfassung!D954)","v":""},{"$f":"IF(ISBLANK(Datenerfassung!E954),\"\",Datenerfassung!E954)","v":""},"",{"$f":"IF(ISBLANK(Datenerfassung!O954),\"\",Datenerfassung!O954)","v":""},{"$f":"IF(ISBLANK(Datenerfassung!G954),\"\",Datenerfassung!G954)","v":""},{"$f":"IF(ISBLANK(Datenerfassung!M954),\"\",Datenerfassung!M954)","v":""},{"$f":"IF(ISBLANK(Datenerfassung!H954),\"\",Datenerfassung!H954)","v":""}]
[{"$f":"IF(ISBLANK(Datenerfassung!A955),\"\",Datenerfassung!A955)","v":""},{"$f":"IF(ISBLANK(Datenerfassung!B955),\"\",Datenerfassung!B955)","v":""},{"$f":"IF(ISBLANK(Datenerfassung!C955),\"\",Datenerfassung!C955)","v":""},{"$f":"IF(ISBLANK(Datenerfassung!I955),\"\",Datenerfassung!I955)","v":""},{"$f":"IF(ISBLANK(Datenerfassung!J955),\"\",Datenerfassung!J955)","v":""},"",{"$f":"IF(ISBLANK(Datenerfassung!L955),\"\",Datenerfassung!L955)","v":""},{"$f":"IF(ISBLANK(Datenerfassung!F955),\"\",Datenerfassung!F955)","v":""},{"$f":"IF(ISBLANK(Datenerfassung!D955),IF(COUNTBLANK(A945:H945)+COUNTBLANK(J945:O945)=14,\"\",\"- ohne Titel -\"),Datenerfassung!D955)","v":""},{"$f":"IF(ISBLANK(Datenerfassung!E955),\"\",Datenerfassung!E955)","v":""},"",{"$f":"IF(ISBLANK(Datenerfassung!O955),\"\",Datenerfassung!O955)","v":""},{"$f":"IF(ISBLANK(Datenerfassung!G955),\"\",Datenerfassung!G955)","v":""},{"$f":"IF(ISBLANK(Datenerfassung!M955),\"\",Datenerfassung!M955)","v":""},{"$f":"IF(ISBLANK(Datenerfassung!H955),\"\",Datenerfassung!H955)","v":""}]
[{"$f":"IF(ISBLANK(Datenerfassung!A956),\"\",Datenerfassung!A956)","v":""},{"$f":"IF(ISBLANK(Datenerfassung!B956),\"\",Datenerfassung!B956)","v":""},{"$f":"IF(ISBLANK(Datenerfassung!C956),\"\",Datenerfassung!C956)","v":""},{"$f":"IF(ISBLANK(Datenerfassung!I956),\"\",Datenerfassung!I956)","v":""},{"$f":"IF(ISBLANK(Datenerfassung!J956),\"\",Datenerfassung!J956)","v":""},"",{"$f":"IF(ISBLANK(Datenerfassung!L956),\"\",Datenerfassung!L956)","v":""},{"$f":"IF(ISBLANK(Datenerfassung!F956),\"\",Datenerfassung!F956)","v":""},{"$f":"IF(ISBLANK(Datenerfassung!D956),IF(COUNTBLANK(A946:H946)+COUNTBLANK(J946:O946)=14,\"\",\"- ohne Titel -\"),Datenerfassung!D956)","v":""},{"$f":"IF(ISBLANK(Datenerfassung!E956),\"\",Datenerfassung!E956)","v":""},"",{"$f":"IF(ISBLANK(Datenerfassung!O956),\"\",Datenerfassung!O956)","v":""},{"$f":"IF(ISBLANK(Datenerfassung!G956),\"\",Datenerfassung!G956)","v":""},{"$f":"IF(ISBLANK(Datenerfassung!M956),\"\",Datenerfassung!M956)","v":""},{"$f":"IF(ISBLANK(Datenerfassung!H956),\"\",Datenerfassung!H956)","v":""}]
[{"$f":"IF(ISBLANK(Datenerfassung!A957),\"\",Datenerfassung!A957)","v":""},{"$f":"IF(ISBLANK(Datenerfassung!B957),\"\",Datenerfassung!B957)","v":""},{"$f":"IF(ISBLANK(Datenerfassung!C957),\"\",Datenerfassung!C957)","v":""},{"$f":"IF(ISBLANK(Datenerfassung!I957),\"\",Datenerfassung!I957)","v":""},{"$f":"IF(ISBLANK(Datenerfassung!J957),\"\",Datenerfassung!J957)","v":""},"",{"$f":"IF(ISBLANK(Datenerfassung!L957),\"\",Datenerfassung!L957)","v":""},{"$f":"IF(ISBLANK(Datenerfassung!F957),\"\",Datenerfassung!F957)","v":""},{"$f":"IF(ISBLANK(Datenerfassung!D957),IF(COUNTBLANK(A947:H947)+COUNTBLANK(J947:O947)=14,\"\",\"- ohne Titel -\"),Datenerfassung!D957)","v":""},{"$f":"IF(ISBLANK(Datenerfassung!E957),\"\",Datenerfassung!E957)","v":""},"",{"$f":"IF(ISBLANK(Datenerfassung!O957),\"\",Datenerfassung!O957)","v":""},{"$f":"IF(ISBLANK(Datenerfassung!G957),\"\",Datenerfassung!G957)","v":""},{"$f":"IF(ISBLANK(Datenerfassung!M957),\"\",Datenerfassung!M957)","v":""},{"$f":"IF(ISBLANK(Datenerfassung!H957),\"\",Datenerfassung!H957)","v":""}]
[{"$f":"IF(ISBLANK(Datenerfassung!A958),\"\",Datenerfassung!A958)","v":""},{"$f":"IF(ISBLANK(Datenerfassung!B958),\"\",Datenerfassung!B958)","v":""},{"$f":"IF(ISBLANK(Datenerfassung!C958),\"\",Datenerfassung!C958)","v":""},{"$f":"IF(ISBLANK(Datenerfassung!I958),\"\",Datenerfassung!I958)","v":""},{"$f":"IF(ISBLANK(Datenerfassung!J958),\"\",Datenerfassung!J958)","v":""},"",{"$f":"IF(ISBLANK(Datenerfassung!L958),\"\",Datenerfassung!L958)","v":""},{"$f":"IF(ISBLANK(Datenerfassung!F958),\"\",Datenerfassung!F958)","v":""},{"$f":"IF(ISBLANK(Datenerfassung!D958),IF(COUNTBLANK(A948:H948)+COUNTBLANK(J948:O948)=14,\"\",\"- ohne Titel -\"),Datenerfassung!D958)","v":""},{"$f":"IF(ISBLANK(Datenerfassung!E958),\"\",Datenerfassung!E958)","v":""},"",{"$f":"IF(ISBLANK(Datenerfassung!O958),\"\",Datenerfassung!O958)","v":""},{"$f":"IF(ISBLANK(Datenerfassung!G958),\"\",Datenerfassung!G958)","v":""},{"$f":"IF(ISBLANK(Datenerfassung!M958),\"\",Datenerfassung!M958)","v":""},{"$f":"IF(ISBLANK(Datenerfassung!H958),\"\",Datenerfassung!H958)","v":""}]
[{"$f":"IF(ISBLANK(Datenerfassung!A959),\"\",Datenerfassung!A959)","v":""},{"$f":"IF(ISBLANK(Datenerfassung!B959),\"\",Datenerfassung!B959)","v":""},{"$f":"IF(ISBLANK(Datenerfassung!C959),\"\",Datenerfassung!C959)","v":""},{"$f":"IF(ISBLANK(Datenerfassung!I959),\"\",Datenerfassung!I959)","v":""},{"$f":"IF(ISBLANK(Datenerfassung!J959),\"\",Datenerfassung!J959)","v":""},"",{"$f":"IF(ISBLANK(Datenerfassung!L959),\"\",Datenerfassung!L959)","v":""},{"$f":"IF(ISBLANK(Datenerfassung!F959),\"\",Datenerfassung!F959)","v":""},{"$f":"IF(ISBLANK(Datenerfassung!D959),IF(COUNTBLANK(A949:H949)+COUNTBLANK(J949:O949)=14,\"\",\"- ohne Titel -\"),Datenerfassung!D959)","v":""},{"$f":"IF(ISBLANK(Datenerfassung!E959),\"\",Datenerfassung!E959)","v":""},"",{"$f":"IF(ISBLANK(Datenerfassung!O959),\"\",Datenerfassung!O959)","v":""},{"$f":"IF(ISBLANK(Datenerfassung!G959),\"\",Datenerfassung!G959)","v":""},{"$f":"IF(ISBLANK(Datenerfassung!M959),\"\",Datenerfassung!M959)","v":""},{"$f":"IF(ISBLANK(Datenerfassung!H959),\"\",Datenerfassung!H959)","v":""}]
[{"$f":"IF(ISBLANK(Datenerfassung!A960),\"\",Datenerfassung!A960)","v":""},{"$f":"IF(ISBLANK(Datenerfassung!B960),\"\",Datenerfassung!B960)","v":""},{"$f":"IF(ISBLANK(Datenerfassung!C960),\"\",Datenerfassung!C960)","v":""},{"$f":"IF(ISBLANK(Datenerfassung!I960),\"\",Datenerfassung!I960)","v":""},{"$f":"IF(ISBLANK(Datenerfassung!J960),\"\",Datenerfassung!J960)","v":""},"",{"$f":"IF(ISBLANK(Datenerfassung!L960),\"\",Datenerfassung!L960)","v":""},{"$f":"IF(ISBLANK(Datenerfassung!F960),\"\",Datenerfassung!F960)","v":""},{"$f":"IF(ISBLANK(Datenerfassung!D960),IF(COUNTBLANK(A950:H950)+COUNTBLANK(J950:O950)=14,\"\",\"- ohne Titel -\"),Datenerfassung!D960)","v":""},{"$f":"IF(ISBLANK(Datenerfassung!E960),\"\",Datenerfassung!E960)","v":""},"",{"$f":"IF(ISBLANK(Datenerfassung!O960),\"\",Datenerfassung!O960)","v":""},{"$f":"IF(ISBLANK(Datenerfassung!G960),\"\",Datenerfassung!G960)","v":""},{"$f":"IF(ISBLANK(Datenerfassung!M960),\"\",Datenerfassung!M960)","v":""},{"$f":"IF(ISBLANK(Datenerfassung!H960),\"\",Datenerfassung!H960)","v":""}]
[{"$f":"IF(ISBLANK(Datenerfassung!A961),\"\",Datenerfassung!A961)","v":""},{"$f":"IF(ISBLANK(Datenerfassung!B961),\"\",Datenerfassung!B961)","v":""},{"$f":"IF(ISBLANK(Datenerfassung!C961),\"\",Datenerfassung!C961)","v":""},{"$f":"IF(ISBLANK(Datenerfassung!I961),\"\",Datenerfassung!I961)","v":""},{"$f":"IF(ISBLANK(Datenerfassung!J961),\"\",Datenerfassung!J961)","v":""},"",{"$f":"IF(ISBLANK(Datenerfassung!L961),\"\",Datenerfassung!L961)","v":""},{"$f":"IF(ISBLANK(Datenerfassung!F961),\"\",Datenerfassung!F961)","v":""},{"$f":"IF(ISBLANK(Datenerfassung!D961),IF(COUNTBLANK(A951:H951)+COUNTBLANK(J951:O951)=14,\"\",\"- ohne Titel -\"),Datenerfassung!D961)","v":""},{"$f":"IF(ISBLANK(Datenerfassung!E961),\"\",Datenerfassung!E961)","v":""},"",{"$f":"IF(ISBLANK(Datenerfassung!O961),\"\",Datenerfassung!O961)","v":""},{"$f":"IF(ISBLANK(Datenerfassung!G961),\"\",Datenerfassung!G961)","v":""},{"$f":"IF(ISBLANK(Datenerfassung!M961),\"\",Datenerfassung!M961)","v":""},{"$f":"IF(ISBLANK(Datenerfassung!H961),\"\",Datenerfassung!H961)","v":""}]
[{"$f":"IF(ISBLANK(Datenerfassung!A962),\"\",Datenerfassung!A962)","v":""},{"$f":"IF(ISBLANK(Datenerfassung!B962),\"\",Datenerfassung!B962)","v":""},{"$f":"IF(ISBLANK(Datenerfassung!C962),\"\",Datenerfassung!C962)","v":""},{"$f":"IF(ISBLANK(Datenerfassung!I962),\"\",Datenerfassung!I962)","v":""},{"$f":"IF(ISBLANK(Datenerfassung!J962),\"\",Datenerfassung!J962)","v":""},"",{"$f":"IF(ISBLANK(Datenerfassung!L962),\"\",Datenerfassung!L962)","v":""},{"$f":"IF(ISBLANK(Datenerfassung!F962),\"\",Datenerfassung!F962)","v":""},{"$f":"IF(ISBLANK(Datenerfassung!D962),IF(COUNTBLANK(A952:H952)+COUNTBLANK(J952:O952)=14,\"\",\"- ohne Titel -\"),Datenerfassung!D962)","v":""},{"$f":"IF(ISBLANK(Datenerfassung!E962),\"\",Datenerfassung!E962)","v":""},"",{"$f":"IF(ISBLANK(Datenerfassung!O962),\"\",Datenerfassung!O962)","v":""},{"$f":"IF(ISBLANK(Datenerfassung!G962),\"\",Datenerfassung!G962)","v":""},{"$f":"IF(ISBLANK(Datenerfassung!M962),\"\",Datenerfassung!M962)","v":""},{"$f":"IF(ISBLANK(Datenerfassung!H962),\"\",Datenerfassung!H962)","v":""}]
[{"$f":"IF(ISBLANK(Datenerfassung!A963),\"\",Datenerfassung!A963)","v":""},{"$f":"IF(ISBLANK(Datenerfassung!B963),\"\",Datenerfassung!B963)","v":""},{"$f":"IF(ISBLANK(Datenerfassung!C963),\"\",Datenerfassung!C963)","v":""},{"$f":"IF(ISBLANK(Datenerfassung!I963),\"\",Datenerfassung!I963)","v":""},{"$f":"IF(ISBLANK(Datenerfassung!J963),\"\",Datenerfassung!J963)","v":""},"",{"$f":"IF(ISBLANK(Datenerfassung!L963),\"\",Datenerfassung!L963)","v":""},{"$f":"IF(ISBLANK(Datenerfassung!F963),\"\",Datenerfassung!F963)","v":""},{"$f":"IF(ISBLANK(Datenerfassung!D963),IF(COUNTBLANK(A953:H953)+COUNTBLANK(J953:O953)=14,\"\",\"- ohne Titel -\"),Datenerfassung!D963)","v":""},{"$f":"IF(ISBLANK(Datenerfassung!E963),\"\",Datenerfassung!E963)","v":""},"",{"$f":"IF(ISBLANK(Datenerfassung!O963),\"\",Datenerfassung!O963)","v":""},{"$f":"IF(ISBLANK(Datenerfassung!G963),\"\",Datenerfassung!G963)","v":""},{"$f":"IF(ISBLANK(Datenerfassung!M963),\"\",Datenerfassung!M963)","v":""},{"$f":"IF(ISBLANK(Datenerfassung!H963),\"\",Datenerfassung!H963)","v":""}]
[{"$f":"IF(ISBLANK(Datenerfassung!A964),\"\",Datenerfassung!A964)","v":""},{"$f":"IF(ISBLANK(Datenerfassung!B964),\"\",Datenerfassung!B964)","v":""},{"$f":"IF(ISBLANK(Datenerfassung!C964),\"\",Datenerfassung!C964)","v":""},{"$f":"IF(ISBLANK(Datenerfassung!I964),\"\",Datenerfassung!I964)","v":""},{"$f":"IF(ISBLANK(Datenerfassung!J964),\"\",Datenerfassung!J964)","v":""},"",{"$f":"IF(ISBLANK(Datenerfassung!L964),\"\",Datenerfassung!L964)","v":""},{"$f":"IF(ISBLANK(Datenerfassung!F964),\"\",Datenerfassung!F964)","v":""},{"$f":"IF(ISBLANK(Datenerfassung!D964),IF(COUNTBLANK(A954:H954)+COUNTBLANK(J954:O954)=14,\"\",\"- ohne Titel -\"),Datenerfassung!D964)","v":""},{"$f":"IF(ISBLANK(Datenerfassung!E964),\"\",Datenerfassung!E964)","v":""},"",{"$f":"IF(ISBLANK(Datenerfassung!O964),\"\",Datenerfassung!O964)","v":""},{"$f":"IF(ISBLANK(Datenerfassung!G964),\"\",Datenerfassung!G964)","v":""},{"$f":"IF(ISBLANK(Datenerfassung!M964),\"\",Datenerfassung!M964)","v":""},{"$f":"IF(ISBLANK(Datenerfassung!H964),\"\",Datenerfassung!H964)","v":""}]
[{"$f":"IF(ISBLANK(Datenerfassung!A965),\"\",Datenerfassung!A965)","v":""},{"$f":"IF(ISBLANK(Datenerfassung!B965),\"\",Datenerfassung!B965)","v":""},{"$f":"IF(ISBLANK(Datenerfassung!C965),\"\",Datenerfassung!C965)","v":""},{"$f":"IF(ISBLANK(Datenerfassung!I965),\"\",Datenerfassung!I965)","v":""},{"$f":"IF(ISBLANK(Datenerfassung!J965),\"\",Datenerfassung!J965)","v":""},"",{"$f":"IF(ISBLANK(Datenerfassung!L965),\"\",Datenerfassung!L965)","v":""},{"$f":"IF(ISBLANK(Datenerfassung!F965),\"\",Datenerfassung!F965)","v":""},{"$f":"IF(ISBLANK(Datenerfassung!D965),IF(COUNTBLANK(A955:H955)+COUNTBLANK(J955:O955)=14,\"\",\"- ohne Titel -\"),Datenerfassung!D965)","v":""},{"$f":"IF(ISBLANK(Datenerfassung!E965),\"\",Datenerfassung!E965)","v":""},"",{"$f":"IF(ISBLANK(Datenerfassung!O965),\"\",Datenerfassung!O965)","v":""},{"$f":"IF(ISBLANK(Datenerfassung!G965),\"\",Datenerfassung!G965)","v":""},{"$f":"IF(ISBLANK(Datenerfassung!M965),\"\",Datenerfassung!M965)","v":""},{"$f":"IF(ISBLANK(Datenerfassung!H965),\"\",Datenerfassung!H965)","v":""}]
[{"$f":"IF(ISBLANK(Datenerfassung!A966),\"\",Datenerfassung!A966)","v":""},{"$f":"IF(ISBLANK(Datenerfassung!B966),\"\",Datenerfassung!B966)","v":""},{"$f":"IF(ISBLANK(Datenerfassung!C966),\"\",Datenerfassung!C966)","v":""},{"$f":"IF(ISBLANK(Datenerfassung!I966),\"\",Datenerfassung!I966)","v":""},{"$f":"IF(ISBLANK(Datenerfassung!J966),\"\",Datenerfassung!J966)","v":""},"",{"$f":"IF(ISBLANK(Datenerfassung!L966),\"\",Datenerfassung!L966)","v":""},{"$f":"IF(ISBLANK(Datenerfassung!F966),\"\",Datenerfassung!F966)","v":""},{"$f":"IF(ISBLANK(Datenerfassung!D966),IF(COUNTBLANK(A956:H956)+COUNTBLANK(J956:O956)=14,\"\",\"- ohne Titel -\"),Datenerfassung!D966)","v":""},{"$f":"IF(ISBLANK(Datenerfassung!E966),\"\",Datenerfassung!E966)","v":""},"",{"$f":"IF(ISBLANK(Datenerfassung!O966),\"\",Datenerfassung!O966)","v":""},{"$f":"IF(ISBLANK(Datenerfassung!G966),\"\",Datenerfassung!G966)","v":""},{"$f":"IF(ISBLANK(Datenerfassung!M966),\"\",Datenerfassung!M966)","v":""},{"$f":"IF(ISBLANK(Datenerfassung!H966),\"\",Datenerfassung!H966)","v":""}]
[{"$f":"IF(ISBLANK(Datenerfassung!A967),\"\",Datenerfassung!A967)","v":""},{"$f":"IF(ISBLANK(Datenerfassung!B967),\"\",Datenerfassung!B967)","v":""},{"$f":"IF(ISBLANK(Datenerfassung!C967),\"\",Datenerfassung!C967)","v":""},{"$f":"IF(ISBLANK(Datenerfassung!I967),\"\",Datenerfassung!I967)","v":""},{"$f":"IF(ISBLANK(Datenerfassung!J967),\"\",Datenerfassung!J967)","v":""},"",{"$f":"IF(ISBLANK(Datenerfassung!L967),\"\",Datenerfassung!L967)","v":""},{"$f":"IF(ISBLANK(Datenerfassung!F967),\"\",Datenerfassung!F967)","v":""},{"$f":"IF(ISBLANK(Datenerfassung!D967),IF(COUNTBLANK(A957:H957)+COUNTBLANK(J957:O957)=14,\"\",\"- ohne Titel -\"),Datenerfassung!D967)","v":""},{"$f":"IF(ISBLANK(Datenerfassung!E967),\"\",Datenerfassung!E967)","v":""},"",{"$f":"IF(ISBLANK(Datenerfassung!O967),\"\",Datenerfassung!O967)","v":""},{"$f":"IF(ISBLANK(Datenerfassung!G967),\"\",Datenerfassung!G967)","v":""},{"$f":"IF(ISBLANK(Datenerfassung!M967),\"\",Datenerfassung!M967)","v":""},{"$f":"IF(ISBLANK(Datenerfassung!H967),\"\",Datenerfassung!H967)","v":""}]
[{"$f":"IF(ISBLANK(Datenerfassung!A968),\"\",Datenerfassung!A968)","v":""},{"$f":"IF(ISBLANK(Datenerfassung!B968),\"\",Datenerfassung!B968)","v":""},{"$f":"IF(ISBLANK(Datenerfassung!C968),\"\",Datenerfassung!C968)","v":""},{"$f":"IF(ISBLANK(Datenerfassung!I968),\"\",Datenerfassung!I968)","v":""},{"$f":"IF(ISBLANK(Datenerfassung!J968),\"\",Datenerfassung!J968)","v":""},"",{"$f":"IF(ISBLANK(Datenerfassung!L968),\"\",Datenerfassung!L968)","v":""},{"$f":"IF(ISBLANK(Datenerfassung!F968),\"\",Datenerfassung!F968)","v":""},{"$f":"IF(ISBLANK(Datenerfassung!D968),IF(COUNTBLANK(A958:H958)+COUNTBLANK(J958:O958)=14,\"\",\"- ohne Titel -\"),Datenerfassung!D968)","v":""},{"$f":"IF(ISBLANK(Datenerfassung!E968),\"\",Datenerfassung!E968)","v":""},"",{"$f":"IF(ISBLANK(Datenerfassung!O968),\"\",Datenerfassung!O968)","v":""},{"$f":"IF(ISBLANK(Datenerfassung!G968),\"\",Datenerfassung!G968)","v":""},{"$f":"IF(ISBLANK(Datenerfassung!M968),\"\",Datenerfassung!M968)","v":""},{"$f":"IF(ISBLANK(Datenerfassung!H968),\"\",Datenerfassung!H968)","v":""}]
[{"$f":"IF(ISBLANK(Datenerfassung!A969),\"\",Datenerfassung!A969)","v":""},{"$f":"IF(ISBLANK(Datenerfassung!B969),\"\",Datenerfassung!B969)","v":""},{"$f":"IF(ISBLANK(Datenerfassung!C969),\"\",Datenerfassung!C969)","v":""},{"$f":"IF(ISBLANK(Datenerfassung!I969),\"\",Datenerfassung!I969)","v":""},{"$f":"IF(ISBLANK(Datenerfassung!J969),\"\",Datenerfassung!J969)","v":""},"",{"$f":"IF(ISBLANK(Datenerfassung!L969),\"\",Datenerfassung!L969)","v":""},{"$f":"IF(ISBLANK(Datenerfassung!F969),\"\",Datenerfassung!F969)","v":""},{"$f":"IF(ISBLANK(Datenerfassung!D969),IF(COUNTBLANK(A959:H959)+COUNTBLANK(J959:O959)=14,\"\",\"- ohne Titel -\"),Datenerfassung!D969)","v":""},{"$f":"IF(ISBLANK(Datenerfassung!E969),\"\",Datenerfassung!E969)","v":""},"",{"$f":"IF(ISBLANK(Datenerfassung!O969),\"\",Datenerfassung!O969)","v":""},{"$f":"IF(ISBLANK(Datenerfassung!G969),\"\",Datenerfassung!G969)","v":""},{"$f":"IF(ISBLANK(Datenerfassung!M969),\"\",Datenerfassung!M969)","v":""},{"$f":"IF(ISBLANK(Datenerfassung!H969),\"\",Datenerfassung!H969)","v":""}]
[{"$f":"IF(ISBLANK(Datenerfassung!A970),\"\",Datenerfassung!A970)","v":""},{"$f":"IF(ISBLANK(Datenerfassung!B970),\"\",Datenerfassung!B970)","v":""},{"$f":"IF(ISBLANK(Datenerfassung!C970),\"\",Datenerfassung!C970)","v":""},{"$f":"IF(ISBLANK(Datenerfassung!I970),\"\",Datenerfassung!I970)","v":""},{"$f":"IF(ISBLANK(Datenerfassung!J970),\"\",Datenerfassung!J970)","v":""},"",{"$f":"IF(ISBLANK(Datenerfassung!L970),\"\",Datenerfassung!L970)","v":""},{"$f":"IF(ISBLANK(Datenerfassung!F970),\"\",Datenerfassung!F970)","v":""},{"$f":"IF(ISBLANK(Datenerfassung!D970),IF(COUNTBLANK(A960:H960)+COUNTBLANK(J960:O960)=14,\"\",\"- ohne Titel -\"),Datenerfassung!D970)","v":""},{"$f":"IF(ISBLANK(Datenerfassung!E970),\"\",Datenerfassung!E970)","v":""},"",{"$f":"IF(ISBLANK(Datenerfassung!O970),\"\",Datenerfassung!O970)","v":""},{"$f":"IF(ISBLANK(Datenerfassung!G970),\"\",Datenerfassung!G970)","v":""},{"$f":"IF(ISBLANK(Datenerfassung!M970),\"\",Datenerfassung!M970)","v":""},{"$f":"IF(ISBLANK(Datenerfassung!H970),\"\",Datenerfassung!H970)","v":""}]
[{"$f":"IF(ISBLANK(Datenerfassung!A971),\"\",Datenerfassung!A971)","v":""},{"$f":"IF(ISBLANK(Datenerfassung!B971),\"\",Datenerfassung!B971)","v":""},{"$f":"IF(ISBLANK(Datenerfassung!C971),\"\",Datenerfassung!C971)","v":""},{"$f":"IF(ISBLANK(Datenerfassung!I971),\"\",Datenerfassung!I971)","v":""},{"$f":"IF(ISBLANK(Datenerfassung!J971),\"\",Datenerfassung!J971)","v":""},"",{"$f":"IF(ISBLANK(Datenerfassung!L971),\"\",Datenerfassung!L971)","v":""},{"$f":"IF(ISBLANK(Datenerfassung!F971),\"\",Datenerfassung!F971)","v":""},{"$f":"IF(ISBLANK(Datenerfassung!D971),IF(COUNTBLANK(A961:H961)+COUNTBLANK(J961:O961)=14,\"\",\"- ohne Titel -\"),Datenerfassung!D971)","v":""},{"$f":"IF(ISBLANK(Datenerfassung!E971),\"\",Datenerfassung!E971)","v":""},"",{"$f":"IF(ISBLANK(Datenerfassung!O971),\"\",Datenerfassung!O971)","v":""},{"$f":"IF(ISBLANK(Datenerfassung!G971),\"\",Datenerfassung!G971)","v":""},{"$f":"IF(ISBLANK(Datenerfassung!M971),\"\",Datenerfassung!M971)","v":""},{"$f":"IF(ISBLANK(Datenerfassung!H971),\"\",Datenerfassung!H971)","v":""}]
[{"$f":"IF(ISBLANK(Datenerfassung!A972),\"\",Datenerfassung!A972)","v":""},{"$f":"IF(ISBLANK(Datenerfassung!B972),\"\",Datenerfassung!B972)","v":""},{"$f":"IF(ISBLANK(Datenerfassung!C972),\"\",Datenerfassung!C972)","v":""},{"$f":"IF(ISBLANK(Datenerfassung!I972),\"\",Datenerfassung!I972)","v":""},{"$f":"IF(ISBLANK(Datenerfassung!J972),\"\",Datenerfassung!J972)","v":""},"",{"$f":"IF(ISBLANK(Datenerfassung!L972),\"\",Datenerfassung!L972)","v":""},{"$f":"IF(ISBLANK(Datenerfassung!F972),\"\",Datenerfassung!F972)","v":""},{"$f":"IF(ISBLANK(Datenerfassung!D972),IF(COUNTBLANK(A962:H962)+COUNTBLANK(J962:O962)=14,\"\",\"- ohne Titel -\"),Datenerfassung!D972)","v":""},{"$f":"IF(ISBLANK(Datenerfassung!E972),\"\",Datenerfassung!E972)","v":""},"",{"$f":"IF(ISBLANK(Datenerfassung!O972),\"\",Datenerfassung!O972)","v":""},{"$f":"IF(ISBLANK(Datenerfassung!G972),\"\",Datenerfassung!G972)","v":""},{"$f":"IF(ISBLANK(Datenerfassung!M972),\"\",Datenerfassung!M972)","v":""},{"$f":"IF(ISBLANK(Datenerfassung!H972),\"\",Datenerfassung!H972)","v":""}]
[{"$f":"IF(ISBLANK(Datenerfassung!A973),\"\",Datenerfassung!A973)","v":""},{"$f":"IF(ISBLANK(Datenerfassung!B973),\"\",Datenerfassung!B973)","v":""},{"$f":"IF(ISBLANK(Datenerfassung!C973),\"\",Datenerfassung!C973)","v":""},{"$f":"IF(ISBLANK(Datenerfassung!I973),\"\",Datenerfassung!I973)","v":""},{"$f":"IF(ISBLANK(Datenerfassung!J973),\"\",Datenerfassung!J973)","v":""},{"$f":"IF(D963=\"\",\"\",IF(E963=\"\",D963,D963&\" - \"&E963))","v":""},{"$f":"IF(ISBLANK(Datenerfassung!L973),\"\",Datenerfassung!L973)","v":""},{"$f":"IF(ISBLANK(Datenerfassung!F973),\"\",Datenerfassung!F973)","v":""},{"$f":"IF(ISBLANK(Datenerfassung!D973),IF(COUNTBLANK(A963:H963)+COUNTBLANK(J963:O963)=14,\"\",\"- ohne Titel -\"),Datenerfassung!D973)","v":""},{"$f":"IF(ISBLANK(Datenerfassung!E973),\"\",Datenerfassung!E973)","v":""},{"$f":"IF(OR(E963=\"\",G963=\"\"),\"\",\"01.01.\"&RIGHT(E963,4)+G963+1)","v":""},{"$f":"IF(ISBLANK(Datenerfassung!O973),\"\",Datenerfassung!O973)","v":""},{"$f":"IF(ISBLANK(Datenerfassung!G973),\"\",Datenerfassung!G973)","v":""},{"$f":"IF(ISBLANK(Datenerfassung!M973),\"\",Datenerfassung!M973)","v":""},{"$f":"IF(ISBLANK(Datenerfassung!H973),\"\",Datenerfassung!H973)","v":""}]
[{"$f":"IF(ISBLANK(Datenerfassung!A974),\"\",Datenerfassung!A974)","v":""},{"$f":"IF(ISBLANK(Datenerfassung!B974),\"\",Datenerfassung!B974)","v":""},{"$f":"IF(ISBLANK(Datenerfassung!C974),\"\",Datenerfassung!C974)","v":""},{"$f":"IF(ISBLANK(Datenerfassung!I974),\"\",Datenerfassung!I974)","v":""},{"$f":"IF(ISBLANK(Datenerfassung!J974),\"\",Datenerfassung!J974)","v":""},"",{"$f":"IF(ISBLANK(Datenerfassung!L974),\"\",Datenerfassung!L974)","v":""},{"$f":"IF(ISBLANK(Datenerfassung!F974),\"\",Datenerfassung!F974)","v":""},{"$f":"IF(ISBLANK(Datenerfassung!D974),IF(COUNTBLANK(A964:H964)+COUNTBLANK(J964:O964)=14,\"\",\"- ohne Titel -\"),Datenerfassung!D974)","v":""},{"$f":"IF(ISBLANK(Datenerfassung!E974),\"\",Datenerfassung!E974)","v":""},"",{"$f":"IF(ISBLANK(Datenerfassung!O974),\"\",Datenerfassung!O974)","v":""},{"$f":"IF(ISBLANK(Datenerfassung!G974),\"\",Datenerfassung!G974)","v":""},{"$f":"IF(ISBLANK(Datenerfassung!M974),\"\",Datenerfassung!M974)","v":""},{"$f":"IF(ISBLANK(Datenerfassung!H974),\"\",Datenerfassung!H974)","v":""}]
[{"$f":"IF(ISBLANK(Datenerfassung!A975),\"\",Datenerfassung!A975)","v":""},{"$f":"IF(ISBLANK(Datenerfassung!B975),\"\",Datenerfassung!B975)","v":""},{"$f":"IF(ISBLANK(Datenerfassung!C975),\"\",Datenerfassung!C975)","v":""},{"$f":"IF(ISBLANK(Datenerfassung!I975),\"\",Datenerfassung!I975)","v":""},{"$f":"IF(ISBLANK(Datenerfassung!J975),\"\",Datenerfassung!J975)","v":""},"",{"$f":"IF(ISBLANK(Datenerfassung!L975),\"\",Datenerfassung!L975)","v":""},{"$f":"IF(ISBLANK(Datenerfassung!F975),\"\",Datenerfassung!F975)","v":""},{"$f":"IF(ISBLANK(Datenerfassung!D975),IF(COUNTBLANK(A965:H965)+COUNTBLANK(J965:O965)=14,\"\",\"- ohne Titel -\"),Datenerfassung!D975)","v":""},{"$f":"IF(ISBLANK(Datenerfassung!E975),\"\",Datenerfassung!E975)","v":""},"",{"$f":"IF(ISBLANK(Datenerfassung!O975),\"\",Datenerfassung!O975)","v":""},{"$f":"IF(ISBLANK(Datenerfassung!G975),\"\",Datenerfassung!G975)","v":""},{"$f":"IF(ISBLANK(Datenerfassung!M975),\"\",Datenerfassung!M975)","v":""},{"$f":"IF(ISBLANK(Datenerfassung!H975),\"\",Datenerfassung!H975)","v":""}]
[{"$f":"IF(ISBLANK(Datenerfassung!A976),\"\",Datenerfassung!A976)","v":""},{"$f":"IF(ISBLANK(Datenerfassung!B976),\"\",Datenerfassung!B976)","v":""},{"$f":"IF(ISBLANK(Datenerfassung!C976),\"\",Datenerfassung!C976)","v":""},{"$f":"IF(ISBLANK(Datenerfassung!I976),\"\",Datenerfassung!I976)","v":""},{"$f":"IF(ISBLANK(Datenerfassung!J976),\"\",Datenerfassung!J976)","v":""},"",{"$f":"IF(ISBLANK(Datenerfassung!L976),\"\",Datenerfassung!L976)","v":""},{"$f":"IF(ISBLANK(Datenerfassung!F976),\"\",Datenerfassung!F976)","v":""},{"$f":"IF(ISBLANK(Datenerfassung!D976),IF(COUNTBLANK(A966:H966)+COUNTBLANK(J966:O966)=14,\"\",\"- ohne Titel -\"),Datenerfassung!D976)","v":""},{"$f":"IF(ISBLANK(Datenerfassung!E976),\"\",Datenerfassung!E976)","v":""},"",{"$f":"IF(ISBLANK(Datenerfassung!O976),\"\",Datenerfassung!O976)","v":""},{"$f":"IF(ISBLANK(Datenerfassung!G976),\"\",Datenerfassung!G976)","v":""},{"$f":"IF(ISBLANK(Datenerfassung!M976),\"\",Datenerfassung!M976)","v":""},{"$f":"IF(ISBLANK(Datenerfassung!H976),\"\",Datenerfassung!H976)","v":""}]
[{"$f":"IF(ISBLANK(Datenerfassung!A977),\"\",Datenerfassung!A977)","v":""},{"$f":"IF(ISBLANK(Datenerfassung!B977),\"\",Datenerfassung!B977)","v":""},{"$f":"IF(ISBLANK(Datenerfassung!C977),\"\",Datenerfassung!C977)","v":""},{"$f":"IF(ISBLANK(Datenerfassung!I977),\"\",Datenerfassung!I977)","v":""},{"$f":"IF(ISBLANK(Datenerfassung!J977),\"\",Datenerfassung!J977)","v":""},"",{"$f":"IF(ISBLANK(Datenerfassung!L977),\"\",Datenerfassung!L977)","v":""},{"$f":"IF(ISBLANK(Datenerfassung!F977),\"\",Datenerfassung!F977)","v":""},{"$f":"IF(ISBLANK(Datenerfassung!D977),IF(COUNTBLANK(A967:H967)+COUNTBLANK(J967:O967)=14,\"\",\"- ohne Titel -\"),Datenerfassung!D977)","v":""},{"$f":"IF(ISBLANK(Datenerfassung!E977),\"\",Datenerfassung!E977)","v":""},"",{"$f":"IF(ISBLANK(Datenerfassung!O977),\"\",Datenerfassung!O977)","v":""},{"$f":"IF(ISBLANK(Datenerfassung!G977),\"\",Datenerfassung!G977)","v":""},{"$f":"IF(ISBLANK(Datenerfassung!M977),\"\",Datenerfassung!M977)","v":""},{"$f":"IF(ISBLANK(Datenerfassung!H977),\"\",Datenerfassung!H977)","v":""}]
[{"$f":"IF(ISBLANK(Datenerfassung!A978),\"\",Datenerfassung!A978)","v":""},{"$f":"IF(ISBLANK(Datenerfassung!B978),\"\",Datenerfassung!B978)","v":""},{"$f":"IF(ISBLANK(Datenerfassung!C978),\"\",Datenerfassung!C978)","v":""},{"$f":"IF(ISBLANK(Datenerfassung!I978),\"\",Datenerfassung!I978)","v":""},{"$f":"IF(ISBLANK(Datenerfassung!J978),\"\",Datenerfassung!J978)","v":""},"",{"$f":"IF(ISBLANK(Datenerfassung!L978),\"\",Datenerfassung!L978)","v":""},{"$f":"IF(ISBLANK(Datenerfassung!F978),\"\",Datenerfassung!F978)","v":""},{"$f":"IF(ISBLANK(Datenerfassung!D978),IF(COUNTBLANK(A968:H968)+COUNTBLANK(J968:O968)=14,\"\",\"- ohne Titel -\"),Datenerfassung!D978)","v":""},{"$f":"IF(ISBLANK(Datenerfassung!E978),\"\",Datenerfassung!E978)","v":""},"",{"$f":"IF(ISBLANK(Datenerfassung!O978),\"\",Datenerfassung!O978)","v":""},{"$f":"IF(ISBLANK(Datenerfassung!G978),\"\",Datenerfassung!G978)","v":""},{"$f":"IF(ISBLANK(Datenerfassung!M978),\"\",Datenerfassung!M978)","v":""},{"$f":"IF(ISBLANK(Datenerfassung!H978),\"\",Datenerfassung!H978)","v":""}]
[{"$f":"IF(ISBLANK(Datenerfassung!A979),\"\",Datenerfassung!A979)","v":""},{"$f":"IF(ISBLANK(Datenerfassung!B979),\"\",Datenerfassung!B979)","v":""},{"$f":"IF(ISBLANK(Datenerfassung!C979),\"\",Datenerfassung!C979)","v":""},{"$f":"IF(ISBLANK(Datenerfassung!I979),\"\",Datenerfassung!I979)","v":""},{"$f":"IF(ISBLANK(Datenerfassung!J979),\"\",Datenerfassung!J979)","v":""},"",{"$f":"IF(ISBLANK(Datenerfassung!L979),\"\",Datenerfassung!L979)","v":""},{"$f":"IF(ISBLANK(Datenerfassung!F979),\"\",Datenerfassung!F979)","v":""},{"$f":"IF(ISBLANK(Datenerfassung!D979),IF(COUNTBLANK(A969:H969)+COUNTBLANK(J969:O969)=14,\"\",\"- ohne Titel -\"),Datenerfassung!D979)","v":""},{"$f":"IF(ISBLANK(Datenerfassung!E979),\"\",Datenerfassung!E979)","v":""},"",{"$f":"IF(ISBLANK(Datenerfassung!O979),\"\",Datenerfassung!O979)","v":""},{"$f":"IF(ISBLANK(Datenerfassung!G979),\"\",Datenerfassung!G979)","v":""},{"$f":"IF(ISBLANK(Datenerfassung!M979),\"\",Datenerfassung!M979)","v":""},{"$f":"IF(ISBLANK(Datenerfassung!H979),\"\",Datenerfassung!H979)","v":""}]
[{"$f":"IF(ISBLANK(Datenerfassung!A980),\"\",Datenerfassung!A980)","v":""},{"$f":"IF(ISBLANK(Datenerfassung!B980),\"\",Datenerfassung!B980)","v":""},{"$f":"IF(ISBLANK(Datenerfassung!C980),\"\",Datenerfassung!C980)","v":""},{"$f":"IF(ISBLANK(Datenerfassung!I980),\"\",Datenerfassung!I980)","v":""},{"$f":"IF(ISBLANK(Datenerfassung!J980),\"\",Datenerfassung!J980)","v":""},"",{"$f":"IF(ISBLANK(Datenerfassung!L980),\"\",Datenerfassung!L980)","v":""},{"$f":"IF(ISBLANK(Datenerfassung!F980),\"\",Datenerfassung!F980)","v":""},{"$f":"IF(ISBLANK(Datenerfassung!D980),IF(COUNTBLANK(A970:H970)+COUNTBLANK(J970:O970)=14,\"\",\"- ohne Titel -\"),Datenerfassung!D980)","v":""},{"$f":"IF(ISBLANK(Datenerfassung!E980),\"\",Datenerfassung!E980)","v":""},"",{"$f":"IF(ISBLANK(Datenerfassung!O980),\"\",Datenerfassung!O980)","v":""},{"$f":"IF(ISBLANK(Datenerfassung!G980),\"\",Datenerfassung!G980)","v":""},{"$f":"IF(ISBLANK(Datenerfassung!M980),\"\",Datenerfassung!M980)","v":""},{"$f":"IF(ISBLANK(Datenerfassung!H980),\"\",Datenerfassung!H980)","v":""}]
[{"$f":"IF(ISBLANK(Datenerfassung!A981),\"\",Datenerfassung!A981)","v":""},{"$f":"IF(ISBLANK(Datenerfassung!B981),\"\",Datenerfassung!B981)","v":""},{"$f":"IF(ISBLANK(Datenerfassung!C981),\"\",Datenerfassung!C981)","v":""},{"$f":"IF(ISBLANK(Datenerfassung!I981),\"\",Datenerfassung!I981)","v":""},{"$f":"IF(ISBLANK(Datenerfassung!J981),\"\",Datenerfassung!J981)","v":""},"",{"$f":"IF(ISBLANK(Datenerfassung!L981),\"\",Datenerfassung!L981)","v":""},{"$f":"IF(ISBLANK(Datenerfassung!F981),\"\",Datenerfassung!F981)","v":""},{"$f":"IF(ISBLANK(Datenerfassung!D981),IF(COUNTBLANK(A971:H971)+COUNTBLANK(J971:O971)=14,\"\",\"- ohne Titel -\"),Datenerfassung!D981)","v":""},{"$f":"IF(ISBLANK(Datenerfassung!E981),\"\",Datenerfassung!E981)","v":""},"",{"$f":"IF(ISBLANK(Datenerfassung!O981),\"\",Datenerfassung!O981)","v":""},{"$f":"IF(ISBLANK(Datenerfassung!G981),\"\",Datenerfassung!G981)","v":""},{"$f":"IF(ISBLANK(Datenerfassung!M981),\"\",Datenerfassung!M981)","v":""},{"$f":"IF(ISBLANK(Datenerfassung!H981),\"\",Datenerfassung!H981)","v":""}]
[{"$f":"IF(ISBLANK(Datenerfassung!A982),\"\",Datenerfassung!A982)","v":""},{"$f":"IF(ISBLANK(Datenerfassung!B982),\"\",Datenerfassung!B982)","v":""},{"$f":"IF(ISBLANK(Datenerfassung!C982),\"\",Datenerfassung!C982)","v":""},{"$f":"IF(ISBLANK(Datenerfassung!I982),\"\",Datenerfassung!I982)","v":""},{"$f":"IF(ISBLANK(Datenerfassung!J982),\"\",Datenerfassung!J982)","v":""},"",{"$f":"IF(ISBLANK(Datenerfassung!L982),\"\",Datenerfassung!L982)","v":""},{"$f":"IF(ISBLANK(Datenerfassung!F982),\"\",Datenerfassung!F982)","v":""},{"$f":"IF(ISBLANK(Datenerfassung!D982),IF(COUNTBLANK(A972:H972)+COUNTBLANK(J972:O972)=14,\"\",\"- ohne Titel -\"),Datenerfassung!D982)","v":""},{"$f":"IF(ISBLANK(Datenerfassung!E982),\"\",Datenerfassung!E982)","v":""},"",{"$f":"IF(ISBLANK(Datenerfassung!O982),\"\",Datenerfassung!O982)","v":""},{"$f":"IF(ISBLANK(Datenerfassung!G982),\"\",Datenerfassung!G982)","v":""},{"$f":"IF(ISBLANK(Datenerfassung!M982),\"\",Datenerfassung!M982)","v":""},{"$f":"IF(ISBLANK(Datenerfassung!H982),\"\",Datenerfassung!H982)","v":""}]
[{"$f":"IF(ISBLANK(Datenerfassung!A983),\"\",Datenerfassung!A983)","v":""},{"$f":"IF(ISBLANK(Datenerfassung!B983),\"\",Datenerfassung!B983)","v":""},{"$f":"IF(ISBLANK(Datenerfassung!C983),\"\",Datenerfassung!C983)","v":""},{"$f":"IF(ISBLANK(Datenerfassung!I983),\"\",Datenerfassung!I983)","v":""},{"$f":"IF(ISBLANK(Datenerfassung!J983),\"\",Datenerfassung!J983)","v":""},"",{"$f":"IF(ISBLANK(Datenerfassung!L983),\"\",Datenerfassung!L983)","v":""},{"$f":"IF(ISBLANK(Datenerfassung!F983),\"\",Datenerfassung!F983)","v":""},{"$f":"IF(ISBLANK(Datenerfassung!D983),IF(COUNTBLANK(A973:H973)+COUNTBLANK(J973:O973)=14,\"\",\"- ohne Titel -\"),Datenerfassung!D983)","v":""},{"$f":"IF(ISBLANK(Datenerfassung!E983),\"\",Datenerfassung!E983)","v":""},"",{"$f":"IF(ISBLANK(Datenerfassung!O983),\"\",Datenerfassung!O983)","v":""},{"$f":"IF(ISBLANK(Datenerfassung!G983),\"\",Datenerfassung!G983)","v":""},{"$f":"IF(ISBLANK(Datenerfassung!M983),\"\",Datenerfassung!M983)","v":""},{"$f":"IF(ISBLANK(Datenerfassung!H983),\"\",Datenerfassung!H983)","v":""}]
[{"$f":"IF(ISBLANK(Datenerfassung!A984),\"\",Datenerfassung!A984)","v":""},{"$f":"IF(ISBLANK(Datenerfassung!B984),\"\",Datenerfassung!B984)","v":""},{"$f":"IF(ISBLANK(Datenerfassung!C984),\"\",Datenerfassung!C984)","v":""},{"$f":"IF(ISBLANK(Datenerfassung!I984),\"\",Datenerfassung!I984)","v":""},{"$f":"IF(ISBLANK(Datenerfassung!J984),\"\",Datenerfassung!J984)","v":""},"",{"$f":"IF(ISBLANK(Datenerfassung!L984),\"\",Datenerfassung!L984)","v":""},{"$f":"IF(ISBLANK(Datenerfassung!F984),\"\",Datenerfassung!F984)","v":""},{"$f":"IF(ISBLANK(Datenerfassung!D984),IF(COUNTBLANK(A974:H974)+COUNTBLANK(J974:O974)=14,\"\",\"- ohne Titel -\"),Datenerfassung!D984)","v":""},{"$f":"IF(ISBLANK(Datenerfassung!E984),\"\",Datenerfassung!E984)","v":""},"",{"$f":"IF(ISBLANK(Datenerfassung!O984),\"\",Datenerfassung!O984)","v":""},{"$f":"IF(ISBLANK(Datenerfassung!G984),\"\",Datenerfassung!G984)","v":""},{"$f":"IF(ISBLANK(Datenerfassung!M984),\"\",Datenerfassung!M984)","v":""},{"$f":"IF(ISBLANK(Datenerfassung!H984),\"\",Datenerfassung!H984)","v":""}]
[{"$f":"IF(ISBLANK(Datenerfassung!A985),\"\",Datenerfassung!A985)","v":""},{"$f":"IF(ISBLANK(Datenerfassung!B985),\"\",Datenerfassung!B985)","v":""},{"$f":"IF(ISBLANK(Datenerfassung!C985),\"\",Datenerfassung!C985)","v":""},{"$f":"IF(ISBLANK(Datenerfassung!I985),\"\",Datenerfassung!I985)","v":""},{"$f":"IF(ISBLANK(Datenerfassung!J985),\"\",Datenerfassung!J985)","v":""},"",{"$f":"IF(ISBLANK(Datenerfassung!L985),\"\",Datenerfassung!L985)","v":""},{"$f":"IF(ISBLANK(Datenerfassung!F985),\"\",Datenerfassung!F985)","v":""},{"$f":"IF(ISBLANK(Datenerfassung!D985),IF(COUNTBLANK(A975:H975)+COUNTBLANK(J975:O975)=14,\"\",\"- ohne Titel -\"),Datenerfassung!D985)","v":""},{"$f":"IF(ISBLANK(Datenerfassung!E985),\"\",Datenerfassung!E985)","v":""},"",{"$f":"IF(ISBLANK(Datenerfassung!O985),\"\",Datenerfassung!O985)","v":""},{"$f":"IF(ISBLANK(Datenerfassung!G985),\"\",Datenerfassung!G985)","v":""},{"$f":"IF(ISBLANK(Datenerfassung!M985),\"\",Datenerfassung!M985)","v":""},{"$f":"IF(ISBLANK(Datenerfassung!H985),\"\",Datenerfassung!H985)","v":""}]
[{"$f":"IF(ISBLANK(Datenerfassung!A986),\"\",Datenerfassung!A986)","v":""},{"$f":"IF(ISBLANK(Datenerfassung!B986),\"\",Datenerfassung!B986)","v":""},{"$f":"IF(ISBLANK(Datenerfassung!C986),\"\",Datenerfassung!C986)","v":""},{"$f":"IF(ISBLANK(Datenerfassung!I986),\"\",Datenerfassung!I986)","v":""},{"$f":"IF(ISBLANK(Datenerfassung!J986),\"\",Datenerfassung!J986)","v":""},"",{"$f":"IF(ISBLANK(Datenerfassung!L986),\"\",Datenerfassung!L986)","v":""},{"$f":"IF(ISBLANK(Datenerfassung!F986),\"\",Datenerfassung!F986)","v":""},{"$f":"IF(ISBLANK(Datenerfassung!D986),IF(COUNTBLANK(A976:H976)+COUNTBLANK(J976:O976)=14,\"\",\"- ohne Titel -\"),Datenerfassung!D986)","v":""},{"$f":"IF(ISBLANK(Datenerfassung!E986),\"\",Datenerfassung!E986)","v":""},"",{"$f":"IF(ISBLANK(Datenerfassung!O986),\"\",Datenerfassung!O986)","v":""},{"$f":"IF(ISBLANK(Datenerfassung!G986),\"\",Datenerfassung!G986)","v":""},{"$f":"IF(ISBLANK(Datenerfassung!M986),\"\",Datenerfassung!M986)","v":""},{"$f":"IF(ISBLANK(Datenerfassung!H986),\"\",Datenerfassung!H986)","v":""}]
[{"$f":"IF(ISBLANK(Datenerfassung!A987),\"\",Datenerfassung!A987)","v":""},{"$f":"IF(ISBLANK(Datenerfassung!B987),\"\",Datenerfassung!B987)","v":""},{"$f":"IF(ISBLANK(Datenerfassung!C987),\"\",Datenerfassung!C987)","v":""},{"$f":"IF(ISBLANK(Datenerfassung!I987),\"\",Datenerfassung!I987)","v":""},{"$f":"IF(ISBLANK(Datenerfassung!J987),\"\",Datenerfassung!J987)","v":""},"",{"$f":"IF(ISBLANK(Datenerfassung!L987),\"\",Datenerfassung!L987)","v":""},{"$f":"IF(ISBLANK(Datenerfassung!F987),\"\",Datenerfassung!F987)","v":""},{"$f":"IF(ISBLANK(Datenerfassung!D987),IF(COUNTBLANK(A977:H977)+COUNTBLANK(J977:O977)=14,\"\",\"- ohne Titel -\"),Datenerfassung!D987)","v":""},{"$f":"IF(ISBLANK(Datenerfassung!E987),\"\",Datenerfassung!E987)","v":""},"",{"$f":"IF(ISBLANK(Datenerfassung!O987),\"\",Datenerfassung!O987)","v":""},{"$f":"IF(ISBLANK(Datenerfassung!G987),\"\",Datenerfassung!G987)","v":""},{"$f":"IF(ISBLANK(Datenerfassung!M987),\"\",Datenerfassung!M987)","v":""},{"$f":"IF(ISBLANK(Datenerfassung!H987),\"\",Datenerfassung!H987)","v":""}]
[{"$f":"IF(ISBLANK(Datenerfassung!A988),\"\",Datenerfassung!A988)","v":""},{"$f":"IF(ISBLANK(Datenerfassung!B988),\"\",Datenerfassung!B988)","v":""},{"$f":"IF(ISBLANK(Datenerfassung!C988),\"\",Datenerfassung!C988)","v":""},{"$f":"IF(ISBLANK(Datenerfassung!I988),\"\",Datenerfassung!I988)","v":""},{"$f":"IF(ISBLANK(Datenerfassung!J988),\"\",Datenerfassung!J988)","v":""},"",{"$f":"IF(ISBLANK(Datenerfassung!L988),\"\",Datenerfassung!L988)","v":""},{"$f":"IF(ISBLANK(Datenerfassung!F988),\"\",Datenerfassung!F988)","v":""},{"$f":"IF(ISBLANK(Datenerfassung!D988),IF(COUNTBLANK(A978:H978)+COUNTBLANK(J978:O978)=14,\"\",\"- ohne Titel -\"),Datenerfassung!D988)","v":""},{"$f":"IF(ISBLANK(Datenerfassung!E988),\"\",Datenerfassung!E988)","v":""},"",{"$f":"IF(ISBLANK(Datenerfassung!O988),\"\",Datenerfassung!O988)","v":""},{"$f":"IF(ISBLANK(Datenerfassung!G988),\"\",Datenerfassung!G988)","v":""},{"$f":"IF(ISBLANK(Datenerfassung!M988),\"\",Datenerfassung!M988)","v":""},{"$f":"IF(ISBLANK(Datenerfassung!H988),\"\",Datenerfassung!H988)","v":""}]
[{"$f":"IF(ISBLANK(Datenerfassung!A989),\"\",Datenerfassung!A989)","v":""},{"$f":"IF(ISBLANK(Datenerfassung!B989),\"\",Datenerfassung!B989)","v":""},{"$f":"IF(ISBLANK(Datenerfassung!C989),\"\",Datenerfassung!C989)","v":""},{"$f":"IF(ISBLANK(Datenerfassung!I989),\"\",Datenerfassung!I989)","v":""},{"$f":"IF(ISBLANK(Datenerfassung!J989),\"\",Datenerfassung!J989)","v":""},"",{"$f":"IF(ISBLANK(Datenerfassung!L989),\"\",Datenerfassung!L989)","v":""},{"$f":"IF(ISBLANK(Datenerfassung!F989),\"\",Datenerfassung!F989)","v":""},{"$f":"IF(ISBLANK(Datenerfassung!D989),IF(COUNTBLANK(A979:H979)+COUNTBLANK(J979:O979)=14,\"\",\"- ohne Titel -\"),Datenerfassung!D989)","v":""},{"$f":"IF(ISBLANK(Datenerfassung!E989),\"\",Datenerfassung!E989)","v":""},"",{"$f":"IF(ISBLANK(Datenerfassung!O989),\"\",Datenerfassung!O989)","v":""},{"$f":"IF(ISBLANK(Datenerfassung!G989),\"\",Datenerfassung!G989)","v":""},{"$f":"IF(ISBLANK(Datenerfassung!M989),\"\",Datenerfassung!M989)","v":""},{"$f":"IF(ISBLANK(Datenerfassung!H989),\"\",Datenerfassung!H989)","v":""}]
[{"$f":"IF(ISBLANK(Datenerfassung!A990),\"\",Datenerfassung!A990)","v":""},{"$f":"IF(ISBLANK(Datenerfassung!B990),\"\",Datenerfassung!B990)","v":""},{"$f":"IF(ISBLANK(Datenerfassung!C990),\"\",Datenerfassung!C990)","v":""},{"$f":"IF(ISBLANK(Datenerfassung!I990),\"\",Datenerfassung!I990)","v":""},{"$f":"IF(ISBLANK(Datenerfassung!J990),\"\",Datenerfassung!J990)","v":""},"",{"$f":"IF(ISBLANK(Datenerfassung!L990),\"\",Datenerfassung!L990)","v":""},{"$f":"IF(ISBLANK(Datenerfassung!F990),\"\",Datenerfassung!F990)","v":""},{"$f":"IF(ISBLANK(Datenerfassung!D990),IF(COUNTBLANK(A980:H980)+COUNTBLANK(J980:O980)=14,\"\",\"- ohne Titel -\"),Datenerfassung!D990)","v":""},{"$f":"IF(ISBLANK(Datenerfassung!E990),\"\",Datenerfassung!E990)","v":""},"",{"$f":"IF(ISBLANK(Datenerfassung!O990),\"\",Datenerfassung!O990)","v":""},{"$f":"IF(ISBLANK(Datenerfassung!G990),\"\",Datenerfassung!G990)","v":""},{"$f":"IF(ISBLANK(Datenerfassung!M990),\"\",Datenerfassung!M990)","v":""},{"$f":"IF(ISBLANK(Datenerfassung!H990),\"\",Datenerfassung!H990)","v":""}]
[{"$f":"IF(ISBLANK(Datenerfassung!A991),\"\",Datenerfassung!A991)","v":""},{"$f":"IF(ISBLANK(Datenerfassung!B991),\"\",Datenerfassung!B991)","v":""},{"$f":"IF(ISBLANK(Datenerfassung!C991),\"\",Datenerfassung!C991)","v":""},{"$f":"IF(ISBLANK(Datenerfassung!I991),\"\",Datenerfassung!I991)","v":""},{"$f":"IF(ISBLANK(Datenerfassung!J991),\"\",Datenerfassung!J991)","v":""},"",{"$f":"IF(ISBLANK(Datenerfassung!L991),\"\",Datenerfassung!L991)","v":""},{"$f":"IF(ISBLANK(Datenerfassung!F991),\"\",Datenerfassung!F991)","v":""},{"$f":"IF(ISBLANK(Datenerfassung!D991),IF(COUNTBLANK(A981:H981)+COUNTBLANK(J981:O981)=14,\"\",\"- ohne Titel -\"),Datenerfassung!D991)","v":""},{"$f":"IF(ISBLANK(Datenerfassung!E991),\"\",Datenerfassung!E991)","v":""},"",{"$f":"IF(ISBLANK(Datenerfassung!O991),\"\",Datenerfassung!O991)","v":""},{"$f":"IF(ISBLANK(Datenerfassung!G991),\"\",Datenerfassung!G991)","v":""},{"$f":"IF(ISBLANK(Datenerfassung!M991),\"\",Datenerfassung!M991)","v":""},{"$f":"IF(ISBLANK(Datenerfassung!H991),\"\",Datenerfassung!H991)","v":""}]
[{"$f":"IF(ISBLANK(Datenerfassung!A992),\"\",Datenerfassung!A992)","v":""},{"$f":"IF(ISBLANK(Datenerfassung!B992),\"\",Datenerfassung!B992)","v":""},{"$f":"IF(ISBLANK(Datenerfassung!C992),\"\",Datenerfassung!C992)","v":""},{"$f":"IF(ISBLANK(Datenerfassung!I992),\"\",Datenerfassung!I992)","v":""},{"$f":"IF(ISBLANK(Datenerfassung!J992),\"\",Datenerfassung!J992)","v":""},"",{"$f":"IF(ISBLANK(Datenerfassung!L992),\"\",Datenerfassung!L992)","v":""},{"$f":"IF(ISBLANK(Datenerfassung!F992),\"\",Datenerfassung!F992)","v":""},{"$f":"IF(ISBLANK(Datenerfassung!D992),IF(COUNTBLANK(A982:H982)+COUNTBLANK(J982:O982)=14,\"\",\"- ohne Titel -\"),Datenerfassung!D992)","v":""},{"$f":"IF(ISBLANK(Datenerfassung!E992),\"\",Datenerfassung!E992)","v":""},"",{"$f":"IF(ISBLANK(Datenerfassung!O992),\"\",Datenerfassung!O992)","v":""},{"$f":"IF(ISBLANK(Datenerfassung!G992),\"\",Datenerfassung!G992)","v":""},{"$f":"IF(ISBLANK(Datenerfassung!M992),\"\",Datenerfassung!M992)","v":""},{"$f":"IF(ISBLANK(Datenerfassung!H992),\"\",Datenerfassung!H992)","v":""}]
[{"$f":"IF(ISBLANK(Datenerfassung!A993),\"\",Datenerfassung!A993)","v":""},{"$f":"IF(ISBLANK(Datenerfassung!B993),\"\",Datenerfassung!B993)","v":""},{"$f":"IF(ISBLANK(Datenerfassung!C993),\"\",Datenerfassung!C993)","v":""},{"$f":"IF(ISBLANK(Datenerfassung!I993),\"\",Datenerfassung!I993)","v":""},{"$f":"IF(ISBLANK(Datenerfassung!J993),\"\",Datenerfassung!J993)","v":""},"",{"$f":"IF(ISBLANK(Datenerfassung!L993),\"\",Datenerfassung!L993)","v":""},{"$f":"IF(ISBLANK(Datenerfassung!F993),\"\",Datenerfassung!F993)","v":""},{"$f":"IF(ISBLANK(Datenerfassung!D993),IF(COUNTBLANK(A983:H983)+COUNTBLANK(J983:O983)=14,\"\",\"- ohne Titel -\"),Datenerfassung!D993)","v":""},{"$f":"IF(ISBLANK(Datenerfassung!E993),\"\",Datenerfassung!E993)","v":""},"",{"$f":"IF(ISBLANK(Datenerfassung!O993),\"\",Datenerfassung!O993)","v":""},{"$f":"IF(ISBLANK(Datenerfassung!G993),\"\",Datenerfassung!G993)","v":""},{"$f":"IF(ISBLANK(Datenerfassung!M993),\"\",Datenerfassung!M993)","v":""},{"$f":"IF(ISBLANK(Datenerfassung!H993),\"\",Datenerfassung!H993)","v":""}]
[{"$f":"IF(ISBLANK(Datenerfassung!A994),\"\",Datenerfassung!A994)","v":""},{"$f":"IF(ISBLANK(Datenerfassung!B994),\"\",Datenerfassung!B994)","v":""},{"$f":"IF(ISBLANK(Datenerfassung!C994),\"\",Datenerfassung!C994)","v":""},{"$f":"IF(ISBLANK(Datenerfassung!I994),\"\",Datenerfassung!I994)","v":""},{"$f":"IF(ISBLANK(Datenerfassung!J994),\"\",Datenerfassung!J994)","v":""},"",{"$f":"IF(ISBLANK(Datenerfassung!L994),\"\",Datenerfassung!L994)","v":""},{"$f":"IF(ISBLANK(Datenerfassung!F994),\"\",Datenerfassung!F994)","v":""},{"$f":"IF(ISBLANK(Datenerfassung!D994),IF(COUNTBLANK(A984:H984)+COUNTBLANK(J984:O984)=14,\"\",\"- ohne Titel -\"),Datenerfassung!D994)","v":""},{"$f":"IF(ISBLANK(Datenerfassung!E994),\"\",Datenerfassung!E994)","v":""},"",{"$f":"IF(ISBLANK(Datenerfassung!O994),\"\",Datenerfassung!O994)","v":""},{"$f":"IF(ISBLANK(Datenerfassung!G994),\"\",Datenerfassung!G994)","v":""},{"$f":"IF(ISBLANK(Datenerfassung!M994),\"\",Datenerfassung!M994)","v":""},{"$f":"IF(ISBLANK(Datenerfassung!H994),\"\",Datenerfassung!H994)","v":""}]
[{"$f":"IF(ISBLANK(Datenerfassung!A995),\"\",Datenerfassung!A995)","v":""},{"$f":"IF(ISBLANK(Datenerfassung!B995),\"\",Datenerfassung!B995)","v":""},{"$f":"IF(ISBLANK(Datenerfassung!C995),\"\",Datenerfassung!C995)","v":""},{"$f":"IF(ISBLANK(Datenerfassung!I995),\"\",Datenerfassung!I995)","v":""},{"$f":"IF(ISBLANK(Datenerfassung!J995),\"\",Datenerfassung!J995)","v":""},"",{"$f":"IF(ISBLANK(Datenerfassung!L995),\"\",Datenerfassung!L995)","v":""},{"$f":"IF(ISBLANK(Datenerfassung!F995),\"\",Datenerfassung!F995)","v":""},{"$f":"IF(ISBLANK(Datenerfassung!D995),IF(COUNTBLANK(A985:H985)+COUNTBLANK(J985:O985)=14,\"\",\"- ohne Titel -\"),Datenerfassung!D995)","v":""},{"$f":"IF(ISBLANK(Datenerfassung!E995),\"\",Datenerfassung!E995)","v":""},"",{"$f":"IF(ISBLANK(Datenerfassung!O995),\"\",Datenerfassung!O995)","v":""},{"$f":"IF(ISBLANK(Datenerfassung!G995),\"\",Datenerfassung!G995)","v":""},{"$f":"IF(ISBLANK(Datenerfassung!M995),\"\",Datenerfassung!M995)","v":""},{"$f":"IF(ISBLANK(Datenerfassung!H995),\"\",Datenerfassung!H995)","v":""}]
[{"$f":"IF(ISBLANK(Datenerfassung!A996),\"\",Datenerfassung!A996)","v":""},{"$f":"IF(ISBLANK(Datenerfassung!B996),\"\",Datenerfassung!B996)","v":""},{"$f":"IF(ISBLANK(Datenerfassung!C996),\"\",Datenerfassung!C996)","v":""},{"$f":"IF(ISBLANK(Datenerfassung!I996),\"\",Datenerfassung!I996)","v":""},{"$f":"IF(ISBLANK(Datenerfassung!J996),\"\",Datenerfassung!J996)","v":""},"",{"$f":"IF(ISBLANK(Datenerfassung!L996),\"\",Datenerfassung!L996)","v":""},{"$f":"IF(ISBLANK(Datenerfassung!F996),\"\",Datenerfassung!F996)","v":""},{"$f":"IF(ISBLANK(Datenerfassung!D996),IF(COUNTBLANK(A986:H986)+COUNTBLANK(J986:O986)=14,\"\",\"- ohne Titel -\"),Datenerfassung!D996)","v":""},{"$f":"IF(ISBLANK(Datenerfassung!E996),\"\",Datenerfassung!E996)","v":""},"",{"$f":"IF(ISBLANK(Datenerfassung!O996),\"\",Datenerfassung!O996)","v":""},{"$f":"IF(ISBLANK(Datenerfassung!G996),\"\",Datenerfassung!G996)","v":""},{"$f":"IF(ISBLANK(Datenerfassung!M996),\"\",Datenerfassung!M996)","v":""},{"$f":"IF(ISBLANK(Datenerfassung!H996),\"\",Datenerfassung!H996)","v":""}]
[{"$f":"IF(ISBLANK(Datenerfassung!A997),\"\",Datenerfassung!A997)","v":""},{"$f":"IF(ISBLANK(Datenerfassung!B997),\"\",Datenerfassung!B997)","v":""},{"$f":"IF(ISBLANK(Datenerfassung!C997),\"\",Datenerfassung!C997)","v":""},{"$f":"IF(ISBLANK(Datenerfassung!I997),\"\",Datenerfassung!I997)","v":""},{"$f":"IF(ISBLANK(Datenerfassung!J997),\"\",Datenerfassung!J997)","v":""},"",{"$f":"IF(ISBLANK(Datenerfassung!L997),\"\",Datenerfassung!L997)","v":""},{"$f":"IF(ISBLANK(Datenerfassung!F997),\"\",Datenerfassung!F997)","v":""},{"$f":"IF(ISBLANK(Datenerfassung!D997),IF(COUNTBLANK(A987:H987)+COUNTBLANK(J987:O987)=14,\"\",\"- ohne Titel -\"),Datenerfassung!D997)","v":""},{"$f":"IF(ISBLANK(Datenerfassung!E997),\"\",Datenerfassung!E997)","v":""},"",{"$f":"IF(ISBLANK(Datenerfassung!O997),\"\",Datenerfassung!O997)","v":""},{"$f":"IF(ISBLANK(Datenerfassung!G997),\"\",Datenerfassung!G997)","v":""},{"$f":"IF(ISBLANK(Datenerfassung!M997),\"\",Datenerfassung!M997)","v":""},{"$f":"IF(ISBLANK(Datenerfassung!H997),\"\",Datenerfassung!H997)","v":""}]
[{"$f":"IF(ISBLANK(Datenerfassung!A998),\"\",Datenerfassung!A998)","v":""},{"$f":"IF(ISBLANK(Datenerfassung!B998),\"\",Datenerfassung!B998)","v":""},{"$f":"IF(ISBLANK(Datenerfassung!C998),\"\",Datenerfassung!C998)","v":""},{"$f":"IF(ISBLANK(Datenerfassung!I998),\"\",Datenerfassung!I998)","v":""},{"$f":"IF(ISBLANK(Datenerfassung!J998),\"\",Datenerfassung!J998)","v":""},"",{"$f":"IF(ISBLANK(Datenerfassung!L998),\"\",Datenerfassung!L998)","v":""},{"$f":"IF(ISBLANK(Datenerfassung!F998),\"\",Datenerfassung!F998)","v":""},{"$f":"IF(ISBLANK(Datenerfassung!D998),IF(COUNTBLANK(A988:H988)+COUNTBLANK(J988:O988)=14,\"\",\"- ohne Titel -\"),Datenerfassung!D998)","v":""},{"$f":"IF(ISBLANK(Datenerfassung!E998),\"\",Datenerfassung!E998)","v":""},"",{"$f":"IF(ISBLANK(Datenerfassung!O998),\"\",Datenerfassung!O998)","v":""},{"$f":"IF(ISBLANK(Datenerfassung!G998),\"\",Datenerfassung!G998)","v":""},{"$f":"IF(ISBLANK(Datenerfassung!M998),\"\",Datenerfassung!M998)","v":""},{"$f":"IF(ISBLANK(Datenerfassung!H998),\"\",Datenerfassung!H998)","v":""}]
[{"$f":"IF(ISBLANK(Datenerfassung!A999),\"\",Datenerfassung!A999)","v":""},{"$f":"IF(ISBLANK(Datenerfassung!B999),\"\",Datenerfassung!B999)","v":""},{"$f":"IF(ISBLANK(Datenerfassung!C999),\"\",Datenerfassung!C999)","v":""},{"$f":"IF(ISBLANK(Datenerfassung!I999),\"\",Datenerfassung!I999)","v":""},{"$f":"IF(ISBLANK(Datenerfassung!J999),\"\",Datenerfassung!J999)","v":""},"",{"$f":"IF(ISBLANK(Datenerfassung!L999),\"\",Datenerfassung!L999)","v":""},{"$f":"IF(ISBLANK(Datenerfassung!F999),\"\",Datenerfassung!F999)","v":""},{"$f":"IF(ISBLANK(Datenerfassung!D999),IF(COUNTBLANK(A989:H989)+COUNTBLANK(J989:O989)=14,\"\",\"- ohne Titel -\"),Datenerfassung!D999)","v":""},{"$f":"IF(ISBLANK(Datenerfassung!E999),\"\",Datenerfassung!E999)","v":""},"",{"$f":"IF(ISBLANK(Datenerfassung!O999),\"\",Datenerfassung!O999)","v":""},{"$f":"IF(ISBLANK(Datenerfassung!G999),\"\",Datenerfassung!G999)","v":""},{"$f":"IF(ISBLANK(Datenerfassung!M999),\"\",Datenerfassung!M999)","v":""},{"$f":"IF(ISBLANK(Datenerfassung!H999),\"\",Datenerfassung!H999)","v":""}]
[{"$f":"IF(ISBLANK(Datenerfassung!A1000),\"\",Datenerfassung!A1000)","v":""},{"$f":"IF(ISBLANK(Datenerfassung!B1000),\"\",Datenerfassung!B1000)","v":""},{"$f":"IF(ISBLANK(Datenerfassung!C1000),\"\",Datenerfassung!C1000)","v":""},{"$f":"IF(ISBLANK(Datenerfassung!I1000),\"\",Datenerfassung!I1000)","v":""},{"$f":"IF(ISBLANK(Datenerfassung!J1000),\"\",Datenerfassung!J1000)","v":""},"",{"$f":"IF(ISBLANK(Datenerfassung!L1000),\"\",Datenerfassung!L1000)","v":""},{"$f":"IF(ISBLANK(Datenerfassung!F1000),\"\",Datenerfassung!F1000)","v":""},{"$f":"IF(ISBLANK(Datenerfassung!D1000),IF(COUNTBLANK(A990:H990)+COUNTBLANK(J990:O990)=14,\"\",\"- ohne Titel -\"),Datenerfassung!D1000)","v":""},{"$f":"IF(ISBLANK(Datenerfassung!E1000),\"\",Datenerfassung!E1000)","v":""},"",{"$f":"IF(ISBLANK(Datenerfassung!O1000),\"\",Datenerfassung!O1000)","v":""},{"$f":"IF(ISBLANK(Datenerfassung!G1000),\"\",Datenerfassung!G1000)","v":""},{"$f":"IF(ISBLANK(Datenerfassung!M1000),\"\",Datenerfassung!M1000)","v":""},{"$f":"IF(ISBLANK(Datenerfassung!H1000),\"\",Datenerfassung!H1000)","v":""}]
[{"$f":"IF(ISBLANK(Datenerfassung!A1001),\"\",Datenerfassung!A1001)","v":""},{"$f":"IF(ISBLANK(Datenerfassung!B1001),\"\",Datenerfassung!B1001)","v":""},{"$f":"IF(ISBLANK(Datenerfassung!C1001),\"\",Datenerfassung!C1001)","v":""},{"$f":"IF(ISBLANK(Datenerfassung!I1001),\"\",Datenerfassung!I1001)","v":""},{"$f":"IF(ISBLANK(Datenerfassung!J1001),\"\",Datenerfassung!J1001)","v":""},"",{"$f":"IF(ISBLANK(Datenerfassung!L1001),\"\",Datenerfassung!L1001)","v":""},{"$f":"IF(ISBLANK(Datenerfassung!F1001),\"\",Datenerfassung!F1001)","v":""},{"$f":"IF(ISBLANK(Datenerfassung!D1001),IF(COUNTBLANK(A991:H991)+COUNTBLANK(J991:O991)=14,\"\",\"- ohne Titel -\"),Datenerfassung!D1001)","v":""},{"$f":"IF(ISBLANK(Datenerfassung!E1001),\"\",Datenerfassung!E1001)","v":""},"",{"$f":"IF(ISBLANK(Datenerfassung!O1001),\"\",Datenerfassung!O1001)","v":""},{"$f":"IF(ISBLANK(Datenerfassung!G1001),\"\",Datenerfassung!G1001)","v":""},{"$f":"IF(ISBLANK(Datenerfassung!M1001),\"\",Datenerfassung!M1001)","v":""},{"$f":"IF(ISBLANK(Datenerfassung!H1001),\"\",Datenerfassung!H1001)","v":""}]
[{"$f":"IF(ISBLANK(Datenerfassung!A1002),\"\",Datenerfassung!A1002)","v":""},{"$f":"IF(ISBLANK(Datenerfassung!B1002),\"\",Datenerfassung!B1002)","v":""},{"$f":"IF(ISBLANK(Datenerfassung!C1002),\"\",Datenerfassung!C1002)","v":""},{"$f":"IF(ISBLANK(Datenerfassung!I1002),\"\",Datenerfassung!I1002)","v":""},{"$f":"IF(ISBLANK(Datenerfassung!J1002),\"\",Datenerfassung!J1002)","v":""},"",{"$f":"IF(ISBLANK(Datenerfassung!L1002),\"\",Datenerfassung!L1002)","v":""},{"$f":"IF(ISBLANK(Datenerfassung!F1002),\"\",Datenerfassung!F1002)","v":""},{"$f":"IF(ISBLANK(Datenerfassung!D1002),IF(COUNTBLANK(A992:H992)+COUNTBLANK(J992:O992)=14,\"\",\"- ohne Titel -\"),Datenerfassung!D1002)","v":""},{"$f":"IF(ISBLANK(Datenerfassung!E1002),\"\",Datenerfassung!E1002)","v":""},"",{"$f":"IF(ISBLANK(Datenerfassung!O1002),\"\",Datenerfassung!O1002)","v":""},{"$f":"IF(ISBLANK(Datenerfassung!G1002),\"\",Datenerfassung!G1002)","v":""},{"$f":"IF(ISBLANK(Datenerfassung!M1002),\"\",Datenerfassung!M1002)","v":""},{"$f":"IF(ISBLANK(Datenerfassung!H1002),\"\",Datenerfassung!H1002)","v":""}]
[{"$f":"IF(ISBLANK(Datenerfassung!A1003),\"\",Datenerfassung!A1003)","v":""},{"$f":"IF(ISBLANK(Datenerfassung!B1003),\"\",Datenerfassung!B1003)","v":""},{"$f":"IF(ISBLANK(Datenerfassung!C1003),\"\",Datenerfassung!C1003)","v":""},{"$f":"IF(ISBLANK(Datenerfassung!I1003),\"\",Datenerfassung!I1003)","v":""},{"$f":"IF(ISBLANK(Datenerfassung!J1003),\"\",Datenerfassung!J1003)","v":""},"",{"$f":"IF(ISBLANK(Datenerfassung!L1003),\"\",Datenerfassung!L1003)","v":""},{"$f":"IF(ISBLANK(Datenerfassung!F1003),\"\",Datenerfassung!F1003)","v":""},{"$f":"IF(ISBLANK(Datenerfassung!D1003),IF(COUNTBLANK(A993:H993)+COUNTBLANK(J993:O993)=14,\"\",\"- ohne Titel -\"),Datenerfassung!D1003)","v":""},{"$f":"IF(ISBLANK(Datenerfassung!E1003),\"\",Datenerfassung!E1003)","v":""},"",{"$f":"IF(ISBLANK(Datenerfassung!O1003),\"\",Datenerfassung!O1003)","v":""},{"$f":"IF(ISBLANK(Datenerfassung!G1003),\"\",Datenerfassung!G1003)","v":""},{"$f":"IF(ISBLANK(Datenerfassung!M1003),\"\",Datenerfassung!M1003)","v":""},{"$f":"IF(ISBLANK(Datenerfassung!H1003),\"\",Datenerfassung!H1003)","v":""}]
[{"$f":"IF(ISBLANK(Datenerfassung!A1004),\"\",Datenerfassung!A1004)","v":""},{"$f":"IF(ISBLANK(Datenerfassung!B1004),\"\",Datenerfassung!B1004)","v":""},{"$f":"IF(ISBLANK(Datenerfassung!C1004),\"\",Datenerfassung!C1004)","v":""},{"$f":"IF(ISBLANK(Datenerfassung!I1004),\"\",Datenerfassung!I1004)","v":""},{"$f":"IF(ISBLANK(Datenerfassung!J1004),\"\",Datenerfassung!J1004)","v":""},"",{"$f":"IF(ISBLANK(Datenerfassung!L1004),\"\",Datenerfassung!L1004)","v":""},{"$f":"IF(ISBLANK(Datenerfassung!F1004),\"\",Datenerfassung!F1004)","v":""},{"$f":"IF(ISBLANK(Datenerfassung!D1004),IF(COUNTBLANK(A994:H994)+COUNTBLANK(J994:O994)=14,\"\",\"- ohne Titel -\"),Datenerfassung!D1004)","v":""},{"$f":"IF(ISBLANK(Datenerfassung!E1004),\"\",Datenerfassung!E1004)","v":""},"",{"$f":"IF(ISBLANK(Datenerfassung!O1004),\"\",Datenerfassung!O1004)","v":""},{"$f":"IF(ISBLANK(Datenerfassung!G1004),\"\",Datenerfassung!G1004)","v":""},{"$f":"IF(ISBLANK(Datenerfassung!M1004),\"\",Datenerfassung!M1004)","v":""},{"$f":"IF(ISBLANK(Datenerfassung!H1004),\"\",Datenerfassung!H1004)","v":""}]
[{"$f":"IF(ISBLANK(Datenerfassung!A1005),\"\",Datenerfassung!A1005)","v":""},{"$f":"IF(ISBLANK(Datenerfassung!B1005),\"\",Datenerfassung!B1005)","v":""},{"$f":"IF(ISBLANK(Datenerfassung!C1005),\"\",Datenerfassung!C1005)","v":""},{"$f":"IF(ISBLANK(Datenerfassung!I1005),\"\",Datenerfassung!I1005)","v":""},{"$f":"IF(ISBLANK(Datenerfassung!J1005),\"\",Datenerfassung!J1005)","v":""},"",{"$f":"IF(ISBLANK(Datenerfassung!L1005),\"\",Datenerfassung!L1005)","v":""},{"$f":"IF(ISBLANK(Datenerfassung!F1005),\"\",Datenerfassung!F1005)","v":""},{"$f":"IF(ISBLANK(Datenerfassung!D1005),IF(COUNTBLANK(A995:H995)+COUNTBLANK(J995:O995)=14,\"\",\"- ohne Titel -\"),Datenerfassung!D1005)","v":""},{"$f":"IF(ISBLANK(Datenerfassung!E1005),\"\",Datenerfassung!E1005)","v":""},"",{"$f":"IF(ISBLANK(Datenerfassung!O1005),\"\",Datenerfassung!O1005)","v":""},{"$f":"IF(ISBLANK(Datenerfassung!G1005),\"\",Datenerfassung!G1005)","v":""},{"$f":"IF(ISBLANK(Datenerfassung!M1005),\"\",Datenerfassung!M1005)","v":""},{"$f":"IF(ISBLANK(Datenerfassung!H1005),\"\",Datenerfassung!H1005)","v":""}]
[{"$f":"IF(ISBLANK(Datenerfassung!A1006),\"\",Datenerfassung!A1006)","v":""},{"$f":"IF(ISBLANK(Datenerfassung!B1006),\"\",Datenerfassung!B1006)","v":""},{"$f":"IF(ISBLANK(Datenerfassung!C1006),\"\",Datenerfassung!C1006)","v":""},{"$f":"IF(ISBLANK(Datenerfassung!I1006),\"\",Datenerfassung!I1006)","v":""},{"$f":"IF(ISBLANK(Datenerfassung!J1006),\"\",Datenerfassung!J1006)","v":""},"",{"$f":"IF(ISBLANK(Datenerfassung!L1006),\"\",Datenerfassung!L1006)","v":""},{"$f":"IF(ISBLANK(Datenerfassung!F1006),\"\",Datenerfassung!F1006)","v":""},{"$f":"IF(ISBLANK(Datenerfassung!D1006),IF(COUNTBLANK(A996:H996)+COUNTBLANK(J996:O996)=14,\"\",\"- ohne Titel -\"),Datenerfassung!D1006)","v":""},{"$f":"IF(ISBLANK(Datenerfassung!E1006),\"\",Datenerfassung!E1006)","v":""},"",{"$f":"IF(ISBLANK(Datenerfassung!O1006),\"\",Datenerfassung!O1006)","v":""},{"$f":"IF(ISBLANK(Datenerfassung!G1006),\"\",Datenerfassung!G1006)","v":""},{"$f":"IF(ISBLANK(Datenerfassung!M1006),\"\",Datenerfassung!M1006)","v":""},{"$f":"IF(ISBLANK(Datenerfassung!H1006),\"\",Datenerfassung!H1006)","v":""}]
[{"$f":"IF(ISBLANK(Datenerfassung!A1007),\"\",Datenerfassung!A1007)","v":""},{"$f":"IF(ISBLANK(Datenerfassung!B1007),\"\",Datenerfassung!B1007)","v":""},{"$f":"IF(ISBLANK(Datenerfassung!C1007),\"\",Datenerfassung!C1007)","v":""},{"$f":"IF(ISBLANK(Datenerfassung!I1007),\"\",Datenerfassung!I1007)","v":""},{"$f":"IF(ISBLANK(Datenerfassung!J1007),\"\",Datenerfassung!J1007)","v":""},"",{"$f":"IF(ISBLANK(Datenerfassung!L1007),\"\",Datenerfassung!L1007)","v":""},{"$f":"IF(ISBLANK(Datenerfassung!F1007),\"\",Datenerfassung!F1007)","v":""},{"$f":"IF(ISBLANK(Datenerfassung!D1007),IF(COUNTBLANK(A997:H997)+COUNTBLANK(J997:O997)=14,\"\",\"- ohne Titel -\"),Datenerfassung!D1007)","v":""},{"$f":"IF(ISBLANK(Datenerfassung!E1007),\"\",Datenerfassung!E1007)","v":""},"",{"$f":"IF(ISBLANK(Datenerfassung!O1007),\"\",Datenerfassung!O1007)","v":""},{"$f":"IF(ISBLANK(Datenerfassung!G1007),\"\",Datenerfassung!G1007)","v":""},{"$f":"IF(ISBLANK(Datenerfassung!M1007),\"\",Datenerfassung!M1007)","v":""},{"$f":"IF(ISBLANK(Datenerfassung!H1007),\"\",Datenerfassung!H1007)","v":""}]
[{"$f":"IF(ISBLANK(Datenerfassung!A1008),\"\",Datenerfassung!A1008)","v":""},{"$f":"IF(ISBLANK(Datenerfassung!B1008),\"\",Datenerfassung!B1008)","v":""},{"$f":"IF(ISBLANK(Datenerfassung!C1008),\"\",Datenerfassung!C1008)","v":""},{"$f":"IF(ISBLANK(Datenerfassung!I1008),\"\",Datenerfassung!I1008)","v":""},{"$f":"IF(ISBLANK(Datenerfassung!J1008),\"\",Datenerfassung!J1008)","v":""},"",{"$f":"IF(ISBLANK(Datenerfassung!L1008),\"\",Datenerfassung!L1008)","v":""},{"$f":"IF(ISBLANK(Datenerfassung!F1008),\"\",Datenerfassung!F1008)","v":""},{"$f":"IF(ISBLANK(Datenerfassung!D1008),IF(COUNTBLANK(A998:H998)+COUNTBLANK(J998:O998)=14,\"\",\"- ohne Titel -\"),Datenerfassung!D1008)","v":""},{"$f":"IF(ISBLANK(Datenerfassung!E1008),\"\",Datenerfassung!E1008)","v":""},"",{"$f":"IF(ISBLANK(Datenerfassung!O1008),\"\",Datenerfassung!O1008)","v":""},{"$f":"IF(ISBLANK(Datenerfassung!G1008),\"\",Datenerfassung!G1008)","v":""},{"$f":"IF(ISBLANK(Datenerfassung!M1008),\"\",Datenerfassung!M1008)","v":""},{"$f":"IF(ISBLANK(Datenerfassung!H1008),\"\",Datenerfassung!H1008)","v":""}]
[{"$f":"IF(ISBLANK(Datenerfassung!A1009),\"\",Datenerfassung!A1009)","v":""},{"$f":"IF(ISBLANK(Datenerfassung!B1009),\"\",Datenerfassung!B1009)","v":""},{"$f":"IF(ISBLANK(Datenerfassung!C1009),\"\",Datenerfassung!C1009)","v":""},{"$f":"IF(ISBLANK(Datenerfassung!I1009),\"\",Datenerfassung!I1009)","v":""},{"$f":"IF(ISBLANK(Datenerfassung!J1009),\"\",Datenerfassung!J1009)","v":""},"",{"$f":"IF(ISBLANK(Datenerfassung!L1009),\"\",Datenerfassung!L1009)","v":""},{"$f":"IF(ISBLANK(Datenerfassung!F1009),\"\",Datenerfassung!F1009)","v":""},{"$f":"IF(ISBLANK(Datenerfassung!D1009),IF(COUNTBLANK(A999:H999)+COUNTBLANK(J999:O999)=14,\"\",\"- ohne Titel -\"),Datenerfassung!D1009)","v":""},{"$f":"IF(ISBLANK(Datenerfassung!E1009),\"\",Datenerfassung!E1009)","v":""},"",{"$f":"IF(ISBLANK(Datenerfassung!O1009),\"\",Datenerfassung!O1009)","v":""},{"$f":"IF(ISBLANK(Datenerfassung!G1009),\"\",Datenerfassung!G1009)","v":""},{"$f":"IF(ISBLANK(Datenerfassung!M1009),\"\",Datenerfassung!M1009)","v":""},{"$f":"IF(ISBLANK(Datenerfassung!H1009),\"\",Datenerfassung!H1009)","v":""}]
[{"$f":"IF(ISBLANK(Datenerfassung!A1010),\"\",Datenerfassung!A1010)","v":""},{"$f":"IF(ISBLANK(Datenerfassung!B1010),\"\",Datenerfassung!B1010)","v":""},{"$f":"IF(ISBLANK(Datenerfassung!C1010),\"\",Datenerfassung!C1010)","v":""},{"$f":"IF(ISBLANK(Datenerfassung!I1010),\"\",Datenerfassung!I1010)","v":""},{"$f":"IF(ISBLANK(Datenerfassung!J1010),\"\",Datenerfassung!J1010)","v":""},"",{"$f":"IF(ISBLANK(Datenerfassung!L1010),\"\",Datenerfassung!L1010)","v":""},{"$f":"IF(ISBLANK(Datenerfassung!F1010),\"\",Datenerfassung!F1010)","v":""},{"$f":"IF(ISBLANK(Datenerfassung!D1010),IF(COUNTBLANK(A1000:H1000)+COUNTBLANK(J1000:O1000)=14,\"\",\"- ohne Titel -\"),Datenerfassung!D1010)","v":""},{"$f":"IF(ISBLANK(Datenerfassung!E1010),\"\",Datenerfassung!E1010)","v":""},"",{"$f":"IF(ISBLANK(Datenerfassung!O1010),\"\",Datenerfassung!O1010)","v":""},{"$f":"IF(ISBLANK(Datenerfassung!G1010),\"\",Datenerfassung!G1010)","v":""},{"$f":"IF(ISBLANK(Datenerfassung!M1010),\"\",Datenerfassung!M1010)","v":""},{"$f":"IF(ISBLANK(Datenerfassung!H1010),\"\",Datenerfassung!H1010)","v":""}]

{"sheet":"Datenerfassung","index":1,"n_rows":1010,"n_cols":15,"rows_kept":1010,"cut":false,"hidden":false,"merged":[[8,0,8,3],[0,0,0,3],[2,6,2,9],[4,6,4,9],[2,0,2,3],[4,0,4,3],[6,0,6,3]]}
["Abgabeliste Sachakten"]
[]
["Abgebende Stelle/Strukturbereich:",null,null,null,null,null,"Abgebende Stelle"]
[]
["Sachbearbeiter:",null,null,null,null,null,"Sachbearbeiter"]
[]
["Abgabedatum:",null,null,null,null,null,"(TT.MM.JJJJ)"]
[]
["Druckdatum:",null,null,null,null,null,{"$f":"NOW()","v":"2021-07-05T14:01:18.410"}]
[]
["ltd. Nummer","ZwA-Nummer","Signatur","Aktentitel","Vorname","Band","Akteninhalt","Index / Querverweis","zeitlicher Umfang von  (TT.MM.JJJJ)","zeitlicher Umfang bis (TT.MM.JJJJ)","Laufzeit\n(wird berechnet)","Frist\n(Jahre)","nach Fristende\nD = dauerhaft","Stichtag\n(wird berechnet)","Bewertungsvorschlag\nA = Archivierung\nK = Kassation"]
[null,null,null,null,null,null,null,null,null,null,null,null,null,{"$f":"IF(OR(ISBLANK(L12),ISBLANK(J12)),\"\",\"01.01.\"&RIGHT(J12,4)+L12+1)","v":""}]
[null,null,null,null,null,null,null,null,null,null,{"$f":"IF(I13=\"\",\"\",IF(J13=\"\",I13,I13&\" - \"&J13))","v":""},null,null,{"$f":"IF(OR(ISBLANK(L13),ISBLANK(J13)),\"\",\"01.01.\"&RIGHT(J13,4)+L13+1)","v":""}]
[null,null,null,null,null,null,null,null,null,null,"",null,null,""]
[null,null,null,null,null,null,null,null,null,null,"",null,null,""]
[null,null,null,null,null,null,null,null,null,null,"",null,null,""]
[null,null,null,null,null,null,null,null,null,null,"",null,null,""]
[null,null,null,null,null,null,null,null,null,null,"",null,null,""]
[null,null,null,null,null,null,null,null,null,null,"",null,null,""]
[null,null,null,null,null,null,null,null,null,null,"",null,null,""]
[null,null,null,null,null,null,null,null,null,null,"",null,null,""]
[null,null,null,null,null,null,null,null,null,null,"",null,null,""]
[null,null,null,null,null,null,null,null,null,null,"",null,null,""]
[null,null,null,null,null,null,null,null,null,null,"",null,null,""]
[null,null,null,null,null,null,null,null,null,null,"",null,null,""]
[null,null,null,null,null,null,null,null,null,null,"",null,null,""]
[null,null,null,null,null,null,null,null,null,null,"",null,null,""]
[null,null,null,null,null,null,null,null,null,null,{"$f":"IF(#REF!=\"\",\"\",IF(J28=\"\",#REF!,#REF!&\" - \"&J28))","v":{"$error":"#REF!"}},null,null,""]
[null,null,null,null,null,null,null,null,null,null,"",null,null,""]
[null,null,null,null,null,null,null,null,null,null,"",null,null,""]
[null,null,null,null,null,null,null,null,null,null,"",null,null,""]
[null,null,null,null,null,null,null,null,null,null,"",null,null,""]
[null,null,null,null,null,null,null,null,null,null,"",null,null,""]
[null,null,null,null,null,null,null,null,null,null,"",null,null,""]
[null,null,null,null,null,null,null,null,null,null,"",null,null,""]
[null,null,null,null,null,null,null,null,null,null,"",null,null,""]
[null,null,null,null,null,null,null,null,null,null,"",null,null,""]
[null,null,null,null,null,null,null,null,null,null,"",null,null,""]
[null,null,null,null,null,null,null,null,null,null,"",null,null,""]
[null,null,null,null,null,null,null,null,null,null,"",null,null,""]
[null,null,null,null,null,null,null,null,null,null,"",null,null,""]
[null,null,null,null,null,null,null,null,null,null,"",null,null,""]
[null,null,null,null,null,null,null,null,null,null,"",null,null,""]
[null,null,null,null,null,null,null,null,null,null,"",null,null,""]
[null,null,null,null,null,null,null,null,null,null,"",null,null,""]
[null,null,null,null,null,null,null,null,null,null,"",null,null,""]
[null,null,null,null,null,null,null,null,null,null,"",null,null,""]
[null,null,null,null,null,null,null,null,null,null,"",null,null,""]
[null,null,null,null,null,null,null,null,null,null,"",null,null,""]
[null,null,null,null,null,null,null,null,null,null,"",null,null,""]
[null,null,null,null,null,null,null,null,null,null,"",null,null,""]
[null,null,null,null,null,null,null,null,null,null,"",null,null,""]
[null,null,null,null,null,null,null,null,null,null,"",null,null,""]
[null,null,null,null,null,null,null,null,null,null,"",null,null,""]
[null,null,null,null,null,null,null,null,null,null,"",null,null,""]
[null,null,null,null,null,null,null,null,null,null,"",null,null,""]
[null,null,null,null,null,null,null,null,null,null,"",null,null,""]
[null,null,null,null,null,null,null,null,null,null,"",null,null,""]
[null,null,null,null,null,null,null,null,null,null,"",null,null,""]
[null,null,null,null,null,null,null,null,null,null,"",null,null,""]
[null,null,null,null,null,null,null,null,null,null,"",null,null,""]
[null,null,null,null,null,null,null,null,null,null,"",null,null,""]
[null,null,null,null,null,null,null,null,null,null,"",null,null,""]
[null,null,null,null,null,null,null,null,null,null,"",null,null,""]
[null,null,null,null,null,null,null,null,null,null,"",null,null,""]
[null,null,null,null,null,null,null,null,null,null,"",null,null,""]
[null,null,null,null,null,null,null,null,null,null,"",null,null,""]
[null,null,null,null,null,null,null,null,null,null,"",null,null,""]
[null,null,null,null,null,null,null,null,null,null,"",null,null,""]
[null,null,null,null,null,null,null,null,null,null,"",null,null,""]
[null,null,null,null,null,null,null,null,null,null,"",null,null,""]
[null,null,null,null,null,null,null,null,null,null,"",null,null,""]
[null,null,null,null,null,null,null,null,null,null,"",null,null,""]
[null,null,null,null,null,null,null,null,null,null,"",null,null,""]
[null,null,null,null,null,null,null,null,null,null,"",null,null,""]
[null,null,null,null,null,null,null,null,null,null,{"$f":"IF(I76=\"\",\"\",IF(J76=\"\",I76,I76&\" - \"&J76))","v":""},null,null,""]
[null,null,null,null,null,null,null,null,null,null,"",null,null,{"$f":"IF(OR(ISBLANK(L77),ISBLANK(J77)),\"\",\"01.01.\"&RIGHT(J77,4)+L77+1)","v":""}]
[null,null,null,null,null,null,null,null,null,null,"",null,null,""]
[null,null,null,null,null,null,null,null,null,null,"",null,null,""]
[null,null,null,null,null,null,null,null,null,null,"",null,null,""]
[null,null,null,null,null,null,null,null,null,null,"",null,null,""]
[null,null,null,null,null,null,null,null,null,null,"",null,null,""]
[null,null,null,null,null,null,null,null,null,null,"",null,null,""]
[null,null,null,null,null,null,null,null,null,null,"",null,null,""]
[null,null,null,null,null,null,null,null,null,null,"",null,null,""]
[null,null,null,null,null,null,null,null,null,null,"",null,null,""]
[null,null,null,null,null,null,null,null,null,null,"",null,null,""]
[null,null,null,null,null,null,null,null,null,null,"",null,null,""]
[null,null,null,null,null,null,null,null,null,null,"",null,null,""]
[null,null,null,null,null,null,null,null,null,null,"",null,null,""]
[null,null,null,null,null,null,null,null,null,null,"",null,null,""]
[null,null,null,null,null,null,null,null,null,null,"",null,null,""]
[null,null,null,null,null,null,null,null,null,null,"",null,null,""]
[null,null,null,null,null,null,null,null,null,null,"",null,null,""]
[null,null,null,null,null,null,null,null,null,null,"",null,null,""]
[null,null,null,null,null,null,null,null,null,null,"",null,null,""]
[null,null,null,null,null,null,null,null,null,null,"",null,null,""]
[null,null,null,null,null,null,null,null,null,null,"",null,null,""]
[null,null,null,null,null,null,null,null,null,null,"",null,null,""]
[null,null,null,null,null,null,null,null,null,null,"",null,null,""]
[null,null,null,null,null,null,null,null,null,null,"",null,null,""]
[null,null,null,null,null,null,null,null,null,null,"",null,null,""]
[null,null,null,null,null,null,null,null,null,null,"",null,null,""]
[null,null,null,null,null,null,null,null,null,null,"",null,null,""]
[null,null,null,null,null,null,null,null,null,null,"",null,null,""]
[null,null,null,null,null,null,null,null,null,null,"",null,null,""]
[null,null,null,null,null,null,null,null,null,null,"",null,null,""]
[null,null,null,null,null,null,null,null,null,null,"",null,null,""]
[null,null,null,null,null,null,null,null,null,null,"",null,null,""]
[null,null,null,null,null,null,null,null,null,null,"",null,null,""]
[null,null,null,null,null,null,null,null,null,null,"",null,null,""]
[null,null,null,null,null,null,null,null,null,null,"",null,null,""]
[null,null,null,null,null,null,null,null,null,null,"",null,null,""]
[null,null,null,null,null,null,null,null,null,null,"",null,null,""]
[null,null,null,null,null,null,null,null,null,null,"",null,null,""]
[null,null,null,null,null,null,null,null,null,null,"",null,null,""]
[null,null,null,null,null,null,null,null,null,null,"",null,null,""]
[null,null,null,null,null,null,null,null,null,null,"",null,null,""]
[null,null,null,null,null,null,null,null,null,null,"",null,null,""]
[null,null,null,null,null,null,null,null,null,null,"",null,null,""]
[null,null,null,null,null,null,null,null,null,null,"",null,null,""]
[null,null,null,null,null,null,null,null,null,null,"",null,null,""]
[null,null,null,null,null,null,null,null,null,null,"",null,null,""]
[null,null,null,null,null,null,null,null,null,null,"",null,null,""]
[null,null,null,null,null,null,null,null,null,null,"",null,null,""]
[null,null,null,null,null,null,null,null,null,null,"",null,null,""]
[null,null,null,null,null,null,null,null,null,null,"",null,null,""]
[null,null,null,null,null,null,null,null,null,null,"",null,null,""]
[null,null,null,null,null,null,null,null,null,null,"",null,null,""]
[null,null,null,null,null,null,null,null,null,null,"",null,null,""]
[null,null,null,null,null,null,null,null,null,null,"",null,null,""]
[null,null,null,null,null,null,null,null,null,null,"",null,null,""]
[null,null,null,null,null,null,null,null,null,null,"",null,null,""]
[null,null,null,null,null,null,null,null,null,null,"",null,null,""]
[null,null,null,null,null,null,null,null,null,null,"",null,null,""]
[null,null,null,null,null,null,null,null,null,null,"",null,null,""]
[null,null,null,null,null,null,null,null,null,null,"",null,null,""]
[null,null,null,null,null,null,null,null,null,null,"",null,null,""]
[null,null,null,null,null,null,null,null,null,null,"",null,null,""]
[null,null,null,null,null,null,null,null,null,null,{"$f":"IF(I140=\"\",\"\",IF(J140=\"\",I140,I140&\" - \"&J140))","v":""},null,null,""]
[null,null,null,null,null,null,null,null,null,null,"",null,null,{"$f":"IF(OR(ISBLANK(L141),ISBLANK(J141)),\"\",\"01.01.\"&RIGHT(J141,4)+L141+1)","v":""}]
[null,null,null,null,null,null,null,null,null,null,"",null,null,""]
[null,null,null,null,null,null,null,null,null,null,"",null,null,""]
[null,null,null,null,null,null,null,null,null,null,"",null,null,""]
[null,null,null,null,null,null,null,null,null,null,"",null,null,""]
[null,null,null,null,null,null,null,null,null,null,"",null,null,""]
[null,null,null,null,null,null,null,null,null,null,"",null,null,""]
[null,null,null,null,null,null,null,null,null,null,"",null,null,""]
[null,null,null,null,null,null,null,null,null,null,"",null,null,""]
[null,null,null,null,null,null,null,null,null,null,"",null,null,""]
[null,null,null,null,null,null,null,null,null,null,"",null,null,""]
[null,null,null,null,null,null,null,null,null,null,"",null,null,""]
[null,null,null,null,null,null,null,null,null,null,"",null,null,""]
[null,null,null,null,null,null,null,null,null,null,"",null,null,""]
[null,null,null,null,null,null,null,null,null,null,"",null,null,""]
[null,null,null,null,null,null,null,null,null,null,"",null,null,""]
[null,null,null,null,null,null,null,null,null,null,"",null,null,""]
[null,null,null,null,null,null,null,null,null,null,"",null,null,""]
[null,null,null,null,null,null,null,null,null,null,"",null,null,""]
[null,null,null,null,null,null,null,null,null,null,"",null,null,""]
[null,null,null,null,null,null,null,null,null,null,"",null,null,""]
[null,null,null,null,null,null,null,null,null,null,"",null,null,""]
[null,null,null,null,null,null,null,null,null,null,"",null,null,""]
[null,null,null,null,null,null,null,null,null,null,"",null,null,""]
[null,null,null,null,null,null,null,null,null,null,"",null,null,""]
[null,null,null,null,null,null,null,null,null,null,"",null,null,""]
[null,null,null,null,null,null,null,null,null,null,"",null,null,""]
[null,null,null,null,null,null,null,null,null,null,"",null,null,""]
[null,null,null,null,null,null,null,null,null,null,"",null,null,""]
[null,null,null,null,null,null,null,null,null,null,"",null,null,""]
[null,null,null,null,null,null,null,null,null,null,"",null,null,""]
[null,null,null,null,null,null,null,null,null,null,"",null,null,""]
[null,null,null,null,null,null,null,null,null,null,"",null,null,""]
[null,null,null,null,null,null,null,null,null,null,"",null,null,""]
[null,null,null,null,null,null,null,null,null,null,"",null,null,""]
[null,null,null,null,null,null,null,null,null,null,"",null,null,""]
[null,null,null,null,null,null,null,null,null,null,"",null,null,""]
[null,null,null,null,null,null,null,null,null,null,"",null,null,""]
[null,null,null,null,null,null,null,null,null,null,"",null,null,""]
[null,null,null,null,null,null,null,null,null,null,"",null,null,""]
[null,null,null,null,null,null,null,null,null,null,"",null,null,""]
[null,null,null,null,null,null,null,null,null,null,"",null,null,""]
[null,null,null,null,null,null,null,null,null,null,"",null,null,""]
[null,null,null,null,null,null,null,null,null,null,"",null,null,""]
[null,null,null,null,null,null,null,null,null,null,"",null,null,""]
[null,null,null,null,null,null,null,null,null,null,"",null,null,""]
[null,null,null,null,null,null,null,null,null,null,"",null,null,""]
[null,null,null,null,null,null,null,null,null,null,"",null,null,""]
[null,null,null,null,null,null,null,null,null,null,"",null,null,""]
[null,null,null,null,null,null,null,null,null,null,"",null,null,""]
[null,null,null,null,null,null,null,null,null,null,"",null,null,""]
[null,null,null,null,null,null,null,null,null,null,"",null,null,""]
[null,null,null,null,null,null,null,null,null,null,"",null,null,""]
[null,null,null,null,null,null,null,null,null,null,"",null,null,""]
[null,null,null,null,null,null,null,null,null,null,"",null,null,""]
[null,null,null,null,null,null,null,null,null,null,"",null,null,""]
[null,null,null,null,null,null,null,null,null,null,"",null,null,""]
[null,null,null,null,null,null,null,null,null,null,"",null,null,""]
[null,null,null,null,null,null,null,null,null,null,"",null,null,""]
[null,null,null,null,null,null,null,null,null,null,"",null,null,""]
[null,null,null,null,null,null,null,null,null,null,"",null,null,""]
[null,null,null,null,null,null,null,null,null,null,"",null,null,""]
[null,null,null,null,null,null,null,null,null,null,"",null,null,""]
[null,null,null,null,null,null,null,null,null,null,{"$f":"IF(I204=\"\",\"\",IF(J204=\"\",I204,I204&\" - \"&J204))","v":""},null,null,""]
[null,null,null,null,null,null,null,null,null,null,"",null,null,{"$f":"IF(OR(ISBLANK(L205),ISBLANK(J205)),\"\",\"01.01.\"&RIGHT(J205,4)+L205+1)","v":""}]
[null,null,null,null,null,null,null,null,null,null,"",null,null,""]
[null,null,null,null,null,null,null,null,null,null,"",null,null,""]
[null,null,null,null,null,null,null,null,null,null,"",null,null,""]
[null,null,null,null,null,null,null,null,null,null,"",null,null,""]
[null,null,null,null,null,null,null,null,null,null,"",null,null,""]
[null,null,null,null,null,null,null,null,null,null,"",null,null,""]
[null,null,null,null,null,null,null,null,null,null,"",null,null,""]
[null,null,null,null,null,null,null,null,null,null,"",null,null,""]
[null,null,null,null,null,null,null,null,null,null,"",null,null,""]
[null,null,null,null,null,null,null,null,null,null,"",null,null,""]
[null,null,null,null,null,null,null,null,null,null,"",null,null,""]
[null,null,null,null,null,null,null,null,null,null,"",null,null,""]
[null,null,null,null,null,null,null,null,null,null,"",null,null,""]
[null,null,null,null,null,null,null,null,null,null,"",null,null,""]
[null,null,null,null,null,null,null,null,null,null,"",null,null,""]
[null,null,null,null,null,null,null,null,null,null,"",null,null,""]
[null,null,null,null,null,null,null,null,null,null,"",null,null,""]
[null,null,null,null,null,null,null,null,null,null,"",null,null,""]
[null,null,null,null,null,null,null,null,null,null,"",null,null,""]
[null,null,null,null,null,null,null,null,null,null,"",null,null,""]
[null,null,null,null,null,null,null,null,null,null,"",null,null,""]
[null,null,null,null,null,null,null,null,null,null,"",null,null,""]
[null,null,null,null,null,null,null,null,null,null,"",null,null,""]
[null,null,null,null,null,null,null,null,null,null,"",null,null,""]
[null,null,null,null,null,null,null,null,null,null,"",null,null,""]
[null,null,null,null,null,null,null,null,null,null,"",null,null,""]
[null,null,null,null,null,null,null,null,null,null,"",null,null,""]
[null,null,null,null,null,null,null,null,null,null,"",null,null,""]
[null,null,null,null,null,null,null,null,null,null,"",null,null,""]
[null,null,null,null,null,null,null,null,null,null,"",null,null,""]
[null,null,null,null,null,null,null,null,null,null,"",null,null,""]
[null,null,null,null,null,null,null,null,null,null,"",null,null,""]
[null,null,null,null,null,null,null,null,null,null,"",null,null,""]
[null,null,null,null,null,null,null,null,null,null,"",null,null,""]
[null,null,null,null,null,null,null,null,null,null,"",null,null,""]
[null,null,null,null,null,null,null,null,null,null,"",null,null,""]
[null,null,null,null,null,null,null,null,null,null,"",null,null,""]
[null,null,null,null,null,null,null,null,null,null,"",null,null,""]
[null,null,null,null,null,null,null,null,null,null,"",null,null,""]
[null,null,null,null,null,null,null,null,null,null,"",null,null,""]
[null,null,null,null,null,null,null,null,null,null,"",null,null,""]
[null,null,null,null,null,null,null,null,null,null,"",null,null,""]
[null,null,null,null,null,null,null,null,null,null,"",null,null,""]
[null,null,null,null,null,null,null,null,null,null,"",null,null,""]
[null,null,null,null,null,null,null,null,null,null,"",null,null,""]
[null,null,null,null,null,null,null,null,null,null,"",null,null,""]
[null,null,null,null,null,null,null,null,null,null,"",null,null,""]
[null,null,null,null,null,null,null,null,null,null,"",null,null,""]
[null,null,null,null,null,null,null,null,null,null,"",null,null,""]
[null,null,null,null,null,null,null,null,null,null,"",null,null,""]
[null,null,null,null,null,null,null,null,null,null,"",null,null,""]
[null,null,null,null,null,null,null,null,null,null,"",null,null,""]
[null,null,null,null,null,null,null,null,null,null,"",null,null,""]
[null,null,null,null,null,null,null,null,null,null,"",null,null,""]
[null,null,null,null,null,null,null,null,null,null,"",null,null,""]
[null,null,null,null,null,null,null,null,null,null,"",null,null,""]
[null,null,null,null,null,null,null,null,null,null,"",null,null,""]
[null,null,null,null,null,null,null,null,null,null,"",null,null,""]
[null,null,null,null,null,null,null,null,null,null,"",null,null,""]
[null,null,null,null,null,null,null,null,null,null,"",null,null,""]
[null,null,null,null,null,null,null,null,null,null,"",null,null,""]
[null,null,null,null,null,null,null,null,null,null,"",null,null,""]
[null,null,null,null,null,null,null,null,null,null,{"$f":"IF(I268=\"\",\"\",IF(J268=\"\",I268,I268&\" - \"&J268))","v":""},null,null,""]
[null,null,null,null,null,null,null,null,null,null,"",null,null,{"$f":"IF(OR(ISBLANK(L269),ISBLANK(J269)),\"\",\"01.01.\"&RIGHT(J269,4)+L269+1)","v":""}]
[null,null,null,null,null,null,null,null,null,null,"",null,null,""]
[null,null,null,null,null,null,null,null,null,null,"",null,null,""]
[null,null,null,null,null,null,null,null,null,null,"",null,null,""]
[null,null,null,null,null,null,null,null,null,null,"",null,null,""]
[null,null,null,null,null,null,null,null,null,null,"",null,null,""]
[null,null,null,null,null,null,null,null,null,null,"",null,null,""]
[null,null,null,null,null,null,null,null,null,null,"",null,null,""]
[null,null,null,null,null,null,null,null,null,null,"",null,null,""]
[null,null,null,null,null,null,null,null,null,null,"",null,null,""]
[null,null,null,null,null,null,null,null,null,null,"",null,null,""]
[null,null,null,null,null,null,null,null,null,null,"",null,null,""]
[null,null,null,null,null,null,null,null,null,null,"",null,null,""]
[null,null,null,null,null,null,null,null,null,null,"",null,null,""]
[null,null,null,null,null,null,null,null,null,null,"",null,null,""]
[null,null,null,null,null,null,null,null,null,null,"",null,null,""]
[null,null,null,null,null,null,null,null,null,null,"",null,null,""]
[null,null,null,null,null,null,null,null,null,null,"",null,null,""]
[null,null,null,null,null,null,null,null,null,null,"",null,null,""]
[null,null,null,null,null,null,null,null,null,null,"",null,null,""]
[null,null,null,null,null,null,null,null,null,null,"",null,null,""]
[null,null,null,null,null,null,null,null,null,null,"",null,null,""]
[null,null,null,null,null,null,null,null,null,null,"",null,null,""]
[null,null,null,null,null,null,null,null,null,null,"",null,null,""]
[null,null,null,null,null,null,null,null,null,null,"",null,null,""]
[null,null,null,null,null,null,null,null,null,null,"",null,null,""]
[null,null,null,null,null,null,null,null,null,null,"",null,null,""]
[null,null,null,null,null,null,null,null,null,null,"",null,null,""]
[null,null,null,null,null,null,null,null,null,null,"",null,null,""]
[null,null,null,null,null,null,null,null,null,null,"",null,null,""]
[null,null,null,null,null,null,null,null,null,null,"",null,null,""]
[null,null,null,null,null,null,null,null,null,null,"",null,null,""]
[null,null,null,null,null,null,null,null,null,null,"",null,null,""]
[null,null,null,null,null,null,null,null,null,null,"",null,null,""]
[null,null,null,null,null,null,null,null,null,null,"",null,null,""]
[null,null,null,null,null,null,null,null,null,null,"",null,null,""]
[null,null,null,null,null,null,null,null,null,null,"",null,null,""]
[null,null,null,null,null,null,null,null,null,null,"",null,null,""]
[null,null,null,null,null,null,null,null,null,null,"",null,null,""]
[null,null,null,null,null,null,null,null,null,null,"",null,null,""]
[null,null,null,null,null,null,null,null,null,null,"",null,null,""]
[null,null,null,null,null,null,null,null,null,null,"",null,null,""]
[null,null,null,null,null,null,null,null,null,null,"",null,null,""]
[null,null,null,null,null,null,null,null,null,null,"",null,null,""]
[null,null,null,null,null,null,null,null,null,null,"",null,null,""]
[null,null,null,null,null,null,null,null,null,null,"",null,null,""]
[null,null,null,null,null,null,null,null,null,null,"",null,null,""]
[null,null,null,null,null,null,null,null,null,null,"",null,null,""]
[null,null,null,null,null,null,null,null,null,null,"",null,null,""]
[null,null,null,null,null,null,null,null,null,null,"",null,null,""]
[null,null,null,null,null,null,null,null,null,null,"",null,null,""]
[null,null,null,null,null,null,null,null,null,null,"",null,null,""]
[null,null,null,null,null,null,null,null,null,null,"",null,null,""]
[null,null,null,null,null,null,null,null,null,null,"",null,null,""]
[null,null,null,null,null,null,null,null,null,null,"",null,null,""]
[null,null,null,null,null,null,null,null,null,null,"",null,null,""]
[null,null,null,null,null,null,null,null,null,null,"",null,null,""]
[null,null,null,null,null,null,null,null,null,null,"",null,null,""]
[null,null,null,null,null,null,null,null,null,null,"",null,null,""]
[null,null,null,null,null,null,null,null,null,null,"",null,null,""]
[null,null,null,null,null,null,null,null,null,null,"",null,null,""]
[null,null,null,null,null,null,null,null,null,null,"",null,null,""]
[null,null,null,null,null,null,null,null,null,null,"",null,null,""]
[null,null,null,null,null,null,null,null,null,null,{"$f":"IF(I332=\"\",\"\",IF(J332=\"\",I332,I332&\" - \"&J332))","v":""},null,null,""]
[null,null,null,null,null,null,null,null,null,null,"",null,null,{"$f":"IF(OR(ISBLANK(L333),ISBLANK(J333)),\"\",\"01.01.\"&RIGHT(J333,4)+L333+1)","v":""}]
[null,null,null,null,null,null,null,null,null,null,"",null,null,""]
[null,null,null,null,null,null,null,null,null,null,"",null,null,""]
[null,null,null,null,null,null,null,null,null,null,"",null,null,""]
[null,null,null,null,null,null,null,null,null,null,"",null,null,""]
[null,null,null,null,null,null,null,null,null,null,"",null,null,""]
[null,null,null,null,null,null,null,null,null,null,"",null,null,""]
[null,null,null,null,null,null,null,null,null,null,"",null,null,""]
[null,null,null,null,null,null,null,null,null,null,"",null,null,""]
[null,null,null,null,null,null,null,null,null,null,"",null,null,""]
[null,null,null,null,null,null,null,null,null,null,"",null,null,""]
[null,null,null,null,null,null,null,null,null,null,"",null,null,""]
[null,null,null,null,null,null,null,null,null,null,"",null,null,""]
[null,null,null,null,null,null,null,null,null,null,"",null,null,""]
[null,null,null,null,null,null,null,null,null,null,"",null,null,""]
[null,null,null,null,null,null,null,null,null,null,"",null,null,""]
[null,null,null,null,null,null,null,null,null,null,"",null,null,""]
[null,null,null,null,null,null,null,null,null,null,"",null,null,""]
[null,null,null,null,null,null,null,null,null,null,"",null,null,""]
[null,null,null,null,null,null,null,null,null,null,"",null,null,""]
[null,null,null,null,null,null,null,null,null,null,"",null,null,""]
[null,null,null,null,null,null,null,null,null,null,"",null,null,""]
[null,null,null,null,null,null,null,null,null,null,"",null,null,""]
[null,null,null,null,null,null,null,null,null,null,"",null,null,""]
[null,null,null,null,null,null,null,null,null,null,"",null,null,""]
[null,null,null,null,null,null,null,null,null,null,"",null,null,""]
[null,null,null,null,null,null,null,null,null,null,"",null,null,""]
[null,null,null,null,null,null,null,null,null,null,"",null,null,""]
[null,null,null,null,null,null,null,null,null,null,"",null,null,""]
[null,null,null,null,null,null,null,null,null,null,"",null,null,""]
[null,null,null,null,null,null,null,null,null,null,"",null,null,""]
[null,null,null,null,null,null,null,null,null,null,"",null,null,""]
[null,null,null,null,null,null,null,null,null,null,"",null,null,""]
[null,null,null,null,null,null,null,null,null,null,"",null,null,""]
[null,null,null,null,null,null,null,null,null,null,"",null,null,""]
[null,null,null,null,null,null,null,null,null,null,"",null,null,""]
[null,null,null,null,null,null,null,null,null,null,"",null,null,""]
[null,null,null,null,null,null,null,null,null,null,"",null,null,""]
[null,null,null,null,null,null,null,null,null,null,"",null,null,""]
[null,null,null,null,null,null,null,null,null,null,"",null,null,""]
[null,null,null,null,null,null,null,null,null,null,"",null,null,""]
[null,null,null,null,null,null,null,null,null,null,"",null,null,""]
[null,null,null,null,null,null,null,null,null,null,"",null,null,""]
[null,null,null,null,null,null,null,null,null,null,"",null,null,""]
[null,null,null,null,null,null,null,null,null,null,"",null,null,""]
[null,null,null,null,null,null,null,null,null,null,"",null,null,""]
[null,null,null,null,null,null,null,null,null,null,"",null,null,""]
[null,null,null,null,null,null,null,null,null,null,"",null,null,""]
[null,null,null,null,null,null,null,null,null,null,"",null,null,""]
[null,null,null,null,null,null,null,null,null,null,"",null,null,""]
[null,null,null,null,null,null,null,null,null,null,"",null,null,""]
[null,null,null,null,null,null,null,null,null,null,"",null,null,""]
[null,null,null,null,null,null,null,null,null,null,"",null,null,""]
[null,null,null,null,null,null,null,null,null,null,"",null,null,""]
[null,null,null,null,null,null,null,null,null,null,"",null,null,""]
[null,null,null,null,null,null,null,null,null,null,"",null,null,""]
[null,null,null,null,null,null,null,null,null,null,"",null,null,""]
[null,null,null,null,null,null,null,null,null,null,"",null,null,""]
[null,null,null,null,null,null,null,null,null,null,"",null,null,""]
[null,null,null,null,null,null,null,null,null,null,"",null,null,""]
[null,null,null,null,null,null,null,null,null,null,"",null,null,""]
[null,null,null,null,null,null,null,null,null,null,"",null,null,""]
[null,null,null,null,null,null,null,null,null,null,"",null,null,""]
[null,null,null,null,null,null,null,null,null,null,{"$f":"IF(I396=\"\",\"\",IF(J396=\"\",I396,I396&\" - \"&J396))","v":""},null,null,""]
[null,null,null,null,null,null,null,null,null,null,"",null,null,{"$f":"IF(OR(ISBLANK(L397),ISBLANK(J397)),\"\",\"01.01.\"&RIGHT(J397,4)+L397+1)","v":""}]
[null,null,null,null,null,null,null,null,null,null,"",null,null,""]
[null,null,null,null,null,null,null,null,null,null,"",null,null,""]
[null,null,null,null,null,null,null,null,null,null,"",null,null,""]
[null,null,null,null,null,null,null,null,null,null,"",null,null,""]
[null,null,null,null,null,null,null,null,null,null,"",null,null,""]
[null,null,null,null,null,null,null,null,null,null,"",null,null,""]
[null,null,null,null,null,null,null,null,null,null,"",null,null,""]
[null,null,null,null,null,null,null,null,null,null,"",null,null,""]
[null,null,null,null,null,null,null,null,null,null,"",null,null,""]
[null,null,null,null,null,null,null,null,null,null,"",null,null,""]
[null,null,null,null,null,null,null,null,null,null,"",null,null,""]
[null,null,null,null,null,null,null,null,null,null,"",null,null,""]
[null,null,null,null,null,null,null,null,null,null,"",null,null,""]
[null,null,null,null,null,null,null,null,null,null,"",null,null,""]
[null,null,null,null,null,null,null,null,null,null,"",null,null,""]
[null,null,null,null,null,null,null,null,null,null,"",null,null,""]
[null,null,null,null,null,null,null,null,null,null,"",null,null,""]
[null,null,null,null,null,null,null,null,null,null,"",null,null,""]
[null,null,null,null,null,null,null,null,null,null,"",null,null,""]
[null,null,null,null,null,null,null,null,null,null,"",null,null,""]
[null,null,null,null,null,null,null,null,null,null,"",null,null,""]
[null,null,null,null,null,null,null,null,null,null,"",null,null,""]
[null,null,null,null,null,null,null,null,null,null,"",null,null,""]
[null,null,null,null,null,null,null,null,null,null,"",null,null,""]
[null,null,null,null,null,null,null,null,null,null,"",null,null,""]
[null,null,null,null,null,null,null,null,null,null,"",null,null,""]
[null,null,null,null,null,null,null,null,null,null,"",null,null,""]
[null,null,null,null,null,null,null,null,null,null,"",null,null,""]
[null,null,null,null,null,null,null,null,null,null,"",null,null,""]
[null,null,null,null,null,null,null,null,null,null,"",null,null,""]
[null,null,null,null,null,null,null,null,null,null,"",null,null,""]
[null,null,null,null,null,null,null,null,null,null,"",null,null,""]
[null,null,null,null,null,null,null,null,null,null,"",null,null,""]
[null,null,null,null,null,null,null,null,null,null,"",null,null,""]
[null,null,null,null,null,null,null,null,null,null,"",null,null,""]
[null,null,null,null,null,null,null,null,null,null,"",null,null,""]
[null,null,null,null,null,null,null,null,null,null,"",null,null,""]
[null,null,null,null,null,null,null,null,null,null,"",null,null,""]
[null,null,null,null,null,null,null,null,null,null,"",null,null,""]
[null,null,null,null,null,null,null,null,null,null,"",null,null,""]
[null,null,null,null,null,null,null,null,null,null,"",null,null,""]
[null,null,null,null,null,null,null,null,null,null,"",null,null,""]
[null,null,null,null,null,null,null,null,null,null,"",null,null,""]
[null,null,null,null,null,null,null,null,null,null,"",null,null,""]
[null,null,null,null,null,null,null,null,null,null,"",null,null,""]
[null,null,null,null,null,null,null,null,null,null,"",null,null,""]
[null,null,null,null,null,null,null,null,null,null,"",null,null,""]
[null,null,null,null,null,null,null,null,null,null,"",null,null,""]
[null,null,null,null,null,null,null,null,null,null,"",null,null,""]
[null,null,null,null,null,null,null,null,null,null,"",null,null,""]
[null,null,null,null,null,null,null,null,null,null,"",null,null,""]
[null,null,null,null,null,null,null,null,null,null,"",null,null,""]
[null,null,null,null,null,null,null,null,null,null,"",null,null,""]
[null,null,null,null,null,null,null,null,null,null,"",null,null,""]
[null,null,null,null,null,null,null,null,null,null,"",null,null,""]
[null,null,null,null,null,null,null,null,null,null,"",null,null,""]
[null,null,null,null,null,null,null,null,null,null,"",null,null,""]
[null,null,null,null,null,null,null,null,null,null,"",null,null,""]
[null,null,null,null,null,null,null,null,null,null,"",null,null,""]
[null,null,null,null,null,null,null,null,null,null,"",null,null,""]
[null,null,null,null,null,null,null,null,null,null,"",null,null,""]
[null,null,null,null,null,null,null,null,null,null,"",null,null,""]
[null,null,null,null,null,null,null,null,null,null,{"$f":"IF(I460=\"\",\"\",IF(J460=\"\",I460,I460&\" - \"&J460))","v":""},null,null,""]
[null,null,null,null,null,null,null,null,null,null,"",null,null,{"$f":"IF(OR(ISBLANK(L461),ISBLANK(J461)),\"\",\"01.01.\"&RIGHT(J461,4)+L461+1)","v":""}]
[null,null,null,null,null,null,null,null,null,null,"",null,null,""]
[null,null,null,null,null,null,null,null,null,null,"",null,null,""]
[null,null,null,null,null,null,null,null,null,null,"",null,null,""]
[null,null,null,null,null,null,null,null,null,null,"",null,null,""]
[null,null,null,null,null,null,null,null,null,null,"",null,null,""]
[null,null,null,null,null,null,null,null,null,null,"",null,null,""]
[null,null,null,null,null,null,null,null,null,null,"",null,null,""]
[null,null,null,null,null,null,null,null,null,null,"",null,null,""]
[null,null,null,null,null,null,null,null,null,null,"",null,null,""]
[null,null,null,null,null,null,null,null,null,null,"",null,null,""]
[null,null,null,null,null,null,null,null,null,null,"",null,null,""]
[null,null,null,null,null,null,null,null,null,null,"",null,null,""]
[null,null,null,null,null,null,null,null,null,null,"",null,null,""]
[null,null,null,null,null,null,null,null,null,null,"",null,null,""]
[null,null,null,null,null,null,null,null,null,null,"",null,null,""]
[null,null,null,null,null,null,null,null,null,null,"",null,null,""]
[null,null,null,null,null,null,null,null,null,null,"",null,null,""]
[null,null,null,null,null,null,null,null,null,null,"",null,null,""]
[null,null,null,null,null,null,null,null,null,null,"",null,null,""]
[null,null,null,null,null,null,null,null,null,null,"",null,null,""]
[null,null,null,null,null,null,null,null,null,null,"",null,null,""]
[null,null,null,null,null,null,null,null,null,null,"",null,null,""]
[null,null,null,null,null,null,null,null,null,null,"",null,null,""]
[null,null,null,null,null,null,null,null,null,null,"",null,null,""]
[null,null,null,null,null,null,null,null,null,null,"",null,null,""]
[null,null,null,null,null,null,null,null,null,null,"",null,null,""]
[null,null,null,null,null,null,null,null,null,null,"",null,null,""]
[null,null,null,null,null,null,null,null,null,null,"",null,null,""]
[null,null,null,null,null,null,null,null,null,null,"",null,null,""]
[null,null,null,null,null,null,null,null,null,null,"",null,null,""]
[null,null,null,null,null,null,null,null,null,null,"",null,null,""]
[null,null,null,null,null,null,null,null,null,null,"",null,null,""]
[null,null,null,null,null,null,null,null,null,null,"",null,null,""]
[null,null,null,null,null,null,null,null,null,null,"",null,null,""]
[null,null,null,null,null,null,null,null,null,null,"",null,null,""]
[null,null,null,null,null,null,null,null,null,null,"",null,null,""]
[null,null,null,null,null,null,null,null,null,null,"",null,null,""]
[null,null,null,null,null,null,null,null,null,null,"",null,null,""]
[null,null,null,null,null,null,null,null,null,null,"",null,null,""]
[null,null,null,null,null,null,null,null,null,null,"",null,null,""]
[null,null,null,null,null,null,null,null,null,null,"",null,null,""]
[null,null,null,null,null,null,null,null,null,null,"",null,null,""]
[null,null,null,null,null,null,null,null,null,null,"",null,null,""]
[null,null,null,null,null,null,null,null,null,null,"",null,null,""]
[null,null,null,null,null,null,null,null,null,null,"",null,null,""]
[null,null,null,null,null,null,null,null,null,null,"",null,null,""]
[null,null,null,null,null,null,null,null,null,null,"",null,null,""]
[null,null,null,null,null,null,null,null,null,null,"",null,null,""]
[null,null,null,null,null,null,null,null,null,null,"",null,null,""]
[null,null,null,null,null,null,null,null,null,null,"",null,null,""]
[null,null,null,null,null,null,null,null,null,null,"",null,null,""]
[null,null,null,null,null,null,null,null,null,null,"",null,null,""]
[null,null,null,null,null,null,null,null,null,null,"",null,null,""]
[null,null,null,null,null,null,null,null,null,null,"",null,null,""]
[null,null,null,null,null,null,null,null,null,null,"",null,null,""]
[null,null,null,null,null,null,null,null,null,null,"",null,null,""]
[null,null,null,null,null,null,null,null,null,null,"",null,null,""]
[null,null,null,null,null,null,null,null,null,null,"",null,null,""]
[null,null,null,null,null,null,null,null,null,null,"",null,null,""]
[null,null,null,null,null,null,null,null,null,null,"",null,null,""]
[null,null,null,null,null,null,null,null,null,null,"",null,null,""]
[null,null,null,null,null,null,null,null,null,null,"",null,null,""]
[null,null,null,null,null,null,null,null,null,null,{"$f":"IF(I524=\"\",\"\",IF(J524=\"\",I524,I524&\" - \"&J524))","v":""},null,null,""]
[null,null,null,null,null,null,null,null,null,null,"",null,null,{"$f":"IF(OR(ISBLANK(L525),ISBLANK(J525)),\"\",\"01.01.\"&RIGHT(J525,4)+L525+1)","v":""}]
[null,null,null,null,null,null,null,null,null,null,"",null,null,""]
[null,null,null,null,null,null,null,null,null,null,"",null,null,""]
[null,null,null,null,null,null,null,null,null,null,"",null,null,""]
[null,null,null,null,null,null,null,null,null,null,"",null,null,""]
[null,null,null,null,null,null,null,null,null,null,"",null,null,""]
[null,null,null,null,null,null,null,null,null,null,"",null,null,""]
[null,null,null,null,null,null,null,null,null,null,"",null,null,""]
[null,null,null,null,null,null,null,null,null,null,"",null,null,""]
[null,null,null,null,null,null,null,null,null,null,"",null,null,""]
[null,null,null,null,null,null,null,null,null,null,"",null,null,""]
[null,null,null,null,null,null,null,null,null,null,"",null,null,""]
[null,null,null,null,null,null,null,null,null,null,"",null,null,""]
[null,null,null,null,null,null,null,null,null,null,"",null,null,""]
[null,null,null,null,null,null,null,null,null,null,"",null,null,""]
[null,null,null,null,null,null,null,null,null,null,"",null,null,""]
[null,null,null,null,null,null,null,null,null,null,"",null,null,""]
[null,null,null,null,null,null,null,null,null,null,"",null,null,""]
[null,null,null,null,null,null,null,null,null,null,"",null,null,""]
[null,null,null,null,null,null,null,null,null,null,"",null,null,""]
[null,null,null,null,null,null,null,null,null,null,"",null,null,""]
[null,null,null,null,null,null,null,null,null,null,"",null,null,""]
[null,null,null,null,null,null,null,null,null,null,"",null,null,""]
[null,null,null,null,null,null,null,null,null,null,"",null,null,""]
[null,null,null,null,null,null,null,null,null,null,"",null,null,""]
[null,null,null,null,null,null,null,null,null,null,"",null,null,""]
[null,null,null,null,null,null,null,null,null,null,"",null,null,""]
[null,null,null,null,null,null,null,null,null,null,"",null,null,""]
[null,null,null,null,null,null,null,null,null,null,"",null,null,""]
[null,null,null,null,null,null,null,null,null,null,"",null,null,""]
[null,null,null,null,null,null,null,null,null,null,"",null,null,""]
[null,null,null,null,null,null,null,null,null,null,"",null,null,""]
[null,null,null,null,null,null,null,null,null,null,"",null,null,""]
[null,null,null,null,null,null,null,null,null,null,"",null,null,""]
[null,null,null,null,null,null,null,null,null,null,"",null,null,""]
[null,null,null,null,null,null,null,null,null,null,"",null,null,""]
[null,null,null,null,null,null,null,null,null,null,"",null,null,""]
[null,null,null,null,null,null,null,null,null,null,"",null,null,""]
[null,null,null,null,null,null,null,null,null,null,"",null,null,""]
[null,null,null,null,null,null,null,null,null,null,"",null,null,""]
[null,null,null,null,null,null,null,null,null,null,"",null,null,""]
[null,null,null,null,null,null,null,null,null,null,"",null,null,""]
[null,null,null,null,null,null,null,null,null,null,"",null,null,""]
[null,null,null,null,null,null,null,null,null,null,"",null,null,""]
[null,null,null,null,null,null,null,null,null,null,"",null,null,""]
[null,null,null,null,null,null,null,null,null,null,"",null,null,""]
[null,null,null,null,null,null,null,null,null,null,"",null,null,""]
[null,null,null,null,null,null,null,null,null,null,"",null,null,""]
[null,null,null,null,null,null,null,null,null,null,"",null,null,""]
[null,null,null,null,null,null,null,null,null,null,"",null,null,""]
[null,null,null,null,null,null,null,null,null,null,"",null,null,""]
[null,null,null,null,null,null,null,null,null,null,"",null,null,""]
[null,null,null,null,null,null,null,null,null,null,"",null,null,""]
[null,null,null,null,null,null,null,null,null,null,"",null,null,""]
[null,null,null,null,null,null,null,null,null,null,"",null,null,""]
[null,null,null,null,null,null,null,null,null,null,"",null,null,""]
[null,null,null,null,null,null,null,null,null,null,"",null,null,""]
[null,null,null,null,null,null,null,null,null,null,"",null,null,""]
[null,null,null,null,null,null,null,null,null,null,"",null,null,""]
[null,null,null,null,null,null,null,null,null,null,"",null,null,""]
[null,null,null,null,null,null,null,null,null,null,"",null,null,""]
[null,null,null,null,null,null,null,null,null,null,"",null,null,""]
[null,null,null,null,null,null,null,null,null,null,"",null,null,""]
[null,null,null,null,null,null,null,null,null,null,{"$f":"IF(I588=\"\",\"\",IF(J588=\"\",I588,I588&\" - \"&J588))","v":""},null,null,""]
[null,null,null,null,null,null,null,null,null,null,"",null,null,{"$f":"IF(OR(ISBLANK(L589),ISBLANK(J589)),\"\",\"01.01.\"&RIGHT(J589,4)+L589+1)","v":""}]
[null,null,null,null,null,null,null,null,null,null,"",null,null,""]
[null,null,null,null,null,null,null,null,null,null,"",null,null,""]
[null,null,null,null,null,null,null,null,null,null,"",null,null,""]
[null,null,null,null,null,null,null,null,null,null,"",null,null,""]
[null,null,null,null,null,null,null,null,null,null,"",null,null,""]
[null,null,null,null,null,null,null,null,null,null,"",null,null,""]
[null,null,null,null,null,null,null,null,null,null,"",null,null,""]
[null,null,null,null,null,null,null,null,null,null,"",null,null,""]
[null,null,null,null,null,null,null,null,null,null,"",null,null,""]
[null,null,null,null,null,null,null,null,null,null,"",null,null,""]
[null,null,null,null,null,null,null,null,null,null,"",null,null,""]
[null,null,null,null,null,null,null,null,null,null,"",null,null,""]
[null,null,null,null,null,null,null,null,null,null,"",null,null,""]
[null,null,null,null,null,null,null,null,null,null,"",null,null,""]
[null,null,null,null,null,null,null,null,null,null,"",null,null,""]
[null,null,null,null,null,null,null,null,null,null,"",null,null,""]
[null,null,null,null,null,null,null,null,null,null,"",null,null,""]
[null,null,null,null,null,null,null,null,null,null,"",null,null,""]
[null,null,null,null,null,null,null,null,null,null,"",null,null,""]
[null,null,null,null,null,null,null,null,null,null,"",null,null,""]
[null,null,null,null,null,null,null,null,null,null,"",null,null,""]
[null,null,null,null,null,null,null,null,null,null,"",null,null,""]
[null,null,null,null,null,null,null,null,null,null,"",null,null,""]
[null,null,null,null,null,null,null,null,null,null,"",null,null,""]
[null,null,null,null,null,null,null,null,null,null,"",null,null,""]
[null,null,null,null,null,null,null,null,null,null,"",null,null,""]
[null,null,null,null,null,null,null,null,null,null,"",null,null,""]
[null,null,null,null,null,null,null,null,null,null,"",null,null,""]
[null,null,null,null,null,null,null,null,null,null,"",null,null,""]
[null,null,null,null,null,null,null,null,null,null,"",null,null,""]
[null,null,null,null,null,null,null,null,null,null,"",null,null,""]
[null,null,null,null,null,null,null,null,null,null,"",null,null,""]
[null,null,null,null,null,null,null,null,null,null,"",null,null,""]
[null,null,null,null,null,null,null,null,null,null,"",null,null,""]
[null,null,null,null,null,null,null,null,null,null,"",null,null,""]
[null,null,null,null,null,null,null,null,null,null,"",null,null,""]
[null,null,null,null,null,null,null,null,null,null,"",null,null,""]
[null,null,null,null,null,null,null,null,null,null,"",null,null,""]
[null,null,null,null,null,null,null,null,null,null,"",null,null,""]
[null,null,null,null,null,null,null,null,null,null,"",null,null,""]
[null,null,null,null,null,null,null,null,null,null,"",null,null,""]
[null,null,null,null,null,null,null,null,null,null,"",null,null,""]
[null,null,null,null,null,null,null,null,null,null,"",null,null,""]
[null,null,null,null,null,null,null,null,null,null,"",null,null,""]
[null,null,null,null,null,null,null,null,null,null,"",null,null,""]
[null,null,null,null,null,null,null,null,null,null,"",null,null,""]
[null,null,null,null,null,null,null,null,null,null,"",null,null,""]
[null,null,null,null,null,null,null,null,null,null,"",null,null,""]
[null,null,null,null,null,null,null,null,null,null,"",null,null,""]
[null,null,null,null,null,null,null,null,null,null,"",null,null,""]
[null,null,null,null,null,null,null,null,null,null,"",null,null,""]
[null,null,null,null,null,null,null,null,null,null,"",null,null,""]
[null,null,null,null,null,null,null,null,null,null,"",null,null,""]
[null,null,null,null,null,null,null,null,null,null,"",null,null,""]
[null,null,null,null,null,null,null,null,null,null,"",null,null,""]
[null,null,null,null,null,null,null,null,null,null,"",null,null,""]
[null,null,null,null,null,null,null,null,null,null,"",null,null,""]
[null,null,null,null,null,null,null,null,null,null,"",null,null,""]
[null,null,null,null,null,null,null,null,null,null,"",null,null,""]
[null,null,null,null,null,null,null,null,null,null,"",null,null,""]
[null,null,null,null,null,null,null,null,null,null,"",null,null,""]
[null,null,null,null,null,null,null,null,null,null,"",null,null,""]
[null,null,null,null,null,null,null,null,null,null,{"$f":"IF(I652=\"\",\"\",IF(J652=\"\",I652,I652&\" - \"&J652))","v":""},null,null,""]
[null,null,null,null,null,null,null,null,null,null,"",null,null,{"$f":"IF(OR(ISBLANK(L653),ISBLANK(J653)),\"\",\"01.01.\"&RIGHT(J653,4)+L653+1)","v":""}]
[null,null,null,null,null,null,null,null,null,null,"",null,null,""]
[null,null,null,null,null,null,null,null,null,null,"",null,null,""]
[null,null,null,null,null,null,null,null,null,null,"",null,null,""]
[null,null,null,null,null,null,null,null,null,null,"",null,null,""]
[null,null,null,null,null,null,null,null,null,null,"",null,null,""]
[null,null,null,null,null,null,null,null,null,null,"",null,null,""]
[null,null,null,null,null,null,null,null,null,null,"",null,null,""]
[null,null,null,null,null,null,null,null,null,null,"",null,null,""]
[null,null,null,null,null,null,null,null,null,null,"",null,null,""]
[null,null,null,null,null,null,null,null,null,null,"",null,null,""]
[null,null,null,null,null,null,null,null,null,null,"",null,null,""]
[null,null,null,null,null,null,null,null,null,null,"",null,null,""]
[null,null,null,null,null,null,null,null,null,null,"",null,null,""]
[null,null,null,null,null,null,null,null,null,null,"",null,null,""]
[null,null,null,null,null,null,null,null,null,null,"",null,null,""]
[null,null,null,null,null,null,null,null,null,null,"",null,null,""]
[null,null,null,null,null,null,null,null,null,null,"",null,null,""]
[null,null,null,null,null,null,null,null,null,null,"",null,null,""]
[null,null,null,null,null,null,null,null,null,null,"",null,null,""]
[null,null,null,null,null,null,null,null,null,null,"",null,null,""]
[null,null,null,null,null,null,null,null,null,null,"",null,null,""]
[null,null,null,null,null,null,null,null,null,null,"",null,null,""]
[null,null,null,null,null,null,null,null,null,null,"",null,null,""]
[null,null,null,null,null,null,null,null,null,null,"",null,null,""]
[null,null,null,null,null,null,null,null,null,null,"",null,null,""]
[null,null,null,null,null,null,null,null,null,null,"",null,null,""]
[null,null,null,null,null,null,null,null,null,null,"",null,null,""]
[null,null,null,null,null,null,null,null,null,null,"",null,null,""]
[null,null,null,null,null,null,null,null,null,null,"",null,null,""]
[null,null,null,null,null,null,null,null,null,null,"",null,null,""]
[null,null,null,null,null,null,null,null,null,null,"",null,null,""]
[null,null,null,null,null,null,null,null,null,null,"",null,null,""]
[null,null,null,null,null,null,null,null,null,null,"",null,null,""]
[null,null,null,null,null,null,null,null,null,null,"",null,null,""]
[null,null,null,null,null,null,null,null,null,null,"",null,null,""]
[null,null,null,null,null,null,null,null,null,null,"",null,null,""]
[null,null,null,null,null,null,null,null,null,null,"",null,null,""]
[null,null,null,null,null,null,null,null,null,null,"",null,null,""]
[null,null,null,null,null,null,null,null,null,null,"",null,null,""]
[null,null,null,null,null,null,null,null,null,null,"",null,null,""]
[null,null,null,null,null,null,null,null,null,null,"",null,null,""]
[null,null,null,null,null,null,null,null,null,null,"",null,null,""]
[null,null,null,null,null,null,null,null,null,null,"",null,null,""]
[null,null,null,null,null,null,null,null,null,null,"",null,null,""]
[null,null,null,null,null,null,null,null,null,null,"",null,null,""]
[null,null,null,null,null,null,null,null,null,null,"",null,null,""]
[null,null,null,null,null,null,null,null,null,null,"",null,null,""]
[null,null,null,null,null,null,null,null,null,null,"",null,null,""]
[null,null,null,null,null,null,null,null,null,null,"",null,null,""]
[null,null,null,null,null,null,null,null,null,null,"",null,null,""]
[null,null,null,null,null,null,null,null,null,null,"",null,null,""]
[null,null,null,null,null,null,null,null,null,null,"",null,null,""]
[null,null,null,null,null,null,null,null,null,null,"",null,null,""]
[null,null,null,null,null,null,null,null,null,null,"",null,null,""]
[null,null,null,null,null,null,null,null,null,null,"",null,null,""]
[null,null,null,null,null,null,null,null,null,null,"",null,null,""]
[null,null,null,null,null,null,null,null,null,null,"",null,null,""]
[null,null,null,null,null,null,null,null,null,null,"",null,null,""]
[null,null,null,null,null,null,null,null,null,null,"",null,null,""]
[null,null,null,null,null,null,null,null,null,null,"",null,null,""]
[null,null,null,null,null,null,null,null,null,null,"",null,null,""]
[null,null,null,null,null,null,null,null,null,null,"",null,null,""]
[null,null,null,null,null,null,null,null,null,null,{"$f":"IF(I716=\"\",\"\",IF(J716=\"\",I716,I716&\" - \"&J716))","v":""},null,null,""]
[null,null,null,null,null,null,null,null,null,null,"",null,null,{"$f":"IF(OR(ISBLANK(L717),ISBLANK(J717)),\"\",\"01.01.\"&RIGHT(J717,4)+L717+1)","v":""}]
[null,null,null,null,null,null,null,null,null,null,"",null,null,""]
[null,null,null,null,null,null,null,null,null,null,"",null,null,""]
[null,null,null,null,null,null,null,null,null,null,"",null,null,""]
[null,null,null,null,null,null,null,null,null,null,"",null,null,""]
[null,null,null,null,null,null,null,null,null,null,"",null,null,""]
[null,null,null,null,null,null,null,null,null,null,"",null,null,""]
[null,null,null,null,null,null,null,null,null,null,"",null,null,""]
[null,null,null,null,null,null,null,null,null,null,"",null,null,""]
[null,null,null,null,null,null,null,null,null,null,"",null,null,""]
[null,null,null,null,null,null,null,null,null,null,"",null,null,""]
[null,null,null,null,null,null,null,null,null,null,"",null,null,""]
[null,null,null,null,null,null,null,null,null,null,"",null,null,""]
[null,null,null,null,null,null,null,null,null,null,"",null,null,""]
[null,null,null,null,null,null,null,null,null,null,"",null,null,""]
[null,null,null,null,null,null,null,null,null,null,"",null,null,""]
[null,null,null,null,null,null,null,null,null,null,"",null,null,""]
[null,null,null,null,null,null,null,null,null,null,"",null,null,""]
[null,null,null,null,null,null,null,null,null,null,"",null,null,""]
[null,null,null,null,null,null,null,null,null,null,"",null,null,""]
[null,null,null,null,null,null,null,null,null,null,"",null,null,""]
[null,null,null,null,null,null,null,null,null,null,"",null,null,""]
[null,null,null,null,null,null,null,null,null,null,"",null,null,""]
[null,null,null,null,null,null,null,null,null,null,"",null,null,""]
[null,null,null,null,null,null,null,null,null,null,"",null,null,""]
[null,null,null,null,null,null,null,null,null,null,"",null,null,""]
[null,null,null,null,null,null,null,null,null,null,"",null,null,""]
[null,null,null,null,null,null,null,null,null,null,"",null,null,""]
[null,null,null,null,null,null,null,null,null,null,"",null,null,""]
[null,null,null,null,null,null,null,null,null,null,"",null,null,""]
[null,null,null,null,null,null,null,null,null,null,"",null,null,""]
[null,null,null,null,null,null,null,null,null,null,"",null,null,""]
[null,null,null,null,null,null,null,null,null,null,"",null,null,""]
[null,null,null,null,null,null,null,null,null,null,"",null,null,""]
[null,null,null,null,null,null,null,null,null,null,"",null,null,""]
[null,null,null,null,null,null,null,null,null,null,"",null,null,""]
[null,null,null,null,null,null,null,null,null,null,"",null,null,""]
[null,null,null,null,null,null,null,null,null,null,"",null,null,""]
[null,null,null,null,null,null,null,null,null,null,"",null,null,""]
[null,null,null,null,null,null,null,null,null,null,"",null,null,""]
[null,null,null,null,null,null,null,null,null,null,"",null,null,""]
[null,null,null,null,null,null,null,null,null,null,"",null,null,""]
[null,null,null,null,null,null,null,null,null,null,"",null,null,""]
[null,null,null,null,null,null,null,null,null,null,"",null,null,""]
[null,null,null,null,null,null,null,null,null,null,"",null,null,""]
[null,null,null,null,null,null,null,null,null,null,"",null,null,""]
[null,null,null,null,null,null,null,null,null,null,"",null,null,""]
[null,null,null,null,null,null,null,null,null,null,"",null,null,""]
[null,null,null,null,null,null,null,null,null,null,"",null,null,""]
[null,null,null,null,null,null,null,null,null,null,"",null,null,""]
[null,null,null,null,null,null,null,null,null,null,"",null,null,""]
[null,null,null,null,null,null,null,null,null,null,"",null,null,""]
[null,null,null,null,null,null,null,null,null,null,"",null,null,""]
[null,null,null,null,null,null,null,null,null,null,"",null,null,""]
[null,null,null,null,null,null,null,null,null,null,"",null,null,""]
[null,null,null,null,null,null,null,null,null,null,"",null,null,""]
[null,null,null,null,null,null,null,null,null,null,"",null,null,""]
[null,null,null,null,null,null,null,null,null,null,"",null,null,""]
[null,null,null,null,null,null,null,null,null,null,"",null,null,""]
[null,null,null,null,null,null,null,null,null,null,"",null,null,""]
[null,null,null,null,null,null,null,null,null,null,"",null,null,""]
[null,null,null,null,null,null,null,null,null,null,"",null,null,""]
[null,null,null,null,null,null,null,null,null,null,"",null,null,""]
[null,null,null,null,null,null,null,null,null,null,{"$f":"IF(I780=\"\",\"\",IF(J780=\"\",I780,I780&\" - \"&J780))","v":""},null,null,""]
[null,null,null,null,null,null,null,null,null,null,"",null,null,{"$f":"IF(OR(ISBLANK(L781),ISBLANK(J781)),\"\",\"01.01.\"&RIGHT(J781,4)+L781+1)","v":""}]
[null,null,null,null,null,null,null,null,null,null,"",null,null,""]
[null,null,null,null,null,null,null,null,null,null,"",null,null,""]
[null,null,null,null,null,null,null,null,null,null,"",null,null,""]
[null,null,null,null,null,null,null,null,null,null,"",null,null,""]
[null,null,null,null,null,null,null,null,null,null,"",null,null,""]
[null,null,null,null,null,null,null,null,null,null,"",null,null,""]
[null,null,null,null,null,null,null,null,null,null,"",null,null,""]
[null,null,null,null,null,null,null,null,null,null,"",null,null,""]
[null,null,null,null,null,null,null,null,null,null,"",null,null,""]
[null,null,null,null,null,null,null,null,null,null,"",null,null,""]
[null,null,null,null,null,null,null,null,null,null,"",null,null,""]
[null,null,null,null,null,null,null,null,null,null,"",null,null,""]
[null,null,null,null,null,null,null,null,null,null,"",null,null,""]
[null,null,null,null,null,null,null,null,null,null,"",null,null,""]
[null,null,null,null,null,null,null,null,null,null,"",null,null,""]
[null,null,null,null,null,null,null,null,null,null,"",null,null,""]
[null,null,null,null,null,null,null,null,null,null,"",null,null,""]
[null,null,null,null,null,null,null,null,null,null,"",null,null,""]
[null,null,null,null,null,null,null,null,null,null,"",null,null,""]
[null,null,null,null,null,null,null,null,null,null,"",null,null,""]
[null,null,null,null,null,null,null,null,null,null,"",null,null,""]
[null,null,null,null,null,null,null,null,null,null,"",null,null,""]
[null,null,null,null,null,null,null,null,null,null,"",null,null,""]
[null,null,null,null,null,null,null,null,null,null,"",null,null,""]
[null,null,null,null,null,null,null,null,null,null,"",null,null,""]
[null,null,null,null,null,null,null,null,null,null,"",null,null,""]
[null,null,null,null,null,null,null,null,null,null,"",null,null,""]
[null,null,null,null,null,null,null,null,null,null,"",null,null,""]
[null,null,null,null,null,null,null,null,null,null,"",null,null,""]
[null,null,null,null,null,null,null,null,null,null,"",null,null,""]
[null,null,null,null,null,null,null,null,null,null,"",null,null,""]
[null,null,null,null,null,null,null,null,null,null,"",null,null,""]
[null,null,null,null,null,null,null,null,null,null,"",null,null,""]
[null,null,null,null,null,null,null,null,null,null,"",null,null,""]
[null,null,null,null,null,null,null,null,null,null,"",null,null,""]
[null,null,null,null,null,null,null,null,null,null,"",null,null,""]
[null,null,null,null,null,null,null,null,null,null,"",null,null,""]
[null,null,null,null,null,null,null,null,null,null,"",null,null,""]
[null,null,null,null,null,null,null,null,null,null,"",null,null,""]
[null,null,null,null,null,null,null,null,null,null,"",null,null,""]
[null,null,null,null,null,null,null,null,null,null,"",null,null,""]
[null,null,null,null,null,null,null,null,null,null,"",null,null,""]
[null,null,null,null,null,null,null,null,null,null,"",null,null,""]
[null,null,null,null,null,null,null,null,null,null,"",null,null,""]
[null,null,null,null,null,null,null,null,null,null,"",null,null,""]
[null,null,null,null,null,null,null,null,null,null,"",null,null,""]
[null,null,null,null,null,null,null,null,null,null,"",null,null,""]
[null,null,null,null,null,null,null,null,null,null,"",null,null,""]
[null,null,null,null,null,null,null,null,null,null,"",null,null,""]
[null,null,null,null,null,null,null,null,null,null,"",null,null,""]
[null,null,null,null,null,null,null,null,null,null,"",null,null,""]
[null,null,null,null,null,null,null,null,null,null,"",null,null,""]
[null,null,null,null,null,null,null,null,null,null,"",null,null,""]
[null,null,null,null,null,null,null,null,null,null,"",null,null,""]
[null,null,null,null,null,null,null,null,null,null,"",null,null,""]
[null,null,null,null,null,null,null,null,null,null,"",null,null,""]
[null,null,null,null,null,null,null,null,null,null,"",null,null,""]
[null,null,null,null,null,null,null,null,null,null,"",null,null,""]
[null,null,null,null,null,null,null,null,null,null,"",null,null,""]
[null,null,null,null,null,null,null,null,null,null,"",null,null,""]
[null,null,null,null,null,null,null,null,null,null,"",null,null,""]
[null,null,null,null,null,null,null,null,null,null,"",null,null,""]
[null,null,null,null,null,null,null,null,null,null,{"$f":"IF(I844=\"\",\"\",IF(J844=\"\",I844,I844&\" - \"&J844))","v":""},null,null,""]
[null,null,null,null,null,null,null,null,null,null,"",null,null,{"$f":"IF(OR(ISBLANK(L845),ISBLANK(J845)),\"\",\"01.01.\"&RIGHT(J845,4)+L845+1)","v":""}]
[null,null,null,null,null,null,null,null,null,null,"",null,null,""]
[null,null,null,null,null,null,null,null,null,null,"",null,null,""]
[null,null,null,null,null,null,null,null,null,null,"",null,null,""]
[null,null,null,null,null,null,null,null,null,null,"",null,null,""]
[null,null,null,null,null,null,null,null,null,null,"",null,null,""]
[null,null,null,null,null,null,null,null,null,null,"",null,null,""]
[null,null,null,null,null,null,null,null,null,null,"",null,null,""]
[null,null,null,null,null,null,null,null,null,null,"",null,null,""]
[null,null,null,null,null,null,null,null,null,null,"",null,null,""]
[null,null,null,null,null,null,null,null,null,null,"",null,null,""]
[null,null,null,null,null,null,null,null,null,null,"",null,null,""]
[null,null,null,null,null,null,null,null,null,null,"",null,null,""]
[null,null,null,null,null,null,null,null,null,null,"",null,null,""]
[null,null,null,null,null,null,null,null,null,null,"",null,null,""]
[null,null,null,null,null,null,null,null,null,null,"",null,null,""]
[null,null,null,null,null,null,null,null,null,null,"",null,null,""]
[null,null,null,null,null,null,null,null,null,null,"",null,null,""]
[null,null,null,null,null,null,null,null,null,null,"",null,null,""]
[null,null,null,null,null,null,null,null,null,null,"",null,null,""]
[null,null,null,null,null,null,null,null,null,null,"",null,null,""]
[null,null,null,null,null,null,null,null,null,null,"",null,null,""]
[null,null,null,null,null,null,null,null,null,null,"",null,null,""]
[null,null,null,null,null,null,null,null,null,null,"",null,null,""]
[null,null,null,null,null,null,null,null,null,null,"",null,null,""]
[null,null,null,null,null,null,null,null,null,null,"",null,null,""]
[null,null,null,null,null,null,null,null,null,null,"",null,null,""]
[null,null,null,null,null,null,null,null,null,null,"",null,null,""]
[null,null,null,null,null,null,null,null,null,null,"",null,null,""]
[null,null,null,null,null,null,null,null,null,null,"",null,null,""]
[null,null,null,null,null,null,null,null,null,null,"",null,null,""]
[null,null,null,null,null,null,null,null,null,null,"",null,null,""]
[null,null,null,null,null,null,null,null,null,null,"",null,null,""]
[null,null,null,null,null,null,null,null,null,null,"",null,null,""]
[null,null,null,null,null,null,null,null,null,null,"",null,null,""]
[null,null,null,null,null,null,null,null,null,null,"",null,null,""]
[null,null,null,null,null,null,null,null,null,null,"",null,null,""]
[null,null,null,null,null,null,null,null,null,null,"",null,null,""]
[null,null,null,null,null,null,null,null,null,null,"",null,null,""]
[null,null,null,null,null,null,null,null,null,null,"",null,null,""]
[null,null,null,null,null,null,null,null,null,null,"",null,null,""]
[null,null,null,null,null,null,null,null,null,null,"",null,null,""]
[null,null,null,null,null,null,null,null,null,null,"",null,null,""]
[null,null,null,null,null,null,null,null,null,null,"",null,null,""]
[null,null,null,null,null,null,null,null,null,null,"",null,null,""]
[null,null,null,null,null,null,null,null,null,null,"",null,null,""]
[null,null,null,null,null,null,null,null,null,null,"",null,null,""]
[null,null,null,null,null,null,null,null,null,null,"",null,null,""]
[null,null,null,null,null,null,null,null,null,null,"",null,null,""]
[null,null,null,null,null,null,null,null,null,null,"",null,null,""]
[null,null,null,null,null,null,null,null,null,null,"",null,null,""]
[null,null,null,null,null,null,null,null,null,null,"",null,null,""]
[null,null,null,null,null,null,null,null,null,null,"",null,null,""]
[null,null,null,null,null,null,null,null,null,null,"",null,null,""]
[null,null,null,null,null,null,null,null,null,null,"",null,null,""]
[null,null,null,null,null,null,null,null,null,null,"",null,null,""]
[null,null,null,null,null,null,null,null,null,null,"",null,null,""]
[null,null,null,null,null,null,null,null,null,null,"",null,null,""]
[null,null,null,null,null,null,null,null,null,null,"",null,null,""]
[null,null,null,null,null,null,null,null,null,null,"",null,null,""]
[null,null,null,null,null,null,null,null,null,null,"",null,null,""]
[null,null,null,null,null,null,null,null,null,null,"",null,null,""]
[null,null,null,null,null,null,null,null,null,null,"",null,null,""]
[null,null,null,null,null,null,null,null,null,null,{"$f":"IF(I908=\"\",\"\",IF(J908=\"\",I908,I908&\" - \"&J908))","v":""},null,null,""]
[null,null,null,null,null,null,null,null,null,null,"",null,null,{"$f":"IF(OR(ISBLANK(L909),ISBLANK(J909)),\"\",\"01.01.\"&RIGHT(J909,4)+L909+1)","v":""}]
[null,null,null,null,null,null,null,null,null,null,"",null,null,""]
[null,null,null,null,null,null,null,null,null,null,"",null,null,""]
[null,null,null,null,null,null,null,null,null,null,"",null,null,""]
[null,null,null,null,null,null,null,null,null,null,"",null,null,""]
[null,null,null,null,null,null,null,null,null,null,"",null,null,""]
[null,null,null,null,null,null,null,null,null,null,"",null,null,""]
[null,null,null,null,null,null,null,null,null,null,"",null,null,""]
[null,null,null,null,null,null,null,null,null,null,"",null,null,""]
[null,null,null,null,null,null,null,null,null,null,"",null,null,""]
[null,null,null,null,null,null,null,null,null,null,"",null,null,""]
[null,null,null,null,null,null,null,null,null,null,"",null,null,""]
[null,null,null,null,null,null,null,null,null,null,"",null,null,""]
[null,null,null,null,null,null,null,null,null,null,"",null,null,""]
[null,null,null,null,null,null,null,null,null,null,"",null,null,""]
[null,null,null,null,null,null,null,null,null,null,"",null,null,""]
[null,null,null,null,null,null,null,null,null,null,"",null,null,""]
[null,null,null,null,null,null,null,null,null,null,"",null,null,""]
[null,null,null,null,null,null,null,null,null,null,"",null,null,""]
[null,null,null,null,null,null,null,null,null,null,"",null,null,""]
[null,null,null,null,null,null,null,null,null,null,"",null,null,""]
[null,null,null,null,null,null,null,null,null,null,"",null,null,""]
[null,null,null,null,null,null,null,null,null,null,"",null,null,""]
[null,null,null,null,null,null,null,null,null,null,"",null,null,""]
[null,null,null,null,null,null,null,null,null,null,"",null,null,""]
[null,null,null,null,null,null,null,null,null,null,"",null,null,""]
[null,null,null,null,null,null,null,null,null,null,"",null,null,""]
[null,null,null,null,null,null,null,null,null,null,"",null,null,""]
[null,null,null,null,null,null,null,null,null,null,"",null,null,""]
[null,null,null,null,null,null,null,null,null,null,"",null,null,""]
[null,null,null,null,null,null,null,null,null,null,"",null,null,""]
[null,null,null,null,null,null,null,null,null,null,"",null,null,""]
[null,null,null,null,null,null,null,null,null,null,"",null,null,""]
[null,null,null,null,null,null,null,null,null,null,"",null,null,""]
[null,null,null,null,null,null,null,null,null,null,"",null,null,""]
[null,null,null,null,null,null,null,null,null,null,"",null,null,""]
[null,null,null,null,null,null,null,null,null,null,"",null,null,""]
[null,null,null,null,null,null,null,null,null,null,"",null,null,""]
[null,null,null,null,null,null,null,null,null,null,"",null,null,""]
[null,null,null,null,null,null,null,null,null,null,"",null,null,""]
[null,null,null,null,null,null,null,null,null,null,"",null,null,""]
[null,null,null,null,null,null,null,null,null,null,"",null,null,""]
[null,null,null,null,null,null,null,null,null,null,"",null,null,""]
[null,null,null,null,null,null,null,null,null,null,"",null,null,""]
[null,null,null,null,null,null,null,null,null,null,"",null,null,""]
[null,null,null,null,null,null,null,null,null,null,"",null,null,""]
[null,null,null,null,null,null,null,null,null,null,"",null,null,""]
[null,null,null,null,null,null,null,null,null,null,"",null,null,""]
[null,null,null,null,null,null,null,null,null,null,"",null,null,""]
[null,null,null,null,null,null,null,null,null,null,"",null,null,""]
[null,null,null,null,null,null,null,null,null,null,"",null,null,""]
[null,null,null,null,null,null,null,null,null,null,"",null,null,""]
[null,null,null,null,null,null,null,null,null,null,"",null,null,""]
[null,null,null,null,null,null,null,null,null,null,"",null,null,""]
[null,null,null,null,null,null,null,null,null,null,"",null,null,""]
[null,null,null,null,null,null,null,null,null,null,"",null,null,""]
[null,null,null,null,null,null,null,null,null,null,"",null,null,""]
[null,null,null,null,null,null,null,null,null,null,"",null,null,""]
[null,null,null,null,null,null,null,null,null,null,"",null,null,""]
[null,null,null,null,null,null,null,null,null,null,"",null,null,""]
[null,null,null,null,null,null,null,null,null,null,"",null,null,""]
[null,null,null,null,null,null,null,null,null,null,"",null,null,""]
[null,null,null,null,null,null,null,null,null,null,"",null,null,""]
[null,null,null,null,null,null,null,null,null,null,{"$f":"IF(I972=\"\",\"\",IF(J972=\"\",I972,I972&\" - \"&J972))","v":""},null,null,""]
[null,null,null,null,null,null,null,null,null,null,"",null,null,{"$f":"IF(OR(ISBLANK(L973),ISBLANK(J973)),\"\",\"01.01.\"&RIGHT(J973,4)+L973+1)","v":""}]
[null,null,null,null,null,null,null,null,null,null,"",null,null,""]
[null,null,null,null,null,null,null,null,null,null,"",null,null,""]
[null,null,null,null,null,null,null,null,null,null,"",null,null,""]
[null,null,null,null,null,null,null,null,null,null,"",null,null,""]
[null,null,null,null,null,null,null,null,null,null,"",null,null,""]
[null,null,null,null,null,null,null,null,null,null,"",null,null,""]
[null,null,null,null,null,null,null,null,null,null,"",null,null,""]
[null,null,null,null,null,null,null,null,null,null,"",null,null,""]
[null,null,null,null,null,null,null,null,null,null,"",null,null,""]
[null,null,null,null,null,null,null,null,null,null,"",null,null,""]
[null,null,null,null,null,null,null,null,null,null,"",null,null,""]
[null,null,null,null,null,null,null,null,null,null,"",null,null,""]
[null,null,null,null,null,null,null,null,null,null,"",null,null,""]
[null,null,null,null,null,null,null,null,null,null,"",null,null,""]
[null,null,null,null,null,null,null,null,null,null,"",null,null,""]
[null,null,null,null,null,null,null,null,null,null,"",null,null,""]
[null,null,null,null,null,null,null,null,null,null,"",null,null,""]
[null,null,null,null,null,null,null,null,null,null,"",null,null,""]
[null,null,null,null,null,null,null,null,null,null,"",null,null,""]
[null,null,null,null,null,null,null,null,null,null,"",null,null,""]
[null,null,null,null,null,null,null,null,null,null,"",null,null,""]
[null,null,null,null,null,null,null,null,null,null,"",null,null,""]
[null,null,null,null,null,null,null,null,null,null,"",null,null,""]
[null,null,null,null,null,null,null,null,null,null,"",null,null,""]
[null,null,null,null,null,null,null,null,null,null,"",null,null,""]
[null,null,null,null,null,null,null,null,null,null,"",null,null,""]
[null,null,null,null,null,null,null,null,null,null,"",null,null,""]
[null,null,null,null,null,null,null,null,null,null,"",null,null,""]
[null,null,null,null,null,null,null,null,null,null,"",null,null,""]
[null,null,null,null,null,null,null,null,null,null,"",null,null,""]
[null,null,null,null,null,null,null,null,null,null,"",null,null,""]
[null,null,null,null,null,null,null,null,null,null,"",null,null,""]
[null,null,null,null,null,null,null,null,null,null,"",null,null,""]
[null,null,null,null,null,null,null,null,null,null,"",null,null,""]
[null,null,null,null,null,null,null,null,null,null,"",null,null,""]
[null,null,null,null,null,null,null,null,null,null,"",null,null,""]
[null,null,null,null,null,null,null,null,null,null,"",null,null,""]