{"text_format":"1","workbook":"xlsx","n_sheets":2,"sheets":["ZwA-Import","Datenerfassung"],"not_rendered":{"charts":0,"images":2,"macros":1,"external_links":0,"defined_names":3,"comments":1,"pivot_tables":0},"unopened":[],"bounds":{"document_bytes":16777216,"sheet_cells":100000,"rows_first":2000,"rows_last":500,"rows_between":2000,"halvings":0,"cell_chars":16384,"cell_head_chars":4096},"cells_cut":0,"cells_raw":0,"read":"whole","date_system":"1900"}

{"sheet":"ZwA-Import","index":0,"n_rows":1000,"n_cols":15,"rows_kept":1000,"cut":false,"hidden":true,"merged":[]}
["Aktenzeichen","ZwA-Nummer","Signatur","Laufzeit von","Laufzeit bis","Laufzeit","Frist","Band","Titel","Name","Datum","Bewertung","Bemerkungen","Dauernd","Index/Querverweis"]
[{"$f":"IF(ISBLANK(Datenerfassung!A12),\"\",Datenerfassung!A12)","v":""},{"$f":"IF(ISBLANK(Datenerfassung!B12),\"\",Datenerfassung!B12)","v":""},{"$f":"IF(ISBLANK(Datenerfassung!C12),\"\",Datenerfassung!C12)","v":""},{"$f":"IF(ISBLANK(Datenerfassung!R12),\"\",Datenerfassung!R12)","v":""},{"$f":"IF(ISBLANK(Datenerfassung!S12),\"\",Datenerfassung!S12)","v":""},{"$f":"IF(D2=\"\",\"\",IF(E2=\"\",D2,D2&\" - \"&E2))","v":""},{"$f":"IF(ISBLANK(Datenerfassung!U12),\"\",Datenerfassung!U12)","v":""},{"$f":"IF(ISBLANK(Datenerfassung!O12),\"\",Datenerfassung!O12)","v":""},{"$f":"IF(ISBLANK(Datenerfassung!D12),IF(COUNTBLANK(A2:H2)+COUNTBLANK(J2:O2)=14,\"\",\"- ohne Titel -\"),Datenerfassung!D12)","v":""},{"$f":"IF(ISBLANK(Datenerfassung!G12),\"\",Datenerfassung!G12)","v":""},{"$f":"IF(OR(E2=\"\",G2=\"\"),\"\",\"01.01.\"&RIGHT(E2,4)+G2+1)","v":""},{"$f":"IF(ISBLANK(Datenerfassung!X12),\"\",Datenerfassung!X12)","v":""},{"$f":"IF(COUNTBLANK(Datenerfassung!H12:'Datenerfassung'!N12)=7,\"\",CONCATENATE( CONCATENATE(IF(ISBLANK(Datenerfassung!H12),\" \",Datenerfassung!H12 ),\" [IS]\"), CONCATENATE(IF(ISBLANK(Datenerfassung!I12),\" \",Datenerfassung!I12 ),\" [IS]\"), CONCATENATE(IF(ISBLANK(Datenerfassung!J12),\" \",Datenerfassung!J12 ),\" [IS]\"), CONCATENATE(IF(ISBLANK(Datenerfassung!K12),\" \",Datenerfassung!K12 ),\" [IS]\"), CONCATENATE(IF(ISBLANK(Datenerfassung!L12),\" \",Datenerfassung!L12 ),\" [IS]\"), CONCATENATE(IF(ISBLANK(Datenerfassung!M12),\" \",Datenerfassung!M12 ),\" [IS]\"), IF(ISBLANK(Datenerfassung!N12),\" \",Datenerfassung!N12 ) ))","v":""},{"$f":"IF(ISBLANK(Datenerfassung!V12),\"\",Datenerfassung!V12)","v":""},{"$f":"IF(ISBLANK(Datenerfassung!Q12),\"\",Datenerfassung!Q12)","v":""}]
[{"$f":"IF(ISBLANK(Datenerfassung!A13),\"\",Datenerfassung!A13)","v":""},{"$f":"IF(ISBLANK(Datenerfassung!B13),\"\",Datenerfassung!B13)","v":""},{"$f":"IF(ISBLANK(Datenerfassung!C13),\"\",Datenerfassung!C13)","v":""},{"$f":"IF(ISBLANK(Datenerfassung!R13),\"\",Datenerfassung!R13)","v":""},{"$f":"IF(ISBLANK(Datenerfassung!S13),\"\",Datenerfassung!S13)","v":""},{"$f":"IF(D3=\"\",\"\",IF(E3=\"\",D3,D3&\" - \"&E3))","v":""},{"$f":"IF(ISBLANK(Datenerfassung!U13),\"\",Datenerfassung!U13)","v":""},{"$f":"IF(ISBLANK(Datenerfassung!O13),\"\",Datenerfassung!O13)","v":""},{"$f":"IF(ISBLANK(Datenerfassung!D13),IF(COUNTBLANK(A3:H3)+COUNTBLANK(J3:O3)=14,\"\",\"- ohne Titel -\"),Datenerfassung!D13)","v":""},{"$f":"IF(ISBLANK(Datenerfassung!G13),\"\",Datenerfassung!G13)","v":""},{"$f":"IF(OR(E3=\"\",G3=\"\"),\"\",\"01.01.\"&RIGHT(E3,4)+G3+1)","v":""},{"$f":"IF(ISBLANK(Datenerfassung!X13),\"\",Datenerfassung!X13)","v":""},{"$f":"IF(COUNTBLANK(Datenerfassung!H13:'Datenerfassung'!N13)=7,\"\",CONCATENATE( CONCATENATE(IF(ISBLANK(Datenerfassung!H13),\" \",Datenerfassung!H13 ),\" [IS]\"), CONCATENATE(IF(ISBLANK(Datenerfassung!I13),\" \",Datenerfassung!I13 ),\" [IS]\"), CONCATENATE(IF(ISBLANK(Datenerfassung!J13),\" \",Datenerfassung!J13 ),\" [IS]\"), CONCATENATE(IF(ISBLANK(Datenerfassung!K13),\" \",Datenerfassung!K13 ),\" [IS]\"), CONCATENATE(IF(ISBLANK(Datenerfassung!L13),\" \",Datenerfassung!L13 ),\" [IS]\"), CONCATENATE(IF(ISBLANK(Datenerfassung!M13),\" \",Datenerfassung!M13 ),\" [IS]\"), IF(ISBLANK(Datenerfassung!N13),\" \",Datenerfassung!N13 ) ))","v":""},{"$f":"IF(ISBLANK(Datenerfassung!V13),\"\",Datenerfassung!V13)","v":""},{"$f":"IF(ISBLANK(Datenerfassung!Q13),\"\",Datenerfassung!Q13)","v":""}]
[{"$f":"IF(ISBLANK(Datenerfassung!A14),\"\",Datenerfassung!A14)","v":""},{"$f":"IF(ISBLANK(Datenerfassung!B14),\"\",Datenerfassung!B14)","v":""},{"$f":"IF(ISBLANK(Datenerfassung!C14),\"\",Datenerfassung!C14)","v":""},{"$f":"IF(ISBLANK(Datenerfassung!R14),\"\",Datenerfassung!R14)","v":""},{"$f":"IF(ISBLANK(Datenerfassung!S14),\"\",Datenerfassung!S14)","v":""},{"$f":"IF(D4=\"\",\"\",IF(E4=\"\",D4,D4&\" - \"&E4))","v":""},{"$f":"IF(ISBLANK(Datenerfassung!U14),\"\",Datenerfassung!U14)","v":""},{"$f":"IF(ISBLANK(Datenerfassung!O14),\"\",Datenerfassung!O14)","v":""},{"$f":"IF(ISBLANK(Datenerfassung!D14),IF(COUNTBLANK(A4:H4)+COUNTBLANK(J4:O4)=14,\"\",\"- ohne Titel -\"),Datenerfassung!D14)","v":""},{"$f":"IF(ISBLANK(Datenerfassung!G14),\"\",Datenerfassung!G14)","v":""},"",{"$f":"IF(ISBLANK(Datenerfassung!X14),\"\",Datenerfassung!X14)","v":""},{"$f":"IF(COUNTBLANK(Datenerfassung!H14:'Datenerfassung'!N14)=7,\"\",CONCATENATE( CONCATENATE(IF(ISBLANK(Datenerfassung!H14),\" \",Datenerfassung!H14 ),\" [IS]\"), CONCATENATE(IF(ISBLANK(Datenerfassung!I14),\" \",Datenerfassung!I14 ),\" [IS]\"), CONCATENATE(IF(ISBLANK(Datenerfassung!J14),\" \",Datenerfassung!J14 ),\" [IS]\"), CONCATENATE(IF(ISBLANK(Datenerfassung!K14),\" \",Datenerfassung!K14 ),\" [IS]\"), CONCATENATE(IF(ISBLANK(Datenerfassung!L14),\" \",Datenerfassung!L14 ),\" [IS]\"), CONCATENATE(IF(ISBLANK(Datenerfassung!M14),\" \",Datenerfassung!M14 ),\" [IS]\"), IF(ISBLANK(Datenerfassung!N14),\" \",Datenerfassung!N14 ) ))","v":""},{"$f":"IF(ISBLANK(Datenerfassung!V14),\"\",Datenerfassung!V14)","v":""},{"$f":"IF(ISBLANK(Datenerfassung!Q14),\"\",Datenerfassung!Q14)","v":""}]
[{"$f":"IF(ISBLANK(Datenerfassung!A15),\"\",Datenerfassung!A15)","v":""},{"$f":"IF(ISBLANK(Datenerfassung!B15),\"\",Datenerfassung!B15)","v":""},{"$f":"IF(ISBLANK(Datenerfassung!C15),\"\",Datenerfassung!C15)","v":""},{"$f":"IF(ISBLANK(Datenerfassung!R15),\"\",Datenerfassung!R15)","v":""},{"$f":"IF(ISBLANK(Datenerfassung!S15),\"\",Datenerfassung!S15)","v":""},"",{"$f":"IF(ISBLANK(Datenerfassung!U15),\"\",Datenerfassung!U15)","v":""},{"$f":"IF(ISBLANK(Datenerfassung!O15),\"\",Datenerfassung!O15)","v":""},{"$f":"IF(ISBLANK(Datenerfassung!D15),IF(COUNTBLANK(A5:H5)+COUNTBLANK(J5:O5)=14,\"\",\"- ohne Titel -\"),Datenerfassung!D15)","v":""},{"$f":"IF(ISBLANK(Datenerfassung!G15),\"\",Datenerfassung!G15)","v":""},"",{"$f":"IF(ISBLANK(Datenerfassung!X15),\"\",Datenerfassung!X15)","v":""},{"$f":"IF(COUNTBLANK(Datenerfassung!H15:'Datenerfassung'!N15)=7,\"\",CONCATENATE( CONCATENATE(IF(ISBLANK(Datenerfassung!H15),\" \",Datenerfassung!H15 ),\" [IS]\"), CONCATENATE(IF(ISBLANK(Datenerfassung!I15),\" \",Datenerfassung!I15 ),\" [IS]\"), CONCATENATE(IF(ISBLANK(Datenerfassung!J15),\" \",Datenerfassung!J15 ),\" [IS]\"), CONCATENATE(IF(ISBLANK(Datenerfassung!K15),\" \",Datenerfassung!K15 ),\" [IS]\"), CONCATENATE(IF(ISBLANK(Datenerfassung!L15),\" \",Datenerfassung!L15 ),\" [IS]\"), CONCATENATE(IF(ISBLANK(Datenerfassung!M15),\" \",Datenerfassung!M15 ),\" [IS]\"), IF(ISBLANK(Datenerfassung!N15),\" \",Datenerfassung!N15 ) ))","v":""},{"$f":"IF(ISBLANK(Datenerfassung!V15),\"\",Datenerfassung!V15)","v":""},{"$f":"IF(ISBLANK(Datenerfassung!Q15),\"\",Datenerfassung!Q15)","v":""}]
[{"$f":"IF(ISBLANK(Datenerfassung!A16),\"\",Datenerfassung!A16)","v":""},{"$f":"IF(ISBLANK(Datenerfassung!B16),\"\",Datenerfassung!B16)","v":""},{"$f":"IF(ISBLANK(Datenerfassung!C16),\"\",Datenerfassung!C16)","v":""},{"$f":"IF(ISBLANK(Datenerfassung!R16),\"\",Datenerfassung!R16)","v":""},{"$f":"IF(ISBLANK(Datenerfassung!S16),\"\",Datenerfassung!S16)","v":""},"",{"$f":"IF(ISBLANK(Datenerfassung!U16),\"\",Datenerfassung!U16)","v":""},{"$f":"IF(ISBLANK(Datenerfassung!O16),\"\",Datenerfassung!O16)","v":""},{"$f":"IF(ISBLANK(Datenerfassung!D16),IF(COUNTBLANK(A6:H6)+COUNTBLANK(J6:O6)=14,\"\",\"- ohne Titel -\"),Datenerfassung!D16)","v":""},{"$f":"IF(ISBLANK(Datenerfassung!G16),\"\",Datenerfassung!G16)","v":""},"",{"$f":"IF(ISBLANK(Datenerfassung!X16),\"\",Datenerfassung!X16)","v":""},{"$f":"IF(COUNTBLANK(Datenerfassung!H16:'Datenerfassung'!N16)=7,\"\",CONCATENATE( CONCATENATE(IF(ISBLANK(Datenerfassung!H16),\" \",Datenerfassung!H16 ),\" [IS]\"), CONCATENATE(IF(ISBLANK(Datenerfassung!I16),\" \",Datenerfassung!I16 ),\" [IS]\"), CONCATENATE(IF(ISBLANK(Datenerfassung!J16),\" \",Datenerfassung!J16 ),\" [IS]\"), CONCATENATE(IF(ISBLANK(Datenerfassung!K16),\" \",Datenerfassung!K16 ),\" [IS]\"), CONCATENATE(IF(ISBLANK(Datenerfassung!L16),\" \",Datenerfassung!L16 ),\" [IS]\"), CONCATENATE(IF(ISBLANK(Datenerfassung!M16),\" \",Datenerfassung!M16 ),\" [IS]\"), IF(ISBLANK(Datenerfassung!N16),\" \",Datenerfassung!N16 ) ))","v":""},{"$f":"IF(ISBLANK(Datenerfassung!V16),\"\",Datenerfassung!V16)","v":""},{"$f":"IF(ISBLANK(Datenerfassung!Q16),\"\",Datenerfassung!Q16)","v":""}]
[{"$f":"IF(ISBLANK(Datenerfassung!A17),\"\",Datenerfassung!A17)","v":""},{"$f":"IF(ISBLANK(Datenerfassung!B17),\"\",Datenerfassung!B17)","v":""},{"$f":"IF(ISBLANK(Datenerfassung!C17),\"\",Datenerfassung!C17)","v":""},{"$f":"IF(ISBLANK(Datenerfassung!R17),\"\",Datenerfassung!R17)","v":""},{"$f":"IF(ISBLANK(Datenerfassung!S17),\"\",Datenerfassung!S17)","v":""},"",{"$f":"IF(ISBLANK(Datenerfassung!U17),\"\",Datenerfassung!U17)","v":""},{"$f":"IF(ISBLANK(Datenerfassung!O17),\"\",Datenerfassung!O17)","v":""},{"$f":"IF(ISBLANK(Datenerfassung!D17),IF(COUNTBLANK(A7:H7)+COUNTBLANK(J7:O7)=14,\"\",\"- ohne Titel -\"),Datenerfassung!D17)","v":""},{"$f":"IF(ISBLANK(Datenerfassung!G17),\"\",Datenerfassung!G17)","v":""},"",{"$f":"IF(ISBLANK(Datenerfassung!X17),\"\",Datenerfassung!X17)","v":""},{"$f":"IF(COUNTBLANK(Datenerfassung!H17:'Datenerfassung'!N17)=7,\"\",CONCATENATE( CONCATENATE(IF(ISBLANK(Datenerfassung!H17),\" \",Datenerfassung!H17 ),\" [IS]\"), CONCATENATE(IF(ISBLANK(Datenerfassung!I17),\" \",Datenerfassung!I17 ),\" [IS]\"), CONCATENATE(IF(ISBLANK(Datenerfassung!J17),\" \",Datenerfassung!J17 ),\" [IS]\"), CONCATENATE(IF(ISBLANK(Datenerfassung!K17),\" \",Datenerfassung!K17 ),\" [IS]\"), CONCATENATE(IF(ISBLANK(Datenerfassung!L17),\" \",Datenerfassung!L17 ),\" [IS]\"), CONCATENATE(IF(ISBLANK(Datenerfassung!M17),\" \",Datenerfassung!M17 ),\" [IS]\"), IF(ISBLANK(Datenerfassung!N17),\" \",Datenerfassung!N17 ) ))","v":""},{"$f":"IF(ISBLANK(Datenerfassung!V17),\"\",Datenerfassung!V17)","v":""},{"$f":"IF(ISBLANK(Datenerfassung!Q17),\"\",Datenerfassung!Q17)","v":""}]
[{"$f":"IF(ISBLANK(Datenerfassung!A18),\"\",Datenerfassung!A18)","v":""},{"$f":"IF(ISBLANK(Datenerfassung!B18),\"\",Datenerfassung!B18)","v":""},{"$f":"IF(ISBLANK(Datenerfassung!C18),\"\",Datenerfassung!C18)","v":""},{"$f":"IF(ISBLANK(Datenerfassung!R18),\"\",Datenerfassung!R18)","v":""},{"$f":"IF(ISBLANK(Datenerfassung!S18),\"\",Datenerfassung!S18)","v":""},"",{"$f":"IF(ISBLANK(Datenerfassung!U18),\"\",Datenerfassung!U18)","v":""},{"$f":"IF(ISBLANK(Datenerfassung!O18),\"\",Datenerfassung!O18)","v":""},{"$f":"IF(ISBLANK(Datenerfassung!D18),IF(COUNTBLANK(A8:H8)+COUNTBLANK(J8:O8)=14,\"\",\"- ohne Titel -\"),Datenerfassung!D18)","v":""},{"$f":"IF(ISBLANK(Datenerfassung!G18),\"\",Datenerfassung!G18)","v":""},"",{"$f":"IF(ISBLANK(Datenerfassung!X18),\"\",Datenerfassung!X18)","v":""},{"$f":"IF(COUNTBLANK(Datenerfassung!H18:'Datenerfassung'!N18)=7,\"\",CONCATENATE( CONCATENATE(IF(ISBLANK(Datenerfassung!H18),\" \",Datenerfassung!H18 ),\" [IS]\"), CONCATENATE(IF(ISBLANK(Datenerfassung!I18),\" \",Datenerfassung!I18 ),\" [IS]\"), CONCATENATE(IF(ISBLANK(Datenerfassung!J18),\" \",Datenerfassung!J18 ),\" [IS]\"), CONCATENATE(IF(ISBLANK(Datenerfassung!K18),\" \",Datenerfassung!K18 ),\" [IS]\"), CONCATENATE(IF(ISBLANK(Datenerfassung!L18),\" \",Datenerfassung!L18 ),\" [IS]\"), CONCATENATE(IF(ISBLANK(Datenerfassung!M18),\" \",Datenerfassung!M18 ),\" [IS]\"), IF(ISBLANK(Datenerfassung!N18),\" \",Datenerfassung!N18 ) ))","v":""},{"$f":"IF(ISBLANK(Datenerfassung!V18),\"\",Datenerfassung!V18)","v":""},{"$f":"IF(ISBLANK(Datenerfassung!Q18),\"\",Datenerfassung!Q18)","v":""}]
[{"$f":"IF(ISBLANK(Datenerfassung!A19),\"\",Datenerfassung!A19)","v":""},{"$f":"IF(ISBLANK(Datenerfassung!B19),\"\",Datenerfassung!B19)","v":""},{"$f":"IF(ISBLANK(Datenerfassung!C19),\"\",Datenerfassung!C19)","v":""},{"$f":"IF(ISBLANK(Datenerfassung!R19),\"\",Datenerfassung!R19)","v":""},{"$f":"IF(ISBLANK(Datenerfassung!S19),\"\",Datenerfassung!S19)","v":""},"",{"$f":"IF(ISBLANK(Datenerfassung!U19),\"\",Datenerfassung!U19)","v":""},{"$f":"IF(ISBLANK(Datenerfassung!O19),\"\",Datenerfassung!O19)","v":""},{"$f":"IF(ISBLANK(Datenerfassung!D19),IF(COUNTBLANK(A9:H9)+COUNTBLANK(J9:O9)=14,\"\",\"- ohne Titel -\"),Datenerfassung!D19)","v":""},{"$f":"IF(ISBLANK(Datenerfassung!G19),\"\",Datenerfassung!G19)","v":""},"",{"$f":"IF(ISBLANK(Datenerfassung!X19),\"\",Datenerfassung!X19)","v":""},{"$f":"IF(COUNTBLANK(Datenerfassung!H19:'Datenerfassung'!N19)=7,\"\",CONCATENATE( CONCATENATE(IF(ISBLANK(Datenerfassung!H19),\" \",Datenerfassung!H19 ),\" [IS]\"), CONCATENATE(IF(ISBLANK(Datenerfassung!I19),\" \",Datenerfassung!I19 ),\" [IS]\"), CONCATENATE(IF(ISBLANK(Datenerfassung!J19),\" \",Datenerfassung!J19 ),\" [IS]\"), CONCATENATE(IF(ISBLANK(Datenerfassung!K19),\" \",Datenerfassung!K19 ),\" [IS]\"), CONCATENATE(IF(ISBLANK(Datenerfassung!L19),\" \",Datenerfassung!L19 ),\" [IS]\"), CONCATENATE(IF(ISBLANK(Datenerfassung!M19),\" \",Datenerfassung!M19 ),\" [IS]\"), IF(ISBLANK(Datenerfassung!N19),\" \",Datenerfassung!N19 ) ))","v":""},{"$f":"IF(ISBLANK(Datenerfassung!V19),\"\",Datenerfassung!V19)","v":""},{"$f":"IF(ISBLANK(Datenerfassung!Q19),\"\",Datenerfassung!Q19)","v":""}]
[{"$f":"IF(ISBLANK(Datenerfassung!A20),\"\",Datenerfassung!A20)","v":""},{"$f":"IF(ISBLANK(Datenerfassung!B20),\"\",Datenerfassung!B20)","v":""},{"$f":"IF(ISBLANK(Datenerfassung!C20),\"\",Datenerfassung!C20)","v":""},{"$f":"IF(ISBLANK(Datenerfassung!R20),\"\",Datenerfassung!R20)","v":""},{"$f":"IF(ISBLANK(Datenerfassung!S20),\"\",Datenerfassung!S20)","v":""},"",{"$f":"IF(ISBLANK(Datenerfassung!U20),\"\",Datenerfassung!U20)","v":""},{"$f":"IF(ISBLANK(Datenerfassung!O20),\"\",Datenerfassung!O20)","v":""},{"$f":"IF(ISBLANK(Datenerfassung!D20),IF(COUNTBLANK(A10:H10)+COUNTBLANK(J10:O10)=14,\"\",\"- ohne Titel -\"),Datenerfassung!D20)","v":""},{"$f":"IF(ISBLANK(Datenerfassung!G20),\"\",Datenerfassung!G20)","v":""},"",{"$f":"IF(ISBLANK(Datenerfassung!X20),\"\",Datenerfassung!X20)","v":""},{"$f":"IF(COUNTBLANK(Datenerfassung!H20:'Datenerfassung'!N20)=7,\"\",CONCATENATE( CONCATENATE(IF(ISBLANK(Datenerfassung!H20),\" \",Datenerfassung!H20 ),\" [IS]\"), CONCATENATE(IF(ISBLANK(Datenerfassung!I20),\" \",Datenerfassung!I20 ),\" [IS]\"), CONCATENATE(IF(ISBLANK(Datenerfassung!J20),\" \",Datenerfassung!J20 ),\" [IS]\"), CONCATENATE(IF(ISBLANK(Datenerfassung!K20),\" \",Datenerfassung!K20 ),\" [IS]\"), CONCATENATE(IF(ISBLANK(Datenerfassung!L20),\" \",Datenerfassung!L20 ),\" [IS]\"), CONCATENATE(IF(ISBLANK(Datenerfassung!M20),\" \",Datenerfassung!M20 ),\" [IS]\"), IF(ISBLANK(Datenerfassung!N20),\" \",Datenerfassung!N20 ) ))","v":""},{"$f":"IF(ISBLANK(Datenerfassung!V20),\"\",Datenerfassung!V20)","v":""},{"$f":"IF(ISBLANK(Datenerfassung!Q20),\"\",Datenerfassung!Q20)","v":""}]
[{"$f":"IF(ISBLANK(Datenerfassung!A21),\"\",Datenerfassung!A21)","v":""},{"$f":"IF(ISBLANK(Datenerfassung!B21),\"\",Datenerfassung!B21)","v":""},{"$f":"IF(ISBLANK(Datenerfassung!C21),\"\",Datenerfassung!C21)","v":""},{"$f":"IF(ISBLANK(Datenerfassung!R21),\"\",Datenerfassung!R21)","v":""},{"$f":"IF(ISBLANK(Datenerfassung!S21),\"\",Datenerfassung!S21)","v":""},"",{"$f":"IF(ISBLANK(Datenerfassung!U21),\"\",Datenerfassung!U21)","v":""},{"$f":"IF(ISBLANK(Datenerfassung!O21),\"\",Datenerfassung!O21)","v":""},{"$f":"IF(ISBLANK(Datenerfassung!D21),IF(COUNTBLANK(A11:H11)+COUNTBLANK(J11:O11)=14,\"\",\"- ohne Titel -\"),Datenerfassung!D21)","v":""},{"$f":"IF(ISBLANK(Datenerfassung!G21),\"\",Datenerfassung!G21)","v":""},"",{"$f":"IF(ISBLANK(Datenerfassung!X21),\"\",Datenerfassung!X21)","v":""},{"$f":"IF(COUNTBLANK(Datenerfassung!H21:'Datenerfassung'!N21)=7,\"\",CONCATENATE( CONCATENATE(IF(ISBLANK(Datenerfassung!H21),\" \",Datenerfassung!H21 ),\" [IS]\"), CONCATENATE(IF(ISBLANK(Datenerfassung!I21),\" \",Datenerfassung!I21 ),\" [IS]\"), CONCATENATE(IF(ISBLANK(Datenerfassung!J21),\" \",Datenerfassung!J21 ),\" [IS]\"), CONCATENATE(IF(ISBLANK(Datenerfassung!K21),\" \",Datenerfassung!K21 ),\" [IS]\"), CONCATENATE(IF(ISBLANK(Datenerfassung!L21),\" \",Datenerfassung!L21 ),\" [IS]\"), CONCATENATE(IF(ISBLANK(Datenerfassung!M21),\" \",Datenerfassung!M21 ),\" [IS]\"), IF(ISBLANK(Datenerfassung!N21),\" \",Datenerfassung!N21 ) ))","v":""},{"$f":"IF(ISBLANK(Datenerfassung!V21),\"\",Datenerfassung!V21)","v":""},{"$f":"IF(ISBLANK(Datenerfassung!Q21),\"\",Datenerfassung!Q21)","v":""}]
[{"$f":"IF(ISBLANK(Datenerfassung!A22),\"\",Datenerfassung!A22)","v":""},{"$f":"IF(ISBLANK(Datenerfassung!B22),\"\",Datenerfassung!B22)","v":""},{"$f":"IF(ISBLANK(Datenerfassung!C22),\"\",Datenerfassung!C22)","v":""},{"$f":"IF(ISBLANK(Datenerfassung!R22),\"\",Datenerfassung!R22)","v":""},{"$f":"IF(ISBLANK(Datenerfassung!S22),\"\",Datenerfassung!S22)","v":""},"",{"$f":"IF(ISBLANK(Datenerfassung!U22),\"\",Datenerfassung!U22)","v":""},{"$f":"IF(ISBLANK(Datenerfassung!O22),\"\",Datenerfassung!O22)","v":""},{"$f":"IF(ISBLANK(Datenerfassung!D22),IF(COUNTBLANK(A12:H12)+COUNTBLANK(J12:O12)=14,\"\",\"- ohne Titel -\"),Datenerfassung!D22)","v":""},{"$f":"IF(ISBLANK(Datenerfassung!G22),\"\",Datenerfassung!G22)","v":""},"",{"$f":"IF(ISBLANK(Datenerfassung!X22),\"\",Datenerfassung!X22)","v":""},{"$f":"IF(COUNTBLANK(Datenerfassung!H22:'Datenerfassung'!N22)=7,\"\",CONCATENATE( CONCATENATE(IF(ISBLANK(Datenerfassung!H22),\" \",Datenerfassung!H22 ),\" [IS]\"), CONCATENATE(IF(ISBLANK(Datenerfassung!I22),\" \",Datenerfassung!I22 ),\" [IS]\"), CONCATENATE(IF(ISBLANK(Datenerfassung!J22),\" \",Datenerfassung!J22 ),\" [IS]\"), CONCATENATE(IF(ISBLANK(Datenerfassung!K22),\" \",Datenerfassung!K22 ),\" [IS]\"), CONCATENATE(IF(ISBLANK(Datenerfassung!L22),\" \",Datenerfassung!L22 ),\" [IS]\"), CONCATENATE(IF(ISBLANK(Datenerfassung!M22),\" \",Datenerfassung!M22 ),\" [IS]\"), IF(ISBLANK(Datenerfassung!N22),\" \",Datenerfassung!N22 ) ))","v":""},{"$f":"IF(ISBLANK(Datenerfassung!V22),\"\",Datenerfassung!V22)","v":""},{"$f":"IF(ISBLANK(Datenerfassung!Q22),\"\",Datenerfassung!Q22)","v":""}]
[{"$f":"IF(ISBLANK(Datenerfassung!A23),\"\",Datenerfassung!A23)","v":""},{"$f":"IF(ISBLANK(Datenerfassung!B23),\"\",Datenerfassung!B23)","v":""},{"$f":"IF(ISBLANK(Datenerfassung!C23),\"\",Datenerfassung!C23)","v":""},{"$f":"IF(ISBLANK(Datenerfassung!R23),\"\",Datenerfassung!R23)","v":""},{"$f":"IF(ISBLANK(Datenerfassung!S23),\"\",Datenerfassung!S23)","v":""},"",{"$f":"IF(ISBLANK(Datenerfassung!U23),\"\",Datenerfassung!U23)","v":""},{"$f":"IF(ISBLANK(Datenerfassung!O23),\"\",Datenerfassung!O23)","v":""},{"$f":"IF(ISBLANK(Datenerfassung!D23),IF(COUNTBLANK(A13:H13)+COUNTBLANK(J13:O13)=14,\"\",\"- ohne Titel -\"),Datenerfassung!D23)","v":""},{"$f":"IF(ISBLANK(Datenerfassung!G23),\"\",Datenerfassung!G23)","v":""},"",{"$f":"IF(ISBLANK(Datenerfassung!X23),\"\",Datenerfassung!X23)","v":""},{"$f":"IF(COUNTBLANK(Datenerfassung!H23:'Datenerfassung'!N23)=7,\"\",CONCATENATE( CONCATENATE(IF(ISBLANK(Datenerfassung!H23),\" \",Datenerfassung!H23 ),\" [IS]\"), CONCATENATE(IF(ISBLANK(Datenerfassung!I23),\" \",Datenerfassung!I23 ),\" [IS]\"), CONCATENATE(IF(ISBLANK(Datenerfassung!J23),\" \",Datenerfassung!J23 ),\" [IS]\"), CONCATENATE(IF(ISBLANK(Datenerfassung!K23),\" \",Datenerfassung!K23 ),\" [IS]\"), CONCATENATE(IF(ISBLANK(Datenerfassung!L23),\" \",Datenerfassung!L23 ),\" [IS]\"), CONCATENATE(IF(ISBLANK(Datenerfassung!M23),\" \",Datenerfassung!M23 ),\" [IS]\"), IF(ISBLANK(Datenerfassung!N23),\" \",Datenerfassung!N23 ) ))","v":""},{"$f":"IF(ISBLANK(Datenerfassung!V23),\"\",Datenerfassung!V23)","v":""},{"$f":"IF(ISBLANK(Datenerfassung!Q23),\"\",Datenerfassung!Q23)","v":""}]
[{"$f":"IF(ISBLANK(Datenerfassung!A24),\"\",Datenerfassung!A24)","v":""},{"$f":"IF(ISBLANK(Datenerfassung!B24),\"\",Datenerfassung!B24)","v":""},{"$f":"IF(ISBLANK(Datenerfassung!C24),\"\",Datenerfassung!C24)","v":""},{"$f":"IF(ISBLANK(Datenerfassung!R24),\"\",Datenerfassung!R24)","v":""},{"$f":"IF(ISBLANK(Datenerfassung!S24),\"\",Datenerfassung!S24)","v":""},"",{"$f":"IF(ISBLANK(Datenerfassung!U24),\"\",Datenerfassung!U24)","v":""},{"$f":"IF(ISBLANK(Datenerfassung!O24),\"\",Datenerfassung!O24)","v":""},{"$f":"IF(ISBLANK(Datenerfassung!D24),IF(COUNTBLANK(A14:H14)+COUNTBLANK(J14:O14)=14,\"\",\"- ohne Titel -\"),Datenerfassung!D24)","v":""},{"$f":"IF(ISBLANK(Datenerfassung!G24),\"\",Datenerfassung!G24)","v":""},"",{"$f":"IF(ISBLANK(Datenerfassung!X24),\"\",Datenerfassung!X24)","v":""},{"$f":"IF(COUNTBLANK(Datenerfassung!H24:'Datenerfassung'!N24)=7,\"\",CONCATENATE( CONCATENATE(IF(ISBLANK(Datenerfassung!H24),\" \",Datenerfassung!H24 ),\" [IS]\"), CONCATENATE(IF(ISBLANK(Datenerfassung!I24),\" \",Datenerfassung!I24 ),\" [IS]\"), CONCATENATE(IF(ISBLANK(Datenerfassung!J24),\" \",Datenerfassung!J24 ),\" [IS]\"), CONCATENATE(IF(ISBLANK(Datenerfassung!K24),\" \",Datenerfassung!K24 ),\" [IS]\"), CONCATENATE(IF(ISBLANK(Datenerfassung!L24),\" \",Datenerfassung!L24 ),\" [IS]\"), CONCATENATE(IF(ISBLANK(Datenerfassung!M24),\" \",Datenerfassung!M24 ),\" [IS]\"), IF(ISBLANK(Datenerfassung!N24),\" \",Datenerfassung!N24 ) ))","v":""},{"$f":"IF(ISBLANK(Datenerfassung!V24),\"\",Datenerfassung!V24)","v":""},{"$f":"IF(ISBLANK(Datenerfassung!Q24),\"\",Datenerfassung!Q24)","v":""}]
[{"$f":"IF(ISBLANK(Datenerfassung!A25),\"\",Datenerfassung!A25)","v":""},{"$f":"IF(ISBLANK(Datenerfassung!B25),\"\",Datenerfassung!B25)","v":""},{"$f":"IF(ISBLANK(Datenerfassung!C25),\"\",Datenerfassung!C25)","v":""},{"$f":"IF(ISBLANK(Datenerfassung!R25),\"\",Datenerfassung!R25)","v":""},{"$f":"IF(ISBLANK(Datenerfassung!S25),\"\",Datenerfassung!S25)","v":""},"",{"$f":"IF(ISBLANK(Datenerfassung!U25),\"\",Datenerfassung!U25)","v":""},{"$f":"IF(ISBLANK(Datenerfassung!O25),\"\",Datenerfassung!O25)","v":""},{"$f":"IF(ISBLANK(Datenerfassung!D25),IF(COUNTBLANK(A15:H15)+COUNTBLANK(J15:O15)=14,\"\",\"- ohne Titel -\"),Datenerfassung!D25)","v":""},{"$f":"IF(ISBLANK(Datenerfassung!G25),\"\",Datenerfassung!G25)","v":""},"",{"$f":"IF(ISBLANK(Datenerfassung!X25),\"\",Datenerfassung!X25)","v":""},{"$f":"IF(COUNTBLANK(Datenerfassung!H25:'Datenerfassung'!N25)=7,\"\",CONCATENATE( CONCATENATE(IF(ISBLANK(Datenerfassung!H25),\" \",Datenerfassung!H25 ),\" [IS]\"), CONCATENATE(IF(ISBLANK(Datenerfassung!I25),\" \",Datenerfassung!I25 ),\" [IS]\"), CONCATENATE(IF(ISBLANK(Datenerfassung!J25),\" \",Datenerfassung!J25 ),\" [IS]\"), CONCATENATE(IF(ISBLANK(Datenerfassung!K25),\" \",Datenerfassung!K25 ),\" [IS]\"), CONCATENATE(IF(ISBLANK(Datenerfassung!L25),\" \",Datenerfassung!L25 ),\" [IS]\"), CONCATENATE(IF(ISBLANK(Datenerfassung!M25),\" \",Datenerfassung!M25 ),\" [IS]\"), IF(ISBLANK(Datenerfassung!N25),\" \",Datenerfassung!N25 ) ))","v":""},{"$f":"IF(ISBLANK(Datenerfassung!V25),\"\",Datenerfassung!V25)","v":""},{"$f":"IF(ISBLANK(Datenerfassung!Q25),\"\",Datenerfassung!Q25)","v":""}]
[{"$f":"IF(ISBLANK(Datenerfassung!A26),\"\",Datenerfassung!A26)","v":""},{"$f":"IF(ISBLANK(Datenerfassung!B26),\"\",Datenerfassung!B26)","v":""},{"$f":"IF(ISBLANK(Datenerfassung!C26),\"\",Datenerfassung!C26)","v":""},{"$f":"IF(ISBLANK(Datenerfassung!R26),\"\",Datenerfassung!R26)","v":""},{"$f":"IF(ISBLANK(Datenerfassung!S26),\"\",Datenerfassung!S26)","v":""},"",{"$f":"IF(ISBLANK(Datenerfassung!U26),\"\",Datenerfassung!U26)","v":""},{"$f":"IF(ISBLANK(Datenerfassung!O26),\"\",Datenerfassung!O26)","v":""},{"$f":"IF(ISBLANK(Datenerfassung!D26),IF(COUNTBLANK(A16:H16)+COUNTBLANK(J16:O16)=14,\"\",\"- ohne Titel -\"),Datenerfassung!D26)","v":""},{"$f":"IF(ISBLANK(Datenerfassung!G26),\"\",Datenerfassung!G26)","v":""},"",{"$f":"IF(ISBLANK(Datenerfassung!X26),\"\",Datenerfassung!X26)","v":""},{"$f":"IF(COUNTBLANK(Datenerfassung!H26:'Datenerfassung'!N26)=7,\"\",CONCATENATE( CONCATENATE(IF(ISBLANK(Datenerfassung!H26),\" \",Datenerfassung!H26 ),\" [IS]\"), CONCATENATE(IF(ISBLANK(Datenerfassung!I26),\" \",Datenerfassung!I26 ),\" [IS]\"), CONCATENATE(IF(ISBLANK(Datenerfassung!J26),\" \",Datenerfassung!J26 ),\" [IS]\"), CONCATENATE(IF(ISBLANK(Datenerfassung!K26),\" \",Datenerfassung!K26 ),\" [IS]\"), CONCATENATE(IF(ISBLANK(Datenerfassung!L26),\" \",Datenerfassung!L26 ),\" [IS]\"), CONCATENATE(IF(ISBLANK(Datenerfassung!M26),\" \",Datenerfassung!M26 ),\" [IS]\"), IF(ISBLANK(Datenerfassung!N26),\" \",Datenerfassung!N26 ) ))","v":""},{"$f":"IF(ISBLANK(Datenerfassung!V26),\"\",Datenerfassung!V26)","v":""},{"$f":"IF(ISBLANK(Datenerfassung!Q26),\"\",Datenerfassung!Q26)","v":""}]
[{"$f":"IF(ISBLANK(Datenerfassung!A27),\"\",Datenerfassung!A27)","v":""},{"$f":"IF(ISBLANK(Datenerfassung!B27),\"\",Datenerfassung!B27)","v":""},{"$f":"IF(ISBLANK(Datenerfassung!C27),\"\",Datenerfassung!C27)","v":""},{"$f":"IF(ISBLANK(Datenerfassung!R27),\"\",Datenerfassung!R27)","v":""},{"$f":"IF(ISBLANK(Datenerfassung!S27),\"\",Datenerfassung!S27)","v":""},"",{"$f":"IF(ISBLANK(Datenerfassung!U27),\"\",Datenerfassung!U27)","v":""},{"$f":"IF(ISBLANK(Datenerfassung!O27),\"\",Datenerfassung!O27)","v":""},{"$f":"IF(ISBLANK(Datenerfassung!D27),IF(COUNTBLANK(A17:H17)+COUNTBLANK(J17:O17)=14,\"\",\"- ohne Titel -\"),Datenerfassung!D27)","v":""},{"$f":"IF(ISBLANK(Datenerfassung!G27),\"\",Datenerfassung!G27)","v":""},"",{"$f":"IF(ISBLANK(Datenerfassung!X27),\"\",Datenerfassung!X27)","v":""},{"$f":"IF(COUNTBLANK(Datenerfassung!H27:'Datenerfassung'!N27)=7,\"\",CONCATENATE( CONCATENATE(IF(ISBLANK(Datenerfassung!H27),\" \",Datenerfassung!H27 ),\" [IS]\"), CONCATENATE(IF(ISBLANK(Datenerfassung!I27),\" \",Datenerfassung!I27 ),\" [IS]\"), CONCATENATE(IF(ISBLANK(Datenerfassung!J27),\" \",Datenerfassung!J27 ),\" [IS]\"), CONCATENATE(IF(ISBLANK(Datenerfassung!K27),\" \",Datenerfassung!K27 ),\" [IS]\"), CONCATENATE(IF(ISBLANK(Datenerfassung!L27),\" \",Datenerfassung!L27 ),\" [IS]\"), CONCATENATE(IF(ISBLANK(Datenerfassung!M27),\" \",Datenerfassung!M27 ),\" [IS]\"), IF(ISBLANK(Datenerfassung!N27),\" \",Datenerfassung!N27 ) ))","v":""},{"$f":"IF(ISBLANK(Datenerfassung!V27),\"\",Datenerfassung!V27)","v":""},{"$f":"IF(ISBLANK(Datenerfassung!Q27),\"\",Datenerfassung!Q27)","v":""}]
[{"$f":"IF(ISBLANK(Datenerfassung!A28),\"\",Datenerfassung!A28)","v":""},{"$f":"IF(ISBLANK(Datenerfassung!B28),\"\",Datenerfassung!B28)","v":""},{"$f":"IF(ISBLANK(Datenerfassung!C28),\"\",Datenerfassung!C28)","v":""},{"$f":"IF(ISBLANK(Datenerfassung!R28),\"\",Datenerfassung!R28)","v":""},{"$f":"IF(ISBLANK(Datenerfassung!S28),\"\",Datenerfassung!S28)","v":""},"",{"$f":"IF(ISBLANK(Datenerfassung!U28),\"\",Datenerfassung!U28)","v":""},{"$f":"IF(ISBLANK(Datenerfassung!O28),\"\",Datenerfassung!O28)","v":""},{"$f":"IF(ISBLANK(Datenerfassung!D28),IF(COUNTBLANK(A18:H18)+COUNTBLANK(J18:O18)=14,\"\",\"- ohne Titel -\"),Datenerfassung!D28)","v":""},{"$f":"IF(ISBLANK(Datenerfassung!G28),\"\",Datenerfassung!G28)","v":""},"",{"$f":"IF(ISBLANK(Datenerfassung!X28),\"\",Datenerfassung!X28)","v":""},{"$f":"IF(COUNTBLANK(Datenerfassung!H28:'Datenerfassung'!N28)=7,\"\",CONCATENATE( CONCATENATE(IF(ISBLANK(Datenerfassung!H28),\" \",Datenerfassung!H28 ),\" [IS]\"), CONCATENATE(IF(ISBLANK(Datenerfassung!I28),\" \",Datenerfassung!I28 ),\" [IS]\"), CONCATENATE(IF(ISBLANK(Datenerfassung!J28),\" \",Datenerfassung!J28 ),\" [IS]\"), CONCATENATE(IF(ISBLANK(Datenerfassung!K28),\" \",Datenerfassung!K28 ),\" [IS]\"), CONCATENATE(IF(ISBLANK(Datenerfassung!L28),\" \",Datenerfassung!L28 ),\" [IS]\"), CONCATENATE(IF(ISBLANK(Datenerfassung!M28),\" \",Datenerfassung!M28 ),\" [IS]\"), IF(ISBLANK(Datenerfassung!N28),\" \",Datenerfassung!N28 ) ))","v":""},{"$f":"IF(ISBLANK(Datenerfassung!V28),\"\",Datenerfassung!V28)","v":""},{"$f":"IF(ISBLANK(Datenerfassung!Q28),\"\",Datenerfassung!Q28)","v":""}]
[{"$f":"IF(ISBLANK(Datenerfassung!A29),\"\",Datenerfassung!A29)","v":""},{"$f":"IF(ISBLANK(Datenerfassung!B29),\"\",Datenerfassung!B29)","v":""},{"$f":"IF(ISBLANK(Datenerfassung!C29),\"\",Datenerfassung!C29)","v":""},{"$f":"IF(ISBLANK(Datenerfassung!R29),\"\",Datenerfassung!R29)","v":""},{"$f":"IF(ISBLANK(Datenerfassung!S29),\"\",Datenerfassung!S29)","v":""},"",{"$f":"IF(ISBLANK(Datenerfassung!U29),\"\",Datenerfassung!U29)","v":""},{"$f":"IF(ISBLANK(Datenerfassung!O29),\"\",Datenerfassung!O29)","v":""},{"$f":"IF(ISBLANK(Datenerfassung!D29),IF(COUNTBLANK(A19:H19)+COUNTBLANK(J19:O19)=14,\"\",\"- ohne Titel -\"),Datenerfassung!D29)","v":""},{"$f":"IF(ISBLANK(Datenerfassung!G29),\"\",Datenerfassung!G29)","v":""},"",{"$f":"IF(ISBLANK(Datenerfassung!X29),\"\",Datenerfassung!X29)","v":""},{"$f":"IF(COUNTBLANK(Datenerfassung!H29:'Datenerfassung'!N29)=7,\"\",CONCATENATE( CONCATENATE(IF(ISBLANK(Datenerfassung!H29),\" \",Datenerfassung!H29 ),\" [IS]\"), CONCATENATE(IF(ISBLANK(Datenerfassung!I29),\" \",Datenerfassung!I29 ),\" [IS]\"), CONCATENATE(IF(ISBLANK(Datenerfassung!J29),\" \",Datenerfassung!J29 ),\" [IS]\"), CONCATENATE(IF(ISBLANK(Datenerfassung!K29),\" \",Datenerfassung!K29 ),\" [IS]\"), CONCATENATE(IF(ISBLANK(Datenerfassung!L29),\" \",Datenerfassung!L29 ),\" [IS]\"), CONCATENATE(IF(ISBLANK(Datenerfassung!M29),\" \",Datenerfassung!M29 ),\" [IS]\"), IF(ISBLANK(Datenerfassung!N29),\" \",Datenerfassung!N29 ) ))","v":""},{"$f":"IF(ISBLANK(Datenerfassung!V29),\"\",Datenerfassung!V29)","v":""},{"$f":"IF(ISBLANK(Datenerfassung!Q29),\"\",Datenerfassung!Q29)","v":""}]
[{"$f":"IF(ISBLANK(Datenerfassung!A30),\"\",Datenerfassung!A30)","v":""},{"$f":"IF(ISBLANK(Datenerfassung!B30),\"\",Datenerfassung!B30)","v":""},{"$f":"IF(ISBLANK(Datenerfassung!C30),\"\",Datenerfassung!C30)","v":""},{"$f":"IF(ISBLANK(Datenerfassung!R30),\"\",Datenerfassung!R30)","v":""},{"$f":"IF(ISBLANK(Datenerfassung!S30),\"\",Datenerfassung!S30)","v":""},"",{"$f":"IF(ISBLANK(Datenerfassung!U30),\"\",Datenerfassung!U30)","v":""},{"$f":"IF(ISBLANK(Datenerfassung!O30),\"\",Datenerfassung!O30)","v":""},{"$f":"IF(ISBLANK(Datenerfassung!D30),IF(COUNTBLANK(A20:H20)+COUNTBLANK(J20:O20)=14,\"\",\"- ohne Titel -\"),Datenerfassung!D30)","v":""},{"$f":"IF(ISBLANK(Datenerfassung!G30),\"\",Datenerfassung!G30)","v":""},"",{"$f":"IF(ISBLANK(Datenerfassung!X30),\"\",Datenerfassung!X30)","v":""},{"$f":"IF(COUNTBLANK(Datenerfassung!H30:'Datenerfassung'!N30)=7,\"\",CONCATENATE( CONCATENATE(IF(ISBLANK(Datenerfassung!H30),\" \",Datenerfassung!H30 ),\" [IS]\"), CONCATENATE(IF(ISBLANK(Datenerfassung!I30),\" \",Datenerfassung!I30 ),\" [IS]\"), CONCATENATE(IF(ISBLANK(Datenerfassung!J30),\" \",Datenerfassung!J30 ),\" [IS]\"), CONCATENATE(IF(ISBLANK(Datenerfassung!K30),\" \",Datenerfassung!K30 ),\" [IS]\"), CONCATENATE(IF(ISBLANK(Datenerfassung!L30),\" \",Datenerfassung!L30 ),\" [IS]\"), CONCATENATE(IF(ISBLANK(Datenerfassung!M30),\" \",Datenerfassung!M30 ),\" [IS]\"), IF(ISBLANK(Datenerfassung!N30),\" \",Datenerfassung!N30 ) ))","v":""},{"$f":"IF(ISBLANK(Datenerfassung!V30),\"\",Datenerfassung!V30)","v":""},{"$f":"IF(ISBLANK(Datenerfassung!Q30),\"\",Datenerfassung!Q30)","v":""}]
[{"$f":"IF(ISBLANK(Datenerfassung!A31),\"\",Datenerfassung!A31)","v":""},{"$f":"IF(ISBLANK(Datenerfassung!B31),\"\",Datenerfassung!B31)","v":""},{"$f":"IF(ISBLANK(Datenerfassung!C31),\"\",Datenerfassung!C31)","v":""},{"$f":"IF(ISBLANK(Datenerfassung!R31),\"\",Datenerfassung!R31)","v":""},{"$f":"IF(ISBLANK(Datenerfassung!S31),\"\",Datenerfassung!S31)","v":""},"",{"$f":"IF(ISBLANK(Datenerfassung!U31),\"\",Datenerfassung!U31)","v":""},{"$f":"IF(ISBLANK(Datenerfassung!O31),\"\",Datenerfassung!O31)","v":""},{"$f":"IF(ISBLANK(Datenerfassung!D31),IF(COUNTBLANK(A21:H21)+COUNTBLANK(J21:O21)=14,\"\",\"- ohne Titel -\"),Datenerfassung!D31)","v":""},{"$f":"IF(ISBLANK(Datenerfassung!G31),\"\",Datenerfassung!G31)","v":""},"",{"$f":"IF(ISBLANK(Datenerfassung!X31),\"\",Datenerfassung!X31)","v":""},{"$f":"IF(COUNTBLANK(Datenerfassung!H31:'Datenerfassung'!N31)=7,\"\",CONCATENATE( CONCATENATE(IF(ISBLANK(Datenerfassung!H31),\" \",Datenerfassung!H31 ),\" [IS]\"), CONCATENATE(IF(ISBLANK(Datenerfassung!I31),\" \",Datenerfassung!I31 ),\" [IS]\"), CONCATENATE(IF(ISBLANK(Datenerfassung!J31),\" \",Datenerfassung!J31 ),\" [IS]\"), CONCATENATE(IF(ISBLANK(Datenerfassung!K31),\" \",Datenerfassung!K31 ),\" [IS]\"), CONCATENATE(IF(ISBLANK(Datenerfassung!L31),\" \",Datenerfassung!L31 ),\" [IS]\"), CONCATENATE(IF(ISBLANK(Datenerfassung!M31),\" \",Datenerfassung!M31 ),\" [IS]\"), IF(ISBLANK(Datenerfassung!N31),\" \",Datenerfassung!N31 ) ))","v":""},{"$f":"IF(ISBLANK(Datenerfassung!V31),\"\",Datenerfassung!V31)","v":""},{"$f":"IF(ISBLANK(Datenerfassung!Q31),\"\",Datenerfassung!Q31)","v":""}]
[{"$f":"IF(ISBLANK(Datenerfassung!A32),\"\",Datenerfassung!A32)","v":""},{"$f":"IF(ISBLANK(Datenerfassung!B32),\"\",Datenerfassung!B32)","v":""},{"$f":"IF(ISBLANK(Datenerfassung!C32),\"\",Datenerfassung!C32)","v":""},{"$f":"IF(ISBLANK(Datenerfassung!R32),\"\",Datenerfassung!R32)","v":""},{"$f":"IF(ISBLANK(Datenerfassung!S32),\"\",Datenerfassung!S32)","v":""},"",{"$f":"IF(ISBLANK(Datenerfassung!U32),\"\",Datenerfassung!U32)","v":""},{"$f":"IF(ISBLANK(Datenerfassung!O32),\"\",Datenerfassung!O32)","v":""},{"$f":"IF(ISBLANK(Datenerfassung!D32),IF(COUNTBLANK(A22:H22)+COUNTBLANK(J22:O22)=14,\"\",\"- ohne Titel -\"),Datenerfassung!D32)","v":""},{"$f":"IF(ISBLANK(Datenerfassung!G32),\"\",Datenerfassung!G32)","v":""},"",{"$f":"IF(ISBLANK(Datenerfassung!X32),\"\",Datenerfassung!X32)","v":""},{"$f":"IF(COUNTBLANK(Datenerfassung!H32:'Datenerfassung'!N32)=7,\"\",CONCATENATE( CONCATENATE(IF(ISBLANK(Datenerfassung!H32),\" \",Datenerfassung!H32 ),\" [IS]\"), CONCATENATE(IF(ISBLANK(Datenerfassung!I32),\" \",Datenerfassung!I32 ),\" [IS]\"), CONCATENATE(IF(ISBLANK(Datenerfassung!J32),\" \",Datenerfassung!J32 ),\" [IS]\"), CONCATENATE(IF(ISBLANK(Datenerfassung!K32),\" \",Datenerfassung!K32 ),\" [IS]\"), CONCATENATE(IF(ISBLANK(Datenerfassung!L32),\" \",Datenerfassung!L32 ),\" [IS]\"), CONCATENATE(IF(ISBLANK(Datenerfassung!M32),\" \",Datenerfassung!M32 ),\" [IS]\"), IF(ISBLANK(Datenerfassung!N32),\" \",Datenerfassung!N32 ) ))","v":""},{"$f":"IF(ISBLANK(Datenerfassung!V32),\"\",Datenerfassung!V32)","v":""},{"$f":"IF(ISBLANK(Datenerfassung!Q32),\"\",Datenerfassung!Q32)","v":""}]
[{"$f":"IF(ISBLANK(Datenerfassung!A33),\"\",Datenerfassung!A33)","v":""},{"$f":"IF(ISBLANK(Datenerfassung!B33),\"\",Datenerfassung!B33)","v":""},{"$f":"IF(ISBLANK(Datenerfassung!C33),\"\",Datenerfassung!C33)","v":""},{"$f":"IF(ISBLANK(Datenerfassung!R33),\"\",Datenerfassung!R33)","v":""},{"$f":"IF(ISBLANK(Datenerfassung!S33),\"\",Datenerfassung!S33)","v":""},"",{"$f":"IF(ISBLANK(Datenerfassung!U33),\"\",Datenerfassung!U33)","v":""},{"$f":"IF(ISBLANK(Datenerfassung!O33),\"\",Datenerfassung!O33)","v":""},{"$f":"IF(ISBLANK(Datenerfassung!D33),IF(COUNTBLANK(A23:H23)+COUNTBLANK(J23:O23)=14,\"\",\"- ohne Titel -\"),Datenerfassung!D33)","v":""},{"$f":"IF(ISBLANK(Datenerfassung!G33),\"\",Datenerfassung!G33)","v":""},"",{"$f":"IF(ISBLANK(Datenerfassung!X33),\"\",Datenerfassung!X33)","v":""},{"$f":"IF(COUNTBLANK(Datenerfassung!H33:'Datenerfassung'!N33)=7,\"\",CONCATENATE( CONCATENATE(IF(ISBLANK(Datenerfassung!H33),\" \",Datenerfassung!H33 ),\" [IS]\"), CONCATENATE(IF(ISBLANK(Datenerfassung!I33),\" \",Datenerfassung!I33 ),\" [IS]\"), CONCATENATE(IF(ISBLANK(Datenerfassung!J33),\" \",Datenerfassung!J33 ),\" [IS]\"), CONCATENATE(IF(ISBLANK(Datenerfassung!K33),\" \",Datenerfassung!K33 ),\" [IS]\"), CONCATENATE(IF(ISBLANK(Datenerfassung!L33),\" \",Datenerfassung!L33 ),\" [IS]\"), CONCATENATE(IF(ISBLANK(Datenerfassung!M33),\" \",Datenerfassung!M33 ),\" [IS]\"), IF(ISBLANK(Datenerfassung!N33),\" \",Datenerfassung!N33 ) ))","v":""},{"$f":"IF(ISBLANK(Datenerfassung!V33),\"\",Datenerfassung!V33)","v":""},{"$f":"IF(ISBLANK(Datenerfassung!Q33),\"\",Datenerfassung!Q33)","v":""}]
[{"$f":"IF(ISBLANK(Datenerfassung!A34),\"\",Datenerfassung!A34)","v":""},{"$f":"IF(ISBLANK(Datenerfassung!B34),\"\",Datenerfassung!B34)","v":""},{"$f":"IF(ISBLANK(Datenerfassung!C34),\"\",Datenerfassung!C34)","v":""},{"$f":"IF(ISBLANK(Datenerfassung!R34),\"\",Datenerfassung!R34)","v":""},{"$f":"IF(ISBLANK(Datenerfassung!S34),\"\",Datenerfassung!S34)","v":""},"",{"$f":"IF(ISBLANK(Datenerfassung!U34),\"\",Datenerfassung!U34)","v":""},{"$f":"IF(ISBLANK(Datenerfassung!O34),\"\",Datenerfassung!O34)","v":""},{"$f":"IF(ISBLANK(Datenerfassung!D34),IF(COUNTBLANK(A24:H24)+COUNTBLANK(J24:O24)=14,\"\",\"- ohne Titel -\"),Datenerfassung!D34)","v":""},{"$f":"IF(ISBLANK(Datenerfassung!G34),\"\",Datenerfassung!G34)","v":""},"",{"$f":"IF(ISBLANK(Datenerfassung!X34),\"\",Datenerfassung!X34)","v":""},{"$f":"IF(COUNTBLANK(Datenerfassung!H34:'Datenerfassung'!N34)=7,\"\",CONCATENATE( CONCATENATE(IF(ISBLANK(Datenerfassung!H34),\" \",Datenerfassung!H34 ),\" [IS]\"), CONCATENATE(IF(ISBLANK(Datenerfassung!I34),\" \",Datenerfassung!I34 ),\" [IS]\"), CONCATENATE(IF(ISBLANK(Datenerfassung!J34),\" \",Datenerfassung!J34 ),\" [IS]\"), CONCATENATE(IF(ISBLANK(Datenerfassung!K34),\" \",Datenerfassung!K34 ),\" [IS]\"), CONCATENATE(IF(ISBLANK(Datenerfassung!L34),\" \",Datenerfassung!L34 ),\" [IS]\"), CONCATENATE(IF(ISBLANK(Datenerfassung!M34),\" \",Datenerfassung!M34 ),\" [IS]\"), IF(ISBLANK(Datenerfassung!N34),\" \",Datenerfassung!N34 ) ))","v":""},{"$f":"IF(ISBLANK(Datenerfassung!V34),\"\",Datenerfassung!V34)","v":""},{"$f":"IF(ISBLANK(Datenerfassung!Q34),\"\",Datenerfassung!Q34)","v":""}]
[{"$f":"IF(ISBLANK(Datenerfassung!A35),\"\",Datenerfassung!A35)","v":""},{"$f":"IF(ISBLANK(Datenerfassung!B35),\"\",Datenerfassung!B35)","v":""},{"$f":"IF(ISBLANK(Datenerfassung!C35),\"\",Datenerfassung!C35)","v":""},{"$f":"IF(ISBLANK(Datenerfassung!R35),\"\",Datenerfassung!R35)","v":""},{"$f":"IF(ISBLANK(Datenerfassung!S35),\"\",Datenerfassung!S35)","v":""},"",{"$f":"IF(ISBLANK(Datenerfassung!U35),\"\",Datenerfassung!U35)","v":""},{"$f":"IF(ISBLANK(Datenerfassung!O35),\"\",Datenerfassung!O35)","v":""},{"$f":"IF(ISBLANK(Datenerfassung!D35),IF(COUNTBLANK(A25:H25)+COUNTBLANK(J25:O25)=14,\"\",\"- ohne Titel -\"),Datenerfassung!D35)","v":""},{"$f":"IF(ISBLANK(Datenerfassung!G35),\"\",Datenerfassung!G35)","v":""},"",{"$f":"IF(ISBLANK(Datenerfassung!X35),\"\",Datenerfassung!X35)","v":""},{"$f":"IF(COUNTBLANK(Datenerfassung!H35:'Datenerfassung'!N35)=7,\"\",CONCATENATE( CONCATENATE(IF(ISBLANK(Datenerfassung!H35),\" \",Datenerfassung!H35 ),\" [IS]\"), CONCATENATE(IF(ISBLANK(Datenerfassung!I35),\" \",Datenerfassung!I35 ),\" [IS]\"), CONCATENATE(IF(ISBLANK(Datenerfassung!J35),\" \",Datenerfassung!J35 ),\" [IS]\"), CONCATENATE(IF(ISBLANK(Datenerfassung!K35),\" \",Datenerfassung!K35 ),\" [IS]\"), CONCATENATE(IF(ISBLANK(Datenerfassung!L35),\" \",Datenerfassung!L35 ),\" [IS]\"), CONCATENATE(IF(ISBLANK(Datenerfassung!M35),\" \",Datenerfassung!M35 ),\" [IS]\"), IF(ISBLANK(Datenerfassung!N35),\" \",Datenerfassung!N35 ) ))","v":""},{"$f":"IF(ISBLANK(Datenerfassung!V35),\"\",Datenerfassung!V35)","v":""},{"$f":"IF(ISBLANK(Datenerfassung!Q35),\"\",Datenerfassung!Q35)","v":""}]
[{"$f":"IF(ISBLANK(Datenerfassung!A36),\"\",Datenerfassung!A36)","v":""},{"$f":"IF(ISBLANK(Datenerfassung!B36),\"\",Datenerfassung!B36)","v":""},{"$f":"IF(ISBLANK(Datenerfassung!C36),\"\",Datenerfassung!C36)","v":""},{"$f":"IF(ISBLANK(Datenerfassung!R36),\"\",Datenerfassung!R36)","v":""},{"$f":"IF(ISBLANK(Datenerfassung!S36),\"\",Datenerfassung!S36)","v":""},"",{"$f":"IF(ISBLANK(Datenerfassung!U36),\"\",Datenerfassung!U36)","v":""},{"$f":"IF(ISBLANK(Datenerfassung!O36),\"\",Datenerfassung!O36)","v":""},{"$f":"IF(ISBLANK(Datenerfassung!D36),IF(COUNTBLANK(A26:H26)+COUNTBLANK(J26:O26)=14,\"\",\"- ohne Titel -\"),Datenerfassung!D36)","v":""},{"$f":"IF(ISBLANK(Datenerfassung!G36),\"\",Datenerfassung!G36)","v":""},"",{"$f":"IF(ISBLANK(Datenerfassung!X36),\"\",Datenerfassung!X36)","v":""},{"$f":"IF(COUNTBLANK(Datenerfassung!H36:'Datenerfassung'!N36)=7,\"\",CONCATENATE( CONCATENATE(IF(ISBLANK(Datenerfassung!H36),\" \",Datenerfassung!H36 ),\" [IS]\"), CONCATENATE(IF(ISBLANK(Datenerfassung!I36),\" \",Datenerfassung!I36 ),\" [IS]\"), CONCATENATE(IF(ISBLANK(Datenerfassung!J36),\" \",Datenerfassung!J36 ),\" [IS]\"), CONCATENATE(IF(ISBLANK(Datenerfassung!K36),\" \",Datenerfassung!K36 ),\" [IS]\"), CONCATENATE(IF(ISBLANK(Datenerfassung!L36),\" \",Datenerfassung!L36 ),\" [IS]\"), CONCATENATE(IF(ISBLANK(Datenerfassung!M36),\" \",Datenerfassung!M36 ),\" [IS]\"), IF(ISBLANK(Datenerfassung!N36),\" \",Datenerfassung!N36 ) ))","v":""},{"$f":"IF(ISBLANK(Datenerfassung!V36),\"\",Datenerfassung!V36)","v":""},{"$f":"IF(ISBLANK(Datenerfassung!Q36),\"\",Datenerfassung!Q36)","v":""}]
[{"$f":"IF(ISBLANK(Datenerfassung!A37),\"\",Datenerfassung!A37)","v":""},{"$f":"IF(ISBLANK(Datenerfassung!B37),\"\",Datenerfassung!B37)","v":""},{"$f":"IF(ISBLANK(Datenerfassung!C37),\"\",Datenerfassung!C37)","v":""},{"$f":"IF(ISBLANK(Datenerfassung!R37),\"\",Datenerfassung!R37)","v":""},{"$f":"IF(ISBLANK(Datenerfassung!S37),\"\",Datenerfassung!S37)","v":""},"",{"$f":"IF(ISBLANK(Datenerfassung!U37),\"\",Datenerfassung!U37)","v":""},{"$f":"IF(ISBLANK(Datenerfassung!O37),\"\",Datenerfassung!O37)","v":""},{"$f":"IF(ISBLANK(Datenerfassung!D37),IF(COUNTBLANK(A27:H27)+COUNTBLANK(J27:O27)=14,\"\",\"- ohne Titel -\"),Datenerfassung!D37)","v":""},{"$f":"IF(ISBLANK(Datenerfassung!G37),\"\",Datenerfassung!G37)","v":""},"",{"$f":"IF(ISBLANK(Datenerfassung!X37),\"\",Datenerfassung!X37)","v":""},{"$f":"IF(COUNTBLANK(Datenerfassung!H37:'Datenerfassung'!N37)=7,\"\",CONCATENATE( CONCATENATE(IF(ISBLANK(Datenerfassung!H37),\" \",Datenerfassung!H37 ),\" [IS]\"), CONCATENATE(IF(ISBLANK(Datenerfassung!I37),\" \",Datenerfassung!I37 ),\" [IS]\"), CONCATENATE(IF(ISBLANK(Datenerfassung!J37),\" \",Datenerfassung!J37 ),\" [IS]\"), CONCATENATE(IF(ISBLANK(Datenerfassung!K37),\" \",Datenerfassung!K37 ),\" [IS]\"), CONCATENATE(IF(ISBLANK(Datenerfassung!L37),\" \",Datenerfassung!L37 ),\" [IS]\"), CONCATENATE(IF(ISBLANK(Datenerfassung!M37),\" \",Datenerfassung!M37 ),\" [IS]\"), IF(ISBLANK(Datenerfassung!N37),\" \",Datenerfassung!N37 ) ))","v":""},{"$f":"IF(ISBLANK(Datenerfassung!V37),\"\",Datenerfassung!V37)","v":""},{"$f":"IF(ISBLANK(Datenerfassung!Q37),\"\",Datenerfassung!Q37)","v":""}]
[{"$f":"IF(ISBLANK(Datenerfassung!A38),\"\",Datenerfassung!A38)","v":""},{"$f":"IF(ISBLANK(Datenerfassung!B38),\"\",Datenerfassung!B38)","v":""},{"$f":"IF(ISBLANK(Datenerfassung!C38),\"\",Datenerfassung!C38)","v":""},{"$f":"IF(ISBLANK(Datenerfassung!R38),\"\",Datenerfassung!R38)","v":""},{"$f":"IF(ISBLANK(Datenerfassung!S38),\"\",Datenerfassung!S38)","v":""},"",{"$f":"IF(ISBLANK(Datenerfassung!U38),\"\",Datenerfassung!U38)","v":""},{"$f":"IF(ISBLANK(Datenerfassung!O38),\"\",Datenerfassung!O38)","v":""},{"$f":"IF(ISBLANK(Datenerfassung!D38),IF(COUNTBLANK(A28:H28)+COUNTBLANK(J28:O28)=14,\"\",\"- ohne Titel -\"),Datenerfassung!D38)","v":""},{"$f":"IF(ISBLANK(Datenerfassung!G38),\"\",Datenerfassung!G38)","v":""},"",{"$f":"IF(ISBLANK(Datenerfassung!X38),\"\",Datenerfassung!X38)","v":""},{"$f":"IF(COUNTBLANK(Datenerfassung!H38:'Datenerfassung'!N38)=7,\"\",CONCATENATE( CONCATENATE(IF(ISBLANK(Datenerfassung!H38),\" \",Datenerfassung!H38 ),\" [IS]\"), CONCATENATE(IF(ISBLANK(Datenerfassung!I38),\" \",Datenerfassung!I38 ),\" [IS]\"), CONCATENATE(IF(ISBLANK(Datenerfassung!J38),\" \",Datenerfassung!J38 ),\" [IS]\"), CONCATENATE(IF(ISBLANK(Datenerfassung!K38),\" \",Datenerfassung!K38 ),\" [IS]\"), CONCATENATE(IF(ISBLANK(Datenerfassung!L38),\" \",Datenerfassung!L38 ),\" [IS]\"), CONCATENATE(IF(ISBLANK(Datenerfassung!M38),\" \",Datenerfassung!M38 ),\" [IS]\"), IF(ISBLANK(Datenerfassung!N38),\" \",Datenerfassung!N38 ) ))","v":""},{"$f":"IF(ISBLANK(Datenerfassung!V38),\"\",Datenerfassung!V38)","v":""},{"$f":"IF(ISBLANK(Datenerfassung!Q38),\"\",Datenerfassung!Q38)","v":""}]
[{"$f":"IF(ISBLANK(Datenerfassung!A39),\"\",Datenerfassung!A39)","v":""},{"$f":"IF(ISBLANK(Datenerfassung!B39),\"\",Datenerfassung!B39)","v":""},{"$f":"IF(ISBLANK(Datenerfassung!C39),\"\",Datenerfassung!C39)","v":""},{"$f":"IF(ISBLANK(Datenerfassung!R39),\"\",Datenerfassung!R39)","v":""},{"$f":"IF(ISBLANK(Datenerfassung!S39),\"\",Datenerfassung!S39)","v":""},"",{"$f":"IF(ISBLANK(Datenerfassung!U39),\"\",Datenerfassung!U39)","v":""},{"$f":"IF(ISBLANK(Datenerfassung!O39),\"\",Datenerfassung!O39)","v":""},{"$f":"IF(ISBLANK(Datenerfassung!D39),IF(COUNTBLANK(A29:H29)+COUNTBLANK(J29:O29)=14,\"\",\"- ohne Titel -\"),Datenerfassung!D39)","v":""},{"$f":"IF(ISBLANK(Datenerfassung!G39),\"\",Datenerfassung!G39)","v":""},"",{"$f":"IF(ISBLANK(Datenerfassung!X39),\"\",Datenerfassung!X39)","v":""},{"$f":"IF(COUNTBLANK(Datenerfassung!H39:'Datenerfassung'!N39)=7,\"\",CONCATENATE( CONCATENATE(IF(ISBLANK(Datenerfassung!H39),\" \",Datenerfassung!H39 ),\" [IS]\"), CONCATENATE(IF(ISBLANK(Datenerfassung!I39),\" \",Datenerfassung!I39 ),\" [IS]\"), CONCATENATE(IF(ISBLANK(Datenerfassung!J39),\" \",Datenerfassung!J39 ),\" [IS]\"), CONCATENATE(IF(ISBLANK(Datenerfassung!K39),\" \",Datenerfassung!K39 ),\" [IS]\"), CONCATENATE(IF(ISBLANK(Datenerfassung!L39),\" \",Datenerfassung!L39 ),\" [IS]\"), CONCATENATE(IF(ISBLANK(Datenerfassung!M39),\" \",Datenerfassung!M39 ),\" [IS]\"), IF(ISBLANK(Datenerfassung!N39),\" \",Datenerfassung!N39 ) ))","v":""},{"$f":"IF(ISBLANK(Datenerfassung!V39),\"\",Datenerfassung!V39)","v":""},{"$f":"IF(ISBLANK(Datenerfassung!Q39),\"\",Datenerfassung!Q39)","v":""}]
[{"$f":"IF(ISBLANK(Datenerfassung!A40),\"\",Datenerfassung!A40)","v":""},{"$f":"IF(ISBLANK(Datenerfassung!B40),\"\",Datenerfassung!B40)","v":""},{"$f":"IF(ISBLANK(Datenerfassung!C40),\"\",Datenerfassung!C40)","v":""},{"$f":"IF(ISBLANK(Datenerfassung!R40),\"\",Datenerfassung!R40)","v":""},{"$f":"IF(ISBLANK(Datenerfassung!S40),\"\",Datenerfassung!S40)","v":""},"",{"$f":"IF(ISBLANK(Datenerfassung!U40),\"\",Datenerfassung!U40)","v":""},{"$f":"IF(ISBLANK(Datenerfassung!O40),\"\",Datenerfassung!O40)","v":""},{"$f":"IF(ISBLANK(Datenerfassung!D40),IF(COUNTBLANK(A30:H30)+COUNTBLANK(J30:O30)=14,\"\",\"- ohne Titel -\"),Datenerfassung!D40)","v":""},{"$f":"IF(ISBLANK(Datenerfassung!G40),\"\",Datenerfassung!G40)","v":""},"",{"$f":"IF(ISBLANK(Datenerfassung!X40),\"\",Datenerfassung!X40)","v":""},{"$f":"IF(COUNTBLANK(Datenerfassung!H40:'Datenerfassung'!N40)=7,\"\",CONCATENATE( CONCATENATE(IF(ISBLANK(Datenerfassung!H40),\" \",Datenerfassung!H40 ),\" [IS]\"), CONCATENATE(IF(ISBLANK(Datenerfassung!I40),\" \",Datenerfassung!I40 ),\" [IS]\"), CONCATENATE(IF(ISBLANK(Datenerfassung!J40),\" \",Datenerfassung!J40 ),\" [IS]\"), CONCATENATE(IF(ISBLANK(Datenerfassung!K40),\" \",Datenerfassung!K40 ),\" [IS]\"), CONCATENATE(IF(ISBLANK(Datenerfassung!L40),\" \",Datenerfassung!L40 ),\" [IS]\"), CONCATENATE(IF(ISBLANK(Datenerfassung!M40),\" \",Datenerfassung!M40 ),\" [IS]\"), IF(ISBLANK(Datenerfassung!N40),\" \",Datenerfassung!N40 ) ))","v":""},{"$f":"IF(ISBLANK(Datenerfassung!V40),\"\",Datenerfassung!V40)","v":""},{"$f":"IF(ISBLANK(Datenerfassung!Q40),\"\",Datenerfassung!Q40)","v":""}]
[{"$f":"IF(ISBLANK(Datenerfassung!A41),\"\",Datenerfassung!A41)","v":""},{"$f":"IF(ISBLANK(Datenerfassung!B41),\"\",Datenerfassung!B41)","v":""},{"$f":"IF(ISBLANK(Datenerfassung!C41),\"\",Datenerfassung!C41)","v":""},{"$f":"IF(ISBLANK(Datenerfassung!R41),\"\",Datenerfassung!R41)","v":""},{"$f":"IF(ISBLANK(Datenerfassung!S41),\"\",Datenerfassung!S41)","v":""},"",{"$f":"IF(ISBLANK(Datenerfassung!U41),\"\",Datenerfassung!U41)","v":""},{"$f":"IF(ISBLANK(Datenerfassung!O41),\"\",Datenerfassung!O41)","v":""},{"$f":"IF(ISBLANK(Datenerfassung!D41),IF(COUNTBLANK(A31:H31)+COUNTBLANK(J31:O31)=14,\"\",\"- ohne Titel -\"),Datenerfassung!D41)","v":""},{"$f":"IF(ISBLANK(Datenerfassung!G41),\"\",Datenerfassung!G41)","v":""},"",{"$f":"IF(ISBLANK(Datenerfassung!X41),\"\",Datenerfassung!X41)","v":""},{"$f":"IF(COUNTBLANK(Datenerfassung!H41:'Datenerfassung'!N41)=7,\"\",CONCATENATE( CONCATENATE(IF(ISBLANK(Datenerfassung!H41),\" \",Datenerfassung!H41 ),\" [IS]\"), CONCATENATE(IF(ISBLANK(Datenerfassung!I41),\" \",Datenerfassung!I41 ),\" [IS]\"), CONCATENATE(IF(ISBLANK(Datenerfassung!J41),\" \",Datenerfassung!J41 ),\" [IS]\"), CONCATENATE(IF(ISBLANK(Datenerfassung!K41),\" \",Datenerfassung!K41 ),\" [IS]\"), CONCATENATE(IF(ISBLANK(Datenerfassung!L41),\" \",Datenerfassung!L41 ),\" [IS]\"), CONCATENATE(IF(ISBLANK(Datenerfassung!M41),\" \",Datenerfassung!M41 ),\" [IS]\"), IF(ISBLANK(Datenerfassung!N41),\" \",Datenerfassung!N41 ) ))","v":""},{"$f":"IF(ISBLANK(Datenerfassung!V41),\"\",Datenerfassung!V41)","v":""},{"$f":"IF(ISBLANK(Datenerfassung!Q41),\"\",Datenerfassung!Q41)","v":""}]
[{"$f":"IF(ISBLANK(Datenerfassung!A42),\"\",Datenerfassung!A42)","v":""},{"$f":"IF(ISBLANK(Datenerfassung!B42),\"\",Datenerfassung!B42)","v":""},{"$f":"IF(ISBLANK(Datenerfassung!C42),\"\",Datenerfassung!C42)","v":""},{"$f":"IF(ISBLANK(Datenerfassung!R42),\"\",Datenerfassung!R42)","v":""},{"$f":"IF(ISBLANK(Datenerfassung!S42),\"\",Datenerfassung!S42)","v":""},"",{"$f":"IF(ISBLANK(Datenerfassung!U42),\"\",Datenerfassung!U42)","v":""},{"$f":"IF(ISBLANK(Datenerfassung!O42),\"\",Datenerfassung!O42)","v":""},{"$f":"IF(ISBLANK(Datenerfassung!D42),IF(COUNTBLANK(A32:H32)+COUNTBLANK(J32:O32)=14,\"\",\"- ohne Titel -\"),Datenerfassung!D42)","v":""},{"$f":"IF(ISBLANK(Datenerfassung!G42),\"\",Datenerfassung!G42)","v":""},"",{"$f":"IF(ISBLANK(Datenerfassung!X42),\"\",Datenerfassung!X42)","v":""},{"$f":"IF(COUNTBLANK(Datenerfassung!H42:'Datenerfassung'!N42)=7,\"\",CONCATENATE( CONCATENATE(IF(ISBLANK(Datenerfassung!H42),\" \",Datenerfassung!H42 ),\" [IS]\"), CONCATENATE(IF(ISBLANK(Datenerfassung!I42),\" \",Datenerfassung!I42 ),\" [IS]\"), CONCATENATE(IF(ISBLANK(Datenerfassung!J42),\" \",Datenerfassung!J42 ),\" [IS]\"), CONCATENATE(IF(ISBLANK(Datenerfassung!K42),\" \",Datenerfassung!K42 ),\" [IS]\"), CONCATENATE(IF(ISBLANK(Datenerfassung!L42),\" \",Datenerfassung!L42 ),\" [IS]\"), CONCATENATE(IF(ISBLANK(Datenerfassung!M42),\" \",Datenerfassung!M42 ),\" [IS]\"), IF(ISBLANK(Datenerfassung!N42),\" \",Datenerfassung!N42 ) ))","v":""},{"$f":"IF(ISBLANK(Datenerfassung!V42),\"\",Datenerfassung!V42)","v":""},{"$f":"IF(ISBLANK(Datenerfassung!Q42),\"\",Datenerfassung!Q42)","v":""}]
[{"$f":"IF(ISBLANK(Datenerfassung!A43),\"\",Datenerfassung!A43)","v":""},{"$f":"IF(ISBLANK(Datenerfassung!B43),\"\",Datenerfassung!B43)","v":""},{"$f":"IF(ISBLANK(Datenerfassung!C43),\"\",Datenerfassung!C43)","v":""},{"$f":"IF(ISBLANK(Datenerfassung!R43),\"\",Datenerfassung!R43)","v":""},{"$f":"IF(ISBLANK(Datenerfassung!S43),\"\",Datenerfassung!S43)","v":""},"",{"$f":"IF(ISBLANK(Datenerfassung!U43),\"\",Datenerfassung!U43)","v":""},{"$f":"IF(ISBLANK(Datenerfassung!O43),\"\",Datenerfassung!O43)","v":""},{"$f":"IF(ISBLANK(Datenerfassung!D43),IF(COUNTBLANK(A33:H33)+COUNTBLANK(J33:O33)=14,\"\",\"- ohne Titel -\"),Datenerfassung!D43)","v":""},{"$f":"IF(ISBLANK(Datenerfassung!G43),\"\",Datenerfassung!G43)","v":""},"",{"$f":"IF(ISBLANK(Datenerfassung!X43),\"\",Datenerfassung!X43)","v":""},{"$f":"IF(COUNTBLANK(Datenerfassung!H43:'Datenerfassung'!N43)=7,\"\",CONCATENATE( CONCATENATE(IF(ISBLANK(Datenerfassung!H43),\" \",Datenerfassung!H43 ),\" [IS]\"), CONCATENATE(IF(ISBLANK(Datenerfassung!I43),\" \",Datenerfassung!I43 ),\" [IS]\"), CONCATENATE(IF(ISBLANK(Datenerfassung!J43),\" \",Datenerfassung!J43 ),\" [IS]\"), CONCATENATE(IF(ISBLANK(Datenerfassung!K43),\" \",Datenerfassung!K43 ),\" [IS]\"), CONCATENATE(IF(ISBLANK(Datenerfassung!L43),\" \",Datenerfassung!L43 ),\" [IS]\"), CONCATENATE(IF(ISBLANK(Datenerfassung!M43),\" \",Datenerfassung!M43 ),\" [IS]\"), IF(ISBLANK(Datenerfassung!N43),\" \",Datenerfassung!N43 ) ))","v":""},{"$f":"IF(ISBLANK(Datenerfassung!V43),\"\",Datenerfassung!V43)","v":""},{"$f":"IF(ISBLANK(Datenerfassung!Q43),\"\",Datenerfassung!Q43)","v":""}]
[{"$f":"IF(ISBLANK(Datenerfassung!A44),\"\",Datenerfassung!A44)","v":""},{"$f":"IF(ISBLANK(Datenerfassung!B44),\"\",Datenerfassung!B44)","v":""},{"$f":"IF(ISBLANK(Datenerfassung!C44),\"\",Datenerfassung!C44)","v":""},{"$f":"IF(ISBLANK(Datenerfassung!R44),\"\",Datenerfassung!R44)","v":""},{"$f":"IF(ISBLANK(Datenerfassung!S44),\"\",Datenerfassung!S44)","v":""},"",{"$f":"IF(ISBLANK(Datenerfassung!U44),\"\",Datenerfassung!U44)","v":""},{"$f":"IF(ISBLANK(Datenerfassung!O44),\"\",Datenerfassung!O44)","v":""},{"$f":"IF(ISBLANK(Datenerfassung!D44),IF(COUNTBLANK(A34:H34)+COUNTBLANK(J34:O34)=14,\"\",\"- ohne Titel -\"),Datenerfassung!D44)","v":""},{"$f":"IF(ISBLANK(Datenerfassung!G44),\"\",Datenerfassung!G44)","v":""},"",{"$f":"IF(ISBLANK(Datenerfassung!X44),\"\",Datenerfassung!X44)","v":""},{"$f":"IF(COUNTBLANK(Datenerfassung!H44:'Datenerfassung'!N44)=7,\"\",CONCATENATE( CONCATENATE(IF(ISBLANK(Datenerfassung!H44),\" \",Datenerfassung!H44 ),\" [IS]\"), CONCATENATE(IF(ISBLANK(Datenerfassung!I44),\" \",Datenerfassung!I44 ),\" [IS]\"), CONCATENATE(IF(ISBLANK(Datenerfassung!J44),\" \",Datenerfassung!J44 ),\" [IS]\"), CONCATENATE(IF(ISBLANK(Datenerfassung!K44),\" \",Datenerfassung!K44 ),\" [IS]\"), CONCATENATE(IF(ISBLANK(Datenerfassung!L44),\" \",Datenerfassung!L44 ),\" [IS]\"), CONCATENATE(IF(ISBLANK(Datenerfassung!M44),\" \",Datenerfassung!M44 ),\" [IS]\"), IF(ISBLANK(Datenerfassung!N44),\" \",Datenerfassung!N44 ) ))","v":""},{"$f":"IF(ISBLANK(Datenerfassung!V44),\"\",Datenerfassung!V44)","v":""},{"$f":"IF(ISBLANK(Datenerfassung!Q44),\"\",Datenerfassung!Q44)","v":""}]
[{"$f":"IF(ISBLANK(Datenerfassung!A45),\"\",Datenerfassung!A45)","v":""},{"$f":"IF(ISBLANK(Datenerfassung!B45),\"\",Datenerfassung!B45)","v":""},{"$f":"IF(ISBLANK(Datenerfassung!C45),\"\",Datenerfassung!C45)","v":""},{"$f":"IF(ISBLANK(Datenerfassung!R45),\"\",Datenerfassung!R45)","v":""},{"$f":"IF(ISBLANK(Datenerfassung!S45),\"\",Datenerfassung!S45)","v":""},"",{"$f":"IF(ISBLANK(Datenerfassung!U45),\"\",Datenerfassung!U45)","v":""},{"$f":"IF(ISBLANK(Datenerfassung!O45),\"\",Datenerfassung!O45)","v":""},{"$f":"IF(ISBLANK(Datenerfassung!D45),IF(COUNTBLANK(A35:H35)+COUNTBLANK(J35:O35)=14,\"\",\"- ohne Titel -\"),Datenerfassung!D45)","v":""},{"$f":"IF(ISBLANK(Datenerfassung!G45),\"\",Datenerfassung!G45)","v":""},"",{"$f":"IF(ISBLANK(Datenerfassung!X45),\"\",Datenerfassung!X45)","v":""},{"$f":"IF(COUNTBLANK(Datenerfassung!H45:'Datenerfassung'!N45)=7,\"\",CONCATENATE( CONCATENATE(IF(ISBLANK(Datenerfassung!H45),\" \",Datenerfassung!H45 ),\" [IS]\"), CONCATENATE(IF(ISBLANK(Datenerfassung!I45),\" \",Datenerfassung!I45 ),\" [IS]\"), CONCATENATE(IF(ISBLANK(Datenerfassung!J45),\" \",Datenerfassung!J45 ),\" [IS]\"), CONCATENATE(IF(ISBLANK(Datenerfassung!K45),\" \",Datenerfassung!K45 ),\" [IS]\"), CONCATENATE(IF(ISBLANK(Datenerfassung!L45),\" \",Datenerfassung!L45 ),\" [IS]\"), CONCATENATE(IF(ISBLANK(Datenerfassung!M45),\" \",Datenerfassung!M45 ),\" [IS]\"), IF(ISBLANK(Datenerfassung!N45),\" \",Datenerfassung!N45 ) ))","v":""},{"$f":"IF(ISBLANK(Datenerfassung!V45),\"\",Datenerfassung!V45)","v":""},{"$f":"IF(ISBLANK(Datenerfassung!Q45),\"\",Datenerfassung!Q45)","v":""}]
[{"$f":"IF(ISBLANK(Datenerfassung!A46),\"\",Datenerfassung!A46)","v":""},{"$f":"IF(ISBLANK(Datenerfassung!B46),\"\",Datenerfassung!B46)","v":""},{"$f":"IF(ISBLANK(Datenerfassung!C46),\"\",Datenerfassung!C46)","v":""},{"$f":"IF(ISBLANK(Datenerfassung!R46),\"\",Datenerfassung!R46)","v":""},{"$f":"IF(ISBLANK(Datenerfassung!S46),\"\",Datenerfassung!S46)","v":""},"",{"$f":"IF(ISBLANK(Datenerfassung!U46),\"\",Datenerfassung!U46)","v":""},{"$f":"IF(ISBLANK(Datenerfassung!O46),\"\",Datenerfassung!O46)","v":""},{"$f":"IF(ISBLANK(Datenerfassung!D46),IF(COUNTBLANK(A36:H36)+COUNTBLANK(J36:O36)=14,\"\",\"- ohne Titel -\"),Datenerfassung!D46)","v":""},{"$f":"IF(ISBLANK(Datenerfassung!G46),\"\",Datenerfassung!G46)","v":""},"",{"$f":"IF(ISBLANK(Datenerfassung!X46),\"\",Datenerfassung!X46)","v":""},{"$f":"IF(COUNTBLANK(Datenerfassung!H46:'Datenerfassung'!N46)=7,\"\",CONCATENATE( CONCATENATE(IF(ISBLANK(Datenerfassung!H46),\" \",Datenerfassung!H46 ),\" [IS]\"), CONCATENATE(IF(ISBLANK(Datenerfassung!I46),\" \",Datenerfassung!I46 ),\" [IS]\"), CONCATENATE(IF(ISBLANK(Datenerfassung!J46),\" \",Datenerfassung!J46 ),\" [IS]\"), CONCATENATE(IF(ISBLANK(Datenerfassung!K46),\" \",Datenerfassung!K46 ),\" [IS]\"), CONCATENATE(IF(ISBLANK(Datenerfassung!L46),\" \",Datenerfassung!L46 ),\" [IS]\"), CONCATENATE(IF(ISBLANK(Datenerfassung!M46),\" \",Datenerfassung!M46 ),\" [IS]\"), IF(ISBLANK(Datenerfassung!N46),\" \",Datenerfassung!N46 ) ))","v":""},{"$f":"IF(ISBLANK(Datenerfassung!V46),\"\",Datenerfassung!V46)","v":""},{"$f":"IF(ISBLANK(Datenerfassung!Q46),\"\",Datenerfassung!Q46)","v":""}]
[{"$f":"IF(ISBLANK(Datenerfassung!A47),\"\",Datenerfassung!A47)","v":""},{"$f":"IF(ISBLANK(Datenerfassung!B47),\"\",Datenerfassung!B47)","v":""},{"$f":"IF(ISBLANK(Datenerfassung!C47),\"\",Datenerfassung!C47)","v":""},{"$f":"IF(ISBLANK(Datenerfassung!R47),\"\",Datenerfassung!R47)","v":""},{"$f":"IF(ISBLANK(Datenerfassung!S47),\"\",Datenerfassung!S47)","v":""},"",{"$f":"IF(ISBLANK(Datenerfassung!U47),\"\",Datenerfassung!U47)","v":""},{"$f":"IF(ISBLANK(Datenerfassung!O47),\"\",Datenerfassung!O47)","v":""},{"$f":"IF(ISBLANK(Datenerfassung!D47),IF(COUNTBLANK(A37:H37)+COUNTBLANK(J37:O37)=14,\"\",\"- ohne Titel -\"),Datenerfassung!D47)","v":""},{"$f":"IF(ISBLANK(Datenerfassung!G47),\"\",Datenerfassung!G47)","v":""},"",{"$f":"IF(ISBLANK(Datenerfassung!X47),\"\",Datenerfassung!X47)","v":""},{"$f":"IF(COUNTBLANK(Datenerfassung!H47:'Datenerfassung'!N47)=7,\"\",CONCATENATE( CONCATENATE(IF(ISBLANK(Datenerfassung!H47),\" \",Datenerfassung!H47 ),\" [IS]\"), CONCATENATE(IF(ISBLANK(Datenerfassung!I47),\" \",Datenerfassung!I47 ),\" [IS]\"), CONCATENATE(IF(ISBLANK(Datenerfassung!J47),\" \",Datenerfassung!J47 ),\" [IS]\"), CONCATENATE(IF(ISBLANK(Datenerfassung!K47),\" \",Datenerfassung!K47 ),\" [IS]\"), CONCATENATE(IF(ISBLANK(Datenerfassung!L47),\" \",Datenerfassung!L47 ),\" [IS]\"), CONCATENATE(IF(ISBLANK(Datenerfassung!M47),\" \",Datenerfassung!M47 ),\" [IS]\"), IF(ISBLANK(Datenerfassung!N47),\" \",Datenerfassung!N47 ) ))","v":""},{"$f":"IF(ISBLANK(Datenerfassung!V47),\"\",Datenerfassung!V47)","v":""},{"$f":"IF(ISBLANK(Datenerfassung!Q47),\"\",Datenerfassung!Q47)","v":""}]
[{"$f":"IF(ISBLANK(Datenerfassung!A48),\"\",Datenerfassung!A48)","v":""},{"$f":"IF(ISBLANK(Datenerfassung!B48),\"\",Datenerfassung!B48)","v":""},{"$f":"IF(ISBLANK(Datenerfassung!C48),\"\",Datenerfassung!C48)","v":""},{"$f":"IF(ISBLANK(Datenerfassung!R48),\"\",Datenerfassung!R48)","v":""},{"$f":"IF(ISBLANK(Datenerfassung!S48),\"\",Datenerfassung!S48)","v":""},"",{"$f":"IF(ISBLANK(Datenerfassung!U48),\"\",Datenerfassung!U48)","v":""},{"$f":"IF(ISBLANK(Datenerfassung!O48),\"\",Datenerfassung!O48)","v":""},{"$f":"IF(ISBLANK(Datenerfassung!D48),IF(COUNTBLANK(A38:H38)+COUNTBLANK(J38:O38)=14,\"\",\"- ohne Titel -\"),Datenerfassung!D48)","v":""},{"$f":"IF(ISBLANK(Datenerfassung!G48),\"\",Datenerfassung!G48)","v":""},"",{"$f":"IF(ISBLANK(Datenerfassung!X48),\"\",Datenerfassung!X48)","v":""},{"$f":"IF(COUNTBLANK(Datenerfassung!H48:'Datenerfassung'!N48)=7,\"\",CONCATENATE( CONCATENATE(IF(ISBLANK(Datenerfassung!H48),\" \",Datenerfassung!H48 ),\" [IS]\"), CONCATENATE(IF(ISBLANK(Datenerfassung!I48),\" \",Datenerfassung!I48 ),\" [IS]\"), CONCATENATE(IF(ISBLANK(Datenerfassung!J48),\" \",Datenerfassung!J48 ),\" [IS]\"), CONCATENATE(IF(ISBLANK(Datenerfassung!K48),\" \",Datenerfassung!K48 ),\" [IS]\"), CONCATENATE(IF(ISBLANK(Datenerfassung!L48),\" \",Datenerfassung!L48 ),\" [IS]\"), CONCATENATE(IF(ISBLANK(Datenerfassung!M48),\" \",Datenerfassung!M48 ),\" [IS]\"), IF(ISBLANK(Datenerfassung!N48),\" \",Datenerfassung!N48 ) ))","v":""},{"$f":"IF(ISBLANK(Datenerfassung!V48),\"\",Datenerfassung!V48)","v":""},{"$f":"IF(ISBLANK(Datenerfassung!Q48),\"\",Datenerfassung!Q48)","v":""}]
[{"$f":"IF(ISBLANK(Datenerfassung!A49),\"\",Datenerfassung!A49)","v":""},{"$f":"IF(ISBLANK(Datenerfassung!B49),\"\",Datenerfassung!B49)","v":""},{"$f":"IF(ISBLANK(Datenerfassung!C49),\"\",Datenerfassung!C49)","v":""},{"$f":"IF(ISBLANK(Datenerfassung!R49),\"\",Datenerfassung!R49)","v":""},{"$f":"IF(ISBLANK(Datenerfassung!S49),\"\",Datenerfassung!S49)","v":""},"",{"$f":"IF(ISBLANK(Datenerfassung!U49),\"\",Datenerfassung!U49)","v":""},{"$f":"IF(ISBLANK(Datenerfassung!O49),\"\",Datenerfassung!O49)","v":""},{"$f":"IF(ISBLANK(Datenerfassung!D49),IF(COUNTBLANK(A39:H39)+COUNTBLANK(J39:O39)=14,\"\",\"- ohne Titel -\"),Datenerfassung!D49)","v":""},{"$f":"IF(ISBLANK(Datenerfassung!G49),\"\",Datenerfassung!G49)","v":""},"",{"$f":"IF(ISBLANK(Datenerfassung!X49),\"\",Datenerfassung!X49)","v":""},{"$f":"IF(COUNTBLANK(Datenerfassung!H49:'Datenerfassung'!N49)=7,\"\",CONCATENATE( CONCATENATE(IF(ISBLANK(Datenerfassung!H49),\" \",Datenerfassung!H49 ),\" [IS]\"), CONCATENATE(IF(ISBLANK(Datenerfassung!I49),\" \",Datenerfassung!I49 ),\" [IS]\"), CONCATENATE(IF(ISBLANK(Datenerfassung!J49),\" \",Datenerfassung!J49 ),\" [IS]\"), CONCATENATE(IF(ISBLANK(Datenerfassung!K49),\" \",Datenerfassung!K49 ),\" [IS]\"), CONCATENATE(IF(ISBLANK(Datenerfassung!L49),\" \",Datenerfassung!L49 ),\" [IS]\"), CONCATENATE(IF(ISBLANK(Datenerfassung!M49),\" \",Datenerfassung!M49 ),\" [IS]\"), IF(ISBLANK(Datenerfassung!N49),\" \",Datenerfassung!N49 ) ))","v":""},{"$f":"IF(ISBLANK(Datenerfassung!V49),\"\",Datenerfassung!V49)","v":""},{"$f":"IF(ISBLANK(Datenerfassung!Q49),\"\",Datenerfassung!Q49)","v":""}]
[{"$f":"IF(ISBLANK(Datenerfassung!A50),\"\",Datenerfassung!A50)","v":""},{"$f":"IF(ISBLANK(Datenerfassung!B50),\"\",Datenerfassung!B50)","v":""},{"$f":"IF(ISBLANK(Datenerfassung!C50),\"\",Datenerfassung!C50)","v":""},{"$f":"IF(ISBLANK(Datenerfassung!R50),\"\",Datenerfassung!R50)","v":""},{"$f":"IF(ISBLANK(Datenerfassung!S50),\"\",Datenerfassung!S50)","v":""},"",{"$f":"IF(ISBLANK(Datenerfassung!U50),\"\",Datenerfassung!U50)","v":""},{"$f":"IF(ISBLANK(Datenerfassung!O50),\"\",Datenerfassung!O50)","v":""},{"$f":"IF(ISBLANK(Datenerfassung!D50),IF(COUNTBLANK(A40:H40)+COUNTBLANK(J40:O40)=14,\"\",\"- ohne Titel -\"),Datenerfassung!D50)","v":""},{"$f":"IF(ISBLANK(Datenerfassung!G50),\"\",Datenerfassung!G50)","v":""},"",{"$f":"IF(ISBLANK(Datenerfassung!X50),\"\",Datenerfassung!X50)","v":""},{"$f":"IF(COUNTBLANK(Datenerfassung!H50:'Datenerfassung'!N50)=7,\"\",CONCATENATE( CONCATENATE(IF(ISBLANK(Datenerfassung!H50),\" \",Datenerfassung!H50 ),\" [IS]\"), CONCATENATE(IF(ISBLANK(Datenerfassung!I50),\" \",Datenerfassung!I50 ),\" [IS]\"), CONCATENATE(IF(ISBLANK(Datenerfassung!J50),\" \",Datenerfassung!J50 ),\" [IS]\"), CONCATENATE(IF(ISBLANK(Datenerfassung!K50),\" \",Datenerfassung!K50 ),\" [IS]\"), CONCATENATE(IF(ISBLANK(Datenerfassung!L50),\" \",Datenerfassung!L50 ),\" [IS]\"), CONCATENATE(IF(ISBLANK(Datenerfassung!M50),\" \",Datenerfassung!M50 ),\" [IS]\"), IF(ISBLANK(Datenerfassung!N50),\" \",Datenerfassung!N50 ) ))","v":""},{"$f":"IF(ISBLANK(Datenerfassung!V50),\"\",Datenerfassung!V50)","v":""},{"$f":"IF(ISBLANK(Datenerfassung!Q50),\"\",Datenerfassung!Q50)","v":""}]
[{"$f":"IF(ISBLANK(Datenerfassung!A51),\"\",Datenerfassung!A51)","v":""},{"$f":"IF(ISBLANK(Datenerfassung!B51),\"\",Datenerfassung!B51)","v":""},{"$f":"IF(ISBLANK(Datenerfassung!C51),\"\",Datenerfassung!C51)","v":""},{"$f":"IF(ISBLANK(Datenerfassung!R51),\"\",Datenerfassung!R51)","v":""},{"$f":"IF(ISBLANK(Datenerfassung!S51),\"\",Datenerfassung!S51)","v":""},"",{"$f":"IF(ISBLANK(Datenerfassung!U51),\"\",Datenerfassung!U51)","v":""},{"$f":"IF(ISBLANK(Datenerfassung!O51),\"\",Datenerfassung!O51)","v":""},{"$f":"IF(ISBLANK(Datenerfassung!D51),IF(COUNTBLANK(A41:H41)+COUNTBLANK(J41:O41)=14,\"\",\"- ohne Titel -\"),Datenerfassung!D51)","v":""},{"$f":"IF(ISBLANK(Datenerfassung!G51),\"\",Datenerfassung!G51)","v":""},"",{"$f":"IF(ISBLANK(Datenerfassung!X51),\"\",Datenerfassung!X51)","v":""},{"$f":"IF(COUNTBLANK(Datenerfassung!H51:'Datenerfassung'!N51)=7,\"\",CONCATENATE( CONCATENATE(IF(ISBLANK(Datenerfassung!H51),\" \",Datenerfassung!H51 ),\" [IS]\"), CONCATENATE(IF(ISBLANK(Datenerfassung!I51),\" \",Datenerfassung!I51 ),\" [IS]\"), CONCATENATE(IF(ISBLANK(Datenerfassung!J51),\" \",Datenerfassung!J51 ),\" [IS]\"), CONCATENATE(IF(ISBLANK(Datenerfassung!K51),\" \",Datenerfassung!K51 ),\" [IS]\"), CONCATENATE(IF(ISBLANK(Datenerfassung!L51),\" \",Datenerfassung!L51 ),\" [IS]\"), CONCATENATE(IF(ISBLANK(Datenerfassung!M51),\" \",Datenerfassung!M51 ),\" [IS]\"), IF(ISBLANK(Datenerfassung!N51),\" \",Datenerfassung!N51 ) ))","v":""},{"$f":"IF(ISBLANK(Datenerfassung!V51),\"\",Datenerfassung!V51)","v":""},{"$f":"IF(ISBLANK(Datenerfassung!Q51),\"\",Datenerfassung!Q51)","v":""}]
[{"$f":"IF(ISBLANK(Datenerfassung!A52),\"\",Datenerfassung!A52)","v":""},{"$f":"IF(ISBLANK(Datenerfassung!B52),\"\",Datenerfassung!B52)","v":""},{"$f":"IF(ISBLANK(Datenerfassung!C52),\"\",Datenerfassung!C52)","v":""},{"$f":"IF(ISBLANK(Datenerfassung!R52),\"\",Datenerfassung!R52)","v":""},{"$f":"IF(ISBLANK(Datenerfassung!S52),\"\",Datenerfassung!S52)","v":""},"",{"$f":"IF(ISBLANK(Datenerfassung!U52),\"\",Datenerfassung!U52)","v":""},{"$f":"IF(ISBLANK(Datenerfassung!O52),\"\",Datenerfassung!O52)","v":""},{"$f":"IF(ISBLANK(Datenerfassung!D52),IF(COUNTBLANK(A42:H42)+COUNTBLANK(J42:O42)=14,\"\",\"- ohne Titel -\"),Datenerfassung!D52)","v":""},{"$f":"IF(ISBLANK(Datenerfassung!G52),\"\",Datenerfassung!G52)","v":""},"",{"$f":"IF(ISBLANK(Datenerfassung!X52),\"\",Datenerfassung!X52)","v":""},{"$f":"IF(COUNTBLANK(Datenerfassung!H52:'Datenerfassung'!N52)=7,\"\",CONCATENATE( CONCATENATE(IF(ISBLANK(Datenerfassung!H52),\" \",Datenerfassung!H52 ),\" [IS]\"), CONCATENATE(IF(ISBLANK(Datenerfassung!I52),\" \",Datenerfassung!I52 ),\" [IS]\"), CONCATENATE(IF(ISBLANK(Datenerfassung!J52),\" \",Datenerfassung!J52 ),\" [IS]\"), CONCATENATE(IF(ISBLANK(Datenerfassung!K52),\" \",Datenerfassung!K52 ),\" [IS]\"), CONCATENATE(IF(ISBLANK(Datenerfassung!L52),\" \",Datenerfassung!L52 ),\" [IS]\"), CONCATENATE(IF(ISBLANK(Datenerfassung!M52),\" \",Datenerfassung!M52 ),\" [IS]\"), IF(ISBLANK(Datenerfassung!N52),\" \",Datenerfassung!N52 ) ))","v":""},{"$f":"IF(ISBLANK(Datenerfassung!V52),\"\",Datenerfassung!V52)","v":""},{"$f":"IF(ISBLANK(Datenerfassung!Q52),\"\",Datenerfassung!Q52)","v":""}]
[{"$f":"IF(ISBLANK(Datenerfassung!A53),\"\",Datenerfassung!A53)","v":""},{"$f":"IF(ISBLANK(Datenerfassung!B53),\"\",Datenerfassung!B53)","v":""},{"$f":"IF(ISBLANK(Datenerfassung!C53),\"\",Datenerfassung!C53)","v":""},{"$f":"IF(ISBLANK(Datenerfassung!R53),\"\",Datenerfassung!R53)","v":""},{"$f":"IF(ISBLANK(Datenerfassung!S53),\"\",Datenerfassung!S53)","v":""},"",{"$f":"IF(ISBLANK(Datenerfassung!U53),\"\",Datenerfassung!U53)","v":""},{"$f":"IF(ISBLANK(Datenerfassung!O53),\"\",Datenerfassung!O53)","v":""},{"$f":"IF(ISBLANK(Datenerfassung!D53),IF(COUNTBLANK(A43:H43)+COUNTBLANK(J43:O43)=14,\"\",\"- ohne Titel -\"),Datenerfassung!D53)","v":""},{"$f":"IF(ISBLANK(Datenerfassung!G53),\"\",Datenerfassung!G53)","v":""},"",{"$f":"IF(ISBLANK(Datenerfassung!X53),\"\",Datenerfassung!X53)","v":""},{"$f":"IF(COUNTBLANK(Datenerfassung!H53:'Datenerfassung'!N53)=7,\"\",CONCATENATE( CONCATENATE(IF(ISBLANK(Datenerfassung!H53),\" \",Datenerfassung!H53 ),\" [IS]\"), CONCATENATE(IF(ISBLANK(Datenerfassung!I53),\" \",Datenerfassung!I53 ),\" [IS]\"), CONCATENATE(IF(ISBLANK(Datenerfassung!J53),\" \",Datenerfassung!J53 ),\" [IS]\"), CONCATENATE(IF(ISBLANK(Datenerfassung!K53),\" \",Datenerfassung!K53 ),\" [IS]\"), CONCATENATE(IF(ISBLANK(Datenerfassung!L53),\" \",Datenerfassung!L53 ),\" [IS]\"), CONCATENATE(IF(ISBLANK(Datenerfassung!M53),\" \",Datenerfassung!M53 ),\" [IS]\"), IF(ISBLANK(Datenerfassung!N53),\" \",Datenerfassung!N53 ) ))","v":""},{"$f":"IF(ISBLANK(Datenerfassung!V53),\"\",Datenerfassung!V53)","v":""},{"$f":"IF(ISBLANK(Datenerfassung!Q53),\"\",Datenerfassung!Q53)","v":""}]
[{"$f":"IF(ISBLANK(Datenerfassung!A54),\"\",Datenerfassung!A54)","v":""},{"$f":"IF(ISBLANK(Datenerfassung!B54),\"\",Datenerfassung!B54)","v":""},{"$f":"IF(ISBLANK(Datenerfassung!C54),\"\",Datenerfassung!C54)","v":""},{"$f":"IF(ISBLANK(Datenerfassung!R54),\"\",Datenerfassung!R54)","v":""},{"$f":"IF(ISBLANK(Datenerfassung!S54),\"\",Datenerfassung!S54)","v":""},"",{"$f":"IF(ISBLANK(Datenerfassung!U54),\"\",Datenerfassung!U54)","v":""},{"$f":"IF(ISBLANK(Datenerfassung!O54),\"\",Datenerfassung!O54)","v":""},{"$f":"IF(ISBLANK(Datenerfassung!D54),IF(COUNTBLANK(A44:H44)+COUNTBLANK(J44:O44)=14,\"\",\"- ohne Titel -\"),Datenerfassung!D54)","v":""},{"$f":"IF(ISBLANK(Datenerfassung!G54),\"\",Datenerfassung!G54)","v":""},"",{"$f":"IF(ISBLANK(Datenerfassung!X54),\"\",Datenerfassung!X54)","v":""},{"$f":"IF(COUNTBLANK(Datenerfassung!H54:'Datenerfassung'!N54)=7,\"\",CONCATENATE( CONCATENATE(IF(ISBLANK(Datenerfassung!H54),\" \",Datenerfassung!H54 ),\" [IS]\"), CONCATENATE(IF(ISBLANK(Datenerfassung!I54),\" \",Datenerfassung!I54 ),\" [IS]\"), CONCATENATE(IF(ISBLANK(Datenerfassung!J54),\" \",Datenerfassung!J54 ),\" [IS]\"), CONCATENATE(IF(ISBLANK(Datenerfassung!K54),\" \",Datenerfassung!K54 ),\" [IS]\"), CONCATENATE(IF(ISBLANK(Datenerfassung!L54),\" \",Datenerfassung!L54 ),\" [IS]\"), CONCATENATE(IF(ISBLANK(Datenerfassung!M54),\" \",Datenerfassung!M54 ),\" [IS]\"), IF(ISBLANK(Datenerfassung!N54),\" \",Datenerfassung!N54 ) ))","v":""},{"$f":"IF(ISBLANK(Datenerfassung!V54),\"\",Datenerfassung!V54)","v":""},{"$f":"IF(ISBLANK(Datenerfassung!Q54),\"\",Datenerfassung!Q54)","v":""}]
[{"$f":"IF(ISBLANK(Datenerfassung!A55),\"\",Datenerfassung!A55)","v":""},{"$f":"IF(ISBLANK(Datenerfassung!B55),\"\",Datenerfassung!B55)","v":""},{"$f":"IF(ISBLANK(Datenerfassung!C55),\"\",Datenerfassung!C55)","v":""},{"$f":"IF(ISBLANK(Datenerfassung!R55),\"\",Datenerfassung!R55)","v":""},{"$f":"IF(ISBLANK(Datenerfassung!S55),\"\",Datenerfassung!S55)","v":""},"",{"$f":"IF(ISBLANK(Datenerfassung!U55),\"\",Datenerfassung!U55)","v":""},{"$f":"IF(ISBLANK(Datenerfassung!O55),\"\",Datenerfassung!O55)","v":""},{"$f":"IF(ISBLANK(Datenerfassung!D55),IF(COUNTBLANK(A45:H45)+COUNTBLANK(J45:O45)=14,\"\",\"- ohne Titel -\"),Datenerfassung!D55)","v":""},{"$f":"IF(ISBLANK(Datenerfassung!G55),\"\",Datenerfassung!G55)","v":""},"",{"$f":"IF(ISBLANK(Datenerfassung!X55),\"\",Datenerfassung!X55)","v":""},{"$f":"IF(COUNTBLANK(Datenerfassung!H55:'Datenerfassung'!N55)=7,\"\",CONCATENATE( CONCATENATE(IF(ISBLANK(Datenerfassung!H55),\" \",Datenerfassung!H55 ),\" [IS]\"), CONCATENATE(IF(ISBLANK(Datenerfassung!I55),\" \",Datenerfassung!I55 ),\" [IS]\"), CONCATENATE(IF(ISBLANK(Datenerfassung!J55),\" \",Datenerfassung!J55 ),\" [IS]\"), CONCATENATE(IF(ISBLANK(Datenerfassung!K55),\" \",Datenerfassung!K55 ),\" [IS]\"), CONCATENATE(IF(ISBLANK(Datenerfassung!L55),\" \",Datenerfassung!L55 ),\" [IS]\"), CONCATENATE(IF(ISBLANK(Datenerfassung!M55),\" \",Datenerfassung!M55 ),\" [IS]\"), IF(ISBLANK(Datenerfassung!N55),\" \",Datenerfassung!N55 ) ))","v":""},{"$f":"IF(ISBLANK(Datenerfassung!V55),\"\",Datenerfassung!V55)","v":""},{"$f":"IF(ISBLANK(Datenerfassung!Q55),\"\",Datenerfassung!Q55)","v":""}]
[{"$f":"IF(ISBLANK(Datenerfassung!A56),\"\",Datenerfassung!A56)","v":""},{"$f":"IF(ISBLANK(Datenerfassung!B56),\"\",Datenerfassung!B56)","v":""},{"$f":"IF(ISBLANK(Datenerfassung!C56),\"\",Datenerfassung!C56)","v":""},{"$f":"IF(ISBLANK(Datenerfassung!R56),\"\",Datenerfassung!R56)","v":""},{"$f":"IF(ISBLANK(Datenerfassung!S56),\"\",Datenerfassung!S56)","v":""},"",{"$f":"IF(ISBLANK(Datenerfassung!U56),\"\",Datenerfassung!U56)","v":""},{"$f":"IF(ISBLANK(Datenerfassung!O56),\"\",Datenerfassung!O56)","v":""},{"$f":"IF(ISBLANK(Datenerfassung!D56),IF(COUNTBLANK(A46:H46)+COUNTBLANK(J46:O46)=14,\"\",\"- ohne Titel -\"),Datenerfassung!D56)","v":""},{"$f":"IF(ISBLANK(Datenerfassung!G56),\"\",Datenerfassung!G56)","v":""},"",{"$f":"IF(ISBLANK(Datenerfassung!X56),\"\",Datenerfassung!X56)","v":""},{"$f":"IF(COUNTBLANK(Datenerfassung!H56:'Datenerfassung'!N56)=7,\"\",CONCATENATE( CONCATENATE(IF(ISBLANK(Datenerfassung!H56),\" \",Datenerfassung!H56 ),\" [IS]\"), CONCATENATE(IF(ISBLANK(Datenerfassung!I56),\" \",Datenerfassung!I56 ),\" [IS]\"), CONCATENATE(IF(ISBLANK(Datenerfassung!J56),\" \",Datenerfassung!J56 ),\" [IS]\"), CONCATENATE(IF(ISBLANK(Datenerfassung!K56),\" \",Datenerfassung!K56 ),\" [IS]\"), CONCATENATE(IF(ISBLANK(Datenerfassung!L56),\" \",Datenerfassung!L56 ),\" [IS]\"), CONCATENATE(IF(ISBLANK(Datenerfassung!M56),\" \",Datenerfassung!M56 ),\" [IS]\"), IF(ISBLANK(Datenerfassung!N56),\" \",Datenerfassung!N56 ) ))","v":""},{"$f":"IF(ISBLANK(Datenerfassung!V56),\"\",Datenerfassung!V56)","v":""},{"$f":"IF(ISBLANK(Datenerfassung!Q56),\"\",Datenerfassung!Q56)","v":""}]
[{"$f":"IF(ISBLANK(Datenerfassung!A57),\"\",Datenerfassung!A57)","v":""},{"$f":"IF(ISBLANK(Datenerfassung!B57),\"\",Datenerfassung!B57)","v":""},{"$f":"IF(ISBLANK(Datenerfassung!C57),\"\",Datenerfassung!C57)","v":""},{"$f":"IF(ISBLANK(Datenerfassung!R57),\"\",Datenerfassung!R57)","v":""},{"$f":"IF(ISBLANK(Datenerfassung!S57),\"\",Datenerfassung!S57)","v":""},"",{"$f":"IF(ISBLANK(Datenerfassung!U57),\"\",Datenerfassung!U57)","v":""},{"$f":"IF(ISBLANK(Datenerfassung!O57),\"\",Datenerfassung!O57)","v":""},{"$f":"IF(ISBLANK(Datenerfassung!D57),IF(COUNTBLANK(A47:H47)+COUNTBLANK(J47:O47)=14,\"\",\"- ohne Titel -\"),Datenerfassung!D57)","v":""},{"$f":"IF(ISBLANK(Datenerfassung!G57),\"\",Datenerfassung!G57)","v":""},"",{"$f":"IF(ISBLANK(Datenerfassung!X57),\"\",Datenerfassung!X57)","v":""},{"$f":"IF(COUNTBLANK(Datenerfassung!H57:'Datenerfassung'!N57)=7,\"\",CONCATENATE( CONCATENATE(IF(ISBLANK(Datenerfassung!H57),\" \",Datenerfassung!H57 ),\" [IS]\"), CONCATENATE(IF(ISBLANK(Datenerfassung!I57),\" \",Datenerfassung!I57 ),\" [IS]\"), CONCATENATE(IF(ISBLANK(Datenerfassung!J57),\" \",Datenerfassung!J57 ),\" [IS]\"), CONCATENATE(IF(ISBLANK(Datenerfassung!K57),\" \",Datenerfassung!K57 ),\" [IS]\"), CONCATENATE(IF(ISBLANK(Datenerfassung!L57),\" \",Datenerfassung!L57 ),\" [IS]\"), CONCATENATE(IF(ISBLANK(Datenerfassung!M57),\" \",Datenerfassung!M57 ),\" [IS]\"), IF(ISBLANK(Datenerfassung!N57),\" \",Datenerfassung!N57 ) ))","v":""},{"$f":"IF(ISBLANK(Datenerfassung!V57),\"\",Datenerfassung!V57)","v":""},{"$f":"IF(ISBLANK(Datenerfassung!Q57),\"\",Datenerfassung!Q57)","v":""}]
[{"$f":"IF(ISBLANK(Datenerfassung!A58),\"\",Datenerfassung!A58)","v":""},{"$f":"IF(ISBLANK(Datenerfassung!B58),\"\",Datenerfassung!B58)","v":""},{"$f":"IF(ISBLANK(Datenerfassung!C58),\"\",Datenerfassung!C58)","v":""},{"$f":"IF(ISBLANK(Datenerfassung!R58),\"\",Datenerfassung!R58)","v":""},{"$f":"IF(ISBLANK(Datenerfassung!S58),\"\",Datenerfassung!S58)","v":""},"",{"$f":"IF(ISBLANK(Datenerfassung!U58),\"\",Datenerfassung!U58)","v":""},{"$f":"IF(ISBLANK(Datenerfassung!O58),\"\",Datenerfassung!O58)","v":""},{"$f":"IF(ISBLANK(Datenerfassung!D58),IF(COUNTBLANK(A48:H48)+COUNTBLANK(J48:O48)=14,\"\",\"- ohne Titel -\"),Datenerfassung!D58)","v":""},{"$f":"IF(ISBLANK(Datenerfassung!G58),\"\",Datenerfassung!G58)","v":""},"",{"$f":"IF(ISBLANK(Datenerfassung!X58),\"\",Datenerfassung!X58)","v":""},{"$f":"IF(COUNTBLANK(Datenerfassung!H58:'Datenerfassung'!N58)=7,\"\",CONCATENATE( CONCATENATE(IF(ISBLANK(Datenerfassung!H58),\" \",Datenerfassung!H58 ),\" [IS]\"), CONCATENATE(IF(ISBLANK(Datenerfassung!I58),\" \",Datenerfassung!I58 ),\" [IS]\"), CONCATENATE(IF(ISBLANK(Datenerfassung!J58),\" \",Datenerfassung!J58 ),\" [IS]\"), CONCATENATE(IF(ISBLANK(Datenerfassung!K58),\" \",Datenerfassung!K58 ),\" [IS]\"), CONCATENATE(IF(ISBLANK(Datenerfassung!L58),\" \",Datenerfassung!L58 ),\" [IS]\"), CONCATENATE(IF(ISBLANK(Datenerfassung!M58),\" \",Datenerfassung!M58 ),\" [IS]\"), IF(ISBLANK(Datenerfassung!N58),\" \",Datenerfassung!N58 ) ))","v":""},{"$f":"IF(ISBLANK(Datenerfassung!V58),\"\",Datenerfassung!V58)","v":""},{"$f":"IF(ISBLANK(Datenerfassung!Q58),\"\",Datenerfassung!Q58)","v":""}]
[{"$f":"IF(ISBLANK(Datenerfassung!A59),\"\",Datenerfassung!A59)","v":""},{"$f":"IF(ISBLANK(Datenerfassung!B59),\"\",Datenerfassung!B59)","v":""},{"$f":"IF(ISBLANK(Datenerfassung!C59),\"\",Datenerfassung!C59)","v":""},{"$f":"IF(ISBLANK(Datenerfassung!R59),\"\",Datenerfassung!R59)","v":""},{"$f":"IF(ISBLANK(Datenerfassung!S59),\"\",Datenerfassung!S59)","v":""},"",{"$f":"IF(ISBLANK(Datenerfassung!U59),\"\",Datenerfassung!U59)","v":""},{"$f":"IF(ISBLANK(Datenerfassung!O59),\"\",Datenerfassung!O59)","v":""},{"$f":"IF(ISBLANK(Datenerfassung!D59),IF(COUNTBLANK(A49:H49)+COUNTBLANK(J49:O49)=14,\"\",\"- ohne Titel -\"),Datenerfassung!D59)","v":""},{"$f":"IF(ISBLANK(Datenerfassung!G59),\"\",Datenerfassung!G59)","v":""},"",{"$f":"IF(ISBLANK(Datenerfassung!X59),\"\",Datenerfassung!X59)","v":""},{"$f":"IF(COUNTBLANK(Datenerfassung!H59:'Datenerfassung'!N59)=7,\"\",CONCATENATE( CONCATENATE(IF(ISBLANK(Datenerfassung!H59),\" \",Datenerfassung!H59 ),\" [IS]\"), CONCATENATE(IF(ISBLANK(Datenerfassung!I59),\" \",Datenerfassung!I59 ),\" [IS]\"), CONCATENATE(IF(ISBLANK(Datenerfassung!J59),\" \",Datenerfassung!J59 ),\" [IS]\"), CONCATENATE(IF(ISBLANK(Datenerfassung!K59),\" \",Datenerfassung!K59 ),\" [IS]\"), CONCATENATE(IF(ISBLANK(Datenerfassung!L59),\" \",Datenerfassung!L59 ),\" [IS]\"), CONCATENATE(IF(ISBLANK(Datenerfassung!M59),\" \",Datenerfassung!M59 ),\" [IS]\"), IF(ISBLANK(Datenerfassung!N59),\" \",Datenerfassung!N59 ) ))","v":""},{"$f":"IF(ISBLANK(Datenerfassung!V59),\"\",Datenerfassung!V59)","v":""},{"$f":"IF(ISBLANK(Datenerfassung!Q59),\"\",Datenerfassung!Q59)","v":""}]
[{"$f":"IF(ISBLANK(Datenerfassung!A60),\"\",Datenerfassung!A60)","v":""},{"$f":"IF(ISBLANK(Datenerfassung!B60),\"\",Datenerfassung!B60)","v":""},{"$f":"IF(ISBLANK(Datenerfassung!C60),\"\",Datenerfassung!C60)","v":""},{"$f":"IF(ISBLANK(Datenerfassung!R60),\"\",Datenerfassung!R60)","v":""},{"$f":"IF(ISBLANK(Datenerfassung!S60),\"\",Datenerfassung!S60)","v":""},"",{"$f":"IF(ISBLANK(Datenerfassung!U60),\"\",Datenerfassung!U60)","v":""},{"$f":"IF(ISBLANK(Datenerfassung!O60),\"\",Datenerfassung!O60)","v":""},{"$f":"IF(ISBLANK(Datenerfassung!D60),IF(COUNTBLANK(A50:H50)+COUNTBLANK(J50:O50)=14,\"\",\"- ohne Titel -\"),Datenerfassung!D60)","v":""},{"$f":"IF(ISBLANK(Datenerfassung!G60),\"\",Datenerfassung!G60)","v":""},"",{"$f":"IF(ISBLANK(Datenerfassung!X60),\"\",Datenerfassung!X60)","v":""},{"$f":"IF(COUNTBLANK(Datenerfassung!H60:'Datenerfassung'!N60)=7,\"\",CONCATENATE( CONCATENATE(IF(ISBLANK(Datenerfassung!H60),\" \",Datenerfassung!H60 ),\" [IS]\"), CONCATENATE(IF(ISBLANK(Datenerfassung!I60),\" \",Datenerfassung!I60 ),\" [IS]\"), CONCATENATE(IF(ISBLANK(Datenerfassung!J60),\" \",Datenerfassung!J60 ),\" [IS]\"), CONCATENATE(IF(ISBLANK(Datenerfassung!K60),\" \",Datenerfassung!K60 ),\" [IS]\"), CONCATENATE(IF(ISBLANK(Datenerfassung!L60),\" \",Datenerfassung!L60 ),\" [IS]\"), CONCATENATE(IF(ISBLANK(Datenerfassung!M60),\" \",Datenerfassung!M60 ),\" [IS]\"), IF(ISBLANK(Datenerfassung!N60),\" \",Datenerfassung!N60 ) ))","v":""},{"$f":"IF(ISBLANK(Datenerfassung!V60),\"\",Datenerfassung!V60)","v":""},{"$f":"IF(ISBLANK(Datenerfassung!Q60),\"\",Datenerfassung!Q60)","v":""}]
[{"$f":"IF(ISBLANK(Datenerfassung!A61),\"\",Datenerfassung!A61)","v":""},{"$f":"IF(ISBLANK(Datenerfassung!B61),\"\",Datenerfassung!B61)","v":""},{"$f":"IF(ISBLANK(Datenerfassung!C61),\"\",Datenerfassung!C61)","v":""},{"$f":"IF(ISBLANK(Datenerfassung!R61),\"\",Datenerfassung!R61)","v":""},{"$f":"IF(ISBLANK(Datenerfassung!S61),\"\",Datenerfassung!S61)","v":""},"",{"$f":"IF(ISBLANK(Datenerfassung!U61),\"\",Datenerfassung!U61)","v":""},{"$f":"IF(ISBLANK(Datenerfassung!O61),\"\",Datenerfassung!O61)","v":""},{"$f":"IF(ISBLANK(Datenerfassung!D61),IF(COUNTBLANK(A51:H51)+COUNTBLANK(J51:O51)=14,\"\",\"- ohne Titel -\"),Datenerfassung!D61)","v":""},{"$f":"IF(ISBLANK(Datenerfassung!G61),\"\",Datenerfassung!G61)","v":""},"",{"$f":"IF(ISBLANK(Datenerfassung!X61),\"\",Datenerfassung!X61)","v":""},{"$f":"IF(COUNTBLANK(Datenerfassung!H61:'Datenerfassung'!N61)=7,\"\",CONCATENATE( CONCATENATE(IF(ISBLANK(Datenerfassung!H61),\" \",Datenerfassung!H61 ),\" [IS]\"), CONCATENATE(IF(ISBLANK(Datenerfassung!I61),\" \",Datenerfassung!I61 ),\" [IS]\"), CONCATENATE(IF(ISBLANK(Datenerfassung!J61),\" \",Datenerfassung!J61 ),\" [IS]\"), CONCATENATE(IF(ISBLANK(Datenerfassung!K61),\" \",Datenerfassung!K61 ),\" [IS]\"), CONCATENATE(IF(ISBLANK(Datenerfassung!L61),\" \",Datenerfassung!L61 ),\" [IS]\"), CONCATENATE(IF(ISBLANK(Datenerfassung!M61),\" \",Datenerfassung!M61 ),\" [IS]\"), IF(ISBLANK(Datenerfassung!N61),\" \",Datenerfassung!N61 ) ))","v":""},{"$f":"IF(ISBLANK(Datenerfassung!V61),\"\",Datenerfassung!V61)","v":""},{"$f":"IF(ISBLANK(Datenerfassung!Q61),\"\",Datenerfassung!Q61)","v":""}]
[{"$f":"IF(ISBLANK(Datenerfassung!A62),\"\",Datenerfassung!A62)","v":""},{"$f":"IF(ISBLANK(Datenerfassung!B62),\"\",Datenerfassung!B62)","v":""},{"$f":"IF(ISBLANK(Datenerfassung!C62),\"\",Datenerfassung!C62)","v":""},{"$f":"IF(ISBLANK(Datenerfassung!R62),\"\",Datenerfassung!R62)","v":""},{"$f":"IF(ISBLANK(Datenerfassung!S62),\"\",Datenerfassung!S62)","v":""},"",{"$f":"IF(ISBLANK(Datenerfassung!U62),\"\",Datenerfassung!U62)","v":""},{"$f":"IF(ISBLANK(Datenerfassung!O62),\"\",Datenerfassung!O62)","v":""},{"$f":"IF(ISBLANK(Datenerfassung!D62),IF(COUNTBLANK(A52:H52)+COUNTBLANK(J52:O52)=14,\"\",\"- ohne Titel -\"),Datenerfassung!D62)","v":""},{"$f":"IF(ISBLANK(Datenerfassung!G62),\"\",Datenerfassung!G62)","v":""},"",{"$f":"IF(ISBLANK(Datenerfassung!X62),\"\",Datenerfassung!X62)","v":""},{"$f":"IF(COUNTBLANK(Datenerfassung!H62:'Datenerfassung'!N62)=7,\"\",CONCATENATE( CONCATENATE(IF(ISBLANK(Datenerfassung!H62),\" \",Datenerfassung!H62 ),\" [IS]\"), CONCATENATE(IF(ISBLANK(Datenerfassung!I62),\" \",Datenerfassung!I62 ),\" [IS]\"), CONCATENATE(IF(ISBLANK(Datenerfassung!J62),\" \",Datenerfassung!J62 ),\" [IS]\"), CONCATENATE(IF(ISBLANK(Datenerfassung!K62),\" \",Datenerfassung!K62 ),\" [IS]\"), CONCATENATE(IF(ISBLANK(Datenerfassung!L62),\" \",Datenerfassung!L62 ),\" [IS]\"), CONCATENATE(IF(ISBLANK(Datenerfassung!M62),\" \",Datenerfassung!M62 ),\" [IS]\"), IF(ISBLANK(Datenerfassung!N62),\" \",Datenerfassung!N62 ) ))","v":""},{"$f":"IF(ISBLANK(Datenerfassung!V62),\"\",Datenerfassung!V62)","v":""},{"$f":"IF(ISBLANK(Datenerfassung!Q62),\"\",Datenerfassung!Q62)","v":""}]
[{"$f":"IF(ISBLANK(Datenerfassung!A63),\"\",Datenerfassung!A63)","v":""},{"$f":"IF(ISBLANK(Datenerfassung!B63),\"\",Datenerfassung!B63)","v":""},{"$f":"IF(ISBLANK(Datenerfassung!C63),\"\",Datenerfassung!C63)","v":""},{"$f":"IF(ISBLANK(Datenerfassung!R63),\"\",Datenerfassung!R63)","v":""},{"$f":"IF(ISBLANK(Datenerfassung!S63),\"\",Datenerfassung!S63)","v":""},"",{"$f":"IF(ISBLANK(Datenerfassung!U63),\"\",Datenerfassung!U63)","v":""},{"$f":"IF(ISBLANK(Datenerfassung!O63),\"\",Datenerfassung!O63)","v":""},{"$f":"IF(ISBLANK(Datenerfassung!D63),IF(COUNTBLANK(A53:H53)+COUNTBLANK(J53:O53)=14,\"\",\"- ohne Titel -\"),Datenerfassung!D63)","v":""},{"$f":"IF(ISBLANK(Datenerfassung!G63),\"\",Datenerfassung!G63)","v":""},"",{"$f":"IF(ISBLANK(Datenerfassung!X63),\"\",Datenerfassung!X63)","v":""},{"$f":"IF(COUNTBLANK(Datenerfassung!H63:'Datenerfassung'!N63)=7,\"\",CONCATENATE( CONCATENATE(IF(ISBLANK(Datenerfassung!H63),\" \",Datenerfassung!H63 ),\" [IS]\"), CONCATENATE(IF(ISBLANK(Datenerfassung!I63),\" \",Datenerfassung!I63 ),\" [IS]\"), CONCATENATE(IF(ISBLANK(Datenerfassung!J63),\" \",Datenerfassung!J63 ),\" [IS]\"), CONCATENATE(IF(ISBLANK(Datenerfassung!K63),\" \",Datenerfassung!K63 ),\" [IS]\"), CONCATENATE(IF(ISBLANK(Datenerfassung!L63),\" \",Datenerfassung!L63 ),\" [IS]\"), CONCATENATE(IF(ISBLANK(Datenerfassung!M63),\" \",Datenerfassung!M63 ),\" [IS]\"), IF(ISBLANK(Datenerfassung!N63),\" \",Datenerfassung!N63 ) ))","v":""},{"$f":"IF(ISBLANK(Datenerfassung!V63),\"\",Datenerfassung!V63)","v":""},{"$f":"IF(ISBLANK(Datenerfassung!Q63),\"\",Datenerfassung!Q63)","v":""}]
[{"$f":"IF(ISBLANK(Datenerfassung!A64),\"\",Datenerfassung!A64)","v":""},{"$f":"IF(ISBLANK(Datenerfassung!B64),\"\",Datenerfassung!B64)","v":""},{"$f":"IF(ISBLANK(Datenerfassung!C64),\"\",Datenerfassung!C64)","v":""},{"$f":"IF(ISBLANK(Datenerfassung!R64),\"\",Datenerfassung!R64)","v":""},{"$f":"IF(ISBLANK(Datenerfassung!S64),\"\",Datenerfassung!S64)","v":""},"",{"$f":"IF(ISBLANK(Datenerfassung!U64),\"\",Datenerfassung!U64)","v":""},{"$f":"IF(ISBLANK(Datenerfassung!O64),\"\",Datenerfassung!O64)","v":""},{"$f":"IF(ISBLANK(Datenerfassung!D64),IF(COUNTBLANK(A54:H54)+COUNTBLANK(J54:O54)=14,\"\",\"- ohne Titel -\"),Datenerfassung!D64)","v":""},{"$f":"IF(ISBLANK(Datenerfassung!G64),\"\",Datenerfassung!G64)","v":""},"",{"$f":"IF(ISBLANK(Datenerfassung!X64),\"\",Datenerfassung!X64)","v":""},{"$f":"IF(COUNTBLANK(Datenerfassung!H64:'Datenerfassung'!N64)=7,\"\",CONCATENATE( CONCATENATE(IF(ISBLANK(Datenerfassung!H64),\" \",Datenerfassung!H64 ),\" [IS]\"), CONCATENATE(IF(ISBLANK(Datenerfassung!I64),\" \",Datenerfassung!I64 ),\" [IS]\"), CONCATENATE(IF(ISBLANK(Datenerfassung!J64),\" \",Datenerfassung!J64 ),\" [IS]\"), CONCATENATE(IF(ISBLANK(Datenerfassung!K64),\" \",Datenerfassung!K64 ),\" [IS]\"), CONCATENATE(IF(ISBLANK(Datenerfassung!L64),\" \",Datenerfassung!L64 ),\" [IS]\"), CONCATENATE(IF(ISBLANK(Datenerfassung!M64),\" \",Datenerfassung!M64 ),\" [IS]\"), IF(ISBLANK(Datenerfassung!N64),\" \",Datenerfassung!N64 ) ))","v":""},{"$f":"IF(ISBLANK(Datenerfassung!V64),\"\",Datenerfassung!V64)","v":""},{"$f":"IF(ISBLANK(Datenerfassung!Q64),\"\",Datenerfassung!Q64)","v":""}]
[{"$f":"IF(ISBLANK(Datenerfassung!A65),\"\",Datenerfassung!A65)","v":""},{"$f":"IF(ISBLANK(Datenerfassung!B65),\"\",Datenerfassung!B65)","v":""},{"$f":"IF(ISBLANK(Datenerfassung!C65),\"\",Datenerfassung!C65)","v":""},{"$f":"IF(ISBLANK(Datenerfassung!R65),\"\",Datenerfassung!R65)","v":""},{"$f":"IF(ISBLANK(Datenerfassung!S65),\"\",Datenerfassung!S65)","v":""},"",{"$f":"IF(ISBLANK(Datenerfassung!U65),\"\",Datenerfassung!U65)","v":""},{"$f":"IF(ISBLANK(Datenerfassung!O65),\"\",Datenerfassung!O65)","v":""},{"$f":"IF(ISBLANK(Datenerfassung!D65),IF(COUNTBLANK(A55:H55)+COUNTBLANK(J55:O55)=14,\"\",\"- ohne Titel -\"),Datenerfassung!D65)","v":""},{"$f":"IF(ISBLANK(Datenerfassung!G65),\"\",Datenerfassung!G65)","v":""},"",{"$f":"IF(ISBLANK(Datenerfassung!X65),\"\",Datenerfassung!X65)","v":""},{"$f":"IF(COUNTBLANK(Datenerfassung!H65:'Datenerfassung'!N65)=7,\"\",CONCATENATE( CONCATENATE(IF(ISBLANK(Datenerfassung!H65),\" \",Datenerfassung!H65 ),\" [IS]\"), CONCATENATE(IF(ISBLANK(Datenerfassung!I65),\" \",Datenerfassung!I65 ),\" [IS]\"), CONCATENATE(IF(ISBLANK(Datenerfassung!J65),\" \",Datenerfassung!J65 ),\" [IS]\"), CONCATENATE(IF(ISBLANK(Datenerfassung!K65),\" \",Datenerfassung!K65 ),\" [IS]\"), CONCATENATE(IF(ISBLANK(Datenerfassung!L65),\" \",Datenerfassung!L65 ),\" [IS]\"), CONCATENATE(IF(ISBLANK(Datenerfassung!M65),\" \",Datenerfassung!M65 ),\" [IS]\"), IF(ISBLANK(Datenerfassung!N65),\" \",Datenerfassung!N65 ) ))","v":""},{"$f":"IF(ISBLANK(Datenerfassung!V65),\"\",Datenerfassung!V65)","v":""},{"$f":"IF(ISBLANK(Datenerfassung!Q65),\"\",Datenerfassung!Q65)","v":""}]
[{"$f":"IF(ISBLANK(Datenerfassung!A66),\"\",Datenerfassung!A66)","v":""},{"$f":"IF(ISBLANK(Datenerfassung!B66),\"\",Datenerfassung!B66)","v":""},{"$f":"IF(ISBLANK(Datenerfassung!C66),\"\",Datenerfassung!C66)","v":""},{"$f":"IF(ISBLANK(Datenerfassung!R66),\"\",Datenerfassung!R66)","v":""},{"$f":"IF(ISBLANK(Datenerfassung!S66),\"\",Datenerfassung!S66)","v":""},"",{"$f":"IF(ISBLANK(Datenerfassung!U66),\"\",Datenerfassung!U66)","v":""},{"$f":"IF(ISBLANK(Datenerfassung!O66),\"\",Datenerfassung!O66)","v":""},{"$f":"IF(ISBLANK(Datenerfassung!D66),IF(COUNTBLANK(A56:H56)+COUNTBLANK(J56:O56)=14,\"\",\"- ohne Titel -\"),Datenerfassung!D66)","v":""},{"$f":"IF(ISBLANK(Datenerfassung!G66),\"\",Datenerfassung!G66)","v":""},"",{"$f":"IF(ISBLANK(Datenerfassung!X66),\"\",Datenerfassung!X66)","v":""},{"$f":"IF(COUNTBLANK(Datenerfassung!H66:'Datenerfassung'!N66)=7,\"\",CONCATENATE( CONCATENATE(IF(ISBLANK(Datenerfassung!H66),\" \",Datenerfassung!H66 ),\" [IS]\"), CONCATENATE(IF(ISBLANK(Datenerfassung!I66),\" \",Datenerfassung!I66 ),\" [IS]\"), CONCATENATE(IF(ISBLANK(Datenerfassung!J66),\" \",Datenerfassung!J66 ),\" [IS]\"), CONCATENATE(IF(ISBLANK(Datenerfassung!K66),\" \",Datenerfassung!K66 ),\" [IS]\"), CONCATENATE(IF(ISBLANK(Datenerfassung!L66),\" \",Datenerfassung!L66 ),\" [IS]\"), CONCATENATE(IF(ISBLANK(Datenerfassung!M66),\" \",Datenerfassung!M66 ),\" [IS]\"), IF(ISBLANK(Datenerfassung!N66),\" \",Datenerfassung!N66 ) ))","v":""},{"$f":"IF(ISBLANK(Datenerfassung!V66),\"\",Datenerfassung!V66)","v":""},{"$f":"IF(ISBLANK(Datenerfassung!Q66),\"\",Datenerfassung!Q66)","v":""}]
[{"$f":"IF(ISBLANK(Datenerfassung!A67),\"\",Datenerfassung!A67)","v":""},{"$f":"IF(ISBLANK(Datenerfassung!B67),\"\",Datenerfassung!B67)","v":""},{"$f":"IF(ISBLANK(Datenerfassung!C67),\"\",Datenerfassung!C67)","v":""},{"$f":"IF(ISBLANK(Datenerfassung!R67),\"\",Datenerfassung!R67)","v":""},{"$f":"IF(ISBLANK(Datenerfassung!S67),\"\",Datenerfassung!S67)","v":""},"",{"$f":"IF(ISBLANK(Datenerfassung!U67),\"\",Datenerfassung!U67)","v":""},{"$f":"IF(ISBLANK(Datenerfassung!O67),\"\",Datenerfassung!O67)","v":""},{"$f":"IF(ISBLANK(Datenerfassung!D67),IF(COUNTBLANK(A57:H57)+COUNTBLANK(J57:O57)=14,\"\",\"- ohne Titel -\"),Datenerfassung!D67)","v":""},{"$f":"IF(ISBLANK(Datenerfassung!G67),\"\",Datenerfassung!G67)","v":""},"",{"$f":"IF(ISBLANK(Datenerfassung!X67),\"\",Datenerfassung!X67)","v":""},{"$f":"IF(COUNTBLANK(Datenerfassung!H67:'Datenerfassung'!N67)=7,\"\",CONCATENATE( CONCATENATE(IF(ISBLANK(Datenerfassung!H67),\" \",Datenerfassung!H67 ),\" [IS]\"), CONCATENATE(IF(ISBLANK(Datenerfassung!I67),\" \",Datenerfassung!I67 ),\" [IS]\"), CONCATENATE(IF(ISBLANK(Datenerfassung!J67),\" \",Datenerfassung!J67 ),\" [IS]\"), CONCATENATE(IF(ISBLANK(Datenerfassung!K67),\" \",Datenerfassung!K67 ),\" [IS]\"), CONCATENATE(IF(ISBLANK(Datenerfassung!L67),\" \",Datenerfassung!L67 ),\" [IS]\"), CONCATENATE(IF(ISBLANK(Datenerfassung!M67),\" \",Datenerfassung!M67 ),\" [IS]\"), IF(ISBLANK(Datenerfassung!N67),\" \",Datenerfassung!N67 ) ))","v":""},{"$f":"IF(ISBLANK(Datenerfassung!V67),\"\",Datenerfassung!V67)","v":""},{"$f":"IF(ISBLANK(Datenerfassung!Q67),\"\",Datenerfassung!Q67)","v":""}]
[{"$f":"IF(ISBLANK(Datenerfassung!A68),\"\",Datenerfassung!A68)","v":""},{"$f":"IF(ISBLANK(Datenerfassung!B68),\"\",Datenerfassung!B68)","v":""},{"$f":"IF(ISBLANK(Datenerfassung!C68),\"\",Datenerfassung!C68)","v":""},{"$f":"IF(ISBLANK(Datenerfassung!R68),\"\",Datenerfassung!R68)","v":""},{"$f":"IF(ISBLANK(Datenerfassung!S68),\"\",Datenerfassung!S68)","v":""},"",{"$f":"IF(ISBLANK(Datenerfassung!U68),\"\",Datenerfassung!U68)","v":""},{"$f":"IF(ISBLANK(Datenerfassung!O68),\"\",Datenerfassung!O68)","v":""},{"$f":"IF(ISBLANK(Datenerfassung!D68),IF(COUNTBLANK(A58:H58)+COUNTBLANK(J58:O58)=14,\"\",\"- ohne Titel -\"),Datenerfassung!D68)","v":""},{"$f":"IF(ISBLANK(Datenerfassung!G68),\"\",Datenerfassung!G68)","v":""},"",{"$f":"IF(ISBLANK(Datenerfassung!X68),\"\",Datenerfassung!X68)","v":""},{"$f":"IF(COUNTBLANK(Datenerfassung!H68:'Datenerfassung'!N68)=7,\"\",CONCATENATE( CONCATENATE(IF(ISBLANK(Datenerfassung!H68),\" \",Datenerfassung!H68 ),\" [IS]\"), CONCATENATE(IF(ISBLANK(Datenerfassung!I68),\" \",Datenerfassung!I68 ),\" [IS]\"), CONCATENATE(IF(ISBLANK(Datenerfassung!J68),\" \",Datenerfassung!J68 ),\" [IS]\"), CONCATENATE(IF(ISBLANK(Datenerfassung!K68),\" \",Datenerfassung!K68 ),\" [IS]\"), CONCATENATE(IF(ISBLANK(Datenerfassung!L68),\" \",Datenerfassung!L68 ),\" [IS]\"), CONCATENATE(IF(ISBLANK(Datenerfassung!M68),\" \",Datenerfassung!M68 ),\" [IS]\"), IF(ISBLANK(Datenerfassung!N68),\" \",Datenerfassung!N68 ) ))","v":""},{"$f":"IF(ISBLANK(Datenerfassung!V68),\"\",Datenerfassung!V68)","v":""},{"$f":"IF(ISBLANK(Datenerfassung!Q68),\"\",Datenerfassung!Q68)","v":""}]
[{"$f":"IF(ISBLANK(Datenerfassung!A69),\"\",Datenerfassung!A69)","v":""},{"$f":"IF(ISBLANK(Datenerfassung!B69),\"\",Datenerfassung!B69)","v":""},{"$f":"IF(ISBLANK(Datenerfassung!C69),\"\",Datenerfassung!C69)","v":""},{"$f":"IF(ISBLANK(Datenerfassung!R69),\"\",Datenerfassung!R69)","v":""},{"$f":"IF(ISBLANK(Datenerfassung!S69),\"\",Datenerfassung!S69)","v":""},"",{"$f":"IF(ISBLANK(Datenerfassung!U69),\"\",Datenerfassung!U69)","v":""},{"$f":"IF(ISBLANK(Datenerfassung!O69),\"\",Datenerfassung!O69)","v":""},{"$f":"IF(ISBLANK(Datenerfassung!D69),IF(COUNTBLANK(A59:H59)+COUNTBLANK(J59:O59)=14,\"\",\"- ohne Titel -\"),Datenerfassung!D69)","v":""},{"$f":"IF(ISBLANK(Datenerfassung!G69),\"\",Datenerfassung!G69)","v":""},"",{"$f":"IF(ISBLANK(Datenerfassung!X69),\"\",Datenerfassung!X69)","v":""},{"$f":"IF(COUNTBLANK(Datenerfassung!H69:'Datenerfassung'!N69)=7,\"\",CONCATENATE( CONCATENATE(IF(ISBLANK(Datenerfassung!H69),\" \",Datenerfassung!H69 ),\" [IS]\"), CONCATENATE(IF(ISBLANK(Datenerfassung!I69),\" \",Datenerfassung!I69 ),\" [IS]\"), CONCATENATE(IF(ISBLANK(Datenerfassung!J69),\" \",Datenerfassung!J69 ),\" [IS]\"), CONCATENATE(IF(ISBLANK(Datenerfassung!K69),\" \",Datenerfassung!K69 ),\" [IS]\"), CONCATENATE(IF(ISBLANK(Datenerfassung!L69),\" \",Datenerfassung!L69 ),\" [IS]\"), CONCATENATE(IF(ISBLANK(Datenerfassung!M69),\" \",Datenerfassung!M69 ),\" [IS]\"), IF(ISBLANK(Datenerfassung!N69),\" \",Datenerfassung!N69 ) ))","v":""},{"$f":"IF(ISBLANK(Datenerfassung!V69),\"\",Datenerfassung!V69)","v":""},{"$f":"IF(ISBLANK(Datenerfassung!Q69),\"\",Datenerfassung!Q69)","v":""}]
[{"$f":"IF(ISBLANK(Datenerfassung!A70),\"\",Datenerfassung!A70)","v":""},{"$f":"IF(ISBLANK(Datenerfassung!B70),\"\",Datenerfassung!B70)","v":""},{"$f":"IF(ISBLANK(Datenerfassung!C70),\"\",Datenerfassung!C70)","v":""},{"$f":"IF(ISBLANK(Datenerfassung!R70),\"\",Datenerfassung!R70)","v":""},{"$f":"IF(ISBLANK(Datenerfassung!S70),\"\",Datenerfassung!S70)","v":""},"",{"$f":"IF(ISBLANK(Datenerfassung!U70),\"\",Datenerfassung!U70)","v":""},{"$f":"IF(ISBLANK(Datenerfassung!O70),\"\",Datenerfassung!O70)","v":""},{"$f":"IF(ISBLANK(Datenerfassung!D70),IF(COUNTBLANK(A60:H60)+COUNTBLANK(J60:O60)=14,\"\",\"- ohne Titel -\"),Datenerfassung!D70)","v":""},{"$f":"IF(ISBLANK(Datenerfassung!G70),\"\",Datenerfassung!G70)","v":""},"",{"$f":"IF(ISBLANK(Datenerfassung!X70),\"\",Datenerfassung!X70)","v":""},{"$f":"IF(COUNTBLANK(Datenerfassung!H70:'Datenerfassung'!N70)=7,\"\",CONCATENATE( CONCATENATE(IF(ISBLANK(Datenerfassung!H70),\" \",Datenerfassung!H70 ),\" [IS]\"), CONCATENATE(IF(ISBLANK(Datenerfassung!I70),\" \",Datenerfassung!I70 ),\" [IS]\"), CONCATENATE(IF(ISBLANK(Datenerfassung!J70),\" \",Datenerfassung!J70 ),\" [IS]\"), CONCATENATE(IF(ISBLANK(Datenerfassung!K70),\" \",Datenerfassung!K70 ),\" [IS]\"), CONCATENATE(IF(ISBLANK(Datenerfassung!L70),\" \",Datenerfassung!L70 ),\" [IS]\"), CONCATENATE(IF(ISBLANK(Datenerfassung!M70),\" \",Datenerfassung!M70 ),\" [IS]\"), IF(ISBLANK(Datenerfassung!N70),\" \",Datenerfassung!N70 ) ))","v":""},{"$f":"IF(ISBLANK(Datenerfassung!V70),\"\",Datenerfassung!V70)","v":""},{"$f":"IF(ISBLANK(Datenerfassung!Q70),\"\",Datenerfassung!Q70)","v":""}]
[{"$f":"IF(ISBLANK(Datenerfassung!A71),\"\",Datenerfassung!A71)","v":""},{"$f":"IF(ISBLANK(Datenerfassung!B71),\"\",Datenerfassung!B71)","v":""},{"$f":"IF(ISBLANK(Datenerfassung!C71),\"\",Datenerfassung!C71)","v":""},{"$f":"IF(ISBLANK(Datenerfassung!R71),\"\",Datenerfassung!R71)","v":""},{"$f":"IF(ISBLANK(Datenerfassung!S71),\"\",Datenerfassung!S71)","v":""},"",{"$f":"IF(ISBLANK(Datenerfassung!U71),\"\",Datenerfassung!U71)","v":""},{"$f":"IF(ISBLANK(Datenerfassung!O71),\"\",Datenerfassung!O71)","v":""},{"$f":"IF(ISBLANK(Datenerfassung!D71),IF(COUNTBLANK(A61:H61)+COUNTBLANK(J61:O61)=14,\"\",\"- ohne Titel -\"),Datenerfassung!D71)","v":""},{"$f":"IF(ISBLANK(Datenerfassung!G71),\"\",Datenerfassung!G71)","v":""},"",{"$f":"IF(ISBLANK(Datenerfassung!X71),\"\",Datenerfassung!X71)","v":""},{"$f":"IF(COUNTBLANK(Datenerfassung!H71:'Datenerfassung'!N71)=7,\"\",CONCATENATE( CONCATENATE(IF(ISBLANK(Datenerfassung!H71),\" \",Datenerfassung!H71 ),\" [IS]\"), CONCATENATE(IF(ISBLANK(Datenerfassung!I71),\" \",Datenerfassung!I71 ),\" [IS]\"), CONCATENATE(IF(ISBLANK(Datenerfassung!J71),\" \",Datenerfassung!J71 ),\" [IS]\"), CONCATENATE(IF(ISBLANK(Datenerfassung!K71),\" \",Datenerfassung!K71 ),\" [IS]\"), CONCATENATE(IF(ISBLANK(Datenerfassung!L71),\" \",Datenerfassung!L71 ),\" [IS]\"), CONCATENATE(IF(ISBLANK(Datenerfassung!M71),\" \",Datenerfassung!M71 ),\" [IS]\"), IF(ISBLANK(Datenerfassung!N71),\" \",Datenerfassung!N71 ) ))","v":""},{"$f":"IF(ISBLANK(Datenerfassung!V71),\"\",Datenerfassung!V71)","v":""},{"$f":"IF(ISBLANK(Datenerfassung!Q71),\"\",Datenerfassung!Q71)","v":""}]
[{"$f":"IF(ISBLANK(Datenerfassung!A72),\"\",Datenerfassung!A72)","v":""},{"$f":"IF(ISBLANK(Datenerfassung!B72),\"\",Datenerfassung!B72)","v":""},{"$f":"IF(ISBLANK(Datenerfassung!C72),\"\",Datenerfassung!C72)","v":""},{"$f":"IF(ISBLANK(Datenerfassung!R72),\"\",Datenerfassung!R72)","v":""},{"$f":"IF(ISBLANK(Datenerfassung!S72),\"\",Datenerfassung!S72)","v":""},"",{"$f":"IF(ISBLANK(Datenerfassung!U72),\"\",Datenerfassung!U72)","v":""},{"$f":"IF(ISBLANK(Datenerfassung!O72),\"\",Datenerfassung!O72)","v":""},{"$f":"IF(ISBLANK(Datenerfassung!D72),IF(COUNTBLANK(A62:H62)+COUNTBLANK(J62:O62)=14,\"\",\"- ohne Titel -\"),Datenerfassung!D72)","v":""},{"$f":"IF(ISBLANK(Datenerfassung!G72),\"\",Datenerfassung!G72)","v":""},"",{"$f":"IF(ISBLANK(Datenerfassung!X72),\"\",Datenerfassung!X72)","v":""},{"$f":"IF(COUNTBLANK(Datenerfassung!H72:'Datenerfassung'!N72)=7,\"\",CONCATENATE( CONCATENATE(IF(ISBLANK(Datenerfassung!H72),\" \",Datenerfassung!H72 ),\" [IS]\"), CONCATENATE(IF(ISBLANK(Datenerfassung!I72),\" \",Datenerfassung!I72 ),\" [IS]\"), CONCATENATE(IF(ISBLANK(Datenerfassung!J72),\" \",Datenerfassung!J72 ),\" [IS]\"), CONCATENATE(IF(ISBLANK(Datenerfassung!K72),\" \",Datenerfassung!K72 ),\" [IS]\"), CONCATENATE(IF(ISBLANK(Datenerfassung!L72),\" \",Datenerfassung!L72 ),\" [IS]\"), CONCATENATE(IF(ISBLANK(Datenerfassung!M72),\" \",Datenerfassung!M72 ),\" [IS]\"), IF(ISBLANK(Datenerfassung!N72),\" \",Datenerfassung!N72 ) ))","v":""},{"$f":"IF(ISBLANK(Datenerfassung!V72),\"\",Datenerfassung!V72)","v":""},{"$f":"IF(ISBLANK(Datenerfassung!Q72),\"\",Datenerfassung!Q72)","v":""}]
[{"$f":"IF(ISBLANK(Datenerfassung!A73),\"\",Datenerfassung!A73)","v":""},{"$f":"IF(ISBLANK(Datenerfassung!B73),\"\",Datenerfassung!B73)","v":""},{"$f":"IF(ISBLANK(Datenerfassung!C73),\"\",Datenerfassung!C73)","v":""},{"$f":"IF(ISBLANK(Datenerfassung!R73),\"\",Datenerfassung!R73)","v":""},{"$f":"IF(ISBLANK(Datenerfassung!S73),\"\",Datenerfassung!S73)","v":""},"",{"$f":"IF(ISBLANK(Datenerfassung!U73),\"\",Datenerfassung!U73)","v":""},{"$f":"IF(ISBLANK(Datenerfassung!O73),\"\",Datenerfassung!O73)","v":""},{"$f":"IF(ISBLANK(Datenerfassung!D73),IF(COUNTBLANK(A63:H63)+COUNTBLANK(J63:O63)=14,\"\",\"- ohne Titel -\"),Datenerfassung!D73)","v":""},{"$f":"IF(ISBLANK(Datenerfassung!G73),\"\",Datenerfassung!G73)","v":""},"",{"$f":"IF(ISBLANK(Datenerfassung!X73),\"\",Datenerfassung!X73)","v":""},{"$f":"IF(COUNTBLANK(Datenerfassung!H73:'Datenerfassung'!N73)=7,\"\",CONCATENATE( CONCATENATE(IF(ISBLANK(Datenerfassung!H73),\" \",Datenerfassung!H73 ),\" [IS]\"), CONCATENATE(IF(ISBLANK(Datenerfassung!I73),\" \",Datenerfassung!I73 ),\" [IS]\"), CONCATENATE(IF(ISBLANK(Datenerfassung!J73),\" \",Datenerfassung!J73 ),\" [IS]\"), CONCATENATE(IF(ISBLANK(Datenerfassung!K73),\" \",Datenerfassung!K73 ),\" [IS]\"), CONCATENATE(IF(ISBLANK(Datenerfassung!L73),\" \",Datenerfassung!L73 ),\" [IS]\"), CONCATENATE(IF(ISBLANK(Datenerfassung!M73),\" \",Datenerfassung!M73 ),\" [IS]\"), IF(ISBLANK(Datenerfassung!N73),\" \",Datenerfassung!N73 ) ))","v":""},{"$f":"IF(ISBLANK(Datenerfassung!V73),\"\",Datenerfassung!V73)","v":""},{"$f":"IF(ISBLANK(Datenerfassung!Q73),\"\",Datenerfassung!Q73)","v":""}]
[{"$f":"IF(ISBLANK(Datenerfassung!A74),\"\",Datenerfassung!A74)","v":""},{"$f":"IF(ISBLANK(Datenerfassung!B74),\"\",Datenerfassung!B74)","v":""},{"$f":"IF(ISBLANK(Datenerfassung!C74),\"\",Datenerfassung!C74)","v":""},{"$f":"IF(ISBLANK(Datenerfassung!R74),\"\",Datenerfassung!R74)","v":""},{"$f":"IF(ISBLANK(Datenerfassung!S74),\"\",Datenerfassung!S74)","v":""},"",{"$f":"IF(ISBLANK(Datenerfassung!U74),\"\",Datenerfassung!U74)","v":""},{"$f":"IF(ISBLANK(Datenerfassung!O74),\"\",Datenerfassung!O74)","v":""},{"$f":"IF(ISBLANK(Datenerfassung!D74),IF(COUNTBLANK(A64:H64)+COUNTBLANK(J64:O64)=14,\"\",\"- ohne Titel -\"),Datenerfassung!D74)","v":""},{"$f":"IF(ISBLANK(Datenerfassung!G74),\"\",Datenerfassung!G74)","v":""},"",{"$f":"IF(ISBLANK(Datenerfassung!X74),\"\",Datenerfassung!X74)","v":""},{"$f":"IF(COUNTBLANK(Datenerfassung!H74:'Datenerfassung'!N74)=7,\"\",CONCATENATE( CONCATENATE(IF(ISBLANK(Datenerfassung!H74),\" \",Datenerfassung!H74 ),\" [IS]\"), CONCATENATE(IF(ISBLANK(Datenerfassung!I74),\" \",Datenerfassung!I74 ),\" [IS]\"), CONCATENATE(IF(ISBLANK(Datenerfassung!J74),\" \",Datenerfassung!J74 ),\" [IS]\"), CONCATENATE(IF(ISBLANK(Datenerfassung!K74),\" \",Datenerfassung!K74 ),\" [IS]\"), CONCATENATE(IF(ISBLANK(Datenerfassung!L74),\" \",Datenerfassung!L74 ),\" [IS]\"), CONCATENATE(IF(ISBLANK(Datenerfassung!M74),\" \",Datenerfassung!M74 ),\" [IS]\"), IF(ISBLANK(Datenerfassung!N74),\" \",Datenerfassung!N74 ) ))","v":""},{"$f":"IF(ISBLANK(Datenerfassung!V74),\"\",Datenerfassung!V74)","v":""},{"$f":"IF(ISBLANK(Datenerfassung!Q74),\"\",Datenerfassung!Q74)","v":""}]
[{"$f":"IF(ISBLANK(Datenerfassung!A75),\"\",Datenerfassung!A75)","v":""},{"$f":"IF(ISBLANK(Datenerfassung!B75),\"\",Datenerfassung!B75)","v":""},{"$f":"IF(ISBLANK(Datenerfassung!C75),\"\",Datenerfassung!C75)","v":""},{"$f":"IF(ISBLANK(Datenerfassung!R75),\"\",Datenerfassung!R75)","v":""},{"$f":"IF(ISBLANK(Datenerfassung!S75),\"\",Datenerfassung!S75)","v":""},"",{"$f":"IF(ISBLANK(Datenerfassung!U75),\"\",Datenerfassung!U75)","v":""},{"$f":"IF(ISBLANK(Datenerfassung!O75),\"\",Datenerfassung!O75)","v":""},{"$f":"IF(ISBLANK(Datenerfassung!D75),IF(COUNTBLANK(A65:H65)+COUNTBLANK(J65:O65)=14,\"\",\"- ohne Titel -\"),Datenerfassung!D75)","v":""},{"$f":"IF(ISBLANK(Datenerfassung!G75),\"\",Datenerfassung!G75)","v":""},"",{"$f":"IF(ISBLANK(Datenerfassung!X75),\"\",Datenerfassung!X75)","v":""},{"$f":"IF(COUNTBLANK(Datenerfassung!H75:'Datenerfassung'!N75)=7,\"\",CONCATENATE( CONCATENATE(IF(ISBLANK(Datenerfassung!H75),\" \",Datenerfassung!H75 ),\" [IS]\"), CONCATENATE(IF(ISBLANK(Datenerfassung!I75),\" \",Datenerfassung!I75 ),\" [IS]\"), CONCATENATE(IF(ISBLANK(Datenerfassung!J75),\" \",Datenerfassung!J75 ),\" [IS]\"), CONCATENATE(IF(ISBLANK(Datenerfassung!K75),\" \",Datenerfassung!K75 ),\" [IS]\"), CONCATENATE(IF(ISBLANK(Datenerfassung!L75),\" \",Datenerfassung!L75 ),\" [IS]\"), CONCATENATE(IF(ISBLANK(Datenerfassung!M75),\" \",Datenerfassung!M75 ),\" [IS]\"), IF(ISBLANK(Datenerfassung!N75),\" \",Datenerfassung!N75 ) ))","v":""},{"$f":"IF(ISBLANK(Datenerfassung!V75),\"\",Datenerfassung!V75)","v":""},{"$f":"IF(ISBLANK(Datenerfassung!Q75),\"\",Datenerfassung!Q75)","v":""}]
[{"$f":"IF(ISBLANK(Datenerfassung!A76),\"\",Datenerfassung!A76)","v":""},{"$f":"IF(ISBLANK(Datenerfassung!B76),\"\",Datenerfassung!B76)","v":""},{"$f":"IF(ISBLANK(Datenerfassung!C76),\"\",Datenerfassung!C76)","v":""},{"$f":"IF(ISBLANK(Datenerfassung!R76),\"\",Datenerfassung!R76)","v":""},{"$f":"IF(ISBLANK(Datenerfassung!S76),\"\",Datenerfassung!S76)","v":""},"",{"$f":"IF(ISBLANK(Datenerfassung!U76),\"\",Datenerfassung!U76)","v":""},{"$f":"IF(ISBLANK(Datenerfassung!O76),\"\",Datenerfassung!O76)","v":""},{"$f":"IF(ISBLANK(Datenerfassung!D76),IF(COUNTBLANK(A66:H66)+COUNTBLANK(J66:O66)=14,\"\",\"- ohne Titel -\"),Datenerfassung!D76)","v":""},{"$f":"IF(ISBLANK(Datenerfassung!G76),\"\",Datenerfassung!G76)","v":""},"",{"$f":"IF(ISBLANK(Datenerfassung!X76),\"\",Datenerfassung!X76)","v":""},{"$f":"IF(COUNTBLANK(Datenerfassung!H76:'Datenerfassung'!N76)=7,\"\",CONCATENATE( CONCATENATE(IF(ISBLANK(Datenerfassung!H76),\" \",Datenerfassung!H76 ),\" [IS]\"), CONCATENATE(IF(ISBLANK(Datenerfassung!I76),\" \",Datenerfassung!I76 ),\" [IS]\"), CONCATENATE(IF(ISBLANK(Datenerfassung!J76),\" \",Datenerfassung!J76 ),\" [IS]\"), CONCATENATE(IF(ISBLANK(Datenerfassung!K76),\" \",Datenerfassung!K76 ),\" [IS]\"), CONCATENATE(IF(ISBLANK(Datenerfassung!L76),\" \",Datenerfassung!L76 ),\" [IS]\"), CONCATENATE(IF(ISBLANK(Datenerfassung!M76),\" \",Datenerfassung!M76 ),\" [IS]\"), IF(ISBLANK(Datenerfassung!N76),\" \",Datenerfassung!N76 ) ))","v":""},{"$f":"IF(ISBLANK(Datenerfassung!V76),\"\",Datenerfassung!V76)","v":""},{"$f":"IF(ISBLANK(Datenerfassung!Q76),\"\",Datenerfassung!Q76)","v":""}]
[{"$f":"IF(ISBLANK(Datenerfassung!A77),\"\",Datenerfassung!A77)","v":""},{"$f":"IF(ISBLANK(Datenerfassung!B77),\"\",Datenerfassung!B77)","v":""},{"$f":"IF(ISBLANK(Datenerfassung!C77),\"\",Datenerfassung!C77)","v":""},{"$f":"IF(ISBLANK(Datenerfassung!R77),\"\",Datenerfassung!R77)","v":""},{"$f":"IF(ISBLANK(Datenerfassung!S77),\"\",Datenerfassung!S77)","v":""},{"$f":"IF(D67=\"\",\"\",IF(E67=\"\",D67,D67&\" - \"&E67))","v":""},{"$f":"IF(ISBLANK(Datenerfassung!U77),\"\",Datenerfassung!U77)","v":""},{"$f":"IF(ISBLANK(Datenerfassung!O77),\"\",Datenerfassung!O77)","v":""},{"$f":"IF(ISBLANK(Datenerfassung!D77),IF(COUNTBLANK(A67:H67)+COUNTBLANK(J67:O67)=14,\"\",\"- ohne Titel -\"),Datenerfassung!D77)","v":""},{"$f":"IF(ISBLANK(Datenerfassung!G77),\"\",Datenerfassung!G77)","v":""},{"$f":"IF(OR(E67=\"\",G67=\"\"),\"\",\"01.01.\"&RIGHT(E67,4)+G67+1)","v":""},{"$f":"IF(ISBLANK(Datenerfassung!X77),\"\",Datenerfassung!X77)","v":""},{"$f":"IF(COUNTBLANK(Datenerfassung!H77:'Datenerfassung'!N77)=7,\"\",CONCATENATE( CONCATENATE(IF(ISBLANK(Datenerfassung!H77),\" \",Datenerfassung!H77 ),\" [IS]\"), CONCATENATE(IF(ISBLANK(Datenerfassung!I77),\" \",Datenerfassung!I77 ),\" [IS]\"), CONCATENATE(IF(ISBLANK(Datenerfassung!J77),\" \",Datenerfassung!J77 ),\" [IS]\"), CONCATENATE(IF(ISBLANK(Datenerfassung!K77),\" \",Datenerfassung!K77 ),\" [IS]\"), CONCATENATE(IF(ISBLANK(Datenerfassung!L77),\" \",Datenerfassung!L77 ),\" [IS]\"), CONCATENATE(IF(ISBLANK(Datenerfassung!M77),\" \",Datenerfassung!M77 ),\" [IS]\"), IF(ISBLANK(Datenerfassung!N77),\" \",Datenerfassung!N77 ) ))","v":""},{"$f":"IF(ISBLANK(Datenerfassung!V77),\"\",Datenerfassung!V77)","v":""},{"$f":"IF(ISBLANK(Datenerfassung!Q77),\"\",Datenerfassung!Q77)","v":""}]
[{"$f":"IF(ISBLANK(Datenerfassung!A78),\"\",Datenerfassung!A78)","v":""},{"$f":"IF(ISBLANK(Datenerfassung!B78),\"\",Datenerfassung!B78)","v":""},{"$f":"IF(ISBLANK(Datenerfassung!C78),\"\",Datenerfassung!C78)","v":""},{"$f":"IF(ISBLANK(Datenerfassung!R78),\"\",Datenerfassung!R78)","v":""},{"$f":"IF(ISBLANK(Datenerfassung!S78),\"\",Datenerfassung!S78)","v":""},"",{"$f":"IF(ISBLANK(Datenerfassung!U78),\"\",Datenerfassung!U78)","v":""},{"$f":"IF(ISBLANK(Datenerfassung!O78),\"\",Datenerfassung!O78)","v":""},{"$f":"IF(ISBLANK(Datenerfassung!D78),IF(COUNTBLANK(A68:H68)+COUNTBLANK(J68:O68)=14,\"\",\"- ohne Titel -\"),Datenerfassung!D78)","v":""},{"$f":"IF(ISBLANK(Datenerfassung!G78),\"\",Datenerfassung!G78)","v":""},"",{"$f":"IF(ISBLANK(Datenerfassung!X78),\"\",Datenerfassung!X78)","v":""},{"$f":"IF(COUNTBLANK(Datenerfassung!H78:'Datenerfassung'!N78)=7,\"\",CONCATENATE( CONCATENATE(IF(ISBLANK(Datenerfassung!H78),\" \",Datenerfassung!H78 ),\" [IS]\"), CONCATENATE(IF(ISBLANK(Datenerfassung!I78),\" \",Datenerfassung!I78 ),\" [IS]\"), CONCATENATE(IF(ISBLANK(Datenerfassung!J78),\" \",Datenerfassung!J78 ),\" [IS]\"), CONCATENATE(IF(ISBLANK(Datenerfassung!K78),\" \",Datenerfassung!K78 ),\" [IS]\"), CONCATENATE(IF(ISBLANK(Datenerfassung!L78),\" \",Datenerfassung!L78 ),\" [IS]\"), CONCATENATE(IF(ISBLANK(Datenerfassung!M78),\" \",Datenerfassung!M78 ),\" [IS]\"), IF(ISBLANK(Datenerfassung!N78),\" \",Datenerfassung!N78 ) ))","v":""},{"$f":"IF(ISBLANK(Datenerfassung!V78),\"\",Datenerfassung!V78)","v":""},{"$f":"IF(ISBLANK(Datenerfassung!Q78),\"\",Datenerfassung!Q78)","v":""}]
[{"$f":"IF(ISBLANK(Datenerfassung!A79),\"\",Datenerfassung!A79)","v":""},{"$f":"IF(ISBLANK(Datenerfassung!B79),\"\",Datenerfassung!B79)","v":""},{"$f":"IF(ISBLANK(Datenerfassung!C79),\"\",Datenerfassung!C79)","v":""},{"$f":"IF(ISBLANK(Datenerfassung!R79),\"\",Datenerfassung!R79)","v":""},{"$f":"IF(ISBLANK(Datenerfassung!S79),\"\",Datenerfassung!S79)","v":""},"",{"$f":"IF(ISBLANK(Datenerfassung!U79),\"\",Datenerfassung!U79)","v":""},{"$f":"IF(ISBLANK(Datenerfassung!O79),\"\",Datenerfassung!O79)","v":""},{"$f":"IF(ISBLANK(Datenerfassung!D79),IF(COUNTBLANK(A69:H69)+COUNTBLANK(J69:O69)=14,\"\",\"- ohne Titel -\"),Datenerfassung!D79)","v":""},{"$f":"IF(ISBLANK(Datenerfassung!G79),\"\",Datenerfassung!G79)","v":""},"",{"$f":"IF(ISBLANK(Datenerfassung!X79),\"\",Datenerfassung!X79)","v":""},{"$f":"IF(COUNTBLANK(Datenerfassung!H79:'Datenerfassung'!N79)=7,\"\",CONCATENATE( CONCATENATE(IF(ISBLANK(Datenerfassung!H79),\" \",Datenerfassung!H79 ),\" [IS]\"), CONCATENATE(IF(ISBLANK(Datenerfassung!I79),\" \",Datenerfassung!I79 ),\" [IS]\"), CONCATENATE(IF(ISBLANK(Datenerfassung!J79),\" \",Datenerfassung!J79 ),\" [IS]\"), CONCATENATE(IF(ISBLANK(Datenerfassung!K79),\" \",Datenerfassung!K79 ),\" [IS]\"), CONCATENATE(IF(ISBLANK(Datenerfassung!L79),\" \",Datenerfassung!L79 ),\" [IS]\"), CONCATENATE(IF(ISBLANK(Datenerfassung!M79),\" \",Datenerfassung!M79 ),\" [IS]\"), IF(ISBLANK(Datenerfassung!N79),\" \",Datenerfassung!N79 ) ))","v":""},{"$f":"IF(ISBLANK(Datenerfassung!V79),\"\",Datenerfassung!V79)","v":""},{"$f":"IF(ISBLANK(Datenerfassung!Q79),\"\",Datenerfassung!Q79)","v":""}]
[{"$f":"IF(ISBLANK(Datenerfassung!A80),\"\",Datenerfassung!A80)","v":""},{"$f":"IF(ISBLANK(Datenerfassung!B80),\"\",Datenerfassung!B80)","v":""},{"$f":"IF(ISBLANK(Datenerfassung!C80),\"\",Datenerfassung!C80)","v":""},{"$f":"IF(ISBLANK(Datenerfassung!R80),\"\",Datenerfassung!R80)","v":""},{"$f":"IF(ISBLANK(Datenerfassung!S80),\"\",Datenerfassung!S80)","v":""},"",{"$f":"IF(ISBLANK(Datenerfassung!U80),\"\",Datenerfassung!U80)","v":""},{"$f":"IF(ISBLANK(Datenerfassung!O80),\"\",Datenerfassung!O80)","v":""},{"$f":"IF(ISBLANK(Datenerfassung!D80),IF(COUNTBLANK(A70:H70)+COUNTBLANK(J70:O70)=14,\"\",\"- ohne Titel -\"),Datenerfassung!D80)","v":""},{"$f":"IF(ISBLANK(Datenerfassung!G80),\"\",Datenerfassung!G80)","v":""},"",{"$f":"IF(ISBLANK(Datenerfassung!X80),\"\",Datenerfassung!X80)","v":""},{"$f":"IF(COUNTBLANK(Datenerfassung!H80:'Datenerfassung'!N80)=7,\"\",CONCATENATE( CONCATENATE(IF(ISBLANK(Datenerfassung!H80),\" \",Datenerfassung!H80 ),\" [IS]\"), CONCATENATE(IF(ISBLANK(Datenerfassung!I80),\" \",Datenerfassung!I80 ),\" [IS]\"), CONCATENATE(IF(ISBLANK(Datenerfassung!J80),\" \",Datenerfassung!J80 ),\" [IS]\"), CONCATENATE(IF(ISBLANK(Datenerfassung!K80),\" \",Datenerfassung!K80 ),\" [IS]\"), CONCATENATE(IF(ISBLANK(Datenerfassung!L80),\" \",Datenerfassung!L80 ),\" [IS]\"), CONCATENATE(IF(ISBLANK(Datenerfassung!M80),\" \",Datenerfassung!M80 ),\" [IS]\"), IF(ISBLANK(Datenerfassung!N80),\" \",Datenerfassung!N80 ) ))","v":""},{"$f":"IF(ISBLANK(Datenerfassung!V80),\"\",Datenerfassung!V80)","v":""},{"$f":"IF(ISBLANK(Datenerfassung!Q80),\"\",Datenerfassung!Q80)","v":""}]
[{"$f":"IF(ISBLANK(Datenerfassung!A81),\"\",Datenerfassung!A81)","v":""},{"$f":"IF(ISBLANK(Datenerfassung!B81),\"\",Datenerfassung!B81)","v":""},{"$f":"IF(ISBLANK(Datenerfassung!C81),\"\",Datenerfassung!C81)","v":""},{"$f":"IF(ISBLANK(Datenerfassung!R81),\"\",Datenerfassung!R81)","v":""},{"$f":"IF(ISBLANK(Datenerfassung!S81),\"\",Datenerfassung!S81)","v":""},"",{"$f":"IF(ISBLANK(Datenerfassung!U81),\"\",Datenerfassung!U81)","v":""},{"$f":"IF(ISBLANK(Datenerfassung!O81),\"\",Datenerfassung!O81)","v":""},{"$f":"IF(ISBLANK(Datenerfassung!D81),IF(COUNTBLANK(A71:H71)+COUNTBLANK(J71:O71)=14,\"\",\"- ohne Titel -\"),Datenerfassung!D81)","v":""},{"$f":"IF(ISBLANK(Datenerfassung!G81),\"\",Datenerfassung!G81)","v":""},"",{"$f":"IF(ISBLANK(Datenerfassung!X81),\"\",Datenerfassung!X81)","v":""},{"$f":"IF(COUNTBLANK(Datenerfassung!H81:'Datenerfassung'!N81)=7,\"\",CONCATENATE( CONCATENATE(IF(ISBLANK(Datenerfassung!H81),\" \",Datenerfassung!H81 ),\" [IS]\"), CONCATENATE(IF(ISBLANK(Datenerfassung!I81),\" \",Datenerfassung!I81 ),\" [IS]\"), CONCATENATE(IF(ISBLANK(Datenerfassung!J81),\" \",Datenerfassung!J81 ),\" [IS]\"), CONCATENATE(IF(ISBLANK(Datenerfassung!K81),\" \",Datenerfassung!K81 ),\" [IS]\"), CONCATENATE(IF(ISBLANK(Datenerfassung!L81),\" \",Datenerfassung!L81 ),\" [IS]\"), CONCATENATE(IF(ISBLANK(Datenerfassung!M81),\" \",Datenerfassung!M81 ),\" [IS]\"), IF(ISBLANK(Datenerfassung!N81),\" \",Datenerfassung!N81 ) ))","v":""},{"$f":"IF(ISBLANK(Datenerfassung!V81),\"\",Datenerfassung!V81)","v":""},{"$f":"IF(ISBLANK(Datenerfassung!Q81),\"\",Datenerfassung!Q81)","v":""}]
[{"$f":"IF(ISBLANK(Datenerfassung!A82),\"\",Datenerfassung!A82)","v":""},{"$f":"IF(ISBLANK(Datenerfassung!B82),\"\",Datenerfassung!B82)","v":""},{"$f":"IF(ISBLANK(Datenerfassung!C82),\"\",Datenerfassung!C82)","v":""},{"$f":"IF(ISBLANK(Datenerfassung!R82),\"\",Datenerfassung!R82)","v":""},{"$f":"IF(ISBLANK(Datenerfassung!S82),\"\",Datenerfassung!S82)","v":""},"",{"$f":"IF(ISBLANK(Datenerfassung!U82),\"\",Datenerfassung!U82)","v":""},{"$f":"IF(ISBLANK(Datenerfassung!O82),\"\",Datenerfassung!O82)","v":""},{"$f":"IF(ISBLANK(Datenerfassung!D82),IF(COUNTBLANK(A72:H72)+COUNTBLANK(J72:O72)=14,\"\",\"- ohne Titel -\"),Datenerfassung!D82)","v":""},{"$f":"IF(ISBLANK(Datenerfassung!G82),\"\",Datenerfassung!G82)","v":""},"",{"$f":"IF(ISBLANK(Datenerfassung!X82),\"\",Datenerfassung!X82)","v":""},{"$f":"IF(COUNTBLANK(Datenerfassung!H82:'Datenerfassung'!N82)=7,\"\",CONCATENATE( CONCATENATE(IF(ISBLANK(Datenerfassung!H82),\" \",Datenerfassung!H82 ),\" [IS]\"), CONCATENATE(IF(ISBLANK(Datenerfassung!I82),\" \",Datenerfassung!I82 ),\" [IS]\"), CONCATENATE(IF(ISBLANK(Datenerfassung!J82),\" \",Datenerfassung!J82 ),\" [IS]\"), CONCATENATE(IF(ISBLANK(Datenerfassung!K82),\" \",Datenerfassung!K82 ),\" [IS]\"), CONCATENATE(IF(ISBLANK(Datenerfassung!L82),\" \",Datenerfassung!L82 ),\" [IS]\"), CONCATENATE(IF(ISBLANK(Datenerfassung!M82),\" \",Datenerfassung!M82 ),\" [IS]\"), IF(ISBLANK(Datenerfassung!N82),\" \",Datenerfassung!N82 ) ))","v":""},{"$f":"IF(ISBLANK(Datenerfassung!V82),\"\",Datenerfassung!V82)","v":""},{"$f":"IF(ISBLANK(Datenerfassung!Q82),\"\",Datenerfassung!Q82)","v":""}]
[{"$f":"IF(ISBLANK(Datenerfassung!A83),\"\",Datenerfassung!A83)","v":""},{"$f":"IF(ISBLANK(Datenerfassung!B83),\"\",Datenerfassung!B83)","v":""},{"$f":"IF(ISBLANK(Datenerfassung!C83),\"\",Datenerfassung!C83)","v":""},{"$f":"IF(ISBLANK(Datenerfassung!R83),\"\",Datenerfassung!R83)","v":""},{"$f":"IF(ISBLANK(Datenerfassung!S83),\"\",Datenerfassung!S83)","v":""},"",{"$f":"IF(ISBLANK(Datenerfassung!U83),\"\",Datenerfassung!U83)","v":""},{"$f":"IF(ISBLANK(Datenerfassung!O83),\"\",Datenerfassung!O83)","v":""},{"$f":"IF(ISBLANK(Datenerfassung!D83),IF(COUNTBLANK(A73:H73)+COUNTBLANK(J73:O73)=14,\"\",\"- ohne Titel -\"),Datenerfassung!D83)","v":""},{"$f":"IF(ISBLANK(Datenerfassung!G83),\"\",Datenerfassung!G83)","v":""},"",{"$f":"IF(ISBLANK(Datenerfassung!X83),\"\",Datenerfassung!X83)","v":""},{"$f":"IF(COUNTBLANK(Datenerfassung!H83:'Datenerfassung'!N83)=7,\"\",CONCATENATE( CONCATENATE(IF(ISBLANK(Datenerfassung!H83),\" \",Datenerfassung!H83 ),\" [IS]\"), CONCATENATE(IF(ISBLANK(Datenerfassung!I83),\" \",Datenerfassung!I83 ),\" [IS]\"), CONCATENATE(IF(ISBLANK(Datenerfassung!J83),\" \",Datenerfassung!J83 ),\" [IS]\"), CONCATENATE(IF(ISBLANK(Datenerfassung!K83),\" \",Datenerfassung!K83 ),\" [IS]\"), CONCATENATE(IF(ISBLANK(Datenerfassung!L83),\" \",Datenerfassung!L83 ),\" [IS]\"), CONCATENATE(IF(ISBLANK(Datenerfassung!M83),\" \",Datenerfassung!M83 ),\" [IS]\"), IF(ISBLANK(Datenerfassung!N83),\" \",Datenerfassung!N83 ) ))","v":""},{"$f":"IF(ISBLANK(Datenerfassung!V83),\"\",Datenerfassung!V83)","v":""},{"$f":"IF(ISBLANK(Datenerfassung!Q83),\"\",Datenerfassung!Q83)","v":""}]
[{"$f":"IF(ISBLANK(Datenerfassung!A84),\"\",Datenerfassung!A84)","v":""},{"$f":"IF(ISBLANK(Datenerfassung!B84),\"\",Datenerfassung!B84)","v":""},{"$f":"IF(ISBLANK(Datenerfassung!C84),\"\",Datenerfassung!C84)","v":""},{"$f":"IF(ISBLANK(Datenerfassung!R84),\"\",Datenerfassung!R84)","v":""},{"$f":"IF(ISBLANK(Datenerfassung!S84),\"\",Datenerfassung!S84)","v":""},"",{"$f":"IF(ISBLANK(Datenerfassung!U84),\"\",Datenerfassung!U84)","v":""},{"$f":"IF(ISBLANK(Datenerfassung!O84),\"\",Datenerfassung!O84)","v":""},{"$f":"IF(ISBLANK(Datenerfassung!D84),IF(COUNTBLANK(A74:H74)+COUNTBLANK(J74:O74)=14,\"\",\"- ohne Titel -\"),Datenerfassung!D84)","v":""},{"$f":"IF(ISBLANK(Datenerfassung!G84),\"\",Datenerfassung!G84)","v":""},"",{"$f":"IF(ISBLANK(Datenerfassung!X84),\"\",Datenerfassung!X84)","v":""},{"$f":"IF(COUNTBLANK(Datenerfassung!H84:'Datenerfassung'!N84)=7,\"\",CONCATENATE( CONCATENATE(IF(ISBLANK(Datenerfassung!H84),\" \",Datenerfassung!H84 ),\" [IS]\"), CONCATENATE(IF(ISBLANK(Datenerfassung!I84),\" \",Datenerfassung!I84 ),\" [IS]\"), CONCATENATE(IF(ISBLANK(Datenerfassung!J84),\" \",Datenerfassung!J84 ),\" [IS]\"), CONCATENATE(IF(ISBLANK(Datenerfassung!K84),\" \",Datenerfassung!K84 ),\" [IS]\"), CONCATENATE(IF(ISBLANK(Datenerfassung!L84),\" \",Datenerfassung!L84 ),\" [IS]\"), CONCATENATE(IF(ISBLANK(Datenerfassung!M84),\" \",Datenerfassung!M84 ),\" [IS]\"), IF(ISBLANK(Datenerfassung!N84),\" \",Datenerfassung!N84 ) ))","v":""},{"$f":"IF(ISBLANK(Datenerfassung!V84),\"\",Datenerfassung!V84)","v":""},{"$f":"IF(ISBLANK(Datenerfassung!Q84),\"\",Datenerfassung!Q84)","v":""}]
[{"$f":"IF(ISBLANK(Datenerfassung!A85),\"\",Datenerfassung!A85)","v":""},{"$f":"IF(ISBLANK(Datenerfassung!B85),\"\",Datenerfassung!B85)","v":""},{"$f":"IF(ISBLANK(Datenerfassung!C85),\"\",Datenerfassung!C85)","v":""},{"$f":"IF(ISBLANK(Datenerfassung!R85),\"\",Datenerfassung!R85)","v":""},{"$f":"IF(ISBLANK(Datenerfassung!S85),\"\",Datenerfassung!S85)","v":""},"",{"$f":"IF(ISBLANK(Datenerfassung!U85),\"\",Datenerfassung!U85)","v":""},{"$f":"IF(ISBLANK(Datenerfassung!O85),\"\",Datenerfassung!O85)","v":""},{"$f":"IF(ISBLANK(Datenerfassung!D85),IF(COUNTBLANK(A75:H75)+COUNTBLANK(J75:O75)=14,\"\",\"- ohne Titel -\"),Datenerfassung!D85)","v":""},{"$f":"IF(ISBLANK(Datenerfassung!G85),\"\",Datenerfassung!G85)","v":""},"",{"$f":"IF(ISBLANK(Datenerfassung!X85),\"\",Datenerfassung!X85)","v":""},{"$f":"IF(COUNTBLANK(Datenerfassung!H85:'Datenerfassung'!N85)=7,\"\",CONCATENATE( CONCATENATE(IF(ISBLANK(Datenerfassung!H85),\" \",Datenerfassung!H85 ),\" [IS]\"), CONCATENATE(IF(ISBLANK(Datenerfassung!I85),\" \",Datenerfassung!I85 ),\" [IS]\"), CONCATENATE(IF(ISBLANK(Datenerfassung!J85),\" \",Datenerfassung!J85 ),\" [IS]\"), CONCATENATE(IF(ISBLANK(Datenerfassung!K85),\" \",Datenerfassung!K85 ),\" [IS]\"), CONCATENATE(IF(ISBLANK(Datenerfassung!L85),\" \",Datenerfassung!L85 ),\" [IS]\"), CONCATENATE(IF(ISBLANK(Datenerfassung!M85),\" \",Datenerfassung!M85 ),\" [IS]\"), IF(ISBLANK(Datenerfassung!N85),\" \",Datenerfassung!N85 ) ))","v":""},{"$f":"IF(ISBLANK(Datenerfassung!V85),\"\",Datenerfassung!V85)","v":""},{"$f":"IF(ISBLANK(Datenerfassung!Q85),\"\",Datenerfassung!Q85)","v":""}]
[{"$f":"IF(ISBLANK(Datenerfassung!A86),\"\",Datenerfassung!A86)","v":""},{"$f":"IF(ISBLANK(Datenerfassung!B86),\"\",Datenerfassung!B86)","v":""},{"$f":"IF(ISBLANK(Datenerfassung!C86),\"\",Datenerfassung!C86)","v":""},{"$f":"IF(ISBLANK(Datenerfassung!R86),\"\",Datenerfassung!R86)","v":""},{"$f":"IF(ISBLANK(Datenerfassung!S86),\"\",Datenerfassung!S86)","v":""},"",{"$f":"IF(ISBLANK(Datenerfassung!U86),\"\",Datenerfassung!U86)","v":""},{"$f":"IF(ISBLANK(Datenerfassung!O86),\"\",Datenerfassung!O86)","v":""},{"$f":"IF(ISBLANK(Datenerfassung!D86),IF(COUNTBLANK(A76:H76)+COUNTBLANK(J76:O76)=14,\"\",\"- ohne Titel -\"),Datenerfassung!D86)","v":""},{"$f":"IF(ISBLANK(Datenerfassung!G86),\"\",Datenerfassung!G86)","v":""},"",{"$f":"IF(ISBLANK(Datenerfassung!X86),\"\",Datenerfassung!X86)","v":""},{"$f":"IF(COUNTBLANK(Datenerfassung!H86:'Datenerfassung'!N86)=7,\"\",CONCATENATE( CONCATENATE(IF(ISBLANK(Datenerfassung!H86),\" \",Datenerfassung!H86 ),\" [IS]\"), CONCATENATE(IF(ISBLANK(Datenerfassung!I86),\" \",Datenerfassung!I86 ),\" [IS]\"), CONCATENATE(IF(ISBLANK(Datenerfassung!J86),\" \",Datenerfassung!J86 ),\" [IS]\"), CONCATENATE(IF(ISBLANK(Datenerfassung!K86),\" \",Datenerfassung!K86 ),\" [IS]\"), CONCATENATE(IF(ISBLANK(Datenerfassung!L86),\" \",Datenerfassung!L86 ),\" [IS]\"), CONCATENATE(IF(ISBLANK(Datenerfassung!M86),\" \",Datenerfassung!M86 ),\" [IS]\"), IF(ISBLANK(Datenerfassung!N86),\" \",Datenerfassung!N86 ) ))","v":""},{"$f":"IF(ISBLANK(Datenerfassung!V86),\"\",Datenerfassung!V86)","v":""},{"$f":"IF(ISBLANK(Datenerfassung!Q86),\"\",Datenerfassung!Q86)","v":""}]
[{"$f":"IF(ISBLANK(Datenerfassung!A87),\"\",Datenerfassung!A87)","v":""},{"$f":"IF(ISBLANK(Datenerfassung!B87),\"\",Datenerfassung!B87)","v":""},{"$f":"IF(ISBLANK(Datenerfassung!C87),\"\",Datenerfassung!C87)","v":""},{"$f":"IF(ISBLANK(Datenerfassung!R87),\"\",Datenerfassung!R87)","v":""},{"$f":"IF(ISBLANK(Datenerfassung!S87),\"\",Datenerfassung!S87)","v":""},"",{"$f":"IF(ISBLANK(Datenerfassung!U87),\"\",Datenerfassung!U87)","v":""},{"$f":"IF(ISBLANK(Datenerfassung!O87),\"\",Datenerfassung!O87)","v":""},{"$f":"IF(ISBLANK(Datenerfassung!D87),IF(COUNTBLANK(A77:H77)+COUNTBLANK(J77:O77)=14,\"\",\"- ohne Titel -\"),Datenerfassung!D87)","v":""},{"$f":"IF(ISBLANK(Datenerfassung!G87),\"\",Datenerfassung!G87)","v":""},"",{"$f":"IF(ISBLANK(Datenerfassung!X87),\"\",Datenerfassung!X87)","v":""},{"$f":"IF(COUNTBLANK(Datenerfassung!H87:'Datenerfassung'!N87)=7,\"\",CONCATENATE( CONCATENATE(IF(ISBLANK(Datenerfassung!H87),\" \",Datenerfassung!H87 ),\" [IS]\"), CONCATENATE(IF(ISBLANK(Datenerfassung!I87),\" \",Datenerfassung!I87 ),\" [IS]\"), CONCATENATE(IF(ISBLANK(Datenerfassung!J87),\" \",Datenerfassung!J87 ),\" [IS]\"), CONCATENATE(IF(ISBLANK(Datenerfassung!K87),\" \",Datenerfassung!K87 ),\" [IS]\"), CONCATENATE(IF(ISBLANK(Datenerfassung!L87),\" \",Datenerfassung!L87 ),\" [IS]\"), CONCATENATE(IF(ISBLANK(Datenerfassung!M87),\" \",Datenerfassung!M87 ),\" [IS]\"), IF(ISBLANK(Datenerfassung!N87),\" \",Datenerfassung!N87 ) ))","v":""},{"$f":"IF(ISBLANK(Datenerfassung!V87),\"\",Datenerfassung!V87)","v":""},{"$f":"IF(ISBLANK(Datenerfassung!Q87),\"\",Datenerfassung!Q87)","v":""}]
[{"$f":"IF(ISBLANK(Datenerfassung!A88),\"\",Datenerfassung!A88)","v":""},{"$f":"IF(ISBLANK(Datenerfassung!B88),\"\",Datenerfassung!B88)","v":""},{"$f":"IF(ISBLANK(Datenerfassung!C88),\"\",Datenerfassung!C88)","v":""},{"$f":"IF(ISBLANK(Datenerfassung!R88),\"\",Datenerfassung!R88)","v":""},{"$f":"IF(ISBLANK(Datenerfassung!S88),\"\",Datenerfassung!S88)","v":""},"",{"$f":"IF(ISBLANK(Datenerfassung!U88),\"\",Datenerfassung!U88)","v":""},{"$f":"IF(ISBLANK(Datenerfassung!O88),\"\",Datenerfassung!O88)","v":""},{"$f":"IF(ISBLANK(Datenerfassung!D88),IF(COUNTBLANK(A78:H78)+COUNTBLANK(J78:O78)=14,\"\",\"- ohne Titel -\"),Datenerfassung!D88)","v":""},{"$f":"IF(ISBLANK(Datenerfassung!G88),\"\",Datenerfassung!G88)","v":""},"",{"$f":"IF(ISBLANK(Datenerfassung!X88),\"\",Datenerfassung!X88)","v":""},{"$f":"IF(COUNTBLANK(Datenerfassung!H88:'Datenerfassung'!N88)=7,\"\",CONCATENATE( CONCATENATE(IF(ISBLANK(Datenerfassung!H88),\" \",Datenerfassung!H88 ),\" [IS]\"), CONCATENATE(IF(ISBLANK(Datenerfassung!I88),\" \",Datenerfassung!I88 ),\" [IS]\"), CONCATENATE(IF(ISBLANK(Datenerfassung!J88),\" \",Datenerfassung!J88 ),\" [IS]\"), CONCATENATE(IF(ISBLANK(Datenerfassung!K88),\" \",Datenerfassung!K88 ),\" [IS]\"), CONCATENATE(IF(ISBLANK(Datenerfassung!L88),\" \",Datenerfassung!L88 ),\" [IS]\"), CONCATENATE(IF(ISBLANK(Datenerfassung!M88),\" \",Datenerfassung!M88 ),\" [IS]\"), IF(ISBLANK(Datenerfassung!N88),\" \",Datenerfassung!N88 ) ))","v":""},{"$f":"IF(ISBLANK(Datenerfassung!V88),\"\",Datenerfassung!V88)","v":""},{"$f":"IF(ISBLANK(Datenerfassung!Q88),\"\",Datenerfassung!Q88)","v":""}]
[{"$f":"IF(ISBLANK(Datenerfassung!A89),\"\",Datenerfassung!A89)","v":""},{"$f":"IF(ISBLANK(Datenerfassung!B89),\"\",Datenerfassung!B89)","v":""},{"$f":"IF(ISBLANK(Datenerfassung!C89),\"\",Datenerfassung!C89)","v":""},{"$f":"IF(ISBLANK(Datenerfassung!R89),\"\",Datenerfassung!R89)","v":""},{"$f":"IF(ISBLANK(Datenerfassung!S89),\"\",Datenerfassung!S89)","v":""},"",{"$f":"IF(ISBLANK(Datenerfassung!U89),\"\",Datenerfassung!U89)","v":""},{"$f":"IF(ISBLANK(Datenerfassung!O89),\"\",Datenerfassung!O89)","v":""},{"$f":"IF(ISBLANK(Datenerfassung!D89),IF(COUNTBLANK(A79:H79)+COUNTBLANK(J79:O79)=14,\"\",\"- ohne Titel -\"),Datenerfassung!D89)","v":""},{"$f":"IF(ISBLANK(Datenerfassung!G89),\"\",Datenerfassung!G89)","v":""},"",{"$f":"IF(ISBLANK(Datenerfassung!X89),\"\",Datenerfassung!X89)","v":""},{"$f":"IF(COUNTBLANK(Datenerfassung!H89:'Datenerfassung'!N89)=7,\"\",CONCATENATE( CONCATENATE(IF(ISBLANK(Datenerfassung!H89),\" \",Datenerfassung!H89 ),\" [IS]\"), CONCATENATE(IF(ISBLANK(Datenerfassung!I89),\" \",Datenerfassung!I89 ),\" [IS]\"), CONCATENATE(IF(ISBLANK(Datenerfassung!J89),\" \",Datenerfassung!J89 ),\" [IS]\"), CONCATENATE(IF(ISBLANK(Datenerfassung!K89),\" \",Datenerfassung!K89 ),\" [IS]\"), CONCATENATE(IF(ISBLANK(Datenerfassung!L89),\" \",Datenerfassung!L89 ),\" [IS]\"), CONCATENATE(IF(ISBLANK(Datenerfassung!M89),\" \",Datenerfassung!M89 ),\" [IS]\"), IF(ISBLANK(Datenerfassung!N89),\" \",Datenerfassung!N89 ) ))","v":""},{"$f":"IF(ISBLANK(Datenerfassung!V89),\"\",Datenerfassung!V89)","v":""},{"$f":"IF(ISBLANK(Datenerfassung!Q89),\"\",Datenerfassung!Q89)","v":""}]
[{"$f":"IF(ISBLANK(Datenerfassung!A90),\"\",Datenerfassung!A90)","v":""},{"$f":"IF(ISBLANK(Datenerfassung!B90),\"\",Datenerfassung!B90)","v":""},{"$f":"IF(ISBLANK(Datenerfassung!C90),\"\",Datenerfassung!C90)","v":""},{"$f":"IF(ISBLANK(Datenerfassung!R90),\"\",Datenerfassung!R90)","v":""},{"$f":"IF(ISBLANK(Datenerfassung!S90),\"\",Datenerfassung!S90)","v":""},"",{"$f":"IF(ISBLANK(Datenerfassung!U90),\"\",Datenerfassung!U90)","v":""},{"$f":"IF(ISBLANK(Datenerfassung!O90),\"\",Datenerfassung!O90)","v":""},{"$f":"IF(ISBLANK(Datenerfassung!D90),IF(COUNTBLANK(A80:H80)+COUNTBLANK(J80:O80)=14,\"\",\"- ohne Titel -\"),Datenerfassung!D90)","v":""},{"$f":"IF(ISBLANK(Datenerfassung!G90),\"\",Datenerfassung!G90)","v":""},"",{"$f":"IF(ISBLANK(Datenerfassung!X90),\"\",Datenerfassung!X90)","v":""},{"$f":"IF(COUNTBLANK(Datenerfassung!H90:'Datenerfassung'!N90)=7,\"\",CONCATENATE( CONCATENATE(IF(ISBLANK(Datenerfassung!H90),\" \",Datenerfassung!H90 ),\" [IS]\"), CONCATENATE(IF(ISBLANK(Datenerfassung!I90),\" \",Datenerfassung!I90 ),\" [IS]\"), CONCATENATE(IF(ISBLANK(Datenerfassung!J90),\" \",Datenerfassung!J90 ),\" [IS]\"), CONCATENATE(IF(ISBLANK(Datenerfassung!K90),\" \",Datenerfassung!K90 ),\" [IS]\"), CONCATENATE(IF(ISBLANK(Datenerfassung!L90),\" \",Datenerfassung!L90 ),\" [IS]\"), CONCATENATE(IF(ISBLANK(Datenerfassung!M90),\" \",Datenerfassung!M90 ),\" [IS]\"), IF(ISBLANK(Datenerfassung!N90),\" \",Datenerfassung!N90 ) ))","v":""},{"$f":"IF(ISBLANK(Datenerfassung!V90),\"\",Datenerfassung!V90)","v":""},{"$f":"IF(ISBLANK(Datenerfassung!Q90),\"\",Datenerfassung!Q90)","v":""}]
[{"$f":"IF(ISBLANK(Datenerfassung!A91),\"\",Datenerfassung!A91)","v":""},{"$f":"IF(ISBLANK(Datenerfassung!B91),\"\",Datenerfassung!B91)","v":""},{"$f":"IF(ISBLANK(Datenerfassung!C91),\"\",Datenerfassung!C91)","v":""},{"$f":"IF(ISBLANK(Datenerfassung!R91),\"\",Datenerfassung!R91)","v":""},{"$f":"IF(ISBLANK(Datenerfassung!S91),\"\",Datenerfassung!S91)","v":""},"",{"$f":"IF(ISBLANK(Datenerfassung!U91),\"\",Datenerfassung!U91)","v":""},{"$f":"IF(ISBLANK(Datenerfassung!O91),\"\",Datenerfassung!O91)","v":""},{"$f":"IF(ISBLANK(Datenerfassung!D91),IF(COUNTBLANK(A81:H81)+COUNTBLANK(J81:O81)=14,\"\",\"- ohne Titel -\"),Datenerfassung!D91)","v":""},{"$f":"IF(ISBLANK(Datenerfassung!G91),\"\",Datenerfassung!G91)","v":""},"",{"$f":"IF(ISBLANK(Datenerfassung!X91),\"\",Datenerfassung!X91)","v":""},{"$f":"IF(COUNTBLANK(Datenerfassung!H91:'Datenerfassung'!N91)=7,\"\",CONCATENATE( CONCATENATE(IF(ISBLANK(Datenerfassung!H91),\" \",Datenerfassung!H91 ),\" [IS]\"), CONCATENATE(IF(ISBLANK(Datenerfassung!I91),\" \",Datenerfassung!I91 ),\" [IS]\"), CONCATENATE(IF(ISBLANK(Datenerfassung!J91),\" \",Datenerfassung!J91 ),\" [IS]\"), CONCATENATE(IF(ISBLANK(Datenerfassung!K91),\" \",Datenerfassung!K91 ),\" [IS]\"), CONCATENATE(IF(ISBLANK(Datenerfassung!L91),\" \",Datenerfassung!L91 ),\" [IS]\"), CONCATENATE(IF(ISBLANK(Datenerfassung!M91),\" \",Datenerfassung!M91 ),\" [IS]\"), IF(ISBLANK(Datenerfassung!N91),\" \",Datenerfassung!N91 ) ))","v":""},{"$f":"IF(ISBLANK(Datenerfassung!V91),\"\",Datenerfassung!V91)","v":""},{"$f":"IF(ISBLANK(Datenerfassung!Q91),\"\",Datenerfassung!Q91)","v":""}]
[{"$f":"IF(ISBLANK(Datenerfassung!A92),\"\",Datenerfassung!A92)","v":""},{"$f":"IF(ISBLANK(Datenerfassung!B92),\"\",Datenerfassung!B92)","v":""},{"$f":"IF(ISBLANK(Datenerfassung!C92),\"\",Datenerfassung!C92)","v":""},{"$f":"IF(ISBLANK(Datenerfassung!R92),\"\",Datenerfassung!R92)","v":""},{"$f":"IF(ISBLANK(Datenerfassung!S92),\"\",Datenerfassung!S92)","v":""},"",{"$f":"IF(ISBLANK(Datenerfassung!U92),\"\",Datenerfassung!U92)","v":""},{"$f":"IF(ISBLANK(Datenerfassung!O92),\"\",Datenerfassung!O92)","v":""},{"$f":"IF(ISBLANK(Datenerfassung!D92),IF(COUNTBLANK(A82:H82)+COUNTBLANK(J82:O82)=14,\"\",\"- ohne Titel -\"),Datenerfassung!D92)","v":""},{"$f":"IF(ISBLANK(Datenerfassung!G92),\"\",Datenerfassung!G92)","v":""},"",{"$f":"IF(ISBLANK(Datenerfassung!X92),\"\",Datenerfassung!X92)","v":""},{"$f":"IF(COUNTBLANK(Datenerfassung!H92:'Datenerfassung'!N92)=7,\"\",CONCATENATE( CONCATENATE(IF(ISBLANK(Datenerfassung!H92),\" \",Datenerfassung!H92 ),\" [IS]\"), CONCATENATE(IF(ISBLANK(Datenerfassung!I92),\" \",Datenerfassung!I92 ),\" [IS]\"), CONCATENATE(IF(ISBLANK(Datenerfassung!J92),\" \",Datenerfassung!J92 ),\" [IS]\"), CONCATENATE(IF(ISBLANK(Datenerfassung!K92),\" \",Datenerfassung!K92 ),\" [IS]\"), CONCATENATE(IF(ISBLANK(Datenerfassung!L92),\" \",Datenerfassung!L92 ),\" [IS]\"), CONCATENATE(IF(ISBLANK(Datenerfassung!M92),\" \",Datenerfassung!M92 ),\" [IS]\"), IF(ISBLANK(Datenerfassung!N92),\" \",Datenerfassung!N92 ) ))","v":""},{"$f":"IF(ISBLANK(Datenerfassung!V92),\"\",Datenerfassung!V92)","v":""},{"$f":"IF(ISBLANK(Datenerfassung!Q92),\"\",Datenerfassung!Q92)","v":""}]
[{"$f":"IF(ISBLANK(Datenerfassung!A93),\"\",Datenerfassung!A93)","v":""},{"$f":"IF(ISBLANK(Datenerfassung!B93),\"\",Datenerfassung!B93)","v":""},{"$f":"IF(ISBLANK(Datenerfassung!C93),\"\",Datenerfassung!C93)","v":""},{"$f":"IF(ISBLANK(Datenerfassung!R93),\"\",Datenerfassung!R93)","v":""},{"$f":"IF(ISBLANK(Datenerfassung!S93),\"\",Datenerfassung!S93)","v":""},"",{"$f":"IF(ISBLANK(Datenerfassung!U93),\"\",Datenerfassung!U93)","v":""},{"$f":"IF(ISBLANK(Datenerfassung!O93),\"\",Datenerfassung!O93)","v":""},{"$f":"IF(ISBLANK(Datenerfassung!D93),IF(COUNTBLANK(A83:H83)+COUNTBLANK(J83:O83)=14,\"\",\"- ohne Titel -\"),Datenerfassung!D93)","v":""},{"$f":"IF(ISBLANK(Datenerfassung!G93),\"\",Datenerfassung!G93)","v":""},"",{"$f":"IF(ISBLANK(Datenerfassung!X93),\"\",Datenerfassung!X93)","v":""},{"$f":"IF(COUNTBLANK(Datenerfassung!H93:'Datenerfassung'!N93)=7,\"\",CONCATENATE( CONCATENATE(IF(ISBLANK(Datenerfassung!H93),\" \",Datenerfassung!H93 ),\" [IS]\"), CONCATENATE(IF(ISBLANK(Datenerfassung!I93),\" \",Datenerfassung!I93 ),\" [IS]\"), CONCATENATE(IF(ISBLANK(Datenerfassung!J93),\" \",Datenerfassung!J93 ),\" [IS]\"), CONCATENATE(IF(ISBLANK(Datenerfassung!K93),\" \",Datenerfassung!K93 ),\" [IS]\"), CONCATENATE(IF(ISBLANK(Datenerfassung!L93),\" \",Datenerfassung!L93 ),\" [IS]\"), CONCATENATE(IF(ISBLANK(Datenerfassung!M93),\" \",Datenerfassung!M93 ),\" [IS]\"), IF(ISBLANK(Datenerfassung!N93),\" \",Datenerfassung!N93 ) ))","v":""},{"$f":"IF(ISBLANK(Datenerfassung!V93),\"\",Datenerfassung!V93)","v":""},{"$f":"IF(ISBLANK(Datenerfassung!Q93),\"\",Datenerfassung!Q93)","v":""}]
[{"$f":"IF(ISBLANK(Datenerfassung!A94),\"\",Datenerfassung!A94)","v":""},{"$f":"IF(ISBLANK(Datenerfassung!B94),\"\",Datenerfassung!B94)","v":""},{"$f":"IF(ISBLANK(Datenerfassung!C94),\"\",Datenerfassung!C94)","v":""},{"$f":"IF(ISBLANK(Datenerfassung!R94),\"\",Datenerfassung!R94)","v":""},{"$f":"IF(ISBLANK(Datenerfassung!S94),\"\",Datenerfassung!S94)","v":""},"",{"$f":"IF(ISBLANK(Datenerfassung!U94),\"\",Datenerfassung!U94)","v":""},{"$f":"IF(ISBLANK(Datenerfassung!O94),\"\",Datenerfassung!O94)","v":""},{"$f":"IF(ISBLANK(Datenerfassung!D94),IF(COUNTBLANK(A84:H84)+COUNTBLANK(J84:O84)=14,\"\",\"- ohne Titel -\"),Datenerfassung!D94)","v":""},{"$f":"IF(ISBLANK(Datenerfassung!G94),\"\",Datenerfassung!G94)","v":""},"",{"$f":"IF(ISBLANK(Datenerfassung!X94),\"\",Datenerfassung!X94)","v":""},{"$f":"IF(COUNTBLANK(Datenerfassung!H94:'Datenerfassung'!N94)=7,\"\",CONCATENATE( CONCATENATE(IF(ISBLANK(Datenerfassung!H94),\" \",Datenerfassung!H94 ),\" [IS]\"), CONCATENATE(IF(ISBLANK(Datenerfassung!I94),\" \",Datenerfassung!I94 ),\" [IS]\"), CONCATENATE(IF(ISBLANK(Datenerfassung!J94),\" \",Datenerfassung!J94 ),\" [IS]\"), CONCATENATE(IF(ISBLANK(Datenerfassung!K94),\" \",Datenerfassung!K94 ),\" [IS]\"), CONCATENATE(IF(ISBLANK(Datenerfassung!L94),\" \",Datenerfassung!L94 ),\" [IS]\"), CONCATENATE(IF(ISBLANK(Datenerfassung!M94),\" \",Datenerfassung!M94 ),\" [IS]\"), IF(ISBLANK(Datenerfassung!N94),\" \",Datenerfassung!N94 ) ))","v":""},{"$f":"IF(ISBLANK(Datenerfassung!V94),\"\",Datenerfassung!V94)","v":""},{"$f":"IF(ISBLANK(Datenerfassung!Q94),\"\",Datenerfassung!Q94)","v":""}]
[{"$f":"IF(ISBLANK(Datenerfassung!A95),\"\",Datenerfassung!A95)","v":""},{"$f":"IF(ISBLANK(Datenerfassung!B95),\"\",Datenerfassung!B95)","v":""},{"$f":"IF(ISBLANK(Datenerfassung!C95),\"\",Datenerfassung!C95)","v":""},{"$f":"IF(ISBLANK(Datenerfassung!R95),\"\",Datenerfassung!R95)","v":""},{"$f":"IF(ISBLANK(Datenerfassung!S95),\"\",Datenerfassung!S95)","v":""},"",{"$f":"IF(ISBLANK(Datenerfassung!U95),\"\",Datenerfassung!U95)","v":""},{"$f":"IF(ISBLANK(Datenerfassung!O95),\"\",Datenerfassung!O95)","v":""},{"$f":"IF(ISBLANK(Datenerfassung!D95),IF(COUNTBLANK(A85:H85)+COUNTBLANK(J85:O85)=14,\"\",\"- ohne Titel -\"),Datenerfassung!D95)","v":""},{"$f":"IF(ISBLANK(Datenerfassung!G95),\"\",Datenerfassung!G95)","v":""},"",{"$f":"IF(ISBLANK(Datenerfassung!X95),\"\",Datenerfassung!X95)","v":""},{"$f":"IF(COUNTBLANK(Datenerfassung!H95:'Datenerfassung'!N95)=7,\"\",CONCATENATE( CONCATENATE(IF(ISBLANK(Datenerfassung!H95),\" \",Datenerfassung!H95 ),\" [IS]\"), CONCATENATE(IF(ISBLANK(Datenerfassung!I95),\" \",Datenerfassung!I95 ),\" [IS]\"), CONCATENATE(IF(ISBLANK(Datenerfassung!J95),\" \",Datenerfassung!J95 ),\" [IS]\"), CONCATENATE(IF(ISBLANK(Datenerfassung!K95),\" \",Datenerfassung!K95 ),\" [IS]\"), CONCATENATE(IF(ISBLANK(Datenerfassung!L95),\" \",Datenerfassung!L95 ),\" [IS]\"), CONCATENATE(IF(ISBLANK(Datenerfassung!M95),\" \",Datenerfassung!M95 ),\" [IS]\"), IF(ISBLANK(Datenerfassung!N95),\" \",Datenerfassung!N95 ) ))","v":""},{"$f":"IF(ISBLANK(Datenerfassung!V95),\"\",Datenerfassung!V95)","v":""},{"$f":"IF(ISBLANK(Datenerfassung!Q95),\"\",Datenerfassung!Q95)","v":""}]
[{"$f":"IF(ISBLANK(Datenerfassung!A96),\"\",Datenerfassung!A96)","v":""},{"$f":"IF(ISBLANK(Datenerfassung!B96),\"\",Datenerfassung!B96)","v":""},{"$f":"IF(ISBLANK(Datenerfassung!C96),\"\",Datenerfassung!C96)","v":""},{"$f":"IF(ISBLANK(Datenerfassung!R96),\"\",Datenerfassung!R96)","v":""},{"$f":"IF(ISBLANK(Datenerfassung!S96),\"\",Datenerfassung!S96)","v":""},"",{"$f":"IF(ISBLANK(Datenerfassung!U96),\"\",Datenerfassung!U96)","v":""},{"$f":"IF(ISBLANK(Datenerfassung!O96),\"\",Datenerfassung!O96)","v":""},{"$f":"IF(ISBLANK(Datenerfassung!D96),IF(COUNTBLANK(A86:H86)+COUNTBLANK(J86:O86)=14,\"\",\"- ohne Titel -\"),Datenerfassung!D96)","v":""},{"$f":"IF(ISBLANK(Datenerfassung!G96),\"\",Datenerfassung!G96)","v":""},"",{"$f":"IF(ISBLANK(Datenerfassung!X96),\"\",Datenerfassung!X96)","v":""},{"$f":"IF(COUNTBLANK(Datenerfassung!H96:'Datenerfassung'!N96)=7,\"\",CONCATENATE( CONCATENATE(IF(ISBLANK(Datenerfassung!H96),\" \",Datenerfassung!H96 ),\" [IS]\"), CONCATENATE(IF(ISBLANK(Datenerfassung!I96),\" \",Datenerfassung!I96 ),\" [IS]\"), CONCATENATE(IF(ISBLANK(Datenerfassung!J96),\" \",Datenerfassung!J96 ),\" [IS]\"), CONCATENATE(IF(ISBLANK(Datenerfassung!K96),\" \",Datenerfassung!K96 ),\" [IS]\"), CONCATENATE(IF(ISBLANK(Datenerfassung!L96),\" \",Datenerfassung!L96 ),\" [IS]\"), CONCATENATE(IF(ISBLANK(Datenerfassung!M96),\" \",Datenerfassung!M96 ),\" [IS]\"), IF(ISBLANK(Datenerfassung!N96),\" \",Datenerfassung!N96 ) ))","v":""},{"$f":"IF(ISBLANK(Datenerfassung!V96),\"\",Datenerfassung!V96)","v":""},{"$f":"IF(ISBLANK(Datenerfassung!Q96),\"\",Datenerfassung!Q96)","v":""}]
[{"$f":"IF(ISBLANK(Datenerfassung!A97),\"\",Datenerfassung!A97)","v":""},{"$f":"IF(ISBLANK(Datenerfassung!B97),\"\",Datenerfassung!B97)","v":""},{"$f":"IF(ISBLANK(Datenerfassung!C97),\"\",Datenerfassung!C97)","v":""},{"$f":"IF(ISBLANK(Datenerfassung!R97),\"\",Datenerfassung!R97)","v":""},{"$f":"IF(ISBLANK(Datenerfassung!S97),\"\",Datenerfassung!S97)","v":""},"",{"$f":"IF(ISBLANK(Datenerfassung!U97),\"\",Datenerfassung!U97)","v":""},{"$f":"IF(ISBLANK(Datenerfassung!O97),\"\",Datenerfassung!O97)","v":""},{"$f":"IF(ISBLANK(Datenerfassung!D97),IF(COUNTBLANK(A87:H87)+COUNTBLANK(J87:O87)=14,\"\",\"- ohne Titel -\"),Datenerfassung!D97)","v":""},{"$f":"IF(ISBLANK(Datenerfassung!G97),\"\",Datenerfassung!G97)","v":""},"",{"$f":"IF(ISBLANK(Datenerfassung!X97),\"\",Datenerfassung!X97)","v":""},{"$f":"IF(COUNTBLANK(Datenerfassung!H97:'Datenerfassung'!N97)=7,\"\",CONCATENATE( CONCATENATE(IF(ISBLANK(Datenerfassung!H97),\" \",Datenerfassung!H97 ),\" [IS]\"), CONCATENATE(IF(ISBLANK(Datenerfassung!I97),\" \",Datenerfassung!I97 ),\" [IS]\"), CONCATENATE(IF(ISBLANK(Datenerfassung!J97),\" \",Datenerfassung!J97 ),\" [IS]\"), CONCATENATE(IF(ISBLANK(Datenerfassung!K97),\" \",Datenerfassung!K97 ),\" [IS]\"), CONCATENATE(IF(ISBLANK(Datenerfassung!L97),\" \",Datenerfassung!L97 ),\" [IS]\"), CONCATENATE(IF(ISBLANK(Datenerfassung!M97),\" \",Datenerfassung!M97 ),\" [IS]\"), IF(ISBLANK(Datenerfassung!N97),\" \",Datenerfassung!N97 ) ))","v":""},{"$f":"IF(ISBLANK(Datenerfassung!V97),\"\",Datenerfassung!V97)","v":""},{"$f":"IF(ISBLANK(Datenerfassung!Q97),\"\",Datenerfassung!Q97)","v":""}]
[{"$f":"IF(ISBLANK(Datenerfassung!A98),\"\",Datenerfassung!A98)","v":""},{"$f":"IF(ISBLANK(Datenerfassung!B98),\"\",Datenerfassung!B98)","v":""},{"$f":"IF(ISBLANK(Datenerfassung!C98),\"\",Datenerfassung!C98)","v":""},{"$f":"IF(ISBLANK(Datenerfassung!R98),\"\",Datenerfassung!R98)","v":""},{"$f":"IF(ISBLANK(Datenerfassung!S98),\"\",Datenerfassung!S98)","v":""},"",{"$f":"IF(ISBLANK(Datenerfassung!U98),\"\",Datenerfassung!U98)","v":""},{"$f":"IF(ISBLANK(Datenerfassung!O98),\"\",Datenerfassung!O98)","v":""},{"$f":"IF(ISBLANK(Datenerfassung!D98),IF(COUNTBLANK(A88:H88)+COUNTBLANK(J88:O88)=14,\"\",\"- ohne Titel -\"),Datenerfassung!D98)","v":""},{"$f":"IF(ISBLANK(Datenerfassung!G98),\"\",Datenerfassung!G98)","v":""},"",{"$f":"IF(ISBLANK(Datenerfassung!X98),\"\",Datenerfassung!X98)","v":""},{"$f":"IF(COUNTBLANK(Datenerfassung!H98:'Datenerfassung'!N98)=7,\"\",CONCATENATE( CONCATENATE(IF(ISBLANK(Datenerfassung!H98),\" \",Datenerfassung!H98 ),\" [IS]\"), CONCATENATE(IF(ISBLANK(Datenerfassung!I98),\" \",Datenerfassung!I98 ),\" [IS]\"), CONCATENATE(IF(ISBLANK(Datenerfassung!J98),\" \",Datenerfassung!J98 ),\" [IS]\"), CONCATENATE(IF(ISBLANK(Datenerfassung!K98),\" \",Datenerfassung!K98 ),\" [IS]\"), CONCATENATE(IF(ISBLANK(Datenerfassung!L98),\" \",Datenerfassung!L98 ),\" [IS]\"), CONCATENATE(IF(ISBLANK(Datenerfassung!M98),\" \",Datenerfassung!M98 ),\" [IS]\"), IF(ISBLANK(Datenerfassung!N98),\" \",Datenerfassung!N98 ) ))","v":""},{"$f":"IF(ISBLANK(Datenerfassung!V98),\"\",Datenerfassung!V98)","v":""},{"$f":"IF(ISBLANK(Datenerfassung!Q98),\"\",Datenerfassung!Q98)","v":""}]
[{"$f":"IF(ISBLANK(Datenerfassung!A99),\"\",Datenerfassung!A99)","v":""},{"$f":"IF(ISBLANK(Datenerfassung!B99),\"\",Datenerfassung!B99)","v":""},{"$f":"IF(ISBLANK(Datenerfassung!C99),\"\",Datenerfassung!C99)","v":""},{"$f":"IF(ISBLANK(Datenerfassung!R99),\"\",Datenerfassung!R99)","v":""},{"$f":"IF(ISBLANK(Datenerfassung!S99),\"\",Datenerfassung!S99)","v":""},"",{"$f":"IF(ISBLANK(Datenerfassung!U99),\"\",Datenerfassung!U99)","v":""},{"$f":"IF(ISBLANK(Datenerfassung!O99),\"\",Datenerfassung!O99)","v":""},{"$f":"IF(ISBLANK(Datenerfassung!D99),IF(COUNTBLANK(A89:H89)+COUNTBLANK(J89:O89)=14,\"\",\"- ohne Titel -\"),Datenerfassung!D99)","v":""},{"$f":"IF(ISBLANK(Datenerfassung!G99),\"\",Datenerfassung!G99)","v":""},"",{"$f":"IF(ISBLANK(Datenerfassung!X99),\"\",Datenerfassung!X99)","v":""},{"$f":"IF(COUNTBLANK(Datenerfassung!H99:'Datenerfassung'!N99)=7,\"\",CONCATENATE( CONCATENATE(IF(ISBLANK(Datenerfassung!H99),\" \",Datenerfassung!H99 ),\" [IS]\"), CONCATENATE(IF(ISBLANK(Datenerfassung!I99),\" \",Datenerfassung!I99 ),\" [IS]\"), CONCATENATE(IF(ISBLANK(Datenerfassung!J99),\" \",Datenerfassung!J99 ),\" [IS]\"), CONCATENATE(IF(ISBLANK(Datenerfassung!K99),\" \",Datenerfassung!K99 ),\" [IS]\"), CONCATENATE(IF(ISBLANK(Datenerfassung!L99),\" \",Datenerfassung!L99 ),\" [IS]\"), CONCATENATE(IF(ISBLANK(Datenerfassung!M99),\" \",Datenerfassung!M99 ),\" [IS]\"), IF(ISBLANK(Datenerfassung!N99),\" \",Datenerfassung!N99 ) ))","v":""},{"$f":"IF(ISBLANK(Datenerfassung!V99),\"\",Datenerfassung!V99)","v":""},{"$f":"IF(ISBLANK(Datenerfassung!Q99),\"\",Datenerfassung!Q99)","v":""}]
[{"$f":"IF(ISBLANK(Datenerfassung!A100),\"\",Datenerfassung!A100)","v":""},{"$f":"IF(ISBLANK(Datenerfassung!B100),\"\",Datenerfassung!B100)","v":""},{"$f":"IF(ISBLANK(Datenerfassung!C100),\"\",Datenerfassung!C100)","v":""},{"$f":"IF(ISBLANK(Datenerfassung!R100),\"\",Datenerfassung!R100)","v":""},{"$f":"IF(ISBLANK(Datenerfassung!S100),\"\",Datenerfassung!S100)","v":""},"",{"$f":"IF(ISBLANK(Datenerfassung!U100),\"\",Datenerfassung!U100)","v":""},{"$f":"IF(ISBLANK(Datenerfassung!O100),\"\",Datenerfassung!O100)","v":""},{"$f":"IF(ISBLANK(Datenerfassung!D100),IF(COUNTBLANK(A90:H90)+COUNTBLANK(J90:O90)=14,\"\",\"- ohne Titel -\"),Datenerfassung!D100)","v":""},{"$f":"IF(ISBLANK(Datenerfassung!G100),\"\",Datenerfassung!G100)","v":""},"",{"$f":"IF(ISBLANK(Datenerfassung!X100),\"\",Datenerfassung!X100)","v":""},{"$f":"IF(COUNTBLANK(Datenerfassung!H100:'Datenerfassung'!N100)=7,\"\",CONCATENATE( CONCATENATE(IF(ISBLANK(Datenerfassung!H100),\" \",Datenerfassung!H100 ),\" [IS]\"), CONCATENATE(IF(ISBLANK(Datenerfassung!I100),\" \",Datenerfassung!I100 ),\" [IS]\"), CONCATENATE(IF(ISBLANK(Datenerfassung!J100),\" \",Datenerfassung!J100 ),\" [IS]\"), CONCATENATE(IF(ISBLANK(Datenerfassung!K100),\" \",Datenerfassung!K100 ),\" [IS]\"), CONCATENATE(IF(ISBLANK(Datenerfassung!L100),\" \",Datenerfassung!L100 ),\" [IS]\"), CONCATENATE(IF(ISBLANK(Datenerfassung!M100),\" \",Datenerfassung!M100 ),\" [IS]\"), IF(ISBLANK(Datenerfassung!N100),\" \",Datenerfassung!N100 ) ))","v":""},{"$f":"IF(ISBLANK(Datenerfassung!V100),\"\",Datenerfassung!V100)","v":""},{"$f":"IF(ISBLANK(Datenerfassung!Q100),\"\",Datenerfassung!Q100)","v":""}]
[{"$f":"IF(ISBLANK(Datenerfassung!A101),\"\",Datenerfassung!A101)","v":""},{"$f":"IF(ISBLANK(Datenerfassung!B101),\"\",Datenerfassung!B101)","v":""},{"$f":"IF(ISBLANK(Datenerfassung!C101),\"\",Datenerfassung!C101)","v":""},{"$f":"IF(ISBLANK(Datenerfassung!R101),\"\",Datenerfassung!R101)","v":""},{"$f":"IF(ISBLANK(Datenerfassung!S101),\"\",Datenerfassung!S101)","v":""},"",{"$f":"IF(ISBLANK(Datenerfassung!U101),\"\",Datenerfassung!U101)","v":""},{"$f":"IF(ISBLANK(Datenerfassung!O101),\"\",Datenerfassung!O101)","v":""},{"$f":"IF(ISBLANK(Datenerfassung!D101),IF(COUNTBLANK(A91:H91)+COUNTBLANK(J91:O91)=14,\"\",\"- ohne Titel -\"),Datenerfassung!D101)","v":""},{"$f":"IF(ISBLANK(Datenerfassung!G101),\"\",Datenerfassung!G101)","v":""},"",{"$f":"IF(ISBLANK(Datenerfassung!X101),\"\",Datenerfassung!X101)","v":""},{"$f":"IF(COUNTBLANK(Datenerfassung!H101:'Datenerfassung'!N101)=7,\"\",CONCATENATE( CONCATENATE(IF(ISBLANK(Datenerfassung!H101),\" \",Datenerfassung!H101 ),\" [IS]\"), CONCATENATE(IF(ISBLANK(Datenerfassung!I101),\" \",Datenerfassung!I101 ),\" [IS]\"), CONCATENATE(IF(ISBLANK(Datenerfassung!J101),\" \",Datenerfassung!J101 ),\" [IS]\"), CONCATENATE(IF(ISBLANK(Datenerfassung!K101),\" \",Datenerfassung!K101 ),\" [IS]\"), CONCATENATE(IF(ISBLANK(Datenerfassung!L101),\" \",Datenerfassung!L101 ),\" [IS]\"), CONCATENATE(IF(ISBLANK(Datenerfassung!M101),\" \",Datenerfassung!M101 ),\" [IS]\"), IF(ISBLANK(Datenerfassung!N101),\" \",Datenerfassung!N101 ) ))","v":""},{"$f":"IF(ISBLANK(Datenerfassung!V101),\"\",Datenerfassung!V101)","v":""},{"$f":"IF(ISBLANK(Datenerfassung!Q101),\"\",Datenerfassung!Q101)","v":""}]
[{"$f":"IF(ISBLANK(Datenerfassung!A102),\"\",Datenerfassung!A102)","v":""},{"$f":"IF(ISBLANK(Datenerfassung!B102),\"\",Datenerfassung!B102)","v":""},{"$f":"IF(ISBLANK(Datenerfassung!C102),\"\",Datenerfassung!C102)","v":""},{"$f":"IF(ISBLANK(Datenerfassung!R102),\"\",Datenerfassung!R102)","v":""},{"$f":"IF(ISBLANK(Datenerfassung!S102),\"\",Datenerfassung!S102)","v":""},"",{"$f":"IF(ISBLANK(Datenerfassung!U102),\"\",Datenerfassung!U102)","v":""},{"$f":"IF(ISBLANK(Datenerfassung!O102),\"\",Datenerfassung!O102)","v":""},{"$f":"IF(ISBLANK(Datenerfassung!D102),IF(COUNTBLANK(A92:H92)+COUNTBLANK(J92:O92)=14,\"\",\"- ohne Titel -\"),Datenerfassung!D102)","v":""},{"$f":"IF(ISBLANK(Datenerfassung!G102),\"\",Datenerfassung!G102)","v":""},"",{"$f":"IF(ISBLANK(Datenerfassung!X102),\"\",Datenerfassung!X102)","v":""},{"$f":"IF(COUNTBLANK(Datenerfassung!H102:'Datenerfassung'!N102)=7,\"\",CONCATENATE( CONCATENATE(IF(ISBLANK(Datenerfassung!H102),\" \",Datenerfassung!H102 ),\" [IS]\"), CONCATENATE(IF(ISBLANK(Datenerfassung!I102),\" \",Datenerfassung!I102 ),\" [IS]\"), CONCATENATE(IF(ISBLANK(Datenerfassung!J102),\" \",Datenerfassung!J102 ),\" [IS]\"), CONCATENATE(IF(ISBLANK(Datenerfassung!K102),\" \",Datenerfassung!K102 ),\" [IS]\"), CONCATENATE(IF(ISBLANK(Datenerfassung!L102),\" \",Datenerfassung!L102 ),\" [IS]\"), CONCATENATE(IF(ISBLANK(Datenerfassung!M102),\" \",Datenerfassung!M102 ),\" [IS]\"), IF(ISBLANK(Datenerfassung!N102),\" \",Datenerfassung!N102 ) ))","v":""},{"$f":"IF(ISBLANK(Datenerfassung!V102),\"\",Datenerfassung!V102)","v":""},{"$f":"IF(ISBLANK(Datenerfassung!Q102),\"\",Datenerfassung!Q102)","v":""}]
[{"$f":"IF(ISBLANK(Datenerfassung!A103),\"\",Datenerfassung!A103)","v":""},{"$f":"IF(ISBLANK(Datenerfassung!B103),\"\",Datenerfassung!B103)","v":""},{"$f":"IF(ISBLANK(Datenerfassung!C103),\"\",Datenerfassung!C103)","v":""},{"$f":"IF(ISBLANK(Datenerfassung!R103),\"\",Datenerfassung!R103)","v":""},{"$f":"IF(ISBLANK(Datenerfassung!S103),\"\",Datenerfassung!S103)","v":""},"",{"$f":"IF(ISBLANK(Datenerfassung!U103),\"\",Datenerfassung!U103)","v":""},{"$f":"IF(ISBLANK(Datenerfassung!O103),\"\",Datenerfassung!O103)","v":""},{"$f":"IF(ISBLANK(Datenerfassung!D103),IF(COUNTBLANK(A93:H93)+COUNTBLANK(J93:O93)=14,\"\",\"- ohne Titel -\"),Datenerfassung!D103)","v":""},{"$f":"IF(ISBLANK(Datenerfassung!G103),\"\",Datenerfassung!G103)","v":""},"",{"$f":"IF(ISBLANK(Datenerfassung!X103),\"\",Datenerfassung!X103)","v":""},{"$f":"IF(COUNTBLANK(Datenerfassung!H103:'Datenerfassung'!N103)=7,\"\",CONCATENATE( CONCATENATE(IF(ISBLANK(Datenerfassung!H103),\" \",Datenerfassung!H103 ),\" [IS]\"), CONCATENATE(IF(ISBLANK(Datenerfassung!I103),\" \",Datenerfassung!I103 ),\" [IS]\"), CONCATENATE(IF(ISBLANK(Datenerfassung!J103),\" \",Datenerfassung!J103 ),\" [IS]\"), CONCATENATE(IF(ISBLANK(Datenerfassung!K103),\" \",Datenerfassung!K103 ),\" [IS]\"), CONCATENATE(IF(ISBLANK(Datenerfassung!L103),\" \",Datenerfassung!L103 ),\" [IS]\"), CONCATENATE(IF(ISBLANK(Datenerfassung!M103),\" \",Datenerfassung!M103 ),\" [IS]\"), IF(ISBLANK(Datenerfassung!N103),\" \",Datenerfassung!N103 ) ))","v":""},{"$f":"IF(ISBLANK(Datenerfassung!V103),\"\",Datenerfassung!V103)","v":""},{"$f":"IF(ISBLANK(Datenerfassung!Q103),\"\",Datenerfassung!Q103)","v":""}]
[{"$f":"IF(ISBLANK(Datenerfassung!A104),\"\",Datenerfassung!A104)","v":""},{"$f":"IF(ISBLANK(Datenerfassung!B104),\"\",Datenerfassung!B104)","v":""},{"$f":"IF(ISBLANK(Datenerfassung!C104),\"\",Datenerfassung!C104)","v":""},{"$f":"IF(ISBLANK(Datenerfassung!R104),\"\",Datenerfassung!R104)","v":""},{"$f":"IF(ISBLANK(Datenerfassung!S104),\"\",Datenerfassung!S104)","v":""},"",{"$f":"IF(ISBLANK(Datenerfassung!U104),\"\",Datenerfassung!U104)","v":""},{"$f":"IF(ISBLANK(Datenerfassung!O104),\"\",Datenerfassung!O104)","v":""},{"$f":"IF(ISBLANK(Datenerfassung!D104),IF(COUNTBLANK(A94:H94)+COUNTBLANK(J94:O94)=14,\"\",\"- ohne Titel -\"),Datenerfassung!D104)","v":""},{"$f":"IF(ISBLANK(Datenerfassung!G104),\"\",Datenerfassung!G104)","v":""},"",{"$f":"IF(ISBLANK(Datenerfassung!X104),\"\",Datenerfassung!X104)","v":""},{"$f":"IF(COUNTBLANK(Datenerfassung!H104:'Datenerfassung'!N104)=7,\"\",CONCATENATE( CONCATENATE(IF(ISBLANK(Datenerfassung!H104),\" \",Datenerfassung!H104 ),\" [IS]\"), CONCATENATE(IF(ISBLANK(Datenerfassung!I104),\" \",Datenerfassung!I104 ),\" [IS]\"), CONCATENATE(IF(ISBLANK(Datenerfassung!J104),\" \",Datenerfassung!J104 ),\" [IS]\"), CONCATENATE(IF(ISBLANK(Datenerfassung!K104),\" \",Datenerfassung!K104 ),\" [IS]\"), CONCATENATE(IF(ISBLANK(Datenerfassung!L104),\" \",Datenerfassung!L104 ),\" [IS]\"), CONCATENATE(IF(ISBLANK(Datenerfassung!M104),\" \",Datenerfassung!M104 ),\" [IS]\"), IF(ISBLANK(Datenerfassung!N104),\" \",Datenerfassung!N104 ) ))","v":""},{"$f":"IF(ISBLANK(Datenerfassung!V104),\"\",Datenerfassung!V104)","v":""},{"$f":"IF(ISBLANK(Datenerfassung!Q104),\"\",Datenerfassung!Q104)","v":""}]
[{"$f":"IF(ISBLANK(Datenerfassung!A105),\"\",Datenerfassung!A105)","v":""},{"$f":"IF(ISBLANK(Datenerfassung!B105),\"\",Datenerfassung!B105)","v":""},{"$f":"IF(ISBLANK(Datenerfassung!C105),\"\",Datenerfassung!C105)","v":""},{"$f":"IF(ISBLANK(Datenerfassung!R105),\"\",Datenerfassung!R105)","v":""},{"$f":"IF(ISBLANK(Datenerfassung!S105),\"\",Datenerfassung!S105)","v":""},"",{"$f":"IF(ISBLANK(Datenerfassung!U105),\"\",Datenerfassung!U105)","v":""},{"$f":"IF(ISBLANK(Datenerfassung!O105),\"\",Datenerfassung!O105)","v":""},{"$f":"IF(ISBLANK(Datenerfassung!D105),IF(COUNTBLANK(A95:H95)+COUNTBLANK(J95:O95)=14,\"\",\"- ohne Titel -\"),Datenerfassung!D105)","v":""},{"$f":"IF(ISBLANK(Datenerfassung!G105),\"\",Datenerfassung!G105)","v":""},"",{"$f":"IF(ISBLANK(Datenerfassung!X105),\"\",Datenerfassung!X105)","v":""},{"$f":"IF(COUNTBLANK(Datenerfassung!H105:'Datenerfassung'!N105)=7,\"\",CONCATENATE( CONCATENATE(IF(ISBLANK(Datenerfassung!H105),\" \",Datenerfassung!H105 ),\" [IS]\"), CONCATENATE(IF(ISBLANK(Datenerfassung!I105),\" \",Datenerfassung!I105 ),\" [IS]\"), CONCATENATE(IF(ISBLANK(Datenerfassung!J105),\" \",Datenerfassung!J105 ),\" [IS]\"), CONCATENATE(IF(ISBLANK(Datenerfassung!K105),\" \",Datenerfassung!K105 ),\" [IS]\"), CONCATENATE(IF(ISBLANK(Datenerfassung!L105),\" \",Datenerfassung!L105 ),\" [IS]\"), CONCATENATE(IF(ISBLANK(Datenerfassung!M105),\" \",Datenerfassung!M105 ),\" [IS]\"), IF(ISBLANK(Datenerfassung!N105),\" \",Datenerfassung!N105 ) ))","v":""},{"$f":"IF(ISBLANK(Datenerfassung!V105),\"\",Datenerfassung!V105)","v":""},{"$f":"IF(ISBLANK(Datenerfassung!Q105),\"\",Datenerfassung!Q105)","v":""}]
[{"$f":"IF(ISBLANK(Datenerfassung!A106),\"\",Datenerfassung!A106)","v":""},{"$f":"IF(ISBLANK(Datenerfassung!B106),\"\",Datenerfassung!B106)","v":""},{"$f":"IF(ISBLANK(Datenerfassung!C106),\"\",Datenerfassung!C106)","v":""},{"$f":"IF(ISBLANK(Datenerfassung!R106),\"\",Datenerfassung!R106)","v":""},{"$f":"IF(ISBLANK(Datenerfassung!S106),\"\",Datenerfassung!S106)","v":""},"",{"$f":"IF(ISBLANK(Datenerfassung!U106),\"\",Datenerfassung!U106)","v":""},{"$f":"IF(ISBLANK(Datenerfassung!O106),\"\",Datenerfassung!O106)","v":""},{"$f":"IF(ISBLANK(Datenerfassung!D106),IF(COUNTBLANK(A96:H96)+COUNTBLANK(J96:O96)=14,\"\",\"- ohne Titel -\"),Datenerfassung!D106)","v":""},{"$f":"IF(ISBLANK(Datenerfassung!G106),\"\",Datenerfassung!G106)","v":""},"",{"$f":"IF(ISBLANK(Datenerfassung!X106),\"\",Datenerfassung!X106)","v":""},{"$f":"IF(COUNTBLANK(Datenerfassung!H106:'Datenerfassung'!N106)=7,\"\",CONCATENATE( CONCATENATE(IF(ISBLANK(Datenerfassung!H106),\" \",Datenerfassung!H106 ),\" [IS]\"), CONCATENATE(IF(ISBLANK(Datenerfassung!I106),\" \",Datenerfassung!I106 ),\" [IS]\"), CONCATENATE(IF(ISBLANK(Datenerfassung!J106),\" \",Datenerfassung!J106 ),\" [IS]\"), CONCATENATE(IF(ISBLANK(Datenerfassung!K106),\" \",Datenerfassung!K106 ),\" [IS]\"), CONCATENATE(IF(ISBLANK(Datenerfassung!L106),\" \",Datenerfassung!L106 ),\" [IS]\"), CONCATENATE(IF(ISBLANK(Datenerfassung!M106),\" \",Datenerfassung!M106 ),\" [IS]\"), IF(ISBLANK(Datenerfassung!N106),\" \",Datenerfassung!N106 ) ))","v":""},{"$f":"IF(ISBLANK(Datenerfassung!V106),\"\",Datenerfassung!V106)","v":""},{"$f":"IF(ISBLANK(Datenerfassung!Q106),\"\",Datenerfassung!Q106)","v":""}]
[{"$f":"IF(ISBLANK(Datenerfassung!A107),\"\",Datenerfassung!A107)","v":""},{"$f":"IF(ISBLANK(Datenerfassung!B107),\"\",Datenerfassung!B107)","v":""},{"$f":"IF(ISBLANK(Datenerfassung!C107),\"\",Datenerfassung!C107)","v":""},{"$f":"IF(ISBLANK(Datenerfassung!R107),\"\",Datenerfassung!R107)","v":""},{"$f":"IF(ISBLANK(Datenerfassung!S107),\"\",Datenerfassung!S107)","v":""},"",{"$f":"IF(ISBLANK(Datenerfassung!U107),\"\",Datenerfassung!U107)","v":""},{"$f":"IF(ISBLANK(Datenerfassung!O107),\"\",Datenerfassung!O107)","v":""},{"$f":"IF(ISBLANK(Datenerfassung!D107),IF(COUNTBLANK(A97:H97)+COUNTBLANK(J97:O97)=14,\"\",\"- ohne Titel -\"),Datenerfassung!D107)","v":""},{"$f":"IF(ISBLANK(Datenerfassung!G107),\"\",Datenerfassung!G107)","v":""},"",{"$f":"IF(ISBLANK(Datenerfassung!X107),\"\",Datenerfassung!X107)","v":""},{"$f":"IF(COUNTBLANK(Datenerfassung!H107:'Datenerfassung'!N107)=7,\"\",CONCATENATE( CONCATENATE(IF(ISBLANK(Datenerfassung!H107),\" \",Datenerfassung!H107 ),\" [IS]\"), CONCATENATE(IF(ISBLANK(Datenerfassung!I107),\" \",Datenerfassung!I107 ),\" [IS]\"), CONCATENATE(IF(ISBLANK(Datenerfassung!J107),\" \",Datenerfassung!J107 ),\" [IS]\"), CONCATENATE(IF(ISBLANK(Datenerfassung!K107),\" \",Datenerfassung!K107 ),\" [IS]\"), CONCATENATE(IF(ISBLANK(Datenerfassung!L107),\" \",Datenerfassung!L107 ),\" [IS]\"), CONCATENATE(IF(ISBLANK(Datenerfassung!M107),\" \",Datenerfassung!M107 ),\" [IS]\"), IF(ISBLANK(Datenerfassung!N107),\" \",Datenerfassung!N107 ) ))","v":""},{"$f":"IF(ISBLANK(Datenerfassung!V107),\"\",Datenerfassung!V107)","v":""},{"$f":"IF(ISBLANK(Datenerfassung!Q107),\"\",Datenerfassung!Q107)","v":""}]
[{"$f":"IF(ISBLANK(Datenerfassung!A108),\"\",Datenerfassung!A108)","v":""},{"$f":"IF(ISBLANK(Datenerfassung!B108),\"\",Datenerfassung!B108)","v":""},{"$f":"IF(ISBLANK(Datenerfassung!C108),\"\",Datenerfassung!C108)","v":""},{"$f":"IF(ISBLANK(Datenerfassung!R108),\"\",Datenerfassung!R108)","v":""},{"$f":"IF(ISBLANK(Datenerfassung!S108),\"\",Datenerfassung!S108)","v":""},"",{"$f":"IF(ISBLANK(Datenerfassung!U108),\"\",Datenerfassung!U108)","v":""},{"$f":"IF(ISBLANK(Datenerfassung!O108),\"\",Datenerfassung!O108)","v":""},{"$f":"IF(ISBLANK(Datenerfassung!D108),IF(COUNTBLANK(A98:H98)+COUNTBLANK(J98:O98)=14,\"\",\"- ohne Titel -\"),Datenerfassung!D108)","v":""},{"$f":"IF(ISBLANK(Datenerfassung!G108),\"\",Datenerfassung!G108)","v":""},"",{"$f":"IF(ISBLANK(Datenerfassung!X108),\"\",Datenerfassung!X108)","v":""},{"$f":"IF(COUNTBLANK(Datenerfassung!H108:'Datenerfassung'!N108)=7,\"\",CONCATENATE( CONCATENATE(IF(ISBLANK(Datenerfassung!H108),\" \",Datenerfassung!H108 ),\" [IS]\"), CONCATENATE(IF(ISBLANK(Datenerfassung!I108),\" \",Datenerfassung!I108 ),\" [IS]\"), CONCATENATE(IF(ISBLANK(Datenerfassung!J108),\" \",Datenerfassung!J108 ),\" [IS]\"), CONCATENATE(IF(ISBLANK(Datenerfassung!K108),\" \",Datenerfassung!K108 ),\" [IS]\"), CONCATENATE(IF(ISBLANK(Datenerfassung!L108),\" \",Datenerfassung!L108 ),\" [IS]\"), CONCATENATE(IF(ISBLANK(Datenerfassung!M108),\" \",Datenerfassung!M108 ),\" [IS]\"), IF(ISBLANK(Datenerfassung!N108),\" \",Datenerfassung!N108 ) ))","v":""},{"$f":"IF(ISBLANK(Datenerfassung!V108),\"\",Datenerfassung!V108)","v":""},{"$f":"IF(ISBLANK(Datenerfassung!Q108),\"\",Datenerfassung!Q108)","v":""}]
[{"$f":"IF(ISBLANK(Datenerfassung!A109),\"\",Datenerfassung!A109)","v":""},{"$f":"IF(ISBLANK(Datenerfassung!B109),\"\",Datenerfassung!B109)","v":""},{"$f":"IF(ISBLANK(Datenerfassung!C109),\"\",Datenerfassung!C109)","v":""},{"$f":"IF(ISBLANK(Datenerfassung!R109),\"\",Datenerfassung!R109)","v":""},{"$f":"IF(ISBLANK(Datenerfassung!S109),\"\",Datenerfassung!S109)","v":""},"",{"$f":"IF(ISBLANK(Datenerfassung!U109),\"\",Datenerfassung!U109)","v":""},{"$f":"IF(ISBLANK(Datenerfassung!O109),\"\",Datenerfassung!O109)","v":""},{"$f":"IF(ISBLANK(Datenerfassung!D109),IF(COUNTBLANK(A99:H99)+COUNTBLANK(J99:O99)=14,\"\",\"- ohne Titel -\"),Datenerfassung!D109)","v":""},{"$f":"IF(ISBLANK(Datenerfassung!G109),\"\",Datenerfassung!G109)","v":""},"",{"$f":"IF(ISBLANK(Datenerfassung!X109),\"\",Datenerfassung!X109)","v":""},{"$f":"IF(COUNTBLANK(Datenerfassung!H109:'Datenerfassung'!N109)=7,\"\",CONCATENATE( CONCATENATE(IF(ISBLANK(Datenerfassung!H109),\" \",Datenerfassung!H109 ),\" [IS]\"), CONCATENATE(IF(ISBLANK(Datenerfassung!I109),\" \",Datenerfassung!I109 ),\" [IS]\"), CONCATENATE(IF(ISBLANK(Datenerfassung!J109),\" \",Datenerfassung!J109 ),\" [IS]\"), CONCATENATE(IF(ISBLANK(Datenerfassung!K109),\" \",Datenerfassung!K109 ),\" [IS]\"), CONCATENATE(IF(ISBLANK(Datenerfassung!L109),\" \",Datenerfassung!L109 ),\" [IS]\"), CONCATENATE(IF(ISBLANK(Datenerfassung!M109),\" \",Datenerfassung!M109 ),\" [IS]\"), IF(ISBLANK(Datenerfassung!N109),\" \",Datenerfassung!N109 ) ))","v":""},{"$f":"IF(ISBLANK(Datenerfassung!V109),\"\",Datenerfassung!V109)","v":""},{"$f":"IF(ISBLANK(Datenerfassung!Q109),\"\",Datenerfassung!Q109)","v":""}]
[{"$f":"IF(ISBLANK(Datenerfassung!A110),\"\",Datenerfassung!A110)","v":""},{"$f":"IF(ISBLANK(Datenerfassung!B110),\"\",Datenerfassung!B110)","v":""},{"$f":"IF(ISBLANK(Datenerfassung!C110),\"\",Datenerfassung!C110)","v":""},{"$f":"IF(ISBLANK(Datenerfassung!R110),\"\",Datenerfassung!R110)","v":""},{"$f":"IF(ISBLANK(Datenerfassung!S110),\"\",Datenerfassung!S110)","v":""},"",{"$f":"IF(ISBLANK(Datenerfassung!U110),\"\",Datenerfassung!U110)","v":""},{"$f":"IF(ISBLANK(Datenerfassung!O110),\"\",Datenerfassung!O110)","v":""},{"$f":"IF(ISBLANK(Datenerfassung!D110),IF(COUNTBLANK(A100:H100)+COUNTBLANK(J100:O100)=14,\"\",\"- ohne Titel -\"),Datenerfassung!D110)","v":""},{"$f":"IF(ISBLANK(Datenerfassung!G110),\"\",Datenerfassung!G110)","v":""},"",{"$f":"IF(ISBLANK(Datenerfassung!X110),\"\",Datenerfassung!X110)","v":""},{"$f":"IF(COUNTBLANK(Datenerfassung!H110:'Datenerfassung'!N110)=7,\"\",CONCATENATE( CONCATENATE(IF(ISBLANK(Datenerfassung!H110),\" \",Datenerfassung!H110 ),\" [IS]\"), CONCATENATE(IF(ISBLANK(Datenerfassung!I110),\" \",Datenerfassung!I110 ),\" [IS]\"), CONCATENATE(IF(ISBLANK(Datenerfassung!J110),\" \",Datenerfassung!J110 ),\" [IS]\"), CONCATENATE(IF(ISBLANK(Datenerfassung!K110),\" \",Datenerfassung!K110 ),\" [IS]\"), CONCATENATE(IF(ISBLANK(Datenerfassung!L110),\" \",Datenerfassung!L110 ),\" [IS]\"), CONCATENATE(IF(ISBLANK(Datenerfassung!M110),\" \",Datenerfassung!M110 ),\" [IS]\"), IF(ISBLANK(Datenerfassung!N110),\" \",Datenerfassung!N110 ) ))","v":""},{"$f":"IF(ISBLANK(Datenerfassung!V110),\"\",Datenerfassung!V110)","v":""},{"$f":"IF(ISBLANK(Datenerfassung!Q110),\"\",Datenerfassung!Q110)","v":""}]
[{"$f":"IF(ISBLANK(Datenerfassung!A111),\"\",Datenerfassung!A111)","v":""},{"$f":"IF(ISBLANK(Datenerfassung!B111),\"\",Datenerfassung!B111)","v":""},{"$f":"IF(ISBLANK(Datenerfassung!C111),\"\",Datenerfassung!C111)","v":""},{"$f":"IF(ISBLANK(Datenerfassung!R111),\"\",Datenerfassung!R111)","v":""},{"$f":"IF(ISBLANK(Datenerfassung!S111),\"\",Datenerfassung!S111)","v":""},"",{"$f":"IF(ISBLANK(Datenerfassung!U111),\"\",Datenerfassung!U111)","v":""},{"$f":"IF(ISBLANK(Datenerfassung!O111),\"\",Datenerfassung!O111)","v":""},{"$f":"IF(ISBLANK(Datenerfassung!D111),IF(COUNTBLANK(A101:H101)+COUNTBLANK(J101:O101)=14,\"\",\"- ohne Titel -\"),Datenerfassung!D111)","v":""},{"$f":"IF(ISBLANK(Datenerfassung!G111),\"\",Datenerfassung!G111)","v":""},"",{"$f":"IF(ISBLANK(Datenerfassung!X111),\"\",Datenerfassung!X111)","v":""},{"$f":"IF(COUNTBLANK(Datenerfassung!H111:'Datenerfassung'!N111)=7,\"\",CONCATENATE( CONCATENATE(IF(ISBLANK(Datenerfassung!H111),\" \",Datenerfassung!H111 ),\" [IS]\"), CONCATENATE(IF(ISBLANK(Datenerfassung!I111),\" \",Datenerfassung!I111 ),\" [IS]\"), CONCATENATE(IF(ISBLANK(Datenerfassung!J111),\" \",Datenerfassung!J111 ),\" [IS]\"), CONCATENATE(IF(ISBLANK(Datenerfassung!K111),\" \",Datenerfassung!K111 ),\" [IS]\"), CONCATENATE(IF(ISBLANK(Datenerfassung!L111),\" \",Datenerfassung!L111 ),\" [IS]\"), CONCATENATE(IF(ISBLANK(Datenerfassung!M111),\" \",Datenerfassung!M111 ),\" [IS]\"), IF(ISBLANK(Datenerfassung!N111),\" \",Datenerfassung!N111 ) ))","v":""},{"$f":"IF(ISBLANK(Datenerfassung!V111),\"\",Datenerfassung!V111)","v":""},{"$f":"IF(ISBLANK(Datenerfassung!Q111),\"\",Datenerfassung!Q111)","v":""}]
[{"$f":"IF(ISBLANK(Datenerfassung!A112),\"\",Datenerfassung!A112)","v":""},{"$f":"IF(ISBLANK(Datenerfassung!B112),\"\",Datenerfassung!B112)","v":""},{"$f":"IF(ISBLANK(Datenerfassung!C112),\"\",Datenerfassung!C112)","v":""},{"$f":"IF(ISBLANK(Datenerfassung!R112),\"\",Datenerfassung!R112)","v":""},{"$f":"IF(ISBLANK(Datenerfassung!S112),\"\",Datenerfassung!S112)","v":""},"",{"$f":"IF(ISBLANK(Datenerfassung!U112),\"\",Datenerfassung!U112)","v":""},{"$f":"IF(ISBLANK(Datenerfassung!O112),\"\",Datenerfassung!O112)","v":""},{"$f":"IF(ISBLANK(Datenerfassung!D112),IF(COUNTBLANK(A102:H102)+COUNTBLANK(J102:O102)=14,\"\",\"- ohne Titel -\"),Datenerfassung!D112)","v":""},{"$f":"IF(ISBLANK(Datenerfassung!G112),\"\",Datenerfassung!G112)","v":""},"",{"$f":"IF(ISBLANK(Datenerfassung!X112),\"\",Datenerfassung!X112)","v":""},{"$f":"IF(COUNTBLANK(Datenerfassung!H112:'Datenerfassung'!N112)=7,\"\",CONCATENATE( CONCATENATE(IF(ISBLANK(Datenerfassung!H112),\" \",Datenerfassung!H112 ),\" [IS]\"), CONCATENATE(IF(ISBLANK(Datenerfassung!I112),\" \",Datenerfassung!I112 ),\" [IS]\"), CONCATENATE(IF(ISBLANK(Datenerfassung!J112),\" \",Datenerfassung!J112 ),\" [IS]\"), CONCATENATE(IF(ISBLANK(Datenerfassung!K112),\" \",Datenerfassung!K112 ),\" [IS]\"), CONCATENATE(IF(ISBLANK(Datenerfassung!L112),\" \",Datenerfassung!L112 ),\" [IS]\"), CONCATENATE(IF(ISBLANK(Datenerfassung!M112),\" \",Datenerfassung!M112 ),\" [IS]\"), IF(ISBLANK(Datenerfassung!N112),\" \",Datenerfassung!N112 ) ))","v":""},{"$f":"IF(ISBLANK(Datenerfassung!V112),\"\",Datenerfassung!V112)","v":""},{"$f":"IF(ISBLANK(Datenerfassung!Q112),\"\",Datenerfassung!Q112)","v":""}]
[{"$f":"IF(ISBLANK(Datenerfassung!A113),\"\",Datenerfassung!A113)","v":""},{"$f":"IF(ISBLANK(Datenerfassung!B113),\"\",Datenerfassung!B113)","v":""},{"$f":"IF(ISBLANK(Datenerfassung!C113),\"\",Datenerfassung!C113)","v":""},{"$f":"IF(ISBLANK(Datenerfassung!R113),\"\",Datenerfassung!R113)","v":""},{"$f":"IF(ISBLANK(Datenerfassung!S113),\"\",Datenerfassung!S113)","v":""},"",{"$f":"IF(ISBLANK(Datenerfassung!U113),\"\",Datenerfassung!U113)","v":""},{"$f":"IF(ISBLANK(Datenerfassung!O113),\"\",Datenerfassung!O113)","v":""},{"$f":"IF(ISBLANK(Datenerfassung!D113),IF(COUNTBLANK(A103:H103)+COUNTBLANK(J103:O103)=14,\"\",\"- ohne Titel -\"),Datenerfassung!D113)","v":""},{"$f":"IF(ISBLANK(Datenerfassung!G113),\"\",Datenerfassung!G113)","v":""},"",{"$f":"IF(ISBLANK(Datenerfassung!X113),\"\",Datenerfassung!X113)","v":""},{"$f":"IF(COUNTBLANK(Datenerfassung!H113:'Datenerfassung'!N113)=7,\"\",CONCATENATE( CONCATENATE(IF(ISBLANK(Datenerfassung!H113),\" \",Datenerfassung!H113 ),\" [IS]\"), CONCATENATE(IF(ISBLANK(Datenerfassung!I113),\" \",Datenerfassung!I113 ),\" [IS]\"), CONCATENATE(IF(ISBLANK(Datenerfassung!J113),\" \",Datenerfassung!J113 ),\" [IS]\"), CONCATENATE(IF(ISBLANK(Datenerfassung!K113),\" \",Datenerfassung!K113 ),\" [IS]\"), CONCATENATE(IF(ISBLANK(Datenerfassung!L113),\" \",Datenerfassung!L113 ),\" [IS]\"), CONCATENATE(IF(ISBLANK(Datenerfassung!M113),\" \",Datenerfassung!M113 ),\" [IS]\"), IF(ISBLANK(Datenerfassung!N113),\" \",Datenerfassung!N113 ) ))","v":""},{"$f":"IF(ISBLANK(Datenerfassung!V113),\"\",Datenerfassung!V113)","v":""},{"$f":"IF(ISBLANK(Datenerfassung!Q113),\"\",Datenerfassung!Q113)","v":""}]
[{"$f":"IF(ISBLANK(Datenerfassung!A114),\"\",Datenerfassung!A114)","v":""},{"$f":"IF(ISBLANK(Datenerfassung!B114),\"\",Datenerfassung!B114)","v":""},{"$f":"IF(ISBLANK(Datenerfassung!C114),\"\",Datenerfassung!C114)","v":""},{"$f":"IF(ISBLANK(Datenerfassung!R114),\"\",Datenerfassung!R114)","v":""},{"$f":"IF(ISBLANK(Datenerfassung!S114),\"\",Datenerfassung!S114)","v":""},"",{"$f":"IF(ISBLANK(Datenerfassung!U114),\"\",Datenerfassung!U114)","v":""},{"$f":"IF(ISBLANK(Datenerfassung!O114),\"\",Datenerfassung!O114)","v":""},{"$f":"IF(ISBLANK(Datenerfassung!D114),IF(COUNTBLANK(A104:H104)+COUNTBLANK(J104:O104)=14,\"\",\"- ohne Titel -\"),Datenerfassung!D114)","v":""},{"$f":"IF(ISBLANK(Datenerfassung!G114),\"\",Datenerfassung!G114)","v":""},"",{"$f":"IF(ISBLANK(Datenerfassung!X114),\"\",Datenerfassung!X114)","v":""},{"$f":"IF(COUNTBLANK(Datenerfassung!H114:'Datenerfassung'!N114)=7,\"\",CONCATENATE( CONCATENATE(IF(ISBLANK(Datenerfassung!H114),\" \",Datenerfassung!H114 ),\" [IS]\"), CONCATENATE(IF(ISBLANK(Datenerfassung!I114),\" \",Datenerfassung!I114 ),\" [IS]\"), CONCATENATE(IF(ISBLANK(Datenerfassung!J114),\" \",Datenerfassung!J114 ),\" [IS]\"), CONCATENATE(IF(ISBLANK(Datenerfassung!K114),\" \",Datenerfassung!K114 ),\" [IS]\"), CONCATENATE(IF(ISBLANK(Datenerfassung!L114),\" \",Datenerfassung!L114 ),\" [IS]\"), CONCATENATE(IF(ISBLANK(Datenerfassung!M114),\" \",Datenerfassung!M114 ),\" [IS]\"), IF(ISBLANK(Datenerfassung!N114),\" \",Datenerfassung!N114 ) ))","v":""},{"$f":"IF(ISBLANK(Datenerfassung!V114),\"\",Datenerfassung!V114)","v":""},{"$f":"IF(ISBLANK(Datenerfassung!Q114),\"\",Datenerfassung!Q114)","v":""}]
[{"$f":"IF(ISBLANK(Datenerfassung!A115),\"\",Datenerfassung!A115)","v":""},{"$f":"IF(ISBLANK(Datenerfassung!B115),\"\",Datenerfassung!B115)","v":""},{"$f":"IF(ISBLANK(Datenerfassung!C115),\"\",Datenerfassung!C115)","v":""},{"$f":"IF(ISBLANK(Datenerfassung!R115),\"\",Datenerfassung!R115)","v":""},{"$f":"IF(ISBLANK(Datenerfassung!S115),\"\",Datenerfassung!S115)","v":""},"",{"$f":"IF(ISBLANK(Datenerfassung!U115),\"\",Datenerfassung!U115)","v":""},{"$f":"IF(ISBLANK(Datenerfassung!O115),\"\",Datenerfassung!O115)","v":""},{"$f":"IF(ISBLANK(Datenerfassung!D115),IF(COUNTBLANK(A105:H105)+COUNTBLANK(J105:O105)=14,\"\",\"- ohne Titel -\"),Datenerfassung!D115)","v":""},{"$f":"IF(ISBLANK(Datenerfassung!G115),\"\",Datenerfassung!G115)","v":""},"",{"$f":"IF(ISBLANK(Datenerfassung!X115),\"\",Datenerfassung!X115)","v":""},{"$f":"IF(COUNTBLANK(Datenerfassung!H115:'Datenerfassung'!N115)=7,\"\",CONCATENATE( CONCATENATE(IF(ISBLANK(Datenerfassung!H115),\" \",Datenerfassung!H115 ),\" [IS]\"), CONCATENATE(IF(ISBLANK(Datenerfassung!I115),\" \",Datenerfassung!I115 ),\" [IS]\"), CONCATENATE(IF(ISBLANK(Datenerfassung!J115),\" \",Datenerfassung!J115 ),\" [IS]\"), CONCATENATE(IF(ISBLANK(Datenerfassung!K115),\" \",Datenerfassung!K115 ),\" [IS]\"), CONCATENATE(IF(ISBLANK(Datenerfassung!L115),\" \",Datenerfassung!L115 ),\" [IS]\"), CONCATENATE(IF(ISBLANK(Datenerfassung!M115),\" \",Datenerfassung!M115 ),\" [IS]\"), IF(ISBLANK(Datenerfassung!N115),\" \",Datenerfassung!N115 ) ))","v":""},{"$f":"IF(ISBLANK(Datenerfassung!V115),\"\",Datenerfassung!V115)","v":""},{"$f":"IF(ISBLANK(Datenerfassung!Q115),\"\",Datenerfassung!Q115)","v":""}]
[{"$f":"IF(ISBLANK(Datenerfassung!A116),\"\",Datenerfassung!A116)","v":""},{"$f":"IF(ISBLANK(Datenerfassung!B116),\"\",Datenerfassung!B116)","v":""},{"$f":"IF(ISBLANK(Datenerfassung!C116),\"\",Datenerfassung!C116)","v":""},{"$f":"IF(ISBLANK(Datenerfassung!R116),\"\",Datenerfassung!R116)","v":""},{"$f":"IF(ISBLANK(Datenerfassung!S116),\"\",Datenerfassung!S116)","v":""},"",{"$f":"IF(ISBLANK(Datenerfassung!U116),\"\",Datenerfassung!U116)","v":""},{"$f":"IF(ISBLANK(Datenerfassung!O116),\"\",Datenerfassung!O116)","v":""},{"$f":"IF(ISBLANK(Datenerfassung!D116),IF(COUNTBLANK(A106:H106)+COUNTBLANK(J106:O106)=14,\"\",\"- ohne Titel -\"),Datenerfassung!D116)","v":""},{"$f":"IF(ISBLANK(Datenerfassung!G116),\"\",Datenerfassung!G116)","v":""},"",{"$f":"IF(ISBLANK(Datenerfassung!X116),\"\",Datenerfassung!X116)","v":""},{"$f":"IF(COUNTBLANK(Datenerfassung!H116:'Datenerfassung'!N116)=7,\"\",CONCATENATE( CONCATENATE(IF(ISBLANK(Datenerfassung!H116),\" \",Datenerfassung!H116 ),\" [IS]\"), CONCATENATE(IF(ISBLANK(Datenerfassung!I116),\" \",Datenerfassung!I116 ),\" [IS]\"), CONCATENATE(IF(ISBLANK(Datenerfassung!J116),\" \",Datenerfassung!J116 ),\" [IS]\"), CONCATENATE(IF(ISBLANK(Datenerfassung!K116),\" \",Datenerfassung!K116 ),\" [IS]\"), CONCATENATE(IF(ISBLANK(Datenerfassung!L116),\" \",Datenerfassung!L116 ),\" [IS]\"), CONCATENATE(IF(ISBLANK(Datenerfassung!M116),\" \",Datenerfassung!M116 ),\" [IS]\"), IF(ISBLANK(Datenerfassung!N116),\" \",Datenerfassung!N116 ) ))","v":""},{"$f":"IF(ISBLANK(Datenerfassung!V116),\"\",Datenerfassung!V116)","v":""},{"$f":"IF(ISBLANK(Datenerfassung!Q116),\"\",Datenerfassung!Q116)","v":""}]
[{"$f":"IF(ISBLANK(Datenerfassung!A117),\"\",Datenerfassung!A117)","v":""},{"$f":"IF(ISBLANK(Datenerfassung!B117),\"\",Datenerfassung!B117)","v":""},{"$f":"IF(ISBLANK(Datenerfassung!C117),\"\",Datenerfassung!C117)","v":""},{"$f":"IF(ISBLANK(Datenerfassung!R117),\"\",Datenerfassung!R117)","v":""},{"$f":"IF(ISBLANK(Datenerfassung!S117),\"\",Datenerfassung!S117)","v":""},"",{"$f":"IF(ISBLANK(Datenerfassung!U117),\"\",Datenerfassung!U117)","v":""},{"$f":"IF(ISBLANK(Datenerfassung!O117),\"\",Datenerfassung!O117)","v":""},{"$f":"IF(ISBLANK(Datenerfassung!D117),IF(COUNTBLANK(A107:H107)+COUNTBLANK(J107:O107)=14,\"\",\"- ohne Titel -\"),Datenerfassung!D117)","v":""},{"$f":"IF(ISBLANK(Datenerfassung!G117),\"\",Datenerfassung!G117)","v":""},"",{"$f":"IF(ISBLANK(Datenerfassung!X117),\"\",Datenerfassung!X117)","v":""},{"$f":"IF(COUNTBLANK(Datenerfassung!H117:'Datenerfassung'!N117)=7,\"\",CONCATENATE( CONCATENATE(IF(ISBLANK(Datenerfassung!H117),\" \",Datenerfassung!H117 ),\" [IS]\"), CONCATENATE(IF(ISBLANK(Datenerfassung!I117),\" \",Datenerfassung!I117 ),\" [IS]\"), CONCATENATE(IF(ISBLANK(Datenerfassung!J117),\" \",Datenerfassung!J117 ),\" [IS]\"), CONCATENATE(IF(ISBLANK(Datenerfassung!K117),\" \",Datenerfassung!K117 ),\" [IS]\"), CONCATENATE(IF(ISBLANK(Datenerfassung!L117),\" \",Datenerfassung!L117 ),\" [IS]\"), CONCATENATE(IF(ISBLANK(Datenerfassung!M117),\" \",Datenerfassung!M117 ),\" [IS]\"), IF(ISBLANK(Datenerfassung!N117),\" \",Datenerfassung!N117 ) ))","v":""},{"$f":"IF(ISBLANK(Datenerfassung!V117),\"\",Datenerfassung!V117)","v":""},{"$f":"IF(ISBLANK(Datenerfassung!Q117),\"\",Datenerfassung!Q117)","v":""}]
[{"$f":"IF(ISBLANK(Datenerfassung!A118),\"\",Datenerfassung!A118)","v":""},{"$f":"IF(ISBLANK(Datenerfassung!B118),\"\",Datenerfassung!B118)","v":""},{"$f":"IF(ISBLANK(Datenerfassung!C118),\"\",Datenerfassung!C118)","v":""},{"$f":"IF(ISBLANK(Datenerfassung!R118),\"\",Datenerfassung!R118)","v":""},{"$f":"IF(ISBLANK(Datenerfassung!S118),\"\",Datenerfassung!S118)","v":""},"",{"$f":"IF(ISBLANK(Datenerfassung!U118),\"\",Datenerfassung!U118)","v":""},{"$f":"IF(ISBLANK(Datenerfassung!O118),\"\",Datenerfassung!O118)","v":""},{"$f":"IF(ISBLANK(Datenerfassung!D118),IF(COUNTBLANK(A108:H108)+COUNTBLANK(J108:O108)=14,\"\",\"- ohne Titel -\"),Datenerfassung!D118)","v":""},{"$f":"IF(ISBLANK(Datenerfassung!G118),\"\",Datenerfassung!G118)","v":""},"",{"$f":"IF(ISBLANK(Datenerfassung!X118),\"\",Datenerfassung!X118)","v":""},{"$f":"IF(COUNTBLANK(Datenerfassung!H118:'Datenerfassung'!N118)=7,\"\",CONCATENATE( CONCATENATE(IF(ISBLANK(Datenerfassung!H118),\" \",Datenerfassung!H118 ),\" [IS]\"), CONCATENATE(IF(ISBLANK(Datenerfassung!I118),\" \",Datenerfassung!I118 ),\" [IS]\"), CONCATENATE(IF(ISBLANK(Datenerfassung!J118),\" \",Datenerfassung!J118 ),\" [IS]\"), CONCATENATE(IF(ISBLANK(Datenerfassung!K118),\" \",Datenerfassung!K118 ),\" [IS]\"), CONCATENATE(IF(ISBLANK(Datenerfassung!L118),\" \",Datenerfassung!L118 ),\" [IS]\"), CONCATENATE(IF(ISBLANK(Datenerfassung!M118),\" \",Datenerfassung!M118 ),\" [IS]\"), IF(ISBLANK(Datenerfassung!N118),\" \",Datenerfassung!N118 ) ))","v":""},{"$f":"IF(ISBLANK(Datenerfassung!V118),\"\",Datenerfassung!V118)","v":""},{"$f":"IF(ISBLANK(Datenerfassung!Q118),\"\",Datenerfassung!Q118)","v":""}]
[{"$f":"IF(ISBLANK(Datenerfassung!A119),\"\",Datenerfassung!A119)","v":""},{"$f":"IF(ISBLANK(Datenerfassung!B119),\"\",Datenerfassung!B119)","v":""},{"$f":"IF(ISBLANK(Datenerfassung!C119),\"\",Datenerfassung!C119)","v":""},{"$f":"IF(ISBLANK(Datenerfassung!R119),\"\",Datenerfassung!R119)","v":""},{"$f":"IF(ISBLANK(Datenerfassung!S119),\"\",Datenerfassung!S119)","v":""},"",{"$f":"IF(ISBLANK(Datenerfassung!U119),\"\",Datenerfassung!U119)","v":""},{"$f":"IF(ISBLANK(Datenerfassung!O119),\"\",Datenerfassung!O119)","v":""},{"$f":"IF(ISBLANK(Datenerfassung!D119),IF(COUNTBLANK(A109:H109)+COUNTBLANK(J109:O109)=14,\"\",\"- ohne Titel -\"),Datenerfassung!D119)","v":""},{"$f":"IF(ISBLANK(Datenerfassung!G119),\"\",Datenerfassung!G119)","v":""},"",{"$f":"IF(ISBLANK(Datenerfassung!X119),\"\",Datenerfassung!X119)","v":""},{"$f":"IF(COUNTBLANK(Datenerfassung!H119:'Datenerfassung'!N119)=7,\"\",CONCATENATE( CONCATENATE(IF(ISBLANK(Datenerfassung!H119),\" \",Datenerfassung!H119 ),\" [IS]\"), CONCATENATE(IF(ISBLANK(Datenerfassung!I119),\" \",Datenerfassung!I119 ),\" [IS]\"), CONCATENATE(IF(ISBLANK(Datenerfassung!J119),\" \",Datenerfassung!J119 ),\" [IS]\"), CONCATENATE(IF(ISBLANK(Datenerfassung!K119),\" \",Datenerfassung!K119 ),\" [IS]\"), CONCATENATE(IF(ISBLANK(Datenerfassung!L119),\" \",Datenerfassung!L119 ),\" [IS]\"), CONCATENATE(IF(ISBLANK(Datenerfassung!M119),\" \",Datenerfassung!M119 ),\" [IS]\"), IF(ISBLANK(Datenerfassung!N119),\" \",Datenerfassung!N119 ) ))","v":""},{"$f":"IF(ISBLANK(Datenerfassung!V119),\"\",Datenerfassung!V119)","v":""},{"$f":"IF(ISBLANK(Datenerfassung!Q119),\"\",Datenerfassung!Q119)","v":""}]
[{"$f":"IF(ISBLANK(Datenerfassung!A120),\"\",Datenerfassung!A120)","v":""},{"$f":"IF(ISBLANK(Datenerfassung!B120),\"\",Datenerfassung!B120)","v":""},{"$f":"IF(ISBLANK(Datenerfassung!C120),\"\",Datenerfassung!C120)","v":""},{"$f":"IF(ISBLANK(Datenerfassung!R120),\"\",Datenerfassung!R120)","v":""},{"$f":"IF(ISBLANK(Datenerfassung!S120),\"\",Datenerfassung!S120)","v":""},"",{"$f":"IF(ISBLANK(Datenerfassung!U120),\"\",Datenerfassung!U120)","v":""},{"$f":"IF(ISBLANK(Datenerfassung!O120),\"\",Datenerfassung!O120)","v":""},{"$f":"IF(ISBLANK(Datenerfassung!D120),IF(COUNTBLANK(A110:H110)+COUNTBLANK(J110:O110)=14,\"\",\"- ohne Titel -\"),Datenerfassung!D120)","v":""},{"$f":"IF(ISBLANK(Datenerfassung!G120),\"\",Datenerfassung!G120)","v":""},"",{"$f":"IF(ISBLANK(Datenerfassung!X120),\"\",Datenerfassung!X120)","v":""},{"$f":"IF(COUNTBLANK(Datenerfassung!H120:'Datenerfassung'!N120)=7,\"\",CONCATENATE( CONCATENATE(IF(ISBLANK(Datenerfassung!H120),\" \",Datenerfassung!H120 ),\" [IS]\"), CONCATENATE(IF(ISBLANK(Datenerfassung!I120),\" \",Datenerfassung!I120 ),\" [IS]\"), CONCATENATE(IF(ISBLANK(Datenerfassung!J120),\" \",Datenerfassung!J120 ),\" [IS]\"), CONCATENATE(IF(ISBLANK(Datenerfassung!K120),\" \",Datenerfassung!K120 ),\" [IS]\"), CONCATENATE(IF(ISBLANK(Datenerfassung!L120),\" \",Datenerfassung!L120 ),\" [IS]\"), CONCATENATE(IF(ISBLANK(Datenerfassung!M120),\" \",Datenerfassung!M120 ),\" [IS]\"), IF(ISBLANK(Datenerfassung!N120),\" \",Datenerfassung!N120 ) ))","v":""},{"$f":"IF(ISBLANK(Datenerfassung!V120),\"\",Datenerfassung!V120)","v":""},{"$f":"IF(ISBLANK(Datenerfassung!Q120),\"\",Datenerfassung!Q120)","v":""}]
[{"$f":"IF(ISBLANK(Datenerfassung!A121),\"\",Datenerfassung!A121)","v":""},{"$f":"IF(ISBLANK(Datenerfassung!B121),\"\",Datenerfassung!B121)","v":""},{"$f":"IF(ISBLANK(Datenerfassung!C121),\"\",Datenerfassung!C121)","v":""},{"$f":"IF(ISBLANK(Datenerfassung!R121),\"\",Datenerfassung!R121)","v":""},{"$f":"IF(ISBLANK(Datenerfassung!S121),\"\",Datenerfassung!S121)","v":""},"",{"$f":"IF(ISBLANK(Datenerfassung!U121),\"\",Datenerfassung!U121)","v":""},{"$f":"IF(ISBLANK(Datenerfassung!O121),\"\",Datenerfassung!O121)","v":""},{"$f":"IF(ISBLANK(Datenerfassung!D121),IF(COUNTBLANK(A111:H111)+COUNTBLANK(J111:O111)=14,\"\",\"- ohne Titel -\"),Datenerfassung!D121)","v":""},{"$f":"IF(ISBLANK(Datenerfassung!G121),\"\",Datenerfassung!G121)","v":""},"",{"$f":"IF(ISBLANK(Datenerfassung!X121),\"\",Datenerfassung!X121)","v":""},{"$f":"IF(COUNTBLANK(Datenerfassung!H121:'Datenerfassung'!N121)=7,\"\",CONCATENATE( CONCATENATE(IF(ISBLANK(Datenerfassung!H121),\" \",Datenerfassung!H121 ),\" [IS]\"), CONCATENATE(IF(ISBLANK(Datenerfassung!I121),\" \",Datenerfassung!I121 ),\" [IS]\"), CONCATENATE(IF(ISBLANK(Datenerfassung!J121),\" \",Datenerfassung!J121 ),\" [IS]\"), CONCATENATE(IF(ISBLANK(Datenerfassung!K121),\" \",Datenerfassung!K121 ),\" [IS]\"), CONCATENATE(IF(ISBLANK(Datenerfassung!L121),\" \",Datenerfassung!L121 ),\" [IS]\"), CONCATENATE(IF(ISBLANK(Datenerfassung!M121),\" \",Datenerfassung!M121 ),\" [IS]\"), IF(ISBLANK(Datenerfassung!N121),\" \",Datenerfassung!N121 ) ))","v":""},{"$f":"IF(ISBLANK(Datenerfassung!V121),\"\",Datenerfassung!V121)","v":""},{"$f":"IF(ISBLANK(Datenerfassung!Q121),\"\",Datenerfassung!Q121)","v":""}]
[{"$f":"IF(ISBLANK(Datenerfassung!A122),\"\",Datenerfassung!A122)","v":""},{"$f":"IF(ISBLANK(Datenerfassung!B122),\"\",Datenerfassung!B122)","v":""},{"$f":"IF(ISBLANK(Datenerfassung!C122),\"\",Datenerfassung!C122)","v":""},{"$f":"IF(ISBLANK(Datenerfassung!R122),\"\",Datenerfassung!R122)","v":""},{"$f":"IF(ISBLANK(Datenerfassung!S122),\"\",Datenerfassung!S122)","v":""},"",{"$f":"IF(ISBLANK(Datenerfassung!U122),\"\",Datenerfassung!U122)","v":""},{"$f":"IF(ISBLANK(Datenerfassung!O122),\"\",Datenerfassung!O122)","v":""},{"$f":"IF(ISBLANK(Datenerfassung!D122),IF(COUNTBLANK(A112:H112)+COUNTBLANK(J112:O112)=14,\"\",\"- ohne Titel -\"),Datenerfassung!D122)","v":""},{"$f":"IF(ISBLANK(Datenerfassung!G122),\"\",Datenerfassung!G122)","v":""},"",{"$f":"IF(ISBLANK(Datenerfassung!X122),\"\",Datenerfassung!X122)","v":""},{"$f":"IF(COUNTBLANK(Datenerfassung!H122:'Datenerfassung'!N122)=7,\"\",CONCATENATE( CONCATENATE(IF(ISBLANK(Datenerfassung!H122),\" \",Datenerfassung!H122 ),\" [IS]\"), CONCATENATE(IF(ISBLANK(Datenerfassung!I122),\" \",Datenerfassung!I122 ),\" [IS]\"), CONCATENATE(IF(ISBLANK(Datenerfassung!J122),\" \",Datenerfassung!J122 ),\" [IS]\"), CONCATENATE(IF(ISBLANK(Datenerfassung!K122),\" \",Datenerfassung!K122 ),\" [IS]\"), CONCATENATE(IF(ISBLANK(Datenerfassung!L122),\" \",Datenerfassung!L122 ),\" [IS]\"), CONCATENATE(IF(ISBLANK(Datenerfassung!M122),\" \",Datenerfassung!M122 ),\" [IS]\"), IF(ISBLANK(Datenerfassung!N122),\" \",Datenerfassung!N122 ) ))","v":""},{"$f":"IF(ISBLANK(Datenerfassung!V122),\"\",Datenerfassung!V122)","v":""},{"$f":"IF(ISBLANK(Datenerfassung!Q122),\"\",Datenerfassung!Q122)","v":""}]
[{"$f":"IF(ISBLANK(Datenerfassung!A123),\"\",Datenerfassung!A123)","v":""},{"$f":"IF(ISBLANK(Datenerfassung!B123),\"\",Datenerfassung!B123)","v":""},{"$f":"IF(ISBLANK(Datenerfassung!C123),\"\",Datenerfassung!C123)","v":""},{"$f":"IF(ISBLANK(Datenerfassung!R123),\"\",Datenerfassung!R123)","v":""},{"$f":"IF(ISBLANK(Datenerfassung!S123),\"\",Datenerfassung!S123)","v":""},"",{"$f":"IF(ISBLANK(Datenerfassung!U123),\"\",Datenerfassung!U123)","v":""},{"$f":"IF(ISBLANK(Datenerfassung!O123),\"\",Datenerfassung!O123)","v":""},{"$f":"IF(ISBLANK(Datenerfassung!D123),IF(COUNTBLANK(A113:H113)+COUNTBLANK(J113:O113)=14,\"\",\"- ohne Titel -\"),Datenerfassung!D123)","v":""},{"$f":"IF(ISBLANK(Datenerfassung!G123),\"\",Datenerfassung!G123)","v":""},"",{"$f":"IF(ISBLANK(Datenerfassung!X123),\"\",Datenerfassung!X123)","v":""},{"$f":"IF(COUNTBLANK(Datenerfassung!H123:'Datenerfassung'!N123)=7,\"\",CONCATENATE( CONCATENATE(IF(ISBLANK(Datenerfassung!H123),\" \",Datenerfassung!H123 ),\" [IS]\"), CONCATENATE(IF(ISBLANK(Datenerfassung!I123),\" \",Datenerfassung!I123 ),\" [IS]\"), CONCATENATE(IF(ISBLANK(Datenerfassung!J123),\" \",Datenerfassung!J123 ),\" [IS]\"), CONCATENATE(IF(ISBLANK(Datenerfassung!K123),\" \",Datenerfassung!K123 ),\" [IS]\"), CONCATENATE(IF(ISBLANK(Datenerfassung!L123),\" \",Datenerfassung!L123 ),\" [IS]\"), CONCATENATE(IF(ISBLANK(Datenerfassung!M123),\" \",Datenerfassung!M123 ),\" [IS]\"), IF(ISBLANK(Datenerfassung!N123),\" \",Datenerfassung!N123 ) ))","v":""},{"$f":"IF(ISBLANK(Datenerfassung!V123),\"\",Datenerfassung!V123)","v":""},{"$f":"IF(ISBLANK(Datenerfassung!Q123),\"\",Datenerfassung!Q123)","v":""}]
[{"$f":"IF(ISBLANK(Datenerfassung!A124),\"\",Datenerfassung!A124)","v":""},{"$f":"IF(ISBLANK(Datenerfassung!B124),\"\",Datenerfassung!B124)","v":""},{"$f":"IF(ISBLANK(Datenerfassung!C124),\"\",Datenerfassung!C124)","v":""},{"$f":"IF(ISBLANK(Datenerfassung!R124),\"\",Datenerfassung!R124)","v":""},{"$f":"IF(ISBLANK(Datenerfassung!S124),\"\",Datenerfassung!S124)","v":""},"",{"$f":"IF(ISBLANK(Datenerfassung!U124),\"\",Datenerfassung!U124)","v":""},{"$f":"IF(ISBLANK(Datenerfassung!O124),\"\",Datenerfassung!O124)","v":""},{"$f":"IF(ISBLANK(Datenerfassung!D124),IF(COUNTBLANK(A114:H114)+COUNTBLANK(J114:O114)=14,\"\",\"- ohne Titel -\"),Datenerfassung!D124)","v":""},{"$f":"IF(ISBLANK(Datenerfassung!G124),\"\",Datenerfassung!G124)","v":""},"",{"$f":"IF(ISBLANK(Datenerfassung!X124),\"\",Datenerfassung!X124)","v":""},{"$f":"IF(COUNTBLANK(Datenerfassung!H124:'Datenerfassung'!N124)=7,\"\",CONCATENATE( CONCATENATE(IF(ISBLANK(Datenerfassung!H124),\" \",Datenerfassung!H124 ),\" [IS]\"), CONCATENATE(IF(ISBLANK(Datenerfassung!I124),\" \",Datenerfassung!I124 ),\" [IS]\"), CONCATENATE(IF(ISBLANK(Datenerfassung!J124),\" \",Datenerfassung!J124 ),\" [IS]\"), CONCATENATE(IF(ISBLANK(Datenerfassung!K124),\" \",Datenerfassung!K124 ),\" [IS]\"), CONCATENATE(IF(ISBLANK(Datenerfassung!L124),\" \",Datenerfassung!L124 ),\" [IS]\"), CONCATENATE(IF(ISBLANK(Datenerfassung!M124),\" \",Datenerfassung!M124 ),\" [IS]\"), IF(ISBLANK(Datenerfassung!N124),\" \",Datenerfassung!N124 ) ))","v":""},{"$f":"IF(ISBLANK(Datenerfassung!V124),\"\",Datenerfassung!V124)","v":""},{"$f":"IF(ISBLANK(Datenerfassung!Q124),\"\",Datenerfassung!Q124)","v":""}]
[{"$f":"IF(ISBLANK(Datenerfassung!A125),\"\",Datenerfassung!A125)","v":""},{"$f":"IF(ISBLANK(Datenerfassung!B125),\"\",Datenerfassung!B125)","v":""},{"$f":"IF(ISBLANK(Datenerfassung!C125),\"\",Datenerfassung!C125)","v":""},{"$f":"IF(ISBLANK(Datenerfassung!R125),\"\",Datenerfassung!R125)","v":""},{"$f":"IF(ISBLANK(Datenerfassung!S125),\"\",Datenerfassung!S125)","v":""},"",{"$f":"IF(ISBLANK(Datenerfassung!U125),\"\",Datenerfassung!U125)","v":""},{"$f":"IF(ISBLANK(Datenerfassung!O125),\"\",Datenerfassung!O125)","v":""},{"$f":"IF(ISBLANK(Datenerfassung!D125),IF(COUNTBLANK(A115:H115)+COUNTBLANK(J115:O115)=14,\"\",\"- ohne Titel -\"),Datenerfassung!D125)","v":""},{"$f":"IF(ISBLANK(Datenerfassung!G125),\"\",Datenerfassung!G125)","v":""},"",{"$f":"IF(ISBLANK(Datenerfassung!X125),\"\",Datenerfassung!X125)","v":""},{"$f":"IF(COUNTBLANK(Datenerfassung!H125:'Datenerfassung'!N125)=7,\"\",CONCATENATE( CONCATENATE(IF(ISBLANK(Datenerfassung!H125),\" \",Datenerfassung!H125 ),\" [IS]\"), CONCATENATE(IF(ISBLANK(Datenerfassung!I125),\" \",Datenerfassung!I125 ),\" [IS]\"), CONCATENATE(IF(ISBLANK(Datenerfassung!J125),\" \",Datenerfassung!J125 ),\" [IS]\"), CONCATENATE(IF(ISBLANK(Datenerfassung!K125),\" \",Datenerfassung!K125 ),\" [IS]\"), CONCATENATE(IF(ISBLANK(Datenerfassung!L125),\" \",Datenerfassung!L125 ),\" [IS]\"), CONCATENATE(IF(ISBLANK(Datenerfassung!M125),\" \",Datenerfassung!M125 ),\" [IS]\"), IF(ISBLANK(Datenerfassung!N125),\" \",Datenerfassung!N125 ) ))","v":""},{"$f":"IF(ISBLANK(Datenerfassung!V125),\"\",Datenerfassung!V125)","v":""},{"$f":"IF(ISBLANK(Datenerfassung!Q125),\"\",Datenerfassung!Q125)","v":""}]
[{"$f":"IF(ISBLANK(Datenerfassung!A126),\"\",Datenerfassung!A126)","v":""},{"$f":"IF(ISBLANK(Datenerfassung!B126),\"\",Datenerfassung!B126)","v":""},{"$f":"IF(ISBLANK(Datenerfassung!C126),\"\",Datenerfassung!C126)","v":""},{"$f":"IF(ISBLANK(Datenerfassung!R126),\"\",Datenerfassung!R126)","v":""},{"$f":"IF(ISBLANK(Datenerfassung!S126),\"\",Datenerfassung!S126)","v":""},"",{"$f":"IF(ISBLANK(Datenerfassung!U126),\"\",Datenerfassung!U126)","v":""},{"$f":"IF(ISBLANK(Datenerfassung!O126),\"\",Datenerfassung!O126)","v":""},{"$f":"IF(ISBLANK(Datenerfassung!D126),IF(COUNTBLANK(A116:H116)+COUNTBLANK(J116:O116)=14,\"\",\"- ohne Titel -\"),Datenerfassung!D126)","v":""},{"$f":"IF(ISBLANK(Datenerfassung!G126),\"\",Datenerfassung!G126)","v":""},"",{"$f":"IF(ISBLANK(Datenerfassung!X126),\"\",Datenerfassung!X126)","v":""},{"$f":"IF(COUNTBLANK(Datenerfassung!H126:'Datenerfassung'!N126)=7,\"\",CONCATENATE( CONCATENATE(IF(ISBLANK(Datenerfassung!H126),\" \",Datenerfassung!H126 ),\" [IS]\"), CONCATENATE(IF(ISBLANK(Datenerfassung!I126),\" \",Datenerfassung!I126 ),\" [IS]\"), CONCATENATE(IF(ISBLANK(Datenerfassung!J126),\" \",Datenerfassung!J126 ),\" [IS]\"), CONCATENATE(IF(ISBLANK(Datenerfassung!K126),\" \",Datenerfassung!K126 ),\" [IS]\"), CONCATENATE(IF(ISBLANK(Datenerfassung!L126),\" \",Datenerfassung!L126 ),\" [IS]\"), CONCATENATE(IF(ISBLANK(Datenerfassung!M126),\" \",Datenerfassung!M126 ),\" [IS]\"), IF(ISBLANK(Datenerfassung!N126),\" \",Datenerfassung!N126 ) ))","v":""},{"$f":"IF(ISBLANK(Datenerfassung!V126),\"\",Datenerfassung!V126)","v":""},{"$f":"IF(ISBLANK(Datenerfassung!Q126),\"\",Datenerfassung!Q126)","v":""}]
[{"$f":"IF(ISBLANK(Datenerfassung!A127),\"\",Datenerfassung!A127)","v":""},{"$f":"IF(ISBLANK(Datenerfassung!B127),\"\",Datenerfassung!B127)","v":""},{"$f":"IF(ISBLANK(Datenerfassung!C127),\"\",Datenerfassung!C127)","v":""},{"$f":"IF(ISBLANK(Datenerfassung!R127),\"\",Datenerfassung!R127)","v":""},{"$f":"IF(ISBLANK(Datenerfassung!S127),\"\",Datenerfassung!S127)","v":""},"",{"$f":"IF(ISBLANK(Datenerfassung!U127),\"\",Datenerfassung!U127)","v":""},{"$f":"IF(ISBLANK(Datenerfassung!O127),\"\",Datenerfassung!O127)","v":""},{"$f":"IF(ISBLANK(Datenerfassung!D127),IF(COUNTBLANK(A117:H117)+COUNTBLANK(J117:O117)=14,\"\",\"- ohne Titel -\"),Datenerfassung!D127)","v":""},{"$f":"IF(ISBLANK(Datenerfassung!G127),\"\",Datenerfassung!G127)","v":""},"",{"$f":"IF(ISBLANK(Datenerfassung!X127),\"\",Datenerfassung!X127)","v":""},{"$f":"IF(COUNTBLANK(Datenerfassung!H127:'Datenerfassung'!N127)=7,\"\",CONCATENATE( CONCATENATE(IF(ISBLANK(Datenerfassung!H127),\" \",Datenerfassung!H127 ),\" [IS]\"), CONCATENATE(IF(ISBLANK(Datenerfassung!I127),\" \",Datenerfassung!I127 ),\" [IS]\"), CONCATENATE(IF(ISBLANK(Datenerfassung!J127),\" \",Datenerfassung!J127 ),\" [IS]\"), CONCATENATE(IF(ISBLANK(Datenerfassung!K127),\" \",Datenerfassung!K127 ),\" [IS]\"), CONCATENATE(IF(ISBLANK(Datenerfassung!L127),\" \",Datenerfassung!L127 ),\" [IS]\"), CONCATENATE(IF(ISBLANK(Datenerfassung!M127),\" \",Datenerfassung!M127 ),\" [IS]\"), IF(ISBLANK(Datenerfassung!N127),\" \",Datenerfassung!N127 ) ))","v":""},{"$f":"IF(ISBLANK(Datenerfassung!V127),\"\",Datenerfassung!V127)","v":""},{"$f":"IF(ISBLANK(Datenerfassung!Q127),\"\",Datenerfassung!Q127)","v":""}]
[{"$f":"IF(ISBLANK(Datenerfassung!A128),\"\",Datenerfassung!A128)","v":""},{"$f":"IF(ISBLANK(Datenerfassung!B128),\"\",Datenerfassung!B128)","v":""},{"$f":"IF(ISBLANK(Datenerfassung!C128),\"\",Datenerfassung!C128)","v":""},{"$f":"IF(ISBLANK(Datenerfassung!R128),\"\",Datenerfassung!R128)","v":""},{"$f":"IF(ISBLANK(Datenerfassung!S128),\"\",Datenerfassung!S128)","v":""},"",{"$f":"IF(ISBLANK(Datenerfassung!U128),\"\",Datenerfassung!U128)","v":""},{"$f":"IF(ISBLANK(Datenerfassung!O128),\"\",Datenerfassung!O128)","v":""},{"$f":"IF(ISBLANK(Datenerfassung!D128),IF(COUNTBLANK(A118:H118)+COUNTBLANK(J118:O118)=14,\"\",\"- ohne Titel -\"),Datenerfassung!D128)","v":""},{"$f":"IF(ISBLANK(Datenerfassung!G128),\"\",Datenerfassung!G128)","v":""},"",{"$f":"IF(ISBLANK(Datenerfassung!X128),\"\",Datenerfassung!X128)","v":""},{"$f":"IF(COUNTBLANK(Datenerfassung!H128:'Datenerfassung'!N128)=7,\"\",CONCATENATE( CONCATENATE(IF(ISBLANK(Datenerfassung!H128),\" \",Datenerfassung!H128 ),\" [IS]\"), CONCATENATE(IF(ISBLANK(Datenerfassung!I128),\" \",Datenerfassung!I128 ),\" [IS]\"), CONCATENATE(IF(ISBLANK(Datenerfassung!J128),\" \",Datenerfassung!J128 ),\" [IS]\"), CONCATENATE(IF(ISBLANK(Datenerfassung!K128),\" \",Datenerfassung!K128 ),\" [IS]\"), CONCATENATE(IF(ISBLANK(Datenerfassung!L128),\" \",Datenerfassung!L128 ),\" [IS]\"), CONCATENATE(IF(ISBLANK(Datenerfassung!M128),\" \",Datenerfassung!M128 ),\" [IS]\"), IF(ISBLANK(Datenerfassung!N128),\" \",Datenerfassung!N128 ) ))","v":""},{"$f":"IF(ISBLANK(Datenerfassung!V128),\"\",Datenerfassung!V128)","v":""},{"$f":"IF(ISBLANK(Datenerfassung!Q128),\"\",Datenerfassung!Q128)","v":""}]
[{"$f":"IF(ISBLANK(Datenerfassung!A129),\"\",Datenerfassung!A129)","v":""},{"$f":"IF(ISBLANK(Datenerfassung!B129),\"\",Datenerfassung!B129)","v":""},{"$f":"IF(ISBLANK(Datenerfassung!C129),\"\",Datenerfassung!C129)","v":""},{"$f":"IF(ISBLANK(Datenerfassung!R129),\"\",Datenerfassung!R129)","v":""},{"$f":"IF(ISBLANK(Datenerfassung!S129),\"\",Datenerfassung!S129)","v":""},"",{"$f":"IF(ISBLANK(Datenerfassung!U129),\"\",Datenerfassung!U129)","v":""},{"$f":"IF(ISBLANK(Datenerfassung!O129),\"\",Datenerfassung!O129)","v":""},{"$f":"IF(ISBLANK(Datenerfassung!D129),IF(COUNTBLANK(A119:H119)+COUNTBLANK(J119:O119)=14,\"\",\"- ohne Titel -\"),Datenerfassung!D129)","v":""},{"$f":"IF(ISBLANK(Datenerfassung!G129),\"\",Datenerfassung!G129)","v":""},"",{"$f":"IF(ISBLANK(Datenerfassung!X129),\"\",Datenerfassung!X129)","v":""},{"$f":"IF(COUNTBLANK(Datenerfassung!H129:'Datenerfassung'!N129)=7,\"\",CONCATENATE( CONCATENATE(IF(ISBLANK(Datenerfassung!H129),\" \",Datenerfassung!H129 ),\" [IS]\"), CONCATENATE(IF(ISBLANK(Datenerfassung!I129),\" \",Datenerfassung!I129 ),\" [IS]\"), CONCATENATE(IF(ISBLANK(Datenerfassung!J129),\" \",Datenerfassung!J129 ),\" [IS]\"), CONCATENATE(IF(ISBLANK(Datenerfassung!K129),\" \",Datenerfassung!K129 ),\" [IS]\"), CONCATENATE(IF(ISBLANK(Datenerfassung!L129),\" \",Datenerfassung!L129 ),\" [IS]\"), CONCATENATE(IF(ISBLANK(Datenerfassung!M129),\" \",Datenerfassung!M129 ),\" [IS]\"), IF(ISBLANK(Datenerfassung!N129),\" \",Datenerfassung!N129 ) ))","v":""},{"$f":"IF(ISBLANK(Datenerfassung!V129),\"\",Datenerfassung!V129)","v":""},{"$f":"IF(ISBLANK(Datenerfassung!Q129),\"\",Datenerfassung!Q129)","v":""}]
[{"$f":"IF(ISBLANK(Datenerfassung!A130),\"\",Datenerfassung!A130)","v":""},{"$f":"IF(ISBLANK(Datenerfassung!B130),\"\",Datenerfassung!B130)","v":""},{"$f":"IF(ISBLANK(Datenerfassung!C130),\"\",Datenerfassung!C130)","v":""},{"$f":"IF(ISBLANK(Datenerfassung!R130),\"\",Datenerfassung!R130)","v":""},{"$f":"IF(ISBLANK(Datenerfassung!S130),\"\",Datenerfassung!S130)","v":""},"",{"$f":"IF(ISBLANK(Datenerfassung!U130),\"\",Datenerfassung!U130)","v":""},{"$f":"IF(ISBLANK(Datenerfassung!O130),\"\",Datenerfassung!O130)","v":""},{"$f":"IF(ISBLANK(Datenerfassung!D130),IF(COUNTBLANK(A120:H120)+COUNTBLANK(J120:O120)=14,\"\",\"- ohne Titel -\"),Datenerfassung!D130)","v":""},{"$f":"IF(ISBLANK(Datenerfassung!G130),\"\",Datenerfassung!G130)","v":""},"",{"$f":"IF(ISBLANK(Datenerfassung!X130),\"\",Datenerfassung!X130)","v":""},{"$f":"IF(COUNTBLANK(Datenerfassung!H130:'Datenerfassung'!N130)=7,\"\",CONCATENATE( CONCATENATE(IF(ISBLANK(Datenerfassung!H130),\" \",Datenerfassung!H130 ),\" [IS]\"), CONCATENATE(IF(ISBLANK(Datenerfassung!I130),\" \",Datenerfassung!I130 ),\" [IS]\"), CONCATENATE(IF(ISBLANK(Datenerfassung!J130),\" \",Datenerfassung!J130 ),\" [IS]\"), CONCATENATE(IF(ISBLANK(Datenerfassung!K130),\" \",Datenerfassung!K130 ),\" [IS]\"), CONCATENATE(IF(ISBLANK(Datenerfassung!L130),\" \",Datenerfassung!L130 ),\" [IS]\"), CONCATENATE(IF(ISBLANK(Datenerfassung!M130),\" \",Datenerfassung!M130 ),\" [IS]\"), IF(ISBLANK(Datenerfassung!N130),\" \",Datenerfassung!N130 ) ))","v":""},{"$f":"IF(ISBLANK(Datenerfassung!V130),\"\",Datenerfassung!V130)","v":""},{"$f":"IF(ISBLANK(Datenerfassung!Q130),\"\",Datenerfassung!Q130)","v":""}]
[{"$f":"IF(ISBLANK(Datenerfassung!A131),\"\",Datenerfassung!A131)","v":""},{"$f":"IF(ISBLANK(Datenerfassung!B131),\"\",Datenerfassung!B131)","v":""},{"$f":"IF(ISBLANK(Datenerfassung!C131),\"\",Datenerfassung!C131)","v":""},{"$f":"IF(ISBLANK(Datenerfassung!R131),\"\",Datenerfassung!R131)","v":""},{"$f":"IF(ISBLANK(Datenerfassung!S131),\"\",Datenerfassung!S131)","v":""},"",{"$f":"IF(ISBLANK(Datenerfassung!U131),\"\",Datenerfassung!U131)","v":""},{"$f":"IF(ISBLANK(Datenerfassung!O131),\"\",Datenerfassung!O131)","v":""},{"$f":"IF(ISBLANK(Datenerfassung!D131),IF(COUNTBLANK(A121:H121)+COUNTBLANK(J121:O121)=14,\"\",\"- ohne Titel -\"),Datenerfassung!D131)","v":""},{"$f":"IF(ISBLANK(Datenerfassung!G131),\"\",Datenerfassung!G131)","v":""},"",{"$f":"IF(ISBLANK(Datenerfassung!X131),\"\",Datenerfassung!X131)","v":""},{"$f":"IF(COUNTBLANK(Datenerfassung!H131:'Datenerfassung'!N131)=7,\"\",CONCATENATE( CONCATENATE(IF(ISBLANK(Datenerfassung!H131),\" \",Datenerfassung!H131 ),\" [IS]\"), CONCATENATE(IF(ISBLANK(Datenerfassung!I131),\" \",Datenerfassung!I131 ),\" [IS]\"), CONCATENATE(IF(ISBLANK(Datenerfassung!J131),\" \",Datenerfassung!J131 ),\" [IS]\"), CONCATENATE(IF(ISBLANK(Datenerfassung!K131),\" \",Datenerfassung!K131 ),\" [IS]\"), CONCATENATE(IF(ISBLANK(Datenerfassung!L131),\" \",Datenerfassung!L131 ),\" [IS]\"), CONCATENATE(IF(ISBLANK(Datenerfassung!M131),\" \",Datenerfassung!M131 ),\" [IS]\"), IF(ISBLANK(Datenerfassung!N131),\" \",Datenerfassung!N131 ) ))","v":""},{"$f":"IF(ISBLANK(Datenerfassung!V131),\"\",Datenerfassung!V131)","v":""},{"$f":"IF(ISBLANK(Datenerfassung!Q131),\"\",Datenerfassung!Q131)","v":""}]
[{"$f":"IF(ISBLANK(Datenerfassung!A132),\"\",Datenerfassung!A132)","v":""},{"$f":"IF(ISBLANK(Datenerfassung!B132),\"\",Datenerfassung!B132)","v":""},{"$f":"IF(ISBLANK(Datenerfassung!C132),\"\",Datenerfassung!C132)","v":""},{"$f":"IF(ISBLANK(Datenerfassung!R132),\"\",Datenerfassung!R132)","v":""},{"$f":"IF(ISBLANK(Datenerfassung!S132),\"\",Datenerfassung!S132)","v":""},"",{"$f":"IF(ISBLANK(Datenerfassung!U132),\"\",Datenerfassung!U132)","v":""},{"$f":"IF(ISBLANK(Datenerfassung!O132),\"\",Datenerfassung!O132)","v":""},{"$f":"IF(ISBLANK(Datenerfassung!D132),IF(COUNTBLANK(A122:H122)+COUNTBLANK(J122:O122)=14,\"\",\"- ohne Titel -\"),Datenerfassung!D132)","v":""},{"$f":"IF(ISBLANK(Datenerfassung!G132),\"\",Datenerfassung!G132)","v":""},"",{"$f":"IF(ISBLANK(Datenerfassung!X132),\"\",Datenerfassung!X132)","v":""},{"$f":"IF(COUNTBLANK(Datenerfassung!H132:'Datenerfassung'!N132)=7,\"\",CONCATENATE( CONCATENATE(IF(ISBLANK(Datenerfassung!H132),\" \",Datenerfassung!H132 ),\" [IS]\"), CONCATENATE(IF(ISBLANK(Datenerfassung!I132),\" \",Datenerfassung!I132 ),\" [IS]\"), CONCATENATE(IF(ISBLANK(Datenerfassung!J132),\" \",Datenerfassung!J132 ),\" [IS]\"), CONCATENATE(IF(ISBLANK(Datenerfassung!K132),\" \",Datenerfassung!K132 ),\" [IS]\"), CONCATENATE(IF(ISBLANK(Datenerfassung!L132),\" \",Datenerfassung!L132 ),\" [IS]\"), CONCATENATE(IF(ISBLANK(Datenerfassung!M132),\" \",Datenerfassung!M132 ),\" [IS]\"), IF(ISBLANK(Datenerfassung!N132),\" \",Datenerfassung!N132 ) ))","v":""},{"$f":"IF(ISBLANK(Datenerfassung!V132),\"\",Datenerfassung!V132)","v":""},{"$f":"IF(ISBLANK(Datenerfassung!Q132),\"\",Datenerfassung!Q132)","v":""}]
[{"$f":"IF(ISBLANK(Datenerfassung!A133),\"\",Datenerfassung!A133)","v":""},{"$f":"IF(ISBLANK(Datenerfassung!B133),\"\",Datenerfassung!B133)","v":""},{"$f":"IF(ISBLANK(Datenerfassung!C133),\"\",Datenerfassung!C133)","v":""},{"$f":"IF(ISBLANK(Datenerfassung!R133),\"\",Datenerfassung!R133)","v":""},{"$f":"IF(ISBLANK(Datenerfassung!S133),\"\",Datenerfassung!S133)","v":""},"",{"$f":"IF(ISBLANK(Datenerfassung!U133),\"\",Datenerfassung!U133)","v":""},{"$f":"IF(ISBLANK(Datenerfassung!O133),\"\",Datenerfassung!O133)","v":""},{"$f":"IF(ISBLANK(Datenerfassung!D133),IF(COUNTBLANK(A123:H123)+COUNTBLANK(J123:O123)=14,\"\",\"- ohne Titel -\"),Datenerfassung!D133)","v":""},{"$f":"IF(ISBLANK(Datenerfassung!G133),\"\",Datenerfassung!G133)","v":""},"",{"$f":"IF(ISBLANK(Datenerfassung!X133),\"\",Datenerfassung!X133)","v":""},{"$f":"IF(COUNTBLANK(Datenerfassung!H133:'Datenerfassung'!N133)=7,\"\",CONCATENATE( CONCATENATE(IF(ISBLANK(Datenerfassung!H133),\" \",Datenerfassung!H133 ),\" [IS]\"), CONCATENATE(IF(ISBLANK(Datenerfassung!I133),\" \",Datenerfassung!I133 ),\" [IS]\"), CONCATENATE(IF(ISBLANK(Datenerfassung!J133),\" \",Datenerfassung!J133 ),\" [IS]\"), CONCATENATE(IF(ISBLANK(Datenerfassung!K133),\" \",Datenerfassung!K133 ),\" [IS]\"), CONCATENATE(IF(ISBLANK(Datenerfassung!L133),\" \",Datenerfassung!L133 ),\" [IS]\"), CONCATENATE(IF(ISBLANK(Datenerfassung!M133),\" \",Datenerfassung!M133 ),\" [IS]\"), IF(ISBLANK(Datenerfassung!N133),\" \",Datenerfassung!N133 ) ))","v":""},{"$f":"IF(ISBLANK(Datenerfassung!V133),\"\",Datenerfassung!V133)","v":""},{"$f":"IF(ISBLANK(Datenerfassung!Q133),\"\",Datenerfassung!Q133)","v":""}]
[{"$f":"IF(ISBLANK(Datenerfassung!A134),\"\",Datenerfassung!A134)","v":""},{"$f":"IF(ISBLANK(Datenerfassung!B134),\"\",Datenerfassung!B134)","v":""},{"$f":"IF(ISBLANK(Datenerfassung!C134),\"\",Datenerfassung!C134)","v":""},{"$f":"IF(ISBLANK(Datenerfassung!R134),\"\",Datenerfassung!R134)","v":""},{"$f":"IF(ISBLANK(Datenerfassung!S134),\"\",Datenerfassung!S134)","v":""},"",{"$f":"IF(ISBLANK(Datenerfassung!U134),\"\",Datenerfassung!U134)","v":""},{"$f":"IF(ISBLANK(Datenerfassung!O134),\"\",Datenerfassung!O134)","v":""},{"$f":"IF(ISBLANK(Datenerfassung!D134),IF(COUNTBLANK(A124:H124)+COUNTBLANK(J124:O124)=14,\"\",\"- ohne Titel -\"),Datenerfassung!D134)","v":""},{"$f":"IF(ISBLANK(Datenerfassung!G134),\"\",Datenerfassung!G134)","v":""},"",{"$f":"IF(ISBLANK(Datenerfassung!X134),\"\",Datenerfassung!X134)","v":""},{"$f":"IF(COUNTBLANK(Datenerfassung!H134:'Datenerfassung'!N134)=7,\"\",CONCATENATE( CONCATENATE(IF(ISBLANK(Datenerfassung!H134),\" \",Datenerfassung!H134 ),\" [IS]\"), CONCATENATE(IF(ISBLANK(Datenerfassung!I134),\" \",Datenerfassung!I134 ),\" [IS]\"), CONCATENATE(IF(ISBLANK(Datenerfassung!J134),\" \",Datenerfassung!J134 ),\" [IS]\"), CONCATENATE(IF(ISBLANK(Datenerfassung!K134),\" \",Datenerfassung!K134 ),\" [IS]\"), CONCATENATE(IF(ISBLANK(Datenerfassung!L134),\" \",Datenerfassung!L134 ),\" [IS]\"), CONCATENATE(IF(ISBLANK(Datenerfassung!M134),\" \",Datenerfassung!M134 ),\" [IS]\"), IF(ISBLANK(Datenerfassung!N134),\" \",Datenerfassung!N134 ) ))","v":""},{"$f":"IF(ISBLANK(Datenerfassung!V134),\"\",Datenerfassung!V134)","v":""},{"$f":"IF(ISBLANK(Datenerfassung!Q134),\"\",Datenerfassung!Q134)","v":""}]
[{"$f":"IF(ISBLANK(Datenerfassung!A135),\"\",Datenerfassung!A135)","v":""},{"$f":"IF(ISBLANK(Datenerfassung!B135),\"\",Datenerfassung!B135)","v":""},{"$f":"IF(ISBLANK(Datenerfassung!C135),\"\",Datenerfassung!C135)","v":""},{"$f":"IF(ISBLANK(Datenerfassung!R135),\"\",Datenerfassung!R135)","v":""},{"$f":"IF(ISBLANK(Datenerfassung!S135),\"\",Datenerfassung!S135)","v":""},"",{"$f":"IF(ISBLANK(Datenerfassung!U135),\"\",Datenerfassung!U135)","v":""},{"$f":"IF(ISBLANK(Datenerfassung!O135),\"\",Datenerfassung!O135)","v":""},{"$f":"IF(ISBLANK(Datenerfassung!D135),IF(COUNTBLANK(A125:H125)+COUNTBLANK(J125:O125)=14,\"\",\"- ohne Titel -\"),Datenerfassung!D135)","v":""},{"$f":"IF(ISBLANK(Datenerfassung!G135),\"\",Datenerfassung!G135)","v":""},"",{"$f":"IF(ISBLANK(Datenerfassung!X135),\"\",Datenerfassung!X135)","v":""},{"$f":"IF(COUNTBLANK(Datenerfassung!H135:'Datenerfassung'!N135)=7,\"\",CONCATENATE( CONCATENATE(IF(ISBLANK(Datenerfassung!H135),\" \",Datenerfassung!H135 ),\" [IS]\"), CONCATENATE(IF(ISBLANK(Datenerfassung!I135),\" \",Datenerfassung!I135 ),\" [IS]\"), CONCATENATE(IF(ISBLANK(Datenerfassung!J135),\" \",Datenerfassung!J135 ),\" [IS]\"), CONCATENATE(IF(ISBLANK(Datenerfassung!K135),\" \",Datenerfassung!K135 ),\" [IS]\"), CONCATENATE(IF(ISBLANK(Datenerfassung!L135),\" \",Datenerfassung!L135 ),\" [IS]\"), CONCATENATE(IF(ISBLANK(Datenerfassung!M135),\" \",Datenerfassung!M135 ),\" [IS]\"), IF(ISBLANK(Datenerfassung!N135),\" \",Datenerfassung!N135 ) ))","v":""},{"$f":"IF(ISBLANK(Datenerfassung!V135),\"\",Datenerfassung!V135)","v":""},{"$f":"IF(ISBLANK(Datenerfassung!Q135),\"\",Datenerfassung!Q135)","v":""}]
[{"$f":"IF(ISBLANK(Datenerfassung!A136),\"\",Datenerfassung!A136)","v":""},{"$f":"IF(ISBLANK(Datenerfassung!B136),\"\",Datenerfassung!B136)","v":""},{"$f":"IF(ISBLANK(Datenerfassung!C136),\"\",Datenerfassung!C136)","v":""},{"$f":"IF(ISBLANK(Datenerfassung!R136),\"\",Datenerfassung!R136)","v":""},{"$f":"IF(ISBLANK(Datenerfassung!S136),\"\",Datenerfassung!S136)","v":""},"",{"$f":"IF(ISBLANK(Datenerfassung!U136),\"\",Datenerfassung!U136)","v":""},{"$f":"IF(ISBLANK(Datenerfassung!O136),\"\",Datenerfassung!O136)","v":""},{"$f":"IF(ISBLANK(Datenerfassung!D136),IF(COUNTBLANK(A126:H126)+COUNTBLANK(J126:O126)=14,\"\",\"- ohne Titel -\"),Datenerfassung!D136)","v":""},{"$f":"IF(ISBLANK(Datenerfassung!G136),\"\",Datenerfassung!G136)","v":""},"",{"$f":"IF(ISBLANK(Datenerfassung!X136),\"\",Datenerfassung!X136)","v":""},{"$f":"IF(COUNTBLANK(Datenerfassung!H136:'Datenerfassung'!N136)=7,\"\",CONCATENATE( CONCATENATE(IF(ISBLANK(Datenerfassung!H136),\" \",Datenerfassung!H136 ),\" [IS]\"), CONCATENATE(IF(ISBLANK(Datenerfassung!I136),\" \",Datenerfassung!I136 ),\" [IS]\"), CONCATENATE(IF(ISBLANK(Datenerfassung!J136),\" \",Datenerfassung!J136 ),\" [IS]\"), CONCATENATE(IF(ISBLANK(Datenerfassung!K136),\" \",Datenerfassung!K136 ),\" [IS]\"), CONCATENATE(IF(ISBLANK(Datenerfassung!L136),\" \",Datenerfassung!L136 ),\" [IS]\"), CONCATENATE(IF(ISBLANK(Datenerfassung!M136),\" \",Datenerfassung!M136 ),\" [IS]\"), IF(ISBLANK(Datenerfassung!N136),\" \",Datenerfassung!N136 ) ))","v":""},{"$f":"IF(ISBLANK(Datenerfassung!V136),\"\",Datenerfassung!V136)","v":""},{"$f":"IF(ISBLANK(Datenerfassung!Q136),\"\",Datenerfassung!Q136)","v":""}]
[{"$f":"IF(ISBLANK(Datenerfassung!A137),\"\",Datenerfassung!A137)","v":""},{"$f":"IF(ISBLANK(Datenerfassung!B137),\"\",Datenerfassung!B137)","v":""},{"$f":"IF(ISBLANK(Datenerfassung!C137),\"\",Datenerfassung!C137)","v":""},{"$f":"IF(ISBLANK(Datenerfassung!R137),\"\",Datenerfassung!R137)","v":""},{"$f":"IF(ISBLANK(Datenerfassung!S137),\"\",Datenerfassung!S137)","v":""},"",{"$f":"IF(ISBLANK(Datenerfassung!U137),\"\",Datenerfassung!U137)","v":""},{"$f":"IF(ISBLANK(Datenerfassung!O137),\"\",Datenerfassung!O137)","v":""},{"$f":"IF(ISBLANK(Datenerfassung!D137),IF(COUNTBLANK(A127:H127)+COUNTBLANK(J127:O127)=14,\"\",\"- ohne Titel -\"),Datenerfassung!D137)","v":""},{"$f":"IF(ISBLANK(Datenerfassung!G137),\"\",Datenerfassung!G137)","v":""},"",{"$f":"IF(ISBLANK(Datenerfassung!X137),\"\",Datenerfassung!X137)","v":""},{"$f":"IF(COUNTBLANK(Datenerfassung!H137:'Datenerfassung'!N137)=7,\"\",CONCATENATE( CONCATENATE(IF(ISBLANK(Datenerfassung!H137),\" \",Datenerfassung!H137 ),\" [IS]\"), CONCATENATE(IF(ISBLANK(Datenerfassung!I137),\" \",Datenerfassung!I137 ),\" [IS]\"), CONCATENATE(IF(ISBLANK(Datenerfassung!J137),\" \",Datenerfassung!J137 ),\" [IS]\"), CONCATENATE(IF(ISBLANK(Datenerfassung!K137),\" \",Datenerfassung!K137 ),\" [IS]\"), CONCATENATE(IF(ISBLANK(Datenerfassung!L137),\" \",Datenerfassung!L137 ),\" [IS]\"), CONCATENATE(IF(ISBLANK(Datenerfassung!M137),\" \",Datenerfassung!M137 ),\" [IS]\"), IF(ISBLANK(Datenerfassung!N137),\" \",Datenerfassung!N137 ) ))","v":""},{"$f":"IF(ISBLANK(Datenerfassung!V137),\"\",Datenerfassung!V137)","v":""},{"$f":"IF(ISBLANK(Datenerfassung!Q137),\"\",Datenerfassung!Q137)","v":""}]
[{"$f":"IF(ISBLANK(Datenerfassung!A138),\"\",Datenerfassung!A138)","v":""},{"$f":"IF(ISBLANK(Datenerfassung!B138),\"\",Datenerfassung!B138)","v":""},{"$f":"IF(ISBLANK(Datenerfassung!C138),\"\",Datenerfassung!C138)","v":""},{"$f":"IF(ISBLANK(Datenerfassung!R138),\"\",Datenerfassung!R138)","v":""},{"$f":"IF(ISBLANK(Datenerfassung!S138),\"\",Datenerfassung!S138)","v":""},"",{"$f":"IF(ISBLANK(Datenerfassung!U138),\"\",Datenerfassung!U138)","v":""},{"$f":"IF(ISBLANK(Datenerfassung!O138),\"\",Datenerfassung!O138)","v":""},{"$f":"IF(ISBLANK(Datenerfassung!D138),IF(COUNTBLANK(A128:H128)+COUNTBLANK(J128:O128)=14,\"\",\"- ohne Titel -\"),Datenerfassung!D138)","v":""},{"$f":"IF(ISBLANK(Datenerfassung!G138),\"\",Datenerfassung!G138)","v":""},"",{"$f":"IF(ISBLANK(Datenerfassung!X138),\"\",Datenerfassung!X138)","v":""},{"$f":"IF(COUNTBLANK(Datenerfassung!H138:'Datenerfassung'!N138)=7,\"\",CONCATENATE( CONCATENATE(IF(ISBLANK(Datenerfassung!H138),\" \",Datenerfassung!H138 ),\" [IS]\"), CONCATENATE(IF(ISBLANK(Datenerfassung!I138),\" \",Datenerfassung!I138 ),\" [IS]\"), CONCATENATE(IF(ISBLANK(Datenerfassung!J138),\" \",Datenerfassung!J138 ),\" [IS]\"), CONCATENATE(IF(ISBLANK(Datenerfassung!K138),\" \",Datenerfassung!K138 ),\" [IS]\"), CONCATENATE(IF(ISBLANK(Datenerfassung!L138),\" \",Datenerfassung!L138 ),\" [IS]\"), CONCATENATE(IF(ISBLANK(Datenerfassung!M138),\" \",Datenerfassung!M138 ),\" [IS]\"), IF(ISBLANK(Datenerfassung!N138),\" \",Datenerfassung!N138 ) ))","v":""},{"$f":"IF(ISBLANK(Datenerfassung!V138),\"\",Datenerfassung!V138)","v":""},{"$f":"IF(ISBLANK(Datenerfassung!Q138),\"\",Datenerfassung!Q138)","v":""}]
[{"$f":"IF(ISBLANK(Datenerfassung!A139),\"\",Datenerfassung!A139)","v":""},{"$f":"IF(ISBLANK(Datenerfassung!B139),\"\",Datenerfassung!B139)","v":""},{"$f":"IF(ISBLANK(Datenerfassung!C139),\"\",Datenerfassung!C139)","v":""},{"$f":"IF(ISBLANK(Datenerfassung!R139),\"\",Datenerfassung!R139)","v":""},{"$f":"IF(ISBLANK(Datenerfassung!S139),\"\",Datenerfassung!S139)","v":""},"",{"$f":"IF(ISBLANK(Datenerfassung!U139),\"\",Datenerfassung!U139)","v":""},{"$f":"IF(ISBLANK(Datenerfassung!O139),\"\",Datenerfassung!O139)","v":""},{"$f":"IF(ISBLANK(Datenerfassung!D139),IF(COUNTBLANK(A129:H129)+COUNTBLANK(J129:O129)=14,\"\",\"- ohne Titel -\"),Datenerfassung!D139)","v":""},{"$f":"IF(ISBLANK(Datenerfassung!G139),\"\",Datenerfassung!G139)","v":""},"",{"$f":"IF(ISBLANK(Datenerfassung!X139),\"\",Datenerfassung!X139)","v":""},{"$f":"IF(COUNTBLANK(Datenerfassung!H139:'Datenerfassung'!N139)=7,\"\",CONCATENATE( CONCATENATE(IF(ISBLANK(Datenerfassung!H139),\" \",Datenerfassung!H139 ),\" [IS]\"), CONCATENATE(IF(ISBLANK(Datenerfassung!I139),\" \",Datenerfassung!I139 ),\" [IS]\"), CONCATENATE(IF(ISBLANK(Datenerfassung!J139),\" \",Datenerfassung!J139 ),\" [IS]\"), CONCATENATE(IF(ISBLANK(Datenerfassung!K139),\" \",Datenerfassung!K139 ),\" [IS]\"), CONCATENATE(IF(ISBLANK(Datenerfassung!L139),\" \",Datenerfassung!L139 ),\" [IS]\"), CONCATENATE(IF(ISBLANK(Datenerfassung!M139),\" \",Datenerfassung!M139 ),\" [IS]\"), IF(ISBLANK(Datenerfassung!N139),\" \",Datenerfassung!N139 ) ))","v":""},{"$f":"IF(ISBLANK(Datenerfassung!V139),\"\",Datenerfassung!V139)","v":""},{"$f":"IF(ISBLANK(Datenerfassung!Q139),\"\",Datenerfassung!Q139)","v":""}]
[{"$f":"IF(ISBLANK(Datenerfassung!A140),\"\",Datenerfassung!A140)","v":""},{"$f":"IF(ISBLANK(Datenerfassung!B140),\"\",Datenerfassung!B140)","v":""},{"$f":"IF(ISBLANK(Datenerfassung!C140),\"\",Datenerfassung!C140)","v":""},{"$f":"IF(ISBLANK(Datenerfassung!R140),\"\",Datenerfassung!R140)","v":""},{"$f":"IF(ISBLANK(Datenerfassung!S140),\"\",Datenerfassung!S140)","v":""},"",{"$f":"IF(ISBLANK(Datenerfassung!U140),\"\",Datenerfassung!U140)","v":""},{"$f":"IF(ISBLANK(Datenerfassung!O140),\"\",Datenerfassung!O140)","v":""},{"$f":"IF(ISBLANK(Datenerfassung!D140),IF(COUNTBLANK(A130:H130)+COUNTBLANK(J130:O130)=14,\"\",\"- ohne Titel -\"),Datenerfassung!D140)","v":""},{"$f":"IF(ISBLANK(Datenerfassung!G140),\"\",Datenerfassung!G140)","v":""},"",{"$f":"IF(ISBLANK(Datenerfassung!X140),\"\",Datenerfassung!X140)","v":""},{"$f":"IF(COUNTBLANK(Datenerfassung!H140:'Datenerfassung'!N140)=7,\"\",CONCATENATE( CONCATENATE(IF(ISBLANK(Datenerfassung!H140),\" \",Datenerfassung!H140 ),\" [IS]\"), CONCATENATE(IF(ISBLANK(Datenerfassung!I140),\" \",Datenerfassung!I140 ),\" [IS]\"), CONCATENATE(IF(ISBLANK(Datenerfassung!J140),\" \",Datenerfassung!J140 ),\" [IS]\"), CONCATENATE(IF(ISBLANK(Datenerfassung!K140),\" \",Datenerfassung!K140 ),\" [IS]\"), CONCATENATE(IF(ISBLANK(Datenerfassung!L140),\" \",Datenerfassung!L140 ),\" [IS]\"), CONCATENATE(IF(ISBLANK(Datenerfassung!M140),\" \",Datenerfassung!M140 ),\" [IS]\"), IF(ISBLANK(Datenerfassung!N140),\" \",Datenerfassung!N140 ) ))","v":""},{"$f":"IF(ISBLANK(Datenerfassung!V140),\"\",Datenerfassung!V140)","v":""},{"$f":"IF(ISBLANK(Datenerfassung!Q140),\"\",Datenerfassung!Q140)","v":""}]
[{"$f":"IF(ISBLANK(Datenerfassung!A141),\"\",Datenerfassung!A141)","v":""},{"$f":"IF(ISBLANK(Datenerfassung!B141),\"\",Datenerfassung!B141)","v":""},{"$f":"IF(ISBLANK(Datenerfassung!C141),\"\",Datenerfassung!C141)","v":""},{"$f":"IF(ISBLANK(Datenerfassung!R141),\"\",Datenerfassung!R141)","v":""},{"$f":"IF(ISBLANK(Datenerfassung!S141),\"\",Datenerfassung!S141)","v":""},{"$f":"IF(D131=\"\",\"\",IF(E131=\"\",D131,D131&\" - \"&E131))","v":""},{"$f":"IF(ISBLANK(Datenerfassung!U141),\"\",Datenerfassung!U141)","v":""},{"$f":"IF(ISBLANK(Datenerfassung!O141),\"\",Datenerfassung!O141)","v":""},{"$f":"IF(ISBLANK(Datenerfassung!D141),IF(COUNTBLANK(A131:H131)+COUNTBLANK(J131:O131)=14,\"\",\"- ohne Titel -\"),Datenerfassung!D141)","v":""},{"$f":"IF(ISBLANK(Datenerfassung!G141),\"\",Datenerfassung!G141)","v":""},{"$f":"IF(OR(E131=\"\",G131=\"\"),\"\",\"01.01.\"&RIGHT(E131,4)+G131+1)","v":""},{"$f":"IF(ISBLANK(Datenerfassung!X141),\"\",Datenerfassung!X141)","v":""},{"$f":"IF(COUNTBLANK(Datenerfassung!H141:'Datenerfassung'!N141)=7,\"\",CONCATENATE( CONCATENATE(IF(ISBLANK(Datenerfassung!H141),\" \",Datenerfassung!H141 ),\" [IS]\"), CONCATENATE(IF(ISBLANK(Datenerfassung!I141),\" \",Datenerfassung!I141 ),\" [IS]\"), CONCATENATE(IF(ISBLANK(Datenerfassung!J141),\" \",Datenerfassung!J141 ),\" [IS]\"), CONCATENATE(IF(ISBLANK(Datenerfassung!K141),\" \",Datenerfassung!K141 ),\" [IS]\"), CONCATENATE(IF(ISBLANK(Datenerfassung!L141),\" \",Datenerfassung!L141 ),\" [IS]\"), CONCATENATE(IF(ISBLANK(Datenerfassung!M141),\" \",Datenerfassung!M141 ),\" [IS]\"), IF(ISBLANK(Datenerfassung!N141),\" \",Datenerfassung!N141 ) ))","v":""},{"$f":"IF(ISBLANK(Datenerfassung!V141),\"\",Datenerfassung!V141)","v":""},{"$f":"IF(ISBLANK(Datenerfassung!Q141),\"\",Datenerfassung!Q141)","v":""}]
[{"$f":"IF(ISBLANK(Datenerfassung!A142),\"\",Datenerfassung!A142)","v":""},{"$f":"IF(ISBLANK(Datenerfassung!B142),\"\",Datenerfassung!B142)","v":""},{"$f":"IF(ISBLANK(Datenerfassung!C142),\"\",Datenerfassung!C142)","v":""},{"$f":"IF(ISBLANK(Datenerfassung!R142),\"\",Datenerfassung!R142)","v":""},{"$f":"IF(ISBLANK(Datenerfassung!S142),\"\",Datenerfassung!S142)","v":""},"",{"$f":"IF(ISBLANK(Datenerfassung!U142),\"\",Datenerfassung!U142)","v":""},{"$f":"IF(ISBLANK(Datenerfassung!O142),\"\",Datenerfassung!O142)","v":""},{"$f":"IF(ISBLANK(Datenerfassung!D142),IF(COUNTBLANK(A132:H132)+COUNTBLANK(J132:O132)=14,\"\",\"- ohne Titel -\"),Datenerfassung!D142)","v":""},{"$f":"IF(ISBLANK(Datenerfassung!G142),\"\",Datenerfassung!G142)","v":""},"",{"$f":"IF(ISBLANK(Datenerfassung!X142),\"\",Datenerfassung!X142)","v":""},{"$f":"IF(COUNTBLANK(Datenerfassung!H142:'Datenerfassung'!N142)=7,\"\",CONCATENATE( CONCATENATE(IF(ISBLANK(Datenerfassung!H142),\" \",Datenerfassung!H142 ),\" [IS]\"), CONCATENATE(IF(ISBLANK(Datenerfassung!I142),\" \",Datenerfassung!I142 ),\" [IS]\"), CONCATENATE(IF(ISBLANK(Datenerfassung!J142),\" \",Datenerfassung!J142 ),\" [IS]\"), CONCATENATE(IF(ISBLANK(Datenerfassung!K142),\" \",Datenerfassung!K142 ),\" [IS]\"), CONCATENATE(IF(ISBLANK(Datenerfassung!L142),\" \",Datenerfassung!L142 ),\" [IS]\"), CONCATENATE(IF(ISBLANK(Datenerfassung!M142),\" \",Datenerfassung!M142 ),\" [IS]\"), IF(ISBLANK(Datenerfassung!N142),\" \",Datenerfassung!N142 ) ))","v":""},{"$f":"IF(ISBLANK(Datenerfassung!V142),\"\",Datenerfassung!V142)","v":""},{"$f":"IF(ISBLANK(Datenerfassung!Q142),\"\",Datenerfassung!Q142)","v":""}]
[{"$f":"IF(ISBLANK(Datenerfassung!A143),\"\",Datenerfassung!A143)","v":""},{"$f":"IF(ISBLANK(Datenerfassung!B143),\"\",Datenerfassung!B143)","v":""},{"$f":"IF(ISBLANK(Datenerfassung!C143),\"\",Datenerfassung!C143)","v":""},{"$f":"IF(ISBLANK(Datenerfassung!R143),\"\",Datenerfassung!R143)","v":""},{"$f":"IF(ISBLANK(Datenerfassung!S143),\"\",Datenerfassung!S143)","v":""},"",{"$f":"IF(ISBLANK(Datenerfassung!U143),\"\",Datenerfassung!U143)","v":""},{"$f":"IF(ISBLANK(Datenerfassung!O143),\"\",Datenerfassung!O143)","v":""},{"$f":"IF(ISBLANK(Datenerfassung!D143),IF(COUNTBLANK(A133:H133)+COUNTBLANK(J133:O133)=14,\"\",\"- ohne Titel -\"),Datenerfassung!D143)","v":""},{"$f":"IF(ISBLANK(Datenerfassung!G143),\"\",Datenerfassung!G143)","v":""},"",{"$f":"IF(ISBLANK(Datenerfassung!X143),\"\",Datenerfassung!X143)","v":""},{"$f":"IF(COUNTBLANK(Datenerfassung!H143:'Datenerfassung'!N143)=7,\"\",CONCATENATE( CONCATENATE(IF(ISBLANK(Datenerfassung!H143),\" \",Datenerfassung!H143 ),\" [IS]\"), CONCATENATE(IF(ISBLANK(Datenerfassung!I143),\" \",Datenerfassung!I143 ),\" [IS]\"), CONCATENATE(IF(ISBLANK(Datenerfassung!J143),\" \",Datenerfassung!J143 ),\" [IS]\"), CONCATENATE(IF(ISBLANK(Datenerfassung!K143),\" \",Datenerfassung!K143 ),\" [IS]\"), CONCATENATE(IF(ISBLANK(Datenerfassung!L143),\" \",Datenerfassung!L143 ),\" [IS]\"), CONCATENATE(IF(ISBLANK(Datenerfassung!M143),\" \",Datenerfassung!M143 ),\" [IS]\"), IF(ISBLANK(Datenerfassung!N143),\" \",Datenerfassung!N143 ) ))","v":""},{"$f":"IF(ISBLANK(Datenerfassung!V143),\"\",Datenerfassung!V143)","v":""},{"$f":"IF(ISBLANK(Datenerfassung!Q143),\"\",Datenerfassung!Q143)","v":""}]
[{"$f":"IF(ISBLANK(Datenerfassung!A144),\"\",Datenerfassung!A144)","v":""},{"$f":"IF(ISBLANK(Datenerfassung!B144),\"\",Datenerfassung!B144)","v":""},{"$f":"IF(ISBLANK(Datenerfassung!C144),\"\",Datenerfassung!C144)","v":""},{"$f":"IF(ISBLANK(Datenerfassung!R144),\"\",Datenerfassung!R144)","v":""},{"$f":"IF(ISBLANK(Datenerfassung!S144),\"\",Datenerfassung!S144)","v":""},"",{"$f":"IF(ISBLANK(Datenerfassung!U144),\"\",Datenerfassung!U144)","v":""},{"$f":"IF(ISBLANK(Datenerfassung!O144),\"\",Datenerfassung!O144)","v":""},{"$f":"IF(ISBLANK(Datenerfassung!D144),IF(COUNTBLANK(A134:H134)+COUNTBLANK(J134:O134)=14,\"\",\"- ohne Titel -\"),Datenerfassung!D144)","v":""},{"$f":"IF(ISBLANK(Datenerfassung!G144),\"\",Datenerfassung!G144)","v":""},"",{"$f":"IF(ISBLANK(Datenerfassung!X144),\"\",Datenerfassung!X144)","v":""},{"$f":"IF(COUNTBLANK(Datenerfassung!H144:'Datenerfassung'!N144)=7,\"\",CONCATENATE( CONCATENATE(IF(ISBLANK(Datenerfassung!H144),\" \",Datenerfassung!H144 ),\" [IS]\"), CONCATENATE(IF(ISBLANK(Datenerfassung!I144),\" \",Datenerfassung!I144 ),\" [IS]\"), CONCATENATE(IF(ISBLANK(Datenerfassung!J144),\" \",Datenerfassung!J144 ),\" [IS]\"), CONCATENATE(IF(ISBLANK(Datenerfassung!K144),\" \",Datenerfassung!K144 ),\" [IS]\"), CONCATENATE(IF(ISBLANK(Datenerfassung!L144),\" \",Datenerfassung!L144 ),\" [IS]\"), CONCATENATE(IF(ISBLANK(Datenerfassung!M144),\" \",Datenerfassung!M144 ),\" [IS]\"), IF(ISBLANK(Datenerfassung!N144),\" \",Datenerfassung!N144 ) ))","v":""},{"$f":"IF(ISBLANK(Datenerfassung!V144),\"\",Datenerfassung!V144)","v":""},{"$f":"IF(ISBLANK(Datenerfassung!Q144),\"\",Datenerfassung!Q144)","v":""}]
[{"$f":"IF(ISBLANK(Datenerfassung!A145),\"\",Datenerfassung!A145)","v":""},{"$f":"IF(ISBLANK(Datenerfassung!B145),\"\",Datenerfassung!B145)","v":""},{"$f":"IF(ISBLANK(Datenerfassung!C145),\"\",Datenerfassung!C145)","v":""},{"$f":"IF(ISBLANK(Datenerfassung!R145),\"\",Datenerfassung!R145)","v":""},{"$f":"IF(ISBLANK(Datenerfassung!S145),\"\",Datenerfassung!S145)","v":""},"",{"$f":"IF(ISBLANK(Datenerfassung!U145),\"\",Datenerfassung!U145)","v":""},{"$f":"IF(ISBLANK(Datenerfassung!O145),\"\",Datenerfassung!O145)","v":""},{"$f":"IF(ISBLANK(Datenerfassung!D145),IF(COUNTBLANK(A135:H135)+COUNTBLANK(J135:O135)=14,\"\",\"- ohne Titel -\"),Datenerfassung!D145)","v":""},{"$f":"IF(ISBLANK(Datenerfassung!G145),\"\",Datenerfassung!G145)","v":""},"",{"$f":"IF(ISBLANK(Datenerfassung!X145),\"\",Datenerfassung!X145)","v":""},{"$f":"IF(COUNTBLANK(Datenerfassung!H145:'Datenerfassung'!N145)=7,\"\",CONCATENATE( CONCATENATE(IF(ISBLANK(Datenerfassung!H145),\" \",Datenerfassung!H145 ),\" [IS]\"), CONCATENATE(IF(ISBLANK(Datenerfassung!I145),\" \",Datenerfassung!I145 ),\" [IS]\"), CONCATENATE(IF(ISBLANK(Datenerfassung!J145),\" \",Datenerfassung!J145 ),\" [IS]\"), CONCATENATE(IF(ISBLANK(Datenerfassung!K145),\" \",Datenerfassung!K145 ),\" [IS]\"), CONCATENATE(IF(ISBLANK(Datenerfassung!L145),\" \",Datenerfassung!L145 ),\" [IS]\"), CONCATENATE(IF(ISBLANK(Datenerfassung!M145),\" \",Datenerfassung!M145 ),\" [IS]\"), IF(ISBLANK(Datenerfassung!N145),\" \",Datenerfassung!N145 ) ))","v":""},{"$f":"IF(ISBLANK(Datenerfassung!V145),\"\",Datenerfassung!V145)","v":""},{"$f":"IF(ISBLANK(Datenerfassung!Q145),\"\",Datenerfassung!Q145)","v":""}]
[{"$f":"IF(ISBLANK(Datenerfassung!A146),\"\",Datenerfassung!A146)","v":""},{"$f":"IF(ISBLANK(Datenerfassung!B146),\"\",Datenerfassung!B146)","v":""},{"$f":"IF(ISBLANK(Datenerfassung!C146),\"\",Datenerfassung!C146)","v":""},{"$f":"IF(ISBLANK(Datenerfassung!R146),\"\",Datenerfassung!R146)","v":""},{"$f":"IF(ISBLANK(Datenerfassung!S146),\"\",Datenerfassung!S146)","v":""},"",{"$f":"IF(ISBLANK(Datenerfassung!U146),\"\",Datenerfassung!U146)","v":""},{"$f":"IF(ISBLANK(Datenerfassung!O146),\"\",Datenerfassung!O146)","v":""},{"$f":"IF(ISBLANK(Datenerfassung!D146),IF(COUNTBLANK(A136:H136)+COUNTBLANK(J136:O136)=14,\"\",\"- ohne Titel -\"),Datenerfassung!D146)","v":""},{"$f":"IF(ISBLANK(Datenerfassung!G146),\"\",Datenerfassung!G146)","v":""},"",{"$f":"IF(ISBLANK(Datenerfassung!X146),\"\",Datenerfassung!X146)","v":""},{"$f":"IF(COUNTBLANK(Datenerfassung!H146:'Datenerfassung'!N146)=7,\"\",CONCATENATE( CONCATENATE(IF(ISBLANK(Datenerfassung!H146),\" \",Datenerfassung!H146 ),\" [IS]\"), CONCATENATE(IF(ISBLANK(Datenerfassung!I146),\" \",Datenerfassung!I146 ),\" [IS]\"), CONCATENATE(IF(ISBLANK(Datenerfassung!J146),\" \",Datenerfassung!J146 ),\" [IS]\"), CONCATENATE(IF(ISBLANK(Datenerfassung!K146),\" \",Datenerfassung!K146 ),\" [IS]\"), CONCATENATE(IF(ISBLANK(Datenerfassung!L146),\" \",Datenerfassung!L146 ),\" [IS]\"), CONCATENATE(IF(ISBLANK(Datenerfassung!M146),\" \",Datenerfassung!M146 ),\" [IS]\"), IF(ISBLANK(Datenerfassung!N146),\" \",Datenerfassung!N146 ) ))","v":""},{"$f":"IF(ISBLANK(Datenerfassung!V146),\"\",Datenerfassung!V146)","v":""},{"$f":"IF(ISBLANK(Datenerfassung!Q146),\"\",Datenerfassung!Q146)","v":""}]
[{"$f":"IF(ISBLANK(Datenerfassung!A147),\"\",Datenerfassung!A147)","v":""},{"$f":"IF(ISBLANK(Datenerfassung!B147),\"\",Datenerfassung!B147)","v":""},{"$f":"IF(ISBLANK(Datenerfassung!C147),\"\",Datenerfassung!C147)","v":""},{"$f":"IF(ISBLANK(Datenerfassung!R147),\"\",Datenerfassung!R147)","v":""},{"$f":"IF(ISBLANK(Datenerfassung!S147),\"\",Datenerfassung!S147)","v":""},"",{"$f":"IF(ISBLANK(Datenerfassung!U147),\"\",Datenerfassung!U147)","v":""},{"$f":"IF(ISBLANK(Datenerfassung!O147),\"\",Datenerfassung!O147)","v":""},{"$f":"IF(ISBLANK(Datenerfassung!D147),IF(COUNTBLANK(A137:H137)+COUNTBLANK(J137:O137)=14,\"\",\"- ohne Titel -\"),Datenerfassung!D147)","v":""},{"$f":"IF(ISBLANK(Datenerfassung!G147),\"\",Datenerfassung!G147)","v":""},"",{"$f":"IF(ISBLANK(Datenerfassung!X147),\"\",Datenerfassung!X147)","v":""},{"$f":"IF(COUNTBLANK(Datenerfassung!H147:'Datenerfassung'!N147)=7,\"\",CONCATENATE( CONCATENATE(IF(ISBLANK(Datenerfassung!H147),\" \",Datenerfassung!H147 ),\" [IS]\"), CONCATENATE(IF(ISBLANK(Datenerfassung!I147),\" \",Datenerfassung!I147 ),\" [IS]\"), CONCATENATE(IF(ISBLANK(Datenerfassung!J147),\" \",Datenerfassung!J147 ),\" [IS]\"), CONCATENATE(IF(ISBLANK(Datenerfassung!K147),\" \",Datenerfassung!K147 ),\" [IS]\"), CONCATENATE(IF(ISBLANK(Datenerfassung!L147),\" \",Datenerfassung!L147 ),\" [IS]\"), CONCATENATE(IF(ISBLANK(Datenerfassung!M147),\" \",Datenerfassung!M147 ),\" [IS]\"), IF(ISBLANK(Datenerfassung!N147),\" \",Datenerfassung!N147 ) ))","v":""},{"$f":"IF(ISBLANK(Datenerfassung!V147),\"\",Datenerfassung!V147)","v":""},{"$f":"IF(ISBLANK(Datenerfassung!Q147),\"\",Datenerfassung!Q147)","v":""}]
[{"$f":"IF(ISBLANK(Datenerfassung!A148),\"\",Datenerfassung!A148)","v":""},{"$f":"IF(ISBLANK(Datenerfassung!B148),\"\",Datenerfassung!B148)","v":""},{"$f":"IF(ISBLANK(Datenerfassung!C148),\"\",Datenerfassung!C148)","v":""},{"$f":"IF(ISBLANK(Datenerfassung!R148),\"\",Datenerfassung!R148)","v":""},{"$f":"IF(ISBLANK(Datenerfassung!S148),\"\",Datenerfassung!S148)","v":""},"",{"$f":"IF(ISBLANK(Datenerfassung!U148),\"\",Datenerfassung!U148)","v":""},{"$f":"IF(ISBLANK(Datenerfassung!O148),\"\",Datenerfassung!O148)","v":""},{"$f":"IF(ISBLANK(Datenerfassung!D148),IF(COUNTBLANK(A138:H138)+COUNTBLANK(J138:O138)=14,\"\",\"- ohne Titel -\"),Datenerfassung!D148)","v":""},{"$f":"IF(ISBLANK(Datenerfassung!G148),\"\",Datenerfassung!G148)","v":""},"",{"$f":"IF(ISBLANK(Datenerfassung!X148),\"\",Datenerfassung!X148)","v":""},{"$f":"IF(COUNTBLANK(Datenerfassung!H148:'Datenerfassung'!N148)=7,\"\",CONCATENATE( CONCATENATE(IF(ISBLANK(Datenerfassung!H148),\" \",Datenerfassung!H148 ),\" [IS]\"), CONCATENATE(IF(ISBLANK(Datenerfassung!I148),\" \",Datenerfassung!I148 ),\" [IS]\"), CONCATENATE(IF(ISBLANK(Datenerfassung!J148),\" \",Datenerfassung!J148 ),\" [IS]\"), CONCATENATE(IF(ISBLANK(Datenerfassung!K148),\" \",Datenerfassung!K148 ),\" [IS]\"), CONCATENATE(IF(ISBLANK(Datenerfassung!L148),\" \",Datenerfassung!L148 ),\" [IS]\"), CONCATENATE(IF(ISBLANK(Datenerfassung!M148),\" \",Datenerfassung!M148 ),\" [IS]\"), IF(ISBLANK(Datenerfassung!N148),\" \",Datenerfassung!N148 ) ))","v":""},{"$f":"IF(ISBLANK(Datenerfassung!V148),\"\",Datenerfassung!V148)","v":""},{"$f":"IF(ISBLANK(Datenerfassung!Q148),\"\",Datenerfassung!Q148)","v":""}]
[{"$f":"IF(ISBLANK(Datenerfassung!A149),\"\",Datenerfassung!A149)","v":""},{"$f":"IF(ISBLANK(Datenerfassung!B149),\"\",Datenerfassung!B149)","v":""},{"$f":"IF(ISBLANK(Datenerfassung!C149),\"\",Datenerfassung!C149)","v":""},{"$f":"IF(ISBLANK(Datenerfassung!R149),\"\",Datenerfassung!R149)","v":""},{"$f":"IF(ISBLANK(Datenerfassung!S149),\"\",Datenerfassung!S149)","v":""},"",{"$f":"IF(ISBLANK(Datenerfassung!U149),\"\",Datenerfassung!U149)","v":""},{"$f":"IF(ISBLANK(Datenerfassung!O149),\"\",Datenerfassung!O149)","v":""},{"$f":"IF(ISBLANK(Datenerfassung!D149),IF(COUNTBLANK(A139:H139)+COUNTBLANK(J139:O139)=14,\"\",\"- ohne Titel -\"),Datenerfassung!D149)","v":""},{"$f":"IF(ISBLANK(Datenerfassung!G149),\"\",Datenerfassung!G149)","v":""},"",{"$f":"IF(ISBLANK(Datenerfassung!X149),\"\",Datenerfassung!X149)","v":""},{"$f":"IF(COUNTBLANK(Datenerfassung!H149:'Datenerfassung'!N149)=7,\"\",CONCATENATE( CONCATENATE(IF(ISBLANK(Datenerfassung!H149),\" \",Datenerfassung!H149 ),\" [IS]\"), CONCATENATE(IF(ISBLANK(Datenerfassung!I149),\" \",Datenerfassung!I149 ),\" [IS]\"), CONCATENATE(IF(ISBLANK(Datenerfassung!J149),\" \",Datenerfassung!J149 ),\" [IS]\"), CONCATENATE(IF(ISBLANK(Datenerfassung!K149),\" \",Datenerfassung!K149 ),\" [IS]\"), CONCATENATE(IF(ISBLANK(Datenerfassung!L149),\" \",Datenerfassung!L149 ),\" [IS]\"), CONCATENATE(IF(ISBLANK(Datenerfassung!M149),\" \",Datenerfassung!M149 ),\" [IS]\"), IF(ISBLANK(Datenerfassung!N149),\" \",Datenerfassung!N149 ) ))","v":""},{"$f":"IF(ISBLANK(Datenerfassung!V149),\"\",Datenerfassung!V149)","v":""},{"$f":"IF(ISBLANK(Datenerfassung!Q149),\"\",Datenerfassung!Q149)","v":""}]
[{"$f":"IF(ISBLANK(Datenerfassung!A150),\"\",Datenerfassung!A150)","v":""},{"$f":"IF(ISBLANK(Datenerfassung!B150),\"\",Datenerfassung!B150)","v":""},{"$f":"IF(ISBLANK(Datenerfassung!C150),\"\",Datenerfassung!C150)","v":""},{"$f":"IF(ISBLANK(Datenerfassung!R150),\"\",Datenerfassung!R150)","v":""},{"$f":"IF(ISBLANK(Datenerfassung!S150),\"\",Datenerfassung!S150)","v":""},"",{"$f":"IF(ISBLANK(Datenerfassung!U150),\"\",Datenerfassung!U150)","v":""},{"$f":"IF(ISBLANK(Datenerfassung!O150),\"\",Datenerfassung!O150)","v":""},{"$f":"IF(ISBLANK(Datenerfassung!D150),IF(COUNTBLANK(A140:H140)+COUNTBLANK(J140:O140)=14,\"\",\"- ohne Titel -\"),Datenerfassung!D150)","v":""},{"$f":"IF(ISBLANK(Datenerfassung!G150),\"\",Datenerfassung!G150)","v":""},"",{"$f":"IF(ISBLANK(Datenerfassung!X150),\"\",Datenerfassung!X150)","v":""},{"$f":"IF(COUNTBLANK(Datenerfassung!H150:'Datenerfassung'!N150)=7,\"\",CONCATENATE( CONCATENATE(IF(ISBLANK(Datenerfassung!H150),\" \",Datenerfassung!H150 ),\" [IS]\"), CONCATENATE(IF(ISBLANK(Datenerfassung!I150),\" \",Datenerfassung!I150 ),\" [IS]\"), CONCATENATE(IF(ISBLANK(Datenerfassung!J150),\" \",Datenerfassung!J150 ),\" [IS]\"), CONCATENATE(IF(ISBLANK(Datenerfassung!K150),\" \",Datenerfassung!K150 ),\" [IS]\"), CONCATENATE(IF(ISBLANK(Datenerfassung!L150),\" \",Datenerfassung!L150 ),\" [IS]\"), CONCATENATE(IF(ISBLANK(Datenerfassung!M150),\" \",Datenerfassung!M150 ),\" [IS]\"), IF(ISBLANK(Datenerfassung!N150),\" \",Datenerfassung!N150 ) ))","v":""},{"$f":"IF(ISBLANK(Datenerfassung!V150),\"\",Datenerfassung!V150)","v":""},{"$f":"IF(ISBLANK(Datenerfassung!Q150),\"\",Datenerfassung!Q150)","v":""}]
[{"$f":"IF(ISBLANK(Datenerfassung!A151),\"\",Datenerfassung!A151)","v":""},{"$f":"IF(ISBLANK(Datenerfassung!B151),\"\",Datenerfassung!B151)","v":""},{"$f":"IF(ISBLANK(Datenerfassung!C151),\"\",Datenerfassung!C151)","v":""},{"$f":"IF(ISBLANK(Datenerfassung!R151),\"\",Datenerfassung!R151)","v":""},{"$f":"IF(ISBLANK(Datenerfassung!S151),\"\",Datenerfassung!S151)","v":""},"",{"$f":"IF(ISBLANK(Datenerfassung!U151),\"\",Datenerfassung!U151)","v":""},{"$f":"IF(ISBLANK(Datenerfassung!O151),\"\",Datenerfassung!O151)","v":""},{"$f":"IF(ISBLANK(Datenerfassung!D151),IF(COUNTBLANK(A141:H141)+COUNTBLANK(J141:O141)=14,\"\",\"- ohne Titel -\"),Datenerfassung!D151)","v":""},{"$f":"IF(ISBLANK(Datenerfassung!G151),\"\",Datenerfassung!G151)","v":""},"",{"$f":"IF(ISBLANK(Datenerfassung!X151),\"\",Datenerfassung!X151)","v":""},{"$f":"IF(COUNTBLANK(Datenerfassung!H151:'Datenerfassung'!N151)=7,\"\",CONCATENATE( CONCATENATE(IF(ISBLANK(Datenerfassung!H151),\" \",Datenerfassung!H151 ),\" [IS]\"), CONCATENATE(IF(ISBLANK(Datenerfassung!I151),\" \",Datenerfassung!I151 ),\" [IS]\"), CONCATENATE(IF(ISBLANK(Datenerfassung!J151),\" \",Datenerfassung!J151 ),\" [IS]\"), CONCATENATE(IF(ISBLANK(Datenerfassung!K151),\" \",Datenerfassung!K151 ),\" [IS]\"), CONCATENATE(IF(ISBLANK(Datenerfassung!L151),\" \",Datenerfassung!L151 ),\" [IS]\"), CONCATENATE(IF(ISBLANK(Datenerfassung!M151),\" \",Datenerfassung!M151 ),\" [IS]\"), IF(ISBLANK(Datenerfassung!N151),\" \",Datenerfassung!N151 ) ))","v":""},{"$f":"IF(ISBLANK(Datenerfassung!V151),\"\",Datenerfassung!V151)","v":""},{"$f":"IF(ISBLANK(Datenerfassung!Q151),\"\",Datenerfassung!Q151)","v":""}]
[{"$f":"IF(ISBLANK(Datenerfassung!A152),\"\",Datenerfassung!A152)","v":""},{"$f":"IF(ISBLANK(Datenerfassung!B152),\"\",Datenerfassung!B152)","v":""},{"$f":"IF(ISBLANK(Datenerfassung!C152),\"\",Datenerfassung!C152)","v":""},{"$f":"IF(ISBLANK(Datenerfassung!R152),\"\",Datenerfassung!R152)","v":""},{"$f":"IF(ISBLANK(Datenerfassung!S152),\"\",Datenerfassung!S152)","v":""},"",{"$f":"IF(ISBLANK(Datenerfassung!U152),\"\",Datenerfassung!U152)","v":""},{"$f":"IF(ISBLANK(Datenerfassung!O152),\"\",Datenerfassung!O152)","v":""},{"$f":"IF(ISBLANK(Datenerfassung!D152),IF(COUNTBLANK(A142:H142)+COUNTBLANK(J142:O142)=14,\"\",\"- ohne Titel -\"),Datenerfassung!D152)","v":""},{"$f":"IF(ISBLANK(Datenerfassung!G152),\"\",Datenerfassung!G152)","v":""},"",{"$f":"IF(ISBLANK(Datenerfassung!X152),\"\",Datenerfassung!X152)","v":""},{"$f":"IF(COUNTBLANK(Datenerfassung!H152:'Datenerfassung'!N152)=7,\"\",CONCATENATE( CONCATENATE(IF(ISBLANK(Datenerfassung!H152),\" \",Datenerfassung!H152 ),\" [IS]\"), CONCATENATE(IF(ISBLANK(Datenerfassung!I152),\" \",Datenerfassung!I152 ),\" [IS]\"), CONCATENATE(IF(ISBLANK(Datenerfassung!J152),\" \",Datenerfassung!J152 ),\" [IS]\"), CONCATENATE(IF(ISBLANK(Datenerfassung!K152),\" \",Datenerfassung!K152 ),\" [IS]\"), CONCATENATE(IF(ISBLANK(Datenerfassung!L152),\" \",Datenerfassung!L152 ),\" [IS]\"), CONCATENATE(IF(ISBLANK(Datenerfassung!M152),\" \",Datenerfassung!M152 ),\" [IS]\"), IF(ISBLANK(Datenerfassung!N152),\" \",Datenerfassung!N152 ) ))","v":""},{"$f":"IF(ISBLANK(Datenerfassung!V152),\"\",Datenerfassung!V152)","v":""},{"$f":"IF(ISBLANK(Datenerfassung!Q152),\"\",Datenerfassung!Q152)","v":""}]
[{"$f":"IF(ISBLANK(Datenerfassung!A153),\"\",Datenerfassung!A153)","v":""},{"$f":"IF(ISBLANK(Datenerfassung!B153),\"\",Datenerfassung!B153)","v":""},{"$f":"IF(ISBLANK(Datenerfassung!C153),\"\",Datenerfassung!C153)","v":""},{"$f":"IF(ISBLANK(Datenerfassung!R153),\"\",Datenerfassung!R153)","v":""},{"$f":"IF(ISBLANK(Datenerfassung!S153),\"\",Datenerfassung!S153)","v":""},"",{"$f":"IF(ISBLANK(Datenerfassung!U153),\"\",Datenerfassung!U153)","v":""},{"$f":"IF(ISBLANK(Datenerfassung!O153),\"\",Datenerfassung!O153)","v":""},{"$f":"IF(ISBLANK(Datenerfassung!D153),IF(COUNTBLANK(A143:H143)+COUNTBLANK(J143:O143)=14,\"\",\"- ohne Titel -\"),Datenerfassung!D153)","v":""},{"$f":"IF(ISBLANK(Datenerfassung!G153),\"\",Datenerfassung!G153)","v":""},"",{"$f":"IF(ISBLANK(Datenerfassung!X153),\"\",Datenerfassung!X153)","v":""},{"$f":"IF(COUNTBLANK(Datenerfassung!H153:'Datenerfassung'!N153)=7,\"\",CONCATENATE( CONCATENATE(IF(ISBLANK(Datenerfassung!H153),\" \",Datenerfassung!H153 ),\" [IS]\"), CONCATENATE(IF(ISBLANK(Datenerfassung!I153),\" \",Datenerfassung!I153 ),\" [IS]\"), CONCATENATE(IF(ISBLANK(Datenerfassung!J153),\" \",Datenerfassung!J153 ),\" [IS]\"), CONCATENATE(IF(ISBLANK(Datenerfassung!K153),\" \",Datenerfassung!K153 ),\" [IS]\"), CONCATENATE(IF(ISBLANK(Datenerfassung!L153),\" \",Datenerfassung!L153 ),\" [IS]\"), CONCATENATE(IF(ISBLANK(Datenerfassung!M153),\" \",Datenerfassung!M153 ),\" [IS]\"), IF(ISBLANK(Datenerfassung!N153),\" \",Datenerfassung!N153 ) ))","v":""},{"$f":"IF(ISBLANK(Datenerfassung!V153),\"\",Datenerfassung!V153)","v":""},{"$f":"IF(ISBLANK(Datenerfassung!Q153),\"\",Datenerfassung!Q153)","v":""}]
[{"$f":"IF(ISBLANK(Datenerfassung!A154),\"\",Datenerfassung!A154)","v":""},{"$f":"IF(ISBLANK(Datenerfassung!B154),\"\",Datenerfassung!B154)","v":""},{"$f":"IF(ISBLANK(Datenerfassung!C154),\"\",Datenerfassung!C154)","v":""},{"$f":"IF(ISBLANK(Datenerfassung!R154),\"\",Datenerfassung!R154)","v":""},{"$f":"IF(ISBLANK(Datenerfassung!S154),\"\",Datenerfassung!S154)","v":""},"",{"$f":"IF(ISBLANK(Datenerfassung!U154),\"\",Datenerfassung!U154)","v":""},{"$f":"IF(ISBLANK(Datenerfassung!O154),\"\",Datenerfassung!O154)","v":""},{"$f":"IF(ISBLANK(Datenerfassung!D154),IF(COUNTBLANK(A144:H144)+COUNTBLANK(J144:O144)=14,\"\",\"- ohne Titel -\"),Datenerfassung!D154)","v":""},{"$f":"IF(ISBLANK(Datenerfassung!G154),\"\",Datenerfassung!G154)","v":""},"",{"$f":"IF(ISBLANK(Datenerfassung!X154),\"\",Datenerfassung!X154)","v":""},{"$f":"IF(COUNTBLANK(Datenerfassung!H154:'Datenerfassung'!N154)=7,\"\",CONCATENATE( CONCATENATE(IF(ISBLANK(Datenerfassung!H154),\" \",Datenerfassung!H154 ),\" [IS]\"), CONCATENATE(IF(ISBLANK(Datenerfassung!I154),\" \",Datenerfassung!I154 ),\" [IS]\"), CONCATENATE(IF(ISBLANK(Datenerfassung!J154),\" \",Datenerfassung!J154 ),\" [IS]\"), CONCATENATE(IF(ISBLANK(Datenerfassung!K154),\" \",Datenerfassung!K154 ),\" [IS]\"), CONCATENATE(IF(ISBLANK(Datenerfassung!L154),\" \",Datenerfassung!L154 ),\" [IS]\"), CONCATENATE(IF(ISBLANK(Datenerfassung!M154),\" \",Datenerfassung!M154 ),\" [IS]\"), IF(ISBLANK(Datenerfassung!N154),\" \",Datenerfassung!N154 ) ))","v":""},{"$f":"IF(ISBLANK(Datenerfassung!V154),\"\",Datenerfassung!V154)","v":""},{"$f":"IF(ISBLANK(Datenerfassung!Q154),\"\",Datenerfassung!Q154)","v":""}]
[{"$f":"IF(ISBLANK(Datenerfassung!A155),\"\",Datenerfassung!A155)","v":""},{"$f":"IF(ISBLANK(Datenerfassung!B155),\"\",Datenerfassung!B155)","v":""},{"$f":"IF(ISBLANK(Datenerfassung!C155),\"\",Datenerfassung!C155)","v":""},{"$f":"IF(ISBLANK(Datenerfassung!R155),\"\",Datenerfassung!R155)","v":""},{"$f":"IF(ISBLANK(Datenerfassung!S155),\"\",Datenerfassung!S155)","v":""},"",{"$f":"IF(ISBLANK(Datenerfassung!U155),\"\",Datenerfassung!U155)","v":""},{"$f":"IF(ISBLANK(Datenerfassung!O155),\"\",Datenerfassung!O155)","v":""},{"$f":"IF(ISBLANK(Datenerfassung!D155),IF(COUNTBLANK(A145:H145)+COUNTBLANK(J145:O145)=14,\"\",\"- ohne Titel -\"),Datenerfassung!D155)","v":""},{"$f":"IF(ISBLANK(Datenerfassung!G155),\"\",Datenerfassung!G155)","v":""},"",{"$f":"IF(ISBLANK(Datenerfassung!X155),\"\",Datenerfassung!X155)","v":""},{"$f":"IF(COUNTBLANK(Datenerfassung!H155:'Datenerfassung'!N155)=7,\"\",CONCATENATE( CONCATENATE(IF(ISBLANK(Datenerfassung!H155),\" \",Datenerfassung!H155 ),\" [IS]\"), CONCATENATE(IF(ISBLANK(Datenerfassung!I155),\" \",Datenerfassung!I155 ),\" [IS]\"), CONCATENATE(IF(ISBLANK(Datenerfassung!J155),\" \",Datenerfassung!J155 ),\" [IS]\"), CONCATENATE(IF(ISBLANK(Datenerfassung!K155),\" \",Datenerfassung!K155 ),\" [IS]\"), CONCATENATE(IF(ISBLANK(Datenerfassung!L155),\" \",Datenerfassung!L155 ),\" [IS]\"), CONCATENATE(IF(ISBLANK(Datenerfassung!M155),\" \",Datenerfassung!M155 ),\" [IS]\"), IF(ISBLANK(Datenerfassung!N155),\" \",Datenerfassung!N155 ) ))","v":""},{"$f":"IF(ISBLANK(Datenerfassung!V155),\"\",Datenerfassung!V155)","v":""},{"$f":"IF(ISBLANK(Datenerfassung!Q155),\"\",Datenerfassung!Q155)","v":""}]
[{"$f":"IF(ISBLANK(Datenerfassung!A156),\"\",Datenerfassung!A156)","v":""},{"$f":"IF(ISBLANK(Datenerfassung!B156),\"\",Datenerfassung!B156)","v":""},{"$f":"IF(ISBLANK(Datenerfassung!C156),\"\",Datenerfassung!C156)","v":""},{"$f":"IF(ISBLANK(Datenerfassung!R156),\"\",Datenerfassung!R156)","v":""},{"$f":"IF(ISBLANK(Datenerfassung!S156),\"\",Datenerfassung!S156)","v":""},"",{"$f":"IF(ISBLANK(Datenerfassung!U156),\"\",Datenerfassung!U156)","v":""},{"$f":"IF(ISBLANK(Datenerfassung!O156),\"\",Datenerfassung!O156)","v":""},{"$f":"IF(ISBLANK(Datenerfassung!D156),IF(COUNTBLANK(A146:H146)+COUNTBLANK(J146:O146)=14,\"\",\"- ohne Titel -\"),Datenerfassung!D156)","v":""},{"$f":"IF(ISBLANK(Datenerfassung!G156),\"\",Datenerfassung!G156)","v":""},"",{"$f":"IF(ISBLANK(Datenerfassung!X156),\"\",Datenerfassung!X156)","v":""},{"$f":"IF(COUNTBLANK(Datenerfassung!H156:'Datenerfassung'!N156)=7,\"\",CONCATENATE( CONCATENATE(IF(ISBLANK(Datenerfassung!H156),\" \",Datenerfassung!H156 ),\" [IS]\"), CONCATENATE(IF(ISBLANK(Datenerfassung!I156),\" \",Datenerfassung!I156 ),\" [IS]\"), CONCATENATE(IF(ISBLANK(Datenerfassung!J156),\" \",Datenerfassung!J156 ),\" [IS]\"), CONCATENATE(IF(ISBLANK(Datenerfassung!K156),\" \",Datenerfassung!K156 ),\" [IS]\"), CONCATENATE(IF(ISBLANK(Datenerfassung!L156),\" \",Datenerfassung!L156 ),\" [IS]\"), CONCATENATE(IF(ISBLANK(Datenerfassung!M156),\" \",Datenerfassung!M156 ),\" [IS]\"), IF(ISBLANK(Datenerfassung!N156),\" \",Datenerfassung!N156 ) ))","v":""},{"$f":"IF(ISBLANK(Datenerfassung!V156),\"\",Datenerfassung!V156)","v":""},{"$f":"IF(ISBLANK(Datenerfassung!Q156),\"\",Datenerfassung!Q156)","v":""}]
[{"$f":"IF(ISBLANK(Datenerfassung!A157),\"\",Datenerfassung!A157)","v":""},{"$f":"IF(ISBLANK(Datenerfassung!B157),\"\",Datenerfassung!B157)","v":""},{"$f":"IF(ISBLANK(Datenerfassung!C157),\"\",Datenerfassung!C157)","v":""},{"$f":"IF(ISBLANK(Datenerfassung!R157),\"\",Datenerfassung!R157)","v":""},{"$f":"IF(ISBLANK(Datenerfassung!S157),\"\",Datenerfassung!S157)","v":""},"",{"$f":"IF(ISBLANK(Datenerfassung!U157),\"\",Datenerfassung!U157)","v":""},{"$f":"IF(ISBLANK(Datenerfassung!O157),\"\",Datenerfassung!O157)","v":""},{"$f":"IF(ISBLANK(Datenerfassung!D157),IF(COUNTBLANK(A147:H147)+COUNTBLANK(J147:O147)=14,\"\",\"- ohne Titel -\"),Datenerfassung!D157)","v":""},{"$f":"IF(ISBLANK(Datenerfassung!G157),\"\",Datenerfassung!G157)","v":""},"",{"$f":"IF(ISBLANK(Datenerfassung!X157),\"\",Datenerfassung!X157)","v":""},{"$f":"IF(COUNTBLANK(Datenerfassung!H157:'Datenerfassung'!N157)=7,\"\",CONCATENATE( CONCATENATE(IF(ISBLANK(Datenerfassung!H157),\" \",Datenerfassung!H157 ),\" [IS]\"), CONCATENATE(IF(ISBLANK(Datenerfassung!I157),\" \",Datenerfassung!I157 ),\" [IS]\"), CONCATENATE(IF(ISBLANK(Datenerfassung!J157),\" \",Datenerfassung!J157 ),\" [IS]\"), CONCATENATE(IF(ISBLANK(Datenerfassung!K157),\" \",Datenerfassung!K157 ),\" [IS]\"), CONCATENATE(IF(ISBLANK(Datenerfassung!L157),\" \",Datenerfassung!L157 ),\" [IS]\"), CONCATENATE(IF(ISBLANK(Datenerfassung!M157),\" \",Datenerfassung!M157 ),\" [IS]\"), IF(ISBLANK(Datenerfassung!N157),\" \",Datenerfassung!N157 ) ))","v":""},{"$f":"IF(ISBLANK(Datenerfassung!V157),\"\",Datenerfassung!V157)","v":""},{"$f":"IF(ISBLANK(Datenerfassung!Q157),\"\",Datenerfassung!Q157)","v":""}]
[{"$f":"IF(ISBLANK(Datenerfassung!A158),\"\",Datenerfassung!A158)","v":""},{"$f":"IF(ISBLANK(Datenerfassung!B158),\"\",Datenerfassung!B158)","v":""},{"$f":"IF(ISBLANK(Datenerfassung!C158),\"\",Datenerfassung!C158)","v":""},{"$f":"IF(ISBLANK(Datenerfassung!R158),\"\",Datenerfassung!R158)","v":""},{"$f":"IF(ISBLANK(Datenerfassung!S158),\"\",Datenerfassung!S158)","v":""},"",{"$f":"IF(ISBLANK(Datenerfassung!U158),\"\",Datenerfassung!U158)","v":""},{"$f":"IF(ISBLANK(Datenerfassung!O158),\"\",Datenerfassung!O158)","v":""},{"$f":"IF(ISBLANK(Datenerfassung!D158),IF(COUNTBLANK(A148:H148)+COUNTBLANK(J148:O148)=14,\"\",\"- ohne Titel -\"),Datenerfassung!D158)","v":""},{"$f":"IF(ISBLANK(Datenerfassung!G158),\"\",Datenerfassung!G158)","v":""},"",{"$f":"IF(ISBLANK(Datenerfassung!X158),\"\",Datenerfassung!X158)","v":""},{"$f":"IF(COUNTBLANK(Datenerfassung!H158:'Datenerfassung'!N158)=7,\"\",CONCATENATE( CONCATENATE(IF(ISBLANK(Datenerfassung!H158),\" \",Datenerfassung!H158 ),\" [IS]\"), CONCATENATE(IF(ISBLANK(Datenerfassung!I158),\" \",Datenerfassung!I158 ),\" [IS]\"), CONCATENATE(IF(ISBLANK(Datenerfassung!J158),\" \",Datenerfassung!J158 ),\" [IS]\"), CONCATENATE(IF(ISBLANK(Datenerfassung!K158),\" \",Datenerfassung!K158 ),\" [IS]\"), CONCATENATE(IF(ISBLANK(Datenerfassung!L158),\" \",Datenerfassung!L158 ),\" [IS]\"), CONCATENATE(IF(ISBLANK(Datenerfassung!M158),\" \",Datenerfassung!M158 ),\" [IS]\"), IF(ISBLANK(Datenerfassung!N158),\" \",Datenerfassung!N158 ) ))","v":""},{"$f":"IF(ISBLANK(Datenerfassung!V158),\"\",Datenerfassung!V158)","v":""},{"$f":"IF(ISBLANK(Datenerfassung!Q158),\"\",Datenerfassung!Q158)","v":""}]
[{"$f":"IF(ISBLANK(Datenerfassung!A159),\"\",Datenerfassung!A159)","v":""},{"$f":"IF(ISBLANK(Datenerfassung!B159),\"\",Datenerfassung!B159)","v":""},{"$f":"IF(ISBLANK(Datenerfassung!C159),\"\",Datenerfassung!C159)","v":""},{"$f":"IF(ISBLANK(Datenerfassung!R159),\"\",Datenerfassung!R159)","v":""},{"$f":"IF(ISBLANK(Datenerfassung!S159),\"\",Datenerfassung!S159)","v":""},"",{"$f":"IF(ISBLANK(Datenerfassung!U159),\"\",Datenerfassung!U159)","v":""},{"$f":"IF(ISBLANK(Datenerfassung!O159),\"\",Datenerfassung!O159)","v":""},{"$f":"IF(ISBLANK(Datenerfassung!D159),IF(COUNTBLANK(A149:H149)+COUNTBLANK(J149:O149)=14,\"\",\"- ohne Titel -\"),Datenerfassung!D159)","v":""},{"$f":"IF(ISBLANK(Datenerfassung!G159),\"\",Datenerfassung!G159)","v":""},"",{"$f":"IF(ISBLANK(Datenerfassung!X159),\"\",Datenerfassung!X159)","v":""},{"$f":"IF(COUNTBLANK(Datenerfassung!H159:'Datenerfassung'!N159)=7,\"\",CONCATENATE( CONCATENATE(IF(ISBLANK(Datenerfassung!H159),\" \",Datenerfassung!H159 ),\" [IS]\"), CONCATENATE(IF(ISBLANK(Datenerfassung!I159),\" \",Datenerfassung!I159 ),\" [IS]\"), CONCATENATE(IF(ISBLANK(Datenerfassung!J159),\" \",Datenerfassung!J159 ),\" [IS]\"), CONCATENATE(IF(ISBLANK(Datenerfassung!K159),\" \",Datenerfassung!K159 ),\" [IS]\"), CONCATENATE(IF(ISBLANK(Datenerfassung!L159),\" \",Datenerfassung!L159 ),\" [IS]\"), CONCATENATE(IF(ISBLANK(Datenerfassung!M159),\" \",Datenerfassung!M159 ),\" [IS]\"), IF(ISBLANK(Datenerfassung!N159),\" \",Datenerfassung!N159 ) ))","v":""},{"$f":"IF(ISBLANK(Datenerfassung!V159),\"\",Datenerfassung!V159)","v":""},{"$f":"IF(ISBLANK(Datenerfassung!Q159),\"\",Datenerfassung!Q159)","v":""}]
[{"$f":"IF(ISBLANK(Datenerfassung!A160),\"\",Datenerfassung!A160)","v":""},{"$f":"IF(ISBLANK(Datenerfassung!B160),\"\",Datenerfassung!B160)","v":""},{"$f":"IF(ISBLANK(Datenerfassung!C160),\"\",Datenerfassung!C160)","v":""},{"$f":"IF(ISBLANK(Datenerfassung!R160),\"\",Datenerfassung!R160)","v":""},{"$f":"IF(ISBLANK(Datenerfassung!S160),\"\",Datenerfassung!S160)","v":""},"",{"$f":"IF(ISBLANK(Datenerfassung!U160),\"\",Datenerfassung!U160)","v":""},{"$f":"IF(ISBLANK(Datenerfassung!O160),\"\",Datenerfassung!O160)","v":""},{"$f":"IF(ISBLANK(Datenerfassung!D160),IF(COUNTBLANK(A150:H150)+COUNTBLANK(J150:O150)=14,\"\",\"- ohne Titel -\"),Datenerfassung!D160)","v":""},{"$f":"IF(ISBLANK(Datenerfassung!G160),\"\",Datenerfassung!G160)","v":""},"",{"$f":"IF(ISBLANK(Datenerfassung!X160),\"\",Datenerfassung!X160)","v":""},{"$f":"IF(COUNTBLANK(Datenerfassung!H160:'Datenerfassung'!N160)=7,\"\",CONCATENATE( CONCATENATE(IF(ISBLANK(Datenerfassung!H160),\" \",Datenerfassung!H160 ),\" [IS]\"), CONCATENATE(IF(ISBLANK(Datenerfassung!I160),\" \",Datenerfassung!I160 ),\" [IS]\"), CONCATENATE(IF(ISBLANK(Datenerfassung!J160),\" \",Datenerfassung!J160 ),\" [IS]\"), CONCATENATE(IF(ISBLANK(Datenerfassung!K160),\" \",Datenerfassung!K160 ),\" [IS]\"), CONCATENATE(IF(ISBLANK(Datenerfassung!L160),\" \",Datenerfassung!L160 ),\" [IS]\"), CONCATENATE(IF(ISBLANK(Datenerfassung!M160),\" \",Datenerfassung!M160 ),\" [IS]\"), IF(ISBLANK(Datenerfassung!N160),\" \",Datenerfassung!N160 ) ))","v":""},{"$f":"IF(ISBLANK(Datenerfassung!V160),\"\",Datenerfassung!V160)","v":""},{"$f":"IF(ISBLANK(Datenerfassung!Q160),\"\",Datenerfassung!Q160)","v":""}]
[{"$f":"IF(ISBLANK(Datenerfassung!A161),\"\",Datenerfassung!A161)","v":""},{"$f":"IF(ISBLANK(Datenerfassung!B161),\"\",Datenerfassung!B161)","v":""},{"$f":"IF(ISBLANK(Datenerfassung!C161),\"\",Datenerfassung!C161)","v":""},{"$f":"IF(ISBLANK(Datenerfassung!R161),\"\",Datenerfassung!R161)","v":""},{"$f":"IF(ISBLANK(Datenerfassung!S161),\"\",Datenerfassung!S161)","v":""},"",{"$f":"IF(ISBLANK(Datenerfassung!U161),\"\",Datenerfassung!U161)","v":""},{"$f":"IF(ISBLANK(Datenerfassung!O161),\"\",Datenerfassung!O161)","v":""},{"$f":"IF(ISBLANK(Datenerfassung!D161),IF(COUNTBLANK(A151:H151)+COUNTBLANK(J151:O151)=14,\"\",\"- ohne Titel -\"),Datenerfassung!D161)","v":""},{"$f":"IF(ISBLANK(Datenerfassung!G161),\"\",Datenerfassung!G161)","v":""},"",{"$f":"IF(ISBLANK(Datenerfassung!X161),\"\",Datenerfassung!X161)","v":""},{"$f":"IF(COUNTBLANK(Datenerfassung!H161:'Datenerfassung'!N161)=7,\"\",CONCATENATE( CONCATENATE(IF(ISBLANK(Datenerfassung!H161),\" \",Datenerfassung!H161 ),\" [IS]\"), CONCATENATE(IF(ISBLANK(Datenerfassung!I161),\" \",Datenerfassung!I161 ),\" [IS]\"), CONCATENATE(IF(ISBLANK(Datenerfassung!J161),\" \",Datenerfassung!J161 ),\" [IS]\"), CONCATENATE(IF(ISBLANK(Datenerfassung!K161),\" \",Datenerfassung!K161 ),\" [IS]\"), CONCATENATE(IF(ISBLANK(Datenerfassung!L161),\" \",Datenerfassung!L161 ),\" [IS]\"), CONCATENATE(IF(ISBLANK(Datenerfassung!M161),\" \",Datenerfassung!M161 ),\" [IS]\"), IF(ISBLANK(Datenerfassung!N161),\" \",Datenerfassung!N161 ) ))","v":""},{"$f":"IF(ISBLANK(Datenerfassung!V161),\"\",Datenerfassung!V161)","v":""},{"$f":"IF(ISBLANK(Datenerfassung!Q161),\"\",Datenerfassung!Q161)","v":""}]
[{"$f":"IF(ISBLANK(Datenerfassung!A162),\"\",Datenerfassung!A162)","v":""},{"$f":"IF(ISBLANK(Datenerfassung!B162),\"\",Datenerfassung!B162)","v":""},{"$f":"IF(ISBLANK(Datenerfassung!C162),\"\",Datenerfassung!C162)","v":""},{"$f":"IF(ISBLANK(Datenerfassung!R162),\"\",Datenerfassung!R162)","v":""},{"$f":"IF(ISBLANK(Datenerfassung!S162),\"\",Datenerfassung!S162)","v":""},"",{"$f":"IF(ISBLANK(Datenerfassung!U162),\"\",Datenerfassung!U162)","v":""},{"$f":"IF(ISBLANK(Datenerfassung!O162),\"\",Datenerfassung!O162)","v":""},{"$f":"IF(ISBLANK(Datenerfassung!D162),IF(COUNTBLANK(A152:H152)+COUNTBLANK(J152:O152)=14,\"\",\"- ohne Titel -\"),Datenerfassung!D162)","v":""},{"$f":"IF(ISBLANK(Datenerfassung!G162),\"\",Datenerfassung!G162)","v":""},"",{"$f":"IF(ISBLANK(Datenerfassung!X162),\"\",Datenerfassung!X162)","v":""},{"$f":"IF(COUNTBLANK(Datenerfassung!H162:'Datenerfassung'!N162)=7,\"\",CONCATENATE( CONCATENATE(IF(ISBLANK(Datenerfassung!H162),\" \",Datenerfassung!H162 ),\" [IS]\"), CONCATENATE(IF(ISBLANK(Datenerfassung!I162),\" \",Datenerfassung!I162 ),\" [IS]\"), CONCATENATE(IF(ISBLANK(Datenerfassung!J162),\" \",Datenerfassung!J162 ),\" [IS]\"), CONCATENATE(IF(ISBLANK(Datenerfassung!K162),\" \",Datenerfassung!K162 ),\" [IS]\"), CONCATENATE(IF(ISBLANK(Datenerfassung!L162),\" \",Datenerfassung!L162 ),\" [IS]\"), CONCATENATE(IF(ISBLANK(Datenerfassung!M162),\" \",Datenerfassung!M162 ),\" [IS]\"), IF(ISBLANK(Datenerfassung!N162),\" \",Datenerfassung!N162 ) ))","v":""},{"$f":"IF(ISBLANK(Datenerfassung!V162),\"\",Datenerfassung!V162)","v":""},{"$f":"IF(ISBLANK(Datenerfassung!Q162),\"\",Datenerfassung!Q162)","v":""}]
[{"$f":"IF(ISBLANK(Datenerfassung!A163),\"\",Datenerfassung!A163)","v":""},{"$f":"IF(ISBLANK(Datenerfassung!B163),\"\",Datenerfassung!B163)","v":""},{"$f":"IF(ISBLANK(Datenerfassung!C163),\"\",Datenerfassung!C163)","v":""},{"$f":"IF(ISBLANK(Datenerfassung!R163),\"\",Datenerfassung!R163)","v":""},{"$f":"IF(ISBLANK(Datenerfassung!S163),\"\",Datenerfassung!S163)","v":""},"",{"$f":"IF(ISBLANK(Datenerfassung!U163),\"\",Datenerfassung!U163)","v":""},{"$f":"IF(ISBLANK(Datenerfassung!O163),\"\",Datenerfassung!O163)","v":""},{"$f":"IF(ISBLANK(Datenerfassung!D163),IF(COUNTBLANK(A153:H153)+COUNTBLANK(J153:O153)=14,\"\",\"- ohne Titel -\"),Datenerfassung!D163)","v":""},{"$f":"IF(ISBLANK(Datenerfassung!G163),\"\",Datenerfassung!G163)","v":""},"",{"$f":"IF(ISBLANK(Datenerfassung!X163),\"\",Datenerfassung!X163)","v":""},{"$f":"IF(COUNTBLANK(Datenerfassung!H163:'Datenerfassung'!N163)=7,\"\",CONCATENATE( CONCATENATE(IF(ISBLANK(Datenerfassung!H163),\" \",Datenerfassung!H163 ),\" [IS]\"), CONCATENATE(IF(ISBLANK(Datenerfassung!I163),\" \",Datenerfassung!I163 ),\" [IS]\"), CONCATENATE(IF(ISBLANK(Datenerfassung!J163),\" \",Datenerfassung!J163 ),\" [IS]\"), CONCATENATE(IF(ISBLANK(Datenerfassung!K163),\" \",Datenerfassung!K163 ),\" [IS]\"), CONCATENATE(IF(ISBLANK(Datenerfassung!L163),\" \",Datenerfassung!L163 ),\" [IS]\"), CONCATENATE(IF(ISBLANK(Datenerfassung!M163),\" \",Datenerfassung!M163 ),\" [IS]\"), IF(ISBLANK(Datenerfassung!N163),\" \",Datenerfassung!N163 ) ))","v":""},{"$f":"IF(ISBLANK(Datenerfassung!V163),\"\",Datenerfassung!V163)","v":""},{"$f":"IF(ISBLANK(Datenerfassung!Q163),\"\",Datenerfassung!Q163)","v":""}]
[{"$f":"IF(ISBLANK(Datenerfassung!A164),\"\",Datenerfassung!A164)","v":""},{"$f":"IF(ISBLANK(Datenerfassung!B164),\"\",Datenerfassung!B164)","v":""},{"$f":"IF(ISBLANK(Datenerfassung!C164),\"\",Datenerfassung!C164)","v":""},{"$f":"IF(ISBLANK(Datenerfassung!R164),\"\",Datenerfassung!R164)","v":""},{"$f":"IF(ISBLANK(Datenerfassung!S164),\"\",Datenerfassung!S164)","v":""},"",{"$f":"IF(ISBLANK(Datenerfassung!U164),\"\",Datenerfassung!U164)","v":""},{"$f":"IF(ISBLANK(Datenerfassung!O164),\"\",Datenerfassung!O164)","v":""},{"$f":"IF(ISBLANK(Datenerfassung!D164),IF(COUNTBLANK(A154:H154)+COUNTBLANK(J154:O154)=14,\"\",\"- ohne Titel -\"),Datenerfassung!D164)","v":""},{"$f":"IF(ISBLANK(Datenerfassung!G164),\"\",Datenerfassung!G164)","v":""},"",{"$f":"IF(ISBLANK(Datenerfassung!X164),\"\",Datenerfassung!X164)","v":""},{"$f":"IF(COUNTBLANK(Datenerfassung!H164:'Datenerfassung'!N164)=7,\"\",CONCATENATE( CONCATENATE(IF(ISBLANK(Datenerfassung!H164),\" \",Datenerfassung!H164 ),\" [IS]\"), CONCATENATE(IF(ISBLANK(Datenerfassung!I164),\" \",Datenerfassung!I164 ),\" [IS]\"), CONCATENATE(IF(ISBLANK(Datenerfassung!J164),\" \",Datenerfassung!J164 ),\" [IS]\"), CONCATENATE(IF(ISBLANK(Datenerfassung!K164),\" \",Datenerfassung!K164 ),\" [IS]\"), CONCATENATE(IF(ISBLANK(Datenerfassung!L164),\" \",Datenerfassung!L164 ),\" [IS]\"), CONCATENATE(IF(ISBLANK(Datenerfassung!M164),\" \",Datenerfassung!M164 ),\" [IS]\"), IF(ISBLANK(Datenerfassung!N164),\" \",Datenerfassung!N164 ) ))","v":""},{"$f":"IF(ISBLANK(Datenerfassung!V164),\"\",Datenerfassung!V164)","v":""},{"$f":"IF(ISBLANK(Datenerfassung!Q164),\"\",Datenerfassung!Q164)","v":""}]
[{"$f":"IF(ISBLANK(Datenerfassung!A165),\"\",Datenerfassung!A165)","v":""},{"$f":"IF(ISBLANK(Datenerfassung!B165),\"\",Datenerfassung!B165)","v":""},{"$f":"IF(ISBLANK(Datenerfassung!C165),\"\",Datenerfassung!C165)","v":""},{"$f":"IF(ISBLANK(Datenerfassung!R165),\"\",Datenerfassung!R165)","v":""},{"$f":"IF(ISBLANK(Datenerfassung!S165),\"\",Datenerfassung!S165)","v":""},"",{"$f":"IF(ISBLANK(Datenerfassung!U165),\"\",Datenerfassung!U165)","v":""},{"$f":"IF(ISBLANK(Datenerfassung!O165),\"\",Datenerfassung!O165)","v":""},{"$f":"IF(ISBLANK(Datenerfassung!D165),IF(COUNTBLANK(A155:H155)+COUNTBLANK(J155:O155)=14,\"\",\"- ohne Titel -\"),Datenerfassung!D165)","v":""},{"$f":"IF(ISBLANK(Datenerfassung!G165),\"\",Datenerfassung!G165)","v":""},"",{"$f":"IF(ISBLANK(Datenerfassung!X165),\"\",Datenerfassung!X165)","v":""},{"$f":"IF(COUNTBLANK(Datenerfassung!H165:'Datenerfassung'!N165)=7,\"\",CONCATENATE( CONCATENATE(IF(ISBLANK(Datenerfassung!H165),\" \",Datenerfassung!H165 ),\" [IS]\"), CONCATENATE(IF(ISBLANK(Datenerfassung!I165),\" \",Datenerfassung!I165 ),\" [IS]\"), CONCATENATE(IF(ISBLANK(Datenerfassung!J165),\" \",Datenerfassung!J165 ),\" [IS]\"), CONCATENATE(IF(ISBLANK(Datenerfassung!K165),\" \",Datenerfassung!K165 ),\" [IS]\"), CONCATENATE(IF(ISBLANK(Datenerfassung!L165),\" \",Datenerfassung!L165 ),\" [IS]\"), CONCATENATE(IF(ISBLANK(Datenerfassung!M165),\" \",Datenerfassung!M165 ),\" [IS]\"), IF(ISBLANK(Datenerfassung!N165),\" \",Datenerfassung!N165 ) ))","v":""},{"$f":"IF(ISBLANK(Datenerfassung!V165),\"\",Datenerfassung!V165)","v":""},{"$f":"IF(ISBLANK(Datenerfassung!Q165),\"\",Datenerfassung!Q165)","v":""}]
[{"$f":"IF(ISBLANK(Datenerfassung!A166),\"\",Datenerfassung!A166)","v":""},{"$f":"IF(ISBLANK(Datenerfassung!B166),\"\",Datenerfassung!B166)","v":""},{"$f":"IF(ISBLANK(Datenerfassung!C166),\"\",Datenerfassung!C166)","v":""},{"$f":"IF(ISBLANK(Datenerfassung!R166),\"\",Datenerfassung!R166)","v":""},{"$f":"IF(ISBLANK(Datenerfassung!S166),\"\",Datenerfassung!S166)","v":""},"",{"$f":"IF(ISBLANK(Datenerfassung!U166),\"\",Datenerfassung!U166)","v":""},{"$f":"IF(ISBLANK(Datenerfassung!O166),\"\",Datenerfassung!O166)","v":""},{"$f":"IF(ISBLANK(Datenerfassung!D166),IF(COUNTBLANK(A156:H156)+COUNTBLANK(J156:O156)=14,\"\",\"- ohne Titel -\"),Datenerfassung!D166)","v":""},{"$f":"IF(ISBLANK(Datenerfassung!G166),\"\",Datenerfassung!G166)","v":""},"",{"$f":"IF(ISBLANK(Datenerfassung!X166),\"\",Datenerfassung!X166)","v":""},{"$f":"IF(COUNTBLANK(Datenerfassung!H166:'Datenerfassung'!N166)=7,\"\",CONCATENATE( CONCATENATE(IF(ISBLANK(Datenerfassung!H166),\" \",Datenerfassung!H166 ),\" [IS]\"), CONCATENATE(IF(ISBLANK(Datenerfassung!I166),\" \",Datenerfassung!I166 ),\" [IS]\"), CONCATENATE(IF(ISBLANK(Datenerfassung!J166),\" \",Datenerfassung!J166 ),\" [IS]\"), CONCATENATE(IF(ISBLANK(Datenerfassung!K166),\" \",Datenerfassung!K166 ),\" [IS]\"), CONCATENATE(IF(ISBLANK(Datenerfassung!L166),\" \",Datenerfassung!L166 ),\" [IS]\"), CONCATENATE(IF(ISBLANK(Datenerfassung!M166),\" \",Datenerfassung!M166 ),\" [IS]\"), IF(ISBLANK(Datenerfassung!N166),\" \",Datenerfassung!N166 ) ))","v":""},{"$f":"IF(ISBLANK(Datenerfassung!V166),\"\",Datenerfassung!V166)","v":""},{"$f":"IF(ISBLANK(Datenerfassung!Q166),\"\",Datenerfassung!Q166)","v":""}]
[{"$f":"IF(ISBLANK(Datenerfassung!A167),\"\",Datenerfassung!A167)","v":""},{"$f":"IF(ISBLANK(Datenerfassung!B167),\"\",Datenerfassung!B167)","v":""},{"$f":"IF(ISBLANK(Datenerfassung!C167),\"\",Datenerfassung!C167)","v":""},{"$f":"IF(ISBLANK(Datenerfassung!R167),\"\",Datenerfassung!R167)","v":""},{"$f":"IF(ISBLANK(Datenerfassung!S167),\"\",Datenerfassung!S167)","v":""},"",{"$f":"IF(ISBLANK(Datenerfassung!U167),\"\",Datenerfassung!U167)","v":""},{"$f":"IF(ISBLANK(Datenerfassung!O167),\"\",Datenerfassung!O167)","v":""},{"$f":"IF(ISBLANK(Datenerfassung!D167),IF(COUNTBLANK(A157:H157)+COUNTBLANK(J157:O157)=14,\"\",\"- ohne Titel -\"),Datenerfassung!D167)","v":""},{"$f":"IF(ISBLANK(Datenerfassung!G167),\"\",Datenerfassung!G167)","v":""},"",{"$f":"IF(ISBLANK(Datenerfassung!X167),\"\",Datenerfassung!X167)","v":""},{"$f":"IF(COUNTBLANK(Datenerfassung!H167:'Datenerfassung'!N167)=7,\"\",CONCATENATE( CONCATENATE(IF(ISBLANK(Datenerfassung!H167),\" \",Datenerfassung!H167 ),\" [IS]\"), CONCATENATE(IF(ISBLANK(Datenerfassung!I167),\" \",Datenerfassung!I167 ),\" [IS]\"), CONCATENATE(IF(ISBLANK(Datenerfassung!J167),\" \",Datenerfassung!J167 ),\" [IS]\"), CONCATENATE(IF(ISBLANK(Datenerfassung!K167),\" \",Datenerfassung!K167 ),\" [IS]\"), CONCATENATE(IF(ISBLANK(Datenerfassung!L167),\" \",Datenerfassung!L167 ),\" [IS]\"), CONCATENATE(IF(ISBLANK(Datenerfassung!M167),\" \",Datenerfassung!M167 ),\" [IS]\"), IF(ISBLANK(Datenerfassung!N167),\" \",Datenerfassung!N167 ) ))","v":""},{"$f":"IF(ISBLANK(Datenerfassung!V167),\"\",Datenerfassung!V167)","v":""},{"$f":"IF(ISBLANK(Datenerfassung!Q167),\"\",Datenerfassung!Q167)","v":""}]
[{"$f":"IF(ISBLANK(Datenerfassung!A168),\"\",Datenerfassung!A168)","v":""},{"$f":"IF(ISBLANK(Datenerfassung!B168),\"\",Datenerfassung!B168)","v":""},{"$f":"IF(ISBLANK(Datenerfassung!C168),\"\",Datenerfassung!C168)","v":""},{"$f":"IF(ISBLANK(Datenerfassung!R168),\"\",Datenerfassung!R168)","v":""},{"$f":"IF(ISBLANK(Datenerfassung!S168),\"\",Datenerfassung!S168)","v":""},"",{"$f":"IF(ISBLANK(Datenerfassung!U168),\"\",Datenerfassung!U168)","v":""},{"$f":"IF(ISBLANK(Datenerfassung!O168),\"\",Datenerfassung!O168)","v":""},{"$f":"IF(ISBLANK(Datenerfassung!D168),IF(COUNTBLANK(A158:H158)+COUNTBLANK(J158:O158)=14,\"\",\"- ohne Titel -\"),Datenerfassung!D168)","v":""},{"$f":"IF(ISBLANK(Datenerfassung!G168),\"\",Datenerfassung!G168)","v":""},"",{"$f":"IF(ISBLANK(Datenerfassung!X168),\"\",Datenerfassung!X168)","v":""},{"$f":"IF(COUNTBLANK(Datenerfassung!H168:'Datenerfassung'!N168)=7,\"\",CONCATENATE( CONCATENATE(IF(ISBLANK(Datenerfassung!H168),\" \",Datenerfassung!H168 ),\" [IS]\"), CONCATENATE(IF(ISBLANK(Datenerfassung!I168),\" \",Datenerfassung!I168 ),\" [IS]\"), CONCATENATE(IF(ISBLANK(Datenerfassung!J168),\" \",Datenerfassung!J168 ),\" [IS]\"), CONCATENATE(IF(ISBLANK(Datenerfassung!K168),\" \",Datenerfassung!K168 ),\" [IS]\"), CONCATENATE(IF(ISBLANK(Datenerfassung!L168),\" \",Datenerfassung!L168 ),\" [IS]\"), CONCATENATE(IF(ISBLANK(Datenerfassung!M168),\" \",Datenerfassung!M168 ),\" [IS]\"), IF(ISBLANK(Datenerfassung!N168),\" \",Datenerfassung!N168 ) ))","v":""},{"$f":"IF(ISBLANK(Datenerfassung!V168),\"\",Datenerfassung!V168)","v":""},{"$f":"IF(ISBLANK(Datenerfassung!Q168),\"\",Datenerfassung!Q168)","v":""}]
[{"$f":"IF(ISBLANK(Datenerfassung!A169),\"\",Datenerfassung!A169)","v":""},{"$f":"IF(ISBLANK(Datenerfassung!B169),\"\",Datenerfassung!B169)","v":""},{"$f":"IF(ISBLANK(Datenerfassung!C169),\"\",Datenerfassung!C169)","v":""},{"$f":"IF(ISBLANK(Datenerfassung!R169),\"\",Datenerfassung!R169)","v":""},{"$f":"IF(ISBLANK(Datenerfassung!S169),\"\",Datenerfassung!S169)","v":""},"",{"$f":"IF(ISBLANK(Datenerfassung!U169),\"\",Datenerfassung!U169)","v":""},{"$f":"IF(ISBLANK(Datenerfassung!O169),\"\",Datenerfassung!O169)","v":""},{"$f":"IF(ISBLANK(Datenerfassung!D169),IF(COUNTBLANK(A159:H159)+COUNTBLANK(J159:O159)=14,\"\",\"- ohne Titel -\"),Datenerfassung!D169)","v":""},{"$f":"IF(ISBLANK(Datenerfassung!G169),\"\",Datenerfassung!G169)","v":""},"",{"$f":"IF(ISBLANK(Datenerfassung!X169),\"\",Datenerfassung!X169)","v":""},{"$f":"IF(COUNTBLANK(Datenerfassung!H169:'Datenerfassung'!N169)=7,\"\",CONCATENATE( CONCATENATE(IF(ISBLANK(Datenerfassung!H169),\" \",Datenerfassung!H169 ),\" [IS]\"), CONCATENATE(IF(ISBLANK(Datenerfassung!I169),\" \",Datenerfassung!I169 ),\" [IS]\"), CONCATENATE(IF(ISBLANK(Datenerfassung!J169),\" \",Datenerfassung!J169 ),\" [IS]\"), CONCATENATE(IF(ISBLANK(Datenerfassung!K169),\" \",Datenerfassung!K169 ),\" [IS]\"), CONCATENATE(IF(ISBLANK(Datenerfassung!L169),\" \",Datenerfassung!L169 ),\" [IS]\"), CONCATENATE(IF(ISBLANK(Datenerfassung!M169),\" \",Datenerfassung!M169 ),\" [IS]\"), IF(ISBLANK(Datenerfassung!N169),\" \",Datenerfassung!N169 ) ))","v":""},{"$f":"IF(ISBLANK(Datenerfassung!V169),\"\",Datenerfassung!V169)","v":""},{"$f":"IF(ISBLANK(Datenerfassung!Q169),\"\",Datenerfassung!Q169)","v":""}]
[{"$f":"IF(ISBLANK(Datenerfassung!A170),\"\",Datenerfassung!A170)","v":""},{"$f":"IF(ISBLANK(Datenerfassung!B170),\"\",Datenerfassung!B170)","v":""},{"$f":"IF(ISBLANK(Datenerfassung!C170),\"\",Datenerfassung!C170)","v":""},{"$f":"IF(ISBLANK(Datenerfassung!R170),\"\",Datenerfassung!R170)","v":""},{"$f":"IF(ISBLANK(Datenerfassung!S170),\"\",Datenerfassung!S170)","v":""},"",{"$f":"IF(ISBLANK(Datenerfassung!U170),\"\",Datenerfassung!U170)","v":""},{"$f":"IF(ISBLANK(Datenerfassung!O170),\"\",Datenerfassung!O170)","v":""},{"$f":"IF(ISBLANK(Datenerfassung!D170),IF(COUNTBLANK(A160:H160)+COUNTBLANK(J160:O160)=14,\"\",\"- ohne Titel -\"),Datenerfassung!D170)","v":""},{"$f":"IF(ISBLANK(Datenerfassung!G170),\"\",Datenerfassung!G170)","v":""},"",{"$f":"IF(ISBLANK(Datenerfassung!X170),\"\",Datenerfassung!X170)","v":""},{"$f":"IF(COUNTBLANK(Datenerfassung!H170:'Datenerfassung'!N170)=7,\"\",CONCATENATE( CONCATENATE(IF(ISBLANK(Datenerfassung!H170),\" \",Datenerfassung!H170 ),\" [IS]\"), CONCATENATE(IF(ISBLANK(Datenerfassung!I170),\" \",Datenerfassung!I170 ),\" [IS]\"), CONCATENATE(IF(ISBLANK(Datenerfassung!J170),\" \",Datenerfassung!J170 ),\" [IS]\"), CONCATENATE(IF(ISBLANK(Datenerfassung!K170),\" \",Datenerfassung!K170 ),\" [IS]\"), CONCATENATE(IF(ISBLANK(Datenerfassung!L170),\" \",Datenerfassung!L170 ),\" [IS]\"), CONCATENATE(IF(ISBLANK(Datenerfassung!M170),\" \",Datenerfassung!M170 ),\" [IS]\"), IF(ISBLANK(Datenerfassung!N170),\" \",Datenerfassung!N170 ) ))","v":""},{"$f":"IF(ISBLANK(Datenerfassung!V170),\"\",Datenerfassung!V170)","v":""},{"$f":"IF(ISBLANK(Datenerfassung!Q170),\"\",Datenerfassung!Q170)","v":""}]
[{"$f":"IF(ISBLANK(Datenerfassung!A171),\"\",Datenerfassung!A171)","v":""},{"$f":"IF(ISBLANK(Datenerfassung!B171),\"\",Datenerfassung!B171)","v":""},{"$f":"IF(ISBLANK(Datenerfassung!C171),\"\",Datenerfassung!C171)","v":""},{"$f":"IF(ISBLANK(Datenerfassung!R171),\"\",Datenerfassung!R171)","v":""},{"$f":"IF(ISBLANK(Datenerfassung!S171),\"\",Datenerfassung!S171)","v":""},"",{"$f":"IF(ISBLANK(Datenerfassung!U171),\"\",Datenerfassung!U171)","v":""},{"$f":"IF(ISBLANK(Datenerfassung!O171),\"\",Datenerfassung!O171)","v":""},{"$f":"IF(ISBLANK(Datenerfassung!D171),IF(COUNTBLANK(A161:H161)+COUNTBLANK(J161:O161)=14,\"\",\"- ohne Titel -\"),Datenerfassung!D171)","v":""},{"$f":"IF(ISBLANK(Datenerfassung!G171),\"\",Datenerfassung!G171)","v":""},"",{"$f":"IF(ISBLANK(Datenerfassung!X171),\"\",Datenerfassung!X171)","v":""},{"$f":"IF(COUNTBLANK(Datenerfassung!H171:'Datenerfassung'!N171)=7,\"\",CONCATENATE( CONCATENATE(IF(ISBLANK(Datenerfassung!H171),\" \",Datenerfassung!H171 ),\" [IS]\"), CONCATENATE(IF(ISBLANK(Datenerfassung!I171),\" \",Datenerfassung!I171 ),\" [IS]\"), CONCATENATE(IF(ISBLANK(Datenerfassung!J171),\" \",Datenerfassung!J171 ),\" [IS]\"), CONCATENATE(IF(ISBLANK(Datenerfassung!K171),\" \",Datenerfassung!K171 ),\" [IS]\"), CONCATENATE(IF(ISBLANK(Datenerfassung!L171),\" \",Datenerfassung!L171 ),\" [IS]\"), CONCATENATE(IF(ISBLANK(Datenerfassung!M171),\" \",Datenerfassung!M171 ),\" [IS]\"), IF(ISBLANK(Datenerfassung!N171),\" \",Datenerfassung!N171 ) ))","v":""},{"$f":"IF(ISBLANK(Datenerfassung!V171),\"\",Datenerfassung!V171)","v":""},{"$f":"IF(ISBLANK(Datenerfassung!Q171),\"\",Datenerfassung!Q171)","v":""}]
[{"$f":"IF(ISBLANK(Datenerfassung!A172),\"\",Datenerfassung!A172)","v":""},{"$f":"IF(ISBLANK(Datenerfassung!B172),\"\",Datenerfassung!B172)","v":""},{"$f":"IF(ISBLANK(Datenerfassung!C172),\"\",Datenerfassung!C172)","v":""},{"$f":"IF(ISBLANK(Datenerfassung!R172),\"\",Datenerfassung!R172)","v":""},{"$f":"IF(ISBLANK(Datenerfassung!S172),\"\",Datenerfassung!S172)","v":""},"",{"$f":"IF(ISBLANK(Datenerfassung!U172),\"\",Datenerfassung!U172)","v":""},{"$f":"IF(ISBLANK(Datenerfassung!O172),\"\",Datenerfassung!O172)","v":""},{"$f":"IF(ISBLANK(Datenerfassung!D172),IF(COUNTBLANK(A162:H162)+COUNTBLANK(J162:O162)=14,\"\",\"- ohne Titel -\"),Datenerfassung!D172)","v":""},{"$f":"IF(ISBLANK(Datenerfassung!G172),\"\",Datenerfassung!G172)","v":""},"",{"$f":"IF(ISBLANK(Datenerfassung!X172),\"\",Datenerfassung!X172)","v":""},{"$f":"IF(COUNTBLANK(Datenerfassung!H172:'Datenerfassung'!N172)=7,\"\",CONCATENATE( CONCATENATE(IF(ISBLANK(Datenerfassung!H172),\" \",Datenerfassung!H172 ),\" [IS]\"), CONCATENATE(IF(ISBLANK(Datenerfassung!I172),\" \",Datenerfassung!I172 ),\" [IS]\"), CONCATENATE(IF(ISBLANK(Datenerfassung!J172),\" \",Datenerfassung!J172 ),\" [IS]\"), CONCATENATE(IF(ISBLANK(Datenerfassung!K172),\" \",Datenerfassung!K172 ),\" [IS]\"), CONCATENATE(IF(ISBLANK(Datenerfassung!L172),\" \",Datenerfassung!L172 ),\" [IS]\"), CONCATENATE(IF(ISBLANK(Datenerfassung!M172),\" \",Datenerfassung!M172 ),\" [IS]\"), IF(ISBLANK(Datenerfassung!N172),\" \",Datenerfassung!N172 ) ))","v":""},{"$f":"IF(ISBLANK(Datenerfassung!V172),\"\",Datenerfassung!V172)","v":""},{"$f":"IF(ISBLANK(Datenerfassung!Q172),\"\",Datenerfassung!Q172)","v":""}]
[{"$f":"IF(ISBLANK(Datenerfassung!A173),\"\",Datenerfassung!A173)","v":""},{"$f":"IF(ISBLANK(Datenerfassung!B173),\"\",Datenerfassung!B173)","v":""},{"$f":"IF(ISBLANK(Datenerfassung!C173),\"\",Datenerfassung!C173)","v":""},{"$f":"IF(ISBLANK(Datenerfassung!R173),\"\",Datenerfassung!R173)","v":""},{"$f":"IF(ISBLANK(Datenerfassung!S173),\"\",Datenerfassung!S173)","v":""},"",{"$f":"IF(ISBLANK(Datenerfassung!U173),\"\",Datenerfassung!U173)","v":""},{"$f":"IF(ISBLANK(Datenerfassung!O173),\"\",Datenerfassung!O173)","v":""},{"$f":"IF(ISBLANK(Datenerfassung!D173),IF(COUNTBLANK(A163:H163)+COUNTBLANK(J163:O163)=14,\"\",\"- ohne Titel -\"),Datenerfassung!D173)","v":""},{"$f":"IF(ISBLANK(Datenerfassung!G173),\"\",Datenerfassung!G173)","v":""},"",{"$f":"IF(ISBLANK(Datenerfassung!X173),\"\",Datenerfassung!X173)","v":""},{"$f":"IF(COUNTBLANK(Datenerfassung!H173:'Datenerfassung'!N173)=7,\"\",CONCATENATE( CONCATENATE(IF(ISBLANK(Datenerfassung!H173),\" \",Datenerfassung!H173 ),\" [IS]\"), CONCATENATE(IF(ISBLANK(Datenerfassung!I173),\" \",Datenerfassung!I173 ),\" [IS]\"), CONCATENATE(IF(ISBLANK(Datenerfassung!J173),\" \",Datenerfassung!J173 ),\" [IS]\"), CONCATENATE(IF(ISBLANK(Datenerfassung!K173),\" \",Datenerfassung!K173 ),\" [IS]\"), CONCATENATE(IF(ISBLANK(Datenerfassung!L173),\" \",Datenerfassung!L173 ),\" [IS]\"), CONCATENATE(IF(ISBLANK(Datenerfassung!M173),\" \",Datenerfassung!M173 ),\" [IS]\"), IF(ISBLANK(Datenerfassung!N173),\" \",Datenerfassung!N173 ) ))","v":""},{"$f":"IF(ISBLANK(Datenerfassung!V173),\"\",Datenerfassung!V173)","v":""},{"$f":"IF(ISBLANK(Datenerfassung!Q173),\"\",Datenerfassung!Q173)","v":""}]
[{"$f":"IF(ISBLANK(Datenerfassung!A174),\"\",Datenerfassung!A174)","v":""},{"$f":"IF(ISBLANK(Datenerfassung!B174),\"\",Datenerfassung!B174)","v":""},{"$f":"IF(ISBLANK(Datenerfassung!C174),\"\",Datenerfassung!C174)","v":""},{"$f":"IF(ISBLANK(Datenerfassung!R174),\"\",Datenerfassung!R174)","v":""},{"$f":"IF(ISBLANK(Datenerfassung!S174),\"\",Datenerfassung!S174)","v":""},"",{"$f":"IF(ISBLANK(Datenerfassung!U174),\"\",Datenerfassung!U174)","v":""},{"$f":"IF(ISBLANK(Datenerfassung!O174),\"\",Datenerfassung!O174)","v":""},{"$f":"IF(ISBLANK(Datenerfassung!D174),IF(COUNTBLANK(A164:H164)+COUNTBLANK(J164:O164)=14,\"\",\"- ohne Titel -\"),Datenerfassung!D174)","v":""},{"$f":"IF(ISBLANK(Datenerfassung!G174),\"\",Datenerfassung!G174)","v":""},"",{"$f":"IF(ISBLANK(Datenerfassung!X174),\"\",Datenerfassung!X174)","v":""},{"$f":"IF(COUNTBLANK(Datenerfassung!H174:'Datenerfassung'!N174)=7,\"\",CONCATENATE( CONCATENATE(IF(ISBLANK(Datenerfassung!H174),\" \",Datenerfassung!H174 ),\" [IS]\"), CONCATENATE(IF(ISBLANK(Datenerfassung!I174),\" \",Datenerfassung!I174 ),\" [IS]\"), CONCATENATE(IF(ISBLANK(Datenerfassung!J174),\" \",Datenerfassung!J174 ),\" [IS]\"), CONCATENATE(IF(ISBLANK(Datenerfassung!K174),\" \",Datenerfassung!K174 ),\" [IS]\"), CONCATENATE(IF(ISBLANK(Datenerfassung!L174),\" \",Datenerfassung!L174 ),\" [IS]\"), CONCATENATE(IF(ISBLANK(Datenerfassung!M174),\" \",Datenerfassung!M174 ),\" [IS]\"), IF(ISBLANK(Datenerfassung!N174),\" \",Datenerfassung!N174 ) ))","v":""},{"$f":"IF(ISBLANK(Datenerfassung!V174),\"\",Datenerfassung!V174)","v":""},{"$f":"IF(ISBLANK(Datenerfassung!Q174),\"\",Datenerfassung!Q174)","v":""}]
[{"$f":"IF(ISBLANK(Datenerfassung!A175),\"\",Datenerfassung!A175)","v":""},{"$f":"IF(ISBLANK(Datenerfassung!B175),\"\",Datenerfassung!B175)","v":""},{"$f":"IF(ISBLANK(Datenerfassung!C175),\"\",Datenerfassung!C175)","v":""},{"$f":"IF(ISBLANK(Datenerfassung!R175),\"\",Datenerfassung!R175)","v":""},{"$f":"IF(ISBLANK(Datenerfassung!S175),\"\",Datenerfassung!S175)","v":""},"",{"$f":"IF(ISBLANK(Datenerfassung!U175),\"\",Datenerfassung!U175)","v":""},{"$f":"IF(ISBLANK(Datenerfassung!O175),\"\",Datenerfassung!O175)","v":""},{"$f":"IF(ISBLANK(Datenerfassung!D175),IF(COUNTBLANK(A165:H165)+COUNTBLANK(J165:O165)=14,\"\",\"- ohne Titel -\"),Datenerfassung!D175)","v":""},{"$f":"IF(ISBLANK(Datenerfassung!G175),\"\",Datenerfassung!G175)","v":""},"",{"$f":"IF(ISBLANK(Datenerfassung!X175),\"\",Datenerfassung!X175)","v":""},{"$f":"IF(COUNTBLANK(Datenerfassung!H175:'Datenerfassung'!N175)=7,\"\",CONCATENATE( CONCATENATE(IF(ISBLANK(Datenerfassung!H175),\" \",Datenerfassung!H175 ),\" [IS]\"), CONCATENATE(IF(ISBLANK(Datenerfassung!I175),\" \",Datenerfassung!I175 ),\" [IS]\"), CONCATENATE(IF(ISBLANK(Datenerfassung!J175),\" \",Datenerfassung!J175 ),\" [IS]\"), CONCATENATE(IF(ISBLANK(Datenerfassung!K175),\" \",Datenerfassung!K175 ),\" [IS]\"), CONCATENATE(IF(ISBLANK(Datenerfassung!L175),\" \",Datenerfassung!L175 ),\" [IS]\"), CONCATENATE(IF(ISBLANK(Datenerfassung!M175),\" \",Datenerfassung!M175 ),\" [IS]\"), IF(ISBLANK(Datenerfassung!N175),\" \",Datenerfassung!N175 ) ))","v":""},{"$f":"IF(ISBLANK(Datenerfassung!V175),\"\",Datenerfassung!V175)","v":""},{"$f":"IF(ISBLANK(Datenerfassung!Q175),\"\",Datenerfassung!Q175)","v":""}]
[{"$f":"IF(ISBLANK(Datenerfassung!A176),\"\",Datenerfassung!A176)","v":""},{"$f":"IF(ISBLANK(Datenerfassung!B176),\"\",Datenerfassung!B176)","v":""},{"$f":"IF(ISBLANK(Datenerfassung!C176),\"\",Datenerfassung!C176)","v":""},{"$f":"IF(ISBLANK(Datenerfassung!R176),\"\",Datenerfassung!R176)","v":""},{"$f":"IF(ISBLANK(Datenerfassung!S176),\"\",Datenerfassung!S176)","v":""},"",{"$f":"IF(ISBLANK(Datenerfassung!U176),\"\",Datenerfassung!U176)","v":""},{"$f":"IF(ISBLANK(Datenerfassung!O176),\"\",Datenerfassung!O176)","v":""},{"$f":"IF(ISBLANK(Datenerfassung!D176),IF(COUNTBLANK(A166:H166)+COUNTBLANK(J166:O166)=14,\"\",\"- ohne Titel -\"),Datenerfassung!D176)","v":""},{"$f":"IF(ISBLANK(Datenerfassung!G176),\"\",Datenerfassung!G176)","v":""},"",{"$f":"IF(ISBLANK(Datenerfassung!X176),\"\",Datenerfassung!X176)","v":""},{"$f":"IF(COUNTBLANK(Datenerfassung!H176:'Datenerfassung'!N176)=7,\"\",CONCATENATE( CONCATENATE(IF(ISBLANK(Datenerfassung!H176),\" \",Datenerfassung!H176 ),\" [IS]\"), CONCATENATE(IF(ISBLANK(Datenerfassung!I176),\" \",Datenerfassung!I176 ),\" [IS]\"), CONCATENATE(IF(ISBLANK(Datenerfassung!J176),\" \",Datenerfassung!J176 ),\" [IS]\"), CONCATENATE(IF(ISBLANK(Datenerfassung!K176),\" \",Datenerfassung!K176 ),\" [IS]\"), CONCATENATE(IF(ISBLANK(Datenerfassung!L176),\" \",Datenerfassung!L176 ),\" [IS]\"), CONCATENATE(IF(ISBLANK(Datenerfassung!M176),\" \",Datenerfassung!M176 ),\" [IS]\"), IF(ISBLANK(Datenerfassung!N176),\" \",Datenerfassung!N176 ) ))","v":""},{"$f":"IF(ISBLANK(Datenerfassung!V176),\"\",Datenerfassung!V176)","v":""},{"$f":"IF(ISBLANK(Datenerfassung!Q176),\"\",Datenerfassung!Q176)","v":""}]
[{"$f":"IF(ISBLANK(Datenerfassung!A177),\"\",Datenerfassung!A177)","v":""},{"$f":"IF(ISBLANK(Datenerfassung!B177),\"\",Datenerfassung!B177)","v":""},{"$f":"IF(ISBLANK(Datenerfassung!C177),\"\",Datenerfassung!C177)","v":""},{"$f":"IF(ISBLANK(Datenerfassung!R177),\"\",Datenerfassung!R177)","v":""},{"$f":"IF(ISBLANK(Datenerfassung!S177),\"\",Datenerfassung!S177)","v":""},"",{"$f":"IF(ISBLANK(Datenerfassung!U177),\"\",Datenerfassung!U177)","v":""},{"$f":"IF(ISBLANK(Datenerfassung!O177),\"\",Datenerfassung!O177)","v":""},{"$f":"IF(ISBLANK(Datenerfassung!D177),IF(COUNTBLANK(A167:H167)+COUNTBLANK(J167:O167)=14,\"\",\"- ohne Titel -\"),Datenerfassung!D177)","v":""},{"$f":"IF(ISBLANK(Datenerfassung!G177),\"\",Datenerfassung!G177)","v":""},"",{"$f":"IF(ISBLANK(Datenerfassung!X177),\"\",Datenerfassung!X177)","v":""},{"$f":"IF(COUNTBLANK(Datenerfassung!H177:'Datenerfassung'!N177)=7,\"\",CONCATENATE( CONCATENATE(IF(ISBLANK(Datenerfassung!H177),\" \",Datenerfassung!H177 ),\" [IS]\"), CONCATENATE(IF(ISBLANK(Datenerfassung!I177),\" \",Datenerfassung!I177 ),\" [IS]\"), CONCATENATE(IF(ISBLANK(Datenerfassung!J177),\" \",Datenerfassung!J177 ),\" [IS]\"), CONCATENATE(IF(ISBLANK(Datenerfassung!K177),\" \",Datenerfassung!K177 ),\" [IS]\"), CONCATENATE(IF(ISBLANK(Datenerfassung!L177),\" \",Datenerfassung!L177 ),\" [IS]\"), CONCATENATE(IF(ISBLANK(Datenerfassung!M177),\" \",Datenerfassung!M177 ),\" [IS]\"), IF(ISBLANK(Datenerfassung!N177),\" \",Datenerfassung!N177 ) ))","v":""},{"$f":"IF(ISBLANK(Datenerfassung!V177),\"\",Datenerfassung!V177)","v":""},{"$f":"IF(ISBLANK(Datenerfassung!Q177),\"\",Datenerfassung!Q177)","v":""}]
[{"$f":"IF(ISBLANK(Datenerfassung!A178),\"\",Datenerfassung!A178)","v":""},{"$f":"IF(ISBLANK(Datenerfassung!B178),\"\",Datenerfassung!B178)","v":""},{"$f":"IF(ISBLANK(Datenerfassung!C178),\"\",Datenerfassung!C178)","v":""},{"$f":"IF(ISBLANK(Datenerfassung!R178),\"\",Datenerfassung!R178)","v":""},{"$f":"IF(ISBLANK(Datenerfassung!S178),\"\",Datenerfassung!S178)","v":""},"",{"$f":"IF(ISBLANK(Datenerfassung!U178),\"\",Datenerfassung!U178)","v":""},{"$f":"IF(ISBLANK(Datenerfassung!O178),\"\",Datenerfassung!O178)","v":""},{"$f":"IF(ISBLANK(Datenerfassung!D178),IF(COUNTBLANK(A168:H168)+COUNTBLANK(J168:O168)=14,\"\",\"- ohne Titel -\"),Datenerfassung!D178)","v":""},{"$f":"IF(ISBLANK(Datenerfassung!G178),\"\",Datenerfassung!G178)","v":""},"",{"$f":"IF(ISBLANK(Datenerfassung!X178),\"\",Datenerfassung!X178)","v":""},{"$f":"IF(COUNTBLANK(Datenerfassung!H178:'Datenerfassung'!N178)=7,\"\",CONCATENATE( CONCATENATE(IF(ISBLANK(Datenerfassung!H178),\" \",Datenerfassung!H178 ),\" [IS]\"), CONCATENATE(IF(ISBLANK(Datenerfassung!I178),\" \",Datenerfassung!I178 ),\" [IS]\"), CONCATENATE(IF(ISBLANK(Datenerfassung!J178),\" \",Datenerfassung!J178 ),\" [IS]\"), CONCATENATE(IF(ISBLANK(Datenerfassung!K178),\" \",Datenerfassung!K178 ),\" [IS]\"), CONCATENATE(IF(ISBLANK(Datenerfassung!L178),\" \",Datenerfassung!L178 ),\" [IS]\"), CONCATENATE(IF(ISBLANK(Datenerfassung!M178),\" \",Datenerfassung!M178 ),\" [IS]\"), IF(ISBLANK(Datenerfassung!N178),\" \",Datenerfassung!N178 ) ))","v":""},{"$f":"IF(ISBLANK(Datenerfassung!V178),\"\",Datenerfassung!V178)","v":""},{"$f":"IF(ISBLANK(Datenerfassung!Q178),\"\",Datenerfassung!Q178)","v":""}]
[{"$f":"IF(ISBLANK(Datenerfassung!A179),\"\",Datenerfassung!A179)","v":""},{"$f":"IF(ISBLANK(Datenerfassung!B179),\"\",Datenerfassung!B179)","v":""},{"$f":"IF(ISBLANK(Datenerfassung!C179),\"\",Datenerfassung!C179)","v":""},{"$f":"IF(ISBLANK(Datenerfassung!R179),\"\",Datenerfassung!R179)","v":""},{"$f":"IF(ISBLANK(Datenerfassung!S179),\"\",Datenerfassung!S179)","v":""},"",{"$f":"IF(ISBLANK(Datenerfassung!U179),\"\",Datenerfassung!U179)","v":""},{"$f":"IF(ISBLANK(Datenerfassung!O179),\"\",Datenerfassung!O179)","v":""},{"$f":"IF(ISBLANK(Datenerfassung!D179),IF(COUNTBLANK(A169:H169)+COUNTBLANK(J169:O169)=14,\"\",\"- ohne Titel -\"),Datenerfassung!D179)","v":""},{"$f":"IF(ISBLANK(Datenerfassung!G179),\"\",Datenerfassung!G179)","v":""},"",{"$f":"IF(ISBLANK(Datenerfassung!X179),\"\",Datenerfassung!X179)","v":""},{"$f":"IF(COUNTBLANK(Datenerfassung!H179:'Datenerfassung'!N179)=7,\"\",CONCATENATE( CONCATENATE(IF(ISBLANK(Datenerfassung!H179),\" \",Datenerfassung!H179 ),\" [IS]\"), CONCATENATE(IF(ISBLANK(Datenerfassung!I179),\" \",Datenerfassung!I179 ),\" [IS]\"), CONCATENATE(IF(ISBLANK(Datenerfassung!J179),\" \",Datenerfassung!J179 ),\" [IS]\"), CONCATENATE(IF(ISBLANK(Datenerfassung!K179),\" \",Datenerfassung!K179 ),\" [IS]\"), CONCATENATE(IF(ISBLANK(Datenerfassung!L179),\" \",Datenerfassung!L179 ),\" [IS]\"), CONCATENATE(IF(ISBLANK(Datenerfassung!M179),\" \",Datenerfassung!M179 ),\" [IS]\"), IF(ISBLANK(Datenerfassung!N179),\" \",Datenerfassung!N179 ) ))","v":""},{"$f":"IF(ISBLANK(Datenerfassung!V179),\"\",Datenerfassung!V179)","v":""},{"$f":"IF(ISBLANK(Datenerfassung!Q179),\"\",Datenerfassung!Q179)","v":""}]
[{"$f":"IF(ISBLANK(Datenerfassung!A180),\"\",Datenerfassung!A180)","v":""},{"$f":"IF(ISBLANK(Datenerfassung!B180),\"\",Datenerfassung!B180)","v":""},{"$f":"IF(ISBLANK(Datenerfassung!C180),\"\",Datenerfassung!C180)","v":""},{"$f":"IF(ISBLANK(Datenerfassung!R180),\"\",Datenerfassung!R180)","v":""},{"$f":"IF(ISBLANK(Datenerfassung!S180),\"\",Datenerfassung!S180)","v":""},"",{"$f":"IF(ISBLANK(Datenerfassung!U180),\"\",Datenerfassung!U180)","v":""},{"$f":"IF(ISBLANK(Datenerfassung!O180),\"\",Datenerfassung!O180)","v":""},{"$f":"IF(ISBLANK(Datenerfassung!D180),IF(COUNTBLANK(A170:H170)+COUNTBLANK(J170:O170)=14,\"\",\"- ohne Titel -\"),Datenerfassung!D180)","v":""},{"$f":"IF(ISBLANK(Datenerfassung!G180),\"\",Datenerfassung!G180)","v":""},"",{"$f":"IF(ISBLANK(Datenerfassung!X180),\"\",Datenerfassung!X180)","v":""},{"$f":"IF(COUNTBLANK(Datenerfassung!H180:'Datenerfassung'!N180)=7,\"\",CONCATENATE( CONCATENATE(IF(ISBLANK(Datenerfassung!H180),\" \",Datenerfassung!H180 ),\" [IS]\"), CONCATENATE(IF(ISBLANK(Datenerfassung!I180),\" \",Datenerfassung!I180 ),\" [IS]\"), CONCATENATE(IF(ISBLANK(Datenerfassung!J180),\" \",Datenerfassung!J180 ),\" [IS]\"), CONCATENATE(IF(ISBLANK(Datenerfassung!K180),\" \",Datenerfassung!K180 ),\" [IS]\"), CONCATENATE(IF(ISBLANK(Datenerfassung!L180),\" \",Datenerfassung!L180 ),\" [IS]\"), CONCATENATE(IF(ISBLANK(Datenerfassung!M180),\" \",Datenerfassung!M180 ),\" [IS]\"), IF(ISBLANK(Datenerfassung!N180),\" \",Datenerfassung!N180 ) ))","v":""},{"$f":"IF(ISBLANK(Datenerfassung!V180),\"\",Datenerfassung!V180)","v":""},{"$f":"IF(ISBLANK(Datenerfassung!Q180),\"\",Datenerfassung!Q180)","v":""}]
[{"$f":"IF(ISBLANK(Datenerfassung!A181),\"\",Datenerfassung!A181)","v":""},{"$f":"IF(ISBLANK(Datenerfassung!B181),\"\",Datenerfassung!B181)","v":""},{"$f":"IF(ISBLANK(Datenerfassung!C181),\"\",Datenerfassung!C181)","v":""},{"$f":"IF(ISBLANK(Datenerfassung!R181),\"\",Datenerfassung!R181)","v":""},{"$f":"IF(ISBLANK(Datenerfassung!S181),\"\",Datenerfassung!S181)","v":""},"",{"$f":"IF(ISBLANK(Datenerfassung!U181),\"\",Datenerfassung!U181)","v":""},{"$f":"IF(ISBLANK(Datenerfassung!O181),\"\",Datenerfassung!O181)","v":""},{"$f":"IF(ISBLANK(Datenerfassung!D181),IF(COUNTBLANK(A171:H171)+COUNTBLANK(J171:O171)=14,\"\",\"- ohne Titel -\"),Datenerfassung!D181)","v":""},{"$f":"IF(ISBLANK(Datenerfassung!G181),\"\",Datenerfassung!G181)","v":""},"",{"$f":"IF(ISBLANK(Datenerfassung!X181),\"\",Datenerfassung!X181)","v":""},{"$f":"IF(COUNTBLANK(Datenerfassung!H181:'Datenerfassung'!N181)=7,\"\",CONCATENATE( CONCATENATE(IF(ISBLANK(Datenerfassung!H181),\" \",Datenerfassung!H181 ),\" [IS]\"), CONCATENATE(IF(ISBLANK(Datenerfassung!I181),\" \",Datenerfassung!I181 ),\" [IS]\"), CONCATENATE(IF(ISBLANK(Datenerfassung!J181),\" \",Datenerfassung!J181 ),\" [IS]\"), CONCATENATE(IF(ISBLANK(Datenerfassung!K181),\" \",Datenerfassung!K181 ),\" [IS]\"), CONCATENATE(IF(ISBLANK(Datenerfassung!L181),\" \",Datenerfassung!L181 ),\" [IS]\"), CONCATENATE(IF(ISBLANK(Datenerfassung!M181),\" \",Datenerfassung!M181 ),\" [IS]\"), IF(ISBLANK(Datenerfassung!N181),\" \",Datenerfassung!N181 ) ))","v":""},{"$f":"IF(ISBLANK(Datenerfassung!V181),\"\",Datenerfassung!V181)","v":""},{"$f":"IF(ISBLANK(Datenerfassung!Q181),\"\",Datenerfassung!Q181)","v":""}]
[{"$f":"IF(ISBLANK(Datenerfassung!A182),\"\",Datenerfassung!A182)","v":""},{"$f":"IF(ISBLANK(Datenerfassung!B182),\"\",Datenerfassung!B182)","v":""},{"$f":"IF(ISBLANK(Datenerfassung!C182),\"\",Datenerfassung!C182)","v":""},{"$f":"IF(ISBLANK(Datenerfassung!R182),\"\",Datenerfassung!R182)","v":""},{"$f":"IF(ISBLANK(Datenerfassung!S182),\"\",Datenerfassung!S182)","v":""},"",{"$f":"IF(ISBLANK(Datenerfassung!U182),\"\",Datenerfassung!U182)","v":""},{"$f":"IF(ISBLANK(Datenerfassung!O182),\"\",Datenerfassung!O182)","v":""},{"$f":"IF(ISBLANK(Datenerfassung!D182),IF(COUNTBLANK(A172:H172)+COUNTBLANK(J172:O172)=14,\"\",\"- ohne Titel -\"),Datenerfassung!D182)","v":""},{"$f":"IF(ISBLANK(Datenerfassung!G182),\"\",Datenerfassung!G182)","v":""},"",{"$f":"IF(ISBLANK(Datenerfassung!X182),\"\",Datenerfassung!X182)","v":""},{"$f":"IF(COUNTBLANK(Datenerfassung!H182:'Datenerfassung'!N182)=7,\"\",CONCATENATE( CONCATENATE(IF(ISBLANK(Datenerfassung!H182),\" \",Datenerfassung!H182 ),\" [IS]\"), CONCATENATE(IF(ISBLANK(Datenerfassung!I182),\" \",Datenerfassung!I182 ),\" [IS]\"), CONCATENATE(IF(ISBLANK(Datenerfassung!J182),\" \",Datenerfassung!J182 ),\" [IS]\"), CONCATENATE(IF(ISBLANK(Datenerfassung!K182),\" \",Datenerfassung!K182 ),\" [IS]\"), CONCATENATE(IF(ISBLANK(Datenerfassung!L182),\" \",Datenerfassung!L182 ),\" [IS]\"), CONCATENATE(IF(ISBLANK(Datenerfassung!M182),\" \",Datenerfassung!M182 ),\" [IS]\"), IF(ISBLANK(Datenerfassung!N182),\" \",Datenerfassung!N182 ) ))","v":""},{"$f":"IF(ISBLANK(Datenerfassung!V182),\"\",Datenerfassung!V182)","v":""},{"$f":"IF(ISBLANK(Datenerfassung!Q182),\"\",Datenerfassung!Q182)","v":""}]
[{"$f":"IF(ISBLANK(Datenerfassung!A183),\"\",Datenerfassung!A183)","v":""},{"$f":"IF(ISBLANK(Datenerfassung!B183),\"\",Datenerfassung!B183)","v":""},{"$f":"IF(ISBLANK(Datenerfassung!C183),\"\",Datenerfassung!C183)","v":""},{"$f":"IF(ISBLANK(Datenerfassung!R183),\"\",Datenerfassung!R183)","v":""},{"$f":"IF(ISBLANK(Datenerfassung!S183),\"\",Datenerfassung!S183)","v":""},"",{"$f":"IF(ISBLANK(Datenerfassung!U183),\"\",Datenerfassung!U183)","v":""},{"$f":"IF(ISBLANK(Datenerfassung!O183),\"\",Datenerfassung!O183)","v":""},{"$f":"IF(ISBLANK(Datenerfassung!D183),IF(COUNTBLANK(A173:H173)+COUNTBLANK(J173:O173)=14,\"\",\"- ohne Titel -\"),Datenerfassung!D183)","v":""},{"$f":"IF(ISBLANK(Datenerfassung!G183),\"\",Datenerfassung!G183)","v":""},"",{"$f":"IF(ISBLANK(Datenerfassung!X183),\"\",Datenerfassung!X183)","v":""},{"$f":"IF(COUNTBLANK(Datenerfassung!H183:'Datenerfassung'!N183)=7,\"\",CONCATENATE( CONCATENATE(IF(ISBLANK(Datenerfassung!H183),\" \",Datenerfassung!H183 ),\" [IS]\"), CONCATENATE(IF(ISBLANK(Datenerfassung!I183),\" \",Datenerfassung!I183 ),\" [IS]\"), CONCATENATE(IF(ISBLANK(Datenerfassung!J183),\" \",Datenerfassung!J183 ),\" [IS]\"), CONCATENATE(IF(ISBLANK(Datenerfassung!K183),\" \",Datenerfassung!K183 ),\" [IS]\"), CONCATENATE(IF(ISBLANK(Datenerfassung!L183),\" \",Datenerfassung!L183 ),\" [IS]\"), CONCATENATE(IF(ISBLANK(Datenerfassung!M183),\" \",Datenerfassung!M183 ),\" [IS]\"), IF(ISBLANK(Datenerfassung!N183),\" \",Datenerfassung!N183 ) ))","v":""},{"$f":"IF(ISBLANK(Datenerfassung!V183),\"\",Datenerfassung!V183)","v":""},{"$f":"IF(ISBLANK(Datenerfassung!Q183),\"\",Datenerfassung!Q183)","v":""}]
[{"$f":"IF(ISBLANK(Datenerfassung!A184),\"\",Datenerfassung!A184)","v":""},{"$f":"IF(ISBLANK(Datenerfassung!B184),\"\",Datenerfassung!B184)","v":""},{"$f":"IF(ISBLANK(Datenerfassung!C184),\"\",Datenerfassung!C184)","v":""},{"$f":"IF(ISBLANK(Datenerfassung!R184),\"\",Datenerfassung!R184)","v":""},{"$f":"IF(ISBLANK(Datenerfassung!S184),\"\",Datenerfassung!S184)","v":""},"",{"$f":"IF(ISBLANK(Datenerfassung!U184),\"\",Datenerfassung!U184)","v":""},{"$f":"IF(ISBLANK(Datenerfassung!O184),\"\",Datenerfassung!O184)","v":""},{"$f":"IF(ISBLANK(Datenerfassung!D184),IF(COUNTBLANK(A174:H174)+COUNTBLANK(J174:O174)=14,\"\",\"- ohne Titel -\"),Datenerfassung!D184)","v":""},{"$f":"IF(ISBLANK(Datenerfassung!G184),\"\",Datenerfassung!G184)","v":""},"",{"$f":"IF(ISBLANK(Datenerfassung!X184),\"\",Datenerfassung!X184)","v":""},{"$f":"IF(COUNTBLANK(Datenerfassung!H184:'Datenerfassung'!N184)=7,\"\",CONCATENATE( CONCATENATE(IF(ISBLANK(Datenerfassung!H184),\" \",Datenerfassung!H184 ),\" [IS]\"), CONCATENATE(IF(ISBLANK(Datenerfassung!I184),\" \",Datenerfassung!I184 ),\" [IS]\"), CONCATENATE(IF(ISBLANK(Datenerfassung!J184),\" \",Datenerfassung!J184 ),\" [IS]\"), CONCATENATE(IF(ISBLANK(Datenerfassung!K184),\" \",Datenerfassung!K184 ),\" [IS]\"), CONCATENATE(IF(ISBLANK(Datenerfassung!L184),\" \",Datenerfassung!L184 ),\" [IS]\"), CONCATENATE(IF(ISBLANK(Datenerfassung!M184),\" \",Datenerfassung!M184 ),\" [IS]\"), IF(ISBLANK(Datenerfassung!N184),\" \",Datenerfassung!N184 ) ))","v":""},{"$f":"IF(ISBLANK(Datenerfassung!V184),\"\",Datenerfassung!V184)","v":""},{"$f":"IF(ISBLANK(Datenerfassung!Q184),\"\",Datenerfassung!Q184)","v":""}]
[{"$f":"IF(ISBLANK(Datenerfassung!A185),\"\",Datenerfassung!A185)","v":""},{"$f":"IF(ISBLANK(Datenerfassung!B185),\"\",Datenerfassung!B185)","v":""},{"$f":"IF(ISBLANK(Datenerfassung!C185),\"\",Datenerfassung!C185)","v":""},{"$f":"IF(ISBLANK(Datenerfassung!R185),\"\",Datenerfassung!R185)","v":""},{"$f":"IF(ISBLANK(Datenerfassung!S185),\"\",Datenerfassung!S185)","v":""},"",{"$f":"IF(ISBLANK(Datenerfassung!U185),\"\",Datenerfassung!U185)","v":""},{"$f":"IF(ISBLANK(Datenerfassung!O185),\"\",Datenerfassung!O185)","v":""},{"$f":"IF(ISBLANK(Datenerfassung!D185),IF(COUNTBLANK(A175:H175)+COUNTBLANK(J175:O175)=14,\"\",\"- ohne Titel -\"),Datenerfassung!D185)","v":""},{"$f":"IF(ISBLANK(Datenerfassung!G185),\"\",Datenerfassung!G185)","v":""},"",{"$f":"IF(ISBLANK(Datenerfassung!X185),\"\",Datenerfassung!X185)","v":""},{"$f":"IF(COUNTBLANK(Datenerfassung!H185:'Datenerfassung'!N185)=7,\"\",CONCATENATE( CONCATENATE(IF(ISBLANK(Datenerfassung!H185),\" \",Datenerfassung!H185 ),\" [IS]\"), CONCATENATE(IF(ISBLANK(Datenerfassung!I185),\" \",Datenerfassung!I185 ),\" [IS]\"), CONCATENATE(IF(ISBLANK(Datenerfassung!J185),\" \",Datenerfassung!J185 ),\" [IS]\"), CONCATENATE(IF(ISBLANK(Datenerfassung!K185),\" \",Datenerfassung!K185 ),\" [IS]\"), CONCATENATE(IF(ISBLANK(Datenerfassung!L185),\" \",Datenerfassung!L185 ),\" [IS]\"), CONCATENATE(IF(ISBLANK(Datenerfassung!M185),\" \",Datenerfassung!M185 ),\" [IS]\"), IF(ISBLANK(Datenerfassung!N185),\" \",Datenerfassung!N185 ) ))","v":""},{"$f":"IF(ISBLANK(Datenerfassung!V185),\"\",Datenerfassung!V185)","v":""},{"$f":"IF(ISBLANK(Datenerfassung!Q185),\"\",Datenerfassung!Q185)","v":""}]
[{"$f":"IF(ISBLANK(Datenerfassung!A186),\"\",Datenerfassung!A186)","v":""},{"$f":"IF(ISBLANK(Datenerfassung!B186),\"\",Datenerfassung!B186)","v":""},{"$f":"IF(ISBLANK(Datenerfassung!C186),\"\",Datenerfassung!C186)","v":""},{"$f":"IF(ISBLANK(Datenerfassung!R186),\"\",Datenerfassung!R186)","v":""},{"$f":"IF(ISBLANK(Datenerfassung!S186),\"\",Datenerfassung!S186)","v":""},"",{"$f":"IF(ISBLANK(Datenerfassung!U186),\"\",Datenerfassung!U186)","v":""},{"$f":"IF(ISBLANK(Datenerfassung!O186),\"\",Datenerfassung!O186)","v":""},{"$f":"IF(ISBLANK(Datenerfassung!D186),IF(COUNTBLANK(A176:H176)+COUNTBLANK(J176:O176)=14,\"\",\"- ohne Titel -\"),Datenerfassung!D186)","v":""},{"$f":"IF(ISBLANK(Datenerfassung!G186),\"\",Datenerfassung!G186)","v":""},"",{"$f":"IF(ISBLANK(Datenerfassung!X186),\"\",Datenerfassung!X186)","v":""},{"$f":"IF(COUNTBLANK(Datenerfassung!H186:'Datenerfassung'!N186)=7,\"\",CONCATENATE( CONCATENATE(IF(ISBLANK(Datenerfassung!H186),\" \",Datenerfassung!H186 ),\" [IS]\"), CONCATENATE(IF(ISBLANK(Datenerfassung!I186),\" \",Datenerfassung!I186 ),\" [IS]\"), CONCATENATE(IF(ISBLANK(Datenerfassung!J186),\" \",Datenerfassung!J186 ),\" [IS]\"), CONCATENATE(IF(ISBLANK(Datenerfassung!K186),\" \",Datenerfassung!K186 ),\" [IS]\"), CONCATENATE(IF(ISBLANK(Datenerfassung!L186),\" \",Datenerfassung!L186 ),\" [IS]\"), CONCATENATE(IF(ISBLANK(Datenerfassung!M186),\" \",Datenerfassung!M186 ),\" [IS]\"), IF(ISBLANK(Datenerfassung!N186),\" \",Datenerfassung!N186 ) ))","v":""},{"$f":"IF(ISBLANK(Datenerfassung!V186),\"\",Datenerfassung!V186)","v":""},{"$f":"IF(ISBLANK(Datenerfassung!Q186),\"\",Datenerfassung!Q186)","v":""}]
[{"$f":"IF(ISBLANK(Datenerfassung!A187),\"\",Datenerfassung!A187)","v":""},{"$f":"IF(ISBLANK(Datenerfassung!B187),\"\",Datenerfassung!B187)","v":""},{"$f":"IF(ISBLANK(Datenerfassung!C187),\"\",Datenerfassung!C187)","v":""},{"$f":"IF(ISBLANK(Datenerfassung!R187),\"\",Datenerfassung!R187)","v":""},{"$f":"IF(ISBLANK(Datenerfassung!S187),\"\",Datenerfassung!S187)","v":""},"",{"$f":"IF(ISBLANK(Datenerfassung!U187),\"\",Datenerfassung!U187)","v":""},{"$f":"IF(ISBLANK(Datenerfassung!O187),\"\",Datenerfassung!O187)","v":""},{"$f":"IF(ISBLANK(Datenerfassung!D187),IF(COUNTBLANK(A177:H177)+COUNTBLANK(J177:O177)=14,\"\",\"- ohne Titel -\"),Datenerfassung!D187)","v":""},{"$f":"IF(ISBLANK(Datenerfassung!G187),\"\",Datenerfassung!G187)","v":""},"",{"$f":"IF(ISBLANK(Datenerfassung!X187),\"\",Datenerfassung!X187)","v":""},{"$f":"IF(COUNTBLANK(Datenerfassung!H187:'Datenerfassung'!N187)=7,\"\",CONCATENATE( CONCATENATE(IF(ISBLANK(Datenerfassung!H187),\" \",Datenerfassung!H187 ),\" [IS]\"), CONCATENATE(IF(ISBLANK(Datenerfassung!I187),\" \",Datenerfassung!I187 ),\" [IS]\"), CONCATENATE(IF(ISBLANK(Datenerfassung!J187),\" \",Datenerfassung!J187 ),\" [IS]\"), CONCATENATE(IF(ISBLANK(Datenerfassung!K187),\" \",Datenerfassung!K187 ),\" [IS]\"), CONCATENATE(IF(ISBLANK(Datenerfassung!L187),\" \",Datenerfassung!L187 ),\" [IS]\"), CONCATENATE(IF(ISBLANK(Datenerfassung!M187),\" \",Datenerfassung!M187 ),\" [IS]\"), IF(ISBLANK(Datenerfassung!N187),\" \",Datenerfassung!N187 ) ))","v":""},{"$f":"IF(ISBLANK(Datenerfassung!V187),\"\",Datenerfassung!V187)","v":""},{"$f":"IF(ISBLANK(Datenerfassung!Q187),\"\",Datenerfassung!Q187)","v":""}]
[{"$f":"IF(ISBLANK(Datenerfassung!A188),\"\",Datenerfassung!A188)","v":""},{"$f":"IF(ISBLANK(Datenerfassung!B188),\"\",Datenerfassung!B188)","v":""},{"$f":"IF(ISBLANK(Datenerfassung!C188),\"\",Datenerfassung!C188)","v":""},{"$f":"IF(ISBLANK(Datenerfassung!R188),\"\",Datenerfassung!R188)","v":""},{"$f":"IF(ISBLANK(Datenerfassung!S188),\"\",Datenerfassung!S188)","v":""},"",{"$f":"IF(ISBLANK(Datenerfassung!U188),\"\",Datenerfassung!U188)","v":""},{"$f":"IF(ISBLANK(Datenerfassung!O188),\"\",Datenerfassung!O188)","v":""},{"$f":"IF(ISBLANK(Datenerfassung!D188),IF(COUNTBLANK(A178:H178)+COUNTBLANK(J178:O178)=14,\"\",\"- ohne Titel -\"),Datenerfassung!D188)","v":""},{"$f":"IF(ISBLANK(Datenerfassung!G188),\"\",Datenerfassung!G188)","v":""},"",{"$f":"IF(ISBLANK(Datenerfassung!X188),\"\",Datenerfassung!X188)","v":""},{"$f":"IF(COUNTBLANK(Datenerfassung!H188:'Datenerfassung'!N188)=7,\"\",CONCATENATE( CONCATENATE(IF(ISBLANK(Datenerfassung!H188),\" \",Datenerfassung!H188 ),\" [IS]\"), CONCATENATE(IF(ISBLANK(Datenerfassung!I188),\" \",Datenerfassung!I188 ),\" [IS]\"), CONCATENATE(IF(ISBLANK(Datenerfassung!J188),\" \",Datenerfassung!J188 ),\" [IS]\"), CONCATENATE(IF(ISBLANK(Datenerfassung!K188),\" \",Datenerfassung!K188 ),\" [IS]\"), CONCATENATE(IF(ISBLANK(Datenerfassung!L188),\" \",Datenerfassung!L188 ),\" [IS]\"), CONCATENATE(IF(ISBLANK(Datenerfassung!M188),\" \",Datenerfassung!M188 ),\" [IS]\"), IF(ISBLANK(Datenerfassung!N188),\" \",Datenerfassung!N188 ) ))","v":""},{"$f":"IF(ISBLANK(Datenerfassung!V188),\"\",Datenerfassung!V188)","v":""},{"$f":"IF(ISBLANK(Datenerfassung!Q188),\"\",Datenerfassung!Q188)","v":""}]
[{"$f":"IF(ISBLANK(Datenerfassung!A189),\"\",Datenerfassung!A189)","v":""},{"$f":"IF(ISBLANK(Datenerfassung!B189),\"\",Datenerfassung!B189)","v":""},{"$f":"IF(ISBLANK(Datenerfassung!C189),\"\",Datenerfassung!C189)","v":""},{"$f":"IF(ISBLANK(Datenerfassung!R189),\"\",Datenerfassung!R189)","v":""},{"$f":"IF(ISBLANK(Datenerfassung!S189),\"\",Datenerfassung!S189)","v":""},"",{"$f":"IF(ISBLANK(Datenerfassung!U189),\"\",Datenerfassung!U189)","v":""},{"$f":"IF(ISBLANK(Datenerfassung!O189),\"\",Datenerfassung!O189)","v":""},{"$f":"IF(ISBLANK(Datenerfassung!D189),IF(COUNTBLANK(A179:H179)+COUNTBLANK(J179:O179)=14,\"\",\"- ohne Titel -\"),Datenerfassung!D189)","v":""},{"$f":"IF(ISBLANK(Datenerfassung!G189),\"\",Datenerfassung!G189)","v":""},"",{"$f":"IF(ISBLANK(Datenerfassung!X189),\"\",Datenerfassung!X189)","v":""},{"$f":"IF(COUNTBLANK(Datenerfassung!H189:'Datenerfassung'!N189)=7,\"\",CONCATENATE( CONCATENATE(IF(ISBLANK(Datenerfassung!H189),\" \",Datenerfassung!H189 ),\" [IS]\"), CONCATENATE(IF(ISBLANK(Datenerfassung!I189),\" \",Datenerfassung!I189 ),\" [IS]\"), CONCATENATE(IF(ISBLANK(Datenerfassung!J189),\" \",Datenerfassung!J189 ),\" [IS]\"), CONCATENATE(IF(ISBLANK(Datenerfassung!K189),\" \",Datenerfassung!K189 ),\" [IS]\"), CONCATENATE(IF(ISBLANK(Datenerfassung!L189),\" \",Datenerfassung!L189 ),\" [IS]\"), CONCATENATE(IF(ISBLANK(Datenerfassung!M189),\" \",Datenerfassung!M189 ),\" [IS]\"), IF(ISBLANK(Datenerfassung!N189),\" \",Datenerfassung!N189 ) ))","v":""},{"$f":"IF(ISBLANK(Datenerfassung!V189),\"\",Datenerfassung!V189)","v":""},{"$f":"IF(ISBLANK(Datenerfassung!Q189),\"\",Datenerfassung!Q189)","v":""}]
[{"$f":"IF(ISBLANK(Datenerfassung!A190),\"\",Datenerfassung!A190)","v":""},{"$f":"IF(ISBLANK(Datenerfassung!B190),\"\",Datenerfassung!B190)","v":""},{"$f":"IF(ISBLANK(Datenerfassung!C190),\"\",Datenerfassung!C190)","v":""},{"$f":"IF(ISBLANK(Datenerfassung!R190),\"\",Datenerfassung!R190)","v":""},{"$f":"IF(ISBLANK(Datenerfassung!S190),\"\",Datenerfassung!S190)","v":""},"",{"$f":"IF(ISBLANK(Datenerfassung!U190),\"\",Datenerfassung!U190)","v":""},{"$f":"IF(ISBLANK(Datenerfassung!O190),\"\",Datenerfassung!O190)","v":""},{"$f":"IF(ISBLANK(Datenerfassung!D190),IF(COUNTBLANK(A180:H180)+COUNTBLANK(J180:O180)=14,\"\",\"- ohne Titel -\"),Datenerfassung!D190)","v":""},{"$f":"IF(ISBLANK(Datenerfassung!G190),\"\",Datenerfassung!G190)","v":""},"",{"$f":"IF(ISBLANK(Datenerfassung!X190),\"\",Datenerfassung!X190)","v":""},{"$f":"IF(COUNTBLANK(Datenerfassung!H190:'Datenerfassung'!N190)=7,\"\",CONCATENATE( CONCATENATE(IF(ISBLANK(Datenerfassung!H190),\" \",Datenerfassung!H190 ),\" [IS]\"), CONCATENATE(IF(ISBLANK(Datenerfassung!I190),\" \",Datenerfassung!I190 ),\" [IS]\"), CONCATENATE(IF(ISBLANK(Datenerfassung!J190),\" \",Datenerfassung!J190 ),\" [IS]\"), CONCATENATE(IF(ISBLANK(Datenerfassung!K190),\" \",Datenerfassung!K190 ),\" [IS]\"), CONCATENATE(IF(ISBLANK(Datenerfassung!L190),\" \",Datenerfassung!L190 ),\" [IS]\"), CONCATENATE(IF(ISBLANK(Datenerfassung!M190),\" \",Datenerfassung!M190 ),\" [IS]\"), IF(ISBLANK(Datenerfassung!N190),\" \",Datenerfassung!N190 ) ))","v":""},{"$f":"IF(ISBLANK(Datenerfassung!V190),\"\",Datenerfassung!V190)","v":""},{"$f":"IF(ISBLANK(Datenerfassung!Q190),\"\",Datenerfassung!Q190)","v":""}]
[{"$f":"IF(ISBLANK(Datenerfassung!A191),\"\",Datenerfassung!A191)","v":""},{"$f":"IF(ISBLANK(Datenerfassung!B191),\"\",Datenerfassung!B191)","v":""},{"$f":"IF(ISBLANK(Datenerfassung!C191),\"\",Datenerfassung!C191)","v":""},{"$f":"IF(ISBLANK(Datenerfassung!R191),\"\",Datenerfassung!R191)","v":""},{"$f":"IF(ISBLANK(Datenerfassung!S191),\"\",Datenerfassung!S191)","v":""},"",{"$f":"IF(ISBLANK(Datenerfassung!U191),\"\",Datenerfassung!U191)","v":""},{"$f":"IF(ISBLANK(Datenerfassung!O191),\"\",Datenerfassung!O191)","v":""},{"$f":"IF(ISBLANK(Datenerfassung!D191),IF(COUNTBLANK(A181:H181)+COUNTBLANK(J181:O181)=14,\"\",\"- ohne Titel -\"),Datenerfassung!D191)","v":""},{"$f":"IF(ISBLANK(Datenerfassung!G191),\"\",Datenerfassung!G191)","v":""},"",{"$f":"IF(ISBLANK(Datenerfassung!X191),\"\",Datenerfassung!X191)","v":""},{"$f":"IF(COUNTBLANK(Datenerfassung!H191:'Datenerfassung'!N191)=7,\"\",CONCATENATE( CONCATENATE(IF(ISBLANK(Datenerfassung!H191),\" \",Datenerfassung!H191 ),\" [IS]\"), CONCATENATE(IF(ISBLANK(Datenerfassung!I191),\" \",Datenerfassung!I191 ),\" [IS]\"), CONCATENATE(IF(ISBLANK(Datenerfassung!J191),\" \",Datenerfassung!J191 ),\" [IS]\"), CONCATENATE(IF(ISBLANK(Datenerfassung!K191),\" \",Datenerfassung!K191 ),\" [IS]\"), CONCATENATE(IF(ISBLANK(Datenerfassung!L191),\" \",Datenerfassung!L191 ),\" [IS]\"), CONCATENATE(IF(ISBLANK(Datenerfassung!M191),\" \",Datenerfassung!M191 ),\" [IS]\"), IF(ISBLANK(Datenerfassung!N191),\" \",Datenerfassung!N191 ) ))","v":""},{"$f":"IF(ISBLANK(Datenerfassung!V191),\"\",Datenerfassung!V191)","v":""},{"$f":"IF(ISBLANK(Datenerfassung!Q191),\"\",Datenerfassung!Q191)","v":""}]
[{"$f":"IF(ISBLANK(Datenerfassung!A192),\"\",Datenerfassung!A192)","v":""},{"$f":"IF(ISBLANK(Datenerfassung!B192),\"\",Datenerfassung!B192)","v":""},{"$f":"IF(ISBLANK(Datenerfassung!C192),\"\",Datenerfassung!C192)","v":""},{"$f":"IF(ISBLANK(Datenerfassung!R192),\"\",Datenerfassung!R192)","v":""},{"$f":"IF(ISBLANK(Datenerfassung!S192),\"\",Datenerfassung!S192)","v":""},"",{"$f":"IF(ISBLANK(Datenerfassung!U192),\"\",Datenerfassung!U192)","v":""},{"$f":"IF(ISBLANK(Datenerfassung!O192),\"\",Datenerfassung!O192)","v":""},{"$f":"IF(ISBLANK(Datenerfassung!D192),IF(COUNTBLANK(A182:H182)+COUNTBLANK(J182:O182)=14,\"\",\"- ohne Titel -\"),Datenerfassung!D192)","v":""},{"$f":"IF(ISBLANK(Datenerfassung!G192),\"\",Datenerfassung!G192)","v":""},"",{"$f":"IF(ISBLANK(Datenerfassung!X192),\"\",Datenerfassung!X192)","v":""},{"$f":"IF(COUNTBLANK(Datenerfassung!H192:'Datenerfassung'!N192)=7,\"\",CONCATENATE( CONCATENATE(IF(ISBLANK(Datenerfassung!H192),\" \",Datenerfassung!H192 ),\" [IS]\"), CONCATENATE(IF(ISBLANK(Datenerfassung!I192),\" \",Datenerfassung!I192 ),\" [IS]\"), CONCATENATE(IF(ISBLANK(Datenerfassung!J192),\" \",Datenerfassung!J192 ),\" [IS]\"), CONCATENATE(IF(ISBLANK(Datenerfassung!K192),\" \",Datenerfassung!K192 ),\" [IS]\"), CONCATENATE(IF(ISBLANK(Datenerfassung!L192),\" \",Datenerfassung!L192 ),\" [IS]\"), CONCATENATE(IF(ISBLANK(Datenerfassung!M192),\" \",Datenerfassung!M192 ),\" [IS]\"), IF(ISBLANK(Datenerfassung!N192),\" \",Datenerfassung!N192 ) ))","v":""},{"$f":"IF(ISBLANK(Datenerfassung!V192),\"\",Datenerfassung!V192)","v":""},{"$f":"IF(ISBLANK(Datenerfassung!Q192),\"\",Datenerfassung!Q192)","v":""}]
[{"$f":"IF(ISBLANK(Datenerfassung!A193),\"\",Datenerfassung!A193)","v":""},{"$f":"IF(ISBLANK(Datenerfassung!B193),\"\",Datenerfassung!B193)","v":""},{"$f":"IF(ISBLANK(Datenerfassung!C193),\"\",Datenerfassung!C193)","v":""},{"$f":"IF(ISBLANK(Datenerfassung!R193),\"\",Datenerfassung!R193)","v":""},{"$f":"IF(ISBLANK(Datenerfassung!S193),\"\",Datenerfassung!S193)","v":""},"",{"$f":"IF(ISBLANK(Datenerfassung!U193),\"\",Datenerfassung!U193)","v":""},{"$f":"IF(ISBLANK(Datenerfassung!O193),\"\",Datenerfassung!O193)","v":""},{"$f":"IF(ISBLANK(Datenerfassung!D193),IF(COUNTBLANK(A183:H183)+COUNTBLANK(J183:O183)=14,\"\",\"- ohne Titel -\"),Datenerfassung!D193)","v":""},{"$f":"IF(ISBLANK(Datenerfassung!G193),\"\",Datenerfassung!G193)","v":""},"",{"$f":"IF(ISBLANK(Datenerfassung!X193),\"\",Datenerfassung!X193)","v":""},{"$f":"IF(COUNTBLANK(Datenerfassung!H193:'Datenerfassung'!N193)=7,\"\",CONCATENATE( CONCATENATE(IF(ISBLANK(Datenerfassung!H193),\" \",Datenerfassung!H193 ),\" [IS]\"), CONCATENATE(IF(ISBLANK(Datenerfassung!I193),\" \",Datenerfassung!I193 ),\" [IS]\"), CONCATENATE(IF(ISBLANK(Datenerfassung!J193),\" \",Datenerfassung!J193 ),\" [IS]\"), CONCATENATE(IF(ISBLANK(Datenerfassung!K193),\" \",Datenerfassung!K193 ),\" [IS]\"), CONCATENATE(IF(ISBLANK(Datenerfassung!L193),\" \",Datenerfassung!L193 ),\" [IS]\"), CONCATENATE(IF(ISBLANK(Datenerfassung!M193),\" \",Datenerfassung!M193 ),\" [IS]\"), IF(ISBLANK(Datenerfassung!N193),\" \",Datenerfassung!N193 ) ))","v":""},{"$f":"IF(ISBLANK(Datenerfassung!V193),\"\",Datenerfassung!V193)","v":""},{"$f":"IF(ISBLANK(Datenerfassung!Q193),\"\",Datenerfassung!Q193)","v":""}]
[{"$f":"IF(ISBLANK(Datenerfassung!A194),\"\",Datenerfassung!A194)","v":""},{"$f":"IF(ISBLANK(Datenerfassung!B194),\"\",Datenerfassung!B194)","v":""},{"$f":"IF(ISBLANK(Datenerfassung!C194),\"\",Datenerfassung!C194)","v":""},{"$f":"IF(ISBLANK(Datenerfassung!R194),\"\",Datenerfassung!R194)","v":""},{"$f":"IF(ISBLANK(Datenerfassung!S194),\"\",Datenerfassung!S194)","v":""},"",{"$f":"IF(ISBLANK(Datenerfassung!U194),\"\",Datenerfassung!U194)","v":""},{"$f":"IF(ISBLANK(Datenerfassung!O194),\"\",Datenerfassung!O194)","v":""},{"$f":"IF(ISBLANK(Datenerfassung!D194),IF(COUNTBLANK(A184:H184)+COUNTBLANK(J184:O184)=14,\"\",\"- ohne Titel -\"),Datenerfassung!D194)","v":""},{"$f":"IF(ISBLANK(Datenerfassung!G194),\"\",Datenerfassung!G194)","v":""},"",{"$f":"IF(ISBLANK(Datenerfassung!X194),\"\",Datenerfassung!X194)","v":""},{"$f":"IF(COUNTBLANK(Datenerfassung!H194:'Datenerfassung'!N194)=7,\"\",CONCATENATE( CONCATENATE(IF(ISBLANK(Datenerfassung!H194),\" \",Datenerfassung!H194 ),\" [IS]\"), CONCATENATE(IF(ISBLANK(Datenerfassung!I194),\" \",Datenerfassung!I194 ),\" [IS]\"), CONCATENATE(IF(ISBLANK(Datenerfassung!J194),\" \",Datenerfassung!J194 ),\" [IS]\"), CONCATENATE(IF(ISBLANK(Datenerfassung!K194),\" \",Datenerfassung!K194 ),\" [IS]\"), CONCATENATE(IF(ISBLANK(Datenerfassung!L194),\" \",Datenerfassung!L194 ),\" [IS]\"), CONCATENATE(IF(ISBLANK(Datenerfassung!M194),\" \",Datenerfassung!M194 ),\" [IS]\"), IF(ISBLANK(Datenerfassung!N194),\" \",Datenerfassung!N194 ) ))","v":""},{"$f":"IF(ISBLANK(Datenerfassung!V194),\"\",Datenerfassung!V194)","v":""},{"$f":"IF(ISBLANK(Datenerfassung!Q194),\"\",Datenerfassung!Q194)","v":""}]
[{"$f":"IF(ISBLANK(Datenerfassung!A195),\"\",Datenerfassung!A195)","v":""},{"$f":"IF(ISBLANK(Datenerfassung!B195),\"\",Datenerfassung!B195)","v":""},{"$f":"IF(ISBLANK(Datenerfassung!C195),\"\",Datenerfassung!C195)","v":""},{"$f":"IF(ISBLANK(Datenerfassung!R195),\"\",Datenerfassung!R195)","v":""},{"$f":"IF(ISBLANK(Datenerfassung!S195),\"\",Datenerfassung!S195)","v":""},"",{"$f":"IF(ISBLANK(Datenerfassung!U195),\"\",Datenerfassung!U195)","v":""},{"$f":"IF(ISBLANK(Datenerfassung!O195),\"\",Datenerfassung!O195)","v":""},{"$f":"IF(ISBLANK(Datenerfassung!D195),IF(COUNTBLANK(A185:H185)+COUNTBLANK(J185:O185)=14,\"\",\"- ohne Titel -\"),Datenerfassung!D195)","v":""},{"$f":"IF(ISBLANK(Datenerfassung!G195),\"\",Datenerfassung!G195)","v":""},"",{"$f":"IF(ISBLANK(Datenerfassung!X195),\"\",Datenerfassung!X195)","v":""},{"$f":"IF(COUNTBLANK(Datenerfassung!H195:'Datenerfassung'!N195)=7,\"\",CONCATENATE( CONCATENATE(IF(ISBLANK(Datenerfassung!H195),\" \",Datenerfassung!H195 ),\" [IS]\"), CONCATENATE(IF(ISBLANK(Datenerfassung!I195),\" \",Datenerfassung!I195 ),\" [IS]\"), CONCATENATE(IF(ISBLANK(Datenerfassung!J195),\" \",Datenerfassung!J195 ),\" [IS]\"), CONCATENATE(IF(ISBLANK(Datenerfassung!K195),\" \",Datenerfassung!K195 ),\" [IS]\"), CONCATENATE(IF(ISBLANK(Datenerfassung!L195),\" \",Datenerfassung!L195 ),\" [IS]\"), CONCATENATE(IF(ISBLANK(Datenerfassung!M195),\" \",Datenerfassung!M195 ),\" [IS]\"), IF(ISBLANK(Datenerfassung!N195),\" \",Datenerfassung!N195 ) ))","v":""},{"$f":"IF(ISBLANK(Datenerfassung!V195),\"\",Datenerfassung!V195)","v":""},{"$f":"IF(ISBLANK(Datenerfassung!Q195),\"\",Datenerfassung!Q195)","v":""}]
[{"$f":"IF(ISBLANK(Datenerfassung!A196),\"\",Datenerfassung!A196)","v":""},{"$f":"IF(ISBLANK(Datenerfassung!B196),\"\",Datenerfassung!B196)","v":""},{"$f":"IF(ISBLANK(Datenerfassung!C196),\"\",Datenerfassung!C196)","v":""},{"$f":"IF(ISBLANK(Datenerfassung!R196),\"\",Datenerfassung!R196)","v":""},{"$f":"IF(ISBLANK(Datenerfassung!S196),\"\",Datenerfassung!S196)","v":""},"",{"$f":"IF(ISBLANK(Datenerfassung!U196),\"\",Datenerfassung!U196)","v":""},{"$f":"IF(ISBLANK(Datenerfassung!O196),\"\",Datenerfassung!O196)","v":""},{"$f":"IF(ISBLANK(Datenerfassung!D196),IF(COUNTBLANK(A186:H186)+COUNTBLANK(J186:O186)=14,\"\",\"- ohne Titel -\"),Datenerfassung!D196)","v":""},{"$f":"IF(ISBLANK(Datenerfassung!G196),\"\",Datenerfassung!G196)","v":""},"",{"$f":"IF(ISBLANK(Datenerfassung!X196),\"\",Datenerfassung!X196)","v":""},{"$f":"IF(COUNTBLANK(Datenerfassung!H196:'Datenerfassung'!N196)=7,\"\",CONCATENATE( CONCATENATE(IF(ISBLANK(Datenerfassung!H196),\" \",Datenerfassung!H196 ),\" [IS]\"), CONCATENATE(IF(ISBLANK(Datenerfassung!I196),\" \",Datenerfassung!I196 ),\" [IS]\"), CONCATENATE(IF(ISBLANK(Datenerfassung!J196),\" \",Datenerfassung!J196 ),\" [IS]\"), CONCATENATE(IF(ISBLANK(Datenerfassung!K196),\" \",Datenerfassung!K196 ),\" [IS]\"), CONCATENATE(IF(ISBLANK(Datenerfassung!L196),\" \",Datenerfassung!L196 ),\" [IS]\"), CONCATENATE(IF(ISBLANK(Datenerfassung!M196),\" \",Datenerfassung!M196 ),\" [IS]\"), IF(ISBLANK(Datenerfassung!N196),\" \",Datenerfassung!N196 ) ))","v":""},{"$f":"IF(ISBLANK(Datenerfassung!V196),\"\",Datenerfassung!V196)","v":""},{"$f":"IF(ISBLANK(Datenerfassung!Q196),\"\",Datenerfassung!Q196)","v":""}]
[{"$f":"IF(ISBLANK(Datenerfassung!A197),\"\",Datenerfassung!A197)","v":""},{"$f":"IF(ISBLANK(Datenerfassung!B197),\"\",Datenerfassung!B197)","v":""},{"$f":"IF(ISBLANK(Datenerfassung!C197),\"\",Datenerfassung!C197)","v":""},{"$f":"IF(ISBLANK(Datenerfassung!R197),\"\",Datenerfassung!R197)","v":""},{"$f":"IF(ISBLANK(Datenerfassung!S197),\"\",Datenerfassung!S197)","v":""},"",{"$f":"IF(ISBLANK(Datenerfassung!U197),\"\",Datenerfassung!U197)","v":""},{"$f":"IF(ISBLANK(Datenerfassung!O197),\"\",Datenerfassung!O197)","v":""},{"$f":"IF(ISBLANK(Datenerfassung!D197),IF(COUNTBLANK(A187:H187)+COUNTBLANK(J187:O187)=14,\"\",\"- ohne Titel -\"),Datenerfassung!D197)","v":""},{"$f":"IF(ISBLANK(Datenerfassung!G197),\"\",Datenerfassung!G197)","v":""},"",{"$f":"IF(ISBLANK(Datenerfassung!X197),\"\",Datenerfassung!X197)","v":""},{"$f":"IF(COUNTBLANK(Datenerfassung!H197:'Datenerfassung'!N197)=7,\"\",CONCATENATE( CONCATENATE(IF(ISBLANK(Datenerfassung!H197),\" \",Datenerfassung!H197 ),\" [IS]\"), CONCATENATE(IF(ISBLANK(Datenerfassung!I197),\" \",Datenerfassung!I197 ),\" [IS]\"), CONCATENATE(IF(ISBLANK(Datenerfassung!J197),\" \",Datenerfassung!J197 ),\" [IS]\"), CONCATENATE(IF(ISBLANK(Datenerfassung!K197),\" \",Datenerfassung!K197 ),\" [IS]\"), CONCATENATE(IF(ISBLANK(Datenerfassung!L197),\" \",Datenerfassung!L197 ),\" [IS]\"), CONCATENATE(IF(ISBLANK(Datenerfassung!M197),\" \",Datenerfassung!M197 ),\" [IS]\"), IF(ISBLANK(Datenerfassung!N197),\" \",Datenerfassung!N197 ) ))","v":""},{"$f":"IF(ISBLANK(Datenerfassung!V197),\"\",Datenerfassung!V197)","v":""},{"$f":"IF(ISBLANK(Datenerfassung!Q197),\"\",Datenerfassung!Q197)","v":""}]
[{"$f":"IF(ISBLANK(Datenerfassung!A198),\"\",Datenerfassung!A198)","v":""},{"$f":"IF(ISBLANK(Datenerfassung!B198),\"\",Datenerfassung!B198)","v":""},{"$f":"IF(ISBLANK(Datenerfassung!C198),\"\",Datenerfassung!C198)","v":""},{"$f":"IF(ISBLANK(Datenerfassung!R198),\"\",Datenerfassung!R198)","v":""},{"$f":"IF(ISBLANK(Datenerfassung!S198),\"\",Datenerfassung!S198)","v":""},"",{"$f":"IF(ISBLANK(Datenerfassung!U198),\"\",Datenerfassung!U198)","v":""},{"$f":"IF(ISBLANK(Datenerfassung!O198),\"\",Datenerfassung!O198)","v":""},{"$f":"IF(ISBLANK(Datenerfassung!D198),IF(COUNTBLANK(A188:H188)+COUNTBLANK(J188:O188)=14,\"\",\"- ohne Titel -\"),Datenerfassung!D198)","v":""},{"$f":"IF(ISBLANK(Datenerfassung!G198),\"\",Datenerfassung!G198)","v":""},"",{"$f":"IF(ISBLANK(Datenerfassung!X198),\"\",Datenerfassung!X198)","v":""},{"$f":"IF(COUNTBLANK(Datenerfassung!H198:'Datenerfassung'!N198)=7,\"\",CONCATENATE( CONCATENATE(IF(ISBLANK(Datenerfassung!H198),\" \",Datenerfassung!H198 ),\" [IS]\"), CONCATENATE(IF(ISBLANK(Datenerfassung!I198),\" \",Datenerfassung!I198 ),\" [IS]\"), CONCATENATE(IF(ISBLANK(Datenerfassung!J198),\" \",Datenerfassung!J198 ),\" [IS]\"), CONCATENATE(IF(ISBLANK(Datenerfassung!K198),\" \",Datenerfassung!K198 ),\" [IS]\"), CONCATENATE(IF(ISBLANK(Datenerfassung!L198),\" \",Datenerfassung!L198 ),\" [IS]\"), CONCATENATE(IF(ISBLANK(Datenerfassung!M198),\" \",Datenerfassung!M198 ),\" [IS]\"), IF(ISBLANK(Datenerfassung!N198),\" \",Datenerfassung!N198 ) ))","v":""},{"$f":"IF(ISBLANK(Datenerfassung!V198),\"\",Datenerfassung!V198)","v":""},{"$f":"IF(ISBLANK(Datenerfassung!Q198),\"\",Datenerfassung!Q198)","v":""}]
[{"$f":"IF(ISBLANK(Datenerfassung!A199),\"\",Datenerfassung!A199)","v":""},{"$f":"IF(ISBLANK(Datenerfassung!B199),\"\",Datenerfassung!B199)","v":""},{"$f":"IF(ISBLANK(Datenerfassung!C199),\"\",Datenerfassung!C199)","v":""},{"$f":"IF(ISBLANK(Datenerfassung!R199),\"\",Datenerfassung!R199)","v":""},{"$f":"IF(ISBLANK(Datenerfassung!S199),\"\",Datenerfassung!S199)","v":""},"",{"$f":"IF(ISBLANK(Datenerfassung!U199),\"\",Datenerfassung!U199)","v":""},{"$f":"IF(ISBLANK(Datenerfassung!O199),\"\",Datenerfassung!O199)","v":""},{"$f":"IF(ISBLANK(Datenerfassung!D199),IF(COUNTBLANK(A189:H189)+COUNTBLANK(J189:O189)=14,\"\",\"- ohne Titel -\"),Datenerfassung!D199)","v":""},{"$f":"IF(ISBLANK(Datenerfassung!G199),\"\",Datenerfassung!G199)","v":""},"",{"$f":"IF(ISBLANK(Datenerfassung!X199),\"\",Datenerfassung!X199)","v":""},{"$f":"IF(COUNTBLANK(Datenerfassung!H199:'Datenerfassung'!N199)=7,\"\",CONCATENATE( CONCATENATE(IF(ISBLANK(Datenerfassung!H199),\" \",Datenerfassung!H199 ),\" [IS]\"), CONCATENATE(IF(ISBLANK(Datenerfassung!I199),\" \",Datenerfassung!I199 ),\" [IS]\"), CONCATENATE(IF(ISBLANK(Datenerfassung!J199),\" \",Datenerfassung!J199 ),\" [IS]\"), CONCATENATE(IF(ISBLANK(Datenerfassung!K199),\" \",Datenerfassung!K199 ),\" [IS]\"), CONCATENATE(IF(ISBLANK(Datenerfassung!L199),\" \",Datenerfassung!L199 ),\" [IS]\"), CONCATENATE(IF(ISBLANK(Datenerfassung!M199),\" \",Datenerfassung!M199 ),\" [IS]\"), IF(ISBLANK(Datenerfassung!N199),\" \",Datenerfassung!N199 ) ))","v":""},{"$f":"IF(ISBLANK(Datenerfassung!V199),\"\",Datenerfassung!V199)","v":""},{"$f":"IF(ISBLANK(Datenerfassung!Q199),\"\",Datenerfassung!Q199)","v":""}]
[{"$f":"IF(ISBLANK(Datenerfassung!A200),\"\",Datenerfassung!A200)","v":""},{"$f":"IF(ISBLANK(Datenerfassung!B200),\"\",Datenerfassung!B200)","v":""},{"$f":"IF(ISBLANK(Datenerfassung!C200),\"\",Datenerfassung!C200)","v":""},{"$f":"IF(ISBLANK(Datenerfassung!R200),\"\",Datenerfassung!R200)","v":""},{"$f":"IF(ISBLANK(Datenerfassung!S200),\"\",Datenerfassung!S200)","v":""},"",{"$f":"IF(ISBLANK(Datenerfassung!U200),\"\",Datenerfassung!U200)","v":""},{"$f":"IF(ISBLANK(Datenerfassung!O200),\"\",Datenerfassung!O200)","v":""},{"$f":"IF(ISBLANK(Datenerfassung!D200),IF(COUNTBLANK(A190:H190)+COUNTBLANK(J190:O190)=14,\"\",\"- ohne Titel -\"),Datenerfassung!D200)","v":""},{"$f":"IF(ISBLANK(Datenerfassung!G200),\"\",Datenerfassung!G200)","v":""},"",{"$f":"IF(ISBLANK(Datenerfassung!X200),\"\",Datenerfassung!X200)","v":""},{"$f":"IF(COUNTBLANK(Datenerfassung!H200:'Datenerfassung'!N200)=7,\"\",CONCATENATE( CONCATENATE(IF(ISBLANK(Datenerfassung!H200),\" \",Datenerfassung!H200 ),\" [IS]\"), CONCATENATE(IF(ISBLANK(Datenerfassung!I200),\" \",Datenerfassung!I200 ),\" [IS]\"), CONCATENATE(IF(ISBLANK(Datenerfassung!J200),\" \",Datenerfassung!J200 ),\" [IS]\"), CONCATENATE(IF(ISBLANK(Datenerfassung!K200),\" \",Datenerfassung!K200 ),\" [IS]\"), CONCATENATE(IF(ISBLANK(Datenerfassung!L200),\" \",Datenerfassung!L200 ),\" [IS]\"), CONCATENATE(IF(ISBLANK(Datenerfassung!M200),\" \",Datenerfassung!M200 ),\" [IS]\"), IF(ISBLANK(Datenerfassung!N200),\" \",Datenerfassung!N200 ) ))","v":""},{"$f":"IF(ISBLANK(Datenerfassung!V200),\"\",Datenerfassung!V200)","v":""},{"$f":"IF(ISBLANK(Datenerfassung!Q200),\"\",Datenerfassung!Q200)","v":""}]
[{"$f":"IF(ISBLANK(Datenerfassung!A201),\"\",Datenerfassung!A201)","v":""},{"$f":"IF(ISBLANK(Datenerfassung!B201),\"\",Datenerfassung!B201)","v":""},{"$f":"IF(ISBLANK(Datenerfassung!C201),\"\",Datenerfassung!C201)","v":""},{"$f":"IF(ISBLANK(Datenerfassung!R201),\"\",Datenerfassung!R201)","v":""},{"$f":"IF(ISBLANK(Datenerfassung!S201),\"\",Datenerfassung!S201)","v":""},"",{"$f":"IF(ISBLANK(Datenerfassung!U201),\"\",Datenerfassung!U201)","v":""},{"$f":"IF(ISBLANK(Datenerfassung!O201),\"\",Datenerfassung!O201)","v":""},{"$f":"IF(ISBLANK(Datenerfassung!D201),IF(COUNTBLANK(A191:H191)+COUNTBLANK(J191:O191)=14,\"\",\"- ohne Titel -\"),Datenerfassung!D201)","v":""},{"$f":"IF(ISBLANK(Datenerfassung!G201),\"\",Datenerfassung!G201)","v":""},"",{"$f":"IF(ISBLANK(Datenerfassung!X201),\"\",Datenerfassung!X201)","v":""},{"$f":"IF(COUNTBLANK(Datenerfassung!H201:'Datenerfassung'!N201)=7,\"\",CONCATENATE( CONCATENATE(IF(ISBLANK(Datenerfassung!H201),\" \",Datenerfassung!H201 ),\" [IS]\"), CONCATENATE(IF(ISBLANK(Datenerfassung!I201),\" \",Datenerfassung!I201 ),\" [IS]\"), CONCATENATE(IF(ISBLANK(Datenerfassung!J201),\" \",Datenerfassung!J201 ),\" [IS]\"), CONCATENATE(IF(ISBLANK(Datenerfassung!K201),\" \",Datenerfassung!K201 ),\" [IS]\"), CONCATENATE(IF(ISBLANK(Datenerfassung!L201),\" \",Datenerfassung!L201 ),\" [IS]\"), CONCATENATE(IF(ISBLANK(Datenerfassung!M201),\" \",Datenerfassung!M201 ),\" [IS]\"), IF(ISBLANK(Datenerfassung!N201),\" \",Datenerfassung!N201 ) ))","v":""},{"$f":"IF(ISBLANK(Datenerfassung!V201),\"\",Datenerfassung!V201)","v":""},{"$f":"IF(ISBLANK(Datenerfassung!Q201),\"\",Datenerfassung!Q201)","v":""}]
[{"$f":"IF(ISBLANK(Datenerfassung!A202),\"\",Datenerfassung!A202)","v":""},{"$f":"IF(ISBLANK(Datenerfassung!B202),\"\",Datenerfassung!B202)","v":""},{"$f":"IF(ISBLANK(Datenerfassung!C202),\"\",Datenerfassung!C202)","v":""},{"$f":"IF(ISBLANK(Datenerfassung!R202),\"\",Datenerfassung!R202)","v":""},{"$f":"IF(ISBLANK(Datenerfassung!S202),\"\",Datenerfassung!S202)","v":""},"",{"$f":"IF(ISBLANK(Datenerfassung!U202),\"\",Datenerfassung!U202)","v":""},{"$f":"IF(ISBLANK(Datenerfassung!O202),\"\",Datenerfassung!O202)","v":""},{"$f":"IF(ISBLANK(Datenerfassung!D202),IF(COUNTBLANK(A192:H192)+COUNTBLANK(J192:O192)=14,\"\",\"- ohne Titel -\"),Datenerfassung!D202)","v":""},{"$f":"IF(ISBLANK(Datenerfassung!G202),\"\",Datenerfassung!G202)","v":""},"",{"$f":"IF(ISBLANK(Datenerfassung!X202),\"\",Datenerfassung!X202)","v":""},{"$f":"IF(COUNTBLANK(Datenerfassung!H202:'Datenerfassung'!N202)=7,\"\",CONCATENATE( CONCATENATE(IF(ISBLANK(Datenerfassung!H202),\" \",Datenerfassung!H202 ),\" [IS]\"), CONCATENATE(IF(ISBLANK(Datenerfassung!I202),\" \",Datenerfassung!I202 ),\" [IS]\"), CONCATENATE(IF(ISBLANK(Datenerfassung!J202),\" \",Datenerfassung!J202 ),\" [IS]\"), CONCATENATE(IF(ISBLANK(Datenerfassung!K202),\" \",Datenerfassung!K202 ),\" [IS]\"), CONCATENATE(IF(ISBLANK(Datenerfassung!L202),\" \",Datenerfassung!L202 ),\" [IS]\"), CONCATENATE(IF(ISBLANK(Datenerfassung!M202),\" \",Datenerfassung!M202 ),\" [IS]\"), IF(ISBLANK(Datenerfassung!N202),\" \",Datenerfassung!N202 ) ))","v":""},{"$f":"IF(ISBLANK(Datenerfassung!V202),\"\",Datenerfassung!V202)","v":""},{"$f":"IF(ISBLANK(Datenerfassung!Q202),\"\",Datenerfassung!Q202)","v":""}]
[{"$f":"IF(ISBLANK(Datenerfassung!A203),\"\",Datenerfassung!A203)","v":""},{"$f":"IF(ISBLANK(Datenerfassung!B203),\"\",Datenerfassung!B203)","v":""},{"$f":"IF(ISBLANK(Datenerfassung!C203),\"\",Datenerfassung!C203)","v":""},{"$f":"IF(ISBLANK(Datenerfassung!R203),\"\",Datenerfassung!R203)","v":""},{"$f":"IF(ISBLANK(Datenerfassung!S203),\"\",Datenerfassung!S203)","v":""},"",{"$f":"IF(ISBLANK(Datenerfassung!U203),\"\",Datenerfassung!U203)","v":""},{"$f":"IF(ISBLANK(Datenerfassung!O203),\"\",Datenerfassung!O203)","v":""},{"$f":"IF(ISBLANK(Datenerfassung!D203),IF(COUNTBLANK(A193:H193)+COUNTBLANK(J193:O193)=14,\"\",\"- ohne Titel -\"),Datenerfassung!D203)","v":""},{"$f":"IF(ISBLANK(Datenerfassung!G203),\"\",Datenerfassung!G203)","v":""},"",{"$f":"IF(ISBLANK(Datenerfassung!X203),\"\",Datenerfassung!X203)","v":""},{"$f":"IF(COUNTBLANK(Datenerfassung!H203:'Datenerfassung'!N203)=7,\"\",CONCATENATE( CONCATENATE(IF(ISBLANK(Datenerfassung!H203),\" \",Datenerfassung!H203 ),\" [IS]\"), CONCATENATE(IF(ISBLANK(Datenerfassung!I203),\" \",Datenerfassung!I203 ),\" [IS]\"), CONCATENATE(IF(ISBLANK(Datenerfassung!J203),\" \",Datenerfassung!J203 ),\" [IS]\"), CONCATENATE(IF(ISBLANK(Datenerfassung!K203),\" \",Datenerfassung!K203 ),\" [IS]\"), CONCATENATE(IF(ISBLANK(Datenerfassung!L203),\" \",Datenerfassung!L203 ),\" [IS]\"), CONCATENATE(IF(ISBLANK(Datenerfassung!M203),\" \",Datenerfassung!M203 ),\" [IS]\"), IF(ISBLANK(Datenerfassung!N203),\" \",Datenerfassung!N203 ) ))","v":""},{"$f":"IF(ISBLANK(Datenerfassung!V203),\"\",Datenerfassung!V203)","v":""},{"$f":"IF(ISBLANK(Datenerfassung!Q203),\"\",Datenerfassung!Q203)","v":""}]
[{"$f":"IF(ISBLANK(Datenerfassung!A204),\"\",Datenerfassung!A204)","v":""},{"$f":"IF(ISBLANK(Datenerfassung!B204),\"\",Datenerfassung!B204)","v":""},{"$f":"IF(ISBLANK(Datenerfassung!C204),\"\",Datenerfassung!C204)","v":""},{"$f":"IF(ISBLANK(Datenerfassung!R204),\"\",Datenerfassung!R204)","v":""},{"$f":"IF(ISBLANK(Datenerfassung!S204),\"\",Datenerfassung!S204)","v":""},"",{"$f":"IF(ISBLANK(Datenerfassung!U204),\"\",Datenerfassung!U204)","v":""},{"$f":"IF(ISBLANK(Datenerfassung!O204),\"\",Datenerfassung!O204)","v":""},{"$f":"IF(ISBLANK(Datenerfassung!D204),IF(COUNTBLANK(A194:H194)+COUNTBLANK(J194:O194)=14,\"\",\"- ohne Titel -\"),Datenerfassung!D204)","v":""},{"$f":"IF(ISBLANK(Datenerfassung!G204),\"\",Datenerfassung!G204)","v":""},"",{"$f":"IF(ISBLANK(Datenerfassung!X204),\"\",Datenerfassung!X204)","v":""},{"$f":"IF(COUNTBLANK(Datenerfassung!H204:'Datenerfassung'!N204)=7,\"\",CONCATENATE( CONCATENATE(IF(ISBLANK(Datenerfassung!H204),\" \",Datenerfassung!H204 ),\" [IS]\"), CONCATENATE(IF(ISBLANK(Datenerfassung!I204),\" \",Datenerfassung!I204 ),\" [IS]\"), CONCATENATE(IF(ISBLANK(Datenerfassung!J204),\" \",Datenerfassung!J204 ),\" [IS]\"), CONCATENATE(IF(ISBLANK(Datenerfassung!K204),\" \",Datenerfassung!K204 ),\" [IS]\"), CONCATENATE(IF(ISBLANK(Datenerfassung!L204),\" \",Datenerfassung!L204 ),\" [IS]\"), CONCATENATE(IF(ISBLANK(Datenerfassung!M204),\" \",Datenerfassung!M204 ),\" [IS]\"), IF(ISBLANK(Datenerfassung!N204),\" \",Datenerfassung!N204 ) ))","v":""},{"$f":"IF(ISBLANK(Datenerfassung!V204),\"\",Datenerfassung!V204)","v":""},{"$f":"IF(ISBLANK(Datenerfassung!Q204),\"\",Datenerfassung!Q204)","v":""}]
[{"$f":"IF(ISBLANK(Datenerfassung!A205),\"\",Datenerfassung!A205)","v":""},{"$f":"IF(ISBLANK(Datenerfassung!B205),\"\",Datenerfassung!B205)","v":""},{"$f":"IF(ISBLANK(Datenerfassung!C205),\"\",Datenerfassung!C205)","v":""},{"$f":"IF(ISBLANK(Datenerfassung!R205),\"\",Datenerfassung!R205)","v":""},{"$f":"IF(ISBLANK(Datenerfassung!S205),\"\",Datenerfassung!S205)","v":""},{"$f":"IF(D195=\"\",\"\",IF(E195=\"\",D195,D195&\" - \"&E195))","v":""},{"$f":"IF(ISBLANK(Datenerfassung!U205),\"\",Datenerfassung!U205)","v":""},{"$f":"IF(ISBLANK(Datenerfassung!O205),\"\",Datenerfassung!O205)","v":""},{"$f":"IF(ISBLANK(Datenerfassung!D205),IF(COUNTBLANK(A195:H195)+COUNTBLANK(J195:O195)=14,\"\",\"- ohne Titel -\"),Datenerfassung!D205)","v":""},{"$f":"IF(ISBLANK(Datenerfassung!G205),\"\",Datenerfassung!G205)","v":""},{"$f":"IF(OR(E195=\"\",G195=\"\"),\"\",\"01.01.\"&RIGHT(E195,4)+G195+1)","v":""},{"$f":"IF(ISBLANK(Datenerfassung!X205),\"\",Datenerfassung!X205)","v":""},{"$f":"IF(COUNTBLANK(Datenerfassung!H205:'Datenerfassung'!N205)=7,\"\",CONCATENATE( CONCATENATE(IF(ISBLANK(Datenerfassung!H205),\" \",Datenerfassung!H205 ),\" [IS]\"), CONCATENATE(IF(ISBLANK(Datenerfassung!I205),\" \",Datenerfassung!I205 ),\" [IS]\"), CONCATENATE(IF(ISBLANK(Datenerfassung!J205),\" \",Datenerfassung!J205 ),\" [IS]\"), CONCATENATE(IF(ISBLANK(Datenerfassung!K205),\" \",Datenerfassung!K205 ),\" [IS]\"), CONCATENATE(IF(ISBLANK(Datenerfassung!L205),\" \",Datenerfassung!L205 ),\" [IS]\"), CONCATENATE(IF(ISBLANK(Datenerfassung!M205),\" \",Datenerfassung!M205 ),\" [IS]\"), IF(ISBLANK(Datenerfassung!N205),\" \",Datenerfassung!N205 ) ))","v":""},{"$f":"IF(ISBLANK(Datenerfassung!V205),\"\",Datenerfassung!V205)","v":""},{"$f":"IF(ISBLANK(Datenerfassung!Q205),\"\",Datenerfassung!Q205)","v":""}]
[{"$f":"IF(ISBLANK(Datenerfassung!A206),\"\",Datenerfassung!A206)","v":""},{"$f":"IF(ISBLANK(Datenerfassung!B206),\"\",Datenerfassung!B206)","v":""},{"$f":"IF(ISBLANK(Datenerfassung!C206),\"\",Datenerfassung!C206)","v":""},{"$f":"IF(ISBLANK(Datenerfassung!R206),\"\",Datenerfassung!R206)","v":""},{"$f":"IF(ISBLANK(Datenerfassung!S206),\"\",Datenerfassung!S206)","v":""},"",{"$f":"IF(ISBLANK(Datenerfassung!U206),\"\",Datenerfassung!U206)","v":""},{"$f":"IF(ISBLANK(Datenerfassung!O206),\"\",Datenerfassung!O206)","v":""},{"$f":"IF(ISBLANK(Datenerfassung!D206),IF(COUNTBLANK(A196:H196)+COUNTBLANK(J196:O196)=14,\"\",\"- ohne Titel -\"),Datenerfassung!D206)","v":""},{"$f":"IF(ISBLANK(Datenerfassung!G206),\"\",Datenerfassung!G206)","v":""},"",{"$f":"IF(ISBLANK(Datenerfassung!X206),\"\",Datenerfassung!X206)","v":""},{"$f":"IF(COUNTBLANK(Datenerfassung!H206:'Datenerfassung'!N206)=7,\"\",CONCATENATE( CONCATENATE(IF(ISBLANK(Datenerfassung!H206),\" \",Datenerfassung!H206 ),\" [IS]\"), CONCATENATE(IF(ISBLANK(Datenerfassung!I206),\" \",Datenerfassung!I206 ),\" [IS]\"), CONCATENATE(IF(ISBLANK(Datenerfassung!J206),\" \",Datenerfassung!J206 ),\" [IS]\"), CONCATENATE(IF(ISBLANK(Datenerfassung!K206),\" \",Datenerfassung!K206 ),\" [IS]\"), CONCATENATE(IF(ISBLANK(Datenerfassung!L206),\" \",Datenerfassung!L206 ),\" [IS]\"), CONCATENATE(IF(ISBLANK(Datenerfassung!M206),\" \",Datenerfassung!M206 ),\" [IS]\"), IF(ISBLANK(Datenerfassung!N206),\" \",Datenerfassung!N206 ) ))","v":""},{"$f":"IF(ISBLANK(Datenerfassung!V206),\"\",Datenerfassung!V206)","v":""},{"$f":"IF(ISBLANK(Datenerfassung!Q206),\"\",Datenerfassung!Q206)","v":""}]
[{"$f":"IF(ISBLANK(Datenerfassung!A207),\"\",Datenerfassung!A207)","v":""},{"$f":"IF(ISBLANK(Datenerfassung!B207),\"\",Datenerfassung!B207)","v":""},{"$f":"IF(ISBLANK(Datenerfassung!C207),\"\",Datenerfassung!C207)","v":""},{"$f":"IF(ISBLANK(Datenerfassung!R207),\"\",Datenerfassung!R207)","v":""},{"$f":"IF(ISBLANK(Datenerfassung!S207),\"\",Datenerfassung!S207)","v":""},"",{"$f":"IF(ISBLANK(Datenerfassung!U207),\"\",Datenerfassung!U207)","v":""},{"$f":"IF(ISBLANK(Datenerfassung!O207),\"\",Datenerfassung!O207)","v":""},{"$f":"IF(ISBLANK(Datenerfassung!D207),IF(COUNTBLANK(A197:H197)+COUNTBLANK(J197:O197)=14,\"\",\"- ohne Titel -\"),Datenerfassung!D207)","v":""},{"$f":"IF(ISBLANK(Datenerfassung!G207),\"\",Datenerfassung!G207)","v":""},"",{"$f":"IF(ISBLANK(Datenerfassung!X207),\"\",Datenerfassung!X207)","v":""},{"$f":"IF(COUNTBLANK(Datenerfassung!H207:'Datenerfassung'!N207)=7,\"\",CONCATENATE( CONCATENATE(IF(ISBLANK(Datenerfassung!H207),\" \",Datenerfassung!H207 ),\" [IS]\"), CONCATENATE(IF(ISBLANK(Datenerfassung!I207),\" \",Datenerfassung!I207 ),\" [IS]\"), CONCATENATE(IF(ISBLANK(Datenerfassung!J207),\" \",Datenerfassung!J207 ),\" [IS]\"), CONCATENATE(IF(ISBLANK(Datenerfassung!K207),\" \",Datenerfassung!K207 ),\" [IS]\"), CONCATENATE(IF(ISBLANK(Datenerfassung!L207),\" \",Datenerfassung!L207 ),\" [IS]\"), CONCATENATE(IF(ISBLANK(Datenerfassung!M207),\" \",Datenerfassung!M207 ),\" [IS]\"), IF(ISBLANK(Datenerfassung!N207),\" \",Datenerfassung!N207 ) ))","v":""},{"$f":"IF(ISBLANK(Datenerfassung!V207),\"\",Datenerfassung!V207)","v":""},{"$f":"IF(ISBLANK(Datenerfassung!Q207),\"\",Datenerfassung!Q207)","v":""}]
[{"$f":"IF(ISBLANK(Datenerfassung!A208),\"\",Datenerfassung!A208)","v":""},{"$f":"IF(ISBLANK(Datenerfassung!B208),\"\",Datenerfassung!B208)","v":""},{"$f":"IF(ISBLANK(Datenerfassung!C208),\"\",Datenerfassung!C208)","v":""},{"$f":"IF(ISBLANK(Datenerfassung!R208),\"\",Datenerfassung!R208)","v":""},{"$f":"IF(ISBLANK(Datenerfassung!S208),\"\",Datenerfassung!S208)","v":""},"",{"$f":"IF(ISBLANK(Datenerfassung!U208),\"\",Datenerfassung!U208)","v":""},{"$f":"IF(ISBLANK(Datenerfassung!O208),\"\",Datenerfassung!O208)","v":""},{"$f":"IF(ISBLANK(Datenerfassung!D208),IF(COUNTBLANK(A198:H198)+COUNTBLANK(J198:O198)=14,\"\",\"- ohne Titel -\"),Datenerfassung!D208)","v":""},{"$f":"IF(ISBLANK(Datenerfassung!G208),\"\",Datenerfassung!G208)","v":""},"",{"$f":"IF(ISBLANK(Datenerfassung!X208),\"\",Datenerfassung!X208)","v":""},{"$f":"IF(COUNTBLANK(Datenerfassung!H208:'Datenerfassung'!N208)=7,\"\",CONCATENATE( CONCATENATE(IF(ISBLANK(Datenerfassung!H208),\" \",Datenerfassung!H208 ),\" [IS]\"), CONCATENATE(IF(ISBLANK(Datenerfassung!I208),\" \",Datenerfassung!I208 ),\" [IS]\"), CONCATENATE(IF(ISBLANK(Datenerfassung!J208),\" \",Datenerfassung!J208 ),\" [IS]\"), CONCATENATE(IF(ISBLANK(Datenerfassung!K208),\" \",Datenerfassung!K208 ),\" [IS]\"), CONCATENATE(IF(ISBLANK(Datenerfassung!L208),\" \",Datenerfassung!L208 ),\" [IS]\"), CONCATENATE(IF(ISBLANK(Datenerfassung!M208),\" \",Datenerfassung!M208 ),\" [IS]\"), IF(ISBLANK(Datenerfassung!N208),\" \",Datenerfassung!N208 ) ))","v":""},{"$f":"IF(ISBLANK(Datenerfassung!V208),\"\",Datenerfassung!V208)","v":""},{"$f":"IF(ISBLANK(Datenerfassung!Q208),\"\",Datenerfassung!Q208)","v":""}]
[{"$f":"IF(ISBLANK(Datenerfassung!A209),\"\",Datenerfassung!A209)","v":""},{"$f":"IF(ISBLANK(Datenerfassung!B209),\"\",Datenerfassung!B209)","v":""},{"$f":"IF(ISBLANK(Datenerfassung!C209),\"\",Datenerfassung!C209)","v":""},{"$f":"IF(ISBLANK(Datenerfassung!R209),\"\",Datenerfassung!R209)","v":""},{"$f":"IF(ISBLANK(Datenerfassung!S209),\"\",Datenerfassung!S209)","v":""},"",{"$f":"IF(ISBLANK(Datenerfassung!U209),\"\",Datenerfassung!U209)","v":""},{"$f":"IF(ISBLANK(Datenerfassung!O209),\"\",Datenerfassung!O209)","v":""},{"$f":"IF(ISBLANK(Datenerfassung!D209),IF(COUNTBLANK(A199:H199)+COUNTBLANK(J199:O199)=14,\"\",\"- ohne Titel -\"),Datenerfassung!D209)","v":""},{"$f":"IF(ISBLANK(Datenerfassung!G209),\"\",Datenerfassung!G209)","v":""},"",{"$f":"IF(ISBLANK(Datenerfassung!X209),\"\",Datenerfassung!X209)","v":""},{"$f":"IF(COUNTBLANK(Datenerfassung!H209:'Datenerfassung'!N209)=7,\"\",CONCATENATE( CONCATENATE(IF(ISBLANK(Datenerfassung!H209),\" \",Datenerfassung!H209 ),\" [IS]\"), CONCATENATE(IF(ISBLANK(Datenerfassung!I209),\" \",Datenerfassung!I209 ),\" [IS]\"), CONCATENATE(IF(ISBLANK(Datenerfassung!J209),\" \",Datenerfassung!J209 ),\" [IS]\"), CONCATENATE(IF(ISBLANK(Datenerfassung!K209),\" \",Datenerfassung!K209 ),\" [IS]\"), CONCATENATE(IF(ISBLANK(Datenerfassung!L209),\" \",Datenerfassung!L209 ),\" [IS]\"), CONCATENATE(IF(ISBLANK(Datenerfassung!M209),\" \",Datenerfassung!M209 ),\" [IS]\"), IF(ISBLANK(Datenerfassung!N209),\" \",Datenerfassung!N209 ) ))","v":""},{"$f":"IF(ISBLANK(Datenerfassung!V209),\"\",Datenerfassung!V209)","v":""},{"$f":"IF(ISBLANK(Datenerfassung!Q209),\"\",Datenerfassung!Q209)","v":""}]
[{"$f":"IF(ISBLANK(Datenerfassung!A210),\"\",Datenerfassung!A210)","v":""},{"$f":"IF(ISBLANK(Datenerfassung!B210),\"\",Datenerfassung!B210)","v":""},{"$f":"IF(ISBLANK(Datenerfassung!C210),\"\",Datenerfassung!C210)","v":""},{"$f":"IF(ISBLANK(Datenerfassung!R210),\"\",Datenerfassung!R210)","v":""},{"$f":"IF(ISBLANK(Datenerfassung!S210),\"\",Datenerfassung!S210)","v":""},"",{"$f":"IF(ISBLANK(Datenerfassung!U210),\"\",Datenerfassung!U210)","v":""},{"$f":"IF(ISBLANK(Datenerfassung!O210),\"\",Datenerfassung!O210)","v":""},{"$f":"IF(ISBLANK(Datenerfassung!D210),IF(COUNTBLANK(A200:H200)+COUNTBLANK(J200:O200)=14,\"\",\"- ohne Titel -\"),Datenerfassung!D210)","v":""},{"$f":"IF(ISBLANK(Datenerfassung!G210),\"\",Datenerfassung!G210)","v":""},"",{"$f":"IF(ISBLANK(Datenerfassung!X210),\"\",Datenerfassung!X210)","v":""},{"$f":"IF(COUNTBLANK(Datenerfassung!H210:'Datenerfassung'!N210)=7,\"\",CONCATENATE( CONCATENATE(IF(ISBLANK(Datenerfassung!H210),\" \",Datenerfassung!H210 ),\" [IS]\"), CONCATENATE(IF(ISBLANK(Datenerfassung!I210),\" \",Datenerfassung!I210 ),\" [IS]\"), CONCATENATE(IF(ISBLANK(Datenerfassung!J210),\" \",Datenerfassung!J210 ),\" [IS]\"), CONCATENATE(IF(ISBLANK(Datenerfassung!K210),\" \",Datenerfassung!K210 ),\" [IS]\"), CONCATENATE(IF(ISBLANK(Datenerfassung!L210),\" \",Datenerfassung!L210 ),\" [IS]\"), CONCATENATE(IF(ISBLANK(Datenerfassung!M210),\" \",Datenerfassung!M210 ),\" [IS]\"), IF(ISBLANK(Datenerfassung!N210),\" \",Datenerfassung!N210 ) ))","v":""},{"$f":"IF(ISBLANK(Datenerfassung!V210),\"\",Datenerfassung!V210)","v":""},{"$f":"IF(ISBLANK(Datenerfassung!Q210),\"\",Datenerfassung!Q210)","v":""}]
[{"$f":"IF(ISBLANK(Datenerfassung!A211),\"\",Datenerfassung!A211)","v":""},{"$f":"IF(ISBLANK(Datenerfassung!B211),\"\",Datenerfassung!B211)","v":""},{"$f":"IF(ISBLANK(Datenerfassung!C211),\"\",Datenerfassung!C211)","v":""},{"$f":"IF(ISBLANK(Datenerfassung!R211),\"\",Datenerfassung!R211)","v":""},{"$f":"IF(ISBLANK(Datenerfassung!S211),\"\",Datenerfassung!S211)","v":""},"",{"$f":"IF(ISBLANK(Datenerfassung!U211),\"\",Datenerfassung!U211)","v":""},{"$f":"IF(ISBLANK(Datenerfassung!O211),\"\",Datenerfassung!O211)","v":""},{"$f":"IF(ISBLANK(Datenerfassung!D211),IF(COUNTBLANK(A201:H201)+COUNTBLANK(J201:O201)=14,\"\",\"- ohne Titel -\"),Datenerfassung!D211)","v":""},{"$f":"IF(ISBLANK(Datenerfassung!G211),\"\",Datenerfassung!G211)","v":""},"",{"$f":"IF(ISBLANK(Datenerfassung!X211),\"\",Datenerfassung!X211)","v":""},{"$f":"IF(COUNTBLANK(Datenerfassung!H211:'Datenerfassung'!N211)=7,\"\",CONCATENATE( CONCATENATE(IF(ISBLANK(Datenerfassung!H211),\" \",Datenerfassung!H211 ),\" [IS]\"), CONCATENATE(IF(ISBLANK(Datenerfassung!I211),\" \",Datenerfassung!I211 ),\" [IS]\"), CONCATENATE(IF(ISBLANK(Datenerfassung!J211),\" \",Datenerfassung!J211 ),\" [IS]\"), CONCATENATE(IF(ISBLANK(Datenerfassung!K211),\" \",Datenerfassung!K211 ),\" [IS]\"), CONCATENATE(IF(ISBLANK(Datenerfassung!L211),\" \",Datenerfassung!L211 ),\" [IS]\"), CONCATENATE(IF(ISBLANK(Datenerfassung!M211),\" \",Datenerfassung!M211 ),\" [IS]\"), IF(ISBLANK(Datenerfassung!N211),\" \",Datenerfassung!N211 ) ))","v":""},{"$f":"IF(ISBLANK(Datenerfassung!V211),\"\",Datenerfassung!V211)","v":""},{"$f":"IF(ISBLANK(Datenerfassung!Q211),\"\",Datenerfassung!Q211)","v":""}]
[{"$f":"IF(ISBLANK(Datenerfassung!A212),\"\",Datenerfassung!A212)","v":""},{"$f":"IF(ISBLANK(Datenerfassung!B212),\"\",Datenerfassung!B212)","v":""},{"$f":"IF(ISBLANK(Datenerfassung!C212),\"\",Datenerfassung!C212)","v":""},{"$f":"IF(ISBLANK(Datenerfassung!R212),\"\",Datenerfassung!R212)","v":""},{"$f":"IF(ISBLANK(Datenerfassung!S212),\"\",Datenerfassung!S212)","v":""},"",{"$f":"IF(ISBLANK(Datenerfassung!U212),\"\",Datenerfassung!U212)","v":""},{"$f":"IF(ISBLANK(Datenerfassung!O212),\"\",Datenerfassung!O212)","v":""},{"$f":"IF(ISBLANK(Datenerfassung!D212),IF(COUNTBLANK(A202:H202)+COUNTBLANK(J202:O202)=14,\"\",\"- ohne Titel -\"),Datenerfassung!D212)","v":""},{"$f":"IF(ISBLANK(Datenerfassung!G212),\"\",Datenerfassung!G212)","v":""},"",{"$f":"IF(ISBLANK(Datenerfassung!X212),\"\",Datenerfassung!X212)","v":""},{"$f":"IF(COUNTBLANK(Datenerfassung!H212:'Datenerfassung'!N212)=7,\"\",CONCATENATE( CONCATENATE(IF(ISBLANK(Datenerfassung!H212),\" \",Datenerfassung!H212 ),\" [IS]\"), CONCATENATE(IF(ISBLANK(Datenerfassung!I212),\" \",Datenerfassung!I212 ),\" [IS]\"), CONCATENATE(IF(ISBLANK(Datenerfassung!J212),\" \",Datenerfassung!J212 ),\" [IS]\"), CONCATENATE(IF(ISBLANK(Datenerfassung!K212),\" \",Datenerfassung!K212 ),\" [IS]\"), CONCATENATE(IF(ISBLANK(Datenerfassung!L212),\" \",Datenerfassung!L212 ),\" [IS]\"), CONCATENATE(IF(ISBLANK(Datenerfassung!M212),\" \",Datenerfassung!M212 ),\" [IS]\"), IF(ISBLANK(Datenerfassung!N212),\" \",Datenerfassung!N212 ) ))","v":""},{"$f":"IF(ISBLANK(Datenerfassung!V212),\"\",Datenerfassung!V212)","v":""},{"$f":"IF(ISBLANK(Datenerfassung!Q212),\"\",Datenerfassung!Q212)","v":""}]
[{"$f":"IF(ISBLANK(Datenerfassung!A213),\"\",Datenerfassung!A213)","v":""},{"$f":"IF(ISBLANK(Datenerfassung!B213),\"\",Datenerfassung!B213)","v":""},{"$f":"IF(ISBLANK(Datenerfassung!C213),\"\",Datenerfassung!C213)","v":""},{"$f":"IF(ISBLANK(Datenerfassung!R213),\"\",Datenerfassung!R213)","v":""},{"$f":"IF(ISBLANK(Datenerfassung!S213),\"\",Datenerfassung!S213)","v":""},"",{"$f":"IF(ISBLANK(Datenerfassung!U213),\"\",Datenerfassung!U213)","v":""},{"$f":"IF(ISBLANK(Datenerfassung!O213),\"\",Datenerfassung!O213)","v":""},{"$f":"IF(ISBLANK(Datenerfassung!D213),IF(COUNTBLANK(A203:H203)+COUNTBLANK(J203:O203)=14,\"\",\"- ohne Titel -\"),Datenerfassung!D213)","v":""},{"$f":"IF(ISBLANK(Datenerfassung!G213),\"\",Datenerfassung!G213)","v":""},"",{"$f":"IF(ISBLANK(Datenerfassung!X213),\"\",Datenerfassung!X213)","v":""},{"$f":"IF(COUNTBLANK(Datenerfassung!H213:'Datenerfassung'!N213)=7,\"\",CONCATENATE( CONCATENATE(IF(ISBLANK(Datenerfassung!H213),\" \",Datenerfassung!H213 ),\" [IS]\"), CONCATENATE(IF(ISBLANK(Datenerfassung!I213),\" \",Datenerfassung!I213 ),\" [IS]\"), CONCATENATE(IF(ISBLANK(Datenerfassung!J213),\" \",Datenerfassung!J213 ),\" [IS]\"), CONCATENATE(IF(ISBLANK(Datenerfassung!K213),\" \",Datenerfassung!K213 ),\" [IS]\"), CONCATENATE(IF(ISBLANK(Datenerfassung!L213),\" \",Datenerfassung!L213 ),\" [IS]\"), CONCATENATE(IF(ISBLANK(Datenerfassung!M213),\" \",Datenerfassung!M213 ),\" [IS]\"), IF(ISBLANK(Datenerfassung!N213),\" \",Datenerfassung!N213 ) ))","v":""},{"$f":"IF(ISBLANK(Datenerfassung!V213),\"\",Datenerfassung!V213)","v":""},{"$f":"IF(ISBLANK(Datenerfassung!Q213),\"\",Datenerfassung!Q213)","v":""}]
[{"$f":"IF(ISBLANK(Datenerfassung!A214),\"\",Datenerfassung!A214)","v":""},{"$f":"IF(ISBLANK(Datenerfassung!B214),\"\",Datenerfassung!B214)","v":""},{"$f":"IF(ISBLANK(Datenerfassung!C214),\"\",Datenerfassung!C214)","v":""},{"$f":"IF(ISBLANK(Datenerfassung!R214),\"\",Datenerfassung!R214)","v":""},{"$f":"IF(ISBLANK(Datenerfassung!S214),\"\",Datenerfassung!S214)","v":""},"",{"$f":"IF(ISBLANK(Datenerfassung!U214),\"\",Datenerfassung!U214)","v":""},{"$f":"IF(ISBLANK(Datenerfassung!O214),\"\",Datenerfassung!O214)","v":""},{"$f":"IF(ISBLANK(Datenerfassung!D214),IF(COUNTBLANK(A204:H204)+COUNTBLANK(J204:O204)=14,\"\",\"- ohne Titel -\"),Datenerfassung!D214)","v":""},{"$f":"IF(ISBLANK(Datenerfassung!G214),\"\",Datenerfassung!G214)","v":""},"",{"$f":"IF(ISBLANK(Datenerfassung!X214),\"\",Datenerfassung!X214)","v":""},{"$f":"IF(COUNTBLANK(Datenerfassung!H214:'Datenerfassung'!N214)=7,\"\",CONCATENATE( CONCATENATE(IF(ISBLANK(Datenerfassung!H214),\" \",Datenerfassung!H214 ),\" [IS]\"), CONCATENATE(IF(ISBLANK(Datenerfassung!I214),\" \",Datenerfassung!I214 ),\" [IS]\"), CONCATENATE(IF(ISBLANK(Datenerfassung!J214),\" \",Datenerfassung!J214 ),\" [IS]\"), CONCATENATE(IF(ISBLANK(Datenerfassung!K214),\" \",Datenerfassung!K214 ),\" [IS]\"), CONCATENATE(IF(ISBLANK(Datenerfassung!L214),\" \",Datenerfassung!L214 ),\" [IS]\"), CONCATENATE(IF(ISBLANK(Datenerfassung!M214),\" \",Datenerfassung!M214 ),\" [IS]\"), IF(ISBLANK(Datenerfassung!N214),\" \",Datenerfassung!N214 ) ))","v":""},{"$f":"IF(ISBLANK(Datenerfassung!V214),\"\",Datenerfassung!V214)","v":""},{"$f":"IF(ISBLANK(Datenerfassung!Q214),\"\",Datenerfassung!Q214)","v":""}]
[{"$f":"IF(ISBLANK(Datenerfassung!A215),\"\",Datenerfassung!A215)","v":""},{"$f":"IF(ISBLANK(Datenerfassung!B215),\"\",Datenerfassung!B215)","v":""},{"$f":"IF(ISBLANK(Datenerfassung!C215),\"\",Datenerfassung!C215)","v":""},{"$f":"IF(ISBLANK(Datenerfassung!R215),\"\",Datenerfassung!R215)","v":""},{"$f":"IF(ISBLANK(Datenerfassung!S215),\"\",Datenerfassung!S215)","v":""},"",{"$f":"IF(ISBLANK(Datenerfassung!U215),\"\",Datenerfassung!U215)","v":""},{"$f":"IF(ISBLANK(Datenerfassung!O215),\"\",Datenerfassung!O215)","v":""},{"$f":"IF(ISBLANK(Datenerfassung!D215),IF(COUNTBLANK(A205:H205)+COUNTBLANK(J205:O205)=14,\"\",\"- ohne Titel -\"),Datenerfassung!D215)","v":""},{"$f":"IF(ISBLANK(Datenerfassung!G215),\"\",Datenerfassung!G215)","v":""},"",{"$f":"IF(ISBLANK(Datenerfassung!X215),\"\",Datenerfassung!X215)","v":""},{"$f":"IF(COUNTBLANK(Datenerfassung!H215:'Datenerfassung'!N215)=7,\"\",CONCATENATE( CONCATENATE(IF(ISBLANK(Datenerfassung!H215),\" \",Datenerfassung!H215 ),\" [IS]\"), CONCATENATE(IF(ISBLANK(Datenerfassung!I215),\" \",Datenerfassung!I215 ),\" [IS]\"), CONCATENATE(IF(ISBLANK(Datenerfassung!J215),\" \",Datenerfassung!J215 ),\" [IS]\"), CONCATENATE(IF(ISBLANK(Datenerfassung!K215),\" \",Datenerfassung!K215 ),\" [IS]\"), CONCATENATE(IF(ISBLANK(Datenerfassung!L215),\" \",Datenerfassung!L215 ),\" [IS]\"), CONCATENATE(IF(ISBLANK(Datenerfassung!M215),\" \",Datenerfassung!M215 ),\" [IS]\"), IF(ISBLANK(Datenerfassung!N215),\" \",Datenerfassung!N215 ) ))","v":""},{"$f":"IF(ISBLANK(Datenerfassung!V215),\"\",Datenerfassung!V215)","v":""},{"$f":"IF(ISBLANK(Datenerfassung!Q215),\"\",Datenerfassung!Q215)","v":""}]
[{"$f":"IF(ISBLANK(Datenerfassung!A216),\"\",Datenerfassung!A216)","v":""},{"$f":"IF(ISBLANK(Datenerfassung!B216),\"\",Datenerfassung!B216)","v":""},{"$f":"IF(ISBLANK(Datenerfassung!C216),\"\",Datenerfassung!C216)","v":""},{"$f":"IF(ISBLANK(Datenerfassung!R216),\"\",Datenerfassung!R216)","v":""},{"$f":"IF(ISBLANK(Datenerfassung!S216),\"\",Datenerfassung!S216)","v":""},"",{"$f":"IF(ISBLANK(Datenerfassung!U216),\"\",Datenerfassung!U216)","v":""},{"$f":"IF(ISBLANK(Datenerfassung!O216),\"\",Datenerfassung!O216)","v":""},{"$f":"IF(ISBLANK(Datenerfassung!D216),IF(COUNTBLANK(A206:H206)+COUNTBLANK(J206:O206)=14,\"\",\"- ohne Titel -\"),Datenerfassung!D216)","v":""},{"$f":"IF(ISBLANK(Datenerfassung!G216),\"\",Datenerfassung!G216)","v":""},"",{"$f":"IF(ISBLANK(Datenerfassung!X216),\"\",Datenerfassung!X216)","v":""},{"$f":"IF(COUNTBLANK(Datenerfassung!H216:'Datenerfassung'!N216)=7,\"\",CONCATENATE( CONCATENATE(IF(ISBLANK(Datenerfassung!H216),\" \",Datenerfassung!H216 ),\" [IS]\"), CONCATENATE(IF(ISBLANK(Datenerfassung!I216),\" \",Datenerfassung!I216 ),\" [IS]\"), CONCATENATE(IF(ISBLANK(Datenerfassung!J216),\" \",Datenerfassung!J216 ),\" [IS]\"), CONCATENATE(IF(ISBLANK(Datenerfassung!K216),\" \",Datenerfassung!K216 ),\" [IS]\"), CONCATENATE(IF(ISBLANK(Datenerfassung!L216),\" \",Datenerfassung!L216 ),\" [IS]\"), CONCATENATE(IF(ISBLANK(Datenerfassung!M216),\" \",Datenerfassung!M216 ),\" [IS]\"), IF(ISBLANK(Datenerfassung!N216),\" \",Datenerfassung!N216 ) ))","v":""},{"$f":"IF(ISBLANK(Datenerfassung!V216),\"\",Datenerfassung!V216)","v":""},{"$f":"IF(ISBLANK(Datenerfassung!Q216),\"\",Datenerfassung!Q216)","v":""}]
[{"$f":"IF(ISBLANK(Datenerfassung!A217),\"\",Datenerfassung!A217)","v":""},{"$f":"IF(ISBLANK(Datenerfassung!B217),\"\",Datenerfassung!B217)","v":""},{"$f":"IF(ISBLANK(Datenerfassung!C217),\"\",Datenerfassung!C217)","v":""},{"$f":"IF(ISBLANK(Datenerfassung!R217),\"\",Datenerfassung!R217)","v":""},{"$f":"IF(ISBLANK(Datenerfassung!S217),\"\",Datenerfassung!S217)","v":""},"",{"$f":"IF(ISBLANK(Datenerfassung!U217),\"\",Datenerfassung!U217)","v":""},{"$f":"IF(ISBLANK(Datenerfassung!O217),\"\",Datenerfassung!O217)","v":""},{"$f":"IF(ISBLANK(Datenerfassung!D217),IF(COUNTBLANK(A207:H207)+COUNTBLANK(J207:O207)=14,\"\",\"- ohne Titel -\"),Datenerfassung!D217)","v":""},{"$f":"IF(ISBLANK(Datenerfassung!G217),\"\",Datenerfassung!G217)","v":""},"",{"$f":"IF(ISBLANK(Datenerfassung!X217),\"\",Datenerfassung!X217)","v":""},{"$f":"IF(COUNTBLANK(Datenerfassung!H217:'Datenerfassung'!N217)=7,\"\",CONCATENATE( CONCATENATE(IF(ISBLANK(Datenerfassung!H217),\" \",Datenerfassung!H217 ),\" [IS]\"), CONCATENATE(IF(ISBLANK(Datenerfassung!I217),\" \",Datenerfassung!I217 ),\" [IS]\"), CONCATENATE(IF(ISBLANK(Datenerfassung!J217),\" \",Datenerfassung!J217 ),\" [IS]\"), CONCATENATE(IF(ISBLANK(Datenerfassung!K217),\" \",Datenerfassung!K217 ),\" [IS]\"), CONCATENATE(IF(ISBLANK(Datenerfassung!L217),\" \",Datenerfassung!L217 ),\" [IS]\"), CONCATENATE(IF(ISBLANK(Datenerfassung!M217),\" \",Datenerfassung!M217 ),\" [IS]\"), IF(ISBLANK(Datenerfassung!N217),\" \",Datenerfassung!N217 ) ))","v":""},{"$f":"IF(ISBLANK(Datenerfassung!V217),\"\",Datenerfassung!V217)","v":""},{"$f":"IF(ISBLANK(Datenerfassung!Q217),\"\",Datenerfassung!Q217)","v":""}]
[{"$f":"IF(ISBLANK(Datenerfassung!A218),\"\",Datenerfassung!A218)","v":""},{"$f":"IF(ISBLANK(Datenerfassung!B218),\"\",Datenerfassung!B218)","v":""},{"$f":"IF(ISBLANK(Datenerfassung!C218),\"\",Datenerfassung!C218)","v":""},{"$f":"IF(ISBLANK(Datenerfassung!R218),\"\",Datenerfassung!R218)","v":""},{"$f":"IF(ISBLANK(Datenerfassung!S218),\"\",Datenerfassung!S218)","v":""},"",{"$f":"IF(ISBLANK(Datenerfassung!U218),\"\",Datenerfassung!U218)","v":""},{"$f":"IF(ISBLANK(Datenerfassung!O218),\"\",Datenerfassung!O218)","v":""},{"$f":"IF(ISBLANK(Datenerfassung!D218),IF(COUNTBLANK(A208:H208)+COUNTBLANK(J208:O208)=14,\"\",\"- ohne Titel -\"),Datenerfassung!D218)","v":""},{"$f":"IF(ISBLANK(Datenerfassung!G218),\"\",Datenerfassung!G218)","v":""},"",{"$f":"IF(ISBLANK(Datenerfassung!X218),\"\",Datenerfassung!X218)","v":""},{"$f":"IF(COUNTBLANK(Datenerfassung!H218:'Datenerfassung'!N218)=7,\"\",CONCATENATE( CONCATENATE(IF(ISBLANK(Datenerfassung!H218),\" \",Datenerfassung!H218 ),\" [IS]\"), CONCATENATE(IF(ISBLANK(Datenerfassung!I218),\" \",Datenerfassung!I218 ),\" [IS]\"), CONCATENATE(IF(ISBLANK(Datenerfassung!J218),\" \",Datenerfassung!J218 ),\" [IS]\"), CONCATENATE(IF(ISBLANK(Datenerfassung!K218),\" \",Datenerfassung!K218 ),\" [IS]\"), CONCATENATE(IF(ISBLANK(Datenerfassung!L218),\" \",Datenerfassung!L218 ),\" [IS]\"), CONCATENATE(IF(ISBLANK(Datenerfassung!M218),\" \",Datenerfassung!M218 ),\" [IS]\"), IF(ISBLANK(Datenerfassung!N218),\" \",Datenerfassung!N218 ) ))","v":""},{"$f":"IF(ISBLANK(Datenerfassung!V218),\"\",Datenerfassung!V218)","v":""},{"$f":"IF(ISBLANK(Datenerfassung!Q218),\"\",Datenerfassung!Q218)","v":""}]
[{"$f":"IF(ISBLANK(Datenerfassung!A219),\"\",Datenerfassung!A219)","v":""},{"$f":"IF(ISBLANK(Datenerfassung!B219),\"\",Datenerfassung!B219)","v":""},{"$f":"IF(ISBLANK(Datenerfassung!C219),\"\",Datenerfassung!C219)","v":""},{"$f":"IF(ISBLANK(Datenerfassung!R219),\"\",Datenerfassung!R219)","v":""},{"$f":"IF(ISBLANK(Datenerfassung!S219),\"\",Datenerfassung!S219)","v":""},"",{"$f":"IF(ISBLANK(Datenerfassung!U219),\"\",Datenerfassung!U219)","v":""},{"$f":"IF(ISBLANK(Datenerfassung!O219),\"\",Datenerfassung!O219)","v":""},{"$f":"IF(ISBLANK(Datenerfassung!D219),IF(COUNTBLANK(A209:H209)+COUNTBLANK(J209:O209)=14,\"\",\"- ohne Titel -\"),Datenerfassung!D219)","v":""},{"$f":"IF(ISBLANK(Datenerfassung!G219),\"\",Datenerfassung!G219)","v":""},"",{"$f":"IF(ISBLANK(Datenerfassung!X219),\"\",Datenerfassung!X219)","v":""},{"$f":"IF(COUNTBLANK(Datenerfassung!H219:'Datenerfassung'!N219)=7,\"\",CONCATENATE( CONCATENATE(IF(ISBLANK(Datenerfassung!H219),\" \",Datenerfassung!H219 ),\" [IS]\"), CONCATENATE(IF(ISBLANK(Datenerfassung!I219),\" \",Datenerfassung!I219 ),\" [IS]\"), CONCATENATE(IF(ISBLANK(Datenerfassung!J219),\" \",Datenerfassung!J219 ),\" [IS]\"), CONCATENATE(IF(ISBLANK(Datenerfassung!K219),\" \",Datenerfassung!K219 ),\" [IS]\"), CONCATENATE(IF(ISBLANK(Datenerfassung!L219),\" \",Datenerfassung!L219 ),\" [IS]\"), CONCATENATE(IF(ISBLANK(Datenerfassung!M219),\" \",Datenerfassung!M219 ),\" [IS]\"), IF(ISBLANK(Datenerfassung!N219),\" \",Datenerfassung!N219 ) ))","v":""},{"$f":"IF(ISBLANK(Datenerfassung!V219),\"\",Datenerfassung!V219)","v":""},{"$f":"IF(ISBLANK(Datenerfassung!Q219),\"\",Datenerfassung!Q219)","v":""}]
[{"$f":"IF(ISBLANK(Datenerfassung!A220),\"\",Datenerfassung!A220)","v":""},{"$f":"IF(ISBLANK(Datenerfassung!B220),\"\",Datenerfassung!B220)","v":""},{"$f":"IF(ISBLANK(Datenerfassung!C220),\"\",Datenerfassung!C220)","v":""},{"$f":"IF(ISBLANK(Datenerfassung!R220),\"\",Datenerfassung!R220)","v":""},{"$f":"IF(ISBLANK(Datenerfassung!S220),\"\",Datenerfassung!S220)","v":""},"",{"$f":"IF(ISBLANK(Datenerfassung!U220),\"\",Datenerfassung!U220)","v":""},{"$f":"IF(ISBLANK(Datenerfassung!O220),\"\",Datenerfassung!O220)","v":""},{"$f":"IF(ISBLANK(Datenerfassung!D220),IF(COUNTBLANK(A210:H210)+COUNTBLANK(J210:O210)=14,\"\",\"- ohne Titel -\"),Datenerfassung!D220)","v":""},{"$f":"IF(ISBLANK(Datenerfassung!G220),\"\",Datenerfassung!G220)","v":""},"",{"$f":"IF(ISBLANK(Datenerfassung!X220),\"\",Datenerfassung!X220)","v":""},{"$f":"IF(COUNTBLANK(Datenerfassung!H220:'Datenerfassung'!N220)=7,\"\",CONCATENATE( CONCATENATE(IF(ISBLANK(Datenerfassung!H220),\" \",Datenerfassung!H220 ),\" [IS]\"), CONCATENATE(IF(ISBLANK(Datenerfassung!I220),\" \",Datenerfassung!I220 ),\" [IS]\"), CONCATENATE(IF(ISBLANK(Datenerfassung!J220),\" \",Datenerfassung!J220 ),\" [IS]\"), CONCATENATE(IF(ISBLANK(Datenerfassung!K220),\" \",Datenerfassung!K220 ),\" [IS]\"), CONCATENATE(IF(ISBLANK(Datenerfassung!L220),\" \",Datenerfassung!L220 ),\" [IS]\"), CONCATENATE(IF(ISBLANK(Datenerfassung!M220),\" \",Datenerfassung!M220 ),\" [IS]\"), IF(ISBLANK(Datenerfassung!N220),\" \",Datenerfassung!N220 ) ))","v":""},{"$f":"IF(ISBLANK(Datenerfassung!V220),\"\",Datenerfassung!V220)","v":""},{"$f":"IF(ISBLANK(Datenerfassung!Q220),\"\",Datenerfassung!Q220)","v":""}]
[{"$f":"IF(ISBLANK(Datenerfassung!A221),\"\",Datenerfassung!A221)","v":""},{"$f":"IF(ISBLANK(Datenerfassung!B221),\"\",Datenerfassung!B221)","v":""},{"$f":"IF(ISBLANK(Datenerfassung!C221),\"\",Datenerfassung!C221)","v":""},{"$f":"IF(ISBLANK(Datenerfassung!R221),\"\",Datenerfassung!R221)","v":""},{"$f":"IF(ISBLANK(Datenerfassung!S221),\"\",Datenerfassung!S221)","v":""},"",{"$f":"IF(ISBLANK(Datenerfassung!U221),\"\",Datenerfassung!U221)","v":""},{"$f":"IF(ISBLANK(Datenerfassung!O221),\"\",Datenerfassung!O221)","v":""},{"$f":"IF(ISBLANK(Datenerfassung!D221),IF(COUNTBLANK(A211:H211)+COUNTBLANK(J211:O211)=14,\"\",\"- ohne Titel -\"),Datenerfassung!D221)","v":""},{"$f":"IF(ISBLANK(Datenerfassung!G221),\"\",Datenerfassung!G221)","v":""},"",{"$f":"IF(ISBLANK(Datenerfassung!X221),\"\",Datenerfassung!X221)","v":""},{"$f":"IF(COUNTBLANK(Datenerfassung!H221:'Datenerfassung'!N221)=7,\"\",CONCATENATE( CONCATENATE(IF(ISBLANK(Datenerfassung!H221),\" \",Datenerfassung!H221 ),\" [IS]\"), CONCATENATE(IF(ISBLANK(Datenerfassung!I221),\" \",Datenerfassung!I221 ),\" [IS]\"), CONCATENATE(IF(ISBLANK(Datenerfassung!J221),\" \",Datenerfassung!J221 ),\" [IS]\"), CONCATENATE(IF(ISBLANK(Datenerfassung!K221),\" \",Datenerfassung!K221 ),\" [IS]\"), CONCATENATE(IF(ISBLANK(Datenerfassung!L221),\" \",Datenerfassung!L221 ),\" [IS]\"), CONCATENATE(IF(ISBLANK(Datenerfassung!M221),\" \",Datenerfassung!M221 ),\" [IS]\"), IF(ISBLANK(Datenerfassung!N221),\" \",Datenerfassung!N221 ) ))","v":""},{"$f":"IF(ISBLANK(Datenerfassung!V221),\"\",Datenerfassung!V221)","v":""},{"$f":"IF(ISBLANK(Datenerfassung!Q221),\"\",Datenerfassung!Q221)","v":""}]
[{"$f":"IF(ISBLANK(Datenerfassung!A222),\"\",Datenerfassung!A222)","v":""},{"$f":"IF(ISBLANK(Datenerfassung!B222),\"\",Datenerfassung!B222)","v":""},{"$f":"IF(ISBLANK(Datenerfassung!C222),\"\",Datenerfassung!C222)","v":""},{"$f":"IF(ISBLANK(Datenerfassung!R222),\"\",Datenerfassung!R222)","v":""},{"$f":"IF(ISBLANK(Datenerfassung!S222),\"\",Datenerfassung!S222)","v":""},"",{"$f":"IF(ISBLANK(Datenerfassung!U222),\"\",Datenerfassung!U222)","v":""},{"$f":"IF(ISBLANK(Datenerfassung!O222),\"\",Datenerfassung!O222)","v":""},{"$f":"IF(ISBLANK(Datenerfassung!D222),IF(COUNTBLANK(A212:H212)+COUNTBLANK(J212:O212)=14,\"\",\"- ohne Titel -\"),Datenerfassung!D222)","v":""},{"$f":"IF(ISBLANK(Datenerfassung!G222),\"\",Datenerfassung!G222)","v":""},"",{"$f":"IF(ISBLANK(Datenerfassung!X222),\"\",Datenerfassung!X222)","v":""},{"$f":"IF(COUNTBLANK(Datenerfassung!H222:'Datenerfassung'!N222)=7,\"\",CONCATENATE( CONCATENATE(IF(ISBLANK(Datenerfassung!H222),\" \",Datenerfassung!H222 ),\" [IS]\"), CONCATENATE(IF(ISBLANK(Datenerfassung!I222),\" \",Datenerfassung!I222 ),\" [IS]\"), CONCATENATE(IF(ISBLANK(Datenerfassung!J222),\" \",Datenerfassung!J222 ),\" [IS]\"), CONCATENATE(IF(ISBLANK(Datenerfassung!K222),\" \",Datenerfassung!K222 ),\" [IS]\"), CONCATENATE(IF(ISBLANK(Datenerfassung!L222),\" \",Datenerfassung!L222 ),\" [IS]\"), CONCATENATE(IF(ISBLANK(Datenerfassung!M222),\" \",Datenerfassung!M222 ),\" [IS]\"), IF(ISBLANK(Datenerfassung!N222),\" \",Datenerfassung!N222 ) ))","v":""},{"$f":"IF(ISBLANK(Datenerfassung!V222),\"\",Datenerfassung!V222)","v":""},{"$f":"IF(ISBLANK(Datenerfassung!Q222),\"\",Datenerfassung!Q222)","v":""}]
[{"$f":"IF(ISBLANK(Datenerfassung!A223),\"\",Datenerfassung!A223)","v":""},{"$f":"IF(ISBLANK(Datenerfassung!B223),\"\",Datenerfassung!B223)","v":""},{"$f":"IF(ISBLANK(Datenerfassung!C223),\"\",Datenerfassung!C223)","v":""},{"$f":"IF(ISBLANK(Datenerfassung!R223),\"\",Datenerfassung!R223)","v":""},{"$f":"IF(ISBLANK(Datenerfassung!S223),\"\",Datenerfassung!S223)","v":""},"",{"$f":"IF(ISBLANK(Datenerfassung!U223),\"\",Datenerfassung!U223)","v":""},{"$f":"IF(ISBLANK(Datenerfassung!O223),\"\",Datenerfassung!O223)","v":""},{"$f":"IF(ISBLANK(Datenerfassung!D223),IF(COUNTBLANK(A213:H213)+COUNTBLANK(J213:O213)=14,\"\",\"- ohne Titel -\"),Datenerfassung!D223)","v":""},{"$f":"IF(ISBLANK(Datenerfassung!G223),\"\",Datenerfassung!G223)","v":""},"",{"$f":"IF(ISBLANK(Datenerfassung!X223),\"\",Datenerfassung!X223)","v":""},{"$f":"IF(COUNTBLANK(Datenerfassung!H223:'Datenerfassung'!N223)=7,\"\",CONCATENATE( CONCATENATE(IF(ISBLANK(Datenerfassung!H223),\" \",Datenerfassung!H223 ),\" [IS]\"), CONCATENATE(IF(ISBLANK(Datenerfassung!I223),\" \",Datenerfassung!I223 ),\" [IS]\"), CONCATENATE(IF(ISBLANK(Datenerfassung!J223),\" \",Datenerfassung!J223 ),\" [IS]\"), CONCATENATE(IF(ISBLANK(Datenerfassung!K223),\" \",Datenerfassung!K223 ),\" [IS]\"), CONCATENATE(IF(ISBLANK(Datenerfassung!L223),\" \",Datenerfassung!L223 ),\" [IS]\"), CONCATENATE(IF(ISBLANK(Datenerfassung!M223),\" \",Datenerfassung!M223 ),\" [IS]\"), IF(ISBLANK(Datenerfassung!N223),\" \",Datenerfassung!N223 ) ))","v":""},{"$f":"IF(ISBLANK(Datenerfassung!V223),\"\",Datenerfassung!V223)","v":""},{"$f":"IF(ISBLANK(Datenerfassung!Q223),\"\",Datenerfassung!Q223)","v":""}]
[{"$f":"IF(ISBLANK(Datenerfassung!A224),\"\",Datenerfassung!A224)","v":""},{"$f":"IF(ISBLANK(Datenerfassung!B224),\"\",Datenerfassung!B224)","v":""},{"$f":"IF(ISBLANK(Datenerfassung!C224),\"\",Datenerfassung!C224)","v":""},{"$f":"IF(ISBLANK(Datenerfassung!R224),\"\",Datenerfassung!R224)","v":""},{"$f":"IF(ISBLANK(Datenerfassung!S224),\"\",Datenerfassung!S224)","v":""},"",{"$f":"IF(ISBLANK(Datenerfassung!U224),\"\",Datenerfassung!U224)","v":""},{"$f":"IF(ISBLANK(Datenerfassung!O224),\"\",Datenerfassung!O224)","v":""},{"$f":"IF(ISBLANK(Datenerfassung!D224),IF(COUNTBLANK(A214:H214)+COUNTBLANK(J214:O214)=14,\"\",\"- ohne Titel -\"),Datenerfassung!D224)","v":""},{"$f":"IF(ISBLANK(Datenerfassung!G224),\"\",Datenerfassung!G224)","v":""},"",{"$f":"IF(ISBLANK(Datenerfassung!X224),\"\",Datenerfassung!X224)","v":""},{"$f":"IF(COUNTBLANK(Datenerfassung!H224:'Datenerfassung'!N224)=7,\"\",CONCATENATE( CONCATENATE(IF(ISBLANK(Datenerfassung!H224),\" \",Datenerfassung!H224 ),\" [IS]\"), CONCATENATE(IF(ISBLANK(Datenerfassung!I224),\" \",Datenerfassung!I224 ),\" [IS]\"), CONCATENATE(IF(ISBLANK(Datenerfassung!J224),\" \",Datenerfassung!J224 ),\" [IS]\"), CONCATENATE(IF(ISBLANK(Datenerfassung!K224),\" \",Datenerfassung!K224 ),\" [IS]\"), CONCATENATE(IF(ISBLANK(Datenerfassung!L224),\" \",Datenerfassung!L224 ),\" [IS]\"), CONCATENATE(IF(ISBLANK(Datenerfassung!M224),\" \",Datenerfassung!M224 ),\" [IS]\"), IF(ISBLANK(Datenerfassung!N224),\" \",Datenerfassung!N224 ) ))","v":""},{"$f":"IF(ISBLANK(Datenerfassung!V224),\"\",Datenerfassung!V224)","v":""},{"$f":"IF(ISBLANK(Datenerfassung!Q224),\"\",Datenerfassung!Q224)","v":""}]
[{"$f":"IF(ISBLANK(Datenerfassung!A225),\"\",Datenerfassung!A225)","v":""},{"$f":"IF(ISBLANK(Datenerfassung!B225),\"\",Datenerfassung!B225)","v":""},{"$f":"IF(ISBLANK(Datenerfassung!C225),\"\",Datenerfassung!C225)","v":""},{"$f":"IF(ISBLANK(Datenerfassung!R225),\"\",Datenerfassung!R225)","v":""},{"$f":"IF(ISBLANK(Datenerfassung!S225),\"\",Datenerfassung!S225)","v":""},"",{"$f":"IF(ISBLANK(Datenerfassung!U225),\"\",Datenerfassung!U225)","v":""},{"$f":"IF(ISBLANK(Datenerfassung!O225),\"\",Datenerfassung!O225)","v":""},{"$f":"IF(ISBLANK(Datenerfassung!D225),IF(COUNTBLANK(A215:H215)+COUNTBLANK(J215:O215)=14,\"\",\"- ohne Titel -\"),Datenerfassung!D225)","v":""},{"$f":"IF(ISBLANK(Datenerfassung!G225),\"\",Datenerfassung!G225)","v":""},"",{"$f":"IF(ISBLANK(Datenerfassung!X225),\"\",Datenerfassung!X225)","v":""},{"$f":"IF(COUNTBLANK(Datenerfassung!H225:'Datenerfassung'!N225)=7,\"\",CONCATENATE( CONCATENATE(IF(ISBLANK(Datenerfassung!H225),\" \",Datenerfassung!H225 ),\" [IS]\"), CONCATENATE(IF(ISBLANK(Datenerfassung!I225),\" \",Datenerfassung!I225 ),\" [IS]\"), CONCATENATE(IF(ISBLANK(Datenerfassung!J225),\" \",Datenerfassung!J225 ),\" [IS]\"), CONCATENATE(IF(ISBLANK(Datenerfassung!K225),\" \",Datenerfassung!K225 ),\" [IS]\"), CONCATENATE(IF(ISBLANK(Datenerfassung!L225),\" \",Datenerfassung!L225 ),\" [IS]\"), CONCATENATE(IF(ISBLANK(Datenerfassung!M225),\" \",Datenerfassung!M225 ),\" [IS]\"), IF(ISBLANK(Datenerfassung!N225),\" \",Datenerfassung!N225 ) ))","v":""},{"$f":"IF(ISBLANK(Datenerfassung!V225),\"\",Datenerfassung!V225)","v":""},{"$f":"IF(ISBLANK(Datenerfassung!Q225),\"\",Datenerfassung!Q225)","v":""}]
[{"$f":"IF(ISBLANK(Datenerfassung!A226),\"\",Datenerfassung!A226)","v":""},{"$f":"IF(ISBLANK(Datenerfassung!B226),\"\",Datenerfassung!B226)","v":""},{"$f":"IF(ISBLANK(Datenerfassung!C226),\"\",Datenerfassung!C226)","v":""},{"$f":"IF(ISBLANK(Datenerfassung!R226),\"\",Datenerfassung!R226)","v":""},{"$f":"IF(ISBLANK(Datenerfassung!S226),\"\",Datenerfassung!S226)","v":""},"",{"$f":"IF(ISBLANK(Datenerfassung!U226),\"\",Datenerfassung!U226)","v":""},{"$f":"IF(ISBLANK(Datenerfassung!O226),\"\",Datenerfassung!O226)","v":""},{"$f":"IF(ISBLANK(Datenerfassung!D226),IF(COUNTBLANK(A216:H216)+COUNTBLANK(J216:O216)=14,\"\",\"- ohne Titel -\"),Datenerfassung!D226)","v":""},{"$f":"IF(ISBLANK(Datenerfassung!G226),\"\",Datenerfassung!G226)","v":""},"",{"$f":"IF(ISBLANK(Datenerfassung!X226),\"\",Datenerfassung!X226)","v":""},{"$f":"IF(COUNTBLANK(Datenerfassung!H226:'Datenerfassung'!N226)=7,\"\",CONCATENATE( CONCATENATE(IF(ISBLANK(Datenerfassung!H226),\" \",Datenerfassung!H226 ),\" [IS]\"), CONCATENATE(IF(ISBLANK(Datenerfassung!I226),\" \",Datenerfassung!I226 ),\" [IS]\"), CONCATENATE(IF(ISBLANK(Datenerfassung!J226),\" \",Datenerfassung!J226 ),\" [IS]\"), CONCATENATE(IF(ISBLANK(Datenerfassung!K226),\" \",Datenerfassung!K226 ),\" [IS]\"), CONCATENATE(IF(ISBLANK(Datenerfassung!L226),\" \",Datenerfassung!L226 ),\" [IS]\"), CONCATENATE(IF(ISBLANK(Datenerfassung!M226),\" \",Datenerfassung!M226 ),\" [IS]\"), IF(ISBLANK(Datenerfassung!N226),\" \",Datenerfassung!N226 ) ))","v":""},{"$f":"IF(ISBLANK(Datenerfassung!V226),\"\",Datenerfassung!V226)","v":""},{"$f":"IF(ISBLANK(Datenerfassung!Q226),\"\",Datenerfassung!Q226)","v":""}]
[{"$f":"IF(ISBLANK(Datenerfassung!A227),\"\",Datenerfassung!A227)","v":""},{"$f":"IF(ISBLANK(Datenerfassung!B227),\"\",Datenerfassung!B227)","v":""},{"$f":"IF(ISBLANK(Datenerfassung!C227),\"\",Datenerfassung!C227)","v":""},{"$f":"IF(ISBLANK(Datenerfassung!R227),\"\",Datenerfassung!R227)","v":""},{"$f":"IF(ISBLANK(Datenerfassung!S227),\"\",Datenerfassung!S227)","v":""},"",{"$f":"IF(ISBLANK(Datenerfassung!U227),\"\",Datenerfassung!U227)","v":""},{"$f":"IF(ISBLANK(Datenerfassung!O227),\"\",Datenerfassung!O227)","v":""},{"$f":"IF(ISBLANK(Datenerfassung!D227),IF(COUNTBLANK(A217:H217)+COUNTBLANK(J217:O217)=14,\"\",\"- ohne Titel -\"),Datenerfassung!D227)","v":""},{"$f":"IF(ISBLANK(Datenerfassung!G227),\"\",Datenerfassung!G227)","v":""},"",{"$f":"IF(ISBLANK(Datenerfassung!X227),\"\",Datenerfassung!X227)","v":""},{"$f":"IF(COUNTBLANK(Datenerfassung!H227:'Datenerfassung'!N227)=7,\"\",CONCATENATE( CONCATENATE(IF(ISBLANK(Datenerfassung!H227),\" \",Datenerfassung!H227 ),\" [IS]\"), CONCATENATE(IF(ISBLANK(Datenerfassung!I227),\" \",Datenerfassung!I227 ),\" [IS]\"), CONCATENATE(IF(ISBLANK(Datenerfassung!J227),\" \",Datenerfassung!J227 ),\" [IS]\"), CONCATENATE(IF(ISBLANK(Datenerfassung!K227),\" \",Datenerfassung!K227 ),\" [IS]\"), CONCATENATE(IF(ISBLANK(Datenerfassung!L227),\" \",Datenerfassung!L227 ),\" [IS]\"), CONCATENATE(IF(ISBLANK(Datenerfassung!M227),\" \",Datenerfassung!M227 ),\" [IS]\"), IF(ISBLANK(Datenerfassung!N227),\" \",Datenerfassung!N227 ) ))","v":""},{"$f":"IF(ISBLANK(Datenerfassung!V227),\"\",Datenerfassung!V227)","v":""},{"$f":"IF(ISBLANK(Datenerfassung!Q227),\"\",Datenerfassung!Q227)","v":""}]
[{"$f":"IF(ISBLANK(Datenerfassung!A228),\"\",Datenerfassung!A228)","v":""},{"$f":"IF(ISBLANK(Datenerfassung!B228),\"\",Datenerfassung!B228)","v":""},{"$f":"IF(ISBLANK(Datenerfassung!C228),\"\",Datenerfassung!C228)","v":""},{"$f":"IF(ISBLANK(Datenerfassung!R228),\"\",Datenerfassung!R228)","v":""},{"$f":"IF(ISBLANK(Datenerfassung!S228),\"\",Datenerfassung!S228)","v":""},"",{"$f":"IF(ISBLANK(Datenerfassung!U228),\"\",Datenerfassung!U228)","v":""},{"$f":"IF(ISBLANK(Datenerfassung!O228),\"\",Datenerfassung!O228)","v":""},{"$f":"IF(ISBLANK(Datenerfassung!D228),IF(COUNTBLANK(A218:H218)+COUNTBLANK(J218:O218)=14,\"\",\"- ohne Titel -\"),Datenerfassung!D228)","v":""},{"$f":"IF(ISBLANK(Datenerfassung!G228),\"\",Datenerfassung!G228)","v":""},"",{"$f":"IF(ISBLANK(Datenerfassung!X228),\"\",Datenerfassung!X228)","v":""},{"$f":"IF(COUNTBLANK(Datenerfassung!H228:'Datenerfassung'!N228)=7,\"\",CONCATENATE( CONCATENATE(IF(ISBLANK(Datenerfassung!H228),\" \",Datenerfassung!H228 ),\" [IS]\"), CONCATENATE(IF(ISBLANK(Datenerfassung!I228),\" \",Datenerfassung!I228 ),\" [IS]\"), CONCATENATE(IF(ISBLANK(Datenerfassung!J228),\" \",Datenerfassung!J228 ),\" [IS]\"), CONCATENATE(IF(ISBLANK(Datenerfassung!K228),\" \",Datenerfassung!K228 ),\" [IS]\"), CONCATENATE(IF(ISBLANK(Datenerfassung!L228),\" \",Datenerfassung!L228 ),\" [IS]\"), CONCATENATE(IF(ISBLANK(Datenerfassung!M228),\" \",Datenerfassung!M228 ),\" [IS]\"), IF(ISBLANK(Datenerfassung!N228),\" \",Datenerfassung!N228 ) ))","v":""},{"$f":"IF(ISBLANK(Datenerfassung!V228),\"\",Datenerfassung!V228)","v":""},{"$f":"IF(ISBLANK(Datenerfassung!Q228),\"\",Datenerfassung!Q228)","v":""}]
[{"$f":"IF(ISBLANK(Datenerfassung!A229),\"\",Datenerfassung!A229)","v":""},{"$f":"IF(ISBLANK(Datenerfassung!B229),\"\",Datenerfassung!B229)","v":""},{"$f":"IF(ISBLANK(Datenerfassung!C229),\"\",Datenerfassung!C229)","v":""},{"$f":"IF(ISBLANK(Datenerfassung!R229),\"\",Datenerfassung!R229)","v":""},{"$f":"IF(ISBLANK(Datenerfassung!S229),\"\",Datenerfassung!S229)","v":""},"",{"$f":"IF(ISBLANK(Datenerfassung!U229),\"\",Datenerfassung!U229)","v":""},{"$f":"IF(ISBLANK(Datenerfassung!O229),\"\",Datenerfassung!O229)","v":""},{"$f":"IF(ISBLANK(Datenerfassung!D229),IF(COUNTBLANK(A219:H219)+COUNTBLANK(J219:O219)=14,\"\",\"- ohne Titel -\"),Datenerfassung!D229)","v":""},{"$f":"IF(ISBLANK(Datenerfassung!G229),\"\",Datenerfassung!G229)","v":""},"",{"$f":"IF(ISBLANK(Datenerfassung!X229),\"\",Datenerfassung!X229)","v":""},{"$f":"IF(COUNTBLANK(Datenerfassung!H229:'Datenerfassung'!N229)=7,\"\",CONCATENATE( CONCATENATE(IF(ISBLANK(Datenerfassung!H229),\" \",Datenerfassung!H229 ),\" [IS]\"), CONCATENATE(IF(ISBLANK(Datenerfassung!I229),\" \",Datenerfassung!I229 ),\" [IS]\"), CONCATENATE(IF(ISBLANK(Datenerfassung!J229),\" \",Datenerfassung!J229 ),\" [IS]\"), CONCATENATE(IF(ISBLANK(Datenerfassung!K229),\" \",Datenerfassung!K229 ),\" [IS]\"), CONCATENATE(IF(ISBLANK(Datenerfassung!L229),\" \",Datenerfassung!L229 ),\" [IS]\"), CONCATENATE(IF(ISBLANK(Datenerfassung!M229),\" \",Datenerfassung!M229 ),\" [IS]\"), IF(ISBLANK(Datenerfassung!N229),\" \",Datenerfassung!N229 ) ))","v":""},{"$f":"IF(ISBLANK(Datenerfassung!V229),\"\",Datenerfassung!V229)","v":""},{"$f":"IF(ISBLANK(Datenerfassung!Q229),\"\",Datenerfassung!Q229)","v":""}]
[{"$f":"IF(ISBLANK(Datenerfassung!A230),\"\",Datenerfassung!A230)","v":""},{"$f":"IF(ISBLANK(Datenerfassung!B230),\"\",Datenerfassung!B230)","v":""},{"$f":"IF(ISBLANK(Datenerfassung!C230),\"\",Datenerfassung!C230)","v":""},{"$f":"IF(ISBLANK(Datenerfassung!R230),\"\",Datenerfassung!R230)","v":""},{"$f":"IF(ISBLANK(Datenerfassung!S230),\"\",Datenerfassung!S230)","v":""},"",{"$f":"IF(ISBLANK(Datenerfassung!U230),\"\",Datenerfassung!U230)","v":""},{"$f":"IF(ISBLANK(Datenerfassung!O230),\"\",Datenerfassung!O230)","v":""},{"$f":"IF(ISBLANK(Datenerfassung!D230),IF(COUNTBLANK(A220:H220)+COUNTBLANK(J220:O220)=14,\"\",\"- ohne Titel -\"),Datenerfassung!D230)","v":""},{"$f":"IF(ISBLANK(Datenerfassung!G230),\"\",Datenerfassung!G230)","v":""},"",{"$f":"IF(ISBLANK(Datenerfassung!X230),\"\",Datenerfassung!X230)","v":""},{"$f":"IF(COUNTBLANK(Datenerfassung!H230:'Datenerfassung'!N230)=7,\"\",CONCATENATE( CONCATENATE(IF(ISBLANK(Datenerfassung!H230),\" \",Datenerfassung!H230 ),\" [IS]\"), CONCATENATE(IF(ISBLANK(Datenerfassung!I230),\" \",Datenerfassung!I230 ),\" [IS]\"), CONCATENATE(IF(ISBLANK(Datenerfassung!J230),\" \",Datenerfassung!J230 ),\" [IS]\"), CONCATENATE(IF(ISBLANK(Datenerfassung!K230),\" \",Datenerfassung!K230 ),\" [IS]\"), CONCATENATE(IF(ISBLANK(Datenerfassung!L230),\" \",Datenerfassung!L230 ),\" [IS]\"), CONCATENATE(IF(ISBLANK(Datenerfassung!M230),\" \",Datenerfassung!M230 ),\" [IS]\"), IF(ISBLANK(Datenerfassung!N230),\" \",Datenerfassung!N230 ) ))","v":""},{"$f":"IF(ISBLANK(Datenerfassung!V230),\"\",Datenerfassung!V230)","v":""},{"$f":"IF(ISBLANK(Datenerfassung!Q230),\"\",Datenerfassung!Q230)","v":""}]
[{"$f":"IF(ISBLANK(Datenerfassung!A231),\"\",Datenerfassung!A231)","v":""},{"$f":"IF(ISBLANK(Datenerfassung!B231),\"\",Datenerfassung!B231)","v":""},{"$f":"IF(ISBLANK(Datenerfassung!C231),\"\",Datenerfassung!C231)","v":""},{"$f":"IF(ISBLANK(Datenerfassung!R231),\"\",Datenerfassung!R231)","v":""},{"$f":"IF(ISBLANK(Datenerfassung!S231),\"\",Datenerfassung!S231)","v":""},"",{"$f":"IF(ISBLANK(Datenerfassung!U231),\"\",Datenerfassung!U231)","v":""},{"$f":"IF(ISBLANK(Datenerfassung!O231),\"\",Datenerfassung!O231)","v":""},{"$f":"IF(ISBLANK(Datenerfassung!D231),IF(COUNTBLANK(A221:H221)+COUNTBLANK(J221:O221)=14,\"\",\"- ohne Titel -\"),Datenerfassung!D231)","v":""},{"$f":"IF(ISBLANK(Datenerfassung!G231),\"\",Datenerfassung!G231)","v":""},"",{"$f":"IF(ISBLANK(Datenerfassung!X231),\"\",Datenerfassung!X231)","v":""},{"$f":"IF(COUNTBLANK(Datenerfassung!H231:'Datenerfassung'!N231)=7,\"\",CONCATENATE( CONCATENATE(IF(ISBLANK(Datenerfassung!H231),\" \",Datenerfassung!H231 ),\" [IS]\"), CONCATENATE(IF(ISBLANK(Datenerfassung!I231),\" \",Datenerfassung!I231 ),\" [IS]\"), CONCATENATE(IF(ISBLANK(Datenerfassung!J231),\" \",Datenerfassung!J231 ),\" [IS]\"), CONCATENATE(IF(ISBLANK(Datenerfassung!K231),\" \",Datenerfassung!K231 ),\" [IS]\"), CONCATENATE(IF(ISBLANK(Datenerfassung!L231),\" \",Datenerfassung!L231 ),\" [IS]\"), CONCATENATE(IF(ISBLANK(Datenerfassung!M231),\" \",Datenerfassung!M231 ),\" [IS]\"), IF(ISBLANK(Datenerfassung!N231),\" \",Datenerfassung!N231 ) ))","v":""},{"$f":"IF(ISBLANK(Datenerfassung!V231),\"\",Datenerfassung!V231)","v":""},{"$f":"IF(ISBLANK(Datenerfassung!Q231),\"\",Datenerfassung!Q231)","v":""}]
[{"$f":"IF(ISBLANK(Datenerfassung!A232),\"\",Datenerfassung!A232)","v":""},{"$f":"IF(ISBLANK(Datenerfassung!B232),\"\",Datenerfassung!B232)","v":""},{"$f":"IF(ISBLANK(Datenerfassung!C232),\"\",Datenerfassung!C232)","v":""},{"$f":"IF(ISBLANK(Datenerfassung!R232),\"\",Datenerfassung!R232)","v":""},{"$f":"IF(ISBLANK(Datenerfassung!S232),\"\",Datenerfassung!S232)","v":""},"",{"$f":"IF(ISBLANK(Datenerfassung!U232),\"\",Datenerfassung!U232)","v":""},{"$f":"IF(ISBLANK(Datenerfassung!O232),\"\",Datenerfassung!O232)","v":""},{"$f":"IF(ISBLANK(Datenerfassung!D232),IF(COUNTBLANK(A222:H222)+COUNTBLANK(J222:O222)=14,\"\",\"- ohne Titel -\"),Datenerfassung!D232)","v":""},{"$f":"IF(ISBLANK(Datenerfassung!G232),\"\",Datenerfassung!G232)","v":""},"",{"$f":"IF(ISBLANK(Datenerfassung!X232),\"\",Datenerfassung!X232)","v":""},{"$f":"IF(COUNTBLANK(Datenerfassung!H232:'Datenerfassung'!N232)=7,\"\",CONCATENATE( CONCATENATE(IF(ISBLANK(Datenerfassung!H232),\" \",Datenerfassung!H232 ),\" [IS]\"), CONCATENATE(IF(ISBLANK(Datenerfassung!I232),\" \",Datenerfassung!I232 ),\" [IS]\"), CONCATENATE(IF(ISBLANK(Datenerfassung!J232),\" \",Datenerfassung!J232 ),\" [IS]\"), CONCATENATE(IF(ISBLANK(Datenerfassung!K232),\" \",Datenerfassung!K232 ),\" [IS]\"), CONCATENATE(IF(ISBLANK(Datenerfassung!L232),\" \",Datenerfassung!L232 ),\" [IS]\"), CONCATENATE(IF(ISBLANK(Datenerfassung!M232),\" \",Datenerfassung!M232 ),\" [IS]\"), IF(ISBLANK(Datenerfassung!N232),\" \",Datenerfassung!N232 ) ))","v":""},{"$f":"IF(ISBLANK(Datenerfassung!V232),\"\",Datenerfassung!V232)","v":""},{"$f":"IF(ISBLANK(Datenerfassung!Q232),\"\",Datenerfassung!Q232)","v":""}]
[{"$f":"IF(ISBLANK(Datenerfassung!A233),\"\",Datenerfassung!A233)","v":""},{"$f":"IF(ISBLANK(Datenerfassung!B233),\"\",Datenerfassung!B233)","v":""},{"$f":"IF(ISBLANK(Datenerfassung!C233),\"\",Datenerfassung!C233)","v":""},{"$f":"IF(ISBLANK(Datenerfassung!R233),\"\",Datenerfassung!R233)","v":""},{"$f":"IF(ISBLANK(Datenerfassung!S233),\"\",Datenerfassung!S233)","v":""},"",{"$f":"IF(ISBLANK(Datenerfassung!U233),\"\",Datenerfassung!U233)","v":""},{"$f":"IF(ISBLANK(Datenerfassung!O233),\"\",Datenerfassung!O233)","v":""},{"$f":"IF(ISBLANK(Datenerfassung!D233),IF(COUNTBLANK(A223:H223)+COUNTBLANK(J223:O223)=14,\"\",\"- ohne Titel -\"),Datenerfassung!D233)","v":""},{"$f":"IF(ISBLANK(Datenerfassung!G233),\"\",Datenerfassung!G233)","v":""},"",{"$f":"IF(ISBLANK(Datenerfassung!X233),\"\",Datenerfassung!X233)","v":""},{"$f":"IF(COUNTBLANK(Datenerfassung!H233:'Datenerfassung'!N233)=7,\"\",CONCATENATE( CONCATENATE(IF(ISBLANK(Datenerfassung!H233),\" \",Datenerfassung!H233 ),\" [IS]\"), CONCATENATE(IF(ISBLANK(Datenerfassung!I233),\" \",Datenerfassung!I233 ),\" [IS]\"), CONCATENATE(IF(ISBLANK(Datenerfassung!J233),\" \",Datenerfassung!J233 ),\" [IS]\"), CONCATENATE(IF(ISBLANK(Datenerfassung!K233),\" \",Datenerfassung!K233 ),\" [IS]\"), CONCATENATE(IF(ISBLANK(Datenerfassung!L233),\" \",Datenerfassung!L233 ),\" [IS]\"), CONCATENATE(IF(ISBLANK(Datenerfassung!M233),\" \",Datenerfassung!M233 ),\" [IS]\"), IF(ISBLANK(Datenerfassung!N233),\" \",Datenerfassung!N233 ) ))","v":""},{"$f":"IF(ISBLANK(Datenerfassung!V233),\"\",Datenerfassung!V233)","v":""},{"$f":"IF(ISBLANK(Datenerfassung!Q233),\"\",Datenerfassung!Q233)","v":""}]
[{"$f":"IF(ISBLANK(Datenerfassung!A234),\"\",Datenerfassung!A234)","v":""},{"$f":"IF(ISBLANK(Datenerfassung!B234),\"\",Datenerfassung!B234)","v":""},{"$f":"IF(ISBLANK(Datenerfassung!C234),\"\",Datenerfassung!C234)","v":""},{"$f":"IF(ISBLANK(Datenerfassung!R234),\"\",Datenerfassung!R234)","v":""},{"$f":"IF(ISBLANK(Datenerfassung!S234),\"\",Datenerfassung!S234)","v":""},"",{"$f":"IF(ISBLANK(Datenerfassung!U234),\"\",Datenerfassung!U234)","v":""},{"$f":"IF(ISBLANK(Datenerfassung!O234),\"\",Datenerfassung!O234)","v":""},{"$f":"IF(ISBLANK(Datenerfassung!D234),IF(COUNTBLANK(A224:H224)+COUNTBLANK(J224:O224)=14,\"\",\"- ohne Titel -\"),Datenerfassung!D234)","v":""},{"$f":"IF(ISBLANK(Datenerfassung!G234),\"\",Datenerfassung!G234)","v":""},"",{"$f":"IF(ISBLANK(Datenerfassung!X234),\"\",Datenerfassung!X234)","v":""},{"$f":"IF(COUNTBLANK(Datenerfassung!H234:'Datenerfassung'!N234)=7,\"\",CONCATENATE( CONCATENATE(IF(ISBLANK(Datenerfassung!H234),\" \",Datenerfassung!H234 ),\" [IS]\"), CONCATENATE(IF(ISBLANK(Datenerfassung!I234),\" \",Datenerfassung!I234 ),\" [IS]\"), CONCATENATE(IF(ISBLANK(Datenerfassung!J234),\" \",Datenerfassung!J234 ),\" [IS]\"), CONCATENATE(IF(ISBLANK(Datenerfassung!K234),\" \",Datenerfassung!K234 ),\" [IS]\"), CONCATENATE(IF(ISBLANK(Datenerfassung!L234),\" \",Datenerfassung!L234 ),\" [IS]\"), CONCATENATE(IF(ISBLANK(Datenerfassung!M234),\" \",Datenerfassung!M234 ),\" [IS]\"), IF(ISBLANK(Datenerfassung!N234),\" \",Datenerfassung!N234 ) ))","v":""},{"$f":"IF(ISBLANK(Datenerfassung!V234),\"\",Datenerfassung!V234)","v":""},{"$f":"IF(ISBLANK(Datenerfassung!Q234),\"\",Datenerfassung!Q234)","v":""}]
[{"$f":"IF(ISBLANK(Datenerfassung!A235),\"\",Datenerfassung!A235)","v":""},{"$f":"IF(ISBLANK(Datenerfassung!B235),\"\",Datenerfassung!B235)","v":""},{"$f":"IF(ISBLANK(Datenerfassung!C235),\"\",Datenerfassung!C235)","v":""},{"$f":"IF(ISBLANK(Datenerfassung!R235),\"\",Datenerfassung!R235)","v":""},{"$f":"IF(ISBLANK(Datenerfassung!S235),\"\",Datenerfassung!S235)","v":""},"",{"$f":"IF(ISBLANK(Datenerfassung!U235),\"\",Datenerfassung!U235)","v":""},{"$f":"IF(ISBLANK(Datenerfassung!O235),\"\",Datenerfassung!O235)","v":""},{"$f":"IF(ISBLANK(Datenerfassung!D235),IF(COUNTBLANK(A225:H225)+COUNTBLANK(J225:O225)=14,\"\",\"- ohne Titel -\"),Datenerfassung!D235)","v":""},{"$f":"IF(ISBLANK(Datenerfassung!G235),\"\",Datenerfassung!G235)","v":""},"",{"$f":"IF(ISBLANK(Datenerfassung!X235),\"\",Datenerfassung!X235)","v":""},{"$f":"IF(COUNTBLANK(Datenerfassung!H235:'Datenerfassung'!N235)=7,\"\",CONCATENATE( CONCATENATE(IF(ISBLANK(Datenerfassung!H235),\" \",Datenerfassung!H235 ),\" [IS]\"), CONCATENATE(IF(ISBLANK(Datenerfassung!I235),\" \",Datenerfassung!I235 ),\" [IS]\"), CONCATENATE(IF(ISBLANK(Datenerfassung!J235),\" \",Datenerfassung!J235 ),\" [IS]\"), CONCATENATE(IF(ISBLANK(Datenerfassung!K235),\" \",Datenerfassung!K235 ),\" [IS]\"), CONCATENATE(IF(ISBLANK(Datenerfassung!L235),\" \",Datenerfassung!L235 ),\" [IS]\"), CONCATENATE(IF(ISBLANK(Datenerfassung!M235),\" \",Datenerfassung!M235 ),\" [IS]\"), IF(ISBLANK(Datenerfassung!N235),\" \",Datenerfassung!N235 ) ))","v":""},{"$f":"IF(ISBLANK(Datenerfassung!V235),\"\",Datenerfassung!V235)","v":""},{"$f":"IF(ISBLANK(Datenerfassung!Q235),\"\",Datenerfassung!Q235)","v":""}]
[{"$f":"IF(ISBLANK(Datenerfassung!A236),\"\",Datenerfassung!A236)","v":""},{"$f":"IF(ISBLANK(Datenerfassung!B236),\"\",Datenerfassung!B236)","v":""},{"$f":"IF(ISBLANK(Datenerfassung!C236),\"\",Datenerfassung!C236)","v":""},{"$f":"IF(ISBLANK(Datenerfassung!R236),\"\",Datenerfassung!R236)","v":""},{"$f":"IF(ISBLANK(Datenerfassung!S236),\"\",Datenerfassung!S236)","v":""},"",{"$f":"IF(ISBLANK(Datenerfassung!U236),\"\",Datenerfassung!U236)","v":""},{"$f":"IF(ISBLANK(Datenerfassung!O236),\"\",Datenerfassung!O236)","v":""},{"$f":"IF(ISBLANK(Datenerfassung!D236),IF(COUNTBLANK(A226:H226)+COUNTBLANK(J226:O226)=14,\"\",\"- ohne Titel -\"),Datenerfassung!D236)","v":""},{"$f":"IF(ISBLANK(Datenerfassung!G236),\"\",Datenerfassung!G236)","v":""},"",{"$f":"IF(ISBLANK(Datenerfassung!X236),\"\",Datenerfassung!X236)","v":""},{"$f":"IF(COUNTBLANK(Datenerfassung!H236:'Datenerfassung'!N236)=7,\"\",CONCATENATE( CONCATENATE(IF(ISBLANK(Datenerfassung!H236),\" \",Datenerfassung!H236 ),\" [IS]\"), CONCATENATE(IF(ISBLANK(Datenerfassung!I236),\" \",Datenerfassung!I236 ),\" [IS]\"), CONCATENATE(IF(ISBLANK(Datenerfassung!J236),\" \",Datenerfassung!J236 ),\" [IS]\"), CONCATENATE(IF(ISBLANK(Datenerfassung!K236),\" \",Datenerfassung!K236 ),\" [IS]\"), CONCATENATE(IF(ISBLANK(Datenerfassung!L236),\" \",Datenerfassung!L236 ),\" [IS]\"), CONCATENATE(IF(ISBLANK(Datenerfassung!M236),\" \",Datenerfassung!M236 ),\" [IS]\"), IF(ISBLANK(Datenerfassung!N236),\" \",Datenerfassung!N236 ) ))","v":""},{"$f":"IF(ISBLANK(Datenerfassung!V236),\"\",Datenerfassung!V236)","v":""},{"$f":"IF(ISBLANK(Datenerfassung!Q236),\"\",Datenerfassung!Q236)","v":""}]
[{"$f":"IF(ISBLANK(Datenerfassung!A237),\"\",Datenerfassung!A237)","v":""},{"$f":"IF(ISBLANK(Datenerfassung!B237),\"\",Datenerfassung!B237)","v":""},{"$f":"IF(ISBLANK(Datenerfassung!C237),\"\",Datenerfassung!C237)","v":""},{"$f":"IF(ISBLANK(Datenerfassung!R237),\"\",Datenerfassung!R237)","v":""},{"$f":"IF(ISBLANK(Datenerfassung!S237),\"\",Datenerfassung!S237)","v":""},"",{"$f":"IF(ISBLANK(Datenerfassung!U237),\"\",Datenerfassung!U237)","v":""},{"$f":"IF(ISBLANK(Datenerfassung!O237),\"\",Datenerfassung!O237)","v":""},{"$f":"IF(ISBLANK(Datenerfassung!D237),IF(COUNTBLANK(A227:H227)+COUNTBLANK(J227:O227)=14,\"\",\"- ohne Titel -\"),Datenerfassung!D237)","v":""},{"$f":"IF(ISBLANK(Datenerfassung!G237),\"\",Datenerfassung!G237)","v":""},"",{"$f":"IF(ISBLANK(Datenerfassung!X237),\"\",Datenerfassung!X237)","v":""},{"$f":"IF(COUNTBLANK(Datenerfassung!H237:'Datenerfassung'!N237)=7,\"\",CONCATENATE( CONCATENATE(IF(ISBLANK(Datenerfassung!H237),\" \",Datenerfassung!H237 ),\" [IS]\"), CONCATENATE(IF(ISBLANK(Datenerfassung!I237),\" \",Datenerfassung!I237 ),\" [IS]\"), CONCATENATE(IF(ISBLANK(Datenerfassung!J237),\" \",Datenerfassung!J237 ),\" [IS]\"), CONCATENATE(IF(ISBLANK(Datenerfassung!K237),\" \",Datenerfassung!K237 ),\" [IS]\"), CONCATENATE(IF(ISBLANK(Datenerfassung!L237),\" \",Datenerfassung!L237 ),\" [IS]\"), CONCATENATE(IF(ISBLANK(Datenerfassung!M237),\" \",Datenerfassung!M237 ),\" [IS]\"), IF(ISBLANK(Datenerfassung!N237),\" \",Datenerfassung!N237 ) ))","v":""},{"$f":"IF(ISBLANK(Datenerfassung!V237),\"\",Datenerfassung!V237)","v":""},{"$f":"IF(ISBLANK(Datenerfassung!Q237),\"\",Datenerfassung!Q237)","v":""}]
[{"$f":"IF(ISBLANK(Datenerfassung!A238),\"\",Datenerfassung!A238)","v":""},{"$f":"IF(ISBLANK(Datenerfassung!B238),\"\",Datenerfassung!B238)","v":""},{"$f":"IF(ISBLANK(Datenerfassung!C238),\"\",Datenerfassung!C238)","v":""},{"$f":"IF(ISBLANK(Datenerfassung!R238),\"\",Datenerfassung!R238)","v":""},{"$f":"IF(ISBLANK(Datenerfassung!S238),\"\",Datenerfassung!S238)","v":""},"",{"$f":"IF(ISBLANK(Datenerfassung!U238),\"\",Datenerfassung!U238)","v":""},{"$f":"IF(ISBLANK(Datenerfassung!O238),\"\",Datenerfassung!O238)","v":""},{"$f":"IF(ISBLANK(Datenerfassung!D238),IF(COUNTBLANK(A228:H228)+COUNTBLANK(J228:O228)=14,\"\",\"- ohne Titel -\"),Datenerfassung!D238)","v":""},{"$f":"IF(ISBLANK(Datenerfassung!G238),\"\",Datenerfassung!G238)","v":""},"",{"$f":"IF(ISBLANK(Datenerfassung!X238),\"\",Datenerfassung!X238)","v":""},{"$f":"IF(COUNTBLANK(Datenerfassung!H238:'Datenerfassung'!N238)=7,\"\",CONCATENATE( CONCATENATE(IF(ISBLANK(Datenerfassung!H238),\" \",Datenerfassung!H238 ),\" [IS]\"), CONCATENATE(IF(ISBLANK(Datenerfassung!I238),\" \",Datenerfassung!I238 ),\" [IS]\"), CONCATENATE(IF(ISBLANK(Datenerfassung!J238),\" \",Datenerfassung!J238 ),\" [IS]\"), CONCATENATE(IF(ISBLANK(Datenerfassung!K238),\" \",Datenerfassung!K238 ),\" [IS]\"), CONCATENATE(IF(ISBLANK(Datenerfassung!L238),\" \",Datenerfassung!L238 ),\" [IS]\"), CONCATENATE(IF(ISBLANK(Datenerfassung!M238),\" \",Datenerfassung!M238 ),\" [IS]\"), IF(ISBLANK(Datenerfassung!N238),\" \",Datenerfassung!N238 ) ))","v":""},{"$f":"IF(ISBLANK(Datenerfassung!V238),\"\",Datenerfassung!V238)","v":""},{"$f":"IF(ISBLANK(Datenerfassung!Q238),\"\",Datenerfassung!Q238)","v":""}]
[{"$f":"IF(ISBLANK(Datenerfassung!A239),\"\",Datenerfassung!A239)","v":""},{"$f":"IF(ISBLANK(Datenerfassung!B239),\"\",Datenerfassung!B239)","v":""},{"$f":"IF(ISBLANK(Datenerfassung!C239),\"\",Datenerfassung!C239)","v":""},{"$f":"IF(ISBLANK(Datenerfassung!R239),\"\",Datenerfassung!R239)","v":""},{"$f":"IF(ISBLANK(Datenerfassung!S239),\"\",Datenerfassung!S239)","v":""},"",{"$f":"IF(ISBLANK(Datenerfassung!U239),\"\",Datenerfassung!U239)","v":""},{"$f":"IF(ISBLANK(Datenerfassung!O239),\"\",Datenerfassung!O239)","v":""},{"$f":"IF(ISBLANK(Datenerfassung!D239),IF(COUNTBLANK(A229:H229)+COUNTBLANK(J229:O229)=14,\"\",\"- ohne Titel -\"),Datenerfassung!D239)","v":""},{"$f":"IF(ISBLANK(Datenerfassung!G239),\"\",Datenerfassung!G239)","v":""},"",{"$f":"IF(ISBLANK(Datenerfassung!X239),\"\",Datenerfassung!X239)","v":""},{"$f":"IF(COUNTBLANK(Datenerfassung!H239:'Datenerfassung'!N239)=7,\"\",CONCATENATE( CONCATENATE(IF(ISBLANK(Datenerfassung!H239),\" \",Datenerfassung!H239 ),\" [IS]\"), CONCATENATE(IF(ISBLANK(Datenerfassung!I239),\" \",Datenerfassung!I239 ),\" [IS]\"), CONCATENATE(IF(ISBLANK(Datenerfassung!J239),\" \",Datenerfassung!J239 ),\" [IS]\"), CONCATENATE(IF(ISBLANK(Datenerfassung!K239),\" \",Datenerfassung!K239 ),\" [IS]\"), CONCATENATE(IF(ISBLANK(Datenerfassung!L239),\" \",Datenerfassung!L239 ),\" [IS]\"), CONCATENATE(IF(ISBLANK(Datenerfassung!M239),\" \",Datenerfassung!M239 ),\" [IS]\"), IF(ISBLANK(Datenerfassung!N239),\" \",Datenerfassung!N239 ) ))","v":""},{"$f":"IF(ISBLANK(Datenerfassung!V239),\"\",Datenerfassung!V239)","v":""},{"$f":"IF(ISBLANK(Datenerfassung!Q239),\"\",Datenerfassung!Q239)","v":""}]
[{"$f":"IF(ISBLANK(Datenerfassung!A240),\"\",Datenerfassung!A240)","v":""},{"$f":"IF(ISBLANK(Datenerfassung!B240),\"\",Datenerfassung!B240)","v":""},{"$f":"IF(ISBLANK(Datenerfassung!C240),\"\",Datenerfassung!C240)","v":""},{"$f":"IF(ISBLANK(Datenerfassung!R240),\"\",Datenerfassung!R240)","v":""},{"$f":"IF(ISBLANK(Datenerfassung!S240),\"\",Datenerfassung!S240)","v":""},"",{"$f":"IF(ISBLANK(Datenerfassung!U240),\"\",Datenerfassung!U240)","v":""},{"$f":"IF(ISBLANK(Datenerfassung!O240),\"\",Datenerfassung!O240)","v":""},{"$f":"IF(ISBLANK(Datenerfassung!D240),IF(COUNTBLANK(A230:H230)+COUNTBLANK(J230:O230)=14,\"\",\"- ohne Titel -\"),Datenerfassung!D240)","v":""},{"$f":"IF(ISBLANK(Datenerfassung!G240),\"\",Datenerfassung!G240)","v":""},"",{"$f":"IF(ISBLANK(Datenerfassung!X240),\"\",Datenerfassung!X240)","v":""},{"$f":"IF(COUNTBLANK(Datenerfassung!H240:'Datenerfassung'!N240)=7,\"\",CONCATENATE( CONCATENATE(IF(ISBLANK(Datenerfassung!H240),\" \",Datenerfassung!H240 ),\" [IS]\"), CONCATENATE(IF(ISBLANK(Datenerfassung!I240),\" \",Datenerfassung!I240 ),\" [IS]\"), CONCATENATE(IF(ISBLANK(Datenerfassung!J240),\" \",Datenerfassung!J240 ),\" [IS]\"), CONCATENATE(IF(ISBLANK(Datenerfassung!K240),\" \",Datenerfassung!K240 ),\" [IS]\"), CONCATENATE(IF(ISBLANK(Datenerfassung!L240),\" \",Datenerfassung!L240 ),\" [IS]\"), CONCATENATE(IF(ISBLANK(Datenerfassung!M240),\" \",Datenerfassung!M240 ),\" [IS]\"), IF(ISBLANK(Datenerfassung!N240),\" \",Datenerfassung!N240 ) ))","v":""},{"$f":"IF(ISBLANK(Datenerfassung!V240),\"\",Datenerfassung!V240)","v":""},{"$f":"IF(ISBLANK(Datenerfassung!Q240),\"\",Datenerfassung!Q240)","v":""}]
[{"$f":"IF(ISBLANK(Datenerfassung!A241),\"\",Datenerfassung!A241)","v":""},{"$f":"IF(ISBLANK(Datenerfassung!B241),\"\",Datenerfassung!B241)","v":""},{"$f":"IF(ISBLANK(Datenerfassung!C241),\"\",Datenerfassung!C241)","v":""},{"$f":"IF(ISBLANK(Datenerfassung!R241),\"\",Datenerfassung!R241)","v":""},{"$f":"IF(ISBLANK(Datenerfassung!S241),\"\",Datenerfassung!S241)","v":""},"",{"$f":"IF(ISBLANK(Datenerfassung!U241),\"\",Datenerfassung!U241)","v":""},{"$f":"IF(ISBLANK(Datenerfassung!O241),\"\",Datenerfassung!O241)","v":""},{"$f":"IF(ISBLANK(Datenerfassung!D241),IF(COUNTBLANK(A231:H231)+COUNTBLANK(J231:O231)=14,\"\",\"- ohne Titel -\"),Datenerfassung!D241)","v":""},{"$f":"IF(ISBLANK(Datenerfassung!G241),\"\",Datenerfassung!G241)","v":""},"",{"$f":"IF(ISBLANK(Datenerfassung!X241),\"\",Datenerfassung!X241)","v":""},{"$f":"IF(COUNTBLANK(Datenerfassung!H241:'Datenerfassung'!N241)=7,\"\",CONCATENATE( CONCATENATE(IF(ISBLANK(Datenerfassung!H241),\" \",Datenerfassung!H241 ),\" [IS]\"), CONCATENATE(IF(ISBLANK(Datenerfassung!I241),\" \",Datenerfassung!I241 ),\" [IS]\"), CONCATENATE(IF(ISBLANK(Datenerfassung!J241),\" \",Datenerfassung!J241 ),\" [IS]\"), CONCATENATE(IF(ISBLANK(Datenerfassung!K241),\" \",Datenerfassung!K241 ),\" [IS]\"), CONCATENATE(IF(ISBLANK(Datenerfassung!L241),\" \",Datenerfassung!L241 ),\" [IS]\"), CONCATENATE(IF(ISBLANK(Datenerfassung!M241),\" \",Datenerfassung!M241 ),\" [IS]\"), IF(ISBLANK(Datenerfassung!N241),\" \",Datenerfassung!N241 ) ))","v":""},{"$f":"IF(ISBLANK(Datenerfassung!V241),\"\",Datenerfassung!V241)","v":""},{"$f":"IF(ISBLANK(Datenerfassung!Q241),\"\",Datenerfassung!Q241)","v":""}]
[{"$f":"IF(ISBLANK(Datenerfassung!A242),\"\",Datenerfassung!A242)","v":""},{"$f":"IF(ISBLANK(Datenerfassung!B242),\"\",Datenerfassung!B242)","v":""},{"$f":"IF(ISBLANK(Datenerfassung!C242),\"\",Datenerfassung!C242)","v":""},{"$f":"IF(ISBLANK(Datenerfassung!R242),\"\",Datenerfassung!R242)","v":""},{"$f":"IF(ISBLANK(Datenerfassung!S242),\"\",Datenerfassung!S242)","v":""},"",{"$f":"IF(ISBLANK(Datenerfassung!U242),\"\",Datenerfassung!U242)","v":""},{"$f":"IF(ISBLANK(Datenerfassung!O242),\"\",Datenerfassung!O242)","v":""},{"$f":"IF(ISBLANK(Datenerfassung!D242),IF(COUNTBLANK(A232:H232)+COUNTBLANK(J232:O232)=14,\"\",\"- ohne Titel -\"),Datenerfassung!D242)","v":""},{"$f":"IF(ISBLANK(Datenerfassung!G242),\"\",Datenerfassung!G242)","v":""},"",{"$f":"IF(ISBLANK(Datenerfassung!X242),\"\",Datenerfassung!X242)","v":""},{"$f":"IF(COUNTBLANK(Datenerfassung!H242:'Datenerfassung'!N242)=7,\"\",CONCATENATE( CONCATENATE(IF(ISBLANK(Datenerfassung!H242),\" \",Datenerfassung!H242 ),\" [IS]\"), CONCATENATE(IF(ISBLANK(Datenerfassung!I242),\" \",Datenerfassung!I242 ),\" [IS]\"), CONCATENATE(IF(ISBLANK(Datenerfassung!J242),\" \",Datenerfassung!J242 ),\" [IS]\"), CONCATENATE(IF(ISBLANK(Datenerfassung!K242),\" \",Datenerfassung!K242 ),\" [IS]\"), CONCATENATE(IF(ISBLANK(Datenerfassung!L242),\" \",Datenerfassung!L242 ),\" [IS]\"), CONCATENATE(IF(ISBLANK(Datenerfassung!M242),\" \",Datenerfassung!M242 ),\" [IS]\"), IF(ISBLANK(Datenerfassung!N242),\" \",Datenerfassung!N242 ) ))","v":""},{"$f":"IF(ISBLANK(Datenerfassung!V242),\"\",Datenerfassung!V242)","v":""},{"$f":"IF(ISBLANK(Datenerfassung!Q242),\"\",Datenerfassung!Q242)","v":""}]
[{"$f":"IF(ISBLANK(Datenerfassung!A243),\"\",Datenerfassung!A243)","v":""},{"$f":"IF(ISBLANK(Datenerfassung!B243),\"\",Datenerfassung!B243)","v":""},{"$f":"IF(ISBLANK(Datenerfassung!C243),\"\",Datenerfassung!C243)","v":""},{"$f":"IF(ISBLANK(Datenerfassung!R243),\"\",Datenerfassung!R243)","v":""},{"$f":"IF(ISBLANK(Datenerfassung!S243),\"\",Datenerfassung!S243)","v":""},"",{"$f":"IF(ISBLANK(Datenerfassung!U243),\"\",Datenerfassung!U243)","v":""},{"$f":"IF(ISBLANK(Datenerfassung!O243),\"\",Datenerfassung!O243)","v":""},{"$f":"IF(ISBLANK(Datenerfassung!D243),IF(COUNTBLANK(A233:H233)+COUNTBLANK(J233:O233)=14,\"\",\"- ohne Titel -\"),Datenerfassung!D243)","v":""},{"$f":"IF(ISBLANK(Datenerfassung!G243),\"\",Datenerfassung!G243)","v":""},"",{"$f":"IF(ISBLANK(Datenerfassung!X243),\"\",Datenerfassung!X243)","v":""},{"$f":"IF(COUNTBLANK(Datenerfassung!H243:'Datenerfassung'!N243)=7,\"\",CONCATENATE( CONCATENATE(IF(ISBLANK(Datenerfassung!H243),\" \",Datenerfassung!H243 ),\" [IS]\"), CONCATENATE(IF(ISBLANK(Datenerfassung!I243),\" \",Datenerfassung!I243 ),\" [IS]\"), CONCATENATE(IF(ISBLANK(Datenerfassung!J243),\" \",Datenerfassung!J243 ),\" [IS]\"), CONCATENATE(IF(ISBLANK(Datenerfassung!K243),\" \",Datenerfassung!K243 ),\" [IS]\"), CONCATENATE(IF(ISBLANK(Datenerfassung!L243),\" \",Datenerfassung!L243 ),\" [IS]\"), CONCATENATE(IF(ISBLANK(Datenerfassung!M243),\" \",Datenerfassung!M243 ),\" [IS]\"), IF(ISBLANK(Datenerfassung!N243),\" \",Datenerfassung!N243 ) ))","v":""},{"$f":"IF(ISBLANK(Datenerfassung!V243),\"\",Datenerfassung!V243)","v":""},{"$f":"IF(ISBLANK(Datenerfassung!Q243),\"\",Datenerfassung!Q243)","v":""}]
[{"$f":"IF(ISBLANK(Datenerfassung!A244),\"\",Datenerfassung!A244)","v":""},{"$f":"IF(ISBLANK(Datenerfassung!B244),\"\",Datenerfassung!B244)","v":""},{"$f":"IF(ISBLANK(Datenerfassung!C244),\"\",Datenerfassung!C244)","v":""},{"$f":"IF(ISBLANK(Datenerfassung!R244),\"\",Datenerfassung!R244)","v":""},{"$f":"IF(ISBLANK(Datenerfassung!S244),\"\",Datenerfassung!S244)","v":""},"",{"$f":"IF(ISBLANK(Datenerfassung!U244),\"\",Datenerfassung!U244)","v":""},{"$f":"IF(ISBLANK(Datenerfassung!O244),\"\",Datenerfassung!O244)","v":""},{"$f":"IF(ISBLANK(Datenerfassung!D244),IF(COUNTBLANK(A234:H234)+COUNTBLANK(J234:O234)=14,\"\",\"- ohne Titel -\"),Datenerfassung!D244)","v":""},{"$f":"IF(ISBLANK(Datenerfassung!G244),\"\",Datenerfassung!G244)","v":""},"",{"$f":"IF(ISBLANK(Datenerfassung!X244),\"\",Datenerfassung!X244)","v":""},{"$f":"IF(COUNTBLANK(Datenerfassung!H244:'Datenerfassung'!N244)=7,\"\",CONCATENATE( CONCATENATE(IF(ISBLANK(Datenerfassung!H244),\" \",Datenerfassung!H244 ),\" [IS]\"), CONCATENATE(IF(ISBLANK(Datenerfassung!I244),\" \",Datenerfassung!I244 ),\" [IS]\"), CONCATENATE(IF(ISBLANK(Datenerfassung!J244),\" \",Datenerfassung!J244 ),\" [IS]\"), CONCATENATE(IF(ISBLANK(Datenerfassung!K244),\" \",Datenerfassung!K244 ),\" [IS]\"), CONCATENATE(IF(ISBLANK(Datenerfassung!L244),\" \",Datenerfassung!L244 ),\" [IS]\"), CONCATENATE(IF(ISBLANK(Datenerfassung!M244),\" \",Datenerfassung!M244 ),\" [IS]\"), IF(ISBLANK(Datenerfassung!N244),\" \",Datenerfassung!N244 ) ))","v":""},{"$f":"IF(ISBLANK(Datenerfassung!V244),\"\",Datenerfassung!V244)","v":""},{"$f":"IF(ISBLANK(Datenerfassung!Q244),\"\",Datenerfassung!Q244)","v":""}]
[{"$f":"IF(ISBLANK(Datenerfassung!A245),\"\",Datenerfassung!A245)","v":""},{"$f":"IF(ISBLANK(Datenerfassung!B245),\"\",Datenerfassung!B245)","v":""},{"$f":"IF(ISBLANK(Datenerfassung!C245),\"\",Datenerfassung!C245)","v":""},{"$f":"IF(ISBLANK(Datenerfassung!R245),\"\",Datenerfassung!R245)","v":""},{"$f":"IF(ISBLANK(Datenerfassung!S245),\"\",Datenerfassung!S245)","v":""},"",{"$f":"IF(ISBLANK(Datenerfassung!U245),\"\",Datenerfassung!U245)","v":""},{"$f":"IF(ISBLANK(Datenerfassung!O245),\"\",Datenerfassung!O245)","v":""},{"$f":"IF(ISBLANK(Datenerfassung!D245),IF(COUNTBLANK(A235:H235)+COUNTBLANK(J235:O235)=14,\"\",\"- ohne Titel -\"),Datenerfassung!D245)","v":""},{"$f":"IF(ISBLANK(Datenerfassung!G245),\"\",Datenerfassung!G245)","v":""},"",{"$f":"IF(ISBLANK(Datenerfassung!X245),\"\",Datenerfassung!X245)","v":""},{"$f":"IF(COUNTBLANK(Datenerfassung!H245:'Datenerfassung'!N245)=7,\"\",CONCATENATE( CONCATENATE(IF(ISBLANK(Datenerfassung!H245),\" \",Datenerfassung!H245 ),\" [IS]\"), CONCATENATE(IF(ISBLANK(Datenerfassung!I245),\" \",Datenerfassung!I245 ),\" [IS]\"), CONCATENATE(IF(ISBLANK(Datenerfassung!J245),\" \",Datenerfassung!J245 ),\" [IS]\"), CONCATENATE(IF(ISBLANK(Datenerfassung!K245),\" \",Datenerfassung!K245 ),\" [IS]\"), CONCATENATE(IF(ISBLANK(Datenerfassung!L245),\" \",Datenerfassung!L245 ),\" [IS]\"), CONCATENATE(IF(ISBLANK(Datenerfassung!M245),\" \",Datenerfassung!M245 ),\" [IS]\"), IF(ISBLANK(Datenerfassung!N245),\" \",Datenerfassung!N245 ) ))","v":""},{"$f":"IF(ISBLANK(Datenerfassung!V245),\"\",Datenerfassung!V245)","v":""},{"$f":"IF(ISBLANK(Datenerfassung!Q245),\"\",Datenerfassung!Q245)","v":""}]
[{"$f":"IF(ISBLANK(Datenerfassung!A246),\"\",Datenerfassung!A246)","v":""},{"$f":"IF(ISBLANK(Datenerfassung!B246),\"\",Datenerfassung!B246)","v":""},{"$f":"IF(ISBLANK(Datenerfassung!C246),\"\",Datenerfassung!C246)","v":""},{"$f":"IF(ISBLANK(Datenerfassung!R246),\"\",Datenerfassung!R246)","v":""},{"$f":"IF(ISBLANK(Datenerfassung!S246),\"\",Datenerfassung!S246)","v":""},"",{"$f":"IF(ISBLANK(Datenerfassung!U246),\"\",Datenerfassung!U246)","v":""},{"$f":"IF(ISBLANK(Datenerfassung!O246),\"\",Datenerfassung!O246)","v":""},{"$f":"IF(ISBLANK(Datenerfassung!D246),IF(COUNTBLANK(A236:H236)+COUNTBLANK(J236:O236)=14,\"\",\"- ohne Titel -\"),Datenerfassung!D246)","v":""},{"$f":"IF(ISBLANK(Datenerfassung!G246),\"\",Datenerfassung!G246)","v":""},"",{"$f":"IF(ISBLANK(Datenerfassung!X246),\"\",Datenerfassung!X246)","v":""},{"$f":"IF(COUNTBLANK(Datenerfassung!H246:'Datenerfassung'!N246)=7,\"\",CONCATENATE( CONCATENATE(IF(ISBLANK(Datenerfassung!H246),\" \",Datenerfassung!H246 ),\" [IS]\"), CONCATENATE(IF(ISBLANK(Datenerfassung!I246),\" \",Datenerfassung!I246 ),\" [IS]\"), CONCATENATE(IF(ISBLANK(Datenerfassung!J246),\" \",Datenerfassung!J246 ),\" [IS]\"), CONCATENATE(IF(ISBLANK(Datenerfassung!K246),\" \",Datenerfassung!K246 ),\" [IS]\"), CONCATENATE(IF(ISBLANK(Datenerfassung!L246),\" \",Datenerfassung!L246 ),\" [IS]\"), CONCATENATE(IF(ISBLANK(Datenerfassung!M246),\" \",Datenerfassung!M246 ),\" [IS]\"), IF(ISBLANK(Datenerfassung!N246),\" \",Datenerfassung!N246 ) ))","v":""},{"$f":"IF(ISBLANK(Datenerfassung!V246),\"\",Datenerfassung!V246)","v":""},{"$f":"IF(ISBLANK(Datenerfassung!Q246),\"\",Datenerfassung!Q246)","v":""}]
[{"$f":"IF(ISBLANK(Datenerfassung!A247),\"\",Datenerfassung!A247)","v":""},{"$f":"IF(ISBLANK(Datenerfassung!B247),\"\",Datenerfassung!B247)","v":""},{"$f":"IF(ISBLANK(Datenerfassung!C247),\"\",Datenerfassung!C247)","v":""},{"$f":"IF(ISBLANK(Datenerfassung!R247),\"\",Datenerfassung!R247)","v":""},{"$f":"IF(ISBLANK(Datenerfassung!S247),\"\",Datenerfassung!S247)","v":""},"",{"$f":"IF(ISBLANK(Datenerfassung!U247),\"\",Datenerfassung!U247)","v":""},{"$f":"IF(ISBLANK(Datenerfassung!O247),\"\",Datenerfassung!O247)","v":""},{"$f":"IF(ISBLANK(Datenerfassung!D247),IF(COUNTBLANK(A237:H237)+COUNTBLANK(J237:O237)=14,\"\",\"- ohne Titel -\"),Datenerfassung!D247)","v":""},{"$f":"IF(ISBLANK(Datenerfassung!G247),\"\",Datenerfassung!G247)","v":""},"",{"$f":"IF(ISBLANK(Datenerfassung!X247),\"\",Datenerfassung!X247)","v":""},{"$f":"IF(COUNTBLANK(Datenerfassung!H247:'Datenerfassung'!N247)=7,\"\",CONCATENATE( CONCATENATE(IF(ISBLANK(Datenerfassung!H247),\" \",Datenerfassung!H247 ),\" [IS]\"), CONCATENATE(IF(ISBLANK(Datenerfassung!I247),\" \",Datenerfassung!I247 ),\" [IS]\"), CONCATENATE(IF(ISBLANK(Datenerfassung!J247),\" \",Datenerfassung!J247 ),\" [IS]\"), CONCATENATE(IF(ISBLANK(Datenerfassung!K247),\" \",Datenerfassung!K247 ),\" [IS]\"), CONCATENATE(IF(ISBLANK(Datenerfassung!L247),\" \",Datenerfassung!L247 ),\" [IS]\"), CONCATENATE(IF(ISBLANK(Datenerfassung!M247),\" \",Datenerfassung!M247 ),\" [IS]\"), IF(ISBLANK(Datenerfassung!N247),\" \",Datenerfassung!N247 ) ))","v":""},{"$f":"IF(ISBLANK(Datenerfassung!V247),\"\",Datenerfassung!V247)","v":""},{"$f":"IF(ISBLANK(Datenerfassung!Q247),\"\",Datenerfassung!Q247)","v":""}]
[{"$f":"IF(ISBLANK(Datenerfassung!A248),\"\",Datenerfassung!A248)","v":""},{"$f":"IF(ISBLANK(Datenerfassung!B248),\"\",Datenerfassung!B248)","v":""},{"$f":"IF(ISBLANK(Datenerfassung!C248),\"\",Datenerfassung!C248)","v":""},{"$f":"IF(ISBLANK(Datenerfassung!R248),\"\",Datenerfassung!R248)","v":""},{"$f":"IF(ISBLANK(Datenerfassung!S248),\"\",Datenerfassung!S248)","v":""},"",{"$f":"IF(ISBLANK(Datenerfassung!U248),\"\",Datenerfassung!U248)","v":""},{"$f":"IF(ISBLANK(Datenerfassung!O248),\"\",Datenerfassung!O248)","v":""},{"$f":"IF(ISBLANK(Datenerfassung!D248),IF(COUNTBLANK(A238:H238)+COUNTBLANK(J238:O238)=14,\"\",\"- ohne Titel -\"),Datenerfassung!D248)","v":""},{"$f":"IF(ISBLANK(Datenerfassung!G248),\"\",Datenerfassung!G248)","v":""},"",{"$f":"IF(ISBLANK(Datenerfassung!X248),\"\",Datenerfassung!X248)","v":""},{"$f":"IF(COUNTBLANK(Datenerfassung!H248:'Datenerfassung'!N248)=7,\"\",CONCATENATE( CONCATENATE(IF(ISBLANK(Datenerfassung!H248),\" \",Datenerfassung!H248 ),\" [IS]\"), CONCATENATE(IF(ISBLANK(Datenerfassung!I248),\" \",Datenerfassung!I248 ),\" [IS]\"), CONCATENATE(IF(ISBLANK(Datenerfassung!J248),\" \",Datenerfassung!J248 ),\" [IS]\"), CONCATENATE(IF(ISBLANK(Datenerfassung!K248),\" \",Datenerfassung!K248 ),\" [IS]\"), CONCATENATE(IF(ISBLANK(Datenerfassung!L248),\" \",Datenerfassung!L248 ),\" [IS]\"), CONCATENATE(IF(ISBLANK(Datenerfassung!M248),\" \",Datenerfassung!M248 ),\" [IS]\"), IF(ISBLANK(Datenerfassung!N248),\" \",Datenerfassung!N248 ) ))","v":""},{"$f":"IF(ISBLANK(Datenerfassung!V248),\"\",Datenerfassung!V248)","v":""},{"$f":"IF(ISBLANK(Datenerfassung!Q248),\"\",Datenerfassung!Q248)","v":""}]
[{"$f":"IF(ISBLANK(Datenerfassung!A249),\"\",Datenerfassung!A249)","v":""},{"$f":"IF(ISBLANK(Datenerfassung!B249),\"\",Datenerfassung!B249)","v":""},{"$f":"IF(ISBLANK(Datenerfassung!C249),\"\",Datenerfassung!C249)","v":""},{"$f":"IF(ISBLANK(Datenerfassung!R249),\"\",Datenerfassung!R249)","v":""},{"$f":"IF(ISBLANK(Datenerfassung!S249),\"\",Datenerfassung!S249)","v":""},"",{"$f":"IF(ISBLANK(Datenerfassung!U249),\"\",Datenerfassung!U249)","v":""},{"$f":"IF(ISBLANK(Datenerfassung!O249),\"\",Datenerfassung!O249)","v":""},{"$f":"IF(ISBLANK(Datenerfassung!D249),IF(COUNTBLANK(A239:H239)+COUNTBLANK(J239:O239)=14,\"\",\"- ohne Titel -\"),Datenerfassung!D249)","v":""},{"$f":"IF(ISBLANK(Datenerfassung!G249),\"\",Datenerfassung!G249)","v":""},"",{"$f":"IF(ISBLANK(Datenerfassung!X249),\"\",Datenerfassung!X249)","v":""},{"$f":"IF(COUNTBLANK(Datenerfassung!H249:'Datenerfassung'!N249)=7,\"\",CONCATENATE( CONCATENATE(IF(ISBLANK(Datenerfassung!H249),\" \",Datenerfassung!H249 ),\" [IS]\"), CONCATENATE(IF(ISBLANK(Datenerfassung!I249),\" \",Datenerfassung!I249 ),\" [IS]\"), CONCATENATE(IF(ISBLANK(Datenerfassung!J249),\" \",Datenerfassung!J249 ),\" [IS]\"), CONCATENATE(IF(ISBLANK(Datenerfassung!K249),\" \",Datenerfassung!K249 ),\" [IS]\"), CONCATENATE(IF(ISBLANK(Datenerfassung!L249),\" \",Datenerfassung!L249 ),\" [IS]\"), CONCATENATE(IF(ISBLANK(Datenerfassung!M249),\" \",Datenerfassung!M249 ),\" [IS]\"), IF(ISBLANK(Datenerfassung!N249),\" \",Datenerfassung!N249 ) ))","v":""},{"$f":"IF(ISBLANK(Datenerfassung!V249),\"\",Datenerfassung!V249)","v":""},{"$f":"IF(ISBLANK(Datenerfassung!Q249),\"\",Datenerfassung!Q249)","v":""}]
[{"$f":"IF(ISBLANK(Datenerfassung!A250),\"\",Datenerfassung!A250)","v":""},{"$f":"IF(ISBLANK(Datenerfassung!B250),\"\",Datenerfassung!B250)","v":""},{"$f":"IF(ISBLANK(Datenerfassung!C250),\"\",Datenerfassung!C250)","v":""},{"$f":"IF(ISBLANK(Datenerfassung!R250),\"\",Datenerfassung!R250)","v":""},{"$f":"IF(ISBLANK(Datenerfassung!S250),\"\",Datenerfassung!S250)","v":""},"",{"$f":"IF(ISBLANK(Datenerfassung!U250),\"\",Datenerfassung!U250)","v":""},{"$f":"IF(ISBLANK(Datenerfassung!O250),\"\",Datenerfassung!O250)","v":""},{"$f":"IF(ISBLANK(Datenerfassung!D250),IF(COUNTBLANK(A240:H240)+COUNTBLANK(J240:O240)=14,\"\",\"- ohne Titel -\"),Datenerfassung!D250)","v":""},{"$f":"IF(ISBLANK(Datenerfassung!G250),\"\",Datenerfassung!G250)","v":""},"",{"$f":"IF(ISBLANK(Datenerfassung!X250),\"\",Datenerfassung!X250)","v":""},{"$f":"IF(COUNTBLANK(Datenerfassung!H250:'Datenerfassung'!N250)=7,\"\",CONCATENATE( CONCATENATE(IF(ISBLANK(Datenerfassung!H250),\" \",Datenerfassung!H250 ),\" [IS]\"), CONCATENATE(IF(ISBLANK(Datenerfassung!I250),\" \",Datenerfassung!I250 ),\" [IS]\"), CONCATENATE(IF(ISBLANK(Datenerfassung!J250),\" \",Datenerfassung!J250 ),\" [IS]\"), CONCATENATE(IF(ISBLANK(Datenerfassung!K250),\" \",Datenerfassung!K250 ),\" [IS]\"), CONCATENATE(IF(ISBLANK(Datenerfassung!L250),\" \",Datenerfassung!L250 ),\" [IS]\"), CONCATENATE(IF(ISBLANK(Datenerfassung!M250),\" \",Datenerfassung!M250 ),\" [IS]\"), IF(ISBLANK(Datenerfassung!N250),\" \",Datenerfassung!N250 ) ))","v":""},{"$f":"IF(ISBLANK(Datenerfassung!V250),\"\",Datenerfassung!V250)","v":""},{"$f":"IF(ISBLANK(Datenerfassung!Q250),\"\",Datenerfassung!Q250)","v":""}]
[{"$f":"IF(ISBLANK(Datenerfassung!A251),\"\",Datenerfassung!A251)","v":""},{"$f":"IF(ISBLANK(Datenerfassung!B251),\"\",Datenerfassung!B251)","v":""},{"$f":"IF(ISBLANK(Datenerfassung!C251),\"\",Datenerfassung!C251)","v":""},{"$f":"IF(ISBLANK(Datenerfassung!R251),\"\",Datenerfassung!R251)","v":""},{"$f":"IF(ISBLANK(Datenerfassung!S251),\"\",Datenerfassung!S251)","v":""},"",{"$f":"IF(ISBLANK(Datenerfassung!U251),\"\",Datenerfassung!U251)","v":""},{"$f":"IF(ISBLANK(Datenerfassung!O251),\"\",Datenerfassung!O251)","v":""},{"$f":"IF(ISBLANK(Datenerfassung!D251),IF(COUNTBLANK(A241:H241)+COUNTBLANK(J241:O241)=14,\"\",\"- ohne Titel -\"),Datenerfassung!D251)","v":""},{"$f":"IF(ISBLANK(Datenerfassung!G251),\"\",Datenerfassung!G251)","v":""},"",{"$f":"IF(ISBLANK(Datenerfassung!X251),\"\",Datenerfassung!X251)","v":""},{"$f":"IF(COUNTBLANK(Datenerfassung!H251:'Datenerfassung'!N251)=7,\"\",CONCATENATE( CONCATENATE(IF(ISBLANK(Datenerfassung!H251),\" \",Datenerfassung!H251 ),\" [IS]\"), CONCATENATE(IF(ISBLANK(Datenerfassung!I251),\" \",Datenerfassung!I251 ),\" [IS]\"), CONCATENATE(IF(ISBLANK(Datenerfassung!J251),\" \",Datenerfassung!J251 ),\" [IS]\"), CONCATENATE(IF(ISBLANK(Datenerfassung!K251),\" \",Datenerfassung!K251 ),\" [IS]\"), CONCATENATE(IF(ISBLANK(Datenerfassung!L251),\" \",Datenerfassung!L251 ),\" [IS]\"), CONCATENATE(IF(ISBLANK(Datenerfassung!M251),\" \",Datenerfassung!M251 ),\" [IS]\"), IF(ISBLANK(Datenerfassung!N251),\" \",Datenerfassung!N251 ) ))","v":""},{"$f":"IF(ISBLANK(Datenerfassung!V251),\"\",Datenerfassung!V251)","v":""},{"$f":"IF(ISBLANK(Datenerfassung!Q251),\"\",Datenerfassung!Q251)","v":""}]
[{"$f":"IF(ISBLANK(Datenerfassung!A252),\"\",Datenerfassung!A252)","v":""},{"$f":"IF(ISBLANK(Datenerfassung!B252),\"\",Datenerfassung!B252)","v":""},{"$f":"IF(ISBLANK(Datenerfassung!C252),\"\",Datenerfassung!C252)","v":""},{"$f":"IF(ISBLANK(Datenerfassung!R252),\"\",Datenerfassung!R252)","v":""},{"$f":"IF(ISBLANK(Datenerfassung!S252),\"\",Datenerfassung!S252)","v":""},"",{"$f":"IF(ISBLANK(Datenerfassung!U252),\"\",Datenerfassung!U252)","v":""},{"$f":"IF(ISBLANK(Datenerfassung!O252),\"\",Datenerfassung!O252)","v":""},{"$f":"IF(ISBLANK(Datenerfassung!D252),IF(COUNTBLANK(A242:H242)+COUNTBLANK(J242:O242)=14,\"\",\"- ohne Titel -\"),Datenerfassung!D252)","v":""},{"$f":"IF(ISBLANK(Datenerfassung!G252),\"\",Datenerfassung!G252)","v":""},"",{"$f":"IF(ISBLANK(Datenerfassung!X252),\"\",Datenerfassung!X252)","v":""},{"$f":"IF(COUNTBLANK(Datenerfassung!H252:'Datenerfassung'!N252)=7,\"\",CONCATENATE( CONCATENATE(IF(ISBLANK(Datenerfassung!H252),\" \",Datenerfassung!H252 ),\" [IS]\"), CONCATENATE(IF(ISBLANK(Datenerfassung!I252),\" \",Datenerfassung!I252 ),\" [IS]\"), CONCATENATE(IF(ISBLANK(Datenerfassung!J252),\" \",Datenerfassung!J252 ),\" [IS]\"), CONCATENATE(IF(ISBLANK(Datenerfassung!K252),\" \",Datenerfassung!K252 ),\" [IS]\"), CONCATENATE(IF(ISBLANK(Datenerfassung!L252),\" \",Datenerfassung!L252 ),\" [IS]\"), CONCATENATE(IF(ISBLANK(Datenerfassung!M252),\" \",Datenerfassung!M252 ),\" [IS]\"), IF(ISBLANK(Datenerfassung!N252),\" \",Datenerfassung!N252 ) ))","v":""},{"$f":"IF(ISBLANK(Datenerfassung!V252),\"\",Datenerfassung!V252)","v":""},{"$f":"IF(ISBLANK(Datenerfassung!Q252),\"\",Datenerfassung!Q252)","v":""}]
[{"$f":"IF(ISBLANK(Datenerfassung!A253),\"\",Datenerfassung!A253)","v":""},{"$f":"IF(ISBLANK(Datenerfassung!B253),\"\",Datenerfassung!B253)","v":""},{"$f":"IF(ISBLANK(Datenerfassung!C253),\"\",Datenerfassung!C253)","v":""},{"$f":"IF(ISBLANK(Datenerfassung!R253),\"\",Datenerfassung!R253)","v":""},{"$f":"IF(ISBLANK(Datenerfassung!S253),\"\",Datenerfassung!S253)","v":""},"",{"$f":"IF(ISBLANK(Datenerfassung!U253),\"\",Datenerfassung!U253)","v":""},{"$f":"IF(ISBLANK(Datenerfassung!O253),\"\",Datenerfassung!O253)","v":""},{"$f":"IF(ISBLANK(Datenerfassung!D253),IF(COUNTBLANK(A243:H243)+COUNTBLANK(J243:O243)=14,\"\",\"- ohne Titel -\"),Datenerfassung!D253)","v":""},{"$f":"IF(ISBLANK(Datenerfassung!G253),\"\",Datenerfassung!G253)","v":""},"",{"$f":"IF(ISBLANK(Datenerfassung!X253),\"\",Datenerfassung!X253)","v":""},{"$f":"IF(COUNTBLANK(Datenerfassung!H253:'Datenerfassung'!N253)=7,\"\",CONCATENATE( CONCATENATE(IF(ISBLANK(Datenerfassung!H253),\" \",Datenerfassung!H253 ),\" [IS]\"), CONCATENATE(IF(ISBLANK(Datenerfassung!I253),\" \",Datenerfassung!I253 ),\" [IS]\"), CONCATENATE(IF(ISBLANK(Datenerfassung!J253),\" \",Datenerfassung!J253 ),\" [IS]\"), CONCATENATE(IF(ISBLANK(Datenerfassung!K253),\" \",Datenerfassung!K253 ),\" [IS]\"), CONCATENATE(IF(ISBLANK(Datenerfassung!L253),\" \",Datenerfassung!L253 ),\" [IS]\"), CONCATENATE(IF(ISBLANK(Datenerfassung!M253),\" \",Datenerfassung!M253 ),\" [IS]\"), IF(ISBLANK(Datenerfassung!N253),\" \",Datenerfassung!N253 ) ))","v":""},{"$f":"IF(ISBLANK(Datenerfassung!V253),\"\",Datenerfassung!V253)","v":""},{"$f":"IF(ISBLANK(Datenerfassung!Q253),\"\",Datenerfassung!Q253)","v":""}]
[{"$f":"IF(ISBLANK(Datenerfassung!A254),\"\",Datenerfassung!A254)","v":""},{"$f":"IF(ISBLANK(Datenerfassung!B254),\"\",Datenerfassung!B254)","v":""},{"$f":"IF(ISBLANK(Datenerfassung!C254),\"\",Datenerfassung!C254)","v":""},{"$f":"IF(ISBLANK(Datenerfassung!R254),\"\",Datenerfassung!R254)","v":""},{"$f":"IF(ISBLANK(Datenerfassung!S254),\"\",Datenerfassung!S254)","v":""},"",{"$f":"IF(ISBLANK(Datenerfassung!U254),\"\",Datenerfassung!U254)","v":""},{"$f":"IF(ISBLANK(Datenerfassung!O254),\"\",Datenerfassung!O254)","v":""},{"$f":"IF(ISBLANK(Datenerfassung!D254),IF(COUNTBLANK(A244:H244)+COUNTBLANK(J244:O244)=14,\"\",\"- ohne Titel -\"),Datenerfassung!D254)","v":""},{"$f":"IF(ISBLANK(Datenerfassung!G254),\"\",Datenerfassung!G254)","v":""},"",{"$f":"IF(ISBLANK(Datenerfassung!X254),\"\",Datenerfassung!X254)","v":""},{"$f":"IF(COUNTBLANK(Datenerfassung!H254:'Datenerfassung'!N254)=7,\"\",CONCATENATE( CONCATENATE(IF(ISBLANK(Datenerfassung!H254),\" \",Datenerfassung!H254 ),\" [IS]\"), CONCATENATE(IF(ISBLANK(Datenerfassung!I254),\" \",Datenerfassung!I254 ),\" [IS]\"), CONCATENATE(IF(ISBLANK(Datenerfassung!J254),\" \",Datenerfassung!J254 ),\" [IS]\"), CONCATENATE(IF(ISBLANK(Datenerfassung!K254),\" \",Datenerfassung!K254 ),\" [IS]\"), CONCATENATE(IF(ISBLANK(Datenerfassung!L254),\" \",Datenerfassung!L254 ),\" [IS]\"), CONCATENATE(IF(ISBLANK(Datenerfassung!M254),\" \",Datenerfassung!M254 ),\" [IS]\"), IF(ISBLANK(Datenerfassung!N254),\" \",Datenerfassung!N254 ) ))","v":""},{"$f":"IF(ISBLANK(Datenerfassung!V254),\"\",Datenerfassung!V254)","v":""},{"$f":"IF(ISBLANK(Datenerfassung!Q254),\"\",Datenerfassung!Q254)","v":""}]
[{"$f":"IF(ISBLANK(Datenerfassung!A255),\"\",Datenerfassung!A255)","v":""},{"$f":"IF(ISBLANK(Datenerfassung!B255),\"\",Datenerfassung!B255)","v":""},{"$f":"IF(ISBLANK(Datenerfassung!C255),\"\",Datenerfassung!C255)","v":""},{"$f":"IF(ISBLANK(Datenerfassung!R255),\"\",Datenerfassung!R255)","v":""},{"$f":"IF(ISBLANK(Datenerfassung!S255),\"\",Datenerfassung!S255)","v":""},"",{"$f":"IF(ISBLANK(Datenerfassung!U255),\"\",Datenerfassung!U255)","v":""},{"$f":"IF(ISBLANK(Datenerfassung!O255),\"\",Datenerfassung!O255)","v":""},{"$f":"IF(ISBLANK(Datenerfassung!D255),IF(COUNTBLANK(A245:H245)+COUNTBLANK(J245:O245)=14,\"\",\"- ohne Titel -\"),Datenerfassung!D255)","v":""},{"$f":"IF(ISBLANK(Datenerfassung!G255),\"\",Datenerfassung!G255)","v":""},"",{"$f":"IF(ISBLANK(Datenerfassung!X255),\"\",Datenerfassung!X255)","v":""},{"$f":"IF(COUNTBLANK(Datenerfassung!H255:'Datenerfassung'!N255)=7,\"\",CONCATENATE( CONCATENATE(IF(ISBLANK(Datenerfassung!H255),\" \",Datenerfassung!H255 ),\" [IS]\"), CONCATENATE(IF(ISBLANK(Datenerfassung!I255),\" \",Datenerfassung!I255 ),\" [IS]\"), CONCATENATE(IF(ISBLANK(Datenerfassung!J255),\" \",Datenerfassung!J255 ),\" [IS]\"), CONCATENATE(IF(ISBLANK(Datenerfassung!K255),\" \",Datenerfassung!K255 ),\" [IS]\"), CONCATENATE(IF(ISBLANK(Datenerfassung!L255),\" \",Datenerfassung!L255 ),\" [IS]\"), CONCATENATE(IF(ISBLANK(Datenerfassung!M255),\" \",Datenerfassung!M255 ),\" [IS]\"), IF(ISBLANK(Datenerfassung!N255),\" \",Datenerfassung!N255 ) ))","v":""},{"$f":"IF(ISBLANK(Datenerfassung!V255),\"\",Datenerfassung!V255)","v":""},{"$f":"IF(ISBLANK(Datenerfassung!Q255),\"\",Datenerfassung!Q255)","v":""}]
[{"$f":"IF(ISBLANK(Datenerfassung!A256),\"\",Datenerfassung!A256)","v":""},{"$f":"IF(ISBLANK(Datenerfassung!B256),\"\",Datenerfassung!B256)","v":""},{"$f":"IF(ISBLANK(Datenerfassung!C256),\"\",Datenerfassung!C256)","v":""},{"$f":"IF(ISBLANK(Datenerfassung!R256),\"\",Datenerfassung!R256)","v":""},{"$f":"IF(ISBLANK(Datenerfassung!S256),\"\",Datenerfassung!S256)","v":""},"",{"$f":"IF(ISBLANK(Datenerfassung!U256),\"\",Datenerfassung!U256)","v":""},{"$f":"IF(ISBLANK(Datenerfassung!O256),\"\",Datenerfassung!O256)","v":""},{"$f":"IF(ISBLANK(Datenerfassung!D256),IF(COUNTBLANK(A246:H246)+COUNTBLANK(J246:O246)=14,\"\",\"- ohne Titel -\"),Datenerfassung!D256)","v":""},{"$f":"IF(ISBLANK(Datenerfassung!G256),\"\",Datenerfassung!G256)","v":""},"",{"$f":"IF(ISBLANK(Datenerfassung!X256),\"\",Datenerfassung!X256)","v":""},{"$f":"IF(COUNTBLANK(Datenerfassung!H256:'Datenerfassung'!N256)=7,\"\",CONCATENATE( CONCATENATE(IF(ISBLANK(Datenerfassung!H256),\" \",Datenerfassung!H256 ),\" [IS]\"), CONCATENATE(IF(ISBLANK(Datenerfassung!I256),\" \",Datenerfassung!I256 ),\" [IS]\"), CONCATENATE(IF(ISBLANK(Datenerfassung!J256),\" \",Datenerfassung!J256 ),\" [IS]\"), CONCATENATE(IF(ISBLANK(Datenerfassung!K256),\" \",Datenerfassung!K256 ),\" [IS]\"), CONCATENATE(IF(ISBLANK(Datenerfassung!L256),\" \",Datenerfassung!L256 ),\" [IS]\"), CONCATENATE(IF(ISBLANK(Datenerfassung!M256),\" \",Datenerfassung!M256 ),\" [IS]\"), IF(ISBLANK(Datenerfassung!N256),\" \",Datenerfassung!N256 ) ))","v":""},{"$f":"IF(ISBLANK(Datenerfassung!V256),\"\",Datenerfassung!V256)","v":""},{"$f":"IF(ISBLANK(Datenerfassung!Q256),\"\",Datenerfassung!Q256)","v":""}]
[{"$f":"IF(ISBLANK(Datenerfassung!A257),\"\",Datenerfassung!A257)","v":""},{"$f":"IF(ISBLANK(Datenerfassung!B257),\"\",Datenerfassung!B257)","v":""},{"$f":"IF(ISBLANK(Datenerfassung!C257),\"\",Datenerfassung!C257)","v":""},{"$f":"IF(ISBLANK(Datenerfassung!R257),\"\",Datenerfassung!R257)","v":""},{"$f":"IF(ISBLANK(Datenerfassung!S257),\"\",Datenerfassung!S257)","v":""},"",{"$f":"IF(ISBLANK(Datenerfassung!U257),\"\",Datenerfassung!U257)","v":""},{"$f":"IF(ISBLANK(Datenerfassung!O257),\"\",Datenerfassung!O257)","v":""},{"$f":"IF(ISBLANK(Datenerfassung!D257),IF(COUNTBLANK(A247:H247)+COUNTBLANK(J247:O247)=14,\"\",\"- ohne Titel -\"),Datenerfassung!D257)","v":""},{"$f":"IF(ISBLANK(Datenerfassung!G257),\"\",Datenerfassung!G257)","v":""},"",{"$f":"IF(ISBLANK(Datenerfassung!X257),\"\",Datenerfassung!X257)","v":""},{"$f":"IF(COUNTBLANK(Datenerfassung!H257:'Datenerfassung'!N257)=7,\"\",CONCATENATE( CONCATENATE(IF(ISBLANK(Datenerfassung!H257),\" \",Datenerfassung!H257 ),\" [IS]\"), CONCATENATE(IF(ISBLANK(Datenerfassung!I257),\" \",Datenerfassung!I257 ),\" [IS]\"), CONCATENATE(IF(ISBLANK(Datenerfassung!J257),\" \",Datenerfassung!J257 ),\" [IS]\"), CONCATENATE(IF(ISBLANK(Datenerfassung!K257),\" \",Datenerfassung!K257 ),\" [IS]\"), CONCATENATE(IF(ISBLANK(Datenerfassung!L257),\" \",Datenerfassung!L257 ),\" [IS]\"), CONCATENATE(IF(ISBLANK(Datenerfassung!M257),\" \",Datenerfassung!M257 ),\" [IS]\"), IF(ISBLANK(Datenerfassung!N257),\" \",Datenerfassung!N257 ) ))","v":""},{"$f":"IF(ISBLANK(Datenerfassung!V257),\"\",Datenerfassung!V257)","v":""},{"$f":"IF(ISBLANK(Datenerfassung!Q257),\"\",Datenerfassung!Q257)","v":""}]
[{"$f":"IF(ISBLANK(Datenerfassung!A258),\"\",Datenerfassung!A258)","v":""},{"$f":"IF(ISBLANK(Datenerfassung!B258),\"\",Datenerfassung!B258)","v":""},{"$f":"IF(ISBLANK(Datenerfassung!C258),\"\",Datenerfassung!C258)","v":""},{"$f":"IF(ISBLANK(Datenerfassung!R258),\"\",Datenerfassung!R258)","v":""},{"$f":"IF(ISBLANK(Datenerfassung!S258),\"\",Datenerfassung!S258)","v":""},"",{"$f":"IF(ISBLANK(Datenerfassung!U258),\"\",Datenerfassung!U258)","v":""},{"$f":"IF(ISBLANK(Datenerfassung!O258),\"\",Datenerfassung!O258)","v":""},{"$f":"IF(ISBLANK(Datenerfassung!D258),IF(COUNTBLANK(A248:H248)+COUNTBLANK(J248:O248)=14,\"\",\"- ohne Titel -\"),Datenerfassung!D258)","v":""},{"$f":"IF(ISBLANK(Datenerfassung!G258),\"\",Datenerfassung!G258)","v":""},"",{"$f":"IF(ISBLANK(Datenerfassung!X258),\"\",Datenerfassung!X258)","v":""},{"$f":"IF(COUNTBLANK(Datenerfassung!H258:'Datenerfassung'!N258)=7,\"\",CONCATENATE( CONCATENATE(IF(ISBLANK(Datenerfassung!H258),\" \",Datenerfassung!H258 ),\" [IS]\"), CONCATENATE(IF(ISBLANK(Datenerfassung!I258),\" \",Datenerfassung!I258 ),\" [IS]\"), CONCATENATE(IF(ISBLANK(Datenerfassung!J258),\" \",Datenerfassung!J258 ),\" [IS]\"), CONCATENATE(IF(ISBLANK(Datenerfassung!K258),\" \",Datenerfassung!K258 ),\" [IS]\"), CONCATENATE(IF(ISBLANK(Datenerfassung!L258),\" \",Datenerfassung!L258 ),\" [IS]\"), CONCATENATE(IF(ISBLANK(Datenerfassung!M258),\" \",Datenerfassung!M258 ),\" [IS]\"), IF(ISBLANK(Datenerfassung!N258),\" \",Datenerfassung!N258 ) ))","v":""},{"$f":"IF(ISBLANK(Datenerfassung!V258),\"\",Datenerfassung!V258)","v":""},{"$f":"IF(ISBLANK(Datenerfassung!Q258),\"\",Datenerfassung!Q258)","v":""}]
[{"$f":"IF(ISBLANK(Datenerfassung!A259),\"\",Datenerfassung!A259)","v":""},{"$f":"IF(ISBLANK(Datenerfassung!B259),\"\",Datenerfassung!B259)","v":""},{"$f":"IF(ISBLANK(Datenerfassung!C259),\"\",Datenerfassung!C259)","v":""},{"$f":"IF(ISBLANK(Datenerfassung!R259),\"\",Datenerfassung!R259)","v":""},{"$f":"IF(ISBLANK(Datenerfassung!S259),\"\",Datenerfassung!S259)","v":""},"",{"$f":"IF(ISBLANK(Datenerfassung!U259),\"\",Datenerfassung!U259)","v":""},{"$f":"IF(ISBLANK(Datenerfassung!O259),\"\",Datenerfassung!O259)","v":""},{"$f":"IF(ISBLANK(Datenerfassung!D259),IF(COUNTBLANK(A249:H249)+COUNTBLANK(J249:O249)=14,\"\",\"- ohne Titel -\"),Datenerfassung!D259)","v":""},{"$f":"IF(ISBLANK(Datenerfassung!G259),\"\",Datenerfassung!G259)","v":""},"",{"$f":"IF(ISBLANK(Datenerfassung!X259),\"\",Datenerfassung!X259)","v":""},{"$f":"IF(COUNTBLANK(Datenerfassung!H259:'Datenerfassung'!N259)=7,\"\",CONCATENATE( CONCATENATE(IF(ISBLANK(Datenerfassung!H259),\" \",Datenerfassung!H259 ),\" [IS]\"), CONCATENATE(IF(ISBLANK(Datenerfassung!I259),\" \",Datenerfassung!I259 ),\" [IS]\"), CONCATENATE(IF(ISBLANK(Datenerfassung!J259),\" \",Datenerfassung!J259 ),\" [IS]\"), CONCATENATE(IF(ISBLANK(Datenerfassung!K259),\" \",Datenerfassung!K259 ),\" [IS]\"), CONCATENATE(IF(ISBLANK(Datenerfassung!L259),\" \",Datenerfassung!L259 ),\" [IS]\"), CONCATENATE(IF(ISBLANK(Datenerfassung!M259),\" \",Datenerfassung!M259 ),\" [IS]\"), IF(ISBLANK(Datenerfassung!N259),\" \",Datenerfassung!N259 ) ))","v":""},{"$f":"IF(ISBLANK(Datenerfassung!V259),\"\",Datenerfassung!V259)","v":""},{"$f":"IF(ISBLANK(Datenerfassung!Q259),\"\",Datenerfassung!Q259)","v":""}]
[{"$f":"IF(ISBLANK(Datenerfassung!A260),\"\",Datenerfassung!A260)","v":""},{"$f":"IF(ISBLANK(Datenerfassung!B260),\"\",Datenerfassung!B260)","v":""},{"$f":"IF(ISBLANK(Datenerfassung!C260),\"\",Datenerfassung!C260)","v":""},{"$f":"IF(ISBLANK(Datenerfassung!R260),\"\",Datenerfassung!R260)","v":""},{"$f":"IF(ISBLANK(Datenerfassung!S260),\"\",Datenerfassung!S260)","v":""},"",{"$f":"IF(ISBLANK(Datenerfassung!U260),\"\",Datenerfassung!U260)","v":""},{"$f":"IF(ISBLANK(Datenerfassung!O260),\"\",Datenerfassung!O260)","v":""},{"$f":"IF(ISBLANK(Datenerfassung!D260),IF(COUNTBLANK(A250:H250)+COUNTBLANK(J250:O250)=14,\"\",\"- ohne Titel -\"),Datenerfassung!D260)","v":""},{"$f":"IF(ISBLANK(Datenerfassung!G260),\"\",Datenerfassung!G260)","v":""},"",{"$f":"IF(ISBLANK(Datenerfassung!X260),\"\",Datenerfassung!X260)","v":""},{"$f":"IF(COUNTBLANK(Datenerfassung!H260:'Datenerfassung'!N260)=7,\"\",CONCATENATE( CONCATENATE(IF(ISBLANK(Datenerfassung!H260),\" \",Datenerfassung!H260 ),\" [IS]\"), CONCATENATE(IF(ISBLANK(Datenerfassung!I260),\" \",Datenerfassung!I260 ),\" [IS]\"), CONCATENATE(IF(ISBLANK(Datenerfassung!J260),\" \",Datenerfassung!J260 ),\" [IS]\"), CONCATENATE(IF(ISBLANK(Datenerfassung!K260),\" \",Datenerfassung!K260 ),\" [IS]\"), CONCATENATE(IF(ISBLANK(Datenerfassung!L260),\" \",Datenerfassung!L260 ),\" [IS]\"), CONCATENATE(IF(ISBLANK(Datenerfassung!M260),\" \",Datenerfassung!M260 ),\" [IS]\"), IF(ISBLANK(Datenerfassung!N260),\" \",Datenerfassung!N260 ) ))","v":""},{"$f":"IF(ISBLANK(Datenerfassung!V260),\"\",Datenerfassung!V260)","v":""},{"$f":"IF(ISBLANK(Datenerfassung!Q260),\"\",Datenerfassung!Q260)","v":""}]
[{"$f":"IF(ISBLANK(Datenerfassung!A261),\"\",Datenerfassung!A261)","v":""},{"$f":"IF(ISBLANK(Datenerfassung!B261),\"\",Datenerfassung!B261)","v":""},{"$f":"IF(ISBLANK(Datenerfassung!C261),\"\",Datenerfassung!C261)","v":""},{"$f":"IF(ISBLANK(Datenerfassung!R261),\"\",Datenerfassung!R261)","v":""},{"$f":"IF(ISBLANK(Datenerfassung!S261),\"\",Datenerfassung!S261)","v":""},"",{"$f":"IF(ISBLANK(Datenerfassung!U261),\"\",Datenerfassung!U261)","v":""},{"$f":"IF(ISBLANK(Datenerfassung!O261),\"\",Datenerfassung!O261)","v":""},{"$f":"IF(ISBLANK(Datenerfassung!D261),IF(COUNTBLANK(A251:H251)+COUNTBLANK(J251:O251)=14,\"\",\"- ohne Titel -\"),Datenerfassung!D261)","v":""},{"$f":"IF(ISBLANK(Datenerfassung!G261),\"\",Datenerfassung!G261)","v":""},"",{"$f":"IF(ISBLANK(Datenerfassung!X261),\"\",Datenerfassung!X261)","v":""},{"$f":"IF(COUNTBLANK(Datenerfassung!H261:'Datenerfassung'!N261)=7,\"\",CONCATENATE( CONCATENATE(IF(ISBLANK(Datenerfassung!H261),\" \",Datenerfassung!H261 ),\" [IS]\"), CONCATENATE(IF(ISBLANK(Datenerfassung!I261),\" \",Datenerfassung!I261 ),\" [IS]\"), CONCATENATE(IF(ISBLANK(Datenerfassung!J261),\" \",Datenerfassung!J261 ),\" [IS]\"), CONCATENATE(IF(ISBLANK(Datenerfassung!K261),\" \",Datenerfassung!K261 ),\" [IS]\"), CONCATENATE(IF(ISBLANK(Datenerfassung!L261),\" \",Datenerfassung!L261 ),\" [IS]\"), CONCATENATE(IF(ISBLANK(Datenerfassung!M261),\" \",Datenerfassung!M261 ),\" [IS]\"), IF(ISBLANK(Datenerfassung!N261),\" \",Datenerfassung!N261 ) ))","v":""},{"$f":"IF(ISBLANK(Datenerfassung!V261),\"\",Datenerfassung!V261)","v":""},{"$f":"IF(ISBLANK(Datenerfassung!Q261),\"\",Datenerfassung!Q261)","v":""}]
[{"$f":"IF(ISBLANK(Datenerfassung!A262),\"\",Datenerfassung!A262)","v":""},{"$f":"IF(ISBLANK(Datenerfassung!B262),\"\",Datenerfassung!B262)","v":""},{"$f":"IF(ISBLANK(Datenerfassung!C262),\"\",Datenerfassung!C262)","v":""},{"$f":"IF(ISBLANK(Datenerfassung!R262),\"\",Datenerfassung!R262)","v":""},{"$f":"IF(ISBLANK(Datenerfassung!S262),\"\",Datenerfassung!S262)","v":""},"",{"$f":"IF(ISBLANK(Datenerfassung!U262),\"\",Datenerfassung!U262)","v":""},{"$f":"IF(ISBLANK(Datenerfassung!O262),\"\",Datenerfassung!O262)","v":""},{"$f":"IF(ISBLANK(Datenerfassung!D262),IF(COUNTBLANK(A252:H252)+COUNTBLANK(J252:O252)=14,\"\",\"- ohne Titel -\"),Datenerfassung!D262)","v":""},{"$f":"IF(ISBLANK(Datenerfassung!G262),\"\",Datenerfassung!G262)","v":""},"",{"$f":"IF(ISBLANK(Datenerfassung!X262),\"\",Datenerfassung!X262)","v":""},{"$f":"IF(COUNTBLANK(Datenerfassung!H262:'Datenerfassung'!N262)=7,\"\",CONCATENATE( CONCATENATE(IF(ISBLANK(Datenerfassung!H262),\" \",Datenerfassung!H262 ),\" [IS]\"), CONCATENATE(IF(ISBLANK(Datenerfassung!I262),\" \",Datenerfassung!I262 ),\" [IS]\"), CONCATENATE(IF(ISBLANK(Datenerfassung!J262),\" \",Datenerfassung!J262 ),\" [IS]\"), CONCATENATE(IF(ISBLANK(Datenerfassung!K262),\" \",Datenerfassung!K262 ),\" [IS]\"), CONCATENATE(IF(ISBLANK(Datenerfassung!L262),\" \",Datenerfassung!L262 ),\" [IS]\"), CONCATENATE(IF(ISBLANK(Datenerfassung!M262),\" \",Datenerfassung!M262 ),\" [IS]\"), IF(ISBLANK(Datenerfassung!N262),\" \",Datenerfassung!N262 ) ))","v":""},{"$f":"IF(ISBLANK(Datenerfassung!V262),\"\",Datenerfassung!V262)","v":""},{"$f":"IF(ISBLANK(Datenerfassung!Q262),\"\",Datenerfassung!Q262)","v":""}]
[{"$f":"IF(ISBLANK(Datenerfassung!A263),\"\",Datenerfassung!A263)","v":""},{"$f":"IF(ISBLANK(Datenerfassung!B263),\"\",Datenerfassung!B263)","v":""},{"$f":"IF(ISBLANK(Datenerfassung!C263),\"\",Datenerfassung!C263)","v":""},{"$f":"IF(ISBLANK(Datenerfassung!R263),\"\",Datenerfassung!R263)","v":""},{"$f":"IF(ISBLANK(Datenerfassung!S263),\"\",Datenerfassung!S263)","v":""},"",{"$f":"IF(ISBLANK(Datenerfassung!U263),\"\",Datenerfassung!U263)","v":""},{"$f":"IF(ISBLANK(Datenerfassung!O263),\"\",Datenerfassung!O263)","v":""},{"$f":"IF(ISBLANK(Datenerfassung!D263),IF(COUNTBLANK(A253:H253)+COUNTBLANK(J253:O253)=14,\"\",\"- ohne Titel -\"),Datenerfassung!D263)","v":""},{"$f":"IF(ISBLANK(Datenerfassung!G263),\"\",Datenerfassung!G263)","v":""},"",{"$f":"IF(ISBLANK(Datenerfassung!X263),\"\",Datenerfassung!X263)","v":""},{"$f":"IF(COUNTBLANK(Datenerfassung!H263:'Datenerfassung'!N263)=7,\"\",CONCATENATE( CONCATENATE(IF(ISBLANK(Datenerfassung!H263),\" \",Datenerfassung!H263 ),\" [IS]\"), CONCATENATE(IF(ISBLANK(Datenerfassung!I263),\" \",Datenerfassung!I263 ),\" [IS]\"), CONCATENATE(IF(ISBLANK(Datenerfassung!J263),\" \",Datenerfassung!J263 ),\" [IS]\"), CONCATENATE(IF(ISBLANK(Datenerfassung!K263),\" \",Datenerfassung!K263 ),\" [IS]\"), CONCATENATE(IF(ISBLANK(Datenerfassung!L263),\" \",Datenerfassung!L263 ),\" [IS]\"), CONCATENATE(IF(ISBLANK(Datenerfassung!M263),\" \",Datenerfassung!M263 ),\" [IS]\"), IF(ISBLANK(Datenerfassung!N263),\" \",Datenerfassung!N263 ) ))","v":""},{"$f":"IF(ISBLANK(Datenerfassung!V263),\"\",Datenerfassung!V263)","v":""},{"$f":"IF(ISBLANK(Datenerfassung!Q263),\"\",Datenerfassung!Q263)","v":""}]
[{"$f":"IF(ISBLANK(Datenerfassung!A264),\"\",Datenerfassung!A264)","v":""},{"$f":"IF(ISBLANK(Datenerfassung!B264),\"\",Datenerfassung!B264)","v":""},{"$f":"IF(ISBLANK(Datenerfassung!C264),\"\",Datenerfassung!C264)","v":""},{"$f":"IF(ISBLANK(Datenerfassung!R264),\"\",Datenerfassung!R264)","v":""},{"$f":"IF(ISBLANK(Datenerfassung!S264),\"\",Datenerfassung!S264)","v":""},"",{"$f":"IF(ISBLANK(Datenerfassung!U264),\"\",Datenerfassung!U264)","v":""},{"$f":"IF(ISBLANK(Datenerfassung!O264),\"\",Datenerfassung!O264)","v":""},{"$f":"IF(ISBLANK(Datenerfassung!D264),IF(COUNTBLANK(A254:H254)+COUNTBLANK(J254:O254)=14,\"\",\"- ohne Titel -\"),Datenerfassung!D264)","v":""},{"$f":"IF(ISBLANK(Datenerfassung!G264),\"\",Datenerfassung!G264)","v":""},"",{"$f":"IF(ISBLANK(Datenerfassung!X264),\"\",Datenerfassung!X264)","v":""},{"$f":"IF(COUNTBLANK(Datenerfassung!H264:'Datenerfassung'!N264)=7,\"\",CONCATENATE( CONCATENATE(IF(ISBLANK(Datenerfassung!H264),\" \",Datenerfassung!H264 ),\" [IS]\"), CONCATENATE(IF(ISBLANK(Datenerfassung!I264),\" \",Datenerfassung!I264 ),\" [IS]\"), CONCATENATE(IF(ISBLANK(Datenerfassung!J264),\" \",Datenerfassung!J264 ),\" [IS]\"), CONCATENATE(IF(ISBLANK(Datenerfassung!K264),\" \",Datenerfassung!K264 ),\" [IS]\"), CONCATENATE(IF(ISBLANK(Datenerfassung!L264),\" \",Datenerfassung!L264 ),\" [IS]\"), CONCATENATE(IF(ISBLANK(Datenerfassung!M264),\" \",Datenerfassung!M264 ),\" [IS]\"), IF(ISBLANK(Datenerfassung!N264),\" \",Datenerfassung!N264 ) ))","v":""},{"$f":"IF(ISBLANK(Datenerfassung!V264),\"\",Datenerfassung!V264)","v":""},{"$f":"IF(ISBLANK(Datenerfassung!Q264),\"\",Datenerfassung!Q264)","v":""}]
[{"$f":"IF(ISBLANK(Datenerfassung!A265),\"\",Datenerfassung!A265)","v":""},{"$f":"IF(ISBLANK(Datenerfassung!B265),\"\",Datenerfassung!B265)","v":""},{"$f":"IF(ISBLANK(Datenerfassung!C265),\"\",Datenerfassung!C265)","v":""},{"$f":"IF(ISBLANK(Datenerfassung!R265),\"\",Datenerfassung!R265)","v":""},{"$f":"IF(ISBLANK(Datenerfassung!S265),\"\",Datenerfassung!S265)","v":""},"",{"$f":"IF(ISBLANK(Datenerfassung!U265),\"\",Datenerfassung!U265)","v":""},{"$f":"IF(ISBLANK(Datenerfassung!O265),\"\",Datenerfassung!O265)","v":""},{"$f":"IF(ISBLANK(Datenerfassung!D265),IF(COUNTBLANK(A255:H255)+COUNTBLANK(J255:O255)=14,\"\",\"- ohne Titel -\"),Datenerfassung!D265)","v":""},{"$f":"IF(ISBLANK(Datenerfassung!G265),\"\",Datenerfassung!G265)","v":""},"",{"$f":"IF(ISBLANK(Datenerfassung!X265),\"\",Datenerfassung!X265)","v":""},{"$f":"IF(COUNTBLANK(Datenerfassung!H265:'Datenerfassung'!N265)=7,\"\",CONCATENATE( CONCATENATE(IF(ISBLANK(Datenerfassung!H265),\" \",Datenerfassung!H265 ),\" [IS]\"), CONCATENATE(IF(ISBLANK(Datenerfassung!I265),\" \",Datenerfassung!I265 ),\" [IS]\"), CONCATENATE(IF(ISBLANK(Datenerfassung!J265),\" \",Datenerfassung!J265 ),\" [IS]\"), CONCATENATE(IF(ISBLANK(Datenerfassung!K265),\" \",Datenerfassung!K265 ),\" [IS]\"), CONCATENATE(IF(ISBLANK(Datenerfassung!L265),\" \",Datenerfassung!L265 ),\" [IS]\"), CONCATENATE(IF(ISBLANK(Datenerfassung!M265),\" \",Datenerfassung!M265 ),\" [IS]\"), IF(ISBLANK(Datenerfassung!N265),\" \",Datenerfassung!N265 ) ))","v":""},{"$f":"IF(ISBLANK(Datenerfassung!V265),\"\",Datenerfassung!V265)","v":""},{"$f":"IF(ISBLANK(Datenerfassung!Q265),\"\",Datenerfassung!Q265)","v":""}]
[{"$f":"IF(ISBLANK(Datenerfassung!A266),\"\",Datenerfassung!A266)","v":""},{"$f":"IF(ISBLANK(Datenerfassung!B266),\"\",Datenerfassung!B266)","v":""},{"$f":"IF(ISBLANK(Datenerfassung!C266),\"\",Datenerfassung!C266)","v":""},{"$f":"IF(ISBLANK(Datenerfassung!R266),\"\",Datenerfassung!R266)","v":""},{"$f":"IF(ISBLANK(Datenerfassung!S266),\"\",Datenerfassung!S266)","v":""},"",{"$f":"IF(ISBLANK(Datenerfassung!U266),\"\",Datenerfassung!U266)","v":""},{"$f":"IF(ISBLANK(Datenerfassung!O266),\"\",Datenerfassung!O266)","v":""},{"$f":"IF(ISBLANK(Datenerfassung!D266),IF(COUNTBLANK(A256:H256)+COUNTBLANK(J256:O256)=14,\"\",\"- ohne Titel -\"),Datenerfassung!D266)","v":""},{"$f":"IF(ISBLANK(Datenerfassung!G266),\"\",Datenerfassung!G266)","v":""},"",{"$f":"IF(ISBLANK(Datenerfassung!X266),\"\",Datenerfassung!X266)","v":""},{"$f":"IF(COUNTBLANK(Datenerfassung!H266:'Datenerfassung'!N266)=7,\"\",CONCATENATE( CONCATENATE(IF(ISBLANK(Datenerfassung!H266),\" \",Datenerfassung!H266 ),\" [IS]\"), CONCATENATE(IF(ISBLANK(Datenerfassung!I266),\" \",Datenerfassung!I266 ),\" [IS]\"), CONCATENATE(IF(ISBLANK(Datenerfassung!J266),\" \",Datenerfassung!J266 ),\" [IS]\"), CONCATENATE(IF(ISBLANK(Datenerfassung!K266),\" \",Datenerfassung!K266 ),\" [IS]\"), CONCATENATE(IF(ISBLANK(Datenerfassung!L266),\" \",Datenerfassung!L266 ),\" [IS]\"), CONCATENATE(IF(ISBLANK(Datenerfassung!M266),\" \",Datenerfassung!M266 ),\" [IS]\"), IF(ISBLANK(Datenerfassung!N266),\" \",Datenerfassung!N266 ) ))","v":""},{"$f":"IF(ISBLANK(Datenerfassung!V266),\"\",Datenerfassung!V266)","v":""},{"$f":"IF(ISBLANK(Datenerfassung!Q266),\"\",Datenerfassung!Q266)","v":""}]
[{"$f":"IF(ISBLANK(Datenerfassung!A267),\"\",Datenerfassung!A267)","v":""},{"$f":"IF(ISBLANK(Datenerfassung!B267),\"\",Datenerfassung!B267)","v":""},{"$f":"IF(ISBLANK(Datenerfassung!C267),\"\",Datenerfassung!C267)","v":""},{"$f":"IF(ISBLANK(Datenerfassung!R267),\"\",Datenerfassung!R267)","v":""},{"$f":"IF(ISBLANK(Datenerfassung!S267),\"\",Datenerfassung!S267)","v":""},"",{"$f":"IF(ISBLANK(Datenerfassung!U267),\"\",Datenerfassung!U267)","v":""},{"$f":"IF(ISBLANK(Datenerfassung!O267),\"\",Datenerfassung!O267)","v":""},{"$f":"IF(ISBLANK(Datenerfassung!D267),IF(COUNTBLANK(A257:H257)+COUNTBLANK(J257:O257)=14,\"\",\"- ohne Titel -\"),Datenerfassung!D267)","v":""},{"$f":"IF(ISBLANK(Datenerfassung!G267),\"\",Datenerfassung!G267)","v":""},"",{"$f":"IF(ISBLANK(Datenerfassung!X267),\"\",Datenerfassung!X267)","v":""},{"$f":"IF(COUNTBLANK(Datenerfassung!H267:'Datenerfassung'!N267)=7,\"\",CONCATENATE( CONCATENATE(IF(ISBLANK(Datenerfassung!H267),\" \",Datenerfassung!H267 ),\" [IS]\"), CONCATENATE(IF(ISBLANK(Datenerfassung!I267),\" \",Datenerfassung!I267 ),\" [IS]\"), CONCATENATE(IF(ISBLANK(Datenerfassung!J267),\" \",Datenerfassung!J267 ),\" [IS]\"), CONCATENATE(IF(ISBLANK(Datenerfassung!K267),\" \",Datenerfassung!K267 ),\" [IS]\"), CONCATENATE(IF(ISBLANK(Datenerfassung!L267),\" \",Datenerfassung!L267 ),\" [IS]\"), CONCATENATE(IF(ISBLANK(Datenerfassung!M267),\" \",Datenerfassung!M267 ),\" [IS]\"), IF(ISBLANK(Datenerfassung!N267),\" \",Datenerfassung!N267 ) ))","v":""},{"$f":"IF(ISBLANK(Datenerfassung!V267),\"\",Datenerfassung!V267)","v":""},{"$f":"IF(ISBLANK(Datenerfassung!Q267),\"\",Datenerfassung!Q267)","v":""}]
[{"$f":"IF(ISBLANK(Datenerfassung!A268),\"\",Datenerfassung!A268)","v":""},{"$f":"IF(ISBLANK(Datenerfassung!B268),\"\",Datenerfassung!B268)","v":""},{"$f":"IF(ISBLANK(Datenerfassung!C268),\"\",Datenerfassung!C268)","v":""},{"$f":"IF(ISBLANK(Datenerfassung!R268),\"\",Datenerfassung!R268)","v":""},{"$f":"IF(ISBLANK(Datenerfassung!S268),\"\",Datenerfassung!S268)","v":""},"",{"$f":"IF(ISBLANK(Datenerfassung!U268),\"\",Datenerfassung!U268)","v":""},{"$f":"IF(ISBLANK(Datenerfassung!O268),\"\",Datenerfassung!O268)","v":""},{"$f":"IF(ISBLANK(Datenerfassung!D268),IF(COUNTBLANK(A258:H258)+COUNTBLANK(J258:O258)=14,\"\",\"- ohne Titel -\"),Datenerfassung!D268)","v":""},{"$f":"IF(ISBLANK(Datenerfassung!G268),\"\",Datenerfassung!G268)","v":""},"",{"$f":"IF(ISBLANK(Datenerfassung!X268),\"\",Datenerfassung!X268)","v":""},{"$f":"IF(COUNTBLANK(Datenerfassung!H268:'Datenerfassung'!N268)=7,\"\",CONCATENATE( CONCATENATE(IF(ISBLANK(Datenerfassung!H268),\" \",Datenerfassung!H268 ),\" [IS]\"), CONCATENATE(IF(ISBLANK(Datenerfassung!I268),\" \",Datenerfassung!I268 ),\" [IS]\"), CONCATENATE(IF(ISBLANK(Datenerfassung!J268),\" \",Datenerfassung!J268 ),\" [IS]\"), CONCATENATE(IF(ISBLANK(Datenerfassung!K268),\" \",Datenerfassung!K268 ),\" [IS]\"), CONCATENATE(IF(ISBLANK(Datenerfassung!L268),\" \",Datenerfassung!L268 ),\" [IS]\"), CONCATENATE(IF(ISBLANK(Datenerfassung!M268),\" \",Datenerfassung!M268 ),\" [IS]\"), IF(ISBLANK(Datenerfassung!N268),\" \",Datenerfassung!N268 ) ))","v":""},{"$f":"IF(ISBLANK(Datenerfassung!V268),\"\",Datenerfassung!V268)","v":""},{"$f":"IF(ISBLANK(Datenerfassung!Q268),\"\",Datenerfassung!Q268)","v":""}]
[{"$f":"IF(ISBLANK(Datenerfassung!A269),\"\",Datenerfassung!A269)","v":""},{"$f":"IF(ISBLANK(Datenerfassung!B269),\"\",Datenerfassung!B269)","v":""},{"$f":"IF(ISBLANK(Datenerfassung!C269),\"\",Datenerfassung!C269)","v":""},{"$f":"IF(ISBLANK(Datenerfassung!R269),\"\",Datenerfassung!R269)","v":""},{"$f":"IF(ISBLANK(Datenerfassung!S269),\"\",Datenerfassung!S269)","v":""},{"$f":"IF(D259=\"\",\"\",IF(E259=\"\",D259,D259&\" - \"&E259))","v":""},{"$f":"IF(ISBLANK(Datenerfassung!U269),\"\",Datenerfassung!U269)","v":""},{"$f":"IF(ISBLANK(Datenerfassung!O269),\"\",Datenerfassung!O269)","v":""},{"$f":"IF(ISBLANK(Datenerfassung!D269),IF(COUNTBLANK(A259:H259)+COUNTBLANK(J259:O259)=14,\"\",\"- ohne Titel -\"),Datenerfassung!D269)","v":""},{"$f":"IF(ISBLANK(Datenerfassung!G269),\"\",Datenerfassung!G269)","v":""},{"$f":"IF(OR(E259=\"\",G259=\"\"),\"\",\"01.01.\"&RIGHT(E259,4)+G259+1)","v":""},{"$f":"IF(ISBLANK(Datenerfassung!X269),\"\",Datenerfassung!X269)","v":""},{"$f":"IF(COUNTBLANK(Datenerfassung!H269:'Datenerfassung'!N269)=7,\"\",CONCATENATE( CONCATENATE(IF(ISBLANK(Datenerfassung!H269),\" \",Datenerfassung!H269 ),\" [IS]\"), CONCATENATE(IF(ISBLANK(Datenerfassung!I269),\" \",Datenerfassung!I269 ),\" [IS]\"), CONCATENATE(IF(ISBLANK(Datenerfassung!J269),\" \",Datenerfassung!J269 ),\" [IS]\"), CONCATENATE(IF(ISBLANK(Datenerfassung!K269),\" \",Datenerfassung!K269 ),\" [IS]\"), CONCATENATE(IF(ISBLANK(Datenerfassung!L269),\" \",Datenerfassung!L269 ),\" [IS]\"), CONCATENATE(IF(ISBLANK(Datenerfassung!M269),\" \",Datenerfassung!M269 ),\" [IS]\"), IF(ISBLANK(Datenerfassung!N269),\" \",Datenerfassung!N269 ) ))","v":""},{"$f":"IF(ISBLANK(Datenerfassung!V269),\"\",Datenerfassung!V269)","v":""},{"$f":"IF(ISBLANK(Datenerfassung!Q269),\"\",Datenerfassung!Q269)","v":""}]
[{"$f":"IF(ISBLANK(Datenerfassung!A270),\"\",Datenerfassung!A270)","v":""},{"$f":"IF(ISBLANK(Datenerfassung!B270),\"\",Datenerfassung!B270)","v":""},{"$f":"IF(ISBLANK(Datenerfassung!C270),\"\",Datenerfassung!C270)","v":""},{"$f":"IF(ISBLANK(Datenerfassung!R270),\"\",Datenerfassung!R270)","v":""},{"$f":"IF(ISBLANK(Datenerfassung!S270),\"\",Datenerfassung!S270)","v":""},"",{"$f":"IF(ISBLANK(Datenerfassung!U270),\"\",Datenerfassung!U270)","v":""},{"$f":"IF(ISBLANK(Datenerfassung!O270),\"\",Datenerfassung!O270)","v":""},{"$f":"IF(ISBLANK(Datenerfassung!D270),IF(COUNTBLANK(A260:H260)+COUNTBLANK(J260:O260)=14,\"\",\"- ohne Titel -\"),Datenerfassung!D270)","v":""},{"$f":"IF(ISBLANK(Datenerfassung!G270),\"\",Datenerfassung!G270)","v":""},"",{"$f":"IF(ISBLANK(Datenerfassung!X270),\"\",Datenerfassung!X270)","v":""},{"$f":"IF(COUNTBLANK(Datenerfassung!H270:'Datenerfassung'!N270)=7,\"\",CONCATENATE( CONCATENATE(IF(ISBLANK(Datenerfassung!H270),\" \",Datenerfassung!H270 ),\" [IS]\"), CONCATENATE(IF(ISBLANK(Datenerfassung!I270),\" \",Datenerfassung!I270 ),\" [IS]\"), CONCATENATE(IF(ISBLANK(Datenerfassung!J270),\" \",Datenerfassung!J270 ),\" [IS]\"), CONCATENATE(IF(ISBLANK(Datenerfassung!K270),\" \",Datenerfassung!K270 ),\" [IS]\"), CONCATENATE(IF(ISBLANK(Datenerfassung!L270),\" \",Datenerfassung!L270 ),\" [IS]\"), CONCATENATE(IF(ISBLANK(Datenerfassung!M270),\" \",Datenerfassung!M270 ),\" [IS]\"), IF(ISBLANK(Datenerfassung!N270),\" \",Datenerfassung!N270 ) ))","v":""},{"$f":"IF(ISBLANK(Datenerfassung!V270),\"\",Datenerfassung!V270)","v":""},{"$f":"IF(ISBLANK(Datenerfassung!Q270),\"\",Datenerfassung!Q270)","v":""}]
[{"$f":"IF(ISBLANK(Datenerfassung!A271),\"\",Datenerfassung!A271)","v":""},{"$f":"IF(ISBLANK(Datenerfassung!B271),\"\",Datenerfassung!B271)","v":""},{"$f":"IF(ISBLANK(Datenerfassung!C271),\"\",Datenerfassung!C271)","v":""},{"$f":"IF(ISBLANK(Datenerfassung!R271),\"\",Datenerfassung!R271)","v":""},{"$f":"IF(ISBLANK(Datenerfassung!S271),\"\",Datenerfassung!S271)","v":""},"",{"$f":"IF(ISBLANK(Datenerfassung!U271),\"\",Datenerfassung!U271)","v":""},{"$f":"IF(ISBLANK(Datenerfassung!O271),\"\",Datenerfassung!O271)","v":""},{"$f":"IF(ISBLANK(Datenerfassung!D271),IF(COUNTBLANK(A261:H261)+COUNTBLANK(J261:O261)=14,\"\",\"- ohne Titel -\"),Datenerfassung!D271)","v":""},{"$f":"IF(ISBLANK(Datenerfassung!G271),\"\",Datenerfassung!G271)","v":""},"",{"$f":"IF(ISBLANK(Datenerfassung!X271),\"\",Datenerfassung!X271)","v":""},{"$f":"IF(COUNTBLANK(Datenerfassung!H271:'Datenerfassung'!N271)=7,\"\",CONCATENATE( CONCATENATE(IF(ISBLANK(Datenerfassung!H271),\" \",Datenerfassung!H271 ),\" [IS]\"), CONCATENATE(IF(ISBLANK(Datenerfassung!I271),\" \",Datenerfassung!I271 ),\" [IS]\"), CONCATENATE(IF(ISBLANK(Datenerfassung!J271),\" \",Datenerfassung!J271 ),\" [IS]\"), CONCATENATE(IF(ISBLANK(Datenerfassung!K271),\" \",Datenerfassung!K271 ),\" [IS]\"), CONCATENATE(IF(ISBLANK(Datenerfassung!L271),\" \",Datenerfassung!L271 ),\" [IS]\"), CONCATENATE(IF(ISBLANK(Datenerfassung!M271),\" \",Datenerfassung!M271 ),\" [IS]\"), IF(ISBLANK(Datenerfassung!N271),\" \",Datenerfassung!N271 ) ))","v":""},{"$f":"IF(ISBLANK(Datenerfassung!V271),\"\",Datenerfassung!V271)","v":""},{"$f":"IF(ISBLANK(Datenerfassung!Q271),\"\",Datenerfassung!Q271)","v":""}]
[{"$f":"IF(ISBLANK(Datenerfassung!A272),\"\",Datenerfassung!A272)","v":""},{"$f":"IF(ISBLANK(Datenerfassung!B272),\"\",Datenerfassung!B272)","v":""},{"$f":"IF(ISBLANK(Datenerfassung!C272),\"\",Datenerfassung!C272)","v":""},{"$f":"IF(ISBLANK(Datenerfassung!R272),\"\",Datenerfassung!R272)","v":""},{"$f":"IF(ISBLANK(Datenerfassung!S272),\"\",Datenerfassung!S272)","v":""},"",{"$f":"IF(ISBLANK(Datenerfassung!U272),\"\",Datenerfassung!U272)","v":""},{"$f":"IF(ISBLANK(Datenerfassung!O272),\"\",Datenerfassung!O272)","v":""},{"$f":"IF(ISBLANK(Datenerfassung!D272),IF(COUNTBLANK(A262:H262)+COUNTBLANK(J262:O262)=14,\"\",\"- ohne Titel -\"),Datenerfassung!D272)","v":""},{"$f":"IF(ISBLANK(Datenerfassung!G272),\"\",Datenerfassung!G272)","v":""},"",{"$f":"IF(ISBLANK(Datenerfassung!X272),\"\",Datenerfassung!X272)","v":""},{"$f":"IF(COUNTBLANK(Datenerfassung!H272:'Datenerfassung'!N272)=7,\"\",CONCATENATE( CONCATENATE(IF(ISBLANK(Datenerfassung!H272),\" \",Datenerfassung!H272 ),\" [IS]\"), CONCATENATE(IF(ISBLANK(Datenerfassung!I272),\" \",Datenerfassung!I272 ),\" [IS]\"), CONCATENATE(IF(ISBLANK(Datenerfassung!J272),\" \",Datenerfassung!J272 ),\" [IS]\"), CONCATENATE(IF(ISBLANK(Datenerfassung!K272),\" \",Datenerfassung!K272 ),\" [IS]\"), CONCATENATE(IF(ISBLANK(Datenerfassung!L272),\" \",Datenerfassung!L272 ),\" [IS]\"), CONCATENATE(IF(ISBLANK(Datenerfassung!M272),\" \",Datenerfassung!M272 ),\" [IS]\"), IF(ISBLANK(Datenerfassung!N272),\" \",Datenerfassung!N272 ) ))","v":""},{"$f":"IF(ISBLANK(Datenerfassung!V272),\"\",Datenerfassung!V272)","v":""},{"$f":"IF(ISBLANK(Datenerfassung!Q272),\"\",Datenerfassung!Q272)","v":""}]
[{"$f":"IF(ISBLANK(Datenerfassung!A273),\"\",Datenerfassung!A273)","v":""},{"$f":"IF(ISBLANK(Datenerfassung!B273),\"\",Datenerfassung!B273)","v":""},{"$f":"IF(ISBLANK(Datenerfassung!C273),\"\",Datenerfassung!C273)","v":""},{"$f":"IF(ISBLANK(Datenerfassung!R273),\"\",Datenerfassung!R273)","v":""},{"$f":"IF(ISBLANK(Datenerfassung!S273),\"\",Datenerfassung!S273)","v":""},"",{"$f":"IF(ISBLANK(Datenerfassung!U273),\"\",Datenerfassung!U273)","v":""},{"$f":"IF(ISBLANK(Datenerfassung!O273),\"\",Datenerfassung!O273)","v":""},{"$f":"IF(ISBLANK(Datenerfassung!D273),IF(COUNTBLANK(A263:H263)+COUNTBLANK(J263:O263)=14,\"\",\"- ohne Titel -\"),Datenerfassung!D273)","v":""},{"$f":"IF(ISBLANK(Datenerfassung!G273),\"\",Datenerfassung!G273)","v":""},"",{"$f":"IF(ISBLANK(Datenerfassung!X273),\"\",Datenerfassung!X273)","v":""},{"$f":"IF(COUNTBLANK(Datenerfassung!H273:'Datenerfassung'!N273)=7,\"\",CONCATENATE( CONCATENATE(IF(ISBLANK(Datenerfassung!H273),\" \",Datenerfassung!H273 ),\" [IS]\"), CONCATENATE(IF(ISBLANK(Datenerfassung!I273),\" \",Datenerfassung!I273 ),\" [IS]\"), CONCATENATE(IF(ISBLANK(Datenerfassung!J273),\" \",Datenerfassung!J273 ),\" [IS]\"), CONCATENATE(IF(ISBLANK(Datenerfassung!K273),\" \",Datenerfassung!K273 ),\" [IS]\"), CONCATENATE(IF(ISBLANK(Datenerfassung!L273),\" \",Datenerfassung!L273 ),\" [IS]\"), CONCATENATE(IF(ISBLANK(Datenerfassung!M273),\" \",Datenerfassung!M273 ),\" [IS]\"), IF(ISBLANK(Datenerfassung!N273),\" \",Datenerfassung!N273 ) ))","v":""},{"$f":"IF(ISBLANK(Datenerfassung!V273),\"\",Datenerfassung!V273)","v":""},{"$f":"IF(ISBLANK(Datenerfassung!Q273),\"\",Datenerfassung!Q273)","v":""}]
[{"$f":"IF(ISBLANK(Datenerfassung!A274),\"\",Datenerfassung!A274)","v":""},{"$f":"IF(ISBLANK(Datenerfassung!B274),\"\",Datenerfassung!B274)","v":""},{"$f":"IF(ISBLANK(Datenerfassung!C274),\"\",Datenerfassung!C274)","v":""},{"$f":"IF(ISBLANK(Datenerfassung!R274),\"\",Datenerfassung!R274)","v":""},{"$f":"IF(ISBLANK(Datenerfassung!S274),\"\",Datenerfassung!S274)","v":""},"",{"$f":"IF(ISBLANK(Datenerfassung!U274),\"\",Datenerfassung!U274)","v":""},{"$f":"IF(ISBLANK(Datenerfassung!O274),\"\",Datenerfassung!O274)","v":""},{"$f":"IF(ISBLANK(Datenerfassung!D274),IF(COUNTBLANK(A264:H264)+COUNTBLANK(J264:O264)=14,\"\",\"- ohne Titel -\"),Datenerfassung!D274)","v":""},{"$f":"IF(ISBLANK(Datenerfassung!G274),\"\",Datenerfassung!G274)","v":""},"",{"$f":"IF(ISBLANK(Datenerfassung!X274),\"\",Datenerfassung!X274)","v":""},{"$f":"IF(COUNTBLANK(Datenerfassung!H274:'Datenerfassung'!N274)=7,\"\",CONCATENATE( CONCATENATE(IF(ISBLANK(Datenerfassung!H274),\" \",Datenerfassung!H274 ),\" [IS]\"), CONCATENATE(IF(ISBLANK(Datenerfassung!I274),\" \",Datenerfassung!I274 ),\" [IS]\"), CONCATENATE(IF(ISBLANK(Datenerfassung!J274),\" \",Datenerfassung!J274 ),\" [IS]\"), CONCATENATE(IF(ISBLANK(Datenerfassung!K274),\" \",Datenerfassung!K274 ),\" [IS]\"), CONCATENATE(IF(ISBLANK(Datenerfassung!L274),\" \",Datenerfassung!L274 ),\" [IS]\"), CONCATENATE(IF(ISBLANK(Datenerfassung!M274),\" \",Datenerfassung!M274 ),\" [IS]\"), IF(ISBLANK(Datenerfassung!N274),\" \",Datenerfassung!N274 ) ))","v":""},{"$f":"IF(ISBLANK(Datenerfassung!V274),\"\",Datenerfassung!V274)","v":""},{"$f":"IF(ISBLANK(Datenerfassung!Q274),\"\",Datenerfassung!Q274)","v":""}]
[{"$f":"IF(ISBLANK(Datenerfassung!A275),\"\",Datenerfassung!A275)","v":""},{"$f":"IF(ISBLANK(Datenerfassung!B275),\"\",Datenerfassung!B275)","v":""},{"$f":"IF(ISBLANK(Datenerfassung!C275),\"\",Datenerfassung!C275)","v":""},{"$f":"IF(ISBLANK(Datenerfassung!R275),\"\",Datenerfassung!R275)","v":""},{"$f":"IF(ISBLANK(Datenerfassung!S275),\"\",Datenerfassung!S275)","v":""},"",{"$f":"IF(ISBLANK(Datenerfassung!U275),\"\",Datenerfassung!U275)","v":""},{"$f":"IF(ISBLANK(Datenerfassung!O275),\"\",Datenerfassung!O275)","v":""},{"$f":"IF(ISBLANK(Datenerfassung!D275),IF(COUNTBLANK(A265:H265)+COUNTBLANK(J265:O265)=14,\"\",\"- ohne Titel -\"),Datenerfassung!D275)","v":""},{"$f":"IF(ISBLANK(Datenerfassung!G275),\"\",Datenerfassung!G275)","v":""},"",{"$f":"IF(ISBLANK(Datenerfassung!X275),\"\",Datenerfassung!X275)","v":""},{"$f":"IF(COUNTBLANK(Datenerfassung!H275:'Datenerfassung'!N275)=7,\"\",CONCATENATE( CONCATENATE(IF(ISBLANK(Datenerfassung!H275),\" \",Datenerfassung!H275 ),\" [IS]\"), CONCATENATE(IF(ISBLANK(Datenerfassung!I275),\" \",Datenerfassung!I275 ),\" [IS]\"), CONCATENATE(IF(ISBLANK(Datenerfassung!J275),\" \",Datenerfassung!J275 ),\" [IS]\"), CONCATENATE(IF(ISBLANK(Datenerfassung!K275),\" \",Datenerfassung!K275 ),\" [IS]\"), CONCATENATE(IF(ISBLANK(Datenerfassung!L275),\" \",Datenerfassung!L275 ),\" [IS]\"), CONCATENATE(IF(ISBLANK(Datenerfassung!M275),\" \",Datenerfassung!M275 ),\" [IS]\"), IF(ISBLANK(Datenerfassung!N275),\" \",Datenerfassung!N275 ) ))","v":""},{"$f":"IF(ISBLANK(Datenerfassung!V275),\"\",Datenerfassung!V275)","v":""},{"$f":"IF(ISBLANK(Datenerfassung!Q275),\"\",Datenerfassung!Q275)","v":""}]
[{"$f":"IF(ISBLANK(Datenerfassung!A276),\"\",Datenerfassung!A276)","v":""},{"$f":"IF(ISBLANK(Datenerfassung!B276),\"\",Datenerfassung!B276)","v":""},{"$f":"IF(ISBLANK(Datenerfassung!C276),\"\",Datenerfassung!C276)","v":""},{"$f":"IF(ISBLANK(Datenerfassung!R276),\"\",Datenerfassung!R276)","v":""},{"$f":"IF(ISBLANK(Datenerfassung!S276),\"\",Datenerfassung!S276)","v":""},"",{"$f":"IF(ISBLANK(Datenerfassung!U276),\"\",Datenerfassung!U276)","v":""},{"$f":"IF(ISBLANK(Datenerfassung!O276),\"\",Datenerfassung!O276)","v":""},{"$f":"IF(ISBLANK(Datenerfassung!D276),IF(COUNTBLANK(A266:H266)+COUNTBLANK(J266:O266)=14,\"\",\"- ohne Titel -\"),Datenerfassung!D276)","v":""},{"$f":"IF(ISBLANK(Datenerfassung!G276),\"\",Datenerfassung!G276)","v":""},"",{"$f":"IF(ISBLANK(Datenerfassung!X276),\"\",Datenerfassung!X276)","v":""},{"$f":"IF(COUNTBLANK(Datenerfassung!H276:'Datenerfassung'!N276)=7,\"\",CONCATENATE( CONCATENATE(IF(ISBLANK(Datenerfassung!H276),\" \",Datenerfassung!H276 ),\" [IS]\"), CONCATENATE(IF(ISBLANK(Datenerfassung!I276),\" \",Datenerfassung!I276 ),\" [IS]\"), CONCATENATE(IF(ISBLANK(Datenerfassung!J276),\" \",Datenerfassung!J276 ),\" [IS]\"), CONCATENATE(IF(ISBLANK(Datenerfassung!K276),\" \",Datenerfassung!K276 ),\" [IS]\"), CONCATENATE(IF(ISBLANK(Datenerfassung!L276),\" \",Datenerfassung!L276 ),\" [IS]\"), CONCATENATE(IF(ISBLANK(Datenerfassung!M276),\" \",Datenerfassung!M276 ),\" [IS]\"), IF(ISBLANK(Datenerfassung!N276),\" \",Datenerfassung!N276 ) ))","v":""},{"$f":"IF(ISBLANK(Datenerfassung!V276),\"\",Datenerfassung!V276)","v":""},{"$f":"IF(ISBLANK(Datenerfassung!Q276),\"\",Datenerfassung!Q276)","v":""}]
[{"$f":"IF(ISBLANK(Datenerfassung!A277),\"\",Datenerfassung!A277)","v":""},{"$f":"IF(ISBLANK(Datenerfassung!B277),\"\",Datenerfassung!B277)","v":""},{"$f":"IF(ISBLANK(Datenerfassung!C277),\"\",Datenerfassung!C277)","v":""},{"$f":"IF(ISBLANK(Datenerfassung!R277),\"\",Datenerfassung!R277)","v":""},{"$f":"IF(ISBLANK(Datenerfassung!S277),\"\",Datenerfassung!S277)","v":""},"",{"$f":"IF(ISBLANK(Datenerfassung!U277),\"\",Datenerfassung!U277)","v":""},{"$f":"IF(ISBLANK(Datenerfassung!O277),\"\",Datenerfassung!O277)","v":""},{"$f":"IF(ISBLANK(Datenerfassung!D277),IF(COUNTBLANK(A267:H267)+COUNTBLANK(J267:O267)=14,\"\",\"- ohne Titel -\"),Datenerfassung!D277)","v":""},{"$f":"IF(ISBLANK(Datenerfassung!G277),\"\",Datenerfassung!G277)","v":""},"",{"$f":"IF(ISBLANK(Datenerfassung!X277),\"\",Datenerfassung!X277)","v":""},{"$f":"IF(COUNTBLANK(Datenerfassung!H277:'Datenerfassung'!N277)=7,\"\",CONCATENATE( CONCATENATE(IF(ISBLANK(Datenerfassung!H277),\" \",Datenerfassung!H277 ),\" [IS]\"), CONCATENATE(IF(ISBLANK(Datenerfassung!I277),\" \",Datenerfassung!I277 ),\" [IS]\"), CONCATENATE(IF(ISBLANK(Datenerfassung!J277),\" \",Datenerfassung!J277 ),\" [IS]\"), CONCATENATE(IF(ISBLANK(Datenerfassung!K277),\" \",Datenerfassung!K277 ),\" [IS]\"), CONCATENATE(IF(ISBLANK(Datenerfassung!L277),\" \",Datenerfassung!L277 ),\" [IS]\"), CONCATENATE(IF(ISBLANK(Datenerfassung!M277),\" \",Datenerfassung!M277 ),\" [IS]\"), IF(ISBLANK(Datenerfassung!N277),\" \",Datenerfassung!N277 ) ))","v":""},{"$f":"IF(ISBLANK(Datenerfassung!V277),\"\",Datenerfassung!V277)","v":""},{"$f":"IF(ISBLANK(Datenerfassung!Q277),\"\",Datenerfassung!Q277)","v":""}]
[{"$f":"IF(ISBLANK(Datenerfassung!A278),\"\",Datenerfassung!A278)","v":""},{"$f":"IF(ISBLANK(Datenerfassung!B278),\"\",Datenerfassung!B278)","v":""},{"$f":"IF(ISBLANK(Datenerfassung!C278),\"\",Datenerfassung!C278)","v":""},{"$f":"IF(ISBLANK(Datenerfassung!R278),\"\",Datenerfassung!R278)","v":""},{"$f":"IF(ISBLANK(Datenerfassung!S278),\"\",Datenerfassung!S278)","v":""},"",{"$f":"IF(ISBLANK(Datenerfassung!U278),\"\",Datenerfassung!U278)","v":""},{"$f":"IF(ISBLANK(Datenerfassung!O278),\"\",Datenerfassung!O278)","v":""},{"$f":"IF(ISBLANK(Datenerfassung!D278),IF(COUNTBLANK(A268:H268)+COUNTBLANK(J268:O268)=14,\"\",\"- ohne Titel -\"),Datenerfassung!D278)","v":""},{"$f":"IF(ISBLANK(Datenerfassung!G278),\"\",Datenerfassung!G278)","v":""},"",{"$f":"IF(ISBLANK(Datenerfassung!X278),\"\",Datenerfassung!X278)","v":""},{"$f":"IF(COUNTBLANK(Datenerfassung!H278:'Datenerfassung'!N278)=7,\"\",CONCATENATE( CONCATENATE(IF(ISBLANK(Datenerfassung!H278),\" \",Datenerfassung!H278 ),\" [IS]\"), CONCATENATE(IF(ISBLANK(Datenerfassung!I278),\" \",Datenerfassung!I278 ),\" [IS]\"), CONCATENATE(IF(ISBLANK(Datenerfassung!J278),\" \",Datenerfassung!J278 ),\" [IS]\"), CONCATENATE(IF(ISBLANK(Datenerfassung!K278),\" \",Datenerfassung!K278 ),\" [IS]\"), CONCATENATE(IF(ISBLANK(Datenerfassung!L278),\" \",Datenerfassung!L278 ),\" [IS]\"), CONCATENATE(IF(ISBLANK(Datenerfassung!M278),\" \",Datenerfassung!M278 ),\" [IS]\"), IF(ISBLANK(Datenerfassung!N278),\" \",Datenerfassung!N278 ) ))","v":""},{"$f":"IF(ISBLANK(Datenerfassung!V278),\"\",Datenerfassung!V278)","v":""},{"$f":"IF(ISBLANK(Datenerfassung!Q278),\"\",Datenerfassung!Q278)","v":""}]
[{"$f":"IF(ISBLANK(Datenerfassung!A279),\"\",Datenerfassung!A279)","v":""},{"$f":"IF(ISBLANK(Datenerfassung!B279),\"\",Datenerfassung!B279)","v":""},{"$f":"IF(ISBLANK(Datenerfassung!C279),\"\",Datenerfassung!C279)","v":""},{"$f":"IF(ISBLANK(Datenerfassung!R279),\"\",Datenerfassung!R279)","v":""},{"$f":"IF(ISBLANK(Datenerfassung!S279),\"\",Datenerfassung!S279)","v":""},"",{"$f":"IF(ISBLANK(Datenerfassung!U279),\"\",Datenerfassung!U279)","v":""},{"$f":"IF(ISBLANK(Datenerfassung!O279),\"\",Datenerfassung!O279)","v":""},{"$f":"IF(ISBLANK(Datenerfassung!D279),IF(COUNTBLANK(A269:H269)+COUNTBLANK(J269:O269)=14,\"\",\"- ohne Titel -\"),Datenerfassung!D279)","v":""},{"$f":"IF(ISBLANK(Datenerfassung!G279),\"\",Datenerfassung!G279)","v":""},"",{"$f":"IF(ISBLANK(Datenerfassung!X279),\"\",Datenerfassung!X279)","v":""},{"$f":"IF(COUNTBLANK(Datenerfassung!H279:'Datenerfassung'!N279)=7,\"\",CONCATENATE( CONCATENATE(IF(ISBLANK(Datenerfassung!H279),\" \",Datenerfassung!H279 ),\" [IS]\"), CONCATENATE(IF(ISBLANK(Datenerfassung!I279),\" \",Datenerfassung!I279 ),\" [IS]\"), CONCATENATE(IF(ISBLANK(Datenerfassung!J279),\" \",Datenerfassung!J279 ),\" [IS]\"), CONCATENATE(IF(ISBLANK(Datenerfassung!K279),\" \",Datenerfassung!K279 ),\" [IS]\"), CONCATENATE(IF(ISBLANK(Datenerfassung!L279),\" \",Datenerfassung!L279 ),\" [IS]\"), CONCATENATE(IF(ISBLANK(Datenerfassung!M279),\" \",Datenerfassung!M279 ),\" [IS]\"), IF(ISBLANK(Datenerfassung!N279),\" \",Datenerfassung!N279 ) ))","v":""},{"$f":"IF(ISBLANK(Datenerfassung!V279),\"\",Datenerfassung!V279)","v":""},{"$f":"IF(ISBLANK(Datenerfassung!Q279),\"\",Datenerfassung!Q279)","v":""}]
[{"$f":"IF(ISBLANK(Datenerfassung!A280),\"\",Datenerfassung!A280)","v":""},{"$f":"IF(ISBLANK(Datenerfassung!B280),\"\",Datenerfassung!B280)","v":""},{"$f":"IF(ISBLANK(Datenerfassung!C280),\"\",Datenerfassung!C280)","v":""},{"$f":"IF(ISBLANK(Datenerfassung!R280),\"\",Datenerfassung!R280)","v":""},{"$f":"IF(ISBLANK(Datenerfassung!S280),\"\",Datenerfassung!S280)","v":""},"",{"$f":"IF(ISBLANK(Datenerfassung!U280),\"\",Datenerfassung!U280)","v":""},{"$f":"IF(ISBLANK(Datenerfassung!O280),\"\",Datenerfassung!O280)","v":""},{"$f":"IF(ISBLANK(Datenerfassung!D280),IF(COUNTBLANK(A270:H270)+COUNTBLANK(J270:O270)=14,\"\",\"- ohne Titel -\"),Datenerfassung!D280)","v":""},{"$f":"IF(ISBLANK(Datenerfassung!G280),\"\",Datenerfassung!G280)","v":""},"",{"$f":"IF(ISBLANK(Datenerfassung!X280),\"\",Datenerfassung!X280)","v":""},{"$f":"IF(COUNTBLANK(Datenerfassung!H280:'Datenerfassung'!N280)=7,\"\",CONCATENATE( CONCATENATE(IF(ISBLANK(Datenerfassung!H280),\" \",Datenerfassung!H280 ),\" [IS]\"), CONCATENATE(IF(ISBLANK(Datenerfassung!I280),\" \",Datenerfassung!I280 ),\" [IS]\"), CONCATENATE(IF(ISBLANK(Datenerfassung!J280),\" \",Datenerfassung!J280 ),\" [IS]\"), CONCATENATE(IF(ISBLANK(Datenerfassung!K280),\" \",Datenerfassung!K280 ),\" [IS]\"), CONCATENATE(IF(ISBLANK(Datenerfassung!L280),\" \",Datenerfassung!L280 ),\" [IS]\"), CONCATENATE(IF(ISBLANK(Datenerfassung!M280),\" \",Datenerfassung!M280 ),\" [IS]\"), IF(ISBLANK(Datenerfassung!N280),\" \",Datenerfassung!N280 ) ))","v":""},{"$f":"IF(ISBLANK(Datenerfassung!V280),\"\",Datenerfassung!V280)","v":""},{"$f":"IF(ISBLANK(Datenerfassung!Q280),\"\",Datenerfassung!Q280)","v":""}]
[{"$f":"IF(ISBLANK(Datenerfassung!A281),\"\",Datenerfassung!A281)","v":""},{"$f":"IF(ISBLANK(Datenerfassung!B281),\"\",Datenerfassung!B281)","v":""},{"$f":"IF(ISBLANK(Datenerfassung!C281),\"\",Datenerfassung!C281)","v":""},{"$f":"IF(ISBLANK(Datenerfassung!R281),\"\",Datenerfassung!R281)","v":""},{"$f":"IF(ISBLANK(Datenerfassung!S281),\"\",Datenerfassung!S281)","v":""},"",{"$f":"IF(ISBLANK(Datenerfassung!U281),\"\",Datenerfassung!U281)","v":""},{"$f":"IF(ISBLANK(Datenerfassung!O281),\"\",Datenerfassung!O281)","v":""},{"$f":"IF(ISBLANK(Datenerfassung!D281),IF(COUNTBLANK(A271:H271)+COUNTBLANK(J271:O271)=14,\"\",\"- ohne Titel -\"),Datenerfassung!D281)","v":""},{"$f":"IF(ISBLANK(Datenerfassung!G281),\"\",Datenerfassung!G281)","v":""},"",{"$f":"IF(ISBLANK(Datenerfassung!X281),\"\",Datenerfassung!X281)","v":""},{"$f":"IF(COUNTBLANK(Datenerfassung!H281:'Datenerfassung'!N281)=7,\"\",CONCATENATE( CONCATENATE(IF(ISBLANK(Datenerfassung!H281),\" \",Datenerfassung!H281 ),\" [IS]\"), CONCATENATE(IF(ISBLANK(Datenerfassung!I281),\" \",Datenerfassung!I281 ),\" [IS]\"), CONCATENATE(IF(ISBLANK(Datenerfassung!J281),\" \",Datenerfassung!J281 ),\" [IS]\"), CONCATENATE(IF(ISBLANK(Datenerfassung!K281),\" \",Datenerfassung!K281 ),\" [IS]\"), CONCATENATE(IF(ISBLANK(Datenerfassung!L281),\" \",Datenerfassung!L281 ),\" [IS]\"), CONCATENATE(IF(ISBLANK(Datenerfassung!M281),\" \",Datenerfassung!M281 ),\" [IS]\"), IF(ISBLANK(Datenerfassung!N281),\" \",Datenerfassung!N281 ) ))","v":""},{"$f":"IF(ISBLANK(Datenerfassung!V281),\"\",Datenerfassung!V281)","v":""},{"$f":"IF(ISBLANK(Datenerfassung!Q281),\"\",Datenerfassung!Q281)","v":""}]
[{"$f":"IF(ISBLANK(Datenerfassung!A282),\"\",Datenerfassung!A282)","v":""},{"$f":"IF(ISBLANK(Datenerfassung!B282),\"\",Datenerfassung!B282)","v":""},{"$f":"IF(ISBLANK(Datenerfassung!C282),\"\",Datenerfassung!C282)","v":""},{"$f":"IF(ISBLANK(Datenerfassung!R282),\"\",Datenerfassung!R282)","v":""},{"$f":"IF(ISBLANK(Datenerfassung!S282),\"\",Datenerfassung!S282)","v":""},"",{"$f":"IF(ISBLANK(Datenerfassung!U282),\"\",Datenerfassung!U282)","v":""},{"$f":"IF(ISBLANK(Datenerfassung!O282),\"\",Datenerfassung!O282)","v":""},{"$f":"IF(ISBLANK(Datenerfassung!D282),IF(COUNTBLANK(A272:H272)+COUNTBLANK(J272:O272)=14,\"\",\"- ohne Titel -\"),Datenerfassung!D282)","v":""},{"$f":"IF(ISBLANK(Datenerfassung!G282),\"\",Datenerfassung!G282)","v":""},"",{"$f":"IF(ISBLANK(Datenerfassung!X282),\"\",Datenerfassung!X282)","v":""},{"$f":"IF(COUNTBLANK(Datenerfassung!H282:'Datenerfassung'!N282)=7,\"\",CONCATENATE( CONCATENATE(IF(ISBLANK(Datenerfassung!H282),\" \",Datenerfassung!H282 ),\" [IS]\"), CONCATENATE(IF(ISBLANK(Datenerfassung!I282),\" \",Datenerfassung!I282 ),\" [IS]\"), CONCATENATE(IF(ISBLANK(Datenerfassung!J282),\" \",Datenerfassung!J282 ),\" [IS]\"), CONCATENATE(IF(ISBLANK(Datenerfassung!K282),\" \",Datenerfassung!K282 ),\" [IS]\"), CONCATENATE(IF(ISBLANK(Datenerfassung!L282),\" \",Datenerfassung!L282 ),\" [IS]\"), CONCATENATE(IF(ISBLANK(Datenerfassung!M282),\" \",Datenerfassung!M282 ),\" [IS]\"), IF(ISBLANK(Datenerfassung!N282),\" \",Datenerfassung!N282 ) ))","v":""},{"$f":"IF(ISBLANK(Datenerfassung!V282),\"\",Datenerfassung!V282)","v":""},{"$f":"IF(ISBLANK(Datenerfassung!Q282),\"\",Datenerfassung!Q282)","v":""}]
[{"$f":"IF(ISBLANK(Datenerfassung!A283),\"\",Datenerfassung!A283)","v":""},{"$f":"IF(ISBLANK(Datenerfassung!B283),\"\",Datenerfassung!B283)","v":""},{"$f":"IF(ISBLANK(Datenerfassung!C283),\"\",Datenerfassung!C283)","v":""},{"$f":"IF(ISBLANK(Datenerfassung!R283),\"\",Datenerfassung!R283)","v":""},{"$f":"IF(ISBLANK(Datenerfassung!S283),\"\",Datenerfassung!S283)","v":""},"",{"$f":"IF(ISBLANK(Datenerfassung!U283),\"\",Datenerfassung!U283)","v":""},{"$f":"IF(ISBLANK(Datenerfassung!O283),\"\",Datenerfassung!O283)","v":""},{"$f":"IF(ISBLANK(Datenerfassung!D283),IF(COUNTBLANK(A273:H273)+COUNTBLANK(J273:O273)=14,\"\",\"- ohne Titel -\"),Datenerfassung!D283)","v":""},{"$f":"IF(ISBLANK(Datenerfassung!G283),\"\",Datenerfassung!G283)","v":""},"",{"$f":"IF(ISBLANK(Datenerfassung!X283),\"\",Datenerfassung!X283)","v":""},{"$f":"IF(COUNTBLANK(Datenerfassung!H283:'Datenerfassung'!N283)=7,\"\",CONCATENATE( CONCATENATE(IF(ISBLANK(Datenerfassung!H283),\" \",Datenerfassung!H283 ),\" [IS]\"), CONCATENATE(IF(ISBLANK(Datenerfassung!I283),\" \",Datenerfassung!I283 ),\" [IS]\"), CONCATENATE(IF(ISBLANK(Datenerfassung!J283),\" \",Datenerfassung!J283 ),\" [IS]\"), CONCATENATE(IF(ISBLANK(Datenerfassung!K283),\" \",Datenerfassung!K283 ),\" [IS]\"), CONCATENATE(IF(ISBLANK(Datenerfassung!L283),\" \",Datenerfassung!L283 ),\" [IS]\"), CONCATENATE(IF(ISBLANK(Datenerfassung!M283),\" \",Datenerfassung!M283 ),\" [IS]\"), IF(ISBLANK(Datenerfassung!N283),\" \",Datenerfassung!N283 ) ))","v":""},{"$f":"IF(ISBLANK(Datenerfassung!V283),\"\",Datenerfassung!V283)","v":""},{"$f":"IF(ISBLANK(Datenerfassung!Q283),\"\",Datenerfassung!Q283)","v":""}]
[{"$f":"IF(ISBLANK(Datenerfassung!A284),\"\",Datenerfassung!A284)","v":""},{"$f":"IF(ISBLANK(Datenerfassung!B284),\"\",Datenerfassung!B284)","v":""},{"$f":"IF(ISBLANK(Datenerfassung!C284),\"\",Datenerfassung!C284)","v":""},{"$f":"IF(ISBLANK(Datenerfassung!R284),\"\",Datenerfassung!R284)","v":""},{"$f":"IF(ISBLANK(Datenerfassung!S284),\"\",Datenerfassung!S284)","v":""},"",{"$f":"IF(ISBLANK(Datenerfassung!U284),\"\",Datenerfassung!U284)","v":""},{"$f":"IF(ISBLANK(Datenerfassung!O284),\"\",Datenerfassung!O284)","v":""},{"$f":"IF(ISBLANK(Datenerfassung!D284),IF(COUNTBLANK(A274:H274)+COUNTBLANK(J274:O274)=14,\"\",\"- ohne Titel -\"),Datenerfassung!D284)","v":""},{"$f":"IF(ISBLANK(Datenerfassung!G284),\"\",Datenerfassung!G284)","v":""},"",{"$f":"IF(ISBLANK(Datenerfassung!X284),\"\",Datenerfassung!X284)","v":""},{"$f":"IF(COUNTBLANK(Datenerfassung!H284:'Datenerfassung'!N284)=7,\"\",CONCATENATE( CONCATENATE(IF(ISBLANK(Datenerfassung!H284),\" \",Datenerfassung!H284 ),\" [IS]\"), CONCATENATE(IF(ISBLANK(Datenerfassung!I284),\" \",Datenerfassung!I284 ),\" [IS]\"), CONCATENATE(IF(ISBLANK(Datenerfassung!J284),\" \",Datenerfassung!J284 ),\" [IS]\"), CONCATENATE(IF(ISBLANK(Datenerfassung!K284),\" \",Datenerfassung!K284 ),\" [IS]\"), CONCATENATE(IF(ISBLANK(Datenerfassung!L284),\" \",Datenerfassung!L284 ),\" [IS]\"), CONCATENATE(IF(ISBLANK(Datenerfassung!M284),\" \",Datenerfassung!M284 ),\" [IS]\"), IF(ISBLANK(Datenerfassung!N284),\" \",Datenerfassung!N284 ) ))","v":""},{"$f":"IF(ISBLANK(Datenerfassung!V284),\"\",Datenerfassung!V284)","v":""},{"$f":"IF(ISBLANK(Datenerfassung!Q284),\"\",Datenerfassung!Q284)","v":""}]
[{"$f":"IF(ISBLANK(Datenerfassung!A285),\"\",Datenerfassung!A285)","v":""},{"$f":"IF(ISBLANK(Datenerfassung!B285),\"\",Datenerfassung!B285)","v":""},{"$f":"IF(ISBLANK(Datenerfassung!C285),\"\",Datenerfassung!C285)","v":""},{"$f":"IF(ISBLANK(Datenerfassung!R285),\"\",Datenerfassung!R285)","v":""},{"$f":"IF(ISBLANK(Datenerfassung!S285),\"\",Datenerfassung!S285)","v":""},"",{"$f":"IF(ISBLANK(Datenerfassung!U285),\"\",Datenerfassung!U285)","v":""},{"$f":"IF(ISBLANK(Datenerfassung!O285),\"\",Datenerfassung!O285)","v":""},{"$f":"IF(ISBLANK(Datenerfassung!D285),IF(COUNTBLANK(A275:H275)+COUNTBLANK(J275:O275)=14,\"\",\"- ohne Titel -\"),Datenerfassung!D285)","v":""},{"$f":"IF(ISBLANK(Datenerfassung!G285),\"\",Datenerfassung!G285)","v":""},"",{"$f":"IF(ISBLANK(Datenerfassung!X285),\"\",Datenerfassung!X285)","v":""},{"$f":"IF(COUNTBLANK(Datenerfassung!H285:'Datenerfassung'!N285)=7,\"\",CONCATENATE( CONCATENATE(IF(ISBLANK(Datenerfassung!H285),\" \",Datenerfassung!H285 ),\" [IS]\"), CONCATENATE(IF(ISBLANK(Datenerfassung!I285),\" \",Datenerfassung!I285 ),\" [IS]\"), CONCATENATE(IF(ISBLANK(Datenerfassung!J285),\" \",Datenerfassung!J285 ),\" [IS]\"), CONCATENATE(IF(ISBLANK(Datenerfassung!K285),\" \",Datenerfassung!K285 ),\" [IS]\"), CONCATENATE(IF(ISBLANK(Datenerfassung!L285),\" \",Datenerfassung!L285 ),\" [IS]\"), CONCATENATE(IF(ISBLANK(Datenerfassung!M285),\" \",Datenerfassung!M285 ),\" [IS]\"), IF(ISBLANK(Datenerfassung!N285),\" \",Datenerfassung!N285 ) ))","v":""},{"$f":"IF(ISBLANK(Datenerfassung!V285),\"\",Datenerfassung!V285)","v":""},{"$f":"IF(ISBLANK(Datenerfassung!Q285),\"\",Datenerfassung!Q285)","v":""}]
[{"$f":"IF(ISBLANK(Datenerfassung!A286),\"\",Datenerfassung!A286)","v":""},{"$f":"IF(ISBLANK(Datenerfassung!B286),\"\",Datenerfassung!B286)","v":""},{"$f":"IF(ISBLANK(Datenerfassung!C286),\"\",Datenerfassung!C286)","v":""},{"$f":"IF(ISBLANK(Datenerfassung!R286),\"\",Datenerfassung!R286)","v":""},{"$f":"IF(ISBLANK(Datenerfassung!S286),\"\",Datenerfassung!S286)","v":""},"",{"$f":"IF(ISBLANK(Datenerfassung!U286),\"\",Datenerfassung!U286)","v":""},{"$f":"IF(ISBLANK(Datenerfassung!O286),\"\",Datenerfassung!O286)","v":""},{"$f":"IF(ISBLANK(Datenerfassung!D286),IF(COUNTBLANK(A276:H276)+COUNTBLANK(J276:O276)=14,\"\",\"- ohne Titel -\"),Datenerfassung!D286)","v":""},{"$f":"IF(ISBLANK(Datenerfassung!G286),\"\",Datenerfassung!G286)","v":""},"",{"$f":"IF(ISBLANK(Datenerfassung!X286),\"\",Datenerfassung!X286)","v":""},{"$f":"IF(COUNTBLANK(Datenerfassung!H286:'Datenerfassung'!N286)=7,\"\",CONCATENATE( CONCATENATE(IF(ISBLANK(Datenerfassung!H286),\" \",Datenerfassung!H286 ),\" [IS]\"), CONCATENATE(IF(ISBLANK(Datenerfassung!I286),\" \",Datenerfassung!I286 ),\" [IS]\"), CONCATENATE(IF(ISBLANK(Datenerfassung!J286),\" \",Datenerfassung!J286 ),\" [IS]\"), CONCATENATE(IF(ISBLANK(Datenerfassung!K286),\" \",Datenerfassung!K286 ),\" [IS]\"), CONCATENATE(IF(ISBLANK(Datenerfassung!L286),\" \",Datenerfassung!L286 ),\" [IS]\"), CONCATENATE(IF(ISBLANK(Datenerfassung!M286),\" \",Datenerfassung!M286 ),\" [IS]\"), IF(ISBLANK(Datenerfassung!N286),\" \",Datenerfassung!N286 ) ))","v":""},{"$f":"IF(ISBLANK(Datenerfassung!V286),\"\",Datenerfassung!V286)","v":""},{"$f":"IF(ISBLANK(Datenerfassung!Q286),\"\",Datenerfassung!Q286)","v":""}]
[{"$f":"IF(ISBLANK(Datenerfassung!A287),\"\",Datenerfassung!A287)","v":""},{"$f":"IF(ISBLANK(Datenerfassung!B287),\"\",Datenerfassung!B287)","v":""},{"$f":"IF(ISBLANK(Datenerfassung!C287),\"\",Datenerfassung!C287)","v":""},{"$f":"IF(ISBLANK(Datenerfassung!R287),\"\",Datenerfassung!R287)","v":""},{"$f":"IF(ISBLANK(Datenerfassung!S287),\"\",Datenerfassung!S287)","v":""},"",{"$f":"IF(ISBLANK(Datenerfassung!U287),\"\",Datenerfassung!U287)","v":""},{"$f":"IF(ISBLANK(Datenerfassung!O287),\"\",Datenerfassung!O287)","v":""},{"$f":"IF(ISBLANK(Datenerfassung!D287),IF(COUNTBLANK(A277:H277)+COUNTBLANK(J277:O277)=14,\"\",\"- ohne Titel -\"),Datenerfassung!D287)","v":""},{"$f":"IF(ISBLANK(Datenerfassung!G287),\"\",Datenerfassung!G287)","v":""},"",{"$f":"IF(ISBLANK(Datenerfassung!X287),\"\",Datenerfassung!X287)","v":""},{"$f":"IF(COUNTBLANK(Datenerfassung!H287:'Datenerfassung'!N287)=7,\"\",CONCATENATE( CONCATENATE(IF(ISBLANK(Datenerfassung!H287),\" \",Datenerfassung!H287 ),\" [IS]\"), CONCATENATE(IF(ISBLANK(Datenerfassung!I287),\" \",Datenerfassung!I287 ),\" [IS]\"), CONCATENATE(IF(ISBLANK(Datenerfassung!J287),\" \",Datenerfassung!J287 ),\" [IS]\"), CONCATENATE(IF(ISBLANK(Datenerfassung!K287),\" \",Datenerfassung!K287 ),\" [IS]\"), CONCATENATE(IF(ISBLANK(Datenerfassung!L287),\" \",Datenerfassung!L287 ),\" [IS]\"), CONCATENATE(IF(ISBLANK(Datenerfassung!M287),\" \",Datenerfassung!M287 ),\" [IS]\"), IF(ISBLANK(Datenerfassung!N287),\" \",Datenerfassung!N287 ) ))","v":""},{"$f":"IF(ISBLANK(Datenerfassung!V287),\"\",Datenerfassung!V287)","v":""},{"$f":"IF(ISBLANK(Datenerfassung!Q287),\"\",Datenerfassung!Q287)","v":""}]
[{"$f":"IF(ISBLANK(Datenerfassung!A288),\"\",Datenerfassung!A288)","v":""},{"$f":"IF(ISBLANK(Datenerfassung!B288),\"\",Datenerfassung!B288)","v":""},{"$f":"IF(ISBLANK(Datenerfassung!C288),\"\",Datenerfassung!C288)","v":""},{"$f":"IF(ISBLANK(Datenerfassung!R288),\"\",Datenerfassung!R288)","v":""},{"$f":"IF(ISBLANK(Datenerfassung!S288),\"\",Datenerfassung!S288)","v":""},"",{"$f":"IF(ISBLANK(Datenerfassung!U288),\"\",Datenerfassung!U288)","v":""},{"$f":"IF(ISBLANK(Datenerfassung!O288),\"\",Datenerfassung!O288)","v":""},{"$f":"IF(ISBLANK(Datenerfassung!D288),IF(COUNTBLANK(A278:H278)+COUNTBLANK(J278:O278)=14,\"\",\"- ohne Titel -\"),Datenerfassung!D288)","v":""},{"$f":"IF(ISBLANK(Datenerfassung!G288),\"\",Datenerfassung!G288)","v":""},"",{"$f":"IF(ISBLANK(Datenerfassung!X288),\"\",Datenerfassung!X288)","v":""},{"$f":"IF(COUNTBLANK(Datenerfassung!H288:'Datenerfassung'!N288)=7,\"\",CONCATENATE( CONCATENATE(IF(ISBLANK(Datenerfassung!H288),\" \",Datenerfassung!H288 ),\" [IS]\"), CONCATENATE(IF(ISBLANK(Datenerfassung!I288),\" \",Datenerfassung!I288 ),\" [IS]\"), CONCATENATE(IF(ISBLANK(Datenerfassung!J288),\" \",Datenerfassung!J288 ),\" [IS]\"), CONCATENATE(IF(ISBLANK(Datenerfassung!K288),\" \",Datenerfassung!K288 ),\" [IS]\"), CONCATENATE(IF(ISBLANK(Datenerfassung!L288),\" \",Datenerfassung!L288 ),\" [IS]\"), CONCATENATE(IF(ISBLANK(Datenerfassung!M288),\" \",Datenerfassung!M288 ),\" [IS]\"), IF(ISBLANK(Datenerfassung!N288),\" \",Datenerfassung!N288 ) ))","v":""},{"$f":"IF(ISBLANK(Datenerfassung!V288),\"\",Datenerfassung!V288)","v":""},{"$f":"IF(ISBLANK(Datenerfassung!Q288),\"\",Datenerfassung!Q288)","v":""}]
[{"$f":"IF(ISBLANK(Datenerfassung!A289),\"\",Datenerfassung!A289)","v":""},{"$f":"IF(ISBLANK(Datenerfassung!B289),\"\",Datenerfassung!B289)","v":""},{"$f":"IF(ISBLANK(Datenerfassung!C289),\"\",Datenerfassung!C289)","v":""},{"$f":"IF(ISBLANK(Datenerfassung!R289),\"\",Datenerfassung!R289)","v":""},{"$f":"IF(ISBLANK(Datenerfassung!S289),\"\",Datenerfassung!S289)","v":""},"",{"$f":"IF(ISBLANK(Datenerfassung!U289),\"\",Datenerfassung!U289)","v":""},{"$f":"IF(ISBLANK(Datenerfassung!O289),\"\",Datenerfassung!O289)","v":""},{"$f":"IF(ISBLANK(Datenerfassung!D289),IF(COUNTBLANK(A279:H279)+COUNTBLANK(J279:O279)=14,\"\",\"- ohne Titel -\"),Datenerfassung!D289)","v":""},{"$f":"IF(ISBLANK(Datenerfassung!G289),\"\",Datenerfassung!G289)","v":""},"",{"$f":"IF(ISBLANK(Datenerfassung!X289),\"\",Datenerfassung!X289)","v":""},{"$f":"IF(COUNTBLANK(Datenerfassung!H289:'Datenerfassung'!N289)=7,\"\",CONCATENATE( CONCATENATE(IF(ISBLANK(Datenerfassung!H289),\" \",Datenerfassung!H289 ),\" [IS]\"), CONCATENATE(IF(ISBLANK(Datenerfassung!I289),\" \",Datenerfassung!I289 ),\" [IS]\"), CONCATENATE(IF(ISBLANK(Datenerfassung!J289),\" \",Datenerfassung!J289 ),\" [IS]\"), CONCATENATE(IF(ISBLANK(Datenerfassung!K289),\" \",Datenerfassung!K289 ),\" [IS]\"), CONCATENATE(IF(ISBLANK(Datenerfassung!L289),\" \",Datenerfassung!L289 ),\" [IS]\"), CONCATENATE(IF(ISBLANK(Datenerfassung!M289),\" \",Datenerfassung!M289 ),\" [IS]\"), IF(ISBLANK(Datenerfassung!N289),\" \",Datenerfassung!N289 ) ))","v":""},{"$f":"IF(ISBLANK(Datenerfassung!V289),\"\",Datenerfassung!V289)","v":""},{"$f":"IF(ISBLANK(Datenerfassung!Q289),\"\",Datenerfassung!Q289)","v":""}]
[{"$f":"IF(ISBLANK(Datenerfassung!A290),\"\",Datenerfassung!A290)","v":""},{"$f":"IF(ISBLANK(Datenerfassung!B290),\"\",Datenerfassung!B290)","v":""},{"$f":"IF(ISBLANK(Datenerfassung!C290),\"\",Datenerfassung!C290)","v":""},{"$f":"IF(ISBLANK(Datenerfassung!R290),\"\",Datenerfassung!R290)","v":""},{"$f":"IF(ISBLANK(Datenerfassung!S290),\"\",Datenerfassung!S290)","v":""},"",{"$f":"IF(ISBLANK(Datenerfassung!U290),\"\",Datenerfassung!U290)","v":""},{"$f":"IF(ISBLANK(Datenerfassung!O290),\"\",Datenerfassung!O290)","v":""},{"$f":"IF(ISBLANK(Datenerfassung!D290),IF(COUNTBLANK(A280:H280)+COUNTBLANK(J280:O280)=14,\"\",\"- ohne Titel -\"),Datenerfassung!D290)","v":""},{"$f":"IF(ISBLANK(Datenerfassung!G290),\"\",Datenerfassung!G290)","v":""},"",{"$f":"IF(ISBLANK(Datenerfassung!X290),\"\",Datenerfassung!X290)","v":""},{"$f":"IF(COUNTBLANK(Datenerfassung!H290:'Datenerfassung'!N290)=7,\"\",CONCATENATE( CONCATENATE(IF(ISBLANK(Datenerfassung!H290),\" \",Datenerfassung!H290 ),\" [IS]\"), CONCATENATE(IF(ISBLANK(Datenerfassung!I290),\" \",Datenerfassung!I290 ),\" [IS]\"), CONCATENATE(IF(ISBLANK(Datenerfassung!J290),\" \",Datenerfassung!J290 ),\" [IS]\"), CONCATENATE(IF(ISBLANK(Datenerfassung!K290),\" \",Datenerfassung!K290 ),\" [IS]\"), CONCATENATE(IF(ISBLANK(Datenerfassung!L290),\" \",Datenerfassung!L290 ),\" [IS]\"), CONCATENATE(IF(ISBLANK(Datenerfassung!M290),\" \",Datenerfassung!M290 ),\" [IS]\"), IF(ISBLANK(Datenerfassung!N290),\" \",Datenerfassung!N290 ) ))","v":""},{"$f":"IF(ISBLANK(Datenerfassung!V290),\"\",Datenerfassung!V290)","v":""},{"$f":"IF(ISBLANK(Datenerfassung!Q290),\"\",Datenerfassung!Q290)","v":""}]
[{"$f":"IF(ISBLANK(Datenerfassung!A291),\"\",Datenerfassung!A291)","v":""},{"$f":"IF(ISBLANK(Datenerfassung!B291),\"\",Datenerfassung!B291)","v":""},{"$f":"IF(ISBLANK(Datenerfassung!C291),\"\",Datenerfassung!C291)","v":""},{"$f":"IF(ISBLANK(Datenerfassung!R291),\"\",Datenerfassung!R291)","v":""},{"$f":"IF(ISBLANK(Datenerfassung!S291),\"\",Datenerfassung!S291)","v":""},"",{"$f":"IF(ISBLANK(Datenerfassung!U291),\"\",Datenerfassung!U291)","v":""},{"$f":"IF(ISBLANK(Datenerfassung!O291),\"\",Datenerfassung!O291)","v":""},{"$f":"IF(ISBLANK(Datenerfassung!D291),IF(COUNTBLANK(A281:H281)+COUNTBLANK(J281:O281)=14,\"\",\"- ohne Titel -\"),Datenerfassung!D291)","v":""},{"$f":"IF(ISBLANK(Datenerfassung!G291),\"\",Datenerfassung!G291)","v":""},"",{"$f":"IF(ISBLANK(Datenerfassung!X291),\"\",Datenerfassung!X291)","v":""},{"$f":"IF(COUNTBLANK(Datenerfassung!H291:'Datenerfassung'!N291)=7,\"\",CONCATENATE( CONCATENATE(IF(ISBLANK(Datenerfassung!H291),\" \",Datenerfassung!H291 ),\" [IS]\"), CONCATENATE(IF(ISBLANK(Datenerfassung!I291),\" \",Datenerfassung!I291 ),\" [IS]\"), CONCATENATE(IF(ISBLANK(Datenerfassung!J291),\" \",Datenerfassung!J291 ),\" [IS]\"), CONCATENATE(IF(ISBLANK(Datenerfassung!K291),\" \",Datenerfassung!K291 ),\" [IS]\"), CONCATENATE(IF(ISBLANK(Datenerfassung!L291),\" \",Datenerfassung!L291 ),\" [IS]\"), CONCATENATE(IF(ISBLANK(Datenerfassung!M291),\" \",Datenerfassung!M291 ),\" [IS]\"), IF(ISBLANK(Datenerfassung!N291),\" \",Datenerfassung!N291 ) ))","v":""},{"$f":"IF(ISBLANK(Datenerfassung!V291),\"\",Datenerfassung!V291)","v":""},{"$f":"IF(ISBLANK(Datenerfassung!Q291),\"\",Datenerfassung!Q291)","v":""}]
[{"$f":"IF(ISBLANK(Datenerfassung!A292),\"\",Datenerfassung!A292)","v":""},{"$f":"IF(ISBLANK(Datenerfassung!B292),\"\",Datenerfassung!B292)","v":""},{"$f":"IF(ISBLANK(Datenerfassung!C292),\"\",Datenerfassung!C292)","v":""},{"$f":"IF(ISBLANK(Datenerfassung!R292),\"\",Datenerfassung!R292)","v":""},{"$f":"IF(ISBLANK(Datenerfassung!S292),\"\",Datenerfassung!S292)","v":""},"",{"$f":"IF(ISBLANK(Datenerfassung!U292),\"\",Datenerfassung!U292)","v":""},{"$f":"IF(ISBLANK(Datenerfassung!O292),\"\",Datenerfassung!O292)","v":""},{"$f":"IF(ISBLANK(Datenerfassung!D292),IF(COUNTBLANK(A282:H282)+COUNTBLANK(J282:O282)=14,\"\",\"- ohne Titel -\"),Datenerfassung!D292)","v":""},{"$f":"IF(ISBLANK(Datenerfassung!G292),\"\",Datenerfassung!G292)","v":""},"",{"$f":"IF(ISBLANK(Datenerfassung!X292),\"\",Datenerfassung!X292)","v":""},{"$f":"IF(COUNTBLANK(Datenerfassung!H292:'Datenerfassung'!N292)=7,\"\",CONCATENATE( CONCATENATE(IF(ISBLANK(Datenerfassung!H292),\" \",Datenerfassung!H292 ),\" [IS]\"), CONCATENATE(IF(ISBLANK(Datenerfassung!I292),\" \",Datenerfassung!I292 ),\" [IS]\"), CONCATENATE(IF(ISBLANK(Datenerfassung!J292),\" \",Datenerfassung!J292 ),\" [IS]\"), CONCATENATE(IF(ISBLANK(Datenerfassung!K292),\" \",Datenerfassung!K292 ),\" [IS]\"), CONCATENATE(IF(ISBLANK(Datenerfassung!L292),\" \",Datenerfassung!L292 ),\" [IS]\"), CONCATENATE(IF(ISBLANK(Datenerfassung!M292),\" \",Datenerfassung!M292 ),\" [IS]\"), IF(ISBLANK(Datenerfassung!N292),\" \",Datenerfassung!N292 ) ))","v":""},{"$f":"IF(ISBLANK(Datenerfassung!V292),\"\",Datenerfassung!V292)","v":""},{"$f":"IF(ISBLANK(Datenerfassung!Q292),\"\",Datenerfassung!Q292)","v":""}]
[{"$f":"IF(ISBLANK(Datenerfassung!A293),\"\",Datenerfassung!A293)","v":""},{"$f":"IF(ISBLANK(Datenerfassung!B293),\"\",Datenerfassung!B293)","v":""},{"$f":"IF(ISBLANK(Datenerfassung!C293),\"\",Datenerfassung!C293)","v":""},{"$f":"IF(ISBLANK(Datenerfassung!R293),\"\",Datenerfassung!R293)","v":""},{"$f":"IF(ISBLANK(Datenerfassung!S293),\"\",Datenerfassung!S293)","v":""},"",{"$f":"IF(ISBLANK(Datenerfassung!U293),\"\",Datenerfassung!U293)","v":""},{"$f":"IF(ISBLANK(Datenerfassung!O293),\"\",Datenerfassung!O293)","v":""},{"$f":"IF(ISBLANK(Datenerfassung!D293),IF(COUNTBLANK(A283:H283)+COUNTBLANK(J283:O283)=14,\"\",\"- ohne Titel -\"),Datenerfassung!D293)","v":""},{"$f":"IF(ISBLANK(Datenerfassung!G293),\"\",Datenerfassung!G293)","v":""},"",{"$f":"IF(ISBLANK(Datenerfassung!X293),\"\",Datenerfassung!X293)","v":""},{"$f":"IF(COUNTBLANK(Datenerfassung!H293:'Datenerfassung'!N293)=7,\"\",CONCATENATE( CONCATENATE(IF(ISBLANK(Datenerfassung!H293),\" \",Datenerfassung!H293 ),\" [IS]\"), CONCATENATE(IF(ISBLANK(Datenerfassung!I293),\" \",Datenerfassung!I293 ),\" [IS]\"), CONCATENATE(IF(ISBLANK(Datenerfassung!J293),\" \",Datenerfassung!J293 ),\" [IS]\"), CONCATENATE(IF(ISBLANK(Datenerfassung!K293),\" \",Datenerfassung!K293 ),\" [IS]\"), CONCATENATE(IF(ISBLANK(Datenerfassung!L293),\" \",Datenerfassung!L293 ),\" [IS]\"), CONCATENATE(IF(ISBLANK(Datenerfassung!M293),\" \",Datenerfassung!M293 ),\" [IS]\"), IF(ISBLANK(Datenerfassung!N293),\" \",Datenerfassung!N293 ) ))","v":""},{"$f":"IF(ISBLANK(Datenerfassung!V293),\"\",Datenerfassung!V293)","v":""},{"$f":"IF(ISBLANK(Datenerfassung!Q293),\"\",Datenerfassung!Q293)","v":""}]
[{"$f":"IF(ISBLANK(Datenerfassung!A294),\"\",Datenerfassung!A294)","v":""},{"$f":"IF(ISBLANK(Datenerfassung!B294),\"\",Datenerfassung!B294)","v":""},{"$f":"IF(ISBLANK(Datenerfassung!C294),\"\",Datenerfassung!C294)","v":""},{"$f":"IF(ISBLANK(Datenerfassung!R294),\"\",Datenerfassung!R294)","v":""},{"$f":"IF(ISBLANK(Datenerfassung!S294),\"\",Datenerfassung!S294)","v":""},"",{"$f":"IF(ISBLANK(Datenerfassung!U294),\"\",Datenerfassung!U294)","v":""},{"$f":"IF(ISBLANK(Datenerfassung!O294),\"\",Datenerfassung!O294)","v":""},{"$f":"IF(ISBLANK(Datenerfassung!D294),IF(COUNTBLANK(A284:H284)+COUNTBLANK(J284:O284)=14,\"\",\"- ohne Titel -\"),Datenerfassung!D294)","v":""},{"$f":"IF(ISBLANK(Datenerfassung!G294),\"\",Datenerfassung!G294)","v":""},"",{"$f":"IF(ISBLANK(Datenerfassung!X294),\"\",Datenerfassung!X294)","v":""},{"$f":"IF(COUNTBLANK(Datenerfassung!H294:'Datenerfassung'!N294)=7,\"\",CONCATENATE( CONCATENATE(IF(ISBLANK(Datenerfassung!H294),\" \",Datenerfassung!H294 ),\" [IS]\"), CONCATENATE(IF(ISBLANK(Datenerfassung!I294),\" \",Datenerfassung!I294 ),\" [IS]\"), CONCATENATE(IF(ISBLANK(Datenerfassung!J294),\" \",Datenerfassung!J294 ),\" [IS]\"), CONCATENATE(IF(ISBLANK(Datenerfassung!K294),\" \",Datenerfassung!K294 ),\" [IS]\"), CONCATENATE(IF(ISBLANK(Datenerfassung!L294),\" \",Datenerfassung!L294 ),\" [IS]\"), CONCATENATE(IF(ISBLANK(Datenerfassung!M294),\" \",Datenerfassung!M294 ),\" [IS]\"), IF(ISBLANK(Datenerfassung!N294),\" \",Datenerfassung!N294 ) ))","v":""},{"$f":"IF(ISBLANK(Datenerfassung!V294),\"\",Datenerfassung!V294)","v":""},{"$f":"IF(ISBLANK(Datenerfassung!Q294),\"\",Datenerfassung!Q294)","v":""}]
[{"$f":"IF(ISBLANK(Datenerfassung!A295),\"\",Datenerfassung!A295)","v":""},{"$f":"IF(ISBLANK(Datenerfassung!B295),\"\",Datenerfassung!B295)","v":""},{"$f":"IF(ISBLANK(Datenerfassung!C295),\"\",Datenerfassung!C295)","v":""},{"$f":"IF(ISBLANK(Datenerfassung!R295),\"\",Datenerfassung!R295)","v":""},{"$f":"IF(ISBLANK(Datenerfassung!S295),\"\",Datenerfassung!S295)","v":""},"",{"$f":"IF(ISBLANK(Datenerfassung!U295),\"\",Datenerfassung!U295)","v":""},{"$f":"IF(ISBLANK(Datenerfassung!O295),\"\",Datenerfassung!O295)","v":""},{"$f":"IF(ISBLANK(Datenerfassung!D295),IF(COUNTBLANK(A285:H285)+COUNTBLANK(J285:O285)=14,\"\",\"- ohne Titel -\"),Datenerfassung!D295)","v":""},{"$f":"IF(ISBLANK(Datenerfassung!G295),\"\",Datenerfassung!G295)","v":""},"",{"$f":"IF(ISBLANK(Datenerfassung!X295),\"\",Datenerfassung!X295)","v":""},{"$f":"IF(COUNTBLANK(Datenerfassung!H295:'Datenerfassung'!N295)=7,\"\",CONCATENATE( CONCATENATE(IF(ISBLANK(Datenerfassung!H295),\" \",Datenerfassung!H295 ),\" [IS]\"), CONCATENATE(IF(ISBLANK(Datenerfassung!I295),\" \",Datenerfassung!I295 ),\" [IS]\"), CONCATENATE(IF(ISBLANK(Datenerfassung!J295),\" \",Datenerfassung!J295 ),\" [IS]\"), CONCATENATE(IF(ISBLANK(Datenerfassung!K295),\" \",Datenerfassung!K295 ),\" [IS]\"), CONCATENATE(IF(ISBLANK(Datenerfassung!L295),\" \",Datenerfassung!L295 ),\" [IS]\"), CONCATENATE(IF(ISBLANK(Datenerfassung!M295),\" \",Datenerfassung!M295 ),\" [IS]\"), IF(ISBLANK(Datenerfassung!N295),\" \",Datenerfassung!N295 ) ))","v":""},{"$f":"IF(ISBLANK(Datenerfassung!V295),\"\",Datenerfassung!V295)","v":""},{"$f":"IF(ISBLANK(Datenerfassung!Q295),\"\",Datenerfassung!Q295)","v":""}]
[{"$f":"IF(ISBLANK(Datenerfassung!A296),\"\",Datenerfassung!A296)","v":""},{"$f":"IF(ISBLANK(Datenerfassung!B296),\"\",Datenerfassung!B296)","v":""},{"$f":"IF(ISBLANK(Datenerfassung!C296),\"\",Datenerfassung!C296)","v":""},{"$f":"IF(ISBLANK(Datenerfassung!R296),\"\",Datenerfassung!R296)","v":""},{"$f":"IF(ISBLANK(Datenerfassung!S296),\"\",Datenerfassung!S296)","v":""},"",{"$f":"IF(ISBLANK(Datenerfassung!U296),\"\",Datenerfassung!U296)","v":""},{"$f":"IF(ISBLANK(Datenerfassung!O296),\"\",Datenerfassung!O296)","v":""},{"$f":"IF(ISBLANK(Datenerfassung!D296),IF(COUNTBLANK(A286:H286)+COUNTBLANK(J286:O286)=14,\"\",\"- ohne Titel -\"),Datenerfassung!D296)","v":""},{"$f":"IF(ISBLANK(Datenerfassung!G296),\"\",Datenerfassung!G296)","v":""},"",{"$f":"IF(ISBLANK(Datenerfassung!X296),\"\",Datenerfassung!X296)","v":""},{"$f":"IF(COUNTBLANK(Datenerfassung!H296:'Datenerfassung'!N296)=7,\"\",CONCATENATE( CONCATENATE(IF(ISBLANK(Datenerfassung!H296),\" \",Datenerfassung!H296 ),\" [IS]\"), CONCATENATE(IF(ISBLANK(Datenerfassung!I296),\" \",Datenerfassung!I296 ),\" [IS]\"), CONCATENATE(IF(ISBLANK(Datenerfassung!J296),\" \",Datenerfassung!J296 ),\" [IS]\"), CONCATENATE(IF(ISBLANK(Datenerfassung!K296),\" \",Datenerfassung!K296 ),\" [IS]\"), CONCATENATE(IF(ISBLANK(Datenerfassung!L296),\" \",Datenerfassung!L296 ),\" [IS]\"), CONCATENATE(IF(ISBLANK(Datenerfassung!M296),\" \",Datenerfassung!M296 ),\" [IS]\"), IF(ISBLANK(Datenerfassung!N296),\" \",Datenerfassung!N296 ) ))","v":""},{"$f":"IF(ISBLANK(Datenerfassung!V296),\"\",Datenerfassung!V296)","v":""},{"$f":"IF(ISBLANK(Datenerfassung!Q296),\"\",Datenerfassung!Q296)","v":""}]
[{"$f":"IF(ISBLANK(Datenerfassung!A297),\"\",Datenerfassung!A297)","v":""},{"$f":"IF(ISBLANK(Datenerfassung!B297),\"\",Datenerfassung!B297)","v":""},{"$f":"IF(ISBLANK(Datenerfassung!C297),\"\",Datenerfassung!C297)","v":""},{"$f":"IF(ISBLANK(Datenerfassung!R297),\"\",Datenerfassung!R297)","v":""},{"$f":"IF(ISBLANK(Datenerfassung!S297),\"\",Datenerfassung!S297)","v":""},"",{"$f":"IF(ISBLANK(Datenerfassung!U297),\"\",Datenerfassung!U297)","v":""},{"$f":"IF(ISBLANK(Datenerfassung!O297),\"\",Datenerfassung!O297)","v":""},{"$f":"IF(ISBLANK(Datenerfassung!D297),IF(COUNTBLANK(A287:H287)+COUNTBLANK(J287:O287)=14,\"\",\"- ohne Titel -\"),Datenerfassung!D297)","v":""},{"$f":"IF(ISBLANK(Datenerfassung!G297),\"\",Datenerfassung!G297)","v":""},"",{"$f":"IF(ISBLANK(Datenerfassung!X297),\"\",Datenerfassung!X297)","v":""},{"$f":"IF(COUNTBLANK(Datenerfassung!H297:'Datenerfassung'!N297)=7,\"\",CONCATENATE( CONCATENATE(IF(ISBLANK(Datenerfassung!H297),\" \",Datenerfassung!H297 ),\" [IS]\"), CONCATENATE(IF(ISBLANK(Datenerfassung!I297),\" \",Datenerfassung!I297 ),\" [IS]\"), CONCATENATE(IF(ISBLANK(Datenerfassung!J297),\" \",Datenerfassung!J297 ),\" [IS]\"), CONCATENATE(IF(ISBLANK(Datenerfassung!K297),\" \",Datenerfassung!K297 ),\" [IS]\"), CONCATENATE(IF(ISBLANK(Datenerfassung!L297),\" \",Datenerfassung!L297 ),\" [IS]\"), CONCATENATE(IF(ISBLANK(Datenerfassung!M297),\" \",Datenerfassung!M297 ),\" [IS]\"), IF(ISBLANK(Datenerfassung!N297),\" \",Datenerfassung!N297 ) ))","v":""},{"$f":"IF(ISBLANK(Datenerfassung!V297),\"\",Datenerfassung!V297)","v":""},{"$f":"IF(ISBLANK(Datenerfassung!Q297),\"\",Datenerfassung!Q297)","v":""}]
[{"$f":"IF(ISBLANK(Datenerfassung!A298),\"\",Datenerfassung!A298)","v":""},{"$f":"IF(ISBLANK(Datenerfassung!B298),\"\",Datenerfassung!B298)","v":""},{"$f":"IF(ISBLANK(Datenerfassung!C298),\"\",Datenerfassung!C298)","v":""},{"$f":"IF(ISBLANK(Datenerfassung!R298),\"\",Datenerfassung!R298)","v":""},{"$f":"IF(ISBLANK(Datenerfassung!S298),\"\",Datenerfassung!S298)","v":""},"",{"$f":"IF(ISBLANK(Datenerfassung!U298),\"\",Datenerfassung!U298)","v":""},{"$f":"IF(ISBLANK(Datenerfassung!O298),\"\",Datenerfassung!O298)","v":""},{"$f":"IF(ISBLANK(Datenerfassung!D298),IF(COUNTBLANK(A288:H288)+COUNTBLANK(J288:O288)=14,\"\",\"- ohne Titel -\"),Datenerfassung!D298)","v":""},{"$f":"IF(ISBLANK(Datenerfassung!G298),\"\",Datenerfassung!G298)","v":""},"",{"$f":"IF(ISBLANK(Datenerfassung!X298),\"\",Datenerfassung!X298)","v":""},{"$f":"IF(COUNTBLANK(Datenerfassung!H298:'Datenerfassung'!N298)=7,\"\",CONCATENATE( CONCATENATE(IF(ISBLANK(Datenerfassung!H298),\" \",Datenerfassung!H298 ),\" [IS]\"), CONCATENATE(IF(ISBLANK(Datenerfassung!I298),\" \",Datenerfassung!I298 ),\" [IS]\"), CONCATENATE(IF(ISBLANK(Datenerfassung!J298),\" \",Datenerfassung!J298 ),\" [IS]\"), CONCATENATE(IF(ISBLANK(Datenerfassung!K298),\" \",Datenerfassung!K298 ),\" [IS]\"), CONCATENATE(IF(ISBLANK(Datenerfassung!L298),\" \",Datenerfassung!L298 ),\" [IS]\"), CONCATENATE(IF(ISBLANK(Datenerfassung!M298),\" \",Datenerfassung!M298 ),\" [IS]\"), IF(ISBLANK(Datenerfassung!N298),\" \",Datenerfassung!N298 ) ))","v":""},{"$f":"IF(ISBLANK(Datenerfassung!V298),\"\",Datenerfassung!V298)","v":""},{"$f":"IF(ISBLANK(Datenerfassung!Q298),\"\",Datenerfassung!Q298)","v":""}]
[{"$f":"IF(ISBLANK(Datenerfassung!A299),\"\",Datenerfassung!A299)","v":""},{"$f":"IF(ISBLANK(Datenerfassung!B299),\"\",Datenerfassung!B299)","v":""},{"$f":"IF(ISBLANK(Datenerfassung!C299),\"\",Datenerfassung!C299)","v":""},{"$f":"IF(ISBLANK(Datenerfassung!R299),\"\",Datenerfassung!R299)","v":""},{"$f":"IF(ISBLANK(Datenerfassung!S299),\"\",Datenerfassung!S299)","v":""},"",{"$f":"IF(ISBLANK(Datenerfassung!U299),\"\",Datenerfassung!U299)","v":""},{"$f":"IF(ISBLANK(Datenerfassung!O299),\"\",Datenerfassung!O299)","v":""},{"$f":"IF(ISBLANK(Datenerfassung!D299),IF(COUNTBLANK(A289:H289)+COUNTBLANK(J289:O289)=14,\"\",\"- ohne Titel -\"),Datenerfassung!D299)","v":""},{"$f":"IF(ISBLANK(Datenerfassung!G299),\"\",Datenerfassung!G299)","v":""},"",{"$f":"IF(ISBLANK(Datenerfassung!X299),\"\",Datenerfassung!X299)","v":""},{"$f":"IF(COUNTBLANK(Datenerfassung!H299:'Datenerfassung'!N299)=7,\"\",CONCATENATE( CONCATENATE(IF(ISBLANK(Datenerfassung!H299),\" \",Datenerfassung!H299 ),\" [IS]\"), CONCATENATE(IF(ISBLANK(Datenerfassung!I299),\" \",Datenerfassung!I299 ),\" [IS]\"), CONCATENATE(IF(ISBLANK(Datenerfassung!J299),\" \",Datenerfassung!J299 ),\" [IS]\"), CONCATENATE(IF(ISBLANK(Datenerfassung!K299),\" \",Datenerfassung!K299 ),\" [IS]\"), CONCATENATE(IF(ISBLANK(Datenerfassung!L299),\" \",Datenerfassung!L299 ),\" [IS]\"), CONCATENATE(IF(ISBLANK(Datenerfassung!M299),\" \",Datenerfassung!M299 ),\" [IS]\"), IF(ISBLANK(Datenerfassung!N299),\" \",Datenerfassung!N299 ) ))","v":""},{"$f":"IF(ISBLANK(Datenerfassung!V299),\"\",Datenerfassung!V299)","v":""},{"$f":"IF(ISBLANK(Datenerfassung!Q299),\"\",Datenerfassung!Q299)","v":""}]
[{"$f":"IF(ISBLANK(Datenerfassung!A300),\"\",Datenerfassung!A300)","v":""},{"$f":"IF(ISBLANK(Datenerfassung!B300),\"\",Datenerfassung!B300)","v":""},{"$f":"IF(ISBLANK(Datenerfassung!C300),\"\",Datenerfassung!C300)","v":""},{"$f":"IF(ISBLANK(Datenerfassung!R300),\"\",Datenerfassung!R300)","v":""},{"$f":"IF(ISBLANK(Datenerfassung!S300),\"\",Datenerfassung!S300)","v":""},"",{"$f":"IF(ISBLANK(Datenerfassung!U300),\"\",Datenerfassung!U300)","v":""},{"$f":"IF(ISBLANK(Datenerfassung!O300),\"\",Datenerfassung!O300)","v":""},{"$f":"IF(ISBLANK(Datenerfassung!D300),IF(COUNTBLANK(A290:H290)+COUNTBLANK(J290:O290)=14,\"\",\"- ohne Titel -\"),Datenerfassung!D300)","v":""},{"$f":"IF(ISBLANK(Datenerfassung!G300),\"\",Datenerfassung!G300)","v":""},"",{"$f":"IF(ISBLANK(Datenerfassung!X300),\"\",Datenerfassung!X300)","v":""},{"$f":"IF(COUNTBLANK(Datenerfassung!H300:'Datenerfassung'!N300)=7,\"\",CONCATENATE( CONCATENATE(IF(ISBLANK(Datenerfassung!H300),\" \",Datenerfassung!H300 ),\" [IS]\"), CONCATENATE(IF(ISBLANK(Datenerfassung!I300),\" \",Datenerfassung!I300 ),\" [IS]\"), CONCATENATE(IF(ISBLANK(Datenerfassung!J300),\" \",Datenerfassung!J300 ),\" [IS]\"), CONCATENATE(IF(ISBLANK(Datenerfassung!K300),\" \",Datenerfassung!K300 ),\" [IS]\"), CONCATENATE(IF(ISBLANK(Datenerfassung!L300),\" \",Datenerfassung!L300 ),\" [IS]\"), CONCATENATE(IF(ISBLANK(Datenerfassung!M300),\" \",Datenerfassung!M300 ),\" [IS]\"), IF(ISBLANK(Datenerfassung!N300),\" \",Datenerfassung!N300 ) ))","v":""},{"$f":"IF(ISBLANK(Datenerfassung!V300),\"\",Datenerfassung!V300)","v":""},{"$f":"IF(ISBLANK(Datenerfassung!Q300),\"\",Datenerfassung!Q300)","v":""}]
[{"$f":"IF(ISBLANK(Datenerfassung!A301),\"\",Datenerfassung!A301)","v":""},{"$f":"IF(ISBLANK(Datenerfassung!B301),\"\",Datenerfassung!B301)","v":""},{"$f":"IF(ISBLANK(Datenerfassung!C301),\"\",Datenerfassung!C301)","v":""},{"$f":"IF(ISBLANK(Datenerfassung!R301),\"\",Datenerfassung!R301)","v":""},{"$f":"IF(ISBLANK(Datenerfassung!S301),\"\",Datenerfassung!S301)","v":""},"",{"$f":"IF(ISBLANK(Datenerfassung!U301),\"\",Datenerfassung!U301)","v":""},{"$f":"IF(ISBLANK(Datenerfassung!O301),\"\",Datenerfassung!O301)","v":""},{"$f":"IF(ISBLANK(Datenerfassung!D301),IF(COUNTBLANK(A291:H291)+COUNTBLANK(J291:O291)=14,\"\",\"- ohne Titel -\"),Datenerfassung!D301)","v":""},{"$f":"IF(ISBLANK(Datenerfassung!G301),\"\",Datenerfassung!G301)","v":""},"",{"$f":"IF(ISBLANK(Datenerfassung!X301),\"\",Datenerfassung!X301)","v":""},{"$f":"IF(COUNTBLANK(Datenerfassung!H301:'Datenerfassung'!N301)=7,\"\",CONCATENATE( CONCATENATE(IF(ISBLANK(Datenerfassung!H301),\" \",Datenerfassung!H301 ),\" [IS]\"), CONCATENATE(IF(ISBLANK(Datenerfassung!I301),\" \",Datenerfassung!I301 ),\" [IS]\"), CONCATENATE(IF(ISBLANK(Datenerfassung!J301),\" \",Datenerfassung!J301 ),\" [IS]\"), CONCATENATE(IF(ISBLANK(Datenerfassung!K301),\" \",Datenerfassung!K301 ),\" [IS]\"), CONCATENATE(IF(ISBLANK(Datenerfassung!L301),\" \",Datenerfassung!L301 ),\" [IS]\"), CONCATENATE(IF(ISBLANK(Datenerfassung!M301),\" \",Datenerfassung!M301 ),\" [IS]\"), IF(ISBLANK(Datenerfassung!N301),\" \",Datenerfassung!N301 ) ))","v":""},{"$f":"IF(ISBLANK(Datenerfassung!V301),\"\",Datenerfassung!V301)","v":""},{"$f":"IF(ISBLANK(Datenerfassung!Q301),\"\",Datenerfassung!Q301)","v":""}]
[{"$f":"IF(ISBLANK(Datenerfassung!A302),\"\",Datenerfassung!A302)","v":""},{"$f":"IF(ISBLANK(Datenerfassung!B302),\"\",Datenerfassung!B302)","v":""},{"$f":"IF(ISBLANK(Datenerfassung!C302),\"\",Datenerfassung!C302)","v":""},{"$f":"IF(ISBLANK(Datenerfassung!R302),\"\",Datenerfassung!R302)","v":""},{"$f":"IF(ISBLANK(Datenerfassung!S302),\"\",Datenerfassung!S302)","v":""},"",{"$f":"IF(ISBLANK(Datenerfassung!U302),\"\",Datenerfassung!U302)","v":""},{"$f":"IF(ISBLANK(Datenerfassung!O302),\"\",Datenerfassung!O302)","v":""},{"$f":"IF(ISBLANK(Datenerfassung!D302),IF(COUNTBLANK(A292:H292)+COUNTBLANK(J292:O292)=14,\"\",\"- ohne Titel -\"),Datenerfassung!D302)","v":""},{"$f":"IF(ISBLANK(Datenerfassung!G302),\"\",Datenerfassung!G302)","v":""},"",{"$f":"IF(ISBLANK(Datenerfassung!X302),\"\",Datenerfassung!X302)","v":""},{"$f":"IF(COUNTBLANK(Datenerfassung!H302:'Datenerfassung'!N302)=7,\"\",CONCATENATE( CONCATENATE(IF(ISBLANK(Datenerfassung!H302),\" \",Datenerfassung!H302 ),\" [IS]\"), CONCATENATE(IF(ISBLANK(Datenerfassung!I302),\" \",Datenerfassung!I302 ),\" [IS]\"), CONCATENATE(IF(ISBLANK(Datenerfassung!J302),\" \",Datenerfassung!J302 ),\" [IS]\"), CONCATENATE(IF(ISBLANK(Datenerfassung!K302),\" \",Datenerfassung!K302 ),\" [IS]\"), CONCATENATE(IF(ISBLANK(Datenerfassung!L302),\" \",Datenerfassung!L302 ),\" [IS]\"), CONCATENATE(IF(ISBLANK(Datenerfassung!M302),\" \",Datenerfassung!M302 ),\" [IS]\"), IF(ISBLANK(Datenerfassung!N302),\" \",Datenerfassung!N302 ) ))","v":""},{"$f":"IF(ISBLANK(Datenerfassung!V302),\"\",Datenerfassung!V302)","v":""},{"$f":"IF(ISBLANK(Datenerfassung!Q302),\"\",Datenerfassung!Q302)","v":""}]
[{"$f":"IF(ISBLANK(Datenerfassung!A303),\"\",Datenerfassung!A303)","v":""},{"$f":"IF(ISBLANK(Datenerfassung!B303),\"\",Datenerfassung!B303)","v":""},{"$f":"IF(ISBLANK(Datenerfassung!C303),\"\",Datenerfassung!C303)","v":""},{"$f":"IF(ISBLANK(Datenerfassung!R303),\"\",Datenerfassung!R303)","v":""},{"$f":"IF(ISBLANK(Datenerfassung!S303),\"\",Datenerfassung!S303)","v":""},"",{"$f":"IF(ISBLANK(Datenerfassung!U303),\"\",Datenerfassung!U303)","v":""},{"$f":"IF(ISBLANK(Datenerfassung!O303),\"\",Datenerfassung!O303)","v":""},{"$f":"IF(ISBLANK(Datenerfassung!D303),IF(COUNTBLANK(A293:H293)+COUNTBLANK(J293:O293)=14,\"\",\"- ohne Titel -\"),Datenerfassung!D303)","v":""},{"$f":"IF(ISBLANK(Datenerfassung!G303),\"\",Datenerfassung!G303)","v":""},"",{"$f":"IF(ISBLANK(Datenerfassung!X303),\"\",Datenerfassung!X303)","v":""},{"$f":"IF(COUNTBLANK(Datenerfassung!H303:'Datenerfassung'!N303)=7,\"\",CONCATENATE( CONCATENATE(IF(ISBLANK(Datenerfassung!H303),\" \",Datenerfassung!H303 ),\" [IS]\"), CONCATENATE(IF(ISBLANK(Datenerfassung!I303),\" \",Datenerfassung!I303 ),\" [IS]\"), CONCATENATE(IF(ISBLANK(Datenerfassung!J303),\" \",Datenerfassung!J303 ),\" [IS]\"), CONCATENATE(IF(ISBLANK(Datenerfassung!K303),\" \",Datenerfassung!K303 ),\" [IS]\"), CONCATENATE(IF(ISBLANK(Datenerfassung!L303),\" \",Datenerfassung!L303 ),\" [IS]\"), CONCATENATE(IF(ISBLANK(Datenerfassung!M303),\" \",Datenerfassung!M303 ),\" [IS]\"), IF(ISBLANK(Datenerfassung!N303),\" \",Datenerfassung!N303 ) ))","v":""},{"$f":"IF(ISBLANK(Datenerfassung!V303),\"\",Datenerfassung!V303)","v":""},{"$f":"IF(ISBLANK(Datenerfassung!Q303),\"\",Datenerfassung!Q303)","v":""}]
[{"$f":"IF(ISBLANK(Datenerfassung!A304),\"\",Datenerfassung!A304)","v":""},{"$f":"IF(ISBLANK(Datenerfassung!B304),\"\",Datenerfassung!B304)","v":""},{"$f":"IF(ISBLANK(Datenerfassung!C304),\"\",Datenerfassung!C304)","v":""},{"$f":"IF(ISBLANK(Datenerfassung!R304),\"\",Datenerfassung!R304)","v":""},{"$f":"IF(ISBLANK(Datenerfassung!S304),\"\",Datenerfassung!S304)","v":""},"",{"$f":"IF(ISBLANK(Datenerfassung!U304),\"\",Datenerfassung!U304)","v":""},{"$f":"IF(ISBLANK(Datenerfassung!O304),\"\",Datenerfassung!O304)","v":""},{"$f":"IF(ISBLANK(Datenerfassung!D304),IF(COUNTBLANK(A294:H294)+COUNTBLANK(J294:O294)=14,\"\",\"- ohne Titel -\"),Datenerfassung!D304)","v":""},{"$f":"IF(ISBLANK(Datenerfassung!G304),\"\",Datenerfassung!G304)","v":""},"",{"$f":"IF(ISBLANK(Datenerfassung!X304),\"\",Datenerfassung!X304)","v":""},{"$f":"IF(COUNTBLANK(Datenerfassung!H304:'Datenerfassung'!N304)=7,\"\",CONCATENATE( CONCATENATE(IF(ISBLANK(Datenerfassung!H304),\" \",Datenerfassung!H304 ),\" [IS]\"), CONCATENATE(IF(ISBLANK(Datenerfassung!I304),\" \",Datenerfassung!I304 ),\" [IS]\"), CONCATENATE(IF(ISBLANK(Datenerfassung!J304),\" \",Datenerfassung!J304 ),\" [IS]\"), CONCATENATE(IF(ISBLANK(Datenerfassung!K304),\" \",Datenerfassung!K304 ),\" [IS]\"), CONCATENATE(IF(ISBLANK(Datenerfassung!L304),\" \",Datenerfassung!L304 ),\" [IS]\"), CONCATENATE(IF(ISBLANK(Datenerfassung!M304),\" \",Datenerfassung!M304 ),\" [IS]\"), IF(ISBLANK(Datenerfassung!N304),\" \",Datenerfassung!N304 ) ))","v":""},{"$f":"IF(ISBLANK(Datenerfassung!V304),\"\",Datenerfassung!V304)","v":""},{"$f":"IF(ISBLANK(Datenerfassung!Q304),\"\",Datenerfassung!Q304)","v":""}]
[{"$f":"IF(ISBLANK(Datenerfassung!A305),\"\",Datenerfassung!A305)","v":""},{"$f":"IF(ISBLANK(Datenerfassung!B305),\"\",Datenerfassung!B305)","v":""},{"$f":"IF(ISBLANK(Datenerfassung!C305),\"\",Datenerfassung!C305)","v":""},{"$f":"IF(ISBLANK(Datenerfassung!R305),\"\",Datenerfassung!R305)","v":""},{"$f":"IF(ISBLANK(Datenerfassung!S305),\"\",Datenerfassung!S305)","v":""},"",{"$f":"IF(ISBLANK(Datenerfassung!U305),\"\",Datenerfassung!U305)","v":""},{"$f":"IF(ISBLANK(Datenerfassung!O305),\"\",Datenerfassung!O305)","v":""},{"$f":"IF(ISBLANK(Datenerfassung!D305),IF(COUNTBLANK(A295:H295)+COUNTBLANK(J295:O295)=14,\"\",\"- ohne Titel -\"),Datenerfassung!D305)","v":""},{"$f":"IF(ISBLANK(Datenerfassung!G305),\"\",Datenerfassung!G305)","v":""},"",{"$f":"IF(ISBLANK(Datenerfassung!X305),\"\",Datenerfassung!X305)","v":""},{"$f":"IF(COUNTBLANK(Datenerfassung!H305:'Datenerfassung'!N305)=7,\"\",CONCATENATE( CONCATENATE(IF(ISBLANK(Datenerfassung!H305),\" \",Datenerfassung!H305 ),\" [IS]\"), CONCATENATE(IF(ISBLANK(Datenerfassung!I305),\" \",Datenerfassung!I305 ),\" [IS]\"), CONCATENATE(IF(ISBLANK(Datenerfassung!J305),\" \",Datenerfassung!J305 ),\" [IS]\"), CONCATENATE(IF(ISBLANK(Datenerfassung!K305),\" \",Datenerfassung!K305 ),\" [IS]\"), CONCATENATE(IF(ISBLANK(Datenerfassung!L305),\" \",Datenerfassung!L305 ),\" [IS]\"), CONCATENATE(IF(ISBLANK(Datenerfassung!M305),\" \",Datenerfassung!M305 ),\" [IS]\"), IF(ISBLANK(Datenerfassung!N305),\" \",Datenerfassung!N305 ) ))","v":""},{"$f":"IF(ISBLANK(Datenerfassung!V305),\"\",Datenerfassung!V305)","v":""},{"$f":"IF(ISBLANK(Datenerfassung!Q305),\"\",Datenerfassung!Q305)","v":""}]
[{"$f":"IF(ISBLANK(Datenerfassung!A306),\"\",Datenerfassung!A306)","v":""},{"$f":"IF(ISBLANK(Datenerfassung!B306),\"\",Datenerfassung!B306)","v":""},{"$f":"IF(ISBLANK(Datenerfassung!C306),\"\",Datenerfassung!C306)","v":""},{"$f":"IF(ISBLANK(Datenerfassung!R306),\"\",Datenerfassung!R306)","v":""},{"$f":"IF(ISBLANK(Datenerfassung!S306),\"\",Datenerfassung!S306)","v":""},"",{"$f":"IF(ISBLANK(Datenerfassung!U306),\"\",Datenerfassung!U306)","v":""},{"$f":"IF(ISBLANK(Datenerfassung!O306),\"\",Datenerfassung!O306)","v":""},{"$f":"IF(ISBLANK(Datenerfassung!D306),IF(COUNTBLANK(A296:H296)+COUNTBLANK(J296:O296)=14,\"\",\"- ohne Titel -\"),Datenerfassung!D306)","v":""},{"$f":"IF(ISBLANK(Datenerfassung!G306),\"\",Datenerfassung!G306)","v":""},"",{"$f":"IF(ISBLANK(Datenerfassung!X306),\"\",Datenerfassung!X306)","v":""},{"$f":"IF(COUNTBLANK(Datenerfassung!H306:'Datenerfassung'!N306)=7,\"\",CONCATENATE( CONCATENATE(IF(ISBLANK(Datenerfassung!H306),\" \",Datenerfassung!H306 ),\" [IS]\"), CONCATENATE(IF(ISBLANK(Datenerfassung!I306),\" \",Datenerfassung!I306 ),\" [IS]\"), CONCATENATE(IF(ISBLANK(Datenerfassung!J306),\" \",Datenerfassung!J306 ),\" [IS]\"), CONCATENATE(IF(ISBLANK(Datenerfassung!K306),\" \",Datenerfassung!K306 ),\" [IS]\"), CONCATENATE(IF(ISBLANK(Datenerfassung!L306),\" \",Datenerfassung!L306 ),\" [IS]\"), CONCATENATE(IF(ISBLANK(Datenerfassung!M306),\" \",Datenerfassung!M306 ),\" [IS]\"), IF(ISBLANK(Datenerfassung!N306),\" \",Datenerfassung!N306 ) ))","v":""},{"$f":"IF(ISBLANK(Datenerfassung!V306),\"\",Datenerfassung!V306)","v":""},{"$f":"IF(ISBLANK(Datenerfassung!Q306),\"\",Datenerfassung!Q306)","v":""}]
[{"$f":"IF(ISBLANK(Datenerfassung!A307),\"\",Datenerfassung!A307)","v":""},{"$f":"IF(ISBLANK(Datenerfassung!B307),\"\",Datenerfassung!B307)","v":""},{"$f":"IF(ISBLANK(Datenerfassung!C307),\"\",Datenerfassung!C307)","v":""},{"$f":"IF(ISBLANK(Datenerfassung!R307),\"\",Datenerfassung!R307)","v":""},{"$f":"IF(ISBLANK(Datenerfassung!S307),\"\",Datenerfassung!S307)","v":""},"",{"$f":"IF(ISBLANK(Datenerfassung!U307),\"\",Datenerfassung!U307)","v":""},{"$f":"IF(ISBLANK(Datenerfassung!O307),\"\",Datenerfassung!O307)","v":""},{"$f":"IF(ISBLANK(Datenerfassung!D307),IF(COUNTBLANK(A297:H297)+COUNTBLANK(J297:O297)=14,\"\",\"- ohne Titel -\"),Datenerfassung!D307)","v":""},{"$f":"IF(ISBLANK(Datenerfassung!G307),\"\",Datenerfassung!G307)","v":""},"",{"$f":"IF(ISBLANK(Datenerfassung!X307),\"\",Datenerfassung!X307)","v":""},{"$f":"IF(COUNTBLANK(Datenerfassung!H307:'Datenerfassung'!N307)=7,\"\",CONCATENATE( CONCATENATE(IF(ISBLANK(Datenerfassung!H307),\" \",Datenerfassung!H307 ),\" [IS]\"), CONCATENATE(IF(ISBLANK(Datenerfassung!I307),\" \",Datenerfassung!I307 ),\" [IS]\"), CONCATENATE(IF(ISBLANK(Datenerfassung!J307),\" \",Datenerfassung!J307 ),\" [IS]\"), CONCATENATE(IF(ISBLANK(Datenerfassung!K307),\" \",Datenerfassung!K307 ),\" [IS]\"), CONCATENATE(IF(ISBLANK(Datenerfassung!L307),\" \",Datenerfassung!L307 ),\" [IS]\"), CONCATENATE(IF(ISBLANK(Datenerfassung!M307),\" \",Datenerfassung!M307 ),\" [IS]\"), IF(ISBLANK(Datenerfassung!N307),\" \",Datenerfassung!N307 ) ))","v":""},{"$f":"IF(ISBLANK(Datenerfassung!V307),\"\",Datenerfassung!V307)","v":""},{"$f":"IF(ISBLANK(Datenerfassung!Q307),\"\",Datenerfassung!Q307)","v":""}]
[{"$f":"IF(ISBLANK(Datenerfassung!A308),\"\",Datenerfassung!A308)","v":""},{"$f":"IF(ISBLANK(Datenerfassung!B308),\"\",Datenerfassung!B308)","v":""},{"$f":"IF(ISBLANK(Datenerfassung!C308),\"\",Datenerfassung!C308)","v":""},{"$f":"IF(ISBLANK(Datenerfassung!R308),\"\",Datenerfassung!R308)","v":""},{"$f":"IF(ISBLANK(Datenerfassung!S308),\"\",Datenerfassung!S308)","v":""},"",{"$f":"IF(ISBLANK(Datenerfassung!U308),\"\",Datenerfassung!U308)","v":""},{"$f":"IF(ISBLANK(Datenerfassung!O308),\"\",Datenerfassung!O308)","v":""},{"$f":"IF(ISBLANK(Datenerfassung!D308),IF(COUNTBLANK(A298:H298)+COUNTBLANK(J298:O298)=14,\"\",\"- ohne Titel -\"),Datenerfassung!D308)","v":""},{"$f":"IF(ISBLANK(Datenerfassung!G308),\"\",Datenerfassung!G308)","v":""},"",{"$f":"IF(ISBLANK(Datenerfassung!X308),\"\",Datenerfassung!X308)","v":""},{"$f":"IF(COUNTBLANK(Datenerfassung!H308:'Datenerfassung'!N308)=7,\"\",CONCATENATE( CONCATENATE(IF(ISBLANK(Datenerfassung!H308),\" \",Datenerfassung!H308 ),\" [IS]\"), CONCATENATE(IF(ISBLANK(Datenerfassung!I308),\" \",Datenerfassung!I308 ),\" [IS]\"), CONCATENATE(IF(ISBLANK(Datenerfassung!J308),\" \",Datenerfassung!J308 ),\" [IS]\"), CONCATENATE(IF(ISBLANK(Datenerfassung!K308),\" \",Datenerfassung!K308 ),\" [IS]\"), CONCATENATE(IF(ISBLANK(Datenerfassung!L308),\" \",Datenerfassung!L308 ),\" [IS]\"), CONCATENATE(IF(ISBLANK(Datenerfassung!M308),\" \",Datenerfassung!M308 ),\" [IS]\"), IF(ISBLANK(Datenerfassung!N308),\" \",Datenerfassung!N308 ) ))","v":""},{"$f":"IF(ISBLANK(Datenerfassung!V308),\"\",Datenerfassung!V308)","v":""},{"$f":"IF(ISBLANK(Datenerfassung!Q308),\"\",Datenerfassung!Q308)","v":""}]
[{"$f":"IF(ISBLANK(Datenerfassung!A309),\"\",Datenerfassung!A309)","v":""},{"$f":"IF(ISBLANK(Datenerfassung!B309),\"\",Datenerfassung!B309)","v":""},{"$f":"IF(ISBLANK(Datenerfassung!C309),\"\",Datenerfassung!C309)","v":""},{"$f":"IF(ISBLANK(Datenerfassung!R309),\"\",Datenerfassung!R309)","v":""},{"$f":"IF(ISBLANK(Datenerfassung!S309),\"\",Datenerfassung!S309)","v":""},"",{"$f":"IF(ISBLANK(Datenerfassung!U309),\"\",Datenerfassung!U309)","v":""},{"$f":"IF(ISBLANK(Datenerfassung!O309),\"\",Datenerfassung!O309)","v":""},{"$f":"IF(ISBLANK(Datenerfassung!D309),IF(COUNTBLANK(A299:H299)+COUNTBLANK(J299:O299)=14,\"\",\"- ohne Titel -\"),Datenerfassung!D309)","v":""},{"$f":"IF(ISBLANK(Datenerfassung!G309),\"\",Datenerfassung!G309)","v":""},"",{"$f":"IF(ISBLANK(Datenerfassung!X309),\"\",Datenerfassung!X309)","v":""},{"$f":"IF(COUNTBLANK(Datenerfassung!H309:'Datenerfassung'!N309)=7,\"\",CONCATENATE( CONCATENATE(IF(ISBLANK(Datenerfassung!H309),\" \",Datenerfassung!H309 ),\" [IS]\"), CONCATENATE(IF(ISBLANK(Datenerfassung!I309),\" \",Datenerfassung!I309 ),\" [IS]\"), CONCATENATE(IF(ISBLANK(Datenerfassung!J309),\" \",Datenerfassung!J309 ),\" [IS]\"), CONCATENATE(IF(ISBLANK(Datenerfassung!K309),\" \",Datenerfassung!K309 ),\" [IS]\"), CONCATENATE(IF(ISBLANK(Datenerfassung!L309),\" \",Datenerfassung!L309 ),\" [IS]\"), CONCATENATE(IF(ISBLANK(Datenerfassung!M309),\" \",Datenerfassung!M309 ),\" [IS]\"), IF(ISBLANK(Datenerfassung!N309),\" \",Datenerfassung!N309 ) ))","v":""},{"$f":"IF(ISBLANK(Datenerfassung!V309),\"\",Datenerfassung!V309)","v":""},{"$f":"IF(ISBLANK(Datenerfassung!Q309),\"\",Datenerfassung!Q309)","v":""}]
[{"$f":"IF(ISBLANK(Datenerfassung!A310),\"\",Datenerfassung!A310)","v":""},{"$f":"IF(ISBLANK(Datenerfassung!B310),\"\",Datenerfassung!B310)","v":""},{"$f":"IF(ISBLANK(Datenerfassung!C310),\"\",Datenerfassung!C310)","v":""},{"$f":"IF(ISBLANK(Datenerfassung!R310),\"\",Datenerfassung!R310)","v":""},{"$f":"IF(ISBLANK(Datenerfassung!S310),\"\",Datenerfassung!S310)","v":""},"",{"$f":"IF(ISBLANK(Datenerfassung!U310),\"\",Datenerfassung!U310)","v":""},{"$f":"IF(ISBLANK(Datenerfassung!O310),\"\",Datenerfassung!O310)","v":""},{"$f":"IF(ISBLANK(Datenerfassung!D310),IF(COUNTBLANK(A300:H300)+COUNTBLANK(J300:O300)=14,\"\",\"- ohne Titel -\"),Datenerfassung!D310)","v":""},{"$f":"IF(ISBLANK(Datenerfassung!G310),\"\",Datenerfassung!G310)","v":""},"",{"$f":"IF(ISBLANK(Datenerfassung!X310),\"\",Datenerfassung!X310)","v":""},{"$f":"IF(COUNTBLANK(Datenerfassung!H310:'Datenerfassung'!N310)=7,\"\",CONCATENATE( CONCATENATE(IF(ISBLANK(Datenerfassung!H310),\" \",Datenerfassung!H310 ),\" [IS]\"), CONCATENATE(IF(ISBLANK(Datenerfassung!I310),\" \",Datenerfassung!I310 ),\" [IS]\"), CONCATENATE(IF(ISBLANK(Datenerfassung!J310),\" \",Datenerfassung!J310 ),\" [IS]\"), CONCATENATE(IF(ISBLANK(Datenerfassung!K310),\" \",Datenerfassung!K310 ),\" [IS]\"), CONCATENATE(IF(ISBLANK(Datenerfassung!L310),\" \",Datenerfassung!L310 ),\" [IS]\"), CONCATENATE(IF(ISBLANK(Datenerfassung!M310),\" \",Datenerfassung!M310 ),\" [IS]\"), IF(ISBLANK(Datenerfassung!N310),\" \",Datenerfassung!N310 ) ))","v":""},{"$f":"IF(ISBLANK(Datenerfassung!V310),\"\",Datenerfassung!V310)","v":""},{"$f":"IF(ISBLANK(Datenerfassung!Q310),\"\",Datenerfassung!Q310)","v":""}]
[{"$f":"IF(ISBLANK(Datenerfassung!A311),\"\",Datenerfassung!A311)","v":""},{"$f":"IF(ISBLANK(Datenerfassung!B311),\"\",Datenerfassung!B311)","v":""},{"$f":"IF(ISBLANK(Datenerfassung!C311),\"\",Datenerfassung!C311)","v":""},{"$f":"IF(ISBLANK(Datenerfassung!R311),\"\",Datenerfassung!R311)","v":""},{"$f":"IF(ISBLANK(Datenerfassung!S311),\"\",Datenerfassung!S311)","v":""},"",{"$f":"IF(ISBLANK(Datenerfassung!U311),\"\",Datenerfassung!U311)","v":""},{"$f":"IF(ISBLANK(Datenerfassung!O311),\"\",Datenerfassung!O311)","v":""},{"$f":"IF(ISBLANK(Datenerfassung!D311),IF(COUNTBLANK(A301:H301)+COUNTBLANK(J301:O301)=14,\"\",\"- ohne Titel -\"),Datenerfassung!D311)","v":""},{"$f":"IF(ISBLANK(Datenerfassung!G311),\"\",Datenerfassung!G311)","v":""},"",{"$f":"IF(ISBLANK(Datenerfassung!X311),\"\",Datenerfassung!X311)","v":""},{"$f":"IF(COUNTBLANK(Datenerfassung!H311:'Datenerfassung'!N311)=7,\"\",CONCATENATE( CONCATENATE(IF(ISBLANK(Datenerfassung!H311),\" \",Datenerfassung!H311 ),\" [IS]\"), CONCATENATE(IF(ISBLANK(Datenerfassung!I311),\" \",Datenerfassung!I311 ),\" [IS]\"), CONCATENATE(IF(ISBLANK(Datenerfassung!J311),\" \",Datenerfassung!J311 ),\" [IS]\"), CONCATENATE(IF(ISBLANK(Datenerfassung!K311),\" \",Datenerfassung!K311 ),\" [IS]\"), CONCATENATE(IF(ISBLANK(Datenerfassung!L311),\" \",Datenerfassung!L311 ),\" [IS]\"), CONCATENATE(IF(ISBLANK(Datenerfassung!M311),\" \",Datenerfassung!M311 ),\" [IS]\"), IF(ISBLANK(Datenerfassung!N311),\" \",Datenerfassung!N311 ) ))","v":""},{"$f":"IF(ISBLANK(Datenerfassung!V311),\"\",Datenerfassung!V311)","v":""},{"$f":"IF(ISBLANK(Datenerfassung!Q311),\"\",Datenerfassung!Q311)","v":""}]
[{"$f":"IF(ISBLANK(Datenerfassung!A312),\"\",Datenerfassung!A312)","v":""},{"$f":"IF(ISBLANK(Datenerfassung!B312),\"\",Datenerfassung!B312)","v":""},{"$f":"IF(ISBLANK(Datenerfassung!C312),\"\",Datenerfassung!C312)","v":""},{"$f":"IF(ISBLANK(Datenerfassung!R312),\"\",Datenerfassung!R312)","v":""},{"$f":"IF(ISBLANK(Datenerfassung!S312),\"\",Datenerfassung!S312)","v":""},"",{"$f":"IF(ISBLANK(Datenerfassung!U312),\"\",Datenerfassung!U312)","v":""},{"$f":"IF(ISBLANK(Datenerfassung!O312),\"\",Datenerfassung!O312)","v":""},{"$f":"IF(ISBLANK(Datenerfassung!D312),IF(COUNTBLANK(A302:H302)+COUNTBLANK(J302:O302)=14,\"\",\"- ohne Titel -\"),Datenerfassung!D312)","v":""},{"$f":"IF(ISBLANK(Datenerfassung!G312),\"\",Datenerfassung!G312)","v":""},"",{"$f":"IF(ISBLANK(Datenerfassung!X312),\"\",Datenerfassung!X312)","v":""},{"$f":"IF(COUNTBLANK(Datenerfassung!H312:'Datenerfassung'!N312)=7,\"\",CONCATENATE( CONCATENATE(IF(ISBLANK(Datenerfassung!H312),\" \",Datenerfassung!H312 ),\" [IS]\"), CONCATENATE(IF(ISBLANK(Datenerfassung!I312),\" \",Datenerfassung!I312 ),\" [IS]\"), CONCATENATE(IF(ISBLANK(Datenerfassung!J312),\" \",Datenerfassung!J312 ),\" [IS]\"), CONCATENATE(IF(ISBLANK(Datenerfassung!K312),\" \",Datenerfassung!K312 ),\" [IS]\"), CONCATENATE(IF(ISBLANK(Datenerfassung!L312),\" \",Datenerfassung!L312 ),\" [IS]\"), CONCATENATE(IF(ISBLANK(Datenerfassung!M312),\" \",Datenerfassung!M312 ),\" [IS]\"), IF(ISBLANK(Datenerfassung!N312),\" \",Datenerfassung!N312 ) ))","v":""},{"$f":"IF(ISBLANK(Datenerfassung!V312),\"\",Datenerfassung!V312)","v":""},{"$f":"IF(ISBLANK(Datenerfassung!Q312),\"\",Datenerfassung!Q312)","v":""}]
[{"$f":"IF(ISBLANK(Datenerfassung!A313),\"\",Datenerfassung!A313)","v":""},{"$f":"IF(ISBLANK(Datenerfassung!B313),\"\",Datenerfassung!B313)","v":""},{"$f":"IF(ISBLANK(Datenerfassung!C313),\"\",Datenerfassung!C313)","v":""},{"$f":"IF(ISBLANK(Datenerfassung!R313),\"\",Datenerfassung!R313)","v":""},{"$f":"IF(ISBLANK(Datenerfassung!S313),\"\",Datenerfassung!S313)","v":""},"",{"$f":"IF(ISBLANK(Datenerfassung!U313),\"\",Datenerfassung!U313)","v":""},{"$f":"IF(ISBLANK(Datenerfassung!O313),\"\",Datenerfassung!O313)","v":""},{"$f":"IF(ISBLANK(Datenerfassung!D313),IF(COUNTBLANK(A303:H303)+COUNTBLANK(J303:O303)=14,\"\",\"- ohne Titel -\"),Datenerfassung!D313)","v":""},{"$f":"IF(ISBLANK(Datenerfassung!G313),\"\",Datenerfassung!G313)","v":""},"",{"$f":"IF(ISBLANK(Datenerfassung!X313),\"\",Datenerfassung!X313)","v":""},{"$f":"IF(COUNTBLANK(Datenerfassung!H313:'Datenerfassung'!N313)=7,\"\",CONCATENATE( CONCATENATE(IF(ISBLANK(Datenerfassung!H313),\" \",Datenerfassung!H313 ),\" [IS]\"), CONCATENATE(IF(ISBLANK(Datenerfassung!I313),\" \",Datenerfassung!I313 ),\" [IS]\"), CONCATENATE(IF(ISBLANK(Datenerfassung!J313),\" \",Datenerfassung!J313 ),\" [IS]\"), CONCATENATE(IF(ISBLANK(Datenerfassung!K313),\" \",Datenerfassung!K313 ),\" [IS]\"), CONCATENATE(IF(ISBLANK(Datenerfassung!L313),\" \",Datenerfassung!L313 ),\" [IS]\"), CONCATENATE(IF(ISBLANK(Datenerfassung!M313),\" \",Datenerfassung!M313 ),\" [IS]\"), IF(ISBLANK(Datenerfassung!N313),\" \",Datenerfassung!N313 ) ))","v":""},{"$f":"IF(ISBLANK(Datenerfassung!V313),\"\",Datenerfassung!V313)","v":""},{"$f":"IF(ISBLANK(Datenerfassung!Q313),\"\",Datenerfassung!Q313)","v":""}]
[{"$f":"IF(ISBLANK(Datenerfassung!A314),\"\",Datenerfassung!A314)","v":""},{"$f":"IF(ISBLANK(Datenerfassung!B314),\"\",Datenerfassung!B314)","v":""},{"$f":"IF(ISBLANK(Datenerfassung!C314),\"\",Datenerfassung!C314)","v":""},{"$f":"IF(ISBLANK(Datenerfassung!R314),\"\",Datenerfassung!R314)","v":""},{"$f":"IF(ISBLANK(Datenerfassung!S314),\"\",Datenerfassung!S314)","v":""},"",{"$f":"IF(ISBLANK(Datenerfassung!U314),\"\",Datenerfassung!U314)","v":""},{"$f":"IF(ISBLANK(Datenerfassung!O314),\"\",Datenerfassung!O314)","v":""},{"$f":"IF(ISBLANK(Datenerfassung!D314),IF(COUNTBLANK(A304:H304)+COUNTBLANK(J304:O304)=14,\"\",\"- ohne Titel -\"),Datenerfassung!D314)","v":""},{"$f":"IF(ISBLANK(Datenerfassung!G314),\"\",Datenerfassung!G314)","v":""},"",{"$f":"IF(ISBLANK(Datenerfassung!X314),\"\",Datenerfassung!X314)","v":""},{"$f":"IF(COUNTBLANK(Datenerfassung!H314:'Datenerfassung'!N314)=7,\"\",CONCATENATE( CONCATENATE(IF(ISBLANK(Datenerfassung!H314),\" \",Datenerfassung!H314 ),\" [IS]\"), CONCATENATE(IF(ISBLANK(Datenerfassung!I314),\" \",Datenerfassung!I314 ),\" [IS]\"), CONCATENATE(IF(ISBLANK(Datenerfassung!J314),\" \",Datenerfassung!J314 ),\" [IS]\"), CONCATENATE(IF(ISBLANK(Datenerfassung!K314),\" \",Datenerfassung!K314 ),\" [IS]\"), CONCATENATE(IF(ISBLANK(Datenerfassung!L314),\" \",Datenerfassung!L314 ),\" [IS]\"), CONCATENATE(IF(ISBLANK(Datenerfassung!M314),\" \",Datenerfassung!M314 ),\" [IS]\"), IF(ISBLANK(Datenerfassung!N314),\" \",Datenerfassung!N314 ) ))","v":""},{"$f":"IF(ISBLANK(Datenerfassung!V314),\"\",Datenerfassung!V314)","v":""},{"$f":"IF(ISBLANK(Datenerfassung!Q314),\"\",Datenerfassung!Q314)","v":""}]
[{"$f":"IF(ISBLANK(Datenerfassung!A315),\"\",Datenerfassung!A315)","v":""},{"$f":"IF(ISBLANK(Datenerfassung!B315),\"\",Datenerfassung!B315)","v":""},{"$f":"IF(ISBLANK(Datenerfassung!C315),\"\",Datenerfassung!C315)","v":""},{"$f":"IF(ISBLANK(Datenerfassung!R315),\"\",Datenerfassung!R315)","v":""},{"$f":"IF(ISBLANK(Datenerfassung!S315),\"\",Datenerfassung!S315)","v":""},"",{"$f":"IF(ISBLANK(Datenerfassung!U315),\"\",Datenerfassung!U315)","v":""},{"$f":"IF(ISBLANK(Datenerfassung!O315),\"\",Datenerfassung!O315)","v":""},{"$f":"IF(ISBLANK(Datenerfassung!D315),IF(COUNTBLANK(A305:H305)+COUNTBLANK(J305:O305)=14,\"\",\"- ohne Titel -\"),Datenerfassung!D315)","v":""},{"$f":"IF(ISBLANK(Datenerfassung!G315),\"\",Datenerfassung!G315)","v":""},"",{"$f":"IF(ISBLANK(Datenerfassung!X315),\"\",Datenerfassung!X315)","v":""},{"$f":"IF(COUNTBLANK(Datenerfassung!H315:'Datenerfassung'!N315)=7,\"\",CONCATENATE( CONCATENATE(IF(ISBLANK(Datenerfassung!H315),\" \",Datenerfassung!H315 ),\" [IS]\"), CONCATENATE(IF(ISBLANK(Datenerfassung!I315),\" \",Datenerfassung!I315 ),\" [IS]\"), CONCATENATE(IF(ISBLANK(Datenerfassung!J315),\" \",Datenerfassung!J315 ),\" [IS]\"), CONCATENATE(IF(ISBLANK(Datenerfassung!K315),\" \",Datenerfassung!K315 ),\" [IS]\"), CONCATENATE(IF(ISBLANK(Datenerfassung!L315),\" \",Datenerfassung!L315 ),\" [IS]\"), CONCATENATE(IF(ISBLANK(Datenerfassung!M315),\" \",Datenerfassung!M315 ),\" [IS]\"), IF(ISBLANK(Datenerfassung!N315),\" \",Datenerfassung!N315 ) ))","v":""},{"$f":"IF(ISBLANK(Datenerfassung!V315),\"\",Datenerfassung!V315)","v":""},{"$f":"IF(ISBLANK(Datenerfassung!Q315),\"\",Datenerfassung!Q315)","v":""}]
[{"$f":"IF(ISBLANK(Datenerfassung!A316),\"\",Datenerfassung!A316)","v":""},{"$f":"IF(ISBLANK(Datenerfassung!B316),\"\",Datenerfassung!B316)","v":""},{"$f":"IF(ISBLANK(Datenerfassung!C316),\"\",Datenerfassung!C316)","v":""},{"$f":"IF(ISBLANK(Datenerfassung!R316),\"\",Datenerfassung!R316)","v":""},{"$f":"IF(ISBLANK(Datenerfassung!S316),\"\",Datenerfassung!S316)","v":""},"",{"$f":"IF(ISBLANK(Datenerfassung!U316),\"\",Datenerfassung!U316)","v":""},{"$f":"IF(ISBLANK(Datenerfassung!O316),\"\",Datenerfassung!O316)","v":""},{"$f":"IF(ISBLANK(Datenerfassung!D316),IF(COUNTBLANK(A306:H306)+COUNTBLANK(J306:O306)=14,\"\",\"- ohne Titel -\"),Datenerfassung!D316)","v":""},{"$f":"IF(ISBLANK(Datenerfassung!G316),\"\",Datenerfassung!G316)","v":""},"",{"$f":"IF(ISBLANK(Datenerfassung!X316),\"\",Datenerfassung!X316)","v":""},{"$f":"IF(COUNTBLANK(Datenerfassung!H316:'Datenerfassung'!N316)=7,\"\",CONCATENATE( CONCATENATE(IF(ISBLANK(Datenerfassung!H316),\" \",Datenerfassung!H316 ),\" [IS]\"), CONCATENATE(IF(ISBLANK(Datenerfassung!I316),\" \",Datenerfassung!I316 ),\" [IS]\"), CONCATENATE(IF(ISBLANK(Datenerfassung!J316),\" \",Datenerfassung!J316 ),\" [IS]\"), CONCATENATE(IF(ISBLANK(Datenerfassung!K316),\" \",Datenerfassung!K316 ),\" [IS]\"), CONCATENATE(IF(ISBLANK(Datenerfassung!L316),\" \",Datenerfassung!L316 ),\" [IS]\"), CONCATENATE(IF(ISBLANK(Datenerfassung!M316),\" \",Datenerfassung!M316 ),\" [IS]\"), IF(ISBLANK(Datenerfassung!N316),\" \",Datenerfassung!N316 ) ))","v":""},{"$f":"IF(ISBLANK(Datenerfassung!V316),\"\",Datenerfassung!V316)","v":""},{"$f":"IF(ISBLANK(Datenerfassung!Q316),\"\",Datenerfassung!Q316)","v":""}]
[{"$f":"IF(ISBLANK(Datenerfassung!A317),\"\",Datenerfassung!A317)","v":""},{"$f":"IF(ISBLANK(Datenerfassung!B317),\"\",Datenerfassung!B317)","v":""},{"$f":"IF(ISBLANK(Datenerfassung!C317),\"\",Datenerfassung!C317)","v":""},{"$f":"IF(ISBLANK(Datenerfassung!R317),\"\",Datenerfassung!R317)","v":""},{"$f":"IF(ISBLANK(Datenerfassung!S317),\"\",Datenerfassung!S317)","v":""},"",{"$f":"IF(ISBLANK(Datenerfassung!U317),\"\",Datenerfassung!U317)","v":""},{"$f":"IF(ISBLANK(Datenerfassung!O317),\"\",Datenerfassung!O317)","v":""},{"$f":"IF(ISBLANK(Datenerfassung!D317),IF(COUNTBLANK(A307:H307)+COUNTBLANK(J307:O307)=14,\"\",\"- ohne Titel -\"),Datenerfassung!D317)","v":""},{"$f":"IF(ISBLANK(Datenerfassung!G317),\"\",Datenerfassung!G317)","v":""},"",{"$f":"IF(ISBLANK(Datenerfassung!X317),\"\",Datenerfassung!X317)","v":""},{"$f":"IF(COUNTBLANK(Datenerfassung!H317:'Datenerfassung'!N317)=7,\"\",CONCATENATE( CONCATENATE(IF(ISBLANK(Datenerfassung!H317),\" \",Datenerfassung!H317 ),\" [IS]\"), CONCATENATE(IF(ISBLANK(Datenerfassung!I317),\" \",Datenerfassung!I317 ),\" [IS]\"), CONCATENATE(IF(ISBLANK(Datenerfassung!J317),\" \",Datenerfassung!J317 ),\" [IS]\"), CONCATENATE(IF(ISBLANK(Datenerfassung!K317),\" \",Datenerfassung!K317 ),\" [IS]\"), CONCATENATE(IF(ISBLANK(Datenerfassung!L317),\" \",Datenerfassung!L317 ),\" [IS]\"), CONCATENATE(IF(ISBLANK(Datenerfassung!M317),\" \",Datenerfassung!M317 ),\" [IS]\"), IF(ISBLANK(Datenerfassung!N317),\" \",Datenerfassung!N317 ) ))","v":""},{"$f":"IF(ISBLANK(Datenerfassung!V317),\"\",Datenerfassung!V317)","v":""},{"$f":"IF(ISBLANK(Datenerfassung!Q317),\"\",Datenerfassung!Q317)","v":""}]
[{"$f":"IF(ISBLANK(Datenerfassung!A318),\"\",Datenerfassung!A318)","v":""},{"$f":"IF(ISBLANK(Datenerfassung!B318),\"\",Datenerfassung!B318)","v":""},{"$f":"IF(ISBLANK(Datenerfassung!C318),\"\",Datenerfassung!C318)","v":""},{"$f":"IF(ISBLANK(Datenerfassung!R318),\"\",Datenerfassung!R318)","v":""},{"$f":"IF(ISBLANK(Datenerfassung!S318),\"\",Datenerfassung!S318)","v":""},"",{"$f":"IF(ISBLANK(Datenerfassung!U318),\"\",Datenerfassung!U318)","v":""},{"$f":"IF(ISBLANK(Datenerfassung!O318),\"\",Datenerfassung!O318)","v":""},{"$f":"IF(ISBLANK(Datenerfassung!D318),IF(COUNTBLANK(A308:H308)+COUNTBLANK(J308:O308)=14,\"\",\"- ohne Titel -\"),Datenerfassung!D318)","v":""},{"$f":"IF(ISBLANK(Datenerfassung!G318),\"\",Datenerfassung!G318)","v":""},"",{"$f":"IF(ISBLANK(Datenerfassung!X318),\"\",Datenerfassung!X318)","v":""},{"$f":"IF(COUNTBLANK(Datenerfassung!H318:'Datenerfassung'!N318)=7,\"\",CONCATENATE( CONCATENATE(IF(ISBLANK(Datenerfassung!H318),\" \",Datenerfassung!H318 ),\" [IS]\"), CONCATENATE(IF(ISBLANK(Datenerfassung!I318),\" \",Datenerfassung!I318 ),\" [IS]\"), CONCATENATE(IF(ISBLANK(Datenerfassung!J318),\" \",Datenerfassung!J318 ),\" [IS]\"), CONCATENATE(IF(ISBLANK(Datenerfassung!K318),\" \",Datenerfassung!K318 ),\" [IS]\"), CONCATENATE(IF(ISBLANK(Datenerfassung!L318),\" \",Datenerfassung!L318 ),\" [IS]\"), CONCATENATE(IF(ISBLANK(Datenerfassung!M318),\" \",Datenerfassung!M318 ),\" [IS]\"), IF(ISBLANK(Datenerfassung!N318),\" \",Datenerfassung!N318 ) ))","v":""},{"$f":"IF(ISBLANK(Datenerfassung!V318),\"\",Datenerfassung!V318)","v":""},{"$f":"IF(ISBLANK(Datenerfassung!Q318),\"\",Datenerfassung!Q318)","v":""}]
[{"$f":"IF(ISBLANK(Datenerfassung!A319),\"\",Datenerfassung!A319)","v":""},{"$f":"IF(ISBLANK(Datenerfassung!B319),\"\",Datenerfassung!B319)","v":""},{"$f":"IF(ISBLANK(Datenerfassung!C319),\"\",Datenerfassung!C319)","v":""},{"$f":"IF(ISBLANK(Datenerfassung!R319),\"\",Datenerfassung!R319)","v":""},{"$f":"IF(ISBLANK(Datenerfassung!S319),\"\",Datenerfassung!S319)","v":""},"",{"$f":"IF(ISBLANK(Datenerfassung!U319),\"\",Datenerfassung!U319)","v":""},{"$f":"IF(ISBLANK(Datenerfassung!O319),\"\",Datenerfassung!O319)","v":""},{"$f":"IF(ISBLANK(Datenerfassung!D319),IF(COUNTBLANK(A309:H309)+COUNTBLANK(J309:O309)=14,\"\",\"- ohne Titel -\"),Datenerfassung!D319)","v":""},{"$f":"IF(ISBLANK(Datenerfassung!G319),\"\",Datenerfassung!G319)","v":""},"",{"$f":"IF(ISBLANK(Datenerfassung!X319),\"\",Datenerfassung!X319)","v":""},{"$f":"IF(COUNTBLANK(Datenerfassung!H319:'Datenerfassung'!N319)=7,\"\",CONCATENATE( CONCATENATE(IF(ISBLANK(Datenerfassung!H319),\" \",Datenerfassung!H319 ),\" [IS]\"), CONCATENATE(IF(ISBLANK(Datenerfassung!I319),\" \",Datenerfassung!I319 ),\" [IS]\"), CONCATENATE(IF(ISBLANK(Datenerfassung!J319),\" \",Datenerfassung!J319 ),\" [IS]\"), CONCATENATE(IF(ISBLANK(Datenerfassung!K319),\" \",Datenerfassung!K319 ),\" [IS]\"), CONCATENATE(IF(ISBLANK(Datenerfassung!L319),\" \",Datenerfassung!L319 ),\" [IS]\"), CONCATENATE(IF(ISBLANK(Datenerfassung!M319),\" \",Datenerfassung!M319 ),\" [IS]\"), IF(ISBLANK(Datenerfassung!N319),\" \",Datenerfassung!N319 ) ))","v":""},{"$f":"IF(ISBLANK(Datenerfassung!V319),\"\",Datenerfassung!V319)","v":""},{"$f":"IF(ISBLANK(Datenerfassung!Q319),\"\",Datenerfassung!Q319)","v":""}]
[{"$f":"IF(ISBLANK(Datenerfassung!A320),\"\",Datenerfassung!A320)","v":""},{"$f":"IF(ISBLANK(Datenerfassung!B320),\"\",Datenerfassung!B320)","v":""},{"$f":"IF(ISBLANK(Datenerfassung!C320),\"\",Datenerfassung!C320)","v":""},{"$f":"IF(ISBLANK(Datenerfassung!R320),\"\",Datenerfassung!R320)","v":""},{"$f":"IF(ISBLANK(Datenerfassung!S320),\"\",Datenerfassung!S320)","v":""},"",{"$f":"IF(ISBLANK(Datenerfassung!U320),\"\",Datenerfassung!U320)","v":""},{"$f":"IF(ISBLANK(Datenerfassung!O320),\"\",Datenerfassung!O320)","v":""},{"$f":"IF(ISBLANK(Datenerfassung!D320),IF(COUNTBLANK(A310:H310)+COUNTBLANK(J310:O310)=14,\"\",\"- ohne Titel -\"),Datenerfassung!D320)","v":""},{"$f":"IF(ISBLANK(Datenerfassung!G320),\"\",Datenerfassung!G320)","v":""},"",{"$f":"IF(ISBLANK(Datenerfassung!X320),\"\",Datenerfassung!X320)","v":""},{"$f":"IF(COUNTBLANK(Datenerfassung!H320:'Datenerfassung'!N320)=7,\"\",CONCATENATE( CONCATENATE(IF(ISBLANK(Datenerfassung!H320),\" \",Datenerfassung!H320 ),\" [IS]\"), CONCATENATE(IF(ISBLANK(Datenerfassung!I320),\" \",Datenerfassung!I320 ),\" [IS]\"), CONCATENATE(IF(ISBLANK(Datenerfassung!J320),\" \",Datenerfassung!J320 ),\" [IS]\"), CONCATENATE(IF(ISBLANK(Datenerfassung!K320),\" \",Datenerfassung!K320 ),\" [IS]\"), CONCATENATE(IF(ISBLANK(Datenerfassung!L320),\" \",Datenerfassung!L320 ),\" [IS]\"), CONCATENATE(IF(ISBLANK(Datenerfassung!M320),\" \",Datenerfassung!M320 ),\" [IS]\"), IF(ISBLANK(Datenerfassung!N320),\" \",Datenerfassung!N320 ) ))","v":""},{"$f":"IF(ISBLANK(Datenerfassung!V320),\"\",Datenerfassung!V320)","v":""},{"$f":"IF(ISBLANK(Datenerfassung!Q320),\"\",Datenerfassung!Q320)","v":""}]
[{"$f":"IF(ISBLANK(Datenerfassung!A321),\"\",Datenerfassung!A321)","v":""},{"$f":"IF(ISBLANK(Datenerfassung!B321),\"\",Datenerfassung!B321)","v":""},{"$f":"IF(ISBLANK(Datenerfassung!C321),\"\",Datenerfassung!C321)","v":""},{"$f":"IF(ISBLANK(Datenerfassung!R321),\"\",Datenerfassung!R321)","v":""},{"$f":"IF(ISBLANK(Datenerfassung!S321),\"\",Datenerfassung!S321)","v":""},"",{"$f":"IF(ISBLANK(Datenerfassung!U321),\"\",Datenerfassung!U321)","v":""},{"$f":"IF(ISBLANK(Datenerfassung!O321),\"\",Datenerfassung!O321)","v":""},{"$f":"IF(ISBLANK(Datenerfassung!D321),IF(COUNTBLANK(A311:H311)+COUNTBLANK(J311:O311)=14,\"\",\"- ohne Titel -\"),Datenerfassung!D321)","v":""},{"$f":"IF(ISBLANK(Datenerfassung!G321),\"\",Datenerfassung!G321)","v":""},"",{"$f":"IF(ISBLANK(Datenerfassung!X321),\"\",Datenerfassung!X321)","v":""},{"$f":"IF(COUNTBLANK(Datenerfassung!H321:'Datenerfassung'!N321)=7,\"\",CONCATENATE( CONCATENATE(IF(ISBLANK(Datenerfassung!H321),\" \",Datenerfassung!H321 ),\" [IS]\"), CONCATENATE(IF(ISBLANK(Datenerfassung!I321),\" \",Datenerfassung!I321 ),\" [IS]\"), CONCATENATE(IF(ISBLANK(Datenerfassung!J321),\" \",Datenerfassung!J321 ),\" [IS]\"), CONCATENATE(IF(ISBLANK(Datenerfassung!K321),\" \",Datenerfassung!K321 ),\" [IS]\"), CONCATENATE(IF(ISBLANK(Datenerfassung!L321),\" \",Datenerfassung!L321 ),\" [IS]\"), CONCATENATE(IF(ISBLANK(Datenerfassung!M321),\" \",Datenerfassung!M321 ),\" [IS]\"), IF(ISBLANK(Datenerfassung!N321),\" \",Datenerfassung!N321 ) ))","v":""},{"$f":"IF(ISBLANK(Datenerfassung!V321),\"\",Datenerfassung!V321)","v":""},{"$f":"IF(ISBLANK(Datenerfassung!Q321),\"\",Datenerfassung!Q321)","v":""}]
[{"$f":"IF(ISBLANK(Datenerfassung!A322),\"\",Datenerfassung!A322)","v":""},{"$f":"IF(ISBLANK(Datenerfassung!B322),\"\",Datenerfassung!B322)","v":""},{"$f":"IF(ISBLANK(Datenerfassung!C322),\"\",Datenerfassung!C322)","v":""},{"$f":"IF(ISBLANK(Datenerfassung!R322),\"\",Datenerfassung!R322)","v":""},{"$f":"IF(ISBLANK(Datenerfassung!S322),\"\",Datenerfassung!S322)","v":""},"",{"$f":"IF(ISBLANK(Datenerfassung!U322),\"\",Datenerfassung!U322)","v":""},{"$f":"IF(ISBLANK(Datenerfassung!O322),\"\",Datenerfassung!O322)","v":""},{"$f":"IF(ISBLANK(Datenerfassung!D322),IF(COUNTBLANK(A312:H312)+COUNTBLANK(J312:O312)=14,\"\",\"- ohne Titel -\"),Datenerfassung!D322)","v":""},{"$f":"IF(ISBLANK(Datenerfassung!G322),\"\",Datenerfassung!G322)","v":""},"",{"$f":"IF(ISBLANK(Datenerfassung!X322),\"\",Datenerfassung!X322)","v":""},{"$f":"IF(COUNTBLANK(Datenerfassung!H322:'Datenerfassung'!N322)=7,\"\",CONCATENATE( CONCATENATE(IF(ISBLANK(Datenerfassung!H322),\" \",Datenerfassung!H322 ),\" [IS]\"), CONCATENATE(IF(ISBLANK(Datenerfassung!I322),\" \",Datenerfassung!I322 ),\" [IS]\"), CONCATENATE(IF(ISBLANK(Datenerfassung!J322),\" \",Datenerfassung!J322 ),\" [IS]\"), CONCATENATE(IF(ISBLANK(Datenerfassung!K322),\" \",Datenerfassung!K322 ),\" [IS]\"), CONCATENATE(IF(ISBLANK(Datenerfassung!L322),\" \",Datenerfassung!L322 ),\" [IS]\"), CONCATENATE(IF(ISBLANK(Datenerfassung!M322),\" \",Datenerfassung!M322 ),\" [IS]\"), IF(ISBLANK(Datenerfassung!N322),\" \",Datenerfassung!N322 ) ))","v":""},{"$f":"IF(ISBLANK(Datenerfassung!V322),\"\",Datenerfassung!V322)","v":""},{"$f":"IF(ISBLANK(Datenerfassung!Q322),\"\",Datenerfassung!Q322)","v":""}]
[{"$f":"IF(ISBLANK(Datenerfassung!A323),\"\",Datenerfassung!A323)","v":""},{"$f":"IF(ISBLANK(Datenerfassung!B323),\"\",Datenerfassung!B323)","v":""},{"$f":"IF(ISBLANK(Datenerfassung!C323),\"\",Datenerfassung!C323)","v":""},{"$f":"IF(ISBLANK(Datenerfassung!R323),\"\",Datenerfassung!R323)","v":""},{"$f":"IF(ISBLANK(Datenerfassung!S323),\"\",Datenerfassung!S323)","v":""},"",{"$f":"IF(ISBLANK(Datenerfassung!U323),\"\",Datenerfassung!U323)","v":""},{"$f":"IF(ISBLANK(Datenerfassung!O323),\"\",Datenerfassung!O323)","v":""},{"$f":"IF(ISBLANK(Datenerfassung!D323),IF(COUNTBLANK(A313:H313)+COUNTBLANK(J313:O313)=14,\"\",\"- ohne Titel -\"),Datenerfassung!D323)","v":""},{"$f":"IF(ISBLANK(Datenerfassung!G323),\"\",Datenerfassung!G323)","v":""},"",{"$f":"IF(ISBLANK(Datenerfassung!X323),\"\",Datenerfassung!X323)","v":""},{"$f":"IF(COUNTBLANK(Datenerfassung!H323:'Datenerfassung'!N323)=7,\"\",CONCATENATE( CONCATENATE(IF(ISBLANK(Datenerfassung!H323),\" \",Datenerfassung!H323 ),\" [IS]\"), CONCATENATE(IF(ISBLANK(Datenerfassung!I323),\" \",Datenerfassung!I323 ),\" [IS]\"), CONCATENATE(IF(ISBLANK(Datenerfassung!J323),\" \",Datenerfassung!J323 ),\" [IS]\"), CONCATENATE(IF(ISBLANK(Datenerfassung!K323),\" \",Datenerfassung!K323 ),\" [IS]\"), CONCATENATE(IF(ISBLANK(Datenerfassung!L323),\" \",Datenerfassung!L323 ),\" [IS]\"), CONCATENATE(IF(ISBLANK(Datenerfassung!M323),\" \",Datenerfassung!M323 ),\" [IS]\"), IF(ISBLANK(Datenerfassung!N323),\" \",Datenerfassung!N323 ) ))","v":""},{"$f":"IF(ISBLANK(Datenerfassung!V323),\"\",Datenerfassung!V323)","v":""},{"$f":"IF(ISBLANK(Datenerfassung!Q323),\"\",Datenerfassung!Q323)","v":""}]
[{"$f":"IF(ISBLANK(Datenerfassung!A324),\"\",Datenerfassung!A324)","v":""},{"$f":"IF(ISBLANK(Datenerfassung!B324),\"\",Datenerfassung!B324)","v":""},{"$f":"IF(ISBLANK(Datenerfassung!C324),\"\",Datenerfassung!C324)","v":""},{"$f":"IF(ISBLANK(Datenerfassung!R324),\"\",Datenerfassung!R324)","v":""},{"$f":"IF(ISBLANK(Datenerfassung!S324),\"\",Datenerfassung!S324)","v":""},"",{"$f":"IF(ISBLANK(Datenerfassung!U324),\"\",Datenerfassung!U324)","v":""},{"$f":"IF(ISBLANK(Datenerfassung!O324),\"\",Datenerfassung!O324)","v":""},{"$f":"IF(ISBLANK(Datenerfassung!D324),IF(COUNTBLANK(A314:H314)+COUNTBLANK(J314:O314)=14,\"\",\"- ohne Titel -\"),Datenerfassung!D324)","v":""},{"$f":"IF(ISBLANK(Datenerfassung!G324),\"\",Datenerfassung!G324)","v":""},"",{"$f":"IF(ISBLANK(Datenerfassung!X324),\"\",Datenerfassung!X324)","v":""},{"$f":"IF(COUNTBLANK(Datenerfassung!H324:'Datenerfassung'!N324)=7,\"\",CONCATENATE( CONCATENATE(IF(ISBLANK(Datenerfassung!H324),\" \",Datenerfassung!H324 ),\" [IS]\"), CONCATENATE(IF(ISBLANK(Datenerfassung!I324),\" \",Datenerfassung!I324 ),\" [IS]\"), CONCATENATE(IF(ISBLANK(Datenerfassung!J324),\" \",Datenerfassung!J324 ),\" [IS]\"), CONCATENATE(IF(ISBLANK(Datenerfassung!K324),\" \",Datenerfassung!K324 ),\" [IS]\"), CONCATENATE(IF(ISBLANK(Datenerfassung!L324),\" \",Datenerfassung!L324 ),\" [IS]\"), CONCATENATE(IF(ISBLANK(Datenerfassung!M324),\" \",Datenerfassung!M324 ),\" [IS]\"), IF(ISBLANK(Datenerfassung!N324),\" \",Datenerfassung!N324 ) ))","v":""},{"$f":"IF(ISBLANK(Datenerfassung!V324),\"\",Datenerfassung!V324)","v":""},{"$f":"IF(ISBLANK(Datenerfassung!Q324),\"\",Datenerfassung!Q324)","v":""}]
[{"$f":"IF(ISBLANK(Datenerfassung!A325),\"\",Datenerfassung!A325)","v":""},{"$f":"IF(ISBLANK(Datenerfassung!B325),\"\",Datenerfassung!B325)","v":""},{"$f":"IF(ISBLANK(Datenerfassung!C325),\"\",Datenerfassung!C325)","v":""},{"$f":"IF(ISBLANK(Datenerfassung!R325),\"\",Datenerfassung!R325)","v":""},{"$f":"IF(ISBLANK(Datenerfassung!S325),\"\",Datenerfassung!S325)","v":""},"",{"$f":"IF(ISBLANK(Datenerfassung!U325),\"\",Datenerfassung!U325)","v":""},{"$f":"IF(ISBLANK(Datenerfassung!O325),\"\",Datenerfassung!O325)","v":""},{"$f":"IF(ISBLANK(Datenerfassung!D325),IF(COUNTBLANK(A315:H315)+COUNTBLANK(J315:O315)=14,\"\",\"- ohne Titel -\"),Datenerfassung!D325)","v":""},{"$f":"IF(ISBLANK(Datenerfassung!G325),\"\",Datenerfassung!G325)","v":""},"",{"$f":"IF(ISBLANK(Datenerfassung!X325),\"\",Datenerfassung!X325)","v":""},{"$f":"IF(COUNTBLANK(Datenerfassung!H325:'Datenerfassung'!N325)=7,\"\",CONCATENATE( CONCATENATE(IF(ISBLANK(Datenerfassung!H325),\" \",Datenerfassung!H325 ),\" [IS]\"), CONCATENATE(IF(ISBLANK(Datenerfassung!I325),\" \",Datenerfassung!I325 ),\" [IS]\"), CONCATENATE(IF(ISBLANK(Datenerfassung!J325),\" \",Datenerfassung!J325 ),\" [IS]\"), CONCATENATE(IF(ISBLANK(Datenerfassung!K325),\" \",Datenerfassung!K325 ),\" [IS]\"), CONCATENATE(IF(ISBLANK(Datenerfassung!L325),\" \",Datenerfassung!L325 ),\" [IS]\"), CONCATENATE(IF(ISBLANK(Datenerfassung!M325),\" \",Datenerfassung!M325 ),\" [IS]\"), IF(ISBLANK(Datenerfassung!N325),\" \",Datenerfassung!N325 ) ))","v":""},{"$f":"IF(ISBLANK(Datenerfassung!V325),\"\",Datenerfassung!V325)","v":""},{"$f":"IF(ISBLANK(Datenerfassung!Q325),\"\",Datenerfassung!Q325)","v":""}]
[{"$f":"IF(ISBLANK(Datenerfassung!A326),\"\",Datenerfassung!A326)","v":""},{"$f":"IF(ISBLANK(Datenerfassung!B326),\"\",Datenerfassung!B326)","v":""},{"$f":"IF(ISBLANK(Datenerfassung!C326),\"\",Datenerfassung!C326)","v":""},{"$f":"IF(ISBLANK(Datenerfassung!R326),\"\",Datenerfassung!R326)","v":""},{"$f":"IF(ISBLANK(Datenerfassung!S326),\"\",Datenerfassung!S326)","v":""},"",{"$f":"IF(ISBLANK(Datenerfassung!U326),\"\",Datenerfassung!U326)","v":""},{"$f":"IF(ISBLANK(Datenerfassung!O326),\"\",Datenerfassung!O326)","v":""},{"$f":"IF(ISBLANK(Datenerfassung!D326),IF(COUNTBLANK(A316:H316)+COUNTBLANK(J316:O316)=14,\"\",\"- ohne Titel -\"),Datenerfassung!D326)","v":""},{"$f":"IF(ISBLANK(Datenerfassung!G326),\"\",Datenerfassung!G326)","v":""},"",{"$f":"IF(ISBLANK(Datenerfassung!X326),\"\",Datenerfassung!X326)","v":""},{"$f":"IF(COUNTBLANK(Datenerfassung!H326:'Datenerfassung'!N326)=7,\"\",CONCATENATE( CONCATENATE(IF(ISBLANK(Datenerfassung!H326),\" \",Datenerfassung!H326 ),\" [IS]\"), CONCATENATE(IF(ISBLANK(Datenerfassung!I326),\" \",Datenerfassung!I326 ),\" [IS]\"), CONCATENATE(IF(ISBLANK(Datenerfassung!J326),\" \",Datenerfassung!J326 ),\" [IS]\"), CONCATENATE(IF(ISBLANK(Datenerfassung!K326),\" \",Datenerfassung!K326 ),\" [IS]\"), CONCATENATE(IF(ISBLANK(Datenerfassung!L326),\" \",Datenerfassung!L326 ),\" [IS]\"), CONCATENATE(IF(ISBLANK(Datenerfassung!M326),\" \",Datenerfassung!M326 ),\" [IS]\"), IF(ISBLANK(Datenerfassung!N326),\" \",Datenerfassung!N326 ) ))","v":""},{"$f":"IF(ISBLANK(Datenerfassung!V326),\"\",Datenerfassung!V326)","v":""},{"$f":"IF(ISBLANK(Datenerfassung!Q326),\"\",Datenerfassung!Q326)","v":""}]
[{"$f":"IF(ISBLANK(Datenerfassung!A327),\"\",Datenerfassung!A327)","v":""},{"$f":"IF(ISBLANK(Datenerfassung!B327),\"\",Datenerfassung!B327)","v":""},{"$f":"IF(ISBLANK(Datenerfassung!C327),\"\",Datenerfassung!C327)","v":""},{"$f":"IF(ISBLANK(Datenerfassung!R327),\"\",Datenerfassung!R327)","v":""},{"$f":"IF(ISBLANK(Datenerfassung!S327),\"\",Datenerfassung!S327)","v":""},"",{"$f":"IF(ISBLANK(Datenerfassung!U327),\"\",Datenerfassung!U327)","v":""},{"$f":"IF(ISBLANK(Datenerfassung!O327),\"\",Datenerfassung!O327)","v":""},{"$f":"IF(ISBLANK(Datenerfassung!D327),IF(COUNTBLANK(A317:H317)+COUNTBLANK(J317:O317)=14,\"\",\"- ohne Titel -\"),Datenerfassung!D327)","v":""},{"$f":"IF(ISBLANK(Datenerfassung!G327),\"\",Datenerfassung!G327)","v":""},"",{"$f":"IF(ISBLANK(Datenerfassung!X327),\"\",Datenerfassung!X327)","v":""},{"$f":"IF(COUNTBLANK(Datenerfassung!H327:'Datenerfassung'!N327)=7,\"\",CONCATENATE( CONCATENATE(IF(ISBLANK(Datenerfassung!H327),\" \",Datenerfassung!H327 ),\" [IS]\"), CONCATENATE(IF(ISBLANK(Datenerfassung!I327),\" \",Datenerfassung!I327 ),\" [IS]\"), CONCATENATE(IF(ISBLANK(Datenerfassung!J327),\" \",Datenerfassung!J327 ),\" [IS]\"), CONCATENATE(IF(ISBLANK(Datenerfassung!K327),\" \",Datenerfassung!K327 ),\" [IS]\"), CONCATENATE(IF(ISBLANK(Datenerfassung!L327),\" \",Datenerfassung!L327 ),\" [IS]\"), CONCATENATE(IF(ISBLANK(Datenerfassung!M327),\" \",Datenerfassung!M327 ),\" [IS]\"), IF(ISBLANK(Datenerfassung!N327),\" \",Datenerfassung!N327 ) ))","v":""},{"$f":"IF(ISBLANK(Datenerfassung!V327),\"\",Datenerfassung!V327)","v":""},{"$f":"IF(ISBLANK(Datenerfassung!Q327),\"\",Datenerfassung!Q327)","v":""}]
[{"$f":"IF(ISBLANK(Datenerfassung!A328),\"\",Datenerfassung!A328)","v":""},{"$f":"IF(ISBLANK(Datenerfassung!B328),\"\",Datenerfassung!B328)","v":""},{"$f":"IF(ISBLANK(Datenerfassung!C328),\"\",Datenerfassung!C328)","v":""},{"$f":"IF(ISBLANK(Datenerfassung!R328),\"\",Datenerfassung!R328)","v":""},{"$f":"IF(ISBLANK(Datenerfassung!S328),\"\",Datenerfassung!S328)","v":""},"",{"$f":"IF(ISBLANK(Datenerfassung!U328),\"\",Datenerfassung!U328)","v":""},{"$f":"IF(ISBLANK(Datenerfassung!O328),\"\",Datenerfassung!O328)","v":""},{"$f":"IF(ISBLANK(Datenerfassung!D328),IF(COUNTBLANK(A318:H318)+COUNTBLANK(J318:O318)=14,\"\",\"- ohne Titel -\"),Datenerfassung!D328)","v":""},{"$f":"IF(ISBLANK(Datenerfassung!G328),\"\",Datenerfassung!G328)","v":""},"",{"$f":"IF(ISBLANK(Datenerfassung!X328),\"\",Datenerfassung!X328)","v":""},{"$f":"IF(COUNTBLANK(Datenerfassung!H328:'Datenerfassung'!N328)=7,\"\",CONCATENATE( CONCATENATE(IF(ISBLANK(Datenerfassung!H328),\" \",Datenerfassung!H328 ),\" [IS]\"), CONCATENATE(IF(ISBLANK(Datenerfassung!I328),\" \",Datenerfassung!I328 ),\" [IS]\"), CONCATENATE(IF(ISBLANK(Datenerfassung!J328),\" \",Datenerfassung!J328 ),\" [IS]\"), CONCATENATE(IF(ISBLANK(Datenerfassung!K328),\" \",Datenerfassung!K328 ),\" [IS]\"), CONCATENATE(IF(ISBLANK(Datenerfassung!L328),\" \",Datenerfassung!L328 ),\" [IS]\"), CONCATENATE(IF(ISBLANK(Datenerfassung!M328),\" \",Datenerfassung!M328 ),\" [IS]\"), IF(ISBLANK(Datenerfassung!N328),\" \",Datenerfassung!N328 ) ))","v":""},{"$f":"IF(ISBLANK(Datenerfassung!V328),\"\",Datenerfassung!V328)","v":""},{"$f":"IF(ISBLANK(Datenerfassung!Q328),\"\",Datenerfassung!Q328)","v":""}]
[{"$f":"IF(ISBLANK(Datenerfassung!A329),\"\",Datenerfassung!A329)","v":""},{"$f":"IF(ISBLANK(Datenerfassung!B329),\"\",Datenerfassung!B329)","v":""},{"$f":"IF(ISBLANK(Datenerfassung!C329),\"\",Datenerfassung!C329)","v":""},{"$f":"IF(ISBLANK(Datenerfassung!R329),\"\",Datenerfassung!R329)","v":""},{"$f":"IF(ISBLANK(Datenerfassung!S329),\"\",Datenerfassung!S329)","v":""},"",{"$f":"IF(ISBLANK(Datenerfassung!U329),\"\",Datenerfassung!U329)","v":""},{"$f":"IF(ISBLANK(Datenerfassung!O329),\"\",Datenerfassung!O329)","v":""},{"$f":"IF(ISBLANK(Datenerfassung!D329),IF(COUNTBLANK(A319:H319)+COUNTBLANK(J319:O319)=14,\"\",\"- ohne Titel -\"),Datenerfassung!D329)","v":""},{"$f":"IF(ISBLANK(Datenerfassung!G329),\"\",Datenerfassung!G329)","v":""},"",{"$f":"IF(ISBLANK(Datenerfassung!X329),\"\",Datenerfassung!X329)","v":""},{"$f":"IF(COUNTBLANK(Datenerfassung!H329:'Datenerfassung'!N329)=7,\"\",CONCATENATE( CONCATENATE(IF(ISBLANK(Datenerfassung!H329),\" \",Datenerfassung!H329 ),\" [IS]\"), CONCATENATE(IF(ISBLANK(Datenerfassung!I329),\" \",Datenerfassung!I329 ),\" [IS]\"), CONCATENATE(IF(ISBLANK(Datenerfassung!J329),\" \",Datenerfassung!J329 ),\" [IS]\"), CONCATENATE(IF(ISBLANK(Datenerfassung!K329),\" \",Datenerfassung!K329 ),\" [IS]\"), CONCATENATE(IF(ISBLANK(Datenerfassung!L329),\" \",Datenerfassung!L329 ),\" [IS]\"), CONCATENATE(IF(ISBLANK(Datenerfassung!M329),\" \",Datenerfassung!M329 ),\" [IS]\"), IF(ISBLANK(Datenerfassung!N329),\" \",Datenerfassung!N329 ) ))","v":""},{"$f":"IF(ISBLANK(Datenerfassung!V329),\"\",Datenerfassung!V329)","v":""},{"$f":"IF(ISBLANK(Datenerfassung!Q329),\"\",Datenerfassung!Q329)","v":""}]
[{"$f":"IF(ISBLANK(Datenerfassung!A330),\"\",Datenerfassung!A330)","v":""},{"$f":"IF(ISBLANK(Datenerfassung!B330),\"\",Datenerfassung!B330)","v":""},{"$f":"IF(ISBLANK(Datenerfassung!C330),\"\",Datenerfassung!C330)","v":""},{"$f":"IF(ISBLANK(Datenerfassung!R330),\"\",Datenerfassung!R330)","v":""},{"$f":"IF(ISBLANK(Datenerfassung!S330),\"\",Datenerfassung!S330)","v":""},"",{"$f":"IF(ISBLANK(Datenerfassung!U330),\"\",Datenerfassung!U330)","v":""},{"$f":"IF(ISBLANK(Datenerfassung!O330),\"\",Datenerfassung!O330)","v":""},{"$f":"IF(ISBLANK(Datenerfassung!D330),IF(COUNTBLANK(A320:H320)+COUNTBLANK(J320:O320)=14,\"\",\"- ohne Titel -\"),Datenerfassung!D330)","v":""},{"$f":"IF(ISBLANK(Datenerfassung!G330),\"\",Datenerfassung!G330)","v":""},"",{"$f":"IF(ISBLANK(Datenerfassung!X330),\"\",Datenerfassung!X330)","v":""},{"$f":"IF(COUNTBLANK(Datenerfassung!H330:'Datenerfassung'!N330)=7,\"\",CONCATENATE( CONCATENATE(IF(ISBLANK(Datenerfassung!H330),\" \",Datenerfassung!H330 ),\" [IS]\"), CONCATENATE(IF(ISBLANK(Datenerfassung!I330),\" \",Datenerfassung!I330 ),\" [IS]\"), CONCATENATE(IF(ISBLANK(Datenerfassung!J330),\" \",Datenerfassung!J330 ),\" [IS]\"), CONCATENATE(IF(ISBLANK(Datenerfassung!K330),\" \",Datenerfassung!K330 ),\" [IS]\"), CONCATENATE(IF(ISBLANK(Datenerfassung!L330),\" \",Datenerfassung!L330 ),\" [IS]\"), CONCATENATE(IF(ISBLANK(Datenerfassung!M330),\" \",Datenerfassung!M330 ),\" [IS]\"), IF(ISBLANK(Datenerfassung!N330),\" \",Datenerfassung!N330 ) ))","v":""},{"$f":"IF(ISBLANK(Datenerfassung!V330),\"\",Datenerfassung!V330)","v":""},{"$f":"IF(ISBLANK(Datenerfassung!Q330),\"\",Datenerfassung!Q330)","v":""}]
[{"$f":"IF(ISBLANK(Datenerfassung!A331),\"\",Datenerfassung!A331)","v":""},{"$f":"IF(ISBLANK(Datenerfassung!B331),\"\",Datenerfassung!B331)","v":""},{"$f":"IF(ISBLANK(Datenerfassung!C331),\"\",Datenerfassung!C331)","v":""},{"$f":"IF(ISBLANK(Datenerfassung!R331),\"\",Datenerfassung!R331)","v":""},{"$f":"IF(ISBLANK(Datenerfassung!S331),\"\",Datenerfassung!S331)","v":""},"",{"$f":"IF(ISBLANK(Datenerfassung!U331),\"\",Datenerfassung!U331)","v":""},{"$f":"IF(ISBLANK(Datenerfassung!O331),\"\",Datenerfassung!O331)","v":""},{"$f":"IF(ISBLANK(Datenerfassung!D331),IF(COUNTBLANK(A321:H321)+COUNTBLANK(J321:O321)=14,\"\",\"- ohne Titel -\"),Datenerfassung!D331)","v":""},{"$f":"IF(ISBLANK(Datenerfassung!G331),\"\",Datenerfassung!G331)","v":""},"",{"$f":"IF(ISBLANK(Datenerfassung!X331),\"\",Datenerfassung!X331)","v":""},{"$f":"IF(COUNTBLANK(Datenerfassung!H331:'Datenerfassung'!N331)=7,\"\",CONCATENATE( CONCATENATE(IF(ISBLANK(Datenerfassung!H331),\" \",Datenerfassung!H331 ),\" [IS]\"), CONCATENATE(IF(ISBLANK(Datenerfassung!I331),\" \",Datenerfassung!I331 ),\" [IS]\"), CONCATENATE(IF(ISBLANK(Datenerfassung!J331),\" \",Datenerfassung!J331 ),\" [IS]\"), CONCATENATE(IF(ISBLANK(Datenerfassung!K331),\" \",Datenerfassung!K331 ),\" [IS]\"), CONCATENATE(IF(ISBLANK(Datenerfassung!L331),\" \",Datenerfassung!L331 ),\" [IS]\"), CONCATENATE(IF(ISBLANK(Datenerfassung!M331),\" \",Datenerfassung!M331 ),\" [IS]\"), IF(ISBLANK(Datenerfassung!N331),\" \",Datenerfassung!N331 ) ))","v":""},{"$f":"IF(ISBLANK(Datenerfassung!V331),\"\",Datenerfassung!V331)","v":""},{"$f":"IF(ISBLANK(Datenerfassung!Q331),\"\",Datenerfassung!Q331)","v":""}]
[{"$f":"IF(ISBLANK(Datenerfassung!A332),\"\",Datenerfassung!A332)","v":""},{"$f":"IF(ISBLANK(Datenerfassung!B332),\"\",Datenerfassung!B332)","v":""},{"$f":"IF(ISBLANK(Datenerfassung!C332),\"\",Datenerfassung!C332)","v":""},{"$f":"IF(ISBLANK(Datenerfassung!R332),\"\",Datenerfassung!R332)","v":""},{"$f":"IF(ISBLANK(Datenerfassung!S332),\"\",Datenerfassung!S332)","v":""},"",{"$f":"IF(ISBLANK(Datenerfassung!U332),\"\",Datenerfassung!U332)","v":""},{"$f":"IF(ISBLANK(Datenerfassung!O332),\"\",Datenerfassung!O332)","v":""},{"$f":"IF(ISBLANK(Datenerfassung!D332),IF(COUNTBLANK(A322:H322)+COUNTBLANK(J322:O322)=14,\"\",\"- ohne Titel -\"),Datenerfassung!D332)","v":""},{"$f":"IF(ISBLANK(Datenerfassung!G332),\"\",Datenerfassung!G332)","v":""},"",{"$f":"IF(ISBLANK(Datenerfassung!X332),\"\",Datenerfassung!X332)","v":""},{"$f":"IF(COUNTBLANK(Datenerfassung!H332:'Datenerfassung'!N332)=7,\"\",CONCATENATE( CONCATENATE(IF(ISBLANK(Datenerfassung!H332),\" \",Datenerfassung!H332 ),\" [IS]\"), CONCATENATE(IF(ISBLANK(Datenerfassung!I332),\" \",Datenerfassung!I332 ),\" [IS]\"), CONCATENATE(IF(ISBLANK(Datenerfassung!J332),\" \",Datenerfassung!J332 ),\" [IS]\"), CONCATENATE(IF(ISBLANK(Datenerfassung!K332),\" \",Datenerfassung!K332 ),\" [IS]\"), CONCATENATE(IF(ISBLANK(Datenerfassung!L332),\" \",Datenerfassung!L332 ),\" [IS]\"), CONCATENATE(IF(ISBLANK(Datenerfassung!M332),\" \",Datenerfassung!M332 ),\" [IS]\"), IF(ISBLANK(Datenerfassung!N332),\" \",Datenerfassung!N332 ) ))","v":""},{"$f":"IF(ISBLANK(Datenerfassung!V332),\"\",Datenerfassung!V332)","v":""},{"$f":"IF(ISBLANK(Datenerfassung!Q332),\"\",Datenerfassung!Q332)","v":""}]
[{"$f":"IF(ISBLANK(Datenerfassung!A333),\"\",Datenerfassung!A333)","v":""},{"$f":"IF(ISBLANK(Datenerfassung!B333),\"\",Datenerfassung!B333)","v":""},{"$f":"IF(ISBLANK(Datenerfassung!C333),\"\",Datenerfassung!C333)","v":""},{"$f":"IF(ISBLANK(Datenerfassung!R333),\"\",Datenerfassung!R333)","v":""},{"$f":"IF(ISBLANK(Datenerfassung!S333),\"\",Datenerfassung!S333)","v":""},{"$f":"IF(D323=\"\",\"\",IF(E323=\"\",D323,D323&\" - \"&E323))","v":""},{"$f":"IF(ISBLANK(Datenerfassung!U333),\"\",Datenerfassung!U333)","v":""},{"$f":"IF(ISBLANK(Datenerfassung!O333),\"\",Datenerfassung!O333)","v":""},{"$f":"IF(ISBLANK(Datenerfassung!D333),IF(COUNTBLANK(A323:H323)+COUNTBLANK(J323:O323)=14,\"\",\"- ohne Titel -\"),Datenerfassung!D333)","v":""},{"$f":"IF(ISBLANK(Datenerfassung!G333),\"\",Datenerfassung!G333)","v":""},{"$f":"IF(OR(E323=\"\",G323=\"\"),\"\",\"01.01.\"&RIGHT(E323,4)+G323+1)","v":""},{"$f":"IF(ISBLANK(Datenerfassung!X333),\"\",Datenerfassung!X333)","v":""},{"$f":"IF(COUNTBLANK(Datenerfassung!H333:'Datenerfassung'!N333)=7,\"\",CONCATENATE( CONCATENATE(IF(ISBLANK(Datenerfassung!H333),\" \",Datenerfassung!H333 ),\" [IS]\"), CONCATENATE(IF(ISBLANK(Datenerfassung!I333),\" \",Datenerfassung!I333 ),\" [IS]\"), CONCATENATE(IF(ISBLANK(Datenerfassung!J333),\" \",Datenerfassung!J333 ),\" [IS]\"), CONCATENATE(IF(ISBLANK(Datenerfassung!K333),\" \",Datenerfassung!K333 ),\" [IS]\"), CONCATENATE(IF(ISBLANK(Datenerfassung!L333),\" \",Datenerfassung!L333 ),\" [IS]\"), CONCATENATE(IF(ISBLANK(Datenerfassung!M333),\" \",Datenerfassung!M333 ),\" [IS]\"), IF(ISBLANK(Datenerfassung!N333),\" \",Datenerfassung!N333 ) ))","v":""},{"$f":"IF(ISBLANK(Datenerfassung!V333),\"\",Datenerfassung!V333)","v":""},{"$f":"IF(ISBLANK(Datenerfassung!Q333),\"\",Datenerfassung!Q333)","v":""}]
[{"$f":"IF(ISBLANK(Datenerfassung!A334),\"\",Datenerfassung!A334)","v":""},{"$f":"IF(ISBLANK(Datenerfassung!B334),\"\",Datenerfassung!B334)","v":""},{"$f":"IF(ISBLANK(Datenerfassung!C334),\"\",Datenerfassung!C334)","v":""},{"$f":"IF(ISBLANK(Datenerfassung!R334),\"\",Datenerfassung!R334)","v":""},{"$f":"IF(ISBLANK(Datenerfassung!S334),\"\",Datenerfassung!S334)","v":""},"",{"$f":"IF(ISBLANK(Datenerfassung!U334),\"\",Datenerfassung!U334)","v":""},{"$f":"IF(ISBLANK(Datenerfassung!O334),\"\",Datenerfassung!O334)","v":""},{"$f":"IF(ISBLANK(Datenerfassung!D334),IF(COUNTBLANK(A324:H324)+COUNTBLANK(J324:O324)=14,\"\",\"- ohne Titel -\"),Datenerfassung!D334)","v":""},{"$f":"IF(ISBLANK(Datenerfassung!G334),\"\",Datenerfassung!G334)","v":""},"",{"$f":"IF(ISBLANK(Datenerfassung!X334),\"\",Datenerfassung!X334)","v":""},{"$f":"IF(COUNTBLANK(Datenerfassung!H334:'Datenerfassung'!N334)=7,\"\",CONCATENATE( CONCATENATE(IF(ISBLANK(Datenerfassung!H334),\" \",Datenerfassung!H334 ),\" [IS]\"), CONCATENATE(IF(ISBLANK(Datenerfassung!I334),\" \",Datenerfassung!I334 ),\" [IS]\"), CONCATENATE(IF(ISBLANK(Datenerfassung!J334),\" \",Datenerfassung!J334 ),\" [IS]\"), CONCATENATE(IF(ISBLANK(Datenerfassung!K334),\" \",Datenerfassung!K334 ),\" [IS]\"), CONCATENATE(IF(ISBLANK(Datenerfassung!L334),\" \",Datenerfassung!L334 ),\" [IS]\"), CONCATENATE(IF(ISBLANK(Datenerfassung!M334),\" \",Datenerfassung!M334 ),\" [IS]\"), IF(ISBLANK(Datenerfassung!N334),\" \",Datenerfassung!N334 ) ))","v":""},{"$f":"IF(ISBLANK(Datenerfassung!V334),\"\",Datenerfassung!V334)","v":""},{"$f":"IF(ISBLANK(Datenerfassung!Q334),\"\",Datenerfassung!Q334)","v":""}]
[{"$f":"IF(ISBLANK(Datenerfassung!A335),\"\",Datenerfassung!A335)","v":""},{"$f":"IF(ISBLANK(Datenerfassung!B335),\"\",Datenerfassung!B335)","v":""},{"$f":"IF(ISBLANK(Datenerfassung!C335),\"\",Datenerfassung!C335)","v":""},{"$f":"IF(ISBLANK(Datenerfassung!R335),\"\",Datenerfassung!R335)","v":""},{"$f":"IF(ISBLANK(Datenerfassung!S335),\"\",Datenerfassung!S335)","v":""},"",{"$f":"IF(ISBLANK(Datenerfassung!U335),\"\",Datenerfassung!U335)","v":""},{"$f":"IF(ISBLANK(Datenerfassung!O335),\"\",Datenerfassung!O335)","v":""},{"$f":"IF(ISBLANK(Datenerfassung!D335),IF(COUNTBLANK(A325:H325)+COUNTBLANK(J325:O325)=14,\"\",\"- ohne Titel -\"),Datenerfassung!D335)","v":""},{"$f":"IF(ISBLANK(Datenerfassung!G335),\"\",Datenerfassung!G335)","v":""},"",{"$f":"IF(ISBLANK(Datenerfassung!X335),\"\",Datenerfassung!X335)","v":""},{"$f":"IF(COUNTBLANK(Datenerfassung!H335:'Datenerfassung'!N335)=7,\"\",CONCATENATE( CONCATENATE(IF(ISBLANK(Datenerfassung!H335),\" \",Datenerfassung!H335 ),\" [IS]\"), CONCATENATE(IF(ISBLANK(Datenerfassung!I335),\" \",Datenerfassung!I335 ),\" [IS]\"), CONCATENATE(IF(ISBLANK(Datenerfassung!J335),\" \",Datenerfassung!J335 ),\" [IS]\"), CONCATENATE(IF(ISBLANK(Datenerfassung!K335),\" \",Datenerfassung!K335 ),\" [IS]\"), CONCATENATE(IF(ISBLANK(Datenerfassung!L335),\" \",Datenerfassung!L335 ),\" [IS]\"), CONCATENATE(IF(ISBLANK(Datenerfassung!M335),\" \",Datenerfassung!M335 ),\" [IS]\"), IF(ISBLANK(Datenerfassung!N335),\" \",Datenerfassung!N335 ) ))","v":""},{"$f":"IF(ISBLANK(Datenerfassung!V335),\"\",Datenerfassung!V335)","v":""},{"$f":"IF(ISBLANK(Datenerfassung!Q335),\"\",Datenerfassung!Q335)","v":""}]
[{"$f":"IF(ISBLANK(Datenerfassung!A336),\"\",Datenerfassung!A336)","v":""},{"$f":"IF(ISBLANK(Datenerfassung!B336),\"\",Datenerfassung!B336)","v":""},{"$f":"IF(ISBLANK(Datenerfassung!C336),\"\",Datenerfassung!C336)","v":""},{"$f":"IF(ISBLANK(Datenerfassung!R336),\"\",Datenerfassung!R336)","v":""},{"$f":"IF(ISBLANK(Datenerfassung!S336),\"\",Datenerfassung!S336)","v":""},"",{"$f":"IF(ISBLANK(Datenerfassung!U336),\"\",Datenerfassung!U336)","v":""},{"$f":"IF(ISBLANK(Datenerfassung!O336),\"\",Datenerfassung!O336)","v":""},{"$f":"IF(ISBLANK(Datenerfassung!D336),IF(COUNTBLANK(A326:H326)+COUNTBLANK(J326:O326)=14,\"\",\"- ohne Titel -\"),Datenerfassung!D336)","v":""},{"$f":"IF(ISBLANK(Datenerfassung!G336),\"\",Datenerfassung!G336)","v":""},"",{"$f":"IF(ISBLANK(Datenerfassung!X336),\"\",Datenerfassung!X336)","v":""},{"$f":"IF(COUNTBLANK(Datenerfassung!H336:'Datenerfassung'!N336)=7,\"\",CONCATENATE( CONCATENATE(IF(ISBLANK(Datenerfassung!H336),\" \",Datenerfassung!H336 ),\" [IS]\"), CONCATENATE(IF(ISBLANK(Datenerfassung!I336),\" \",Datenerfassung!I336 ),\" [IS]\"), CONCATENATE(IF(ISBLANK(Datenerfassung!J336),\" \",Datenerfassung!J336 ),\" [IS]\"), CONCATENATE(IF(ISBLANK(Datenerfassung!K336),\" \",Datenerfassung!K336 ),\" [IS]\"), CONCATENATE(IF(ISBLANK(Datenerfassung!L336),\" \",Datenerfassung!L336 ),\" [IS]\"), CONCATENATE(IF(ISBLANK(Datenerfassung!M336),\" \",Datenerfassung!M336 ),\" [IS]\"), IF(ISBLANK(Datenerfassung!N336),\" \",Datenerfassung!N336 ) ))","v":""},{"$f":"IF(ISBLANK(Datenerfassung!V336),\"\",Datenerfassung!V336)","v":""},{"$f":"IF(ISBLANK(Datenerfassung!Q336),\"\",Datenerfassung!Q336)","v":""}]
[{"$f":"IF(ISBLANK(Datenerfassung!A337),\"\",Datenerfassung!A337)","v":""},{"$f":"IF(ISBLANK(Datenerfassung!B337),\"\",Datenerfassung!B337)","v":""},{"$f":"IF(ISBLANK(Datenerfassung!C337),\"\",Datenerfassung!C337)","v":""},{"$f":"IF(ISBLANK(Datenerfassung!R337),\"\",Datenerfassung!R337)","v":""},{"$f":"IF(ISBLANK(Datenerfassung!S337),\"\",Datenerfassung!S337)","v":""},"",{"$f":"IF(ISBLANK(Datenerfassung!U337),\"\",Datenerfassung!U337)","v":""},{"$f":"IF(ISBLANK(Datenerfassung!O337),\"\",Datenerfassung!O337)","v":""},{"$f":"IF(ISBLANK(Datenerfassung!D337),IF(COUNTBLANK(A327:H327)+COUNTBLANK(J327:O327)=14,\"\",\"- ohne Titel -\"),Datenerfassung!D337)","v":""},{"$f":"IF(ISBLANK(Datenerfassung!G337),\"\",Datenerfassung!G337)","v":""},"",{"$f":"IF(ISBLANK(Datenerfassung!X337),\"\",Datenerfassung!X337)","v":""},{"$f":"IF(COUNTBLANK(Datenerfassung!H337:'Datenerfassung'!N337)=7,\"\",CONCATENATE( CONCATENATE(IF(ISBLANK(Datenerfassung!H337),\" \",Datenerfassung!H337 ),\" [IS]\"), CONCATENATE(IF(ISBLANK(Datenerfassung!I337),\" \",Datenerfassung!I337 ),\" [IS]\"), CONCATENATE(IF(ISBLANK(Datenerfassung!J337),\" \",Datenerfassung!J337 ),\" [IS]\"), CONCATENATE(IF(ISBLANK(Datenerfassung!K337),\" \",Datenerfassung!K337 ),\" [IS]\"), CONCATENATE(IF(ISBLANK(Datenerfassung!L337),\" \",Datenerfassung!L337 ),\" [IS]\"), CONCATENATE(IF(ISBLANK(Datenerfassung!M337),\" \",Datenerfassung!M337 ),\" [IS]\"), IF(ISBLANK(Datenerfassung!N337),\" \",Datenerfassung!N337 ) ))","v":""},{"$f":"IF(ISBLANK(Datenerfassung!V337),\"\",Datenerfassung!V337)","v":""},{"$f":"IF(ISBLANK(Datenerfassung!Q337),\"\",Datenerfassung!Q337)","v":""}]
[{"$f":"IF(ISBLANK(Datenerfassung!A338),\"\",Datenerfassung!A338)","v":""},{"$f":"IF(ISBLANK(Datenerfassung!B338),\"\",Datenerfassung!B338)","v":""},{"$f":"IF(ISBLANK(Datenerfassung!C338),\"\",Datenerfassung!C338)","v":""},{"$f":"IF(ISBLANK(Datenerfassung!R338),\"\",Datenerfassung!R338)","v":""},{"$f":"IF(ISBLANK(Datenerfassung!S338),\"\",Datenerfassung!S338)","v":""},"",{"$f":"IF(ISBLANK(Datenerfassung!U338),\"\",Datenerfassung!U338)","v":""},{"$f":"IF(ISBLANK(Datenerfassung!O338),\"\",Datenerfassung!O338)","v":""},{"$f":"IF(ISBLANK(Datenerfassung!D338),IF(COUNTBLANK(A328:H328)+COUNTBLANK(J328:O328)=14,\"\",\"- ohne Titel -\"),Datenerfassung!D338)","v":""},{"$f":"IF(ISBLANK(Datenerfassung!G338),\"\",Datenerfassung!G338)","v":""},"",{"$f":"IF(ISBLANK(Datenerfassung!X338),\"\",Datenerfassung!X338)","v":""},{"$f":"IF(COUNTBLANK(Datenerfassung!H338:'Datenerfassung'!N338)=7,\"\",CONCATENATE( CONCATENATE(IF(ISBLANK(Datenerfassung!H338),\" \",Datenerfassung!H338 ),\" [IS]\"), CONCATENATE(IF(ISBLANK(Datenerfassung!I338),\" \",Datenerfassung!I338 ),\" [IS]\"), CONCATENATE(IF(ISBLANK(Datenerfassung!J338),\" \",Datenerfassung!J338 ),\" [IS]\"), CONCATENATE(IF(ISBLANK(Datenerfassung!K338),\" \",Datenerfassung!K338 ),\" [IS]\"), CONCATENATE(IF(ISBLANK(Datenerfassung!L338),\" \",Datenerfassung!L338 ),\" [IS]\"), CONCATENATE(IF(ISBLANK(Datenerfassung!M338),\" \",Datenerfassung!M338 ),\" [IS]\"), IF(ISBLANK(Datenerfassung!N338),\" \",Datenerfassung!N338 ) ))","v":""},{"$f":"IF(ISBLANK(Datenerfassung!V338),\"\",Datenerfassung!V338)","v":""},{"$f":"IF(ISBLANK(Datenerfassung!Q338),\"\",Datenerfassung!Q338)","v":""}]
[{"$f":"IF(ISBLANK(Datenerfassung!A339),\"\",Datenerfassung!A339)","v":""},{"$f":"IF(ISBLANK(Datenerfassung!B339),\"\",Datenerfassung!B339)","v":""},{"$f":"IF(ISBLANK(Datenerfassung!C339),\"\",Datenerfassung!C339)","v":""},{"$f":"IF(ISBLANK(Datenerfassung!R339),\"\",Datenerfassung!R339)","v":""},{"$f":"IF(ISBLANK(Datenerfassung!S339),\"\",Datenerfassung!S339)","v":""},"",{"$f":"IF(ISBLANK(Datenerfassung!U339),\"\",Datenerfassung!U339)","v":""},{"$f":"IF(ISBLANK(Datenerfassung!O339),\"\",Datenerfassung!O339)","v":""},{"$f":"IF(ISBLANK(Datenerfassung!D339),IF(COUNTBLANK(A329:H329)+COUNTBLANK(J329:O329)=14,\"\",\"- ohne Titel -\"),Datenerfassung!D339)","v":""},{"$f":"IF(ISBLANK(Datenerfassung!G339),\"\",Datenerfassung!G339)","v":""},"",{"$f":"IF(ISBLANK(Datenerfassung!X339),\"\",Datenerfassung!X339)","v":""},{"$f":"IF(COUNTBLANK(Datenerfassung!H339:'Datenerfassung'!N339)=7,\"\",CONCATENATE( CONCATENATE(IF(ISBLANK(Datenerfassung!H339),\" \",Datenerfassung!H339 ),\" [IS]\"), CONCATENATE(IF(ISBLANK(Datenerfassung!I339),\" \",Datenerfassung!I339 ),\" [IS]\"), CONCATENATE(IF(ISBLANK(Datenerfassung!J339),\" \",Datenerfassung!J339 ),\" [IS]\"), CONCATENATE(IF(ISBLANK(Datenerfassung!K339),\" \",Datenerfassung!K339 ),\" [IS]\"), CONCATENATE(IF(ISBLANK(Datenerfassung!L339),\" \",Datenerfassung!L339 ),\" [IS]\"), CONCATENATE(IF(ISBLANK(Datenerfassung!M339),\" \",Datenerfassung!M339 ),\" [IS]\"), IF(ISBLANK(Datenerfassung!N339),\" \",Datenerfassung!N339 ) ))","v":""},{"$f":"IF(ISBLANK(Datenerfassung!V339),\"\",Datenerfassung!V339)","v":""},{"$f":"IF(ISBLANK(Datenerfassung!Q339),\"\",Datenerfassung!Q339)","v":""}]
[{"$f":"IF(ISBLANK(Datenerfassung!A340),\"\",Datenerfassung!A340)","v":""},{"$f":"IF(ISBLANK(Datenerfassung!B340),\"\",Datenerfassung!B340)","v":""},{"$f":"IF(ISBLANK(Datenerfassung!C340),\"\",Datenerfassung!C340)","v":""},{"$f":"IF(ISBLANK(Datenerfassung!R340),\"\",Datenerfassung!R340)","v":""},{"$f":"IF(ISBLANK(Datenerfassung!S340),\"\",Datenerfassung!S340)","v":""},"",{"$f":"IF(ISBLANK(Datenerfassung!U340),\"\",Datenerfassung!U340)","v":""},{"$f":"IF(ISBLANK(Datenerfassung!O340),\"\",Datenerfassung!O340)","v":""},{"$f":"IF(ISBLANK(Datenerfassung!D340),IF(COUNTBLANK(A330:H330)+COUNTBLANK(J330:O330)=14,\"\",\"- ohne Titel -\"),Datenerfassung!D340)","v":""},{"$f":"IF(ISBLANK(Datenerfassung!G340),\"\",Datenerfassung!G340)","v":""},"",{"$f":"IF(ISBLANK(Datenerfassung!X340),\"\",Datenerfassung!X340)","v":""},{"$f":"IF(COUNTBLANK(Datenerfassung!H340:'Datenerfassung'!N340)=7,\"\",CONCATENATE( CONCATENATE(IF(ISBLANK(Datenerfassung!H340),\" \",Datenerfassung!H340 ),\" [IS]\"), CONCATENATE(IF(ISBLANK(Datenerfassung!I340),\" \",Datenerfassung!I340 ),\" [IS]\"), CONCATENATE(IF(ISBLANK(Datenerfassung!J340),\" \",Datenerfassung!J340 ),\" [IS]\"), CONCATENATE(IF(ISBLANK(Datenerfassung!K340),\" \",Datenerfassung!K340 ),\" [IS]\"), CONCATENATE(IF(ISBLANK(Datenerfassung!L340),\" \",Datenerfassung!L340 ),\" [IS]\"), CONCATENATE(IF(ISBLANK(Datenerfassung!M340),\" \",Datenerfassung!M340 ),\" [IS]\"), IF(ISBLANK(Datenerfassung!N340),\" \",Datenerfassung!N340 ) ))","v":""},{"$f":"IF(ISBLANK(Datenerfassung!V340),\"\",Datenerfassung!V340)","v":""},{"$f":"IF(ISBLANK(Datenerfassung!Q340),\"\",Datenerfassung!Q340)","v":""}]
[{"$f":"IF(ISBLANK(Datenerfassung!A341),\"\",Datenerfassung!A341)","v":""},{"$f":"IF(ISBLANK(Datenerfassung!B341),\"\",Datenerfassung!B341)","v":""},{"$f":"IF(ISBLANK(Datenerfassung!C341),\"\",Datenerfassung!C341)","v":""},{"$f":"IF(ISBLANK(Datenerfassung!R341),\"\",Datenerfassung!R341)","v":""},{"$f":"IF(ISBLANK(Datenerfassung!S341),\"\",Datenerfassung!S341)","v":""},"",{"$f":"IF(ISBLANK(Datenerfassung!U341),\"\",Datenerfassung!U341)","v":""},{"$f":"IF(ISBLANK(Datenerfassung!O341),\"\",Datenerfassung!O341)","v":""},{"$f":"IF(ISBLANK(Datenerfassung!D341),IF(COUNTBLANK(A331:H331)+COUNTBLANK(J331:O331)=14,\"\",\"- ohne Titel -\"),Datenerfassung!D341)","v":""},{"$f":"IF(ISBLANK(Datenerfassung!G341),\"\",Datenerfassung!G341)","v":""},"",{"$f":"IF(ISBLANK(Datenerfassung!X341),\"\",Datenerfassung!X341)","v":""},{"$f":"IF(COUNTBLANK(Datenerfassung!H341:'Datenerfassung'!N341)=7,\"\",CONCATENATE( CONCATENATE(IF(ISBLANK(Datenerfassung!H341),\" \",Datenerfassung!H341 ),\" [IS]\"), CONCATENATE(IF(ISBLANK(Datenerfassung!I341),\" \",Datenerfassung!I341 ),\" [IS]\"), CONCATENATE(IF(ISBLANK(Datenerfassung!J341),\" \",Datenerfassung!J341 ),\" [IS]\"), CONCATENATE(IF(ISBLANK(Datenerfassung!K341),\" \",Datenerfassung!K341 ),\" [IS]\"), CONCATENATE(IF(ISBLANK(Datenerfassung!L341),\" \",Datenerfassung!L341 ),\" [IS]\"), CONCATENATE(IF(ISBLANK(Datenerfassung!M341),\" \",Datenerfassung!M341 ),\" [IS]\"), IF(ISBLANK(Datenerfassung!N341),\" \",Datenerfassung!N341 ) ))","v":""},{"$f":"IF(ISBLANK(Datenerfassung!V341),\"\",Datenerfassung!V341)","v":""},{"$f":"IF(ISBLANK(Datenerfassung!Q341),\"\",Datenerfassung!Q341)","v":""}]
[{"$f":"IF(ISBLANK(Datenerfassung!A342),\"\",Datenerfassung!A342)","v":""},{"$f":"IF(ISBLANK(Datenerfassung!B342),\"\",Datenerfassung!B342)","v":""},{"$f":"IF(ISBLANK(Datenerfassung!C342),\"\",Datenerfassung!C342)","v":""},{"$f":"IF(ISBLANK(Datenerfassung!R342),\"\",Datenerfassung!R342)","v":""},{"$f":"IF(ISBLANK(Datenerfassung!S342),\"\",Datenerfassung!S342)","v":""},"",{"$f":"IF(ISBLANK(Datenerfassung!U342),\"\",Datenerfassung!U342)","v":""},{"$f":"IF(ISBLANK(Datenerfassung!O342),\"\",Datenerfassung!O342)","v":""},{"$f":"IF(ISBLANK(Datenerfassung!D342),IF(COUNTBLANK(A332:H332)+COUNTBLANK(J332:O332)=14,\"\",\"- ohne Titel -\"),Datenerfassung!D342)","v":""},{"$f":"IF(ISBLANK(Datenerfassung!G342),\"\",Datenerfassung!G342)","v":""},"",{"$f":"IF(ISBLANK(Datenerfassung!X342),\"\",Datenerfassung!X342)","v":""},{"$f":"IF(COUNTBLANK(Datenerfassung!H342:'Datenerfassung'!N342)=7,\"\",CONCATENATE( CONCATENATE(IF(ISBLANK(Datenerfassung!H342),\" \",Datenerfassung!H342 ),\" [IS]\"), CONCATENATE(IF(ISBLANK(Datenerfassung!I342),\" \",Datenerfassung!I342 ),\" [IS]\"), CONCATENATE(IF(ISBLANK(Datenerfassung!J342),\" \",Datenerfassung!J342 ),\" [IS]\"), CONCATENATE(IF(ISBLANK(Datenerfassung!K342),\" \",Datenerfassung!K342 ),\" [IS]\"), CONCATENATE(IF(ISBLANK(Datenerfassung!L342),\" \",Datenerfassung!L342 ),\" [IS]\"), CONCATENATE(IF(ISBLANK(Datenerfassung!M342),\" \",Datenerfassung!M342 ),\" [IS]\"), IF(ISBLANK(Datenerfassung!N342),\" \",Datenerfassung!N342 ) ))","v":""},{"$f":"IF(ISBLANK(Datenerfassung!V342),\"\",Datenerfassung!V342)","v":""},{"$f":"IF(ISBLANK(Datenerfassung!Q342),\"\",Datenerfassung!Q342)","v":""}]
[{"$f":"IF(ISBLANK(Datenerfassung!A343),\"\",Datenerfassung!A343)","v":""},{"$f":"IF(ISBLANK(Datenerfassung!B343),\"\",Datenerfassung!B343)","v":""},{"$f":"IF(ISBLANK(Datenerfassung!C343),\"\",Datenerfassung!C343)","v":""},{"$f":"IF(ISBLANK(Datenerfassung!R343),\"\",Datenerfassung!R343)","v":""},{"$f":"IF(ISBLANK(Datenerfassung!S343),\"\",Datenerfassung!S343)","v":""},"",{"$f":"IF(ISBLANK(Datenerfassung!U343),\"\",Datenerfassung!U343)","v":""},{"$f":"IF(ISBLANK(Datenerfassung!O343),\"\",Datenerfassung!O343)","v":""},{"$f":"IF(ISBLANK(Datenerfassung!D343),IF(COUNTBLANK(A333:H333)+COUNTBLANK(J333:O333)=14,\"\",\"- ohne Titel -\"),Datenerfassung!D343)","v":""},{"$f":"IF(ISBLANK(Datenerfassung!G343),\"\",Datenerfassung!G343)","v":""},"",{"$f":"IF(ISBLANK(Datenerfassung!X343),\"\",Datenerfassung!X343)","v":""},{"$f":"IF(COUNTBLANK(Datenerfassung!H343:'Datenerfassung'!N343)=7,\"\",CONCATENATE( CONCATENATE(IF(ISBLANK(Datenerfassung!H343),\" \",Datenerfassung!H343 ),\" [IS]\"), CONCATENATE(IF(ISBLANK(Datenerfassung!I343),\" \",Datenerfassung!I343 ),\" [IS]\"), CONCATENATE(IF(ISBLANK(Datenerfassung!J343),\" \",Datenerfassung!J343 ),\" [IS]\"), CONCATENATE(IF(ISBLANK(Datenerfassung!K343),\" \",Datenerfassung!K343 ),\" [IS]\"), CONCATENATE(IF(ISBLANK(Datenerfassung!L343),\" \",Datenerfassung!L343 ),\" [IS]\"), CONCATENATE(IF(ISBLANK(Datenerfassung!M343),\" \",Datenerfassung!M343 ),\" [IS]\"), IF(ISBLANK(Datenerfassung!N343),\" \",Datenerfassung!N343 ) ))","v":""},{"$f":"IF(ISBLANK(Datenerfassung!V343),\"\",Datenerfassung!V343)","v":""},{"$f":"IF(ISBLANK(Datenerfassung!Q343),\"\",Datenerfassung!Q343)","v":""}]
[{"$f":"IF(ISBLANK(Datenerfassung!A344),\"\",Datenerfassung!A344)","v":""},{"$f":"IF(ISBLANK(Datenerfassung!B344),\"\",Datenerfassung!B344)","v":""},{"$f":"IF(ISBLANK(Datenerfassung!C344),\"\",Datenerfassung!C344)","v":""},{"$f":"IF(ISBLANK(Datenerfassung!R344),\"\",Datenerfassung!R344)","v":""},{"$f":"IF(ISBLANK(Datenerfassung!S344),\"\",Datenerfassung!S344)","v":""},"",{"$f":"IF(ISBLANK(Datenerfassung!U344),\"\",Datenerfassung!U344)","v":""},{"$f":"IF(ISBLANK(Datenerfassung!O344),\"\",Datenerfassung!O344)","v":""},{"$f":"IF(ISBLANK(Datenerfassung!D344),IF(COUNTBLANK(A334:H334)+COUNTBLANK(J334:O334)=14,\"\",\"- ohne Titel -\"),Datenerfassung!D344)","v":""},{"$f":"IF(ISBLANK(Datenerfassung!G344),\"\",Datenerfassung!G344)","v":""},"",{"$f":"IF(ISBLANK(Datenerfassung!X344),\"\",Datenerfassung!X344)","v":""},{"$f":"IF(COUNTBLANK(Datenerfassung!H344:'Datenerfassung'!N344)=7,\"\",CONCATENATE( CONCATENATE(IF(ISBLANK(Datenerfassung!H344),\" \",Datenerfassung!H344 ),\" [IS]\"), CONCATENATE(IF(ISBLANK(Datenerfassung!I344),\" \",Datenerfassung!I344 ),\" [IS]\"), CONCATENATE(IF(ISBLANK(Datenerfassung!J344),\" \",Datenerfassung!J344 ),\" [IS]\"), CONCATENATE(IF(ISBLANK(Datenerfassung!K344),\" \",Datenerfassung!K344 ),\" [IS]\"), CONCATENATE(IF(ISBLANK(Datenerfassung!L344),\" \",Datenerfassung!L344 ),\" [IS]\"), CONCATENATE(IF(ISBLANK(Datenerfassung!M344),\" \",Datenerfassung!M344 ),\" [IS]\"), IF(ISBLANK(Datenerfassung!N344),\" \",Datenerfassung!N344 ) ))","v":""},{"$f":"IF(ISBLANK(Datenerfassung!V344),\"\",Datenerfassung!V344)","v":""},{"$f":"IF(ISBLANK(Datenerfassung!Q344),\"\",Datenerfassung!Q344)","v":""}]
[{"$f":"IF(ISBLANK(Datenerfassung!A345),\"\",Datenerfassung!A345)","v":""},{"$f":"IF(ISBLANK(Datenerfassung!B345),\"\",Datenerfassung!B345)","v":""},{"$f":"IF(ISBLANK(Datenerfassung!C345),\"\",Datenerfassung!C345)","v":""},{"$f":"IF(ISBLANK(Datenerfassung!R345),\"\",Datenerfassung!R345)","v":""},{"$f":"IF(ISBLANK(Datenerfassung!S345),\"\",Datenerfassung!S345)","v":""},"",{"$f":"IF(ISBLANK(Datenerfassung!U345),\"\",Datenerfassung!U345)","v":""},{"$f":"IF(ISBLANK(Datenerfassung!O345),\"\",Datenerfassung!O345)","v":""},{"$f":"IF(ISBLANK(Datenerfassung!D345),IF(COUNTBLANK(A335:H335)+COUNTBLANK(J335:O335)=14,\"\",\"- ohne Titel -\"),Datenerfassung!D345)","v":""},{"$f":"IF(ISBLANK(Datenerfassung!G345),\"\",Datenerfassung!G345)","v":""},"",{"$f":"IF(ISBLANK(Datenerfassung!X345),\"\",Datenerfassung!X345)","v":""},{"$f":"IF(COUNTBLANK(Datenerfassung!H345:'Datenerfassung'!N345)=7,\"\",CONCATENATE( CONCATENATE(IF(ISBLANK(Datenerfassung!H345),\" \",Datenerfassung!H345 ),\" [IS]\"), CONCATENATE(IF(ISBLANK(Datenerfassung!I345),\" \",Datenerfassung!I345 ),\" [IS]\"), CONCATENATE(IF(ISBLANK(Datenerfassung!J345),\" \",Datenerfassung!J345 ),\" [IS]\"), CONCATENATE(IF(ISBLANK(Datenerfassung!K345),\" \",Datenerfassung!K345 ),\" [IS]\"), CONCATENATE(IF(ISBLANK(Datenerfassung!L345),\" \",Datenerfassung!L345 ),\" [IS]\"), CONCATENATE(IF(ISBLANK(Datenerfassung!M345),\" \",Datenerfassung!M345 ),\" [IS]\"), IF(ISBLANK(Datenerfassung!N345),\" \",Datenerfassung!N345 ) ))","v":""},{"$f":"IF(ISBLANK(Datenerfassung!V345),\"\",Datenerfassung!V345)","v":""},{"$f":"IF(ISBLANK(Datenerfassung!Q345),\"\",Datenerfassung!Q345)","v":""}]
[{"$f":"IF(ISBLANK(Datenerfassung!A346),\"\",Datenerfassung!A346)","v":""},{"$f":"IF(ISBLANK(Datenerfassung!B346),\"\",Datenerfassung!B346)","v":""},{"$f":"IF(ISBLANK(Datenerfassung!C346),\"\",Datenerfassung!C346)","v":""},{"$f":"IF(ISBLANK(Datenerfassung!R346),\"\",Datenerfassung!R346)","v":""},{"$f":"IF(ISBLANK(Datenerfassung!S346),\"\",Datenerfassung!S346)","v":""},"",{"$f":"IF(ISBLANK(Datenerfassung!U346),\"\",Datenerfassung!U346)","v":""},{"$f":"IF(ISBLANK(Datenerfassung!O346),\"\",Datenerfassung!O346)","v":""},{"$f":"IF(ISBLANK(Datenerfassung!D346),IF(COUNTBLANK(A336:H336)+COUNTBLANK(J336:O336)=14,\"\",\"- ohne Titel -\"),Datenerfassung!D346)","v":""},{"$f":"IF(ISBLANK(Datenerfassung!G346),\"\",Datenerfassung!G346)","v":""},"",{"$f":"IF(ISBLANK(Datenerfassung!X346),\"\",Datenerfassung!X346)","v":""},{"$f":"IF(COUNTBLANK(Datenerfassung!H346:'Datenerfassung'!N346)=7,\"\",CONCATENATE( CONCATENATE(IF(ISBLANK(Datenerfassung!H346),\" \",Datenerfassung!H346 ),\" [IS]\"), CONCATENATE(IF(ISBLANK(Datenerfassung!I346),\" \",Datenerfassung!I346 ),\" [IS]\"), CONCATENATE(IF(ISBLANK(Datenerfassung!J346),\" \",Datenerfassung!J346 ),\" [IS]\"), CONCATENATE(IF(ISBLANK(Datenerfassung!K346),\" \",Datenerfassung!K346 ),\" [IS]\"), CONCATENATE(IF(ISBLANK(Datenerfassung!L346),\" \",Datenerfassung!L346 ),\" [IS]\"), CONCATENATE(IF(ISBLANK(Datenerfassung!M346),\" \",Datenerfassung!M346 ),\" [IS]\"), IF(ISBLANK(Datenerfassung!N346),\" \",Datenerfassung!N346 ) ))","v":""},{"$f":"IF(ISBLANK(Datenerfassung!V346),\"\",Datenerfassung!V346)","v":""},{"$f":"IF(ISBLANK(Datenerfassung!Q346),\"\",Datenerfassung!Q346)","v":""}]
[{"$f":"IF(ISBLANK(Datenerfassung!A347),\"\",Datenerfassung!A347)","v":""},{"$f":"IF(ISBLANK(Datenerfassung!B347),\"\",Datenerfassung!B347)","v":""},{"$f":"IF(ISBLANK(Datenerfassung!C347),\"\",Datenerfassung!C347)","v":""},{"$f":"IF(ISBLANK(Datenerfassung!R347),\"\",Datenerfassung!R347)","v":""},{"$f":"IF(ISBLANK(Datenerfassung!S347),\"\",Datenerfassung!S347)","v":""},"",{"$f":"IF(ISBLANK(Datenerfassung!U347),\"\",Datenerfassung!U347)","v":""},{"$f":"IF(ISBLANK(Datenerfassung!O347),\"\",Datenerfassung!O347)","v":""},{"$f":"IF(ISBLANK(Datenerfassung!D347),IF(COUNTBLANK(A337:H337)+COUNTBLANK(J337:O337)=14,\"\",\"- ohne Titel -\"),Datenerfassung!D347)","v":""},{"$f":"IF(ISBLANK(Datenerfassung!G347),\"\",Datenerfassung!G347)","v":""},"",{"$f":"IF(ISBLANK(Datenerfassung!X347),\"\",Datenerfassung!X347)","v":""},{"$f":"IF(COUNTBLANK(Datenerfassung!H347:'Datenerfassung'!N347)=7,\"\",CONCATENATE( CONCATENATE(IF(ISBLANK(Datenerfassung!H347),\" \",Datenerfassung!H347 ),\" [IS]\"), CONCATENATE(IF(ISBLANK(Datenerfassung!I347),\" \",Datenerfassung!I347 ),\" [IS]\"), CONCATENATE(IF(ISBLANK(Datenerfassung!J347),\" \",Datenerfassung!J347 ),\" [IS]\"), CONCATENATE(IF(ISBLANK(Datenerfassung!K347),\" \",Datenerfassung!K347 ),\" [IS]\"), CONCATENATE(IF(ISBLANK(Datenerfassung!L347),\" \",Datenerfassung!L347 ),\" [IS]\"), CONCATENATE(IF(ISBLANK(Datenerfassung!M347),\" \",Datenerfassung!M347 ),\" [IS]\"), IF(ISBLANK(Datenerfassung!N347),\" \",Datenerfassung!N347 ) ))","v":""},{"$f":"IF(ISBLANK(Datenerfassung!V347),\"\",Datenerfassung!V347)","v":""},{"$f":"IF(ISBLANK(Datenerfassung!Q347),\"\",Datenerfassung!Q347)","v":""}]
[{"$f":"IF(ISBLANK(Datenerfassung!A348),\"\",Datenerfassung!A348)","v":""},{"$f":"IF(ISBLANK(Datenerfassung!B348),\"\",Datenerfassung!B348)","v":""},{"$f":"IF(ISBLANK(Datenerfassung!C348),\"\",Datenerfassung!C348)","v":""},{"$f":"IF(ISBLANK(Datenerfassung!R348),\"\",Datenerfassung!R348)","v":""},{"$f":"IF(ISBLANK(Datenerfassung!S348),\"\",Datenerfassung!S348)","v":""},"",{"$f":"IF(ISBLANK(Datenerfassung!U348),\"\",Datenerfassung!U348)","v":""},{"$f":"IF(ISBLANK(Datenerfassung!O348),\"\",Datenerfassung!O348)","v":""},{"$f":"IF(ISBLANK(Datenerfassung!D348),IF(COUNTBLANK(A338:H338)+COUNTBLANK(J338:O338)=14,\"\",\"- ohne Titel -\"),Datenerfassung!D348)","v":""},{"$f":"IF(ISBLANK(Datenerfassung!G348),\"\",Datenerfassung!G348)","v":""},"",{"$f":"IF(ISBLANK(Datenerfassung!X348),\"\",Datenerfassung!X348)","v":""},{"$f":"IF(COUNTBLANK(Datenerfassung!H348:'Datenerfassung'!N348)=7,\"\",CONCATENATE( CONCATENATE(IF(ISBLANK(Datenerfassung!H348),\" \",Datenerfassung!H348 ),\" [IS]\"), CONCATENATE(IF(ISBLANK(Datenerfassung!I348),\" \",Datenerfassung!I348 ),\" [IS]\"), CONCATENATE(IF(ISBLANK(Datenerfassung!J348),\" \",Datenerfassung!J348 ),\" [IS]\"), CONCATENATE(IF(ISBLANK(Datenerfassung!K348),\" \",Datenerfassung!K348 ),\" [IS]\"), CONCATENATE(IF(ISBLANK(Datenerfassung!L348),\" \",Datenerfassung!L348 ),\" [IS]\"), CONCATENATE(IF(ISBLANK(Datenerfassung!M348),\" \",Datenerfassung!M348 ),\" [IS]\"), IF(ISBLANK(Datenerfassung!N348),\" \",Datenerfassung!N348 ) ))","v":""},{"$f":"IF(ISBLANK(Datenerfassung!V348),\"\",Datenerfassung!V348)","v":""},{"$f":"IF(ISBLANK(Datenerfassung!Q348),\"\",Datenerfassung!Q348)","v":""}]
[{"$f":"IF(ISBLANK(Datenerfassung!A349),\"\",Datenerfassung!A349)","v":""},{"$f":"IF(ISBLANK(Datenerfassung!B349),\"\",Datenerfassung!B349)","v":""},{"$f":"IF(ISBLANK(Datenerfassung!C349),\"\",Datenerfassung!C349)","v":""},{"$f":"IF(ISBLANK(Datenerfassung!R349),\"\",Datenerfassung!R349)","v":""},{"$f":"IF(ISBLANK(Datenerfassung!S349),\"\",Datenerfassung!S349)","v":""},"",{"$f":"IF(ISBLANK(Datenerfassung!U349),\"\",Datenerfassung!U349)","v":""},{"$f":"IF(ISBLANK(Datenerfassung!O349),\"\",Datenerfassung!O349)","v":""},{"$f":"IF(ISBLANK(Datenerfassung!D349),IF(COUNTBLANK(A339:H339)+COUNTBLANK(J339:O339)=14,\"\",\"- ohne Titel -\"),Datenerfassung!D349)","v":""},{"$f":"IF(ISBLANK(Datenerfassung!G349),\"\",Datenerfassung!G349)","v":""},"",{"$f":"IF(ISBLANK(Datenerfassung!X349),\"\",Datenerfassung!X349)","v":""},{"$f":"IF(COUNTBLANK(Datenerfassung!H349:'Datenerfassung'!N349)=7,\"\",CONCATENATE( CONCATENATE(IF(ISBLANK(Datenerfassung!H349),\" \",Datenerfassung!H349 ),\" [IS]\"), CONCATENATE(IF(ISBLANK(Datenerfassung!I349),\" \",Datenerfassung!I349 ),\" [IS]\"), CONCATENATE(IF(ISBLANK(Datenerfassung!J349),\" \",Datenerfassung!J349 ),\" [IS]\"), CONCATENATE(IF(ISBLANK(Datenerfassung!K349),\" \",Datenerfassung!K349 ),\" [IS]\"), CONCATENATE(IF(ISBLANK(Datenerfassung!L349),\" \",Datenerfassung!L349 ),\" [IS]\"), CONCATENATE(IF(ISBLANK(Datenerfassung!M349),\" \",Datenerfassung!M349 ),\" [IS]\"), IF(ISBLANK(Datenerfassung!N349),\" \",Datenerfassung!N349 ) ))","v":""},{"$f":"IF(ISBLANK(Datenerfassung!V349),\"\",Datenerfassung!V349)","v":""},{"$f":"IF(ISBLANK(Datenerfassung!Q349),\"\",Datenerfassung!Q349)","v":""}]
[{"$f":"IF(ISBLANK(Datenerfassung!A350),\"\",Datenerfassung!A350)","v":""},{"$f":"IF(ISBLANK(Datenerfassung!B350),\"\",Datenerfassung!B350)","v":""},{"$f":"IF(ISBLANK(Datenerfassung!C350),\"\",Datenerfassung!C350)","v":""},{"$f":"IF(ISBLANK(Datenerfassung!R350),\"\",Datenerfassung!R350)","v":""},{"$f":"IF(ISBLANK(Datenerfassung!S350),\"\",Datenerfassung!S350)","v":""},"",{"$f":"IF(ISBLANK(Datenerfassung!U350),\"\",Datenerfassung!U350)","v":""},{"$f":"IF(ISBLANK(Datenerfassung!O350),\"\",Datenerfassung!O350)","v":""},{"$f":"IF(ISBLANK(Datenerfassung!D350),IF(COUNTBLANK(A340:H340)+COUNTBLANK(J340:O340)=14,\"\",\"- ohne Titel -\"),Datenerfassung!D350)","v":""},{"$f":"IF(ISBLANK(Datenerfassung!G350),\"\",Datenerfassung!G350)","v":""},"",{"$f":"IF(ISBLANK(Datenerfassung!X350),\"\",Datenerfassung!X350)","v":""},{"$f":"IF(COUNTBLANK(Datenerfassung!H350:'Datenerfassung'!N350)=7,\"\",CONCATENATE( CONCATENATE(IF(ISBLANK(Datenerfassung!H350),\" \",Datenerfassung!H350 ),\" [IS]\"), CONCATENATE(IF(ISBLANK(Datenerfassung!I350),\" \",Datenerfassung!I350 ),\" [IS]\"), CONCATENATE(IF(ISBLANK(Datenerfassung!J350),\" \",Datenerfassung!J350 ),\" [IS]\"), CONCATENATE(IF(ISBLANK(Datenerfassung!K350),\" \",Datenerfassung!K350 ),\" [IS]\"), CONCATENATE(IF(ISBLANK(Datenerfassung!L350),\" \",Datenerfassung!L350 ),\" [IS]\"), CONCATENATE(IF(ISBLANK(Datenerfassung!M350),\" \",Datenerfassung!M350 ),\" [IS]\"), IF(ISBLANK(Datenerfassung!N350),\" \",Datenerfassung!N350 ) ))","v":""},{"$f":"IF(ISBLANK(Datenerfassung!V350),\"\",Datenerfassung!V350)","v":""},{"$f":"IF(ISBLANK(Datenerfassung!Q350),\"\",Datenerfassung!Q350)","v":""}]
[{"$f":"IF(ISBLANK(Datenerfassung!A351),\"\",Datenerfassung!A351)","v":""},{"$f":"IF(ISBLANK(Datenerfassung!B351),\"\",Datenerfassung!B351)","v":""},{"$f":"IF(ISBLANK(Datenerfassung!C351),\"\",Datenerfassung!C351)","v":""},{"$f":"IF(ISBLANK(Datenerfassung!R351),\"\",Datenerfassung!R351)","v":""},{"$f":"IF(ISBLANK(Datenerfassung!S351),\"\",Datenerfassung!S351)","v":""},"",{"$f":"IF(ISBLANK(Datenerfassung!U351),\"\",Datenerfassung!U351)","v":""},{"$f":"IF(ISBLANK(Datenerfassung!O351),\"\",Datenerfassung!O351)","v":""},{"$f":"IF(ISBLANK(Datenerfassung!D351),IF(COUNTBLANK(A341:H341)+COUNTBLANK(J341:O341)=14,\"\",\"- ohne Titel -\"),Datenerfassung!D351)","v":""},{"$f":"IF(ISBLANK(Datenerfassung!G351),\"\",Datenerfassung!G351)","v":""},"",{"$f":"IF(ISBLANK(Datenerfassung!X351),\"\",Datenerfassung!X351)","v":""},{"$f":"IF(COUNTBLANK(Datenerfassung!H351:'Datenerfassung'!N351)=7,\"\",CONCATENATE( CONCATENATE(IF(ISBLANK(Datenerfassung!H351),\" \",Datenerfassung!H351 ),\" [IS]\"), CONCATENATE(IF(ISBLANK(Datenerfassung!I351),\" \",Datenerfassung!I351 ),\" [IS]\"), CONCATENATE(IF(ISBLANK(Datenerfassung!J351),\" \",Datenerfassung!J351 ),\" [IS]\"), CONCATENATE(IF(ISBLANK(Datenerfassung!K351),\" \",Datenerfassung!K351 ),\" [IS]\"), CONCATENATE(IF(ISBLANK(Datenerfassung!L351),\" \",Datenerfassung!L351 ),\" [IS]\"), CONCATENATE(IF(ISBLANK(Datenerfassung!M351),\" \",Datenerfassung!M351 ),\" [IS]\"), IF(ISBLANK(Datenerfassung!N351),\" \",Datenerfassung!N351 ) ))","v":""},{"$f":"IF(ISBLANK(Datenerfassung!V351),\"\",Datenerfassung!V351)","v":""},{"$f":"IF(ISBLANK(Datenerfassung!Q351),\"\",Datenerfassung!Q351)","v":""}]
[{"$f":"IF(ISBLANK(Datenerfassung!A352),\"\",Datenerfassung!A352)","v":""},{"$f":"IF(ISBLANK(Datenerfassung!B352),\"\",Datenerfassung!B352)","v":""},{"$f":"IF(ISBLANK(Datenerfassung!C352),\"\",Datenerfassung!C352)","v":""},{"$f":"IF(ISBLANK(Datenerfassung!R352),\"\",Datenerfassung!R352)","v":""},{"$f":"IF(ISBLANK(Datenerfassung!S352),\"\",Datenerfassung!S352)","v":""},"",{"$f":"IF(ISBLANK(Datenerfassung!U352),\"\",Datenerfassung!U352)","v":""},{"$f":"IF(ISBLANK(Datenerfassung!O352),\"\",Datenerfassung!O352)","v":""},{"$f":"IF(ISBLANK(Datenerfassung!D352),IF(COUNTBLANK(A342:H342)+COUNTBLANK(J342:O342)=14,\"\",\"- ohne Titel -\"),Datenerfassung!D352)","v":""},{"$f":"IF(ISBLANK(Datenerfassung!G352),\"\",Datenerfassung!G352)","v":""},"",{"$f":"IF(ISBLANK(Datenerfassung!X352),\"\",Datenerfassung!X352)","v":""},{"$f":"IF(COUNTBLANK(Datenerfassung!H352:'Datenerfassung'!N352)=7,\"\",CONCATENATE( CONCATENATE(IF(ISBLANK(Datenerfassung!H352),\" \",Datenerfassung!H352 ),\" [IS]\"), CONCATENATE(IF(ISBLANK(Datenerfassung!I352),\" \",Datenerfassung!I352 ),\" [IS]\"), CONCATENATE(IF(ISBLANK(Datenerfassung!J352),\" \",Datenerfassung!J352 ),\" [IS]\"), CONCATENATE(IF(ISBLANK(Datenerfassung!K352),\" \",Datenerfassung!K352 ),\" [IS]\"), CONCATENATE(IF(ISBLANK(Datenerfassung!L352),\" \",Datenerfassung!L352 ),\" [IS]\"), CONCATENATE(IF(ISBLANK(Datenerfassung!M352),\" \",Datenerfassung!M352 ),\" [IS]\"), IF(ISBLANK(Datenerfassung!N352),\" \",Datenerfassung!N352 ) ))","v":""},{"$f":"IF(ISBLANK(Datenerfassung!V352),\"\",Datenerfassung!V352)","v":""},{"$f":"IF(ISBLANK(Datenerfassung!Q352),\"\",Datenerfassung!Q352)","v":""}]
[{"$f":"IF(ISBLANK(Datenerfassung!A353),\"\",Datenerfassung!A353)","v":""},{"$f":"IF(ISBLANK(Datenerfassung!B353),\"\",Datenerfassung!B353)","v":""},{"$f":"IF(ISBLANK(Datenerfassung!C353),\"\",Datenerfassung!C353)","v":""},{"$f":"IF(ISBLANK(Datenerfassung!R353),\"\",Datenerfassung!R353)","v":""},{"$f":"IF(ISBLANK(Datenerfassung!S353),\"\",Datenerfassung!S353)","v":""},"",{"$f":"IF(ISBLANK(Datenerfassung!U353),\"\",Datenerfassung!U353)","v":""},{"$f":"IF(ISBLANK(Datenerfassung!O353),\"\",Datenerfassung!O353)","v":""},{"$f":"IF(ISBLANK(Datenerfassung!D353),IF(COUNTBLANK(A343:H343)+COUNTBLANK(J343:O343)=14,\"\",\"- ohne Titel -\"),Datenerfassung!D353)","v":""},{"$f":"IF(ISBLANK(Datenerfassung!G353),\"\",Datenerfassung!G353)","v":""},"",{"$f":"IF(ISBLANK(Datenerfassung!X353),\"\",Datenerfassung!X353)","v":""},{"$f":"IF(COUNTBLANK(Datenerfassung!H353:'Datenerfassung'!N353)=7,\"\",CONCATENATE( CONCATENATE(IF(ISBLANK(Datenerfassung!H353),\" \",Datenerfassung!H353 ),\" [IS]\"), CONCATENATE(IF(ISBLANK(Datenerfassung!I353),\" \",Datenerfassung!I353 ),\" [IS]\"), CONCATENATE(IF(ISBLANK(Datenerfassung!J353),\" \",Datenerfassung!J353 ),\" [IS]\"), CONCATENATE(IF(ISBLANK(Datenerfassung!K353),\" \",Datenerfassung!K353 ),\" [IS]\"), CONCATENATE(IF(ISBLANK(Datenerfassung!L353),\" \",Datenerfassung!L353 ),\" [IS]\"), CONCATENATE(IF(ISBLANK(Datenerfassung!M353),\" \",Datenerfassung!M353 ),\" [IS]\"), IF(ISBLANK(Datenerfassung!N353),\" \",Datenerfassung!N353 ) ))","v":""},{"$f":"IF(ISBLANK(Datenerfassung!V353),\"\",Datenerfassung!V353)","v":""},{"$f":"IF(ISBLANK(Datenerfassung!Q353),\"\",Datenerfassung!Q353)","v":""}]
[{"$f":"IF(ISBLANK(Datenerfassung!A354),\"\",Datenerfassung!A354)","v":""},{"$f":"IF(ISBLANK(Datenerfassung!B354),\"\",Datenerfassung!B354)","v":""},{"$f":"IF(ISBLANK(Datenerfassung!C354),\"\",Datenerfassung!C354)","v":""},{"$f":"IF(ISBLANK(Datenerfassung!R354),\"\",Datenerfassung!R354)","v":""},{"$f":"IF(ISBLANK(Datenerfassung!S354),\"\",Datenerfassung!S354)","v":""},"",{"$f":"IF(ISBLANK(Datenerfassung!U354),\"\",Datenerfassung!U354)","v":""},{"$f":"IF(ISBLANK(Datenerfassung!O354),\"\",Datenerfassung!O354)","v":""},{"$f":"IF(ISBLANK(Datenerfassung!D354),IF(COUNTBLANK(A344:H344)+COUNTBLANK(J344:O344)=14,\"\",\"- ohne Titel -\"),Datenerfassung!D354)","v":""},{"$f":"IF(ISBLANK(Datenerfassung!G354),\"\",Datenerfassung!G354)","v":""},"",{"$f":"IF(ISBLANK(Datenerfassung!X354),\"\",Datenerfassung!X354)","v":""},{"$f":"IF(COUNTBLANK(Datenerfassung!H354:'Datenerfassung'!N354)=7,\"\",CONCATENATE( CONCATENATE(IF(ISBLANK(Datenerfassung!H354),\" \",Datenerfassung!H354 ),\" [IS]\"), CONCATENATE(IF(ISBLANK(Datenerfassung!I354),\" \",Datenerfassung!I354 ),\" [IS]\"), CONCATENATE(IF(ISBLANK(Datenerfassung!J354),\" \",Datenerfassung!J354 ),\" [IS]\"), CONCATENATE(IF(ISBLANK(Datenerfassung!K354),\" \",Datenerfassung!K354 ),\" [IS]\"), CONCATENATE(IF(ISBLANK(Datenerfassung!L354),\" \",Datenerfassung!L354 ),\" [IS]\"), CONCATENATE(IF(ISBLANK(Datenerfassung!M354),\" \",Datenerfassung!M354 ),\" [IS]\"), IF(ISBLANK(Datenerfassung!N354),\" \",Datenerfassung!N354 ) ))","v":""},{"$f":"IF(ISBLANK(Datenerfassung!V354),\"\",Datenerfassung!V354)","v":""},{"$f":"IF(ISBLANK(Datenerfassung!Q354),\"\",Datenerfassung!Q354)","v":""}]
[{"$f":"IF(ISBLANK(Datenerfassung!A355),\"\",Datenerfassung!A355)","v":""},{"$f":"IF(ISBLANK(Datenerfassung!B355),\"\",Datenerfassung!B355)","v":""},{"$f":"IF(ISBLANK(Datenerfassung!C355),\"\",Datenerfassung!C355)","v":""},{"$f":"IF(ISBLANK(Datenerfassung!R355),\"\",Datenerfassung!R355)","v":""},{"$f":"IF(ISBLANK(Datenerfassung!S355),\"\",Datenerfassung!S355)","v":""},"",{"$f":"IF(ISBLANK(Datenerfassung!U355),\"\",Datenerfassung!U355)","v":""},{"$f":"IF(ISBLANK(Datenerfassung!O355),\"\",Datenerfassung!O355)","v":""},{"$f":"IF(ISBLANK(Datenerfassung!D355),IF(COUNTBLANK(A345:H345)+COUNTBLANK(J345:O345)=14,\"\",\"- ohne Titel -\"),Datenerfassung!D355)","v":""},{"$f":"IF(ISBLANK(Datenerfassung!G355),\"\",Datenerfassung!G355)","v":""},"",{"$f":"IF(ISBLANK(Datenerfassung!X355),\"\",Datenerfassung!X355)","v":""},{"$f":"IF(COUNTBLANK(Datenerfassung!H355:'Datenerfassung'!N355)=7,\"\",CONCATENATE( CONCATENATE(IF(ISBLANK(Datenerfassung!H355),\" \",Datenerfassung!H355 ),\" [IS]\"), CONCATENATE(IF(ISBLANK(Datenerfassung!I355),\" \",Datenerfassung!I355 ),\" [IS]\"), CONCATENATE(IF(ISBLANK(Datenerfassung!J355),\" \",Datenerfassung!J355 ),\" [IS]\"), CONCATENATE(IF(ISBLANK(Datenerfassung!K355),\" \",Datenerfassung!K355 ),\" [IS]\"), CONCATENATE(IF(ISBLANK(Datenerfassung!L355),\" \",Datenerfassung!L355 ),\" [IS]\"), CONCATENATE(IF(ISBLANK(Datenerfassung!M355),\" \",Datenerfassung!M355 ),\" [IS]\"), IF(ISBLANK(Datenerfassung!N355),\" \",Datenerfassung!N355 ) ))","v":""},{"$f":"IF(ISBLANK(Datenerfassung!V355),\"\",Datenerfassung!V355)","v":""},{"$f":"IF(ISBLANK(Datenerfassung!Q355),\"\",Datenerfassung!Q355)","v":""}]
[{"$f":"IF(ISBLANK(Datenerfassung!A356),\"\",Datenerfassung!A356)","v":""},{"$f":"IF(ISBLANK(Datenerfassung!B356),\"\",Datenerfassung!B356)","v":""},{"$f":"IF(ISBLANK(Datenerfassung!C356),\"\",Datenerfassung!C356)","v":""},{"$f":"IF(ISBLANK(Datenerfassung!R356),\"\",Datenerfassung!R356)","v":""},{"$f":"IF(ISBLANK(Datenerfassung!S356),\"\",Datenerfassung!S356)","v":""},"",{"$f":"IF(ISBLANK(Datenerfassung!U356),\"\",Datenerfassung!U356)","v":""},{"$f":"IF(ISBLANK(Datenerfassung!O356),\"\",Datenerfassung!O356)","v":""},{"$f":"IF(ISBLANK(Datenerfassung!D356),IF(COUNTBLANK(A346:H346)+COUNTBLANK(J346:O346)=14,\"\",\"- ohne Titel -\"),Datenerfassung!D356)","v":""},{"$f":"IF(ISBLANK(Datenerfassung!G356),\"\",Datenerfassung!G356)","v":""},"",{"$f":"IF(ISBLANK(Datenerfassung!X356),\"\",Datenerfassung!X356)","v":""},{"$f":"IF(COUNTBLANK(Datenerfassung!H356:'Datenerfassung'!N356)=7,\"\",CONCATENATE( CONCATENATE(IF(ISBLANK(Datenerfassung!H356),\" \",Datenerfassung!H356 ),\" [IS]\"), CONCATENATE(IF(ISBLANK(Datenerfassung!I356),\" \",Datenerfassung!I356 ),\" [IS]\"), CONCATENATE(IF(ISBLANK(Datenerfassung!J356),\" \",Datenerfassung!J356 ),\" [IS]\"), CONCATENATE(IF(ISBLANK(Datenerfassung!K356),\" \",Datenerfassung!K356 ),\" [IS]\"), CONCATENATE(IF(ISBLANK(Datenerfassung!L356),\" \",Datenerfassung!L356 ),\" [IS]\"), CONCATENATE(IF(ISBLANK(Datenerfassung!M356),\" \",Datenerfassung!M356 ),\" [IS]\"), IF(ISBLANK(Datenerfassung!N356),\" \",Datenerfassung!N356 ) ))","v":""},{"$f":"IF(ISBLANK(Datenerfassung!V356),\"\",Datenerfassung!V356)","v":""},{"$f":"IF(ISBLANK(Datenerfassung!Q356),\"\",Datenerfassung!Q356)","v":""}]
[{"$f":"IF(ISBLANK(Datenerfassung!A357),\"\",Datenerfassung!A357)","v":""},{"$f":"IF(ISBLANK(Datenerfassung!B357),\"\",Datenerfassung!B357)","v":""},{"$f":"IF(ISBLANK(Datenerfassung!C357),\"\",Datenerfassung!C357)","v":""},{"$f":"IF(ISBLANK(Datenerfassung!R357),\"\",Datenerfassung!R357)","v":""},{"$f":"IF(ISBLANK(Datenerfassung!S357),\"\",Datenerfassung!S357)","v":""},"",{"$f":"IF(ISBLANK(Datenerfassung!U357),\"\",Datenerfassung!U357)","v":""},{"$f":"IF(ISBLANK(Datenerfassung!O357),\"\",Datenerfassung!O357)","v":""},{"$f":"IF(ISBLANK(Datenerfassung!D357),IF(COUNTBLANK(A347:H347)+COUNTBLANK(J347:O347)=14,\"\",\"- ohne Titel -\"),Datenerfassung!D357)","v":""},{"$f":"IF(ISBLANK(Datenerfassung!G357),\"\",Datenerfassung!G357)","v":""},"",{"$f":"IF(ISBLANK(Datenerfassung!X357),\"\",Datenerfassung!X357)","v":""},{"$f":"IF(COUNTBLANK(Datenerfassung!H357:'Datenerfassung'!N357)=7,\"\",CONCATENATE( CONCATENATE(IF(ISBLANK(Datenerfassung!H357),\" \",Datenerfassung!H357 ),\" [IS]\"), CONCATENATE(IF(ISBLANK(Datenerfassung!I357),\" \",Datenerfassung!I357 ),\" [IS]\"), CONCATENATE(IF(ISBLANK(Datenerfassung!J357),\" \",Datenerfassung!J357 ),\" [IS]\"), CONCATENATE(IF(ISBLANK(Datenerfassung!K357),\" \",Datenerfassung!K357 ),\" [IS]\"), CONCATENATE(IF(ISBLANK(Datenerfassung!L357),\" \",Datenerfassung!L357 ),\" [IS]\"), CONCATENATE(IF(ISBLANK(Datenerfassung!M357),\" \",Datenerfassung!M357 ),\" [IS]\"), IF(ISBLANK(Datenerfassung!N357),\" \",Datenerfassung!N357 ) ))","v":""},{"$f":"IF(ISBLANK(Datenerfassung!V357),\"\",Datenerfassung!V357)","v":""},{"$f":"IF(ISBLANK(Datenerfassung!Q357),\"\",Datenerfassung!Q357)","v":""}]
[{"$f":"IF(ISBLANK(Datenerfassung!A358),\"\",Datenerfassung!A358)","v":""},{"$f":"IF(ISBLANK(Datenerfassung!B358),\"\",Datenerfassung!B358)","v":""},{"$f":"IF(ISBLANK(Datenerfassung!C358),\"\",Datenerfassung!C358)","v":""},{"$f":"IF(ISBLANK(Datenerfassung!R358),\"\",Datenerfassung!R358)","v":""},{"$f":"IF(ISBLANK(Datenerfassung!S358),\"\",Datenerfassung!S358)","v":""},"",{"$f":"IF(ISBLANK(Datenerfassung!U358),\"\",Datenerfassung!U358)","v":""},{"$f":"IF(ISBLANK(Datenerfassung!O358),\"\",Datenerfassung!O358)","v":""},{"$f":"IF(ISBLANK(Datenerfassung!D358),IF(COUNTBLANK(A348:H348)+COUNTBLANK(J348:O348)=14,\"\",\"- ohne Titel -\"),Datenerfassung!D358)","v":""},{"$f":"IF(ISBLANK(Datenerfassung!G358),\"\",Datenerfassung!G358)","v":""},"",{"$f":"IF(ISBLANK(Datenerfassung!X358),\"\",Datenerfassung!X358)","v":""},{"$f":"IF(COUNTBLANK(Datenerfassung!H358:'Datenerfassung'!N358)=7,\"\",CONCATENATE( CONCATENATE(IF(ISBLANK(Datenerfassung!H358),\" \",Datenerfassung!H358 ),\" [IS]\"), CONCATENATE(IF(ISBLANK(Datenerfassung!I358),\" \",Datenerfassung!I358 ),\" [IS]\"), CONCATENATE(IF(ISBLANK(Datenerfassung!J358),\" \",Datenerfassung!J358 ),\" [IS]\"), CONCATENATE(IF(ISBLANK(Datenerfassung!K358),\" \",Datenerfassung!K358 ),\" [IS]\"), CONCATENATE(IF(ISBLANK(Datenerfassung!L358),\" \",Datenerfassung!L358 ),\" [IS]\"), CONCATENATE(IF(ISBLANK(Datenerfassung!M358),\" \",Datenerfassung!M358 ),\" [IS]\"), IF(ISBLANK(Datenerfassung!N358),\" \",Datenerfassung!N358 ) ))","v":""},{"$f":"IF(ISBLANK(Datenerfassung!V358),\"\",Datenerfassung!V358)","v":""},{"$f":"IF(ISBLANK(Datenerfassung!Q358),\"\",Datenerfassung!Q358)","v":""}]
[{"$f":"IF(ISBLANK(Datenerfassung!A359),\"\",Datenerfassung!A359)","v":""},{"$f":"IF(ISBLANK(Datenerfassung!B359),\"\",Datenerfassung!B359)","v":""},{"$f":"IF(ISBLANK(Datenerfassung!C359),\"\",Datenerfassung!C359)","v":""},{"$f":"IF(ISBLANK(Datenerfassung!R359),\"\",Datenerfassung!R359)","v":""},{"$f":"IF(ISBLANK(Datenerfassung!S359),\"\",Datenerfassung!S359)","v":""},"",{"$f":"IF(ISBLANK(Datenerfassung!U359),\"\",Datenerfassung!U359)","v":""},{"$f":"IF(ISBLANK(Datenerfassung!O359),\"\",Datenerfassung!O359)","v":""},{"$f":"IF(ISBLANK(Datenerfassung!D359),IF(COUNTBLANK(A349:H349)+COUNTBLANK(J349:O349)=14,\"\",\"- ohne Titel -\"),Datenerfassung!D359)","v":""},{"$f":"IF(ISBLANK(Datenerfassung!G359),\"\",Datenerfassung!G359)","v":""},"",{"$f":"IF(ISBLANK(Datenerfassung!X359),\"\",Datenerfassung!X359)","v":""},{"$f":"IF(COUNTBLANK(Datenerfassung!H359:'Datenerfassung'!N359)=7,\"\",CONCATENATE( CONCATENATE(IF(ISBLANK(Datenerfassung!H359),\" \",Datenerfassung!H359 ),\" [IS]\"), CONCATENATE(IF(ISBLANK(Datenerfassung!I359),\" \",Datenerfassung!I359 ),\" [IS]\"), CONCATENATE(IF(ISBLANK(Datenerfassung!J359),\" \",Datenerfassung!J359 ),\" [IS]\"), CONCATENATE(IF(ISBLANK(Datenerfassung!K359),\" \",Datenerfassung!K359 ),\" [IS]\"), CONCATENATE(IF(ISBLANK(Datenerfassung!L359),\" \",Datenerfassung!L359 ),\" [IS]\"), CONCATENATE(IF(ISBLANK(Datenerfassung!M359),\" \",Datenerfassung!M359 ),\" [IS]\"), IF(ISBLANK(Datenerfassung!N359),\" \",Datenerfassung!N359 ) ))","v":""},{"$f":"IF(ISBLANK(Datenerfassung!V359),\"\",Datenerfassung!V359)","v":""},{"$f":"IF(ISBLANK(Datenerfassung!Q359),\"\",Datenerfassung!Q359)","v":""}]
[{"$f":"IF(ISBLANK(Datenerfassung!A360),\"\",Datenerfassung!A360)","v":""},{"$f":"IF(ISBLANK(Datenerfassung!B360),\"\",Datenerfassung!B360)","v":""},{"$f":"IF(ISBLANK(Datenerfassung!C360),\"\",Datenerfassung!C360)","v":""},{"$f":"IF(ISBLANK(Datenerfassung!R360),\"\",Datenerfassung!R360)","v":""},{"$f":"IF(ISBLANK(Datenerfassung!S360),\"\",Datenerfassung!S360)","v":""},"",{"$f":"IF(ISBLANK(Datenerfassung!U360),\"\",Datenerfassung!U360)","v":""},{"$f":"IF(ISBLANK(Datenerfassung!O360),\"\",Datenerfassung!O360)","v":""},{"$f":"IF(ISBLANK(Datenerfassung!D360),IF(COUNTBLANK(A350:H350)+COUNTBLANK(J350:O350)=14,\"\",\"- ohne Titel -\"),Datenerfassung!D360)","v":""},{"$f":"IF(ISBLANK(Datenerfassung!G360),\"\",Datenerfassung!G360)","v":""},"",{"$f":"IF(ISBLANK(Datenerfassung!X360),\"\",Datenerfassung!X360)","v":""},{"$f":"IF(COUNTBLANK(Datenerfassung!H360:'Datenerfassung'!N360)=7,\"\",CONCATENATE( CONCATENATE(IF(ISBLANK(Datenerfassung!H360),\" \",Datenerfassung!H360 ),\" [IS]\"), CONCATENATE(IF(ISBLANK(Datenerfassung!I360),\" \",Datenerfassung!I360 ),\" [IS]\"), CONCATENATE(IF(ISBLANK(Datenerfassung!J360),\" \",Datenerfassung!J360 ),\" [IS]\"), CONCATENATE(IF(ISBLANK(Datenerfassung!K360),\" \",Datenerfassung!K360 ),\" [IS]\"), CONCATENATE(IF(ISBLANK(Datenerfassung!L360),\" \",Datenerfassung!L360 ),\" [IS]\"), CONCATENATE(IF(ISBLANK(Datenerfassung!M360),\" \",Datenerfassung!M360 ),\" [IS]\"), IF(ISBLANK(Datenerfassung!N360),\" \",Datenerfassung!N360 ) ))","v":""},{"$f":"IF(ISBLANK(Datenerfassung!V360),\"\",Datenerfassung!V360)","v":""},{"$f":"IF(ISBLANK(Datenerfassung!Q360),\"\",Datenerfassung!Q360)","v":""}]
[{"$f":"IF(ISBLANK(Datenerfassung!A361),\"\",Datenerfassung!A361)","v":""},{"$f":"IF(ISBLANK(Datenerfassung!B361),\"\",Datenerfassung!B361)","v":""},{"$f":"IF(ISBLANK(Datenerfassung!C361),\"\",Datenerfassung!C361)","v":""},{"$f":"IF(ISBLANK(Datenerfassung!R361),\"\",Datenerfassung!R361)","v":""},{"$f":"IF(ISBLANK(Datenerfassung!S361),\"\",Datenerfassung!S361)","v":""},"",{"$f":"IF(ISBLANK(Datenerfassung!U361),\"\",Datenerfassung!U361)","v":""},{"$f":"IF(ISBLANK(Datenerfassung!O361),\"\",Datenerfassung!O361)","v":""},{"$f":"IF(ISBLANK(Datenerfassung!D361),IF(COUNTBLANK(A351:H351)+COUNTBLANK(J351:O351)=14,\"\",\"- ohne Titel -\"),Datenerfassung!D361)","v":""},{"$f":"IF(ISBLANK(Datenerfassung!G361),\"\",Datenerfassung!G361)","v":""},"",{"$f":"IF(ISBLANK(Datenerfassung!X361),\"\",Datenerfassung!X361)","v":""},{"$f":"IF(COUNTBLANK(Datenerfassung!H361:'Datenerfassung'!N361)=7,\"\",CONCATENATE( CONCATENATE(IF(ISBLANK(Datenerfassung!H361),\" \",Datenerfassung!H361 ),\" [IS]\"), CONCATENATE(IF(ISBLANK(Datenerfassung!I361),\" \",Datenerfassung!I361 ),\" [IS]\"), CONCATENATE(IF(ISBLANK(Datenerfassung!J361),\" \",Datenerfassung!J361 ),\" [IS]\"), CONCATENATE(IF(ISBLANK(Datenerfassung!K361),\" \",Datenerfassung!K361 ),\" [IS]\"), CONCATENATE(IF(ISBLANK(Datenerfassung!L361),\" \",Datenerfassung!L361 ),\" [IS]\"), CONCATENATE(IF(ISBLANK(Datenerfassung!M361),\" \",Datenerfassung!M361 ),\" [IS]\"), IF(ISBLANK(Datenerfassung!N361),\" \",Datenerfassung!N361 ) ))","v":""},{"$f":"IF(ISBLANK(Datenerfassung!V361),\"\",Datenerfassung!V361)","v":""},{"$f":"IF(ISBLANK(Datenerfassung!Q361),\"\",Datenerfassung!Q361)","v":""}]
[{"$f":"IF(ISBLANK(Datenerfassung!A362),\"\",Datenerfassung!A362)","v":""},{"$f":"IF(ISBLANK(Datenerfassung!B362),\"\",Datenerfassung!B362)","v":""},{"$f":"IF(ISBLANK(Datenerfassung!C362),\"\",Datenerfassung!C362)","v":""},{"$f":"IF(ISBLANK(Datenerfassung!R362),\"\",Datenerfassung!R362)","v":""},{"$f":"IF(ISBLANK(Datenerfassung!S362),\"\",Datenerfassung!S362)","v":""},"",{"$f":"IF(ISBLANK(Datenerfassung!U362),\"\",Datenerfassung!U362)","v":""},{"$f":"IF(ISBLANK(Datenerfassung!O362),\"\",Datenerfassung!O362)","v":""},{"$f":"IF(ISBLANK(Datenerfassung!D362),IF(COUNTBLANK(A352:H352)+COUNTBLANK(J352:O352)=14,\"\",\"- ohne Titel -\"),Datenerfassung!D362)","v":""},{"$f":"IF(ISBLANK(Datenerfassung!G362),\"\",Datenerfassung!G362)","v":""},"",{"$f":"IF(ISBLANK(Datenerfassung!X362),\"\",Datenerfassung!X362)","v":""},{"$f":"IF(COUNTBLANK(Datenerfassung!H362:'Datenerfassung'!N362)=7,\"\",CONCATENATE( CONCATENATE(IF(ISBLANK(Datenerfassung!H362),\" \",Datenerfassung!H362 ),\" [IS]\"), CONCATENATE(IF(ISBLANK(Datenerfassung!I362),\" \",Datenerfassung!I362 ),\" [IS]\"), CONCATENATE(IF(ISBLANK(Datenerfassung!J362),\" \",Datenerfassung!J362 ),\" [IS]\"), CONCATENATE(IF(ISBLANK(Datenerfassung!K362),\" \",Datenerfassung!K362 ),\" [IS]\"), CONCATENATE(IF(ISBLANK(Datenerfassung!L362),\" \",Datenerfassung!L362 ),\" [IS]\"), CONCATENATE(IF(ISBLANK(Datenerfassung!M362),\" \",Datenerfassung!M362 ),\" [IS]\"), IF(ISBLANK(Datenerfassung!N362),\" \",Datenerfassung!N362 ) ))","v":""},{"$f":"IF(ISBLANK(Datenerfassung!V362),\"\",Datenerfassung!V362)","v":""},{"$f":"IF(ISBLANK(Datenerfassung!Q362),\"\",Datenerfassung!Q362)","v":""}]
[{"$f":"IF(ISBLANK(Datenerfassung!A363),\"\",Datenerfassung!A363)","v":""},{"$f":"IF(ISBLANK(Datenerfassung!B363),\"\",Datenerfassung!B363)","v":""},{"$f":"IF(ISBLANK(Datenerfassung!C363),\"\",Datenerfassung!C363)","v":""},{"$f":"IF(ISBLANK(Datenerfassung!R363),\"\",Datenerfassung!R363)","v":""},{"$f":"IF(ISBLANK(Datenerfassung!S363),\"\",Datenerfassung!S363)","v":""},"",{"$f":"IF(ISBLANK(Datenerfassung!U363),\"\",Datenerfassung!U363)","v":""},{"$f":"IF(ISBLANK(Datenerfassung!O363),\"\",Datenerfassung!O363)","v":""},{"$f":"IF(ISBLANK(Datenerfassung!D363),IF(COUNTBLANK(A353:H353)+COUNTBLANK(J353:O353)=14,\"\",\"- ohne Titel -\"),Datenerfassung!D363)","v":""},{"$f":"IF(ISBLANK(Datenerfassung!G363),\"\",Datenerfassung!G363)","v":""},"",{"$f":"IF(ISBLANK(Datenerfassung!X363),\"\",Datenerfassung!X363)","v":""},{"$f":"IF(COUNTBLANK(Datenerfassung!H363:'Datenerfassung'!N363)=7,\"\",CONCATENATE( CONCATENATE(IF(ISBLANK(Datenerfassung!H363),\" \",Datenerfassung!H363 ),\" [IS]\"), CONCATENATE(IF(ISBLANK(Datenerfassung!I363),\" \",Datenerfassung!I363 ),\" [IS]\"), CONCATENATE(IF(ISBLANK(Datenerfassung!J363),\" \",Datenerfassung!J363 ),\" [IS]\"), CONCATENATE(IF(ISBLANK(Datenerfassung!K363),\" \",Datenerfassung!K363 ),\" [IS]\"), CONCATENATE(IF(ISBLANK(Datenerfassung!L363),\" \",Datenerfassung!L363 ),\" [IS]\"), CONCATENATE(IF(ISBLANK(Datenerfassung!M363),\" \",Datenerfassung!M363 ),\" [IS]\"), IF(ISBLANK(Datenerfassung!N363),\" \",Datenerfassung!N363 ) ))","v":""},{"$f":"IF(ISBLANK(Datenerfassung!V363),\"\",Datenerfassung!V363)","v":""},{"$f":"IF(ISBLANK(Datenerfassung!Q363),\"\",Datenerfassung!Q363)","v":""}]
[{"$f":"IF(ISBLANK(Datenerfassung!A364),\"\",Datenerfassung!A364)","v":""},{"$f":"IF(ISBLANK(Datenerfassung!B364),\"\",Datenerfassung!B364)","v":""},{"$f":"IF(ISBLANK(Datenerfassung!C364),\"\",Datenerfassung!C364)","v":""},{"$f":"IF(ISBLANK(Datenerfassung!R364),\"\",Datenerfassung!R364)","v":""},{"$f":"IF(ISBLANK(Datenerfassung!S364),\"\",Datenerfassung!S364)","v":""},"",{"$f":"IF(ISBLANK(Datenerfassung!U364),\"\",Datenerfassung!U364)","v":""},{"$f":"IF(ISBLANK(Datenerfassung!O364),\"\",Datenerfassung!O364)","v":""},{"$f":"IF(ISBLANK(Datenerfassung!D364),IF(COUNTBLANK(A354:H354)+COUNTBLANK(J354:O354)=14,\"\",\"- ohne Titel -\"),Datenerfassung!D364)","v":""},{"$f":"IF(ISBLANK(Datenerfassung!G364),\"\",Datenerfassung!G364)","v":""},"",{"$f":"IF(ISBLANK(Datenerfassung!X364),\"\",Datenerfassung!X364)","v":""},{"$f":"IF(COUNTBLANK(Datenerfassung!H364:'Datenerfassung'!N364)=7,\"\",CONCATENATE( CONCATENATE(IF(ISBLANK(Datenerfassung!H364),\" \",Datenerfassung!H364 ),\" [IS]\"), CONCATENATE(IF(ISBLANK(Datenerfassung!I364),\" \",Datenerfassung!I364 ),\" [IS]\"), CONCATENATE(IF(ISBLANK(Datenerfassung!J364),\" \",Datenerfassung!J364 ),\" [IS]\"), CONCATENATE(IF(ISBLANK(Datenerfassung!K364),\" \",Datenerfassung!K364 ),\" [IS]\"), CONCATENATE(IF(ISBLANK(Datenerfassung!L364),\" \",Datenerfassung!L364 ),\" [IS]\"), CONCATENATE(IF(ISBLANK(Datenerfassung!M364),\" \",Datenerfassung!M364 ),\" [IS]\"), IF(ISBLANK(Datenerfassung!N364),\" \",Datenerfassung!N364 ) ))","v":""},{"$f":"IF(ISBLANK(Datenerfassung!V364),\"\",Datenerfassung!V364)","v":""},{"$f":"IF(ISBLANK(Datenerfassung!Q364),\"\",Datenerfassung!Q364)","v":""}]
[{"$f":"IF(ISBLANK(Datenerfassung!A365),\"\",Datenerfassung!A365)","v":""},{"$f":"IF(ISBLANK(Datenerfassung!B365),\"\",Datenerfassung!B365)","v":""},{"$f":"IF(ISBLANK(Datenerfassung!C365),\"\",Datenerfassung!C365)","v":""},{"$f":"IF(ISBLANK(Datenerfassung!R365),\"\",Datenerfassung!R365)","v":""},{"$f":"IF(ISBLANK(Datenerfassung!S365),\"\",Datenerfassung!S365)","v":""},"",{"$f":"IF(ISBLANK(Datenerfassung!U365),\"\",Datenerfassung!U365)","v":""},{"$f":"IF(ISBLANK(Datenerfassung!O365),\"\",Datenerfassung!O365)","v":""},{"$f":"IF(ISBLANK(Datenerfassung!D365),IF(COUNTBLANK(A355:H355)+COUNTBLANK(J355:O355)=14,\"\",\"- ohne Titel -\"),Datenerfassung!D365)","v":""},{"$f":"IF(ISBLANK(Datenerfassung!G365),\"\",Datenerfassung!G365)","v":""},"",{"$f":"IF(ISBLANK(Datenerfassung!X365),\"\",Datenerfassung!X365)","v":""},{"$f":"IF(COUNTBLANK(Datenerfassung!H365:'Datenerfassung'!N365)=7,\"\",CONCATENATE( CONCATENATE(IF(ISBLANK(Datenerfassung!H365),\" \",Datenerfassung!H365 ),\" [IS]\"), CONCATENATE(IF(ISBLANK(Datenerfassung!I365),\" \",Datenerfassung!I365 ),\" [IS]\"), CONCATENATE(IF(ISBLANK(Datenerfassung!J365),\" \",Datenerfassung!J365 ),\" [IS]\"), CONCATENATE(IF(ISBLANK(Datenerfassung!K365),\" \",Datenerfassung!K365 ),\" [IS]\"), CONCATENATE(IF(ISBLANK(Datenerfassung!L365),\" \",Datenerfassung!L365 ),\" [IS]\"), CONCATENATE(IF(ISBLANK(Datenerfassung!M365),\" \",Datenerfassung!M365 ),\" [IS]\"), IF(ISBLANK(Datenerfassung!N365),\" \",Datenerfassung!N365 ) ))","v":""},{"$f":"IF(ISBLANK(Datenerfassung!V365),\"\",Datenerfassung!V365)","v":""},{"$f":"IF(ISBLANK(Datenerfassung!Q365),\"\",Datenerfassung!Q365)","v":""}]
[{"$f":"IF(ISBLANK(Datenerfassung!A366),\"\",Datenerfassung!A366)","v":""},{"$f":"IF(ISBLANK(Datenerfassung!B366),\"\",Datenerfassung!B366)","v":""},{"$f":"IF(ISBLANK(Datenerfassung!C366),\"\",Datenerfassung!C366)","v":""},{"$f":"IF(ISBLANK(Datenerfassung!R366),\"\",Datenerfassung!R366)","v":""},{"$f":"IF(ISBLANK(Datenerfassung!S366),\"\",Datenerfassung!S366)","v":""},"",{"$f":"IF(ISBLANK(Datenerfassung!U366),\"\",Datenerfassung!U366)","v":""},{"$f":"IF(ISBLANK(Datenerfassung!O366),\"\",Datenerfassung!O366)","v":""},{"$f":"IF(ISBLANK(Datenerfassung!D366),IF(COUNTBLANK(A356:H356)+COUNTBLANK(J356:O356)=14,\"\",\"- ohne Titel -\"),Datenerfassung!D366)","v":""},{"$f":"IF(ISBLANK(Datenerfassung!G366),\"\",Datenerfassung!G366)","v":""},"",{"$f":"IF(ISBLANK(Datenerfassung!X366),\"\",Datenerfassung!X366)","v":""},{"$f":"IF(COUNTBLANK(Datenerfassung!H366:'Datenerfassung'!N366)=7,\"\",CONCATENATE( CONCATENATE(IF(ISBLANK(Datenerfassung!H366),\" \",Datenerfassung!H366 ),\" [IS]\"), CONCATENATE(IF(ISBLANK(Datenerfassung!I366),\" \",Datenerfassung!I366 ),\" [IS]\"), CONCATENATE(IF(ISBLANK(Datenerfassung!J366),\" \",Datenerfassung!J366 ),\" [IS]\"), CONCATENATE(IF(ISBLANK(Datenerfassung!K366),\" \",Datenerfassung!K366 ),\" [IS]\"), CONCATENATE(IF(ISBLANK(Datenerfassung!L366),\" \",Datenerfassung!L366 ),\" [IS]\"), CONCATENATE(IF(ISBLANK(Datenerfassung!M366),\" \",Datenerfassung!M366 ),\" [IS]\"), IF(ISBLANK(Datenerfassung!N366),\" \",Datenerfassung!N366 ) ))","v":""},{"$f":"IF(ISBLANK(Datenerfassung!V366),\"\",Datenerfassung!V366)","v":""},{"$f":"IF(ISBLANK(Datenerfassung!Q366),\"\",Datenerfassung!Q366)","v":""}]
[{"$f":"IF(ISBLANK(Datenerfassung!A367),\"\",Datenerfassung!A367)","v":""},{"$f":"IF(ISBLANK(Datenerfassung!B367),\"\",Datenerfassung!B367)","v":""},{"$f":"IF(ISBLANK(Datenerfassung!C367),\"\",Datenerfassung!C367)","v":""},{"$f":"IF(ISBLANK(Datenerfassung!R367),\"\",Datenerfassung!R367)","v":""},{"$f":"IF(ISBLANK(Datenerfassung!S367),\"\",Datenerfassung!S367)","v":""},"",{"$f":"IF(ISBLANK(Datenerfassung!U367),\"\",Datenerfassung!U367)","v":""},{"$f":"IF(ISBLANK(Datenerfassung!O367),\"\",Datenerfassung!O367)","v":""},{"$f":"IF(ISBLANK(Datenerfassung!D367),IF(COUNTBLANK(A357:H357)+COUNTBLANK(J357:O357)=14,\"\",\"- ohne Titel -\"),Datenerfassung!D367)","v":""},{"$f":"IF(ISBLANK(Datenerfassung!G367),\"\",Datenerfassung!G367)","v":""},"",{"$f":"IF(ISBLANK(Datenerfassung!X367),\"\",Datenerfassung!X367)","v":""},{"$f":"IF(COUNTBLANK(Datenerfassung!H367:'Datenerfassung'!N367)=7,\"\",CONCATENATE( CONCATENATE(IF(ISBLANK(Datenerfassung!H367),\" \",Datenerfassung!H367 ),\" [IS]\"), CONCATENATE(IF(ISBLANK(Datenerfassung!I367),\" \",Datenerfassung!I367 ),\" [IS]\"), CONCATENATE(IF(ISBLANK(Datenerfassung!J367),\" \",Datenerfassung!J367 ),\" [IS]\"), CONCATENATE(IF(ISBLANK(Datenerfassung!K367),\" \",Datenerfassung!K367 ),\" [IS]\"), CONCATENATE(IF(ISBLANK(Datenerfassung!L367),\" \",Datenerfassung!L367 ),\" [IS]\"), CONCATENATE(IF(ISBLANK(Datenerfassung!M367),\" \",Datenerfassung!M367 ),\" [IS]\"), IF(ISBLANK(Datenerfassung!N367),\" \",Datenerfassung!N367 ) ))","v":""},{"$f":"IF(ISBLANK(Datenerfassung!V367),\"\",Datenerfassung!V367)","v":""},{"$f":"IF(ISBLANK(Datenerfassung!Q367),\"\",Datenerfassung!Q367)","v":""}]
[{"$f":"IF(ISBLANK(Datenerfassung!A368),\"\",Datenerfassung!A368)","v":""},{"$f":"IF(ISBLANK(Datenerfassung!B368),\"\",Datenerfassung!B368)","v":""},{"$f":"IF(ISBLANK(Datenerfassung!C368),\"\",Datenerfassung!C368)","v":""},{"$f":"IF(ISBLANK(Datenerfassung!R368),\"\",Datenerfassung!R368)","v":""},{"$f":"IF(ISBLANK(Datenerfassung!S368),\"\",Datenerfassung!S368)","v":""},"",{"$f":"IF(ISBLANK(Datenerfassung!U368),\"\",Datenerfassung!U368)","v":""},{"$f":"IF(ISBLANK(Datenerfassung!O368),\"\",Datenerfassung!O368)","v":""},{"$f":"IF(ISBLANK(Datenerfassung!D368),IF(COUNTBLANK(A358:H358)+COUNTBLANK(J358:O358)=14,\"\",\"- ohne Titel -\"),Datenerfassung!D368)","v":""},{"$f":"IF(ISBLANK(Datenerfassung!G368),\"\",Datenerfassung!G368)","v":""},"",{"$f":"IF(ISBLANK(Datenerfassung!X368),\"\",Datenerfassung!X368)","v":""},{"$f":"IF(COUNTBLANK(Datenerfassung!H368:'Datenerfassung'!N368)=7,\"\",CONCATENATE( CONCATENATE(IF(ISBLANK(Datenerfassung!H368),\" \",Datenerfassung!H368 ),\" [IS]\"), CONCATENATE(IF(ISBLANK(Datenerfassung!I368),\" \",Datenerfassung!I368 ),\" [IS]\"), CONCATENATE(IF(ISBLANK(Datenerfassung!J368),\" \",Datenerfassung!J368 ),\" [IS]\"), CONCATENATE(IF(ISBLANK(Datenerfassung!K368),\" \",Datenerfassung!K368 ),\" [IS]\"), CONCATENATE(IF(ISBLANK(Datenerfassung!L368),\" \",Datenerfassung!L368 ),\" [IS]\"), CONCATENATE(IF(ISBLANK(Datenerfassung!M368),\" \",Datenerfassung!M368 ),\" [IS]\"), IF(ISBLANK(Datenerfassung!N368),\" \",Datenerfassung!N368 ) ))","v":""},{"$f":"IF(ISBLANK(Datenerfassung!V368),\"\",Datenerfassung!V368)","v":""},{"$f":"IF(ISBLANK(Datenerfassung!Q368),\"\",Datenerfassung!Q368)","v":""}]
[{"$f":"IF(ISBLANK(Datenerfassung!A369),\"\",Datenerfassung!A369)","v":""},{"$f":"IF(ISBLANK(Datenerfassung!B369),\"\",Datenerfassung!B369)","v":""},{"$f":"IF(ISBLANK(Datenerfassung!C369),\"\",Datenerfassung!C369)","v":""},{"$f":"IF(ISBLANK(Datenerfassung!R369),\"\",Datenerfassung!R369)","v":""},{"$f":"IF(ISBLANK(Datenerfassung!S369),\"\",Datenerfassung!S369)","v":""},"",{"$f":"IF(ISBLANK(Datenerfassung!U369),\"\",Datenerfassung!U369)","v":""},{"$f":"IF(ISBLANK(Datenerfassung!O369),\"\",Datenerfassung!O369)","v":""},{"$f":"IF(ISBLANK(Datenerfassung!D369),IF(COUNTBLANK(A359:H359)+COUNTBLANK(J359:O359)=14,\"\",\"- ohne Titel -\"),Datenerfassung!D369)","v":""},{"$f":"IF(ISBLANK(Datenerfassung!G369),\"\",Datenerfassung!G369)","v":""},"",{"$f":"IF(ISBLANK(Datenerfassung!X369),\"\",Datenerfassung!X369)","v":""},{"$f":"IF(COUNTBLANK(Datenerfassung!H369:'Datenerfassung'!N369)=7,\"\",CONCATENATE( CONCATENATE(IF(ISBLANK(Datenerfassung!H369),\" \",Datenerfassung!H369 ),\" [IS]\"), CONCATENATE(IF(ISBLANK(Datenerfassung!I369),\" \",Datenerfassung!I369 ),\" [IS]\"), CONCATENATE(IF(ISBLANK(Datenerfassung!J369),\" \",Datenerfassung!J369 ),\" [IS]\"), CONCATENATE(IF(ISBLANK(Datenerfassung!K369),\" \",Datenerfassung!K369 ),\" [IS]\"), CONCATENATE(IF(ISBLANK(Datenerfassung!L369),\" \",Datenerfassung!L369 ),\" [IS]\"), CONCATENATE(IF(ISBLANK(Datenerfassung!M369),\" \",Datenerfassung!M369 ),\" [IS]\"), IF(ISBLANK(Datenerfassung!N369),\" \",Datenerfassung!N369 ) ))","v":""},{"$f":"IF(ISBLANK(Datenerfassung!V369),\"\",Datenerfassung!V369)","v":""},{"$f":"IF(ISBLANK(Datenerfassung!Q369),\"\",Datenerfassung!Q369)","v":""}]
[{"$f":"IF(ISBLANK(Datenerfassung!A370),\"\",Datenerfassung!A370)","v":""},{"$f":"IF(ISBLANK(Datenerfassung!B370),\"\",Datenerfassung!B370)","v":""},{"$f":"IF(ISBLANK(Datenerfassung!C370),\"\",Datenerfassung!C370)","v":""},{"$f":"IF(ISBLANK(Datenerfassung!R370),\"\",Datenerfassung!R370)","v":""},{"$f":"IF(ISBLANK(Datenerfassung!S370),\"\",Datenerfassung!S370)","v":""},"",{"$f":"IF(ISBLANK(Datenerfassung!U370),\"\",Datenerfassung!U370)","v":""},{"$f":"IF(ISBLANK(Datenerfassung!O370),\"\",Datenerfassung!O370)","v":""},{"$f":"IF(ISBLANK(Datenerfassung!D370),IF(COUNTBLANK(A360:H360)+COUNTBLANK(J360:O360)=14,\"\",\"- ohne Titel -\"),Datenerfassung!D370)","v":""},{"$f":"IF(ISBLANK(Datenerfassung!G370),\"\",Datenerfassung!G370)","v":""},"",{"$f":"IF(ISBLANK(Datenerfassung!X370),\"\",Datenerfassung!X370)","v":""},{"$f":"IF(COUNTBLANK(Datenerfassung!H370:'Datenerfassung'!N370)=7,\"\",CONCATENATE( CONCATENATE(IF(ISBLANK(Datenerfassung!H370),\" \",Datenerfassung!H370 ),\" [IS]\"), CONCATENATE(IF(ISBLANK(Datenerfassung!I370),\" \",Datenerfassung!I370 ),\" [IS]\"), CONCATENATE(IF(ISBLANK(Datenerfassung!J370),\" \",Datenerfassung!J370 ),\" [IS]\"), CONCATENATE(IF(ISBLANK(Datenerfassung!K370),\" \",Datenerfassung!K370 ),\" [IS]\"), CONCATENATE(IF(ISBLANK(Datenerfassung!L370),\" \",Datenerfassung!L370 ),\" [IS]\"), CONCATENATE(IF(ISBLANK(Datenerfassung!M370),\" \",Datenerfassung!M370 ),\" [IS]\"), IF(ISBLANK(Datenerfassung!N370),\" \",Datenerfassung!N370 ) ))","v":""},{"$f":"IF(ISBLANK(Datenerfassung!V370),\"\",Datenerfassung!V370)","v":""},{"$f":"IF(ISBLANK(Datenerfassung!Q370),\"\",Datenerfassung!Q370)","v":""}]
[{"$f":"IF(ISBLANK(Datenerfassung!A371),\"\",Datenerfassung!A371)","v":""},{"$f":"IF(ISBLANK(Datenerfassung!B371),\"\",Datenerfassung!B371)","v":""},{"$f":"IF(ISBLANK(Datenerfassung!C371),\"\",Datenerfassung!C371)","v":""},{"$f":"IF(ISBLANK(Datenerfassung!R371),\"\",Datenerfassung!R371)","v":""},{"$f":"IF(ISBLANK(Datenerfassung!S371),\"\",Datenerfassung!S371)","v":""},"",{"$f":"IF(ISBLANK(Datenerfassung!U371),\"\",Datenerfassung!U371)","v":""},{"$f":"IF(ISBLANK(Datenerfassung!O371),\"\",Datenerfassung!O371)","v":""},{"$f":"IF(ISBLANK(Datenerfassung!D371),IF(COUNTBLANK(A361:H361)+COUNTBLANK(J361:O361)=14,\"\",\"- ohne Titel -\"),Datenerfassung!D371)","v":""},{"$f":"IF(ISBLANK(Datenerfassung!G371),\"\",Datenerfassung!G371)","v":""},"",{"$f":"IF(ISBLANK(Datenerfassung!X371),\"\",Datenerfassung!X371)","v":""},{"$f":"IF(COUNTBLANK(Datenerfassung!H371:'Datenerfassung'!N371)=7,\"\",CONCATENATE( CONCATENATE(IF(ISBLANK(Datenerfassung!H371),\" \",Datenerfassung!H371 ),\" [IS]\"), CONCATENATE(IF(ISBLANK(Datenerfassung!I371),\" \",Datenerfassung!I371 ),\" [IS]\"), CONCATENATE(IF(ISBLANK(Datenerfassung!J371),\" \",Datenerfassung!J371 ),\" [IS]\"), CONCATENATE(IF(ISBLANK(Datenerfassung!K371),\" \",Datenerfassung!K371 ),\" [IS]\"), CONCATENATE(IF(ISBLANK(Datenerfassung!L371),\" \",Datenerfassung!L371 ),\" [IS]\"), CONCATENATE(IF(ISBLANK(Datenerfassung!M371),\" \",Datenerfassung!M371 ),\" [IS]\"), IF(ISBLANK(Datenerfassung!N371),\" \",Datenerfassung!N371 ) ))","v":""},{"$f":"IF(ISBLANK(Datenerfassung!V371),\"\",Datenerfassung!V371)","v":""},{"$f":"IF(ISBLANK(Datenerfassung!Q371),\"\",Datenerfassung!Q371)","v":""}]
[{"$f":"IF(ISBLANK(Datenerfassung!A372),\"\",Datenerfassung!A372)","v":""},{"$f":"IF(ISBLANK(Datenerfassung!B372),\"\",Datenerfassung!B372)","v":""},{"$f":"IF(ISBLANK(Datenerfassung!C372),\"\",Datenerfassung!C372)","v":""},{"$f":"IF(ISBLANK(Datenerfassung!R372),\"\",Datenerfassung!R372)","v":""},{"$f":"IF(ISBLANK(Datenerfassung!S372),\"\",Datenerfassung!S372)","v":""},"",{"$f":"IF(ISBLANK(Datenerfassung!U372),\"\",Datenerfassung!U372)","v":""},{"$f":"IF(ISBLANK(Datenerfassung!O372),\"\",Datenerfassung!O372)","v":""},{"$f":"IF(ISBLANK(Datenerfassung!D372),IF(COUNTBLANK(A362:H362)+COUNTBLANK(J362:O362)=14,\"\",\"- ohne Titel -\"),Datenerfassung!D372)","v":""},{"$f":"IF(ISBLANK(Datenerfassung!G372),\"\",Datenerfassung!G372)","v":""},"",{"$f":"IF(ISBLANK(Datenerfassung!X372),\"\",Datenerfassung!X372)","v":""},{"$f":"IF(COUNTBLANK(Datenerfassung!H372:'Datenerfassung'!N372)=7,\"\",CONCATENATE( CONCATENATE(IF(ISBLANK(Datenerfassung!H372),\" \",Datenerfassung!H372 ),\" [IS]\"), CONCATENATE(IF(ISBLANK(Datenerfassung!I372),\" \",Datenerfassung!I372 ),\" [IS]\"), CONCATENATE(IF(ISBLANK(Datenerfassung!J372),\" \",Datenerfassung!J372 ),\" [IS]\"), CONCATENATE(IF(ISBLANK(Datenerfassung!K372),\" \",Datenerfassung!K372 ),\" [IS]\"), CONCATENATE(IF(ISBLANK(Datenerfassung!L372),\" \",Datenerfassung!L372 ),\" [IS]\"), CONCATENATE(IF(ISBLANK(Datenerfassung!M372),\" \",Datenerfassung!M372 ),\" [IS]\"), IF(ISBLANK(Datenerfassung!N372),\" \",Datenerfassung!N372 ) ))","v":""},{"$f":"IF(ISBLANK(Datenerfassung!V372),\"\",Datenerfassung!V372)","v":""},{"$f":"IF(ISBLANK(Datenerfassung!Q372),\"\",Datenerfassung!Q372)","v":""}]
[{"$f":"IF(ISBLANK(Datenerfassung!A373),\"\",Datenerfassung!A373)","v":""},{"$f":"IF(ISBLANK(Datenerfassung!B373),\"\",Datenerfassung!B373)","v":""},{"$f":"IF(ISBLANK(Datenerfassung!C373),\"\",Datenerfassung!C373)","v":""},{"$f":"IF(ISBLANK(Datenerfassung!R373),\"\",Datenerfassung!R373)","v":""},{"$f":"IF(ISBLANK(Datenerfassung!S373),\"\",Datenerfassung!S373)","v":""},"",{"$f":"IF(ISBLANK(Datenerfassung!U373),\"\",Datenerfassung!U373)","v":""},{"$f":"IF(ISBLANK(Datenerfassung!O373),\"\",Datenerfassung!O373)","v":""},{"$f":"IF(ISBLANK(Datenerfassung!D373),IF(COUNTBLANK(A363:H363)+COUNTBLANK(J363:O363)=14,\"\",\"- ohne Titel -\"),Datenerfassung!D373)","v":""},{"$f":"IF(ISBLANK(Datenerfassung!G373),\"\",Datenerfassung!G373)","v":""},"",{"$f":"IF(ISBLANK(Datenerfassung!X373),\"\",Datenerfassung!X373)","v":""},{"$f":"IF(COUNTBLANK(Datenerfassung!H373:'Datenerfassung'!N373)=7,\"\",CONCATENATE( CONCATENATE(IF(ISBLANK(Datenerfassung!H373),\" \",Datenerfassung!H373 ),\" [IS]\"), CONCATENATE(IF(ISBLANK(Datenerfassung!I373),\" \",Datenerfassung!I373 ),\" [IS]\"), CONCATENATE(IF(ISBLANK(Datenerfassung!J373),\" \",Datenerfassung!J373 ),\" [IS]\"), CONCATENATE(IF(ISBLANK(Datenerfassung!K373),\" \",Datenerfassung!K373 ),\" [IS]\"), CONCATENATE(IF(ISBLANK(Datenerfassung!L373),\" \",Datenerfassung!L373 ),\" [IS]\"), CONCATENATE(IF(ISBLANK(Datenerfassung!M373),\" \",Datenerfassung!M373 ),\" [IS]\"), IF(ISBLANK(Datenerfassung!N373),\" \",Datenerfassung!N373 ) ))","v":""},{"$f":"IF(ISBLANK(Datenerfassung!V373),\"\",Datenerfassung!V373)","v":""},{"$f":"IF(ISBLANK(Datenerfassung!Q373),\"\",Datenerfassung!Q373)","v":""}]
[{"$f":"IF(ISBLANK(Datenerfassung!A374),\"\",Datenerfassung!A374)","v":""},{"$f":"IF(ISBLANK(Datenerfassung!B374),\"\",Datenerfassung!B374)","v":""},{"$f":"IF(ISBLANK(Datenerfassung!C374),\"\",Datenerfassung!C374)","v":""},{"$f":"IF(ISBLANK(Datenerfassung!R374),\"\",Datenerfassung!R374)","v":""},{"$f":"IF(ISBLANK(Datenerfassung!S374),\"\",Datenerfassung!S374)","v":""},"",{"$f":"IF(ISBLANK(Datenerfassung!U374),\"\",Datenerfassung!U374)","v":""},{"$f":"IF(ISBLANK(Datenerfassung!O374),\"\",Datenerfassung!O374)","v":""},{"$f":"IF(ISBLANK(Datenerfassung!D374),IF(COUNTBLANK(A364:H364)+COUNTBLANK(J364:O364)=14,\"\",\"- ohne Titel -\"),Datenerfassung!D374)","v":""},{"$f":"IF(ISBLANK(Datenerfassung!G374),\"\",Datenerfassung!G374)","v":""},"",{"$f":"IF(ISBLANK(Datenerfassung!X374),\"\",Datenerfassung!X374)","v":""},{"$f":"IF(COUNTBLANK(Datenerfassung!H374:'Datenerfassung'!N374)=7,\"\",CONCATENATE( CONCATENATE(IF(ISBLANK(Datenerfassung!H374),\" \",Datenerfassung!H374 ),\" [IS]\"), CONCATENATE(IF(ISBLANK(Datenerfassung!I374),\" \",Datenerfassung!I374 ),\" [IS]\"), CONCATENATE(IF(ISBLANK(Datenerfassung!J374),\" \",Datenerfassung!J374 ),\" [IS]\"), CONCATENATE(IF(ISBLANK(Datenerfassung!K374),\" \",Datenerfassung!K374 ),\" [IS]\"), CONCATENATE(IF(ISBLANK(Datenerfassung!L374),\" \",Datenerfassung!L374 ),\" [IS]\"), CONCATENATE(IF(ISBLANK(Datenerfassung!M374),\" \",Datenerfassung!M374 ),\" [IS]\"), IF(ISBLANK(Datenerfassung!N374),\" \",Datenerfassung!N374 ) ))","v":""},{"$f":"IF(ISBLANK(Datenerfassung!V374),\"\",Datenerfassung!V374)","v":""},{"$f":"IF(ISBLANK(Datenerfassung!Q374),\"\",Datenerfassung!Q374)","v":""}]
[{"$f":"IF(ISBLANK(Datenerfassung!A375),\"\",Datenerfassung!A375)","v":""},{"$f":"IF(ISBLANK(Datenerfassung!B375),\"\",Datenerfassung!B375)","v":""},{"$f":"IF(ISBLANK(Datenerfassung!C375),\"\",Datenerfassung!C375)","v":""},{"$f":"IF(ISBLANK(Datenerfassung!R375),\"\",Datenerfassung!R375)","v":""},{"$f":"IF(ISBLANK(Datenerfassung!S375),\"\",Datenerfassung!S375)","v":""},"",{"$f":"IF(ISBLANK(Datenerfassung!U375),\"\",Datenerfassung!U375)","v":""},{"$f":"IF(ISBLANK(Datenerfassung!O375),\"\",Datenerfassung!O375)","v":""},{"$f":"IF(ISBLANK(Datenerfassung!D375),IF(COUNTBLANK(A365:H365)+COUNTBLANK(J365:O365)=14,\"\",\"- ohne Titel -\"),Datenerfassung!D375)","v":""},{"$f":"IF(ISBLANK(Datenerfassung!G375),\"\",Datenerfassung!G375)","v":""},"",{"$f":"IF(ISBLANK(Datenerfassung!X375),\"\",Datenerfassung!X375)","v":""},{"$f":"IF(COUNTBLANK(Datenerfassung!H375:'Datenerfassung'!N375)=7,\"\",CONCATENATE( CONCATENATE(IF(ISBLANK(Datenerfassung!H375),\" \",Datenerfassung!H375 ),\" [IS]\"), CONCATENATE(IF(ISBLANK(Datenerfassung!I375),\" \",Datenerfassung!I375 ),\" [IS]\"), CONCATENATE(IF(ISBLANK(Datenerfassung!J375),\" \",Datenerfassung!J375 ),\" [IS]\"), CONCATENATE(IF(ISBLANK(Datenerfassung!K375),\" \",Datenerfassung!K375 ),\" [IS]\"), CONCATENATE(IF(ISBLANK(Datenerfassung!L375),\" \",Datenerfassung!L375 ),\" [IS]\"), CONCATENATE(IF(ISBLANK(Datenerfassung!M375),\" \",Datenerfassung!M375 ),\" [IS]\"), IF(ISBLANK(Datenerfassung!N375),\" \",Datenerfassung!N375 ) ))","v":""},{"$f":"IF(ISBLANK(Datenerfassung!V375),\"\",Datenerfassung!V375)","v":""},{"$f":"IF(ISBLANK(Datenerfassung!Q375),\"\",Datenerfassung!Q375)","v":""}]
[{"$f":"IF(ISBLANK(Datenerfassung!A376),\"\",Datenerfassung!A376)","v":""},{"$f":"IF(ISBLANK(Datenerfassung!B376),\"\",Datenerfassung!B376)","v":""},{"$f":"IF(ISBLANK(Datenerfassung!C376),\"\",Datenerfassung!C376)","v":""},{"$f":"IF(ISBLANK(Datenerfassung!R376),\"\",Datenerfassung!R376)","v":""},{"$f":"IF(ISBLANK(Datenerfassung!S376),\"\",Datenerfassung!S376)","v":""},"",{"$f":"IF(ISBLANK(Datenerfassung!U376),\"\",Datenerfassung!U376)","v":""},{"$f":"IF(ISBLANK(Datenerfassung!O376),\"\",Datenerfassung!O376)","v":""},{"$f":"IF(ISBLANK(Datenerfassung!D376),IF(COUNTBLANK(A366:H366)+COUNTBLANK(J366:O366)=14,\"\",\"- ohne Titel -\"),Datenerfassung!D376)","v":""},{"$f":"IF(ISBLANK(Datenerfassung!G376),\"\",Datenerfassung!G376)","v":""},"",{"$f":"IF(ISBLANK(Datenerfassung!X376),\"\",Datenerfassung!X376)","v":""},{"$f":"IF(COUNTBLANK(Datenerfassung!H376:'Datenerfassung'!N376)=7,\"\",CONCATENATE( CONCATENATE(IF(ISBLANK(Datenerfassung!H376),\" \",Datenerfassung!H376 ),\" [IS]\"), CONCATENATE(IF(ISBLANK(Datenerfassung!I376),\" \",Datenerfassung!I376 ),\" [IS]\"), CONCATENATE(IF(ISBLANK(Datenerfassung!J376),\" \",Datenerfassung!J376 ),\" [IS]\"), CONCATENATE(IF(ISBLANK(Datenerfassung!K376),\" \",Datenerfassung!K376 ),\" [IS]\"), CONCATENATE(IF(ISBLANK(Datenerfassung!L376),\" \",Datenerfassung!L376 ),\" [IS]\"), CONCATENATE(IF(ISBLANK(Datenerfassung!M376),\" \",Datenerfassung!M376 ),\" [IS]\"), IF(ISBLANK(Datenerfassung!N376),\" \",Datenerfassung!N376 ) ))","v":""},{"$f":"IF(ISBLANK(Datenerfassung!V376),\"\",Datenerfassung!V376)","v":""},{"$f":"IF(ISBLANK(Datenerfassung!Q376),\"\",Datenerfassung!Q376)","v":""}]
[{"$f":"IF(ISBLANK(Datenerfassung!A377),\"\",Datenerfassung!A377)","v":""},{"$f":"IF(ISBLANK(Datenerfassung!B377),\"\",Datenerfassung!B377)","v":""},{"$f":"IF(ISBLANK(Datenerfassung!C377),\"\",Datenerfassung!C377)","v":""},{"$f":"IF(ISBLANK(Datenerfassung!R377),\"\",Datenerfassung!R377)","v":""},{"$f":"IF(ISBLANK(Datenerfassung!S377),\"\",Datenerfassung!S377)","v":""},"",{"$f":"IF(ISBLANK(Datenerfassung!U377),\"\",Datenerfassung!U377)","v":""},{"$f":"IF(ISBLANK(Datenerfassung!O377),\"\",Datenerfassung!O377)","v":""},{"$f":"IF(ISBLANK(Datenerfassung!D377),IF(COUNTBLANK(A367:H367)+COUNTBLANK(J367:O367)=14,\"\",\"- ohne Titel -\"),Datenerfassung!D377)","v":""},{"$f":"IF(ISBLANK(Datenerfassung!G377),\"\",Datenerfassung!G377)","v":""},"",{"$f":"IF(ISBLANK(Datenerfassung!X377),\"\",Datenerfassung!X377)","v":""},{"$f":"IF(COUNTBLANK(Datenerfassung!H377:'Datenerfassung'!N377)=7,\"\",CONCATENATE( CONCATENATE(IF(ISBLANK(Datenerfassung!H377),\" \",Datenerfassung!H377 ),\" [IS]\"), CONCATENATE(IF(ISBLANK(Datenerfassung!I377),\" \",Datenerfassung!I377 ),\" [IS]\"), CONCATENATE(IF(ISBLANK(Datenerfassung!J377),\" \",Datenerfassung!J377 ),\" [IS]\"), CONCATENATE(IF(ISBLANK(Datenerfassung!K377),\" \",Datenerfassung!K377 ),\" [IS]\"), CONCATENATE(IF(ISBLANK(Datenerfassung!L377),\" \",Datenerfassung!L377 ),\" [IS]\"), CONCATENATE(IF(ISBLANK(Datenerfassung!M377),\" \",Datenerfassung!M377 ),\" [IS]\"), IF(ISBLANK(Datenerfassung!N377),\" \",Datenerfassung!N377 ) ))","v":""},{"$f":"IF(ISBLANK(Datenerfassung!V377),\"\",Datenerfassung!V377)","v":""},{"$f":"IF(ISBLANK(Datenerfassung!Q377),\"\",Datenerfassung!Q377)","v":""}]
[{"$f":"IF(ISBLANK(Datenerfassung!A378),\"\",Datenerfassung!A378)","v":""},{"$f":"IF(ISBLANK(Datenerfassung!B378),\"\",Datenerfassung!B378)","v":""},{"$f":"IF(ISBLANK(Datenerfassung!C378),\"\",Datenerfassung!C378)","v":""},{"$f":"IF(ISBLANK(Datenerfassung!R378),\"\",Datenerfassung!R378)","v":""},{"$f":"IF(ISBLANK(Datenerfassung!S378),\"\",Datenerfassung!S378)","v":""},"",{"$f":"IF(ISBLANK(Datenerfassung!U378),\"\",Datenerfassung!U378)","v":""},{"$f":"IF(ISBLANK(Datenerfassung!O378),\"\",Datenerfassung!O378)","v":""},{"$f":"IF(ISBLANK(Datenerfassung!D378),IF(COUNTBLANK(A368:H368)+COUNTBLANK(J368:O368)=14,\"\",\"- ohne Titel -\"),Datenerfassung!D378)","v":""},{"$f":"IF(ISBLANK(Datenerfassung!G378),\"\",Datenerfassung!G378)","v":""},"",{"$f":"IF(ISBLANK(Datenerfassung!X378),\"\",Datenerfassung!X378)","v":""},{"$f":"IF(COUNTBLANK(Datenerfassung!H378:'Datenerfassung'!N378)=7,\"\",CONCATENATE( CONCATENATE(IF(ISBLANK(Datenerfassung!H378),\" \",Datenerfassung!H378 ),\" [IS]\"), CONCATENATE(IF(ISBLANK(Datenerfassung!I378),\" \",Datenerfassung!I378 ),\" [IS]\"), CONCATENATE(IF(ISBLANK(Datenerfassung!J378),\" \",Datenerfassung!J378 ),\" [IS]\"), CONCATENATE(IF(ISBLANK(Datenerfassung!K378),\" \",Datenerfassung!K378 ),\" [IS]\"), CONCATENATE(IF(ISBLANK(Datenerfassung!L378),\" \",Datenerfassung!L378 ),\" [IS]\"), CONCATENATE(IF(ISBLANK(Datenerfassung!M378),\" \",Datenerfassung!M378 ),\" [IS]\"), IF(ISBLANK(Datenerfassung!N378),\" \",Datenerfassung!N378 ) ))","v":""},{"$f":"IF(ISBLANK(Datenerfassung!V378),\"\",Datenerfassung!V378)","v":""},{"$f":"IF(ISBLANK(Datenerfassung!Q378),\"\",Datenerfassung!Q378)","v":""}]
[{"$f":"IF(ISBLANK(Datenerfassung!A379),\"\",Datenerfassung!A379)","v":""},{"$f":"IF(ISBLANK(Datenerfassung!B379),\"\",Datenerfassung!B379)","v":""},{"$f":"IF(ISBLANK(Datenerfassung!C379),\"\",Datenerfassung!C379)","v":""},{"$f":"IF(ISBLANK(Datenerfassung!R379),\"\",Datenerfassung!R379)","v":""},{"$f":"IF(ISBLANK(Datenerfassung!S379),\"\",Datenerfassung!S379)","v":""},"",{"$f":"IF(ISBLANK(Datenerfassung!U379),\"\",Datenerfassung!U379)","v":""},{"$f":"IF(ISBLANK(Datenerfassung!O379),\"\",Datenerfassung!O379)","v":""},{"$f":"IF(ISBLANK(Datenerfassung!D379),IF(COUNTBLANK(A369:H369)+COUNTBLANK(J369:O369)=14,\"\",\"- ohne Titel -\"),Datenerfassung!D379)","v":""},{"$f":"IF(ISBLANK(Datenerfassung!G379),\"\",Datenerfassung!G379)","v":""},"",{"$f":"IF(ISBLANK(Datenerfassung!X379),\"\",Datenerfassung!X379)","v":""},{"$f":"IF(COUNTBLANK(Datenerfassung!H379:'Datenerfassung'!N379)=7,\"\",CONCATENATE( CONCATENATE(IF(ISBLANK(Datenerfassung!H379),\" \",Datenerfassung!H379 ),\" [IS]\"), CONCATENATE(IF(ISBLANK(Datenerfassung!I379),\" \",Datenerfassung!I379 ),\" [IS]\"), CONCATENATE(IF(ISBLANK(Datenerfassung!J379),\" \",Datenerfassung!J379 ),\" [IS]\"), CONCATENATE(IF(ISBLANK(Datenerfassung!K379),\" \",Datenerfassung!K379 ),\" [IS]\"), CONCATENATE(IF(ISBLANK(Datenerfassung!L379),\" \",Datenerfassung!L379 ),\" [IS]\"), CONCATENATE(IF(ISBLANK(Datenerfassung!M379),\" \",Datenerfassung!M379 ),\" [IS]\"), IF(ISBLANK(Datenerfassung!N379),\" \",Datenerfassung!N379 ) ))","v":""},{"$f":"IF(ISBLANK(Datenerfassung!V379),\"\",Datenerfassung!V379)","v":""},{"$f":"IF(ISBLANK(Datenerfassung!Q379),\"\",Datenerfassung!Q379)","v":""}]
[{"$f":"IF(ISBLANK(Datenerfassung!A380),\"\",Datenerfassung!A380)","v":""},{"$f":"IF(ISBLANK(Datenerfassung!B380),\"\",Datenerfassung!B380)","v":""},{"$f":"IF(ISBLANK(Datenerfassung!C380),\"\",Datenerfassung!C380)","v":""},{"$f":"IF(ISBLANK(Datenerfassung!R380),\"\",Datenerfassung!R380)","v":""},{"$f":"IF(ISBLANK(Datenerfassung!S380),\"\",Datenerfassung!S380)","v":""},"",{"$f":"IF(ISBLANK(Datenerfassung!U380),\"\",Datenerfassung!U380)","v":""},{"$f":"IF(ISBLANK(Datenerfassung!O380),\"\",Datenerfassung!O380)","v":""},{"$f":"IF(ISBLANK(Datenerfassung!D380),IF(COUNTBLANK(A370:H370)+COUNTBLANK(J370:O370)=14,\"\",\"- ohne Titel -\"),Datenerfassung!D380)","v":""},{"$f":"IF(ISBLANK(Datenerfassung!G380),\"\",Datenerfassung!G380)","v":""},"",{"$f":"IF(ISBLANK(Datenerfassung!X380),\"\",Datenerfassung!X380)","v":""},{"$f":"IF(COUNTBLANK(Datenerfassung!H380:'Datenerfassung'!N380)=7,\"\",CONCATENATE( CONCATENATE(IF(ISBLANK(Datenerfassung!H380),\" \",Datenerfassung!H380 ),\" [IS]\"), CONCATENATE(IF(ISBLANK(Datenerfassung!I380),\" \",Datenerfassung!I380 ),\" [IS]\"), CONCATENATE(IF(ISBLANK(Datenerfassung!J380),\" \",Datenerfassung!J380 ),\" [IS]\"), CONCATENATE(IF(ISBLANK(Datenerfassung!K380),\" \",Datenerfassung!K380 ),\" [IS]\"), CONCATENATE(IF(ISBLANK(Datenerfassung!L380),\" \",Datenerfassung!L380 ),\" [IS]\"), CONCATENATE(IF(ISBLANK(Datenerfassung!M380),\" \",Datenerfassung!M380 ),\" [IS]\"), IF(ISBLANK(Datenerfassung!N380),\" \",Datenerfassung!N380 ) ))","v":""},{"$f":"IF(ISBLANK(Datenerfassung!V380),\"\",Datenerfassung!V380)","v":""},{"$f":"IF(ISBLANK(Datenerfassung!Q380),\"\",Datenerfassung!Q380)","v":""}]
[{"$f":"IF(ISBLANK(Datenerfassung!A381),\"\",Datenerfassung!A381)","v":""},{"$f":"IF(ISBLANK(Datenerfassung!B381),\"\",Datenerfassung!B381)","v":""},{"$f":"IF(ISBLANK(Datenerfassung!C381),\"\",Datenerfassung!C381)","v":""},{"$f":"IF(ISBLANK(Datenerfassung!R381),\"\",Datenerfassung!R381)","v":""},{"$f":"IF(ISBLANK(Datenerfassung!S381),\"\",Datenerfassung!S381)","v":""},"",{"$f":"IF(ISBLANK(Datenerfassung!U381),\"\",Datenerfassung!U381)","v":""},{"$f":"IF(ISBLANK(Datenerfassung!O381),\"\",Datenerfassung!O381)","v":""},{"$f":"IF(ISBLANK(Datenerfassung!D381),IF(COUNTBLANK(A371:H371)+COUNTBLANK(J371:O371)=14,\"\",\"- ohne Titel -\"),Datenerfassung!D381)","v":""},{"$f":"IF(ISBLANK(Datenerfassung!G381),\"\",Datenerfassung!G381)","v":""},"",{"$f":"IF(ISBLANK(Datenerfassung!X381),\"\",Datenerfassung!X381)","v":""},{"$f":"IF(COUNTBLANK(Datenerfassung!H381:'Datenerfassung'!N381)=7,\"\",CONCATENATE( CONCATENATE(IF(ISBLANK(Datenerfassung!H381),\" \",Datenerfassung!H381 ),\" [IS]\"), CONCATENATE(IF(ISBLANK(Datenerfassung!I381),\" \",Datenerfassung!I381 ),\" [IS]\"), CONCATENATE(IF(ISBLANK(Datenerfassung!J381),\" \",Datenerfassung!J381 ),\" [IS]\"), CONCATENATE(IF(ISBLANK(Datenerfassung!K381),\" \",Datenerfassung!K381 ),\" [IS]\"), CONCATENATE(IF(ISBLANK(Datenerfassung!L381),\" \",Datenerfassung!L381 ),\" [IS]\"), CONCATENATE(IF(ISBLANK(Datenerfassung!M381),\" \",Datenerfassung!M381 ),\" [IS]\"), IF(ISBLANK(Datenerfassung!N381),\" \",Datenerfassung!N381 ) ))","v":""},{"$f":"IF(ISBLANK(Datenerfassung!V381),\"\",Datenerfassung!V381)","v":""},{"$f":"IF(ISBLANK(Datenerfassung!Q381),\"\",Datenerfassung!Q381)","v":""}]
[{"$f":"IF(ISBLANK(Datenerfassung!A382),\"\",Datenerfassung!A382)","v":""},{"$f":"IF(ISBLANK(Datenerfassung!B382),\"\",Datenerfassung!B382)","v":""},{"$f":"IF(ISBLANK(Datenerfassung!C382),\"\",Datenerfassung!C382)","v":""},{"$f":"IF(ISBLANK(Datenerfassung!R382),\"\",Datenerfassung!R382)","v":""},{"$f":"IF(ISBLANK(Datenerfassung!S382),\"\",Datenerfassung!S382)","v":""},"",{"$f":"IF(ISBLANK(Datenerfassung!U382),\"\",Datenerfassung!U382)","v":""},{"$f":"IF(ISBLANK(Datenerfassung!O382),\"\",Datenerfassung!O382)","v":""},{"$f":"IF(ISBLANK(Datenerfassung!D382),IF(COUNTBLANK(A372:H372)+COUNTBLANK(J372:O372)=14,\"\",\"- ohne Titel -\"),Datenerfassung!D382)","v":""},{"$f":"IF(ISBLANK(Datenerfassung!G382),\"\",Datenerfassung!G382)","v":""},"",{"$f":"IF(ISBLANK(Datenerfassung!X382),\"\",Datenerfassung!X382)","v":""},{"$f":"IF(COUNTBLANK(Datenerfassung!H382:'Datenerfassung'!N382)=7,\"\",CONCATENATE( CONCATENATE(IF(ISBLANK(Datenerfassung!H382),\" \",Datenerfassung!H382 ),\" [IS]\"), CONCATENATE(IF(ISBLANK(Datenerfassung!I382),\" \",Datenerfassung!I382 ),\" [IS]\"), CONCATENATE(IF(ISBLANK(Datenerfassung!J382),\" \",Datenerfassung!J382 ),\" [IS]\"), CONCATENATE(IF(ISBLANK(Datenerfassung!K382),\" \",Datenerfassung!K382 ),\" [IS]\"), CONCATENATE(IF(ISBLANK(Datenerfassung!L382),\" \",Datenerfassung!L382 ),\" [IS]\"), CONCATENATE(IF(ISBLANK(Datenerfassung!M382),\" \",Datenerfassung!M382 ),\" [IS]\"), IF(ISBLANK(Datenerfassung!N382),\" \",Datenerfassung!N382 ) ))","v":""},{"$f":"IF(ISBLANK(Datenerfassung!V382),\"\",Datenerfassung!V382)","v":""},{"$f":"IF(ISBLANK(Datenerfassung!Q382),\"\",Datenerfassung!Q382)","v":""}]
[{"$f":"IF(ISBLANK(Datenerfassung!A383),\"\",Datenerfassung!A383)","v":""},{"$f":"IF(ISBLANK(Datenerfassung!B383),\"\",Datenerfassung!B383)","v":""},{"$f":"IF(ISBLANK(Datenerfassung!C383),\"\",Datenerfassung!C383)","v":""},{"$f":"IF(ISBLANK(Datenerfassung!R383),\"\",Datenerfassung!R383)","v":""},{"$f":"IF(ISBLANK(Datenerfassung!S383),\"\",Datenerfassung!S383)","v":""},"",{"$f":"IF(ISBLANK(Datenerfassung!U383),\"\",Datenerfassung!U383)","v":""},{"$f":"IF(ISBLANK(Datenerfassung!O383),\"\",Datenerfassung!O383)","v":""},{"$f":"IF(ISBLANK(Datenerfassung!D383),IF(COUNTBLANK(A373:H373)+COUNTBLANK(J373:O373)=14,\"\",\"- ohne Titel -\"),Datenerfassung!D383)","v":""},{"$f":"IF(ISBLANK(Datenerfassung!G383),\"\",Datenerfassung!G383)","v":""},"",{"$f":"IF(ISBLANK(Datenerfassung!X383),\"\",Datenerfassung!X383)","v":""},{"$f":"IF(COUNTBLANK(Datenerfassung!H383:'Datenerfassung'!N383)=7,\"\",CONCATENATE( CONCATENATE(IF(ISBLANK(Datenerfassung!H383),\" \",Datenerfassung!H383 ),\" [IS]\"), CONCATENATE(IF(ISBLANK(Datenerfassung!I383),\" \",Datenerfassung!I383 ),\" [IS]\"), CONCATENATE(IF(ISBLANK(Datenerfassung!J383),\" \",Datenerfassung!J383 ),\" [IS]\"), CONCATENATE(IF(ISBLANK(Datenerfassung!K383),\" \",Datenerfassung!K383 ),\" [IS]\"), CONCATENATE(IF(ISBLANK(Datenerfassung!L383),\" \",Datenerfassung!L383 ),\" [IS]\"), CONCATENATE(IF(ISBLANK(Datenerfassung!M383),\" \",Datenerfassung!M383 ),\" [IS]\"), IF(ISBLANK(Datenerfassung!N383),\" \",Datenerfassung!N383 ) ))","v":""},{"$f":"IF(ISBLANK(Datenerfassung!V383),\"\",Datenerfassung!V383)","v":""},{"$f":"IF(ISBLANK(Datenerfassung!Q383),\"\",Datenerfassung!Q383)","v":""}]
[{"$f":"IF(ISBLANK(Datenerfassung!A384),\"\",Datenerfassung!A384)","v":""},{"$f":"IF(ISBLANK(Datenerfassung!B384),\"\",Datenerfassung!B384)","v":""},{"$f":"IF(ISBLANK(Datenerfassung!C384),\"\",Datenerfassung!C384)","v":""},{"$f":"IF(ISBLANK(Datenerfassung!R384),\"\",Datenerfassung!R384)","v":""},{"$f":"IF(ISBLANK(Datenerfassung!S384),\"\",Datenerfassung!S384)","v":""},"",{"$f":"IF(ISBLANK(Datenerfassung!U384),\"\",Datenerfassung!U384)","v":""},{"$f":"IF(ISBLANK(Datenerfassung!O384),\"\",Datenerfassung!O384)","v":""},{"$f":"IF(ISBLANK(Datenerfassung!D384),IF(COUNTBLANK(A374:H374)+COUNTBLANK(J374:O374)=14,\"\",\"- ohne Titel -\"),Datenerfassung!D384)","v":""},{"$f":"IF(ISBLANK(Datenerfassung!G384),\"\",Datenerfassung!G384)","v":""},"",{"$f":"IF(ISBLANK(Datenerfassung!X384),\"\",Datenerfassung!X384)","v":""},{"$f":"IF(COUNTBLANK(Datenerfassung!H384:'Datenerfassung'!N384)=7,\"\",CONCATENATE( CONCATENATE(IF(ISBLANK(Datenerfassung!H384),\" \",Datenerfassung!H384 ),\" [IS]\"), CONCATENATE(IF(ISBLANK(Datenerfassung!I384),\" \",Datenerfassung!I384 ),\" [IS]\"), CONCATENATE(IF(ISBLANK(Datenerfassung!J384),\" \",Datenerfassung!J384 ),\" [IS]\"), CONCATENATE(IF(ISBLANK(Datenerfassung!K384),\" \",Datenerfassung!K384 ),\" [IS]\"), CONCATENATE(IF(ISBLANK(Datenerfassung!L384),\" \",Datenerfassung!L384 ),\" [IS]\"), CONCATENATE(IF(ISBLANK(Datenerfassung!M384),\" \",Datenerfassung!M384 ),\" [IS]\"), IF(ISBLANK(Datenerfassung!N384),\" \",Datenerfassung!N384 ) ))","v":""},{"$f":"IF(ISBLANK(Datenerfassung!V384),\"\",Datenerfassung!V384)","v":""},{"$f":"IF(ISBLANK(Datenerfassung!Q384),\"\",Datenerfassung!Q384)","v":""}]
[{"$f":"IF(ISBLANK(Datenerfassung!A385),\"\",Datenerfassung!A385)","v":""},{"$f":"IF(ISBLANK(Datenerfassung!B385),\"\",Datenerfassung!B385)","v":""},{"$f":"IF(ISBLANK(Datenerfassung!C385),\"\",Datenerfassung!C385)","v":""},{"$f":"IF(ISBLANK(Datenerfassung!R385),\"\",Datenerfassung!R385)","v":""},{"$f":"IF(ISBLANK(Datenerfassung!S385),\"\",Datenerfassung!S385)","v":""},"",{"$f":"IF(ISBLANK(Datenerfassung!U385),\"\",Datenerfassung!U385)","v":""},{"$f":"IF(ISBLANK(Datenerfassung!O385),\"\",Datenerfassung!O385)","v":""},{"$f":"IF(ISBLANK(Datenerfassung!D385),IF(COUNTBLANK(A375:H375)+COUNTBLANK(J375:O375)=14,\"\",\"- ohne Titel -\"),Datenerfassung!D385)","v":""},{"$f":"IF(ISBLANK(Datenerfassung!G385),\"\",Datenerfassung!G385)","v":""},"",{"$f":"IF(ISBLANK(Datenerfassung!X385),\"\",Datenerfassung!X385)","v":""},{"$f":"IF(COUNTBLANK(Datenerfassung!H385:'Datenerfassung'!N385)=7,\"\",CONCATENATE( CONCATENATE(IF(ISBLANK(Datenerfassung!H385),\" \",Datenerfassung!H385 ),\" [IS]\"), CONCATENATE(IF(ISBLANK(Datenerfassung!I385),\" \",Datenerfassung!I385 ),\" [IS]\"), CONCATENATE(IF(ISBLANK(Datenerfassung!J385),\" \",Datenerfassung!J385 ),\" [IS]\"), CONCATENATE(IF(ISBLANK(Datenerfassung!K385),\" \",Datenerfassung!K385 ),\" [IS]\"), CONCATENATE(IF(ISBLANK(Datenerfassung!L385),\" \",Datenerfassung!L385 ),\" [IS]\"), CONCATENATE(IF(ISBLANK(Datenerfassung!M385),\" \",Datenerfassung!M385 ),\" [IS]\"), IF(ISBLANK(Datenerfassung!N385),\" \",Datenerfassung!N385 ) ))","v":""},{"$f":"IF(ISBLANK(Datenerfassung!V385),\"\",Datenerfassung!V385)","v":""},{"$f":"IF(ISBLANK(Datenerfassung!Q385),\"\",Datenerfassung!Q385)","v":""}]
[{"$f":"IF(ISBLANK(Datenerfassung!A386),\"\",Datenerfassung!A386)","v":""},{"$f":"IF(ISBLANK(Datenerfassung!B386),\"\",Datenerfassung!B386)","v":""},{"$f":"IF(ISBLANK(Datenerfassung!C386),\"\",Datenerfassung!C386)","v":""},{"$f":"IF(ISBLANK(Datenerfassung!R386),\"\",Datenerfassung!R386)","v":""},{"$f":"IF(ISBLANK(Datenerfassung!S386),\"\",Datenerfassung!S386)","v":""},"",{"$f":"IF(ISBLANK(Datenerfassung!U386),\"\",Datenerfassung!U386)","v":""},{"$f":"IF(ISBLANK(Datenerfassung!O386),\"\",Datenerfassung!O386)","v":""},{"$f":"IF(ISBLANK(Datenerfassung!D386),IF(COUNTBLANK(A376:H376)+COUNTBLANK(J376:O376)=14,\"\",\"- ohne Titel -\"),Datenerfassung!D386)","v":""},{"$f":"IF(ISBLANK(Datenerfassung!G386),\"\",Datenerfassung!G386)","v":""},"",{"$f":"IF(ISBLANK(Datenerfassung!X386),\"\",Datenerfassung!X386)","v":""},{"$f":"IF(COUNTBLANK(Datenerfassung!H386:'Datenerfassung'!N386)=7,\"\",CONCATENATE( CONCATENATE(IF(ISBLANK(Datenerfassung!H386),\" \",Datenerfassung!H386 ),\" [IS]\"), CONCATENATE(IF(ISBLANK(Datenerfassung!I386),\" \",Datenerfassung!I386 ),\" [IS]\"), CONCATENATE(IF(ISBLANK(Datenerfassung!J386),\" \",Datenerfassung!J386 ),\" [IS]\"), CONCATENATE(IF(ISBLANK(Datenerfassung!K386),\" \",Datenerfassung!K386 ),\" [IS]\"), CONCATENATE(IF(ISBLANK(Datenerfassung!L386),\" \",Datenerfassung!L386 ),\" [IS]\"), CONCATENATE(IF(ISBLANK(Datenerfassung!M386),\" \",Datenerfassung!M386 ),\" [IS]\"), IF(ISBLANK(Datenerfassung!N386),\" \",Datenerfassung!N386 ) ))","v":""},{"$f":"IF(ISBLANK(Datenerfassung!V386),\"\",Datenerfassung!V386)","v":""},{"$f":"IF(ISBLANK(Datenerfassung!Q386),\"\",Datenerfassung!Q386)","v":""}]
[{"$f":"IF(ISBLANK(Datenerfassung!A387),\"\",Datenerfassung!A387)","v":""},{"$f":"IF(ISBLANK(Datenerfassung!B387),\"\",Datenerfassung!B387)","v":""},{"$f":"IF(ISBLANK(Datenerfassung!C387),\"\",Datenerfassung!C387)","v":""},{"$f":"IF(ISBLANK(Datenerfassung!R387),\"\",Datenerfassung!R387)","v":""},{"$f":"IF(ISBLANK(Datenerfassung!S387),\"\",Datenerfassung!S387)","v":""},"",{"$f":"IF(ISBLANK(Datenerfassung!U387),\"\",Datenerfassung!U387)","v":""},{"$f":"IF(ISBLANK(Datenerfassung!O387),\"\",Datenerfassung!O387)","v":""},{"$f":"IF(ISBLANK(Datenerfassung!D387),IF(COUNTBLANK(A377:H377)+COUNTBLANK(J377:O377)=14,\"\",\"- ohne Titel -\"),Datenerfassung!D387)","v":""},{"$f":"IF(ISBLANK(Datenerfassung!G387),\"\",Datenerfassung!G387)","v":""},"",{"$f":"IF(ISBLANK(Datenerfassung!X387),\"\",Datenerfassung!X387)","v":""},{"$f":"IF(COUNTBLANK(Datenerfassung!H387:'Datenerfassung'!N387)=7,\"\",CONCATENATE( CONCATENATE(IF(ISBLANK(Datenerfassung!H387),\" \",Datenerfassung!H387 ),\" [IS]\"), CONCATENATE(IF(ISBLANK(Datenerfassung!I387),\" \",Datenerfassung!I387 ),\" [IS]\"), CONCATENATE(IF(ISBLANK(Datenerfassung!J387),\" \",Datenerfassung!J387 ),\" [IS]\"), CONCATENATE(IF(ISBLANK(Datenerfassung!K387),\" \",Datenerfassung!K387 ),\" [IS]\"), CONCATENATE(IF(ISBLANK(Datenerfassung!L387),\" \",Datenerfassung!L387 ),\" [IS]\"), CONCATENATE(IF(ISBLANK(Datenerfassung!M387),\" \",Datenerfassung!M387 ),\" [IS]\"), IF(ISBLANK(Datenerfassung!N387),\" \",Datenerfassung!N387 ) ))","v":""},{"$f":"IF(ISBLANK(Datenerfassung!V387),\"\",Datenerfassung!V387)","v":""},{"$f":"IF(ISBLANK(Datenerfassung!Q387),\"\",Datenerfassung!Q387)","v":""}]
[{"$f":"IF(ISBLANK(Datenerfassung!A388),\"\",Datenerfassung!A388)","v":""},{"$f":"IF(ISBLANK(Datenerfassung!B388),\"\",Datenerfassung!B388)","v":""},{"$f":"IF(ISBLANK(Datenerfassung!C388),\"\",Datenerfassung!C388)","v":""},{"$f":"IF(ISBLANK(Datenerfassung!R388),\"\",Datenerfassung!R388)","v":""},{"$f":"IF(ISBLANK(Datenerfassung!S388),\"\",Datenerfassung!S388)","v":""},"",{"$f":"IF(ISBLANK(Datenerfassung!U388),\"\",Datenerfassung!U388)","v":""},{"$f":"IF(ISBLANK(Datenerfassung!O388),\"\",Datenerfassung!O388)","v":""},{"$f":"IF(ISBLANK(Datenerfassung!D388),IF(COUNTBLANK(A378:H378)+COUNTBLANK(J378:O378)=14,\"\",\"- ohne Titel -\"),Datenerfassung!D388)","v":""},{"$f":"IF(ISBLANK(Datenerfassung!G388),\"\",Datenerfassung!G388)","v":""},"",{"$f":"IF(ISBLANK(Datenerfassung!X388),\"\",Datenerfassung!X388)","v":""},{"$f":"IF(COUNTBLANK(Datenerfassung!H388:'Datenerfassung'!N388)=7,\"\",CONCATENATE( CONCATENATE(IF(ISBLANK(Datenerfassung!H388),\" \",Datenerfassung!H388 ),\" [IS]\"), CONCATENATE(IF(ISBLANK(Datenerfassung!I388),\" \",Datenerfassung!I388 ),\" [IS]\"), CONCATENATE(IF(ISBLANK(Datenerfassung!J388),\" \",Datenerfassung!J388 ),\" [IS]\"), CONCATENATE(IF(ISBLANK(Datenerfassung!K388),\" \",Datenerfassung!K388 ),\" [IS]\"), CONCATENATE(IF(ISBLANK(Datenerfassung!L388),\" \",Datenerfassung!L388 ),\" [IS]\"), CONCATENATE(IF(ISBLANK(Datenerfassung!M388),\" \",Datenerfassung!M388 ),\" [IS]\"), IF(ISBLANK(Datenerfassung!N388),\" \",Datenerfassung!N388 ) ))","v":""},{"$f":"IF(ISBLANK(Datenerfassung!V388),\"\",Datenerfassung!V388)","v":""},{"$f":"IF(ISBLANK(Datenerfassung!Q388),\"\",Datenerfassung!Q388)","v":""}]
[{"$f":"IF(ISBLANK(Datenerfassung!A389),\"\",Datenerfassung!A389)","v":""},{"$f":"IF(ISBLANK(Datenerfassung!B389),\"\",Datenerfassung!B389)","v":""},{"$f":"IF(ISBLANK(Datenerfassung!C389),\"\",Datenerfassung!C389)","v":""},{"$f":"IF(ISBLANK(Datenerfassung!R389),\"\",Datenerfassung!R389)","v":""},{"$f":"IF(ISBLANK(Datenerfassung!S389),\"\",Datenerfassung!S389)","v":""},"",{"$f":"IF(ISBLANK(Datenerfassung!U389),\"\",Datenerfassung!U389)","v":""},{"$f":"IF(ISBLANK(Datenerfassung!O389),\"\",Datenerfassung!O389)","v":""},{"$f":"IF(ISBLANK(Datenerfassung!D389),IF(COUNTBLANK(A379:H379)+COUNTBLANK(J379:O379)=14,\"\",\"- ohne Titel -\"),Datenerfassung!D389)","v":""},{"$f":"IF(ISBLANK(Datenerfassung!G389),\"\",Datenerfassung!G389)","v":""},"",{"$f":"IF(ISBLANK(Datenerfassung!X389),\"\",Datenerfassung!X389)","v":""},{"$f":"IF(COUNTBLANK(Datenerfassung!H389:'Datenerfassung'!N389)=7,\"\",CONCATENATE( CONCATENATE(IF(ISBLANK(Datenerfassung!H389),\" \",Datenerfassung!H389 ),\" [IS]\"), CONCATENATE(IF(ISBLANK(Datenerfassung!I389),\" \",Datenerfassung!I389 ),\" [IS]\"), CONCATENATE(IF(ISBLANK(Datenerfassung!J389),\" \",Datenerfassung!J389 ),\" [IS]\"), CONCATENATE(IF(ISBLANK(Datenerfassung!K389),\" \",Datenerfassung!K389 ),\" [IS]\"), CONCATENATE(IF(ISBLANK(Datenerfassung!L389),\" \",Datenerfassung!L389 ),\" [IS]\"), CONCATENATE(IF(ISBLANK(Datenerfassung!M389),\" \",Datenerfassung!M389 ),\" [IS]\"), IF(ISBLANK(Datenerfassung!N389),\" \",Datenerfassung!N389 ) ))","v":""},{"$f":"IF(ISBLANK(Datenerfassung!V389),\"\",Datenerfassung!V389)","v":""},{"$f":"IF(ISBLANK(Datenerfassung!Q389),\"\",Datenerfassung!Q389)","v":""}]
[{"$f":"IF(ISBLANK(Datenerfassung!A390),\"\",Datenerfassung!A390)","v":""},{"$f":"IF(ISBLANK(Datenerfassung!B390),\"\",Datenerfassung!B390)","v":""},{"$f":"IF(ISBLANK(Datenerfassung!C390),\"\",Datenerfassung!C390)","v":""},{"$f":"IF(ISBLANK(Datenerfassung!R390),\"\",Datenerfassung!R390)","v":""},{"$f":"IF(ISBLANK(Datenerfassung!S390),\"\",Datenerfassung!S390)","v":""},"",{"$f":"IF(ISBLANK(Datenerfassung!U390),\"\",Datenerfassung!U390)","v":""},{"$f":"IF(ISBLANK(Datenerfassung!O390),\"\",Datenerfassung!O390)","v":""},{"$f":"IF(ISBLANK(Datenerfassung!D390),IF(COUNTBLANK(A380:H380)+COUNTBLANK(J380:O380)=14,\"\",\"- ohne Titel -\"),Datenerfassung!D390)","v":""},{"$f":"IF(ISBLANK(Datenerfassung!G390),\"\",Datenerfassung!G390)","v":""},"",{"$f":"IF(ISBLANK(Datenerfassung!X390),\"\",Datenerfassung!X390)","v":""},{"$f":"IF(COUNTBLANK(Datenerfassung!H390:'Datenerfassung'!N390)=7,\"\",CONCATENATE( CONCATENATE(IF(ISBLANK(Datenerfassung!H390),\" \",Datenerfassung!H390 ),\" [IS]\"), CONCATENATE(IF(ISBLANK(Datenerfassung!I390),\" \",Datenerfassung!I390 ),\" [IS]\"), CONCATENATE(IF(ISBLANK(Datenerfassung!J390),\" \",Datenerfassung!J390 ),\" [IS]\"), CONCATENATE(IF(ISBLANK(Datenerfassung!K390),\" \",Datenerfassung!K390 ),\" [IS]\"), CONCATENATE(IF(ISBLANK(Datenerfassung!L390),\" \",Datenerfassung!L390 ),\" [IS]\"), CONCATENATE(IF(ISBLANK(Datenerfassung!M390),\" \",Datenerfassung!M390 ),\" [IS]\"), IF(ISBLANK(Datenerfassung!N390),\" \",Datenerfassung!N390 ) ))","v":""},{"$f":"IF(ISBLANK(Datenerfassung!V390),\"\",Datenerfassung!V390)","v":""},{"$f":"IF(ISBLANK(Datenerfassung!Q390),\"\",Datenerfassung!Q390)","v":""}]
[{"$f":"IF(ISBLANK(Datenerfassung!A391),\"\",Datenerfassung!A391)","v":""},{"$f":"IF(ISBLANK(Datenerfassung!B391),\"\",Datenerfassung!B391)","v":""},{"$f":"IF(ISBLANK(Datenerfassung!C391),\"\",Datenerfassung!C391)","v":""},{"$f":"IF(ISBLANK(Datenerfassung!R391),\"\",Datenerfassung!R391)","v":""},{"$f":"IF(ISBLANK(Datenerfassung!S391),\"\",Datenerfassung!S391)","v":""},"",{"$f":"IF(ISBLANK(Datenerfassung!U391),\"\",Datenerfassung!U391)","v":""},{"$f":"IF(ISBLANK(Datenerfassung!O391),\"\",Datenerfassung!O391)","v":""},{"$f":"IF(ISBLANK(Datenerfassung!D391),IF(COUNTBLANK(A381:H381)+COUNTBLANK(J381:O381)=14,\"\",\"- ohne Titel -\"),Datenerfassung!D391)","v":""},{"$f":"IF(ISBLANK(Datenerfassung!G391),\"\",Datenerfassung!G391)","v":""},"",{"$f":"IF(ISBLANK(Datenerfassung!X391),\"\",Datenerfassung!X391)","v":""},{"$f":"IF(COUNTBLANK(Datenerfassung!H391:'Datenerfassung'!N391)=7,\"\",CONCATENATE( CONCATENATE(IF(ISBLANK(Datenerfassung!H391),\" \",Datenerfassung!H391 ),\" [IS]\"), CONCATENATE(IF(ISBLANK(Datenerfassung!I391),\" \",Datenerfassung!I391 ),\" [IS]\"), CONCATENATE(IF(ISBLANK(Datenerfassung!J391),\" \",Datenerfassung!J391 ),\" [IS]\"), CONCATENATE(IF(ISBLANK(Datenerfassung!K391),\" \",Datenerfassung!K391 ),\" [IS]\"), CONCATENATE(IF(ISBLANK(Datenerfassung!L391),\" \",Datenerfassung!L391 ),\" [IS]\"), CONCATENATE(IF(ISBLANK(Datenerfassung!M391),\" \",Datenerfassung!M391 ),\" [IS]\"), IF(ISBLANK(Datenerfassung!N391),\" \",Datenerfassung!N391 ) ))","v":""},{"$f":"IF(ISBLANK(Datenerfassung!V391),\"\",Datenerfassung!V391)","v":""},{"$f":"IF(ISBLANK(Datenerfassung!Q391),\"\",Datenerfassung!Q391)","v":""}]
[{"$f":"IF(ISBLANK(Datenerfassung!A392),\"\",Datenerfassung!A392)","v":""},{"$f":"IF(ISBLANK(Datenerfassung!B392),\"\",Datenerfassung!B392)","v":""},{"$f":"IF(ISBLANK(Datenerfassung!C392),\"\",Datenerfassung!C392)","v":""},{"$f":"IF(ISBLANK(Datenerfassung!R392),\"\",Datenerfassung!R392)","v":""},{"$f":"IF(ISBLANK(Datenerfassung!S392),\"\",Datenerfassung!S392)","v":""},"",{"$f":"IF(ISBLANK(Datenerfassung!U392),\"\",Datenerfassung!U392)","v":""},{"$f":"IF(ISBLANK(Datenerfassung!O392),\"\",Datenerfassung!O392)","v":""},{"$f":"IF(ISBLANK(Datenerfassung!D392),IF(COUNTBLANK(A382:H382)+COUNTBLANK(J382:O382)=14,\"\",\"- ohne Titel -\"),Datenerfassung!D392)","v":""},{"$f":"IF(ISBLANK(Datenerfassung!G392),\"\",Datenerfassung!G392)","v":""},"",{"$f":"IF(ISBLANK(Datenerfassung!X392),\"\",Datenerfassung!X392)","v":""},{"$f":"IF(COUNTBLANK(Datenerfassung!H392:'Datenerfassung'!N392)=7,\"\",CONCATENATE( CONCATENATE(IF(ISBLANK(Datenerfassung!H392),\" \",Datenerfassung!H392 ),\" [IS]\"), CONCATENATE(IF(ISBLANK(Datenerfassung!I392),\" \",Datenerfassung!I392 ),\" [IS]\"), CONCATENATE(IF(ISBLANK(Datenerfassung!J392),\" \",Datenerfassung!J392 ),\" [IS]\"), CONCATENATE(IF(ISBLANK(Datenerfassung!K392),\" \",Datenerfassung!K392 ),\" [IS]\"), CONCATENATE(IF(ISBLANK(Datenerfassung!L392),\" \",Datenerfassung!L392 ),\" [IS]\"), CONCATENATE(IF(ISBLANK(Datenerfassung!M392),\" \",Datenerfassung!M392 ),\" [IS]\"), IF(ISBLANK(Datenerfassung!N392),\" \",Datenerfassung!N392 ) ))","v":""},{"$f":"IF(ISBLANK(Datenerfassung!V392),\"\",Datenerfassung!V392)","v":""},{"$f":"IF(ISBLANK(Datenerfassung!Q392),\"\",Datenerfassung!Q392)","v":""}]
[{"$f":"IF(ISBLANK(Datenerfassung!A393),\"\",Datenerfassung!A393)","v":""},{"$f":"IF(ISBLANK(Datenerfassung!B393),\"\",Datenerfassung!B393)","v":""},{"$f":"IF(ISBLANK(Datenerfassung!C393),\"\",Datenerfassung!C393)","v":""},{"$f":"IF(ISBLANK(Datenerfassung!R393),\"\",Datenerfassung!R393)","v":""},{"$f":"IF(ISBLANK(Datenerfassung!S393),\"\",Datenerfassung!S393)","v":""},"",{"$f":"IF(ISBLANK(Datenerfassung!U393),\"\",Datenerfassung!U393)","v":""},{"$f":"IF(ISBLANK(Datenerfassung!O393),\"\",Datenerfassung!O393)","v":""},{"$f":"IF(ISBLANK(Datenerfassung!D393),IF(COUNTBLANK(A383:H383)+COUNTBLANK(J383:O383)=14,\"\",\"- ohne Titel -\"),Datenerfassung!D393)","v":""},{"$f":"IF(ISBLANK(Datenerfassung!G393),\"\",Datenerfassung!G393)","v":""},"",{"$f":"IF(ISBLANK(Datenerfassung!X393),\"\",Datenerfassung!X393)","v":""},{"$f":"IF(COUNTBLANK(Datenerfassung!H393:'Datenerfassung'!N393)=7,\"\",CONCATENATE( CONCATENATE(IF(ISBLANK(Datenerfassung!H393),\" \",Datenerfassung!H393 ),\" [IS]\"), CONCATENATE(IF(ISBLANK(Datenerfassung!I393),\" \",Datenerfassung!I393 ),\" [IS]\"), CONCATENATE(IF(ISBLANK(Datenerfassung!J393),\" \",Datenerfassung!J393 ),\" [IS]\"), CONCATENATE(IF(ISBLANK(Datenerfassung!K393),\" \",Datenerfassung!K393 ),\" [IS]\"), CONCATENATE(IF(ISBLANK(Datenerfassung!L393),\" \",Datenerfassung!L393 ),\" [IS]\"), CONCATENATE(IF(ISBLANK(Datenerfassung!M393),\" \",Datenerfassung!M393 ),\" [IS]\"), IF(ISBLANK(Datenerfassung!N393),\" \",Datenerfassung!N393 ) ))","v":""},{"$f":"IF(ISBLANK(Datenerfassung!V393),\"\",Datenerfassung!V393)","v":""},{"$f":"IF(ISBLANK(Datenerfassung!Q393),\"\",Datenerfassung!Q393)","v":""}]
[{"$f":"IF(ISBLANK(Datenerfassung!A394),\"\",Datenerfassung!A394)","v":""},{"$f":"IF(ISBLANK(Datenerfassung!B394),\"\",Datenerfassung!B394)","v":""},{"$f":"IF(ISBLANK(Datenerfassung!C394),\"\",Datenerfassung!C394)","v":""},{"$f":"IF(ISBLANK(Datenerfassung!R394),\"\",Datenerfassung!R394)","v":""},{"$f":"IF(ISBLANK(Datenerfassung!S394),\"\",Datenerfassung!S394)","v":""},"",{"$f":"IF(ISBLANK(Datenerfassung!U394),\"\",Datenerfassung!U394)","v":""},{"$f":"IF(ISBLANK(Datenerfassung!O394),\"\",Datenerfassung!O394)","v":""},{"$f":"IF(ISBLANK(Datenerfassung!D394),IF(COUNTBLANK(A384:H384)+COUNTBLANK(J384:O384)=14,\"\",\"- ohne Titel -\"),Datenerfassung!D394)","v":""},{"$f":"IF(ISBLANK(Datenerfassung!G394),\"\",Datenerfassung!G394)","v":""},"",{"$f":"IF(ISBLANK(Datenerfassung!X394),\"\",Datenerfassung!X394)","v":""},{"$f":"IF(COUNTBLANK(Datenerfassung!H394:'Datenerfassung'!N394)=7,\"\",CONCATENATE( CONCATENATE(IF(ISBLANK(Datenerfassung!H394),\" \",Datenerfassung!H394 ),\" [IS]\"), CONCATENATE(IF(ISBLANK(Datenerfassung!I394),\" \",Datenerfassung!I394 ),\" [IS]\"), CONCATENATE(IF(ISBLANK(Datenerfassung!J394),\" \",Datenerfassung!J394 ),\" [IS]\"), CONCATENATE(IF(ISBLANK(Datenerfassung!K394),\" \",Datenerfassung!K394 ),\" [IS]\"), CONCATENATE(IF(ISBLANK(Datenerfassung!L394),\" \",Datenerfassung!L394 ),\" [IS]\"), CONCATENATE(IF(ISBLANK(Datenerfassung!M394),\" \",Datenerfassung!M394 ),\" [IS]\"), IF(ISBLANK(Datenerfassung!N394),\" \",Datenerfassung!N394 ) ))","v":""},{"$f":"IF(ISBLANK(Datenerfassung!V394),\"\",Datenerfassung!V394)","v":""},{"$f":"IF(ISBLANK(Datenerfassung!Q394),\"\",Datenerfassung!Q394)","v":""}]
[{"$f":"IF(ISBLANK(Datenerfassung!A395),\"\",Datenerfassung!A395)","v":""},{"$f":"IF(ISBLANK(Datenerfassung!B395),\"\",Datenerfassung!B395)","v":""},{"$f":"IF(ISBLANK(Datenerfassung!C395),\"\",Datenerfassung!C395)","v":""},{"$f":"IF(ISBLANK(Datenerfassung!R395),\"\",Datenerfassung!R395)","v":""},{"$f":"IF(ISBLANK(Datenerfassung!S395),\"\",Datenerfassung!S395)","v":""},"",{"$f":"IF(ISBLANK(Datenerfassung!U395),\"\",Datenerfassung!U395)","v":""},{"$f":"IF(ISBLANK(Datenerfassung!O395),\"\",Datenerfassung!O395)","v":""},{"$f":"IF(ISBLANK(Datenerfassung!D395),IF(COUNTBLANK(A385:H385)+COUNTBLANK(J385:O385)=14,\"\",\"- ohne Titel -\"),Datenerfassung!D395)","v":""},{"$f":"IF(ISBLANK(Datenerfassung!G395),\"\",Datenerfassung!G395)","v":""},"",{"$f":"IF(ISBLANK(Datenerfassung!X395),\"\",Datenerfassung!X395)","v":""},{"$f":"IF(COUNTBLANK(Datenerfassung!H395:'Datenerfassung'!N395)=7,\"\",CONCATENATE( CONCATENATE(IF(ISBLANK(Datenerfassung!H395),\" \",Datenerfassung!H395 ),\" [IS]\"), CONCATENATE(IF(ISBLANK(Datenerfassung!I395),\" \",Datenerfassung!I395 ),\" [IS]\"), CONCATENATE(IF(ISBLANK(Datenerfassung!J395),\" \",Datenerfassung!J395 ),\" [IS]\"), CONCATENATE(IF(ISBLANK(Datenerfassung!K395),\" \",Datenerfassung!K395 ),\" [IS]\"), CONCATENATE(IF(ISBLANK(Datenerfassung!L395),\" \",Datenerfassung!L395 ),\" [IS]\"), CONCATENATE(IF(ISBLANK(Datenerfassung!M395),\" \",Datenerfassung!M395 ),\" [IS]\"), IF(ISBLANK(Datenerfassung!N395),\" \",Datenerfassung!N395 ) ))","v":""},{"$f":"IF(ISBLANK(Datenerfassung!V395),\"\",Datenerfassung!V395)","v":""},{"$f":"IF(ISBLANK(Datenerfassung!Q395),\"\",Datenerfassung!Q395)","v":""}]
[{"$f":"IF(ISBLANK(Datenerfassung!A396),\"\",Datenerfassung!A396)","v":""},{"$f":"IF(ISBLANK(Datenerfassung!B396),\"\",Datenerfassung!B396)","v":""},{"$f":"IF(ISBLANK(Datenerfassung!C396),\"\",Datenerfassung!C396)","v":""},{"$f":"IF(ISBLANK(Datenerfassung!R396),\"\",Datenerfassung!R396)","v":""},{"$f":"IF(ISBLANK(Datenerfassung!S396),\"\",Datenerfassung!S396)","v":""},"",{"$f":"IF(ISBLANK(Datenerfassung!U396),\"\",Datenerfassung!U396)","v":""},{"$f":"IF(ISBLANK(Datenerfassung!O396),\"\",Datenerfassung!O396)","v":""},{"$f":"IF(ISBLANK(Datenerfassung!D396),IF(COUNTBLANK(A386:H386)+COUNTBLANK(J386:O386)=14,\"\",\"- ohne Titel -\"),Datenerfassung!D396)","v":""},{"$f":"IF(ISBLANK(Datenerfassung!G396),\"\",Datenerfassung!G396)","v":""},"",{"$f":"IF(ISBLANK(Datenerfassung!X396),\"\",Datenerfassung!X396)","v":""},{"$f":"IF(COUNTBLANK(Datenerfassung!H396:'Datenerfassung'!N396)=7,\"\",CONCATENATE( CONCATENATE(IF(ISBLANK(Datenerfassung!H396),\" \",Datenerfassung!H396 ),\" [IS]\"), CONCATENATE(IF(ISBLANK(Datenerfassung!I396),\" \",Datenerfassung!I396 ),\" [IS]\"), CONCATENATE(IF(ISBLANK(Datenerfassung!J396),\" \",Datenerfassung!J396 ),\" [IS]\"), CONCATENATE(IF(ISBLANK(Datenerfassung!K396),\" \",Datenerfassung!K396 ),\" [IS]\"), CONCATENATE(IF(ISBLANK(Datenerfassung!L396),\" \",Datenerfassung!L396 ),\" [IS]\"), CONCATENATE(IF(ISBLANK(Datenerfassung!M396),\" \",Datenerfassung!M396 ),\" [IS]\"), IF(ISBLANK(Datenerfassung!N396),\" \",Datenerfassung!N396 ) ))","v":""},{"$f":"IF(ISBLANK(Datenerfassung!V396),\"\",Datenerfassung!V396)","v":""},{"$f":"IF(ISBLANK(Datenerfassung!Q396),\"\",Datenerfassung!Q396)","v":""}]
[{"$f":"IF(ISBLANK(Datenerfassung!A397),\"\",Datenerfassung!A397)","v":""},{"$f":"IF(ISBLANK(Datenerfassung!B397),\"\",Datenerfassung!B397)","v":""},{"$f":"IF(ISBLANK(Datenerfassung!C397),\"\",Datenerfassung!C397)","v":""},{"$f":"IF(ISBLANK(Datenerfassung!R397),\"\",Datenerfassung!R397)","v":""},{"$f":"IF(ISBLANK(Datenerfassung!S397),\"\",Datenerfassung!S397)","v":""},{"$f":"IF(D387=\"\",\"\",IF(E387=\"\",D387,D387&\" - \"&E387))","v":""},{"$f":"IF(ISBLANK(Datenerfassung!U397),\"\",Datenerfassung!U397)","v":""},{"$f":"IF(ISBLANK(Datenerfassung!O397),\"\",Datenerfassung!O397)","v":""},{"$f":"IF(ISBLANK(Datenerfassung!D397),IF(COUNTBLANK(A387:H387)+COUNTBLANK(J387:O387)=14,\"\",\"- ohne Titel -\"),Datenerfassung!D397)","v":""},{"$f":"IF(ISBLANK(Datenerfassung!G397),\"\",Datenerfassung!G397)","v":""},{"$f":"IF(OR(E387=\"\",G387=\"\"),\"\",\"01.01.\"&RIGHT(E387,4)+G387+1)","v":""},{"$f":"IF(ISBLANK(Datenerfassung!X397),\"\",Datenerfassung!X397)","v":""},{"$f":"IF(COUNTBLANK(Datenerfassung!H397:'Datenerfassung'!N397)=7,\"\",CONCATENATE( CONCATENATE(IF(ISBLANK(Datenerfassung!H397),\" \",Datenerfassung!H397 ),\" [IS]\"), CONCATENATE(IF(ISBLANK(Datenerfassung!I397),\" \",Datenerfassung!I397 ),\" [IS]\"), CONCATENATE(IF(ISBLANK(Datenerfassung!J397),\" \",Datenerfassung!J397 ),\" [IS]\"), CONCATENATE(IF(ISBLANK(Datenerfassung!K397),\" \",Datenerfassung!K397 ),\" [IS]\"), CONCATENATE(IF(ISBLANK(Datenerfassung!L397),\" \",Datenerfassung!L397 ),\" [IS]\"), CONCATENATE(IF(ISBLANK(Datenerfassung!M397),\" \",Datenerfassung!M397 ),\" [IS]\"), IF(ISBLANK(Datenerfassung!N397),\" \",Datenerfassung!N397 ) ))","v":""},{"$f":"IF(ISBLANK(Datenerfassung!V397),\"\",Datenerfassung!V397)","v":""},{"$f":"IF(ISBLANK(Datenerfassung!Q397),\"\",Datenerfassung!Q397)","v":""}]
[{"$f":"IF(ISBLANK(Datenerfassung!A398),\"\",Datenerfassung!A398)","v":""},{"$f":"IF(ISBLANK(Datenerfassung!B398),\"\",Datenerfassung!B398)","v":""},{"$f":"IF(ISBLANK(Datenerfassung!C398),\"\",Datenerfassung!C398)","v":""},{"$f":"IF(ISBLANK(Datenerfassung!R398),\"\",Datenerfassung!R398)","v":""},{"$f":"IF(ISBLANK(Datenerfassung!S398),\"\",Datenerfassung!S398)","v":""},"",{"$f":"IF(ISBLANK(Datenerfassung!U398),\"\",Datenerfassung!U398)","v":""},{"$f":"IF(ISBLANK(Datenerfassung!O398),\"\",Datenerfassung!O398)","v":""},{"$f":"IF(ISBLANK(Datenerfassung!D398),IF(COUNTBLANK(A388:H388)+COUNTBLANK(J388:O388)=14,\"\",\"- ohne Titel -\"),Datenerfassung!D398)","v":""},{"$f":"IF(ISBLANK(Datenerfassung!G398),\"\",Datenerfassung!G398)","v":""},"",{"$f":"IF(ISBLANK(Datenerfassung!X398),\"\",Datenerfassung!X398)","v":""},{"$f":"IF(COUNTBLANK(Datenerfassung!H398:'Datenerfassung'!N398)=7,\"\",CONCATENATE( CONCATENATE(IF(ISBLANK(Datenerfassung!H398),\" \",Datenerfassung!H398 ),\" [IS]\"), CONCATENATE(IF(ISBLANK(Datenerfassung!I398),\" \",Datenerfassung!I398 ),\" [IS]\"), CONCATENATE(IF(ISBLANK(Datenerfassung!J398),\" \",Datenerfassung!J398 ),\" [IS]\"), CONCATENATE(IF(ISBLANK(Datenerfassung!K398),\" \",Datenerfassung!K398 ),\" [IS]\"), CONCATENATE(IF(ISBLANK(Datenerfassung!L398),\" \",Datenerfassung!L398 ),\" [IS]\"), CONCATENATE(IF(ISBLANK(Datenerfassung!M398),\" \",Datenerfassung!M398 ),\" [IS]\"), IF(ISBLANK(Datenerfassung!N398),\" \",Datenerfassung!N398 ) ))","v":""},{"$f":"IF(ISBLANK(Datenerfassung!V398),\"\",Datenerfassung!V398)","v":""},{"$f":"IF(ISBLANK(Datenerfassung!Q398),\"\",Datenerfassung!Q398)","v":""}]
[{"$f":"IF(ISBLANK(Datenerfassung!A399),\"\",Datenerfassung!A399)","v":""},{"$f":"IF(ISBLANK(Datenerfassung!B399),\"\",Datenerfassung!B399)","v":""},{"$f":"IF(ISBLANK(Datenerfassung!C399),\"\",Datenerfassung!C399)","v":""},{"$f":"IF(ISBLANK(Datenerfassung!R399),\"\",Datenerfassung!R399)","v":""},{"$f":"IF(ISBLANK(Datenerfassung!S399),\"\",Datenerfassung!S399)","v":""},"",{"$f":"IF(ISBLANK(Datenerfassung!U399),\"\",Datenerfassung!U399)","v":""},{"$f":"IF(ISBLANK(Datenerfassung!O399),\"\",Datenerfassung!O399)","v":""},{"$f":"IF(ISBLANK(Datenerfassung!D399),IF(COUNTBLANK(A389:H389)+COUNTBLANK(J389:O389)=14,\"\",\"- ohne Titel -\"),Datenerfassung!D399)","v":""},{"$f":"IF(ISBLANK(Datenerfassung!G399),\"\",Datenerfassung!G399)","v":""},"",{"$f":"IF(ISBLANK(Datenerfassung!X399),\"\",Datenerfassung!X399)","v":""},{"$f":"IF(COUNTBLANK(Datenerfassung!H399:'Datenerfassung'!N399)=7,\"\",CONCATENATE( CONCATENATE(IF(ISBLANK(Datenerfassung!H399),\" \",Datenerfassung!H399 ),\" [IS]\"), CONCATENATE(IF(ISBLANK(Datenerfassung!I399),\" \",Datenerfassung!I399 ),\" [IS]\"), CONCATENATE(IF(ISBLANK(Datenerfassung!J399),\" \",Datenerfassung!J399 ),\" [IS]\"), CONCATENATE(IF(ISBLANK(Datenerfassung!K399),\" \",Datenerfassung!K399 ),\" [IS]\"), CONCATENATE(IF(ISBLANK(Datenerfassung!L399),\" \",Datenerfassung!L399 ),\" [IS]\"), CONCATENATE(IF(ISBLANK(Datenerfassung!M399),\" \",Datenerfassung!M399 ),\" [IS]\"), IF(ISBLANK(Datenerfassung!N399),\" \",Datenerfassung!N399 ) ))","v":""},{"$f":"IF(ISBLANK(Datenerfassung!V399),\"\",Datenerfassung!V399)","v":""},{"$f":"IF(ISBLANK(Datenerfassung!Q399),\"\",Datenerfassung!Q399)","v":""}]
[{"$f":"IF(ISBLANK(Datenerfassung!A400),\"\",Datenerfassung!A400)","v":""},{"$f":"IF(ISBLANK(Datenerfassung!B400),\"\",Datenerfassung!B400)","v":""},{"$f":"IF(ISBLANK(Datenerfassung!C400),\"\",Datenerfassung!C400)","v":""},{"$f":"IF(ISBLANK(Datenerfassung!R400),\"\",Datenerfassung!R400)","v":""},{"$f":"IF(ISBLANK(Datenerfassung!S400),\"\",Datenerfassung!S400)","v":""},"",{"$f":"IF(ISBLANK(Datenerfassung!U400),\"\",Datenerfassung!U400)","v":""},{"$f":"IF(ISBLANK(Datenerfassung!O400),\"\",Datenerfassung!O400)","v":""},{"$f":"IF(ISBLANK(Datenerfassung!D400),IF(COUNTBLANK(A390:H390)+COUNTBLANK(J390:O390)=14,\"\",\"- ohne Titel -\"),Datenerfassung!D400)","v":""},{"$f":"IF(ISBLANK(Datenerfassung!G400),\"\",Datenerfassung!G400)","v":""},"",{"$f":"IF(ISBLANK(Datenerfassung!X400),\"\",Datenerfassung!X400)","v":""},{"$f":"IF(COUNTBLANK(Datenerfassung!H400:'Datenerfassung'!N400)=7,\"\",CONCATENATE( CONCATENATE(IF(ISBLANK(Datenerfassung!H400),\" \",Datenerfassung!H400 ),\" [IS]\"), CONCATENATE(IF(ISBLANK(Datenerfassung!I400),\" \",Datenerfassung!I400 ),\" [IS]\"), CONCATENATE(IF(ISBLANK(Datenerfassung!J400),\" \",Datenerfassung!J400 ),\" [IS]\"), CONCATENATE(IF(ISBLANK(Datenerfassung!K400),\" \",Datenerfassung!K400 ),\" [IS]\"), CONCATENATE(IF(ISBLANK(Datenerfassung!L400),\" \",Datenerfassung!L400 ),\" [IS]\"), CONCATENATE(IF(ISBLANK(Datenerfassung!M400),\" \",Datenerfassung!M400 ),\" [IS]\"), IF(ISBLANK(Datenerfassung!N400),\" \",Datenerfassung!N400 ) ))","v":""},{"$f":"IF(ISBLANK(Datenerfassung!V400),\"\",Datenerfassung!V400)","v":""},{"$f":"IF(ISBLANK(Datenerfassung!Q400),\"\",Datenerfassung!Q400)","v":""}]
[{"$f":"IF(ISBLANK(Datenerfassung!A401),\"\",Datenerfassung!A401)","v":""},{"$f":"IF(ISBLANK(Datenerfassung!B401),\"\",Datenerfassung!B401)","v":""},{"$f":"IF(ISBLANK(Datenerfassung!C401),\"\",Datenerfassung!C401)","v":""},{"$f":"IF(ISBLANK(Datenerfassung!R401),\"\",Datenerfassung!R401)","v":""},{"$f":"IF(ISBLANK(Datenerfassung!S401),\"\",Datenerfassung!S401)","v":""},"",{"$f":"IF(ISBLANK(Datenerfassung!U401),\"\",Datenerfassung!U401)","v":""},{"$f":"IF(ISBLANK(Datenerfassung!O401),\"\",Datenerfassung!O401)","v":""},{"$f":"IF(ISBLANK(Datenerfassung!D401),IF(COUNTBLANK(A391:H391)+COUNTBLANK(J391:O391)=14,\"\",\"- ohne Titel -\"),Datenerfassung!D401)","v":""},{"$f":"IF(ISBLANK(Datenerfassung!G401),\"\",Datenerfassung!G401)","v":""},"",{"$f":"IF(ISBLANK(Datenerfassung!X401),\"\",Datenerfassung!X401)","v":""},{"$f":"IF(COUNTBLANK(Datenerfassung!H401:'Datenerfassung'!N401)=7,\"\",CONCATENATE( CONCATENATE(IF(ISBLANK(Datenerfassung!H401),\" \",Datenerfassung!H401 ),\" [IS]\"), CONCATENATE(IF(ISBLANK(Datenerfassung!I401),\" \",Datenerfassung!I401 ),\" [IS]\"), CONCATENATE(IF(ISBLANK(Datenerfassung!J401),\" \",Datenerfassung!J401 ),\" [IS]\"), CONCATENATE(IF(ISBLANK(Datenerfassung!K401),\" \",Datenerfassung!K401 ),\" [IS]\"), CONCATENATE(IF(ISBLANK(Datenerfassung!L401),\" \",Datenerfassung!L401 ),\" [IS]\"), CONCATENATE(IF(ISBLANK(Datenerfassung!M401),\" \",Datenerfassung!M401 ),\" [IS]\"), IF(ISBLANK(Datenerfassung!N401),\" \",Datenerfassung!N401 ) ))","v":""},{"$f":"IF(ISBLANK(Datenerfassung!V401),\"\",Datenerfassung!V401)","v":""},{"$f":"IF(ISBLANK(Datenerfassung!Q401),\"\",Datenerfassung!Q401)","v":""}]
[{"$f":"IF(ISBLANK(Datenerfassung!A402),\"\",Datenerfassung!A402)","v":""},{"$f":"IF(ISBLANK(Datenerfassung!B402),\"\",Datenerfassung!B402)","v":""},{"$f":"IF(ISBLANK(Datenerfassung!C402),\"\",Datenerfassung!C402)","v":""},{"$f":"IF(ISBLANK(Datenerfassung!R402),\"\",Datenerfassung!R402)","v":""},{"$f":"IF(ISBLANK(Datenerfassung!S402),\"\",Datenerfassung!S402)","v":""},"",{"$f":"IF(ISBLANK(Datenerfassung!U402),\"\",Datenerfassung!U402)","v":""},{"$f":"IF(ISBLANK(Datenerfassung!O402),\"\",Datenerfassung!O402)","v":""},{"$f":"IF(ISBLANK(Datenerfassung!D402),IF(COUNTBLANK(A392:H392)+COUNTBLANK(J392:O392)=14,\"\",\"- ohne Titel -\"),Datenerfassung!D402)","v":""},{"$f":"IF(ISBLANK(Datenerfassung!G402),\"\",Datenerfassung!G402)","v":""},"",{"$f":"IF(ISBLANK(Datenerfassung!X402),\"\",Datenerfassung!X402)","v":""},{"$f":"IF(COUNTBLANK(Datenerfassung!H402:'Datenerfassung'!N402)=7,\"\",CONCATENATE( CONCATENATE(IF(ISBLANK(Datenerfassung!H402),\" \",Datenerfassung!H402 ),\" [IS]\"), CONCATENATE(IF(ISBLANK(Datenerfassung!I402),\" \",Datenerfassung!I402 ),\" [IS]\"), CONCATENATE(IF(ISBLANK(Datenerfassung!J402),\" \",Datenerfassung!J402 ),\" [IS]\"), CONCATENATE(IF(ISBLANK(Datenerfassung!K402),\" \",Datenerfassung!K402 ),\" [IS]\"), CONCATENATE(IF(ISBLANK(Datenerfassung!L402),\" \",Datenerfassung!L402 ),\" [IS]\"), CONCATENATE(IF(ISBLANK(Datenerfassung!M402),\" \",Datenerfassung!M402 ),\" [IS]\"), IF(ISBLANK(Datenerfassung!N402),\" \",Datenerfassung!N402 ) ))","v":""},{"$f":"IF(ISBLANK(Datenerfassung!V402),\"\",Datenerfassung!V402)","v":""},{"$f":"IF(ISBLANK(Datenerfassung!Q402),\"\",Datenerfassung!Q402)","v":""}]
[{"$f":"IF(ISBLANK(Datenerfassung!A403),\"\",Datenerfassung!A403)","v":""},{"$f":"IF(ISBLANK(Datenerfassung!B403),\"\",Datenerfassung!B403)","v":""},{"$f":"IF(ISBLANK(Datenerfassung!C403),\"\",Datenerfassung!C403)","v":""},{"$f":"IF(ISBLANK(Datenerfassung!R403),\"\",Datenerfassung!R403)","v":""},{"$f":"IF(ISBLANK(Datenerfassung!S403),\"\",Datenerfassung!S403)","v":""},"",{"$f":"IF(ISBLANK(Datenerfassung!U403),\"\",Datenerfassung!U403)","v":""},{"$f":"IF(ISBLANK(Datenerfassung!O403),\"\",Datenerfassung!O403)","v":""},{"$f":"IF(ISBLANK(Datenerfassung!D403),IF(COUNTBLANK(A393:H393)+COUNTBLANK(J393:O393)=14,\"\",\"- ohne Titel -\"),Datenerfassung!D403)","v":""},{"$f":"IF(ISBLANK(Datenerfassung!G403),\"\",Datenerfassung!G403)","v":""},"",{"$f":"IF(ISBLANK(Datenerfassung!X403),\"\",Datenerfassung!X403)","v":""},{"$f":"IF(COUNTBLANK(Datenerfassung!H403:'Datenerfassung'!N403)=7,\"\",CONCATENATE( CONCATENATE(IF(ISBLANK(Datenerfassung!H403),\" \",Datenerfassung!H403 ),\" [IS]\"), CONCATENATE(IF(ISBLANK(Datenerfassung!I403),\" \",Datenerfassung!I403 ),\" [IS]\"), CONCATENATE(IF(ISBLANK(Datenerfassung!J403),\" \",Datenerfassung!J403 ),\" [IS]\"), CONCATENATE(IF(ISBLANK(Datenerfassung!K403),\" \",Datenerfassung!K403 ),\" [IS]\"), CONCATENATE(IF(ISBLANK(Datenerfassung!L403),\" \",Datenerfassung!L403 ),\" [IS]\"), CONCATENATE(IF(ISBLANK(Datenerfassung!M403),\" \",Datenerfassung!M403 ),\" [IS]\"), IF(ISBLANK(Datenerfassung!N403),\" \",Datenerfassung!N403 ) ))","v":""},{"$f":"IF(ISBLANK(Datenerfassung!V403),\"\",Datenerfassung!V403)","v":""},{"$f":"IF(ISBLANK(Datenerfassung!Q403),\"\",Datenerfassung!Q403)","v":""}]
[{"$f":"IF(ISBLANK(Datenerfassung!A404),\"\",Datenerfassung!A404)","v":""},{"$f":"IF(ISBLANK(Datenerfassung!B404),\"\",Datenerfassung!B404)","v":""},{"$f":"IF(ISBLANK(Datenerfassung!C404),\"\",Datenerfassung!C404)","v":""},{"$f":"IF(ISBLANK(Datenerfassung!R404),\"\",Datenerfassung!R404)","v":""},{"$f":"IF(ISBLANK(Datenerfassung!S404),\"\",Datenerfassung!S404)","v":""},"",{"$f":"IF(ISBLANK(Datenerfassung!U404),\"\",Datenerfassung!U404)","v":""},{"$f":"IF(ISBLANK(Datenerfassung!O404),\"\",Datenerfassung!O404)","v":""},{"$f":"IF(ISBLANK(Datenerfassung!D404),IF(COUNTBLANK(A394:H394)+COUNTBLANK(J394:O394)=14,\"\",\"- ohne Titel -\"),Datenerfassung!D404)","v":""},{"$f":"IF(ISBLANK(Datenerfassung!G404),\"\",Datenerfassung!G404)","v":""},"",{"$f":"IF(ISBLANK(Datenerfassung!X404),\"\",Datenerfassung!X404)","v":""},{"$f":"IF(COUNTBLANK(Datenerfassung!H404:'Datenerfassung'!N404)=7,\"\",CONCATENATE( CONCATENATE(IF(ISBLANK(Datenerfassung!H404),\" \",Datenerfassung!H404 ),\" [IS]\"), CONCATENATE(IF(ISBLANK(Datenerfassung!I404),\" \",Datenerfassung!I404 ),\" [IS]\"), CONCATENATE(IF(ISBLANK(Datenerfassung!J404),\" \",Datenerfassung!J404 ),\" [IS]\"), CONCATENATE(IF(ISBLANK(Datenerfassung!K404),\" \",Datenerfassung!K404 ),\" [IS]\"), CONCATENATE(IF(ISBLANK(Datenerfassung!L404),\" \",Datenerfassung!L404 ),\" [IS]\"), CONCATENATE(IF(ISBLANK(Datenerfassung!M404),\" \",Datenerfassung!M404 ),\" [IS]\"), IF(ISBLANK(Datenerfassung!N404),\" \",Datenerfassung!N404 ) ))","v":""},{"$f":"IF(ISBLANK(Datenerfassung!V404),\"\",Datenerfassung!V404)","v":""},{"$f":"IF(ISBLANK(Datenerfassung!Q404),\"\",Datenerfassung!Q404)","v":""}]
[{"$f":"IF(ISBLANK(Datenerfassung!A405),\"\",Datenerfassung!A405)","v":""},{"$f":"IF(ISBLANK(Datenerfassung!B405),\"\",Datenerfassung!B405)","v":""},{"$f":"IF(ISBLANK(Datenerfassung!C405),\"\",Datenerfassung!C405)","v":""},{"$f":"IF(ISBLANK(Datenerfassung!R405),\"\",Datenerfassung!R405)","v":""},{"$f":"IF(ISBLANK(Datenerfassung!S405),\"\",Datenerfassung!S405)","v":""},"",{"$f":"IF(ISBLANK(Datenerfassung!U405),\"\",Datenerfassung!U405)","v":""},{"$f":"IF(ISBLANK(Datenerfassung!O405),\"\",Datenerfassung!O405)","v":""},{"$f":"IF(ISBLANK(Datenerfassung!D405),IF(COUNTBLANK(A395:H395)+COUNTBLANK(J395:O395)=14,\"\",\"- ohne Titel -\"),Datenerfassung!D405)","v":""},{"$f":"IF(ISBLANK(Datenerfassung!G405),\"\",Datenerfassung!G405)","v":""},"",{"$f":"IF(ISBLANK(Datenerfassung!X405),\"\",Datenerfassung!X405)","v":""},{"$f":"IF(COUNTBLANK(Datenerfassung!H405:'Datenerfassung'!N405)=7,\"\",CONCATENATE( CONCATENATE(IF(ISBLANK(Datenerfassung!H405),\" \",Datenerfassung!H405 ),\" [IS]\"), CONCATENATE(IF(ISBLANK(Datenerfassung!I405),\" \",Datenerfassung!I405 ),\" [IS]\"), CONCATENATE(IF(ISBLANK(Datenerfassung!J405),\" \",Datenerfassung!J405 ),\" [IS]\"), CONCATENATE(IF(ISBLANK(Datenerfassung!K405),\" \",Datenerfassung!K405 ),\" [IS]\"), CONCATENATE(IF(ISBLANK(Datenerfassung!L405),\" \",Datenerfassung!L405 ),\" [IS]\"), CONCATENATE(IF(ISBLANK(Datenerfassung!M405),\" \",Datenerfassung!M405 ),\" [IS]\"), IF(ISBLANK(Datenerfassung!N405),\" \",Datenerfassung!N405 ) ))","v":""},{"$f":"IF(ISBLANK(Datenerfassung!V405),\"\",Datenerfassung!V405)","v":""},{"$f":"IF(ISBLANK(Datenerfassung!Q405),\"\",Datenerfassung!Q405)","v":""}]
[{"$f":"IF(ISBLANK(Datenerfassung!A406),\"\",Datenerfassung!A406)","v":""},{"$f":"IF(ISBLANK(Datenerfassung!B406),\"\",Datenerfassung!B406)","v":""},{"$f":"IF(ISBLANK(Datenerfassung!C406),\"\",Datenerfassung!C406)","v":""},{"$f":"IF(ISBLANK(Datenerfassung!R406),\"\",Datenerfassung!R406)","v":""},{"$f":"IF(ISBLANK(Datenerfassung!S406),\"\",Datenerfassung!S406)","v":""},"",{"$f":"IF(ISBLANK(Datenerfassung!U406),\"\",Datenerfassung!U406)","v":""},{"$f":"IF(ISBLANK(Datenerfassung!O406),\"\",Datenerfassung!O406)","v":""},{"$f":"IF(ISBLANK(Datenerfassung!D406),IF(COUNTBLANK(A396:H396)+COUNTBLANK(J396:O396)=14,\"\",\"- ohne Titel -\"),Datenerfassung!D406)","v":""},{"$f":"IF(ISBLANK(Datenerfassung!G406),\"\",Datenerfassung!G406)","v":""},"",{"$f":"IF(ISBLANK(Datenerfassung!X406),\"\",Datenerfassung!X406)","v":""},{"$f":"IF(COUNTBLANK(Datenerfassung!H406:'Datenerfassung'!N406)=7,\"\",CONCATENATE( CONCATENATE(IF(ISBLANK(Datenerfassung!H406),\" \",Datenerfassung!H406 ),\" [IS]\"), CONCATENATE(IF(ISBLANK(Datenerfassung!I406),\" \",Datenerfassung!I406 ),\" [IS]\"), CONCATENATE(IF(ISBLANK(Datenerfassung!J406),\" \",Datenerfassung!J406 ),\" [IS]\"), CONCATENATE(IF(ISBLANK(Datenerfassung!K406),\" \",Datenerfassung!K406 ),\" [IS]\"), CONCATENATE(IF(ISBLANK(Datenerfassung!L406),\" \",Datenerfassung!L406 ),\" [IS]\"), CONCATENATE(IF(ISBLANK(Datenerfassung!M406),\" \",Datenerfassung!M406 ),\" [IS]\"), IF(ISBLANK(Datenerfassung!N406),\" \",Datenerfassung!N406 ) ))","v":""},{"$f":"IF(ISBLANK(Datenerfassung!V406),\"\",Datenerfassung!V406)","v":""},{"$f":"IF(ISBLANK(Datenerfassung!Q406),\"\",Datenerfassung!Q406)","v":""}]
[{"$f":"IF(ISBLANK(Datenerfassung!A407),\"\",Datenerfassung!A407)","v":""},{"$f":"IF(ISBLANK(Datenerfassung!B407),\"\",Datenerfassung!B407)","v":""},{"$f":"IF(ISBLANK(Datenerfassung!C407),\"\",Datenerfassung!C407)","v":""},{"$f":"IF(ISBLANK(Datenerfassung!R407),\"\",Datenerfassung!R407)","v":""},{"$f":"IF(ISBLANK(Datenerfassung!S407),\"\",Datenerfassung!S407)","v":""},"",{"$f":"IF(ISBLANK(Datenerfassung!U407),\"\",Datenerfassung!U407)","v":""},{"$f":"IF(ISBLANK(Datenerfassung!O407),\"\",Datenerfassung!O407)","v":""},{"$f":"IF(ISBLANK(Datenerfassung!D407),IF(COUNTBLANK(A397:H397)+COUNTBLANK(J397:O397)=14,\"\",\"- ohne Titel -\"),Datenerfassung!D407)","v":""},{"$f":"IF(ISBLANK(Datenerfassung!G407),\"\",Datenerfassung!G407)","v":""},"",{"$f":"IF(ISBLANK(Datenerfassung!X407),\"\",Datenerfassung!X407)","v":""},{"$f":"IF(COUNTBLANK(Datenerfassung!H407:'Datenerfassung'!N407)=7,\"\",CONCATENATE( CONCATENATE(IF(ISBLANK(Datenerfassung!H407),\" \",Datenerfassung!H407 ),\" [IS]\"), CONCATENATE(IF(ISBLANK(Datenerfassung!I407),\" \",Datenerfassung!I407 ),\" [IS]\"), CONCATENATE(IF(ISBLANK(Datenerfassung!J407),\" \",Datenerfassung!J407 ),\" [IS]\"), CONCATENATE(IF(ISBLANK(Datenerfassung!K407),\" \",Datenerfassung!K407 ),\" [IS]\"), CONCATENATE(IF(ISBLANK(Datenerfassung!L407),\" \",Datenerfassung!L407 ),\" [IS]\"), CONCATENATE(IF(ISBLANK(Datenerfassung!M407),\" \",Datenerfassung!M407 ),\" [IS]\"), IF(ISBLANK(Datenerfassung!N407),\" \",Datenerfassung!N407 ) ))","v":""},{"$f":"IF(ISBLANK(Datenerfassung!V407),\"\",Datenerfassung!V407)","v":""},{"$f":"IF(ISBLANK(Datenerfassung!Q407),\"\",Datenerfassung!Q407)","v":""}]
[{"$f":"IF(ISBLANK(Datenerfassung!A408),\"\",Datenerfassung!A408)","v":""},{"$f":"IF(ISBLANK(Datenerfassung!B408),\"\",Datenerfassung!B408)","v":""},{"$f":"IF(ISBLANK(Datenerfassung!C408),\"\",Datenerfassung!C408)","v":""},{"$f":"IF(ISBLANK(Datenerfassung!R408),\"\",Datenerfassung!R408)","v":""},{"$f":"IF(ISBLANK(Datenerfassung!S408),\"\",Datenerfassung!S408)","v":""},"",{"$f":"IF(ISBLANK(Datenerfassung!U408),\"\",Datenerfassung!U408)","v":""},{"$f":"IF(ISBLANK(Datenerfassung!O408),\"\",Datenerfassung!O408)","v":""},{"$f":"IF(ISBLANK(Datenerfassung!D408),IF(COUNTBLANK(A398:H398)+COUNTBLANK(J398:O398)=14,\"\",\"- ohne Titel -\"),Datenerfassung!D408)","v":""},{"$f":"IF(ISBLANK(Datenerfassung!G408),\"\",Datenerfassung!G408)","v":""},"",{"$f":"IF(ISBLANK(Datenerfassung!X408),\"\",Datenerfassung!X408)","v":""},{"$f":"IF(COUNTBLANK(Datenerfassung!H408:'Datenerfassung'!N408)=7,\"\",CONCATENATE( CONCATENATE(IF(ISBLANK(Datenerfassung!H408),\" \",Datenerfassung!H408 ),\" [IS]\"), CONCATENATE(IF(ISBLANK(Datenerfassung!I408),\" \",Datenerfassung!I408 ),\" [IS]\"), CONCATENATE(IF(ISBLANK(Datenerfassung!J408),\" \",Datenerfassung!J408 ),\" [IS]\"), CONCATENATE(IF(ISBLANK(Datenerfassung!K408),\" \",Datenerfassung!K408 ),\" [IS]\"), CONCATENATE(IF(ISBLANK(Datenerfassung!L408),\" \",Datenerfassung!L408 ),\" [IS]\"), CONCATENATE(IF(ISBLANK(Datenerfassung!M408),\" \",Datenerfassung!M408 ),\" [IS]\"), IF(ISBLANK(Datenerfassung!N408),\" \",Datenerfassung!N408 ) ))","v":""},{"$f":"IF(ISBLANK(Datenerfassung!V408),\"\",Datenerfassung!V408)","v":""},{"$f":"IF(ISBLANK(Datenerfassung!Q408),\"\",Datenerfassung!Q408)","v":""}]
[{"$f":"IF(ISBLANK(Datenerfassung!A409),\"\",Datenerfassung!A409)","v":""},{"$f":"IF(ISBLANK(Datenerfassung!B409),\"\",Datenerfassung!B409)","v":""},{"$f":"IF(ISBLANK(Datenerfassung!C409),\"\",Datenerfassung!C409)","v":""},{"$f":"IF(ISBLANK(Datenerfassung!R409),\"\",Datenerfassung!R409)","v":""},{"$f":"IF(ISBLANK(Datenerfassung!S409),\"\",Datenerfassung!S409)","v":""},"",{"$f":"IF(ISBLANK(Datenerfassung!U409),\"\",Datenerfassung!U409)","v":""},{"$f":"IF(ISBLANK(Datenerfassung!O409),\"\",Datenerfassung!O409)","v":""},{"$f":"IF(ISBLANK(Datenerfassung!D409),IF(COUNTBLANK(A399:H399)+COUNTBLANK(J399:O399)=14,\"\",\"- ohne Titel -\"),Datenerfassung!D409)","v":""},{"$f":"IF(ISBLANK(Datenerfassung!G409),\"\",Datenerfassung!G409)","v":""},"",{"$f":"IF(ISBLANK(Datenerfassung!X409),\"\",Datenerfassung!X409)","v":""},{"$f":"IF(COUNTBLANK(Datenerfassung!H409:'Datenerfassung'!N409)=7,\"\",CONCATENATE( CONCATENATE(IF(ISBLANK(Datenerfassung!H409),\" \",Datenerfassung!H409 ),\" [IS]\"), CONCATENATE(IF(ISBLANK(Datenerfassung!I409),\" \",Datenerfassung!I409 ),\" [IS]\"), CONCATENATE(IF(ISBLANK(Datenerfassung!J409),\" \",Datenerfassung!J409 ),\" [IS]\"), CONCATENATE(IF(ISBLANK(Datenerfassung!K409),\" \",Datenerfassung!K409 ),\" [IS]\"), CONCATENATE(IF(ISBLANK(Datenerfassung!L409),\" \",Datenerfassung!L409 ),\" [IS]\"), CONCATENATE(IF(ISBLANK(Datenerfassung!M409),\" \",Datenerfassung!M409 ),\" [IS]\"), IF(ISBLANK(Datenerfassung!N409),\" \",Datenerfassung!N409 ) ))","v":""},{"$f":"IF(ISBLANK(Datenerfassung!V409),\"\",Datenerfassung!V409)","v":""},{"$f":"IF(ISBLANK(Datenerfassung!Q409),\"\",Datenerfassung!Q409)","v":""}]
[{"$f":"IF(ISBLANK(Datenerfassung!A410),\"\",Datenerfassung!A410)","v":""},{"$f":"IF(ISBLANK(Datenerfassung!B410),\"\",Datenerfassung!B410)","v":""},{"$f":"IF(ISBLANK(Datenerfassung!C410),\"\",Datenerfassung!C410)","v":""},{"$f":"IF(ISBLANK(Datenerfassung!R410),\"\",Datenerfassung!R410)","v":""},{"$f":"IF(ISBLANK(Datenerfassung!S410),\"\",Datenerfassung!S410)","v":""},"",{"$f":"IF(ISBLANK(Datenerfassung!U410),\"\",Datenerfassung!U410)","v":""},{"$f":"IF(ISBLANK(Datenerfassung!O410),\"\",Datenerfassung!O410)","v":""},{"$f":"IF(ISBLANK(Datenerfassung!D410),IF(COUNTBLANK(A400:H400)+COUNTBLANK(J400:O400)=14,\"\",\"- ohne Titel -\"),Datenerfassung!D410)","v":""},{"$f":"IF(ISBLANK(Datenerfassung!G410),\"\",Datenerfassung!G410)","v":""},"",{"$f":"IF(ISBLANK(Datenerfassung!X410),\"\",Datenerfassung!X410)","v":""},{"$f":"IF(COUNTBLANK(Datenerfassung!H410:'Datenerfassung'!N410)=7,\"\",CONCATENATE( CONCATENATE(IF(ISBLANK(Datenerfassung!H410),\" \",Datenerfassung!H410 ),\" [IS]\"), CONCATENATE(IF(ISBLANK(Datenerfassung!I410),\" \",Datenerfassung!I410 ),\" [IS]\"), CONCATENATE(IF(ISBLANK(Datenerfassung!J410),\" \",Datenerfassung!J410 ),\" [IS]\"), CONCATENATE(IF(ISBLANK(Datenerfassung!K410),\" \",Datenerfassung!K410 ),\" [IS]\"), CONCATENATE(IF(ISBLANK(Datenerfassung!L410),\" \",Datenerfassung!L410 ),\" [IS]\"), CONCATENATE(IF(ISBLANK(Datenerfassung!M410),\" \",Datenerfassung!M410 ),\" [IS]\"), IF(ISBLANK(Datenerfassung!N410),\" \",Datenerfassung!N410 ) ))","v":""},{"$f":"IF(ISBLANK(Datenerfassung!V410),\"\",Datenerfassung!V410)","v":""},{"$f":"IF(ISBLANK(Datenerfassung!Q410),\"\",Datenerfassung!Q410)","v":""}]
[{"$f":"IF(ISBLANK(Datenerfassung!A411),\"\",Datenerfassung!A411)","v":""},{"$f":"IF(ISBLANK(Datenerfassung!B411),\"\",Datenerfassung!B411)","v":""},{"$f":"IF(ISBLANK(Datenerfassung!C411),\"\",Datenerfassung!C411)","v":""},{"$f":"IF(ISBLANK(Datenerfassung!R411),\"\",Datenerfassung!R411)","v":""},{"$f":"IF(ISBLANK(Datenerfassung!S411),\"\",Datenerfassung!S411)","v":""},"",{"$f":"IF(ISBLANK(Datenerfassung!U411),\"\",Datenerfassung!U411)","v":""},{"$f":"IF(ISBLANK(Datenerfassung!O411),\"\",Datenerfassung!O411)","v":""},{"$f":"IF(ISBLANK(Datenerfassung!D411),IF(COUNTBLANK(A401:H401)+COUNTBLANK(J401:O401)=14,\"\",\"- ohne Titel -\"),Datenerfassung!D411)","v":""},{"$f":"IF(ISBLANK(Datenerfassung!G411),\"\",Datenerfassung!G411)","v":""},"",{"$f":"IF(ISBLANK(Datenerfassung!X411),\"\",Datenerfassung!X411)","v":""},{"$f":"IF(COUNTBLANK(Datenerfassung!H411:'Datenerfassung'!N411)=7,\"\",CONCATENATE( CONCATENATE(IF(ISBLANK(Datenerfassung!H411),\" \",Datenerfassung!H411 ),\" [IS]\"), CONCATENATE(IF(ISBLANK(Datenerfassung!I411),\" \",Datenerfassung!I411 ),\" [IS]\"), CONCATENATE(IF(ISBLANK(Datenerfassung!J411),\" \",Datenerfassung!J411 ),\" [IS]\"), CONCATENATE(IF(ISBLANK(Datenerfassung!K411),\" \",Datenerfassung!K411 ),\" [IS]\"), CONCATENATE(IF(ISBLANK(Datenerfassung!L411),\" \",Datenerfassung!L411 ),\" [IS]\"), CONCATENATE(IF(ISBLANK(Datenerfassung!M411),\" \",Datenerfassung!M411 ),\" [IS]\"), IF(ISBLANK(Datenerfassung!N411),\" \",Datenerfassung!N411 ) ))","v":""},{"$f":"IF(ISBLANK(Datenerfassung!V411),\"\",Datenerfassung!V411)","v":""},{"$f":"IF(ISBLANK(Datenerfassung!Q411),\"\",Datenerfassung!Q411)","v":""}]
[{"$f":"IF(ISBLANK(Datenerfassung!A412),\"\",Datenerfassung!A412)","v":""},{"$f":"IF(ISBLANK(Datenerfassung!B412),\"\",Datenerfassung!B412)","v":""},{"$f":"IF(ISBLANK(Datenerfassung!C412),\"\",Datenerfassung!C412)","v":""},{"$f":"IF(ISBLANK(Datenerfassung!R412),\"\",Datenerfassung!R412)","v":""},{"$f":"IF(ISBLANK(Datenerfassung!S412),\"\",Datenerfassung!S412)","v":""},"",{"$f":"IF(ISBLANK(Datenerfassung!U412),\"\",Datenerfassung!U412)","v":""},{"$f":"IF(ISBLANK(Datenerfassung!O412),\"\",Datenerfassung!O412)","v":""},{"$f":"IF(ISBLANK(Datenerfassung!D412),IF(COUNTBLANK(A402:H402)+COUNTBLANK(J402:O402)=14,\"\",\"- ohne Titel -\"),Datenerfassung!D412)","v":""},{"$f":"IF(ISBLANK(Datenerfassung!G412),\"\",Datenerfassung!G412)","v":""},"",{"$f":"IF(ISBLANK(Datenerfassung!X412),\"\",Datenerfassung!X412)","v":""},{"$f":"IF(COUNTBLANK(Datenerfassung!H412:'Datenerfassung'!N412)=7,\"\",CONCATENATE( CONCATENATE(IF(ISBLANK(Datenerfassung!H412),\" \",Datenerfassung!H412 ),\" [IS]\"), CONCATENATE(IF(ISBLANK(Datenerfassung!I412),\" \",Datenerfassung!I412 ),\" [IS]\"), CONCATENATE(IF(ISBLANK(Datenerfassung!J412),\" \",Datenerfassung!J412 ),\" [IS]\"), CONCATENATE(IF(ISBLANK(Datenerfassung!K412),\" \",Datenerfassung!K412 ),\" [IS]\"), CONCATENATE(IF(ISBLANK(Datenerfassung!L412),\" \",Datenerfassung!L412 ),\" [IS]\"), CONCATENATE(IF(ISBLANK(Datenerfassung!M412),\" \",Datenerfassung!M412 ),\" [IS]\"), IF(ISBLANK(Datenerfassung!N412),\" \",Datenerfassung!N412 ) ))","v":""},{"$f":"IF(ISBLANK(Datenerfassung!V412),\"\",Datenerfassung!V412)","v":""},{"$f":"IF(ISBLANK(Datenerfassung!Q412),\"\",Datenerfassung!Q412)","v":""}]
[{"$f":"IF(ISBLANK(Datenerfassung!A413),\"\",Datenerfassung!A413)","v":""},{"$f":"IF(ISBLANK(Datenerfassung!B413),\"\",Datenerfassung!B413)","v":""},{"$f":"IF(ISBLANK(Datenerfassung!C413),\"\",Datenerfassung!C413)","v":""},{"$f":"IF(ISBLANK(Datenerfassung!R413),\"\",Datenerfassung!R413)","v":""},{"$f":"IF(ISBLANK(Datenerfassung!S413),\"\",Datenerfassung!S413)","v":""},"",{"$f":"IF(ISBLANK(Datenerfassung!U413),\"\",Datenerfassung!U413)","v":""},{"$f":"IF(ISBLANK(Datenerfassung!O413),\"\",Datenerfassung!O413)","v":""},{"$f":"IF(ISBLANK(Datenerfassung!D413),IF(COUNTBLANK(A403:H403)+COUNTBLANK(J403:O403)=14,\"\",\"- ohne Titel -\"),Datenerfassung!D413)","v":""},{"$f":"IF(ISBLANK(Datenerfassung!G413),\"\",Datenerfassung!G413)","v":""},"",{"$f":"IF(ISBLANK(Datenerfassung!X413),\"\",Datenerfassung!X413)","v":""},{"$f":"IF(COUNTBLANK(Datenerfassung!H413:'Datenerfassung'!N413)=7,\"\",CONCATENATE( CONCATENATE(IF(ISBLANK(Datenerfassung!H413),\" \",Datenerfassung!H413 ),\" [IS]\"), CONCATENATE(IF(ISBLANK(Datenerfassung!I413),\" \",Datenerfassung!I413 ),\" [IS]\"), CONCATENATE(IF(ISBLANK(Datenerfassung!J413),\" \",Datenerfassung!J413 ),\" [IS]\"), CONCATENATE(IF(ISBLANK(Datenerfassung!K413),\" \",Datenerfassung!K413 ),\" [IS]\"), CONCATENATE(IF(ISBLANK(Datenerfassung!L413),\" \",Datenerfassung!L413 ),\" [IS]\"), CONCATENATE(IF(ISBLANK(Datenerfassung!M413),\" \",Datenerfassung!M413 ),\" [IS]\"), IF(ISBLANK(Datenerfassung!N413),\" \",Datenerfassung!N413 ) ))","v":""},{"$f":"IF(ISBLANK(Datenerfassung!V413),\"\",Datenerfassung!V413)","v":""},{"$f":"IF(ISBLANK(Datenerfassung!Q413),\"\",Datenerfassung!Q413)","v":""}]
[{"$f":"IF(ISBLANK(Datenerfassung!A414),\"\",Datenerfassung!A414)","v":""},{"$f":"IF(ISBLANK(Datenerfassung!B414),\"\",Datenerfassung!B414)","v":""},{"$f":"IF(ISBLANK(Datenerfassung!C414),\"\",Datenerfassung!C414)","v":""},{"$f":"IF(ISBLANK(Datenerfassung!R414),\"\",Datenerfassung!R414)","v":""},{"$f":"IF(ISBLANK(Datenerfassung!S414),\"\",Datenerfassung!S414)","v":""},"",{"$f":"IF(ISBLANK(Datenerfassung!U414),\"\",Datenerfassung!U414)","v":""},{"$f":"IF(ISBLANK(Datenerfassung!O414),\"\",Datenerfassung!O414)","v":""},{"$f":"IF(ISBLANK(Datenerfassung!D414),IF(COUNTBLANK(A404:H404)+COUNTBLANK(J404:O404)=14,\"\",\"- ohne Titel -\"),Datenerfassung!D414)","v":""},{"$f":"IF(ISBLANK(Datenerfassung!G414),\"\",Datenerfassung!G414)","v":""},"",{"$f":"IF(ISBLANK(Datenerfassung!X414),\"\",Datenerfassung!X414)","v":""},{"$f":"IF(COUNTBLANK(Datenerfassung!H414:'Datenerfassung'!N414)=7,\"\",CONCATENATE( CONCATENATE(IF(ISBLANK(Datenerfassung!H414),\" \",Datenerfassung!H414 ),\" [IS]\"), CONCATENATE(IF(ISBLANK(Datenerfassung!I414),\" \",Datenerfassung!I414 ),\" [IS]\"), CONCATENATE(IF(ISBLANK(Datenerfassung!J414),\" \",Datenerfassung!J414 ),\" [IS]\"), CONCATENATE(IF(ISBLANK(Datenerfassung!K414),\" \",Datenerfassung!K414 ),\" [IS]\"), CONCATENATE(IF(ISBLANK(Datenerfassung!L414),\" \",Datenerfassung!L414 ),\" [IS]\"), CONCATENATE(IF(ISBLANK(Datenerfassung!M414),\" \",Datenerfassung!M414 ),\" [IS]\"), IF(ISBLANK(Datenerfassung!N414),\" \",Datenerfassung!N414 ) ))","v":""},{"$f":"IF(ISBLANK(Datenerfassung!V414),\"\",Datenerfassung!V414)","v":""},{"$f":"IF(ISBLANK(Datenerfassung!Q414),\"\",Datenerfassung!Q414)","v":""}]
[{"$f":"IF(ISBLANK(Datenerfassung!A415),\"\",Datenerfassung!A415)","v":""},{"$f":"IF(ISBLANK(Datenerfassung!B415),\"\",Datenerfassung!B415)","v":""},{"$f":"IF(ISBLANK(Datenerfassung!C415),\"\",Datenerfassung!C415)","v":""},{"$f":"IF(ISBLANK(Datenerfassung!R415),\"\",Datenerfassung!R415)","v":""},{"$f":"IF(ISBLANK(Datenerfassung!S415),\"\",Datenerfassung!S415)","v":""},"",{"$f":"IF(ISBLANK(Datenerfassung!U415),\"\",Datenerfassung!U415)","v":""},{"$f":"IF(ISBLANK(Datenerfassung!O415),\"\",Datenerfassung!O415)","v":""},{"$f":"IF(ISBLANK(Datenerfassung!D415),IF(COUNTBLANK(A405:H405)+COUNTBLANK(J405:O405)=14,\"\",\"- ohne Titel -\"),Datenerfassung!D415)","v":""},{"$f":"IF(ISBLANK(Datenerfassung!G415),\"\",Datenerfassung!G415)","v":""},"",{"$f":"IF(ISBLANK(Datenerfassung!X415),\"\",Datenerfassung!X415)","v":""},{"$f":"IF(COUNTBLANK(Datenerfassung!H415:'Datenerfassung'!N415)=7,\"\",CONCATENATE( CONCATENATE(IF(ISBLANK(Datenerfassung!H415),\" \",Datenerfassung!H415 ),\" [IS]\"), CONCATENATE(IF(ISBLANK(Datenerfassung!I415),\" \",Datenerfassung!I415 ),\" [IS]\"), CONCATENATE(IF(ISBLANK(Datenerfassung!J415),\" \",Datenerfassung!J415 ),\" [IS]\"), CONCATENATE(IF(ISBLANK(Datenerfassung!K415),\" \",Datenerfassung!K415 ),\" [IS]\"), CONCATENATE(IF(ISBLANK(Datenerfassung!L415),\" \",Datenerfassung!L415 ),\" [IS]\"), CONCATENATE(IF(ISBLANK(Datenerfassung!M415),\" \",Datenerfassung!M415 ),\" [IS]\"), IF(ISBLANK(Datenerfassung!N415),\" \",Datenerfassung!N415 ) ))","v":""},{"$f":"IF(ISBLANK(Datenerfassung!V415),\"\",Datenerfassung!V415)","v":""},{"$f":"IF(ISBLANK(Datenerfassung!Q415),\"\",Datenerfassung!Q415)","v":""}]
[{"$f":"IF(ISBLANK(Datenerfassung!A416),\"\",Datenerfassung!A416)","v":""},{"$f":"IF(ISBLANK(Datenerfassung!B416),\"\",Datenerfassung!B416)","v":""},{"$f":"IF(ISBLANK(Datenerfassung!C416),\"\",Datenerfassung!C416)","v":""},{"$f":"IF(ISBLANK(Datenerfassung!R416),\"\",Datenerfassung!R416)","v":""},{"$f":"IF(ISBLANK(Datenerfassung!S416),\"\",Datenerfassung!S416)","v":""},"",{"$f":"IF(ISBLANK(Datenerfassung!U416),\"\",Datenerfassung!U416)","v":""},{"$f":"IF(ISBLANK(Datenerfassung!O416),\"\",Datenerfassung!O416)","v":""},{"$f":"IF(ISBLANK(Datenerfassung!D416),IF(COUNTBLANK(A406:H406)+COUNTBLANK(J406:O406)=14,\"\",\"- ohne Titel -\"),Datenerfassung!D416)","v":""},{"$f":"IF(ISBLANK(Datenerfassung!G416),\"\",Datenerfassung!G416)","v":""},"",{"$f":"IF(ISBLANK(Datenerfassung!X416),\"\",Datenerfassung!X416)","v":""},{"$f":"IF(COUNTBLANK(Datenerfassung!H416:'Datenerfassung'!N416)=7,\"\",CONCATENATE( CONCATENATE(IF(ISBLANK(Datenerfassung!H416),\" \",Datenerfassung!H416 ),\" [IS]\"), CONCATENATE(IF(ISBLANK(Datenerfassung!I416),\" \",Datenerfassung!I416 ),\" [IS]\"), CONCATENATE(IF(ISBLANK(Datenerfassung!J416),\" \",Datenerfassung!J416 ),\" [IS]\"), CONCATENATE(IF(ISBLANK(Datenerfassung!K416),\" \",Datenerfassung!K416 ),\" [IS]\"), CONCATENATE(IF(ISBLANK(Datenerfassung!L416),\" \",Datenerfassung!L416 ),\" [IS]\"), CONCATENATE(IF(ISBLANK(Datenerfassung!M416),\" \",Datenerfassung!M416 ),\" [IS]\"), IF(ISBLANK(Datenerfassung!N416),\" \",Datenerfassung!N416 ) ))","v":""},{"$f":"IF(ISBLANK(Datenerfassung!V416),\"\",Datenerfassung!V416)","v":""},{"$f":"IF(ISBLANK(Datenerfassung!Q416),\"\",Datenerfassung!Q416)","v":""}]
[{"$f":"IF(ISBLANK(Datenerfassung!A417),\"\",Datenerfassung!A417)","v":""},{"$f":"IF(ISBLANK(Datenerfassung!B417),\"\",Datenerfassung!B417)","v":""},{"$f":"IF(ISBLANK(Datenerfassung!C417),\"\",Datenerfassung!C417)","v":""},{"$f":"IF(ISBLANK(Datenerfassung!R417),\"\",Datenerfassung!R417)","v":""},{"$f":"IF(ISBLANK(Datenerfassung!S417),\"\",Datenerfassung!S417)","v":""},"",{"$f":"IF(ISBLANK(Datenerfassung!U417),\"\",Datenerfassung!U417)","v":""},{"$f":"IF(ISBLANK(Datenerfassung!O417),\"\",Datenerfassung!O417)","v":""},{"$f":"IF(ISBLANK(Datenerfassung!D417),IF(COUNTBLANK(A407:H407)+COUNTBLANK(J407:O407)=14,\"\",\"- ohne Titel -\"),Datenerfassung!D417)","v":""},{"$f":"IF(ISBLANK(Datenerfassung!G417),\"\",Datenerfassung!G417)","v":""},"",{"$f":"IF(ISBLANK(Datenerfassung!X417),\"\",Datenerfassung!X417)","v":""},{"$f":"IF(COUNTBLANK(Datenerfassung!H417:'Datenerfassung'!N417)=7,\"\",CONCATENATE( CONCATENATE(IF(ISBLANK(Datenerfassung!H417),\" \",Datenerfassung!H417 ),\" [IS]\"), CONCATENATE(IF(ISBLANK(Datenerfassung!I417),\" \",Datenerfassung!I417 ),\" [IS]\"), CONCATENATE(IF(ISBLANK(Datenerfassung!J417),\" \",Datenerfassung!J417 ),\" [IS]\"), CONCATENATE(IF(ISBLANK(Datenerfassung!K417),\" \",Datenerfassung!K417 ),\" [IS]\"), CONCATENATE(IF(ISBLANK(Datenerfassung!L417),\" \",Datenerfassung!L417 ),\" [IS]\"), CONCATENATE(IF(ISBLANK(Datenerfassung!M417),\" \",Datenerfassung!M417 ),\" [IS]\"), IF(ISBLANK(Datenerfassung!N417),\" \",Datenerfassung!N417 ) ))","v":""},{"$f":"IF(ISBLANK(Datenerfassung!V417),\"\",Datenerfassung!V417)","v":""},{"$f":"IF(ISBLANK(Datenerfassung!Q417),\"\",Datenerfassung!Q417)","v":""}]
[{"$f":"IF(ISBLANK(Datenerfassung!A418),\"\",Datenerfassung!A418)","v":""},{"$f":"IF(ISBLANK(Datenerfassung!B418),\"\",Datenerfassung!B418)","v":""},{"$f":"IF(ISBLANK(Datenerfassung!C418),\"\",Datenerfassung!C418)","v":""},{"$f":"IF(ISBLANK(Datenerfassung!R418),\"\",Datenerfassung!R418)","v":""},{"$f":"IF(ISBLANK(Datenerfassung!S418),\"\",Datenerfassung!S418)","v":""},"",{"$f":"IF(ISBLANK(Datenerfassung!U418),\"\",Datenerfassung!U418)","v":""},{"$f":"IF(ISBLANK(Datenerfassung!O418),\"\",Datenerfassung!O418)","v":""},{"$f":"IF(ISBLANK(Datenerfassung!D418),IF(COUNTBLANK(A408:H408)+COUNTBLANK(J408:O408)=14,\"\",\"- ohne Titel -\"),Datenerfassung!D418)","v":""},{"$f":"IF(ISBLANK(Datenerfassung!G418),\"\",Datenerfassung!G418)","v":""},"",{"$f":"IF(ISBLANK(Datenerfassung!X418),\"\",Datenerfassung!X418)","v":""},{"$f":"IF(COUNTBLANK(Datenerfassung!H418:'Datenerfassung'!N418)=7,\"\",CONCATENATE( CONCATENATE(IF(ISBLANK(Datenerfassung!H418),\" \",Datenerfassung!H418 ),\" [IS]\"), CONCATENATE(IF(ISBLANK(Datenerfassung!I418),\" \",Datenerfassung!I418 ),\" [IS]\"), CONCATENATE(IF(ISBLANK(Datenerfassung!J418),\" \",Datenerfassung!J418 ),\" [IS]\"), CONCATENATE(IF(ISBLANK(Datenerfassung!K418),\" \",Datenerfassung!K418 ),\" [IS]\"), CONCATENATE(IF(ISBLANK(Datenerfassung!L418),\" \",Datenerfassung!L418 ),\" [IS]\"), CONCATENATE(IF(ISBLANK(Datenerfassung!M418),\" \",Datenerfassung!M418 ),\" [IS]\"), IF(ISBLANK(Datenerfassung!N418),\" \",Datenerfassung!N418 ) ))","v":""},{"$f":"IF(ISBLANK(Datenerfassung!V418),\"\",Datenerfassung!V418)","v":""},{"$f":"IF(ISBLANK(Datenerfassung!Q418),\"\",Datenerfassung!Q418)","v":""}]
[{"$f":"IF(ISBLANK(Datenerfassung!A419),\"\",Datenerfassung!A419)","v":""},{"$f":"IF(ISBLANK(Datenerfassung!B419),\"\",Datenerfassung!B419)","v":""},{"$f":"IF(ISBLANK(Datenerfassung!C419),\"\",Datenerfassung!C419)","v":""},{"$f":"IF(ISBLANK(Datenerfassung!R419),\"\",Datenerfassung!R419)","v":""},{"$f":"IF(ISBLANK(Datenerfassung!S419),\"\",Datenerfassung!S419)","v":""},"",{"$f":"IF(ISBLANK(Datenerfassung!U419),\"\",Datenerfassung!U419)","v":""},{"$f":"IF(ISBLANK(Datenerfassung!O419),\"\",Datenerfassung!O419)","v":""},{"$f":"IF(ISBLANK(Datenerfassung!D419),IF(COUNTBLANK(A409:H409)+COUNTBLANK(J409:O409)=14,\"\",\"- ohne Titel -\"),Datenerfassung!D419)","v":""},{"$f":"IF(ISBLANK(Datenerfassung!G419),\"\",Datenerfassung!G419)","v":""},"",{"$f":"IF(ISBLANK(Datenerfassung!X419),\"\",Datenerfassung!X419)","v":""},{"$f":"IF(COUNTBLANK(Datenerfassung!H419:'Datenerfassung'!N419)=7,\"\",CONCATENATE( CONCATENATE(IF(ISBLANK(Datenerfassung!H419),\" \",Datenerfassung!H419 ),\" [IS]\"), CONCATENATE(IF(ISBLANK(Datenerfassung!I419),\" \",Datenerfassung!I419 ),\" [IS]\"), CONCATENATE(IF(ISBLANK(Datenerfassung!J419),\" \",Datenerfassung!J419 ),\" [IS]\"), CONCATENATE(IF(ISBLANK(Datenerfassung!K419),\" \",Datenerfassung!K419 ),\" [IS]\"), CONCATENATE(IF(ISBLANK(Datenerfassung!L419),\" \",Datenerfassung!L419 ),\" [IS]\"), CONCATENATE(IF(ISBLANK(Datenerfassung!M419),\" \",Datenerfassung!M419 ),\" [IS]\"), IF(ISBLANK(Datenerfassung!N419),\" \",Datenerfassung!N419 ) ))","v":""},{"$f":"IF(ISBLANK(Datenerfassung!V419),\"\",Datenerfassung!V419)","v":""},{"$f":"IF(ISBLANK(Datenerfassung!Q419),\"\",Datenerfassung!Q419)","v":""}]
[{"$f":"IF(ISBLANK(Datenerfassung!A420),\"\",Datenerfassung!A420)","v":""},{"$f":"IF(ISBLANK(Datenerfassung!B420),\"\",Datenerfassung!B420)","v":""},{"$f":"IF(ISBLANK(Datenerfassung!C420),\"\",Datenerfassung!C420)","v":""},{"$f":"IF(ISBLANK(Datenerfassung!R420),\"\",Datenerfassung!R420)","v":""},{"$f":"IF(ISBLANK(Datenerfassung!S420),\"\",Datenerfassung!S420)","v":""},"",{"$f":"IF(ISBLANK(Datenerfassung!U420),\"\",Datenerfassung!U420)","v":""},{"$f":"IF(ISBLANK(Datenerfassung!O420),\"\",Datenerfassung!O420)","v":""},{"$f":"IF(ISBLANK(Datenerfassung!D420),IF(COUNTBLANK(A410:H410)+COUNTBLANK(J410:O410)=14,\"\",\"- ohne Titel -\"),Datenerfassung!D420)","v":""},{"$f":"IF(ISBLANK(Datenerfassung!G420),\"\",Datenerfassung!G420)","v":""},"",{"$f":"IF(ISBLANK(Datenerfassung!X420),\"\",Datenerfassung!X420)","v":""},{"$f":"IF(COUNTBLANK(Datenerfassung!H420:'Datenerfassung'!N420)=7,\"\",CONCATENATE( CONCATENATE(IF(ISBLANK(Datenerfassung!H420),\" \",Datenerfassung!H420 ),\" [IS]\"), CONCATENATE(IF(ISBLANK(Datenerfassung!I420),\" \",Datenerfassung!I420 ),\" [IS]\"), CONCATENATE(IF(ISBLANK(Datenerfassung!J420),\" \",Datenerfassung!J420 ),\" [IS]\"), CONCATENATE(IF(ISBLANK(Datenerfassung!K420),\" \",Datenerfassung!K420 ),\" [IS]\"), CONCATENATE(IF(ISBLANK(Datenerfassung!L420),\" \",Datenerfassung!L420 ),\" [IS]\"), CONCATENATE(IF(ISBLANK(Datenerfassung!M420),\" \",Datenerfassung!M420 ),\" [IS]\"), IF(ISBLANK(Datenerfassung!N420),\" \",Datenerfassung!N420 ) ))","v":""},{"$f":"IF(ISBLANK(Datenerfassung!V420),\"\",Datenerfassung!V420)","v":""},{"$f":"IF(ISBLANK(Datenerfassung!Q420),\"\",Datenerfassung!Q420)","v":""}]
[{"$f":"IF(ISBLANK(Datenerfassung!A421),\"\",Datenerfassung!A421)","v":""},{"$f":"IF(ISBLANK(Datenerfassung!B421),\"\",Datenerfassung!B421)","v":""},{"$f":"IF(ISBLANK(Datenerfassung!C421),\"\",Datenerfassung!C421)","v":""},{"$f":"IF(ISBLANK(Datenerfassung!R421),\"\",Datenerfassung!R421)","v":""},{"$f":"IF(ISBLANK(Datenerfassung!S421),\"\",Datenerfassung!S421)","v":""},"",{"$f":"IF(ISBLANK(Datenerfassung!U421),\"\",Datenerfassung!U421)","v":""},{"$f":"IF(ISBLANK(Datenerfassung!O421),\"\",Datenerfassung!O421)","v":""},{"$f":"IF(ISBLANK(Datenerfassung!D421),IF(COUNTBLANK(A411:H411)+COUNTBLANK(J411:O411)=14,\"\",\"- ohne Titel -\"),Datenerfassung!D421)","v":""},{"$f":"IF(ISBLANK(Datenerfassung!G421),\"\",Datenerfassung!G421)","v":""},"",{"$f":"IF(ISBLANK(Datenerfassung!X421),\"\",Datenerfassung!X421)","v":""},{"$f":"IF(COUNTBLANK(Datenerfassung!H421:'Datenerfassung'!N421)=7,\"\",CONCATENATE( CONCATENATE(IF(ISBLANK(Datenerfassung!H421),\" \",Datenerfassung!H421 ),\" [IS]\"), CONCATENATE(IF(ISBLANK(Datenerfassung!I421),\" \",Datenerfassung!I421 ),\" [IS]\"), CONCATENATE(IF(ISBLANK(Datenerfassung!J421),\" \",Datenerfassung!J421 ),\" [IS]\"), CONCATENATE(IF(ISBLANK(Datenerfassung!K421),\" \",Datenerfassung!K421 ),\" [IS]\"), CONCATENATE(IF(ISBLANK(Datenerfassung!L421),\" \",Datenerfassung!L421 ),\" [IS]\"), CONCATENATE(IF(ISBLANK(Datenerfassung!M421),\" \",Datenerfassung!M421 ),\" [IS]\"), IF(ISBLANK(Datenerfassung!N421),\" \",Datenerfassung!N421 ) ))","v":""},{"$f":"IF(ISBLANK(Datenerfassung!V421),\"\",Datenerfassung!V421)","v":""},{"$f":"IF(ISBLANK(Datenerfassung!Q421),\"\",Datenerfassung!Q421)","v":""}]
[{"$f":"IF(ISBLANK(Datenerfassung!A422),\"\",Datenerfassung!A422)","v":""},{"$f":"IF(ISBLANK(Datenerfassung!B422),\"\",Datenerfassung!B422)","v":""},{"$f":"IF(ISBLANK(Datenerfassung!C422),\"\",Datenerfassung!C422)","v":""},{"$f":"IF(ISBLANK(Datenerfassung!R422),\"\",Datenerfassung!R422)","v":""},{"$f":"IF(ISBLANK(Datenerfassung!S422),\"\",Datenerfassung!S422)","v":""},"",{"$f":"IF(ISBLANK(Datenerfassung!U422),\"\",Datenerfassung!U422)","v":""},{"$f":"IF(ISBLANK(Datenerfassung!O422),\"\",Datenerfassung!O422)","v":""},{"$f":"IF(ISBLANK(Datenerfassung!D422),IF(COUNTBLANK(A412:H412)+COUNTBLANK(J412:O412)=14,\"\",\"- ohne Titel -\"),Datenerfassung!D422)","v":""},{"$f":"IF(ISBLANK(Datenerfassung!G422),\"\",Datenerfassung!G422)","v":""},"",{"$f":"IF(ISBLANK(Datenerfassung!X422),\"\",Datenerfassung!X422)","v":""},{"$f":"IF(COUNTBLANK(Datenerfassung!H422:'Datenerfassung'!N422)=7,\"\",CONCATENATE( CONCATENATE(IF(ISBLANK(Datenerfassung!H422),\" \",Datenerfassung!H422 ),\" [IS]\"), CONCATENATE(IF(ISBLANK(Datenerfassung!I422),\" \",Datenerfassung!I422 ),\" [IS]\"), CONCATENATE(IF(ISBLANK(Datenerfassung!J422),\" \",Datenerfassung!J422 ),\" [IS]\"), CONCATENATE(IF(ISBLANK(Datenerfassung!K422),\" \",Datenerfassung!K422 ),\" [IS]\"), CONCATENATE(IF(ISBLANK(Datenerfassung!L422),\" \",Datenerfassung!L422 ),\" [IS]\"), CONCATENATE(IF(ISBLANK(Datenerfassung!M422),\" \",Datenerfassung!M422 ),\" [IS]\"), IF(ISBLANK(Datenerfassung!N422),\" \",Datenerfassung!N422 ) ))","v":""},{"$f":"IF(ISBLANK(Datenerfassung!V422),\"\",Datenerfassung!V422)","v":""},{"$f":"IF(ISBLANK(Datenerfassung!Q422),\"\",Datenerfassung!Q422)","v":""}]
[{"$f":"IF(ISBLANK(Datenerfassung!A423),\"\",Datenerfassung!A423)","v":""},{"$f":"IF(ISBLANK(Datenerfassung!B423),\"\",Datenerfassung!B423)","v":""},{"$f":"IF(ISBLANK(Datenerfassung!C423),\"\",Datenerfassung!C423)","v":""},{"$f":"IF(ISBLANK(Datenerfassung!R423),\"\",Datenerfassung!R423)","v":""},{"$f":"IF(ISBLANK(Datenerfassung!S423),\"\",Datenerfassung!S423)","v":""},"",{"$f":"IF(ISBLANK(Datenerfassung!U423),\"\",Datenerfassung!U423)","v":""},{"$f":"IF(ISBLANK(Datenerfassung!O423),\"\",Datenerfassung!O423)","v":""},{"$f":"IF(ISBLANK(Datenerfassung!D423),IF(COUNTBLANK(A413:H413)+COUNTBLANK(J413:O413)=14,\"\",\"- ohne Titel -\"),Datenerfassung!D423)","v":""},{"$f":"IF(ISBLANK(Datenerfassung!G423),\"\",Datenerfassung!G423)","v":""},"",{"$f":"IF(ISBLANK(Datenerfassung!X423),\"\",Datenerfassung!X423)","v":""},{"$f":"IF(COUNTBLANK(Datenerfassung!H423:'Datenerfassung'!N423)=7,\"\",CONCATENATE( CONCATENATE(IF(ISBLANK(Datenerfassung!H423),\" \",Datenerfassung!H423 ),\" [IS]\"), CONCATENATE(IF(ISBLANK(Datenerfassung!I423),\" \",Datenerfassung!I423 ),\" [IS]\"), CONCATENATE(IF(ISBLANK(Datenerfassung!J423),\" \",Datenerfassung!J423 ),\" [IS]\"), CONCATENATE(IF(ISBLANK(Datenerfassung!K423),\" \",Datenerfassung!K423 ),\" [IS]\"), CONCATENATE(IF(ISBLANK(Datenerfassung!L423),\" \",Datenerfassung!L423 ),\" [IS]\"), CONCATENATE(IF(ISBLANK(Datenerfassung!M423),\" \",Datenerfassung!M423 ),\" [IS]\"), IF(ISBLANK(Datenerfassung!N423),\" \",Datenerfassung!N423 ) ))","v":""},{"$f":"IF(ISBLANK(Datenerfassung!V423),\"\",Datenerfassung!V423)","v":""},{"$f":"IF(ISBLANK(Datenerfassung!Q423),\"\",Datenerfassung!Q423)","v":""}]
[{"$f":"IF(ISBLANK(Datenerfassung!A424),\"\",Datenerfassung!A424)","v":""},{"$f":"IF(ISBLANK(Datenerfassung!B424),\"\",Datenerfassung!B424)","v":""},{"$f":"IF(ISBLANK(Datenerfassung!C424),\"\",Datenerfassung!C424)","v":""},{"$f":"IF(ISBLANK(Datenerfassung!R424),\"\",Datenerfassung!R424)","v":""},{"$f":"IF(ISBLANK(Datenerfassung!S424),\"\",Datenerfassung!S424)","v":""},"",{"$f":"IF(ISBLANK(Datenerfassung!U424),\"\",Datenerfassung!U424)","v":""},{"$f":"IF(ISBLANK(Datenerfassung!O424),\"\",Datenerfassung!O424)","v":""},{"$f":"IF(ISBLANK(Datenerfassung!D424),IF(COUNTBLANK(A414:H414)+COUNTBLANK(J414:O414)=14,\"\",\"- ohne Titel -\"),Datenerfassung!D424)","v":""},{"$f":"IF(ISBLANK(Datenerfassung!G424),\"\",Datenerfassung!G424)","v":""},"",{"$f":"IF(ISBLANK(Datenerfassung!X424),\"\",Datenerfassung!X424)","v":""},{"$f":"IF(COUNTBLANK(Datenerfassung!H424:'Datenerfassung'!N424)=7,\"\",CONCATENATE( CONCATENATE(IF(ISBLANK(Datenerfassung!H424),\" \",Datenerfassung!H424 ),\" [IS]\"), CONCATENATE(IF(ISBLANK(Datenerfassung!I424),\" \",Datenerfassung!I424 ),\" [IS]\"), CONCATENATE(IF(ISBLANK(Datenerfassung!J424),\" \",Datenerfassung!J424 ),\" [IS]\"), CONCATENATE(IF(ISBLANK(Datenerfassung!K424),\" \",Datenerfassung!K424 ),\" [IS]\"), CONCATENATE(IF(ISBLANK(Datenerfassung!L424),\" \",Datenerfassung!L424 ),\" [IS]\"), CONCATENATE(IF(ISBLANK(Datenerfassung!M424),\" \",Datenerfassung!M424 ),\" [IS]\"), IF(ISBLANK(Datenerfassung!N424),\" \",Datenerfassung!N424 ) ))","v":""},{"$f":"IF(ISBLANK(Datenerfassung!V424),\"\",Datenerfassung!V424)","v":""},{"$f":"IF(ISBLANK(Datenerfassung!Q424),\"\",Datenerfassung!Q424)","v":""}]
[{"$f":"IF(ISBLANK(Datenerfassung!A425),\"\",Datenerfassung!A425)","v":""},{"$f":"IF(ISBLANK(Datenerfassung!B425),\"\",Datenerfassung!B425)","v":""},{"$f":"IF(ISBLANK(Datenerfassung!C425),\"\",Datenerfassung!C425)","v":""},{"$f":"IF(ISBLANK(Datenerfassung!R425),\"\",Datenerfassung!R425)","v":""},{"$f":"IF(ISBLANK(Datenerfassung!S425),\"\",Datenerfassung!S425)","v":""},"",{"$f":"IF(ISBLANK(Datenerfassung!U425),\"\",Datenerfassung!U425)","v":""},{"$f":"IF(ISBLANK(Datenerfassung!O425),\"\",Datenerfassung!O425)","v":""},{"$f":"IF(ISBLANK(Datenerfassung!D425),IF(COUNTBLANK(A415:H415)+COUNTBLANK(J415:O415)=14,\"\",\"- ohne Titel -\"),Datenerfassung!D425)","v":""},{"$f":"IF(ISBLANK(Datenerfassung!G425),\"\",Datenerfassung!G425)","v":""},"",{"$f":"IF(ISBLANK(Datenerfassung!X425),\"\",Datenerfassung!X425)","v":""},{"$f":"IF(COUNTBLANK(Datenerfassung!H425:'Datenerfassung'!N425)=7,\"\",CONCATENATE( CONCATENATE(IF(ISBLANK(Datenerfassung!H425),\" \",Datenerfassung!H425 ),\" [IS]\"), CONCATENATE(IF(ISBLANK(Datenerfassung!I425),\" \",Datenerfassung!I425 ),\" [IS]\"), CONCATENATE(IF(ISBLANK(Datenerfassung!J425),\" \",Datenerfassung!J425 ),\" [IS]\"), CONCATENATE(IF(ISBLANK(Datenerfassung!K425),\" \",Datenerfassung!K425 ),\" [IS]\"), CONCATENATE(IF(ISBLANK(Datenerfassung!L425),\" \",Datenerfassung!L425 ),\" [IS]\"), CONCATENATE(IF(ISBLANK(Datenerfassung!M425),\" \",Datenerfassung!M425 ),\" [IS]\"), IF(ISBLANK(Datenerfassung!N425),\" \",Datenerfassung!N425 ) ))","v":""},{"$f":"IF(ISBLANK(Datenerfassung!V425),\"\",Datenerfassung!V425)","v":""},{"$f":"IF(ISBLANK(Datenerfassung!Q425),\"\",Datenerfassung!Q425)","v":""}]
[{"$f":"IF(ISBLANK(Datenerfassung!A426),\"\",Datenerfassung!A426)","v":""},{"$f":"IF(ISBLANK(Datenerfassung!B426),\"\",Datenerfassung!B426)","v":""},{"$f":"IF(ISBLANK(Datenerfassung!C426),\"\",Datenerfassung!C426)","v":""},{"$f":"IF(ISBLANK(Datenerfassung!R426),\"\",Datenerfassung!R426)","v":""},{"$f":"IF(ISBLANK(Datenerfassung!S426),\"\",Datenerfassung!S426)","v":""},"",{"$f":"IF(ISBLANK(Datenerfassung!U426),\"\",Datenerfassung!U426)","v":""},{"$f":"IF(ISBLANK(Datenerfassung!O426),\"\",Datenerfassung!O426)","v":""},{"$f":"IF(ISBLANK(Datenerfassung!D426),IF(COUNTBLANK(A416:H416)+COUNTBLANK(J416:O416)=14,\"\",\"- ohne Titel -\"),Datenerfassung!D426)","v":""},{"$f":"IF(ISBLANK(Datenerfassung!G426),\"\",Datenerfassung!G426)","v":""},"",{"$f":"IF(ISBLANK(Datenerfassung!X426),\"\",Datenerfassung!X426)","v":""},{"$f":"IF(COUNTBLANK(Datenerfassung!H426:'Datenerfassung'!N426)=7,\"\",CONCATENATE( CONCATENATE(IF(ISBLANK(Datenerfassung!H426),\" \",Datenerfassung!H426 ),\" [IS]\"), CONCATENATE(IF(ISBLANK(Datenerfassung!I426),\" \",Datenerfassung!I426 ),\" [IS]\"), CONCATENATE(IF(ISBLANK(Datenerfassung!J426),\" \",Datenerfassung!J426 ),\" [IS]\"), CONCATENATE(IF(ISBLANK(Datenerfassung!K426),\" \",Datenerfassung!K426 ),\" [IS]\"), CONCATENATE(IF(ISBLANK(Datenerfassung!L426),\" \",Datenerfassung!L426 ),\" [IS]\"), CONCATENATE(IF(ISBLANK(Datenerfassung!M426),\" \",Datenerfassung!M426 ),\" [IS]\"), IF(ISBLANK(Datenerfassung!N426),\" \",Datenerfassung!N426 ) ))","v":""},{"$f":"IF(ISBLANK(Datenerfassung!V426),\"\",Datenerfassung!V426)","v":""},{"$f":"IF(ISBLANK(Datenerfassung!Q426),\"\",Datenerfassung!Q426)","v":""}]
[{"$f":"IF(ISBLANK(Datenerfassung!A427),\"\",Datenerfassung!A427)","v":""},{"$f":"IF(ISBLANK(Datenerfassung!B427),\"\",Datenerfassung!B427)","v":""},{"$f":"IF(ISBLANK(Datenerfassung!C427),\"\",Datenerfassung!C427)","v":""},{"$f":"IF(ISBLANK(Datenerfassung!R427),\"\",Datenerfassung!R427)","v":""},{"$f":"IF(ISBLANK(Datenerfassung!S427),\"\",Datenerfassung!S427)","v":""},"",{"$f":"IF(ISBLANK(Datenerfassung!U427),\"\",Datenerfassung!U427)","v":""},{"$f":"IF(ISBLANK(Datenerfassung!O427),\"\",Datenerfassung!O427)","v":""},{"$f":"IF(ISBLANK(Datenerfassung!D427),IF(COUNTBLANK(A417:H417)+COUNTBLANK(J417:O417)=14,\"\",\"- ohne Titel -\"),Datenerfassung!D427)","v":""},{"$f":"IF(ISBLANK(Datenerfassung!G427),\"\",Datenerfassung!G427)","v":""},"",{"$f":"IF(ISBLANK(Datenerfassung!X427),\"\",Datenerfassung!X427)","v":""},{"$f":"IF(COUNTBLANK(Datenerfassung!H427:'Datenerfassung'!N427)=7,\"\",CONCATENATE( CONCATENATE(IF(ISBLANK(Datenerfassung!H427),\" \",Datenerfassung!H427 ),\" [IS]\"), CONCATENATE(IF(ISBLANK(Datenerfassung!I427),\" \",Datenerfassung!I427 ),\" [IS]\"), CONCATENATE(IF(ISBLANK(Datenerfassung!J427),\" \",Datenerfassung!J427 ),\" [IS]\"), CONCATENATE(IF(ISBLANK(Datenerfassung!K427),\" \",Datenerfassung!K427 ),\" [IS]\"), CONCATENATE(IF(ISBLANK(Datenerfassung!L427),\" \",Datenerfassung!L427 ),\" [IS]\"), CONCATENATE(IF(ISBLANK(Datenerfassung!M427),\" \",Datenerfassung!M427 ),\" [IS]\"), IF(ISBLANK(Datenerfassung!N427),\" \",Datenerfassung!N427 ) ))","v":""},{"$f":"IF(ISBLANK(Datenerfassung!V427),\"\",Datenerfassung!V427)","v":""},{"$f":"IF(ISBLANK(Datenerfassung!Q427),\"\",Datenerfassung!Q427)","v":""}]
[{"$f":"IF(ISBLANK(Datenerfassung!A428),\"\",Datenerfassung!A428)","v":""},{"$f":"IF(ISBLANK(Datenerfassung!B428),\"\",Datenerfassung!B428)","v":""},{"$f":"IF(ISBLANK(Datenerfassung!C428),\"\",Datenerfassung!C428)","v":""},{"$f":"IF(ISBLANK(Datenerfassung!R428),\"\",Datenerfassung!R428)","v":""},{"$f":"IF(ISBLANK(Datenerfassung!S428),\"\",Datenerfassung!S428)","v":""},"",{"$f":"IF(ISBLANK(Datenerfassung!U428),\"\",Datenerfassung!U428)","v":""},{"$f":"IF(ISBLANK(Datenerfassung!O428),\"\",Datenerfassung!O428)","v":""},{"$f":"IF(ISBLANK(Datenerfassung!D428),IF(COUNTBLANK(A418:H418)+COUNTBLANK(J418:O418)=14,\"\",\"- ohne Titel -\"),Datenerfassung!D428)","v":""},{"$f":"IF(ISBLANK(Datenerfassung!G428),\"\",Datenerfassung!G428)","v":""},"",{"$f":"IF(ISBLANK(Datenerfassung!X428),\"\",Datenerfassung!X428)","v":""},{"$f":"IF(COUNTBLANK(Datenerfassung!H428:'Datenerfassung'!N428)=7,\"\",CONCATENATE( CONCATENATE(IF(ISBLANK(Datenerfassung!H428),\" \",Datenerfassung!H428 ),\" [IS]\"), CONCATENATE(IF(ISBLANK(Datenerfassung!I428),\" \",Datenerfassung!I428 ),\" [IS]\"), CONCATENATE(IF(ISBLANK(Datenerfassung!J428),\" \",Datenerfassung!J428 ),\" [IS]\"), CONCATENATE(IF(ISBLANK(Datenerfassung!K428),\" \",Datenerfassung!K428 ),\" [IS]\"), CONCATENATE(IF(ISBLANK(Datenerfassung!L428),\" \",Datenerfassung!L428 ),\" [IS]\"), CONCATENATE(IF(ISBLANK(Datenerfassung!M428),\" \",Datenerfassung!M428 ),\" [IS]\"), IF(ISBLANK(Datenerfassung!N428),\" \",Datenerfassung!N428 ) ))","v":""},{"$f":"IF(ISBLANK(Datenerfassung!V428),\"\",Datenerfassung!V428)","v":""},{"$f":"IF(ISBLANK(Datenerfassung!Q428),\"\",Datenerfassung!Q428)","v":""}]
[{"$f":"IF(ISBLANK(Datenerfassung!A429),\"\",Datenerfassung!A429)","v":""},{"$f":"IF(ISBLANK(Datenerfassung!B429),\"\",Datenerfassung!B429)","v":""},{"$f":"IF(ISBLANK(Datenerfassung!C429),\"\",Datenerfassung!C429)","v":""},{"$f":"IF(ISBLANK(Datenerfassung!R429),\"\",Datenerfassung!R429)","v":""},{"$f":"IF(ISBLANK(Datenerfassung!S429),\"\",Datenerfassung!S429)","v":""},"",{"$f":"IF(ISBLANK(Datenerfassung!U429),\"\",Datenerfassung!U429)","v":""},{"$f":"IF(ISBLANK(Datenerfassung!O429),\"\",Datenerfassung!O429)","v":""},{"$f":"IF(ISBLANK(Datenerfassung!D429),IF(COUNTBLANK(A419:H419)+COUNTBLANK(J419:O419)=14,\"\",\"- ohne Titel -\"),Datenerfassung!D429)","v":""},{"$f":"IF(ISBLANK(Datenerfassung!G429),\"\",Datenerfassung!G429)","v":""},"",{"$f":"IF(ISBLANK(Datenerfassung!X429),\"\",Datenerfassung!X429)","v":""},{"$f":"IF(COUNTBLANK(Datenerfassung!H429:'Datenerfassung'!N429)=7,\"\",CONCATENATE( CONCATENATE(IF(ISBLANK(Datenerfassung!H429),\" \",Datenerfassung!H429 ),\" [IS]\"), CONCATENATE(IF(ISBLANK(Datenerfassung!I429),\" \",Datenerfassung!I429 ),\" [IS]\"), CONCATENATE(IF(ISBLANK(Datenerfassung!J429),\" \",Datenerfassung!J429 ),\" [IS]\"), CONCATENATE(IF(ISBLANK(Datenerfassung!K429),\" \",Datenerfassung!K429 ),\" [IS]\"), CONCATENATE(IF(ISBLANK(Datenerfassung!L429),\" \",Datenerfassung!L429 ),\" [IS]\"), CONCATENATE(IF(ISBLANK(Datenerfassung!M429),\" \",Datenerfassung!M429 ),\" [IS]\"), IF(ISBLANK(Datenerfassung!N429),\" \",Datenerfassung!N429 ) ))","v":""},{"$f":"IF(ISBLANK(Datenerfassung!V429),\"\",Datenerfassung!V429)","v":""},{"$f":"IF(ISBLANK(Datenerfassung!Q429),\"\",Datenerfassung!Q429)","v":""}]
[{"$f":"IF(ISBLANK(Datenerfassung!A430),\"\",Datenerfassung!A430)","v":""},{"$f":"IF(ISBLANK(Datenerfassung!B430),\"\",Datenerfassung!B430)","v":""},{"$f":"IF(ISBLANK(Datenerfassung!C430),\"\",Datenerfassung!C430)","v":""},{"$f":"IF(ISBLANK(Datenerfassung!R430),\"\",Datenerfassung!R430)","v":""},{"$f":"IF(ISBLANK(Datenerfassung!S430),\"\",Datenerfassung!S430)","v":""},"",{"$f":"IF(ISBLANK(Datenerfassung!U430),\"\",Datenerfassung!U430)","v":""},{"$f":"IF(ISBLANK(Datenerfassung!O430),\"\",Datenerfassung!O430)","v":""},{"$f":"IF(ISBLANK(Datenerfassung!D430),IF(COUNTBLANK(A420:H420)+COUNTBLANK(J420:O420)=14,\"\",\"- ohne Titel -\"),Datenerfassung!D430)","v":""},{"$f":"IF(ISBLANK(Datenerfassung!G430),\"\",Datenerfassung!G430)","v":""},"",{"$f":"IF(ISBLANK(Datenerfassung!X430),\"\",Datenerfassung!X430)","v":""},{"$f":"IF(COUNTBLANK(Datenerfassung!H430:'Datenerfassung'!N430)=7,\"\",CONCATENATE( CONCATENATE(IF(ISBLANK(Datenerfassung!H430),\" \",Datenerfassung!H430 ),\" [IS]\"), CONCATENATE(IF(ISBLANK(Datenerfassung!I430),\" \",Datenerfassung!I430 ),\" [IS]\"), CONCATENATE(IF(ISBLANK(Datenerfassung!J430),\" \",Datenerfassung!J430 ),\" [IS]\"), CONCATENATE(IF(ISBLANK(Datenerfassung!K430),\" \",Datenerfassung!K430 ),\" [IS]\"), CONCATENATE(IF(ISBLANK(Datenerfassung!L430),\" \",Datenerfassung!L430 ),\" [IS]\"), CONCATENATE(IF(ISBLANK(Datenerfassung!M430),\" \",Datenerfassung!M430 ),\" [IS]\"), IF(ISBLANK(Datenerfassung!N430),\" \",Datenerfassung!N430 ) ))","v":""},{"$f":"IF(ISBLANK(Datenerfassung!V430),\"\",Datenerfassung!V430)","v":""},{"$f":"IF(ISBLANK(Datenerfassung!Q430),\"\",Datenerfassung!Q430)","v":""}]
[{"$f":"IF(ISBLANK(Datenerfassung!A431),\"\",Datenerfassung!A431)","v":""},{"$f":"IF(ISBLANK(Datenerfassung!B431),\"\",Datenerfassung!B431)","v":""},{"$f":"IF(ISBLANK(Datenerfassung!C431),\"\",Datenerfassung!C431)","v":""},{"$f":"IF(ISBLANK(Datenerfassung!R431),\"\",Datenerfassung!R431)","v":""},{"$f":"IF(ISBLANK(Datenerfassung!S431),\"\",Datenerfassung!S431)","v":""},"",{"$f":"IF(ISBLANK(Datenerfassung!U431),\"\",Datenerfassung!U431)","v":""},{"$f":"IF(ISBLANK(Datenerfassung!O431),\"\",Datenerfassung!O431)","v":""},{"$f":"IF(ISBLANK(Datenerfassung!D431),IF(COUNTBLANK(A421:H421)+COUNTBLANK(J421:O421)=14,\"\",\"- ohne Titel -\"),Datenerfassung!D431)","v":""},{"$f":"IF(ISBLANK(Datenerfassung!G431),\"\",Datenerfassung!G431)","v":""},"",{"$f":"IF(ISBLANK(Datenerfassung!X431),\"\",Datenerfassung!X431)","v":""},{"$f":"IF(COUNTBLANK(Datenerfassung!H431:'Datenerfassung'!N431)=7,\"\",CONCATENATE( CONCATENATE(IF(ISBLANK(Datenerfassung!H431),\" \",Datenerfassung!H431 ),\" [IS]\"), CONCATENATE(IF(ISBLANK(Datenerfassung!I431),\" \",Datenerfassung!I431 ),\" [IS]\"), CONCATENATE(IF(ISBLANK(Datenerfassung!J431),\" \",Datenerfassung!J431 ),\" [IS]\"), CONCATENATE(IF(ISBLANK(Datenerfassung!K431),\" \",Datenerfassung!K431 ),\" [IS]\"), CONCATENATE(IF(ISBLANK(Datenerfassung!L431),\" \",Datenerfassung!L431 ),\" [IS]\"), CONCATENATE(IF(ISBLANK(Datenerfassung!M431),\" \",Datenerfassung!M431 ),\" [IS]\"), IF(ISBLANK(Datenerfassung!N431),\" \",Datenerfassung!N431 ) ))","v":""},{"$f":"IF(ISBLANK(Datenerfassung!V431),\"\",Datenerfassung!V431)","v":""},{"$f":"IF(ISBLANK(Datenerfassung!Q431),\"\",Datenerfassung!Q431)","v":""}]
[{"$f":"IF(ISBLANK(Datenerfassung!A432),\"\",Datenerfassung!A432)","v":""},{"$f":"IF(ISBLANK(Datenerfassung!B432),\"\",Datenerfassung!B432)","v":""},{"$f":"IF(ISBLANK(Datenerfassung!C432),\"\",Datenerfassung!C432)","v":""},{"$f":"IF(ISBLANK(Datenerfassung!R432),\"\",Datenerfassung!R432)","v":""},{"$f":"IF(ISBLANK(Datenerfassung!S432),\"\",Datenerfassung!S432)","v":""},"",{"$f":"IF(ISBLANK(Datenerfassung!U432),\"\",Datenerfassung!U432)","v":""},{"$f":"IF(ISBLANK(Datenerfassung!O432),\"\",Datenerfassung!O432)","v":""},{"$f":"IF(ISBLANK(Datenerfassung!D432),IF(COUNTBLANK(A422:H422)+COUNTBLANK(J422:O422)=14,\"\",\"- ohne Titel -\"),Datenerfassung!D432)","v":""},{"$f":"IF(ISBLANK(Datenerfassung!G432),\"\",Datenerfassung!G432)","v":""},"",{"$f":"IF(ISBLANK(Datenerfassung!X432),\"\",Datenerfassung!X432)","v":""},{"$f":"IF(COUNTBLANK(Datenerfassung!H432:'Datenerfassung'!N432)=7,\"\",CONCATENATE( CONCATENATE(IF(ISBLANK(Datenerfassung!H432),\" \",Datenerfassung!H432 ),\" [IS]\"), CONCATENATE(IF(ISBLANK(Datenerfassung!I432),\" \",Datenerfassung!I432 ),\" [IS]\"), CONCATENATE(IF(ISBLANK(Datenerfassung!J432),\" \",Datenerfassung!J432 ),\" [IS]\"), CONCATENATE(IF(ISBLANK(Datenerfassung!K432),\" \",Datenerfassung!K432 ),\" [IS]\"), CONCATENATE(IF(ISBLANK(Datenerfassung!L432),\" \",Datenerfassung!L432 ),\" [IS]\"), CONCATENATE(IF(ISBLANK(Datenerfassung!M432),\" \",Datenerfassung!M432 ),\" [IS]\"), IF(ISBLANK(Datenerfassung!N432),\" \",Datenerfassung!N432 ) ))","v":""},{"$f":"IF(ISBLANK(Datenerfassung!V432),\"\",Datenerfassung!V432)","v":""},{"$f":"IF(ISBLANK(Datenerfassung!Q432),\"\",Datenerfassung!Q432)","v":""}]
[{"$f":"IF(ISBLANK(Datenerfassung!A433),\"\",Datenerfassung!A433)","v":""},{"$f":"IF(ISBLANK(Datenerfassung!B433),\"\",Datenerfassung!B433)","v":""},{"$f":"IF(ISBLANK(Datenerfassung!C433),\"\",Datenerfassung!C433)","v":""},{"$f":"IF(ISBLANK(Datenerfassung!R433),\"\",Datenerfassung!R433)","v":""},{"$f":"IF(ISBLANK(Datenerfassung!S433),\"\",Datenerfassung!S433)","v":""},"",{"$f":"IF(ISBLANK(Datenerfassung!U433),\"\",Datenerfassung!U433)","v":""},{"$f":"IF(ISBLANK(Datenerfassung!O433),\"\",Datenerfassung!O433)","v":""},{"$f":"IF(ISBLANK(Datenerfassung!D433),IF(COUNTBLANK(A423:H423)+COUNTBLANK(J423:O423)=14,\"\",\"- ohne Titel -\"),Datenerfassung!D433)","v":""},{"$f":"IF(ISBLANK(Datenerfassung!G433),\"\",Datenerfassung!G433)","v":""},"",{"$f":"IF(ISBLANK(Datenerfassung!X433),\"\",Datenerfassung!X433)","v":""},{"$f":"IF(COUNTBLANK(Datenerfassung!H433:'Datenerfassung'!N433)=7,\"\",CONCATENATE( CONCATENATE(IF(ISBLANK(Datenerfassung!H433),\" \",Datenerfassung!H433 ),\" [IS]\"), CONCATENATE(IF(ISBLANK(Datenerfassung!I433),\" \",Datenerfassung!I433 ),\" [IS]\"), CONCATENATE(IF(ISBLANK(Datenerfassung!J433),\" \",Datenerfassung!J433 ),\" [IS]\"), CONCATENATE(IF(ISBLANK(Datenerfassung!K433),\" \",Datenerfassung!K433 ),\" [IS]\"), CONCATENATE(IF(ISBLANK(Datenerfassung!L433),\" \",Datenerfassung!L433 ),\" [IS]\"), CONCATENATE(IF(ISBLANK(Datenerfassung!M433),\" \",Datenerfassung!M433 ),\" [IS]\"), IF(ISBLANK(Datenerfassung!N433),\" \",Datenerfassung!N433 ) ))","v":""},{"$f":"IF(ISBLANK(Datenerfassung!V433),\"\",Datenerfassung!V433)","v":""},{"$f":"IF(ISBLANK(Datenerfassung!Q433),\"\",Datenerfassung!Q433)","v":""}]
[{"$f":"IF(ISBLANK(Datenerfassung!A434),\"\",Datenerfassung!A434)","v":""},{"$f":"IF(ISBLANK(Datenerfassung!B434),\"\",Datenerfassung!B434)","v":""},{"$f":"IF(ISBLANK(Datenerfassung!C434),\"\",Datenerfassung!C434)","v":""},{"$f":"IF(ISBLANK(Datenerfassung!R434),\"\",Datenerfassung!R434)","v":""},{"$f":"IF(ISBLANK(Datenerfassung!S434),\"\",Datenerfassung!S434)","v":""},"",{"$f":"IF(ISBLANK(Datenerfassung!U434),\"\",Datenerfassung!U434)","v":""},{"$f":"IF(ISBLANK(Datenerfassung!O434),\"\",Datenerfassung!O434)","v":""},{"$f":"IF(ISBLANK(Datenerfassung!D434),IF(COUNTBLANK(A424:H424)+COUNTBLANK(J424:O424)=14,\"\",\"- ohne Titel -\"),Datenerfassung!D434)","v":""},{"$f":"IF(ISBLANK(Datenerfassung!G434),\"\",Datenerfassung!G434)","v":""},"",{"$f":"IF(ISBLANK(Datenerfassung!X434),\"\",Datenerfassung!X434)","v":""},{"$f":"IF(COUNTBLANK(Datenerfassung!H434:'Datenerfassung'!N434)=7,\"\",CONCATENATE( CONCATENATE(IF(ISBLANK(Datenerfassung!H434),\" \",Datenerfassung!H434 ),\" [IS]\"), CONCATENATE(IF(ISBLANK(Datenerfassung!I434),\" \",Datenerfassung!I434 ),\" [IS]\"), CONCATENATE(IF(ISBLANK(Datenerfassung!J434),\" \",Datenerfassung!J434 ),\" [IS]\"), CONCATENATE(IF(ISBLANK(Datenerfassung!K434),\" \",Datenerfassung!K434 ),\" [IS]\"), CONCATENATE(IF(ISBLANK(Datenerfassung!L434),\" \",Datenerfassung!L434 ),\" [IS]\"), CONCATENATE(IF(ISBLANK(Datenerfassung!M434),\" \",Datenerfassung!M434 ),\" [IS]\"), IF(ISBLANK(Datenerfassung!N434),\" \",Datenerfassung!N434 ) ))","v":""},{"$f":"IF(ISBLANK(Datenerfassung!V434),\"\",Datenerfassung!V434)","v":""},{"$f":"IF(ISBLANK(Datenerfassung!Q434),\"\",Datenerfassung!Q434)","v":""}]
[{"$f":"IF(ISBLANK(Datenerfassung!A435),\"\",Datenerfassung!A435)","v":""},{"$f":"IF(ISBLANK(Datenerfassung!B435),\"\",Datenerfassung!B435)","v":""},{"$f":"IF(ISBLANK(Datenerfassung!C435),\"\",Datenerfassung!C435)","v":""},{"$f":"IF(ISBLANK(Datenerfassung!R435),\"\",Datenerfassung!R435)","v":""},{"$f":"IF(ISBLANK(Datenerfassung!S435),\"\",Datenerfassung!S435)","v":""},"",{"$f":"IF(ISBLANK(Datenerfassung!U435),\"\",Datenerfassung!U435)","v":""},{"$f":"IF(ISBLANK(Datenerfassung!O435),\"\",Datenerfassung!O435)","v":""},{"$f":"IF(ISBLANK(Datenerfassung!D435),IF(COUNTBLANK(A425:H425)+COUNTBLANK(J425:O425)=14,\"\",\"- ohne Titel -\"),Datenerfassung!D435)","v":""},{"$f":"IF(ISBLANK(Datenerfassung!G435),\"\",Datenerfassung!G435)","v":""},"",{"$f":"IF(ISBLANK(Datenerfassung!X435),\"\",Datenerfassung!X435)","v":""},{"$f":"IF(COUNTBLANK(Datenerfassung!H435:'Datenerfassung'!N435)=7,\"\",CONCATENATE( CONCATENATE(IF(ISBLANK(Datenerfassung!H435),\" \",Datenerfassung!H435 ),\" [IS]\"), CONCATENATE(IF(ISBLANK(Datenerfassung!I435),\" \",Datenerfassung!I435 ),\" [IS]\"), CONCATENATE(IF(ISBLANK(Datenerfassung!J435),\" \",Datenerfassung!J435 ),\" [IS]\"), CONCATENATE(IF(ISBLANK(Datenerfassung!K435),\" \",Datenerfassung!K435 ),\" [IS]\"), CONCATENATE(IF(ISBLANK(Datenerfassung!L435),\" \",Datenerfassung!L435 ),\" [IS]\"), CONCATENATE(IF(ISBLANK(Datenerfassung!M435),\" \",Datenerfassung!M435 ),\" [IS]\"), IF(ISBLANK(Datenerfassung!N435),\" \",Datenerfassung!N435 ) ))","v":""},{"$f":"IF(ISBLANK(Datenerfassung!V435),\"\",Datenerfassung!V435)","v":""},{"$f":"IF(ISBLANK(Datenerfassung!Q435),\"\",Datenerfassung!Q435)","v":""}]
[{"$f":"IF(ISBLANK(Datenerfassung!A436),\"\",Datenerfassung!A436)","v":""},{"$f":"IF(ISBLANK(Datenerfassung!B436),\"\",Datenerfassung!B436)","v":""},{"$f":"IF(ISBLANK(Datenerfassung!C436),\"\",Datenerfassung!C436)","v":""},{"$f":"IF(ISBLANK(Datenerfassung!R436),\"\",Datenerfassung!R436)","v":""},{"$f":"IF(ISBLANK(Datenerfassung!S436),\"\",Datenerfassung!S436)","v":""},"",{"$f":"IF(ISBLANK(Datenerfassung!U436),\"\",Datenerfassung!U436)","v":""},{"$f":"IF(ISBLANK(Datenerfassung!O436),\"\",Datenerfassung!O436)","v":""},{"$f":"IF(ISBLANK(Datenerfassung!D436),IF(COUNTBLANK(A426:H426)+COUNTBLANK(J426:O426)=14,\"\",\"- ohne Titel -\"),Datenerfassung!D436)","v":""},{"$f":"IF(ISBLANK(Datenerfassung!G436),\"\",Datenerfassung!G436)","v":""},"",{"$f":"IF(ISBLANK(Datenerfassung!X436),\"\",Datenerfassung!X436)","v":""},{"$f":"IF(COUNTBLANK(Datenerfassung!H436:'Datenerfassung'!N436)=7,\"\",CONCATENATE( CONCATENATE(IF(ISBLANK(Datenerfassung!H436),\" \",Datenerfassung!H436 ),\" [IS]\"), CONCATENATE(IF(ISBLANK(Datenerfassung!I436),\" \",Datenerfassung!I436 ),\" [IS]\"), CONCATENATE(IF(ISBLANK(Datenerfassung!J436),\" \",Datenerfassung!J436 ),\" [IS]\"), CONCATENATE(IF(ISBLANK(Datenerfassung!K436),\" \",Datenerfassung!K436 ),\" [IS]\"), CONCATENATE(IF(ISBLANK(Datenerfassung!L436),\" \",Datenerfassung!L436 ),\" [IS]\"), CONCATENATE(IF(ISBLANK(Datenerfassung!M436),\" \",Datenerfassung!M436 ),\" [IS]\"), IF(ISBLANK(Datenerfassung!N436),\" \",Datenerfassung!N436 ) ))","v":""},{"$f":"IF(ISBLANK(Datenerfassung!V436),\"\",Datenerfassung!V436)","v":""},{"$f":"IF(ISBLANK(Datenerfassung!Q436),\"\",Datenerfassung!Q436)","v":""}]
[{"$f":"IF(ISBLANK(Datenerfassung!A437),\"\",Datenerfassung!A437)","v":""},{"$f":"IF(ISBLANK(Datenerfassung!B437),\"\",Datenerfassung!B437)","v":""},{"$f":"IF(ISBLANK(Datenerfassung!C437),\"\",Datenerfassung!C437)","v":""},{"$f":"IF(ISBLANK(Datenerfassung!R437),\"\",Datenerfassung!R437)","v":""},{"$f":"IF(ISBLANK(Datenerfassung!S437),\"\",Datenerfassung!S437)","v":""},"",{"$f":"IF(ISBLANK(Datenerfassung!U437),\"\",Datenerfassung!U437)","v":""},{"$f":"IF(ISBLANK(Datenerfassung!O437),\"\",Datenerfassung!O437)","v":""},{"$f":"IF(ISBLANK(Datenerfassung!D437),IF(COUNTBLANK(A427:H427)+COUNTBLANK(J427:O427)=14,\"\",\"- ohne Titel -\"),Datenerfassung!D437)","v":""},{"$f":"IF(ISBLANK(Datenerfassung!G437),\"\",Datenerfassung!G437)","v":""},"",{"$f":"IF(ISBLANK(Datenerfassung!X437),\"\",Datenerfassung!X437)","v":""},{"$f":"IF(COUNTBLANK(Datenerfassung!H437:'Datenerfassung'!N437)=7,\"\",CONCATENATE( CONCATENATE(IF(ISBLANK(Datenerfassung!H437),\" \",Datenerfassung!H437 ),\" [IS]\"), CONCATENATE(IF(ISBLANK(Datenerfassung!I437),\" \",Datenerfassung!I437 ),\" [IS]\"), CONCATENATE(IF(ISBLANK(Datenerfassung!J437),\" \",Datenerfassung!J437 ),\" [IS]\"), CONCATENATE(IF(ISBLANK(Datenerfassung!K437),\" \",Datenerfassung!K437 ),\" [IS]\"), CONCATENATE(IF(ISBLANK(Datenerfassung!L437),\" \",Datenerfassung!L437 ),\" [IS]\"), CONCATENATE(IF(ISBLANK(Datenerfassung!M437),\" \",Datenerfassung!M437 ),\" [IS]\"), IF(ISBLANK(Datenerfassung!N437),\" \",Datenerfassung!N437 ) ))","v":""},{"$f":"IF(ISBLANK(Datenerfassung!V437),\"\",Datenerfassung!V437)","v":""},{"$f":"IF(ISBLANK(Datenerfassung!Q437),\"\",Datenerfassung!Q437)","v":""}]
[{"$f":"IF(ISBLANK(Datenerfassung!A438),\"\",Datenerfassung!A438)","v":""},{"$f":"IF(ISBLANK(Datenerfassung!B438),\"\",Datenerfassung!B438)","v":""},{"$f":"IF(ISBLANK(Datenerfassung!C438),\"\",Datenerfassung!C438)","v":""},{"$f":"IF(ISBLANK(Datenerfassung!R438),\"\",Datenerfassung!R438)","v":""},{"$f":"IF(ISBLANK(Datenerfassung!S438),\"\",Datenerfassung!S438)","v":""},"",{"$f":"IF(ISBLANK(Datenerfassung!U438),\"\",Datenerfassung!U438)","v":""},{"$f":"IF(ISBLANK(Datenerfassung!O438),\"\",Datenerfassung!O438)","v":""},{"$f":"IF(ISBLANK(Datenerfassung!D438),IF(COUNTBLANK(A428:H428)+COUNTBLANK(J428:O428)=14,\"\",\"- ohne Titel -\"),Datenerfassung!D438)","v":""},{"$f":"IF(ISBLANK(Datenerfassung!G438),\"\",Datenerfassung!G438)","v":""},"",{"$f":"IF(ISBLANK(Datenerfassung!X438),\"\",Datenerfassung!X438)","v":""},{"$f":"IF(COUNTBLANK(Datenerfassung!H438:'Datenerfassung'!N438)=7,\"\",CONCATENATE( CONCATENATE(IF(ISBLANK(Datenerfassung!H438),\" \",Datenerfassung!H438 ),\" [IS]\"), CONCATENATE(IF(ISBLANK(Datenerfassung!I438),\" \",Datenerfassung!I438 ),\" [IS]\"), CONCATENATE(IF(ISBLANK(Datenerfassung!J438),\" \",Datenerfassung!J438 ),\" [IS]\"), CONCATENATE(IF(ISBLANK(Datenerfassung!K438),\" \",Datenerfassung!K438 ),\" [IS]\"), CONCATENATE(IF(ISBLANK(Datenerfassung!L438),\" \",Datenerfassung!L438 ),\" [IS]\"), CONCATENATE(IF(ISBLANK(Datenerfassung!M438),\" \",Datenerfassung!M438 ),\" [IS]\"), IF(ISBLANK(Datenerfassung!N438),\" \",Datenerfassung!N438 ) ))","v":""},{"$f":"IF(ISBLANK(Datenerfassung!V438),\"\",Datenerfassung!V438)","v":""},{"$f":"IF(ISBLANK(Datenerfassung!Q438),\"\",Datenerfassung!Q438)","v":""}]
[{"$f":"IF(ISBLANK(Datenerfassung!A439),\"\",Datenerfassung!A439)","v":""},{"$f":"IF(ISBLANK(Datenerfassung!B439),\"\",Datenerfassung!B439)","v":""},{"$f":"IF(ISBLANK(Datenerfassung!C439),\"\",Datenerfassung!C439)","v":""},{"$f":"IF(ISBLANK(Datenerfassung!R439),\"\",Datenerfassung!R439)","v":""},{"$f":"IF(ISBLANK(Datenerfassung!S439),\"\",Datenerfassung!S439)","v":""},"",{"$f":"IF(ISBLANK(Datenerfassung!U439),\"\",Datenerfassung!U439)","v":""},{"$f":"IF(ISBLANK(Datenerfassung!O439),\"\",Datenerfassung!O439)","v":""},{"$f":"IF(ISBLANK(Datenerfassung!D439),IF(COUNTBLANK(A429:H429)+COUNTBLANK(J429:O429)=14,\"\",\"- ohne Titel -\"),Datenerfassung!D439)","v":""},{"$f":"IF(ISBLANK(Datenerfassung!G439),\"\",Datenerfassung!G439)","v":""},"",{"$f":"IF(ISBLANK(Datenerfassung!X439),\"\",Datenerfassung!X439)","v":""},{"$f":"IF(COUNTBLANK(Datenerfassung!H439:'Datenerfassung'!N439)=7,\"\",CONCATENATE( CONCATENATE(IF(ISBLANK(Datenerfassung!H439),\" \",Datenerfassung!H439 ),\" [IS]\"), CONCATENATE(IF(ISBLANK(Datenerfassung!I439),\" \",Datenerfassung!I439 ),\" [IS]\"), CONCATENATE(IF(ISBLANK(Datenerfassung!J439),\" \",Datenerfassung!J439 ),\" [IS]\"), CONCATENATE(IF(ISBLANK(Datenerfassung!K439),\" \",Datenerfassung!K439 ),\" [IS]\"), CONCATENATE(IF(ISBLANK(Datenerfassung!L439),\" \",Datenerfassung!L439 ),\" [IS]\"), CONCATENATE(IF(ISBLANK(Datenerfassung!M439),\" \",Datenerfassung!M439 ),\" [IS]\"), IF(ISBLANK(Datenerfassung!N439),\" \",Datenerfassung!N439 ) ))","v":""},{"$f":"IF(ISBLANK(Datenerfassung!V439),\"\",Datenerfassung!V439)","v":""},{"$f":"IF(ISBLANK(Datenerfassung!Q439),\"\",Datenerfassung!Q439)","v":""}]
[{"$f":"IF(ISBLANK(Datenerfassung!A440),\"\",Datenerfassung!A440)","v":""},{"$f":"IF(ISBLANK(Datenerfassung!B440),\"\",Datenerfassung!B440)","v":""},{"$f":"IF(ISBLANK(Datenerfassung!C440),\"\",Datenerfassung!C440)","v":""},{"$f":"IF(ISBLANK(Datenerfassung!R440),\"\",Datenerfassung!R440)","v":""},{"$f":"IF(ISBLANK(Datenerfassung!S440),\"\",Datenerfassung!S440)","v":""},"",{"$f":"IF(ISBLANK(Datenerfassung!U440),\"\",Datenerfassung!U440)","v":""},{"$f":"IF(ISBLANK(Datenerfassung!O440),\"\",Datenerfassung!O440)","v":""},{"$f":"IF(ISBLANK(Datenerfassung!D440),IF(COUNTBLANK(A430:H430)+COUNTBLANK(J430:O430)=14,\"\",\"- ohne Titel -\"),Datenerfassung!D440)","v":""},{"$f":"IF(ISBLANK(Datenerfassung!G440),\"\",Datenerfassung!G440)","v":""},"",{"$f":"IF(ISBLANK(Datenerfassung!X440),\"\",Datenerfassung!X440)","v":""},{"$f":"IF(COUNTBLANK(Datenerfassung!H440:'Datenerfassung'!N440)=7,\"\",CONCATENATE( CONCATENATE(IF(ISBLANK(Datenerfassung!H440),\" \",Datenerfassung!H440 ),\" [IS]\"), CONCATENATE(IF(ISBLANK(Datenerfassung!I440),\" \",Datenerfassung!I440 ),\" [IS]\"), CONCATENATE(IF(ISBLANK(Datenerfassung!J440),\" \",Datenerfassung!J440 ),\" [IS]\"), CONCATENATE(IF(ISBLANK(Datenerfassung!K440),\" \",Datenerfassung!K440 ),\" [IS]\"), CONCATENATE(IF(ISBLANK(Datenerfassung!L440),\" \",Datenerfassung!L440 ),\" [IS]\"), CONCATENATE(IF(ISBLANK(Datenerfassung!M440),\" \",Datenerfassung!M440 ),\" [IS]\"), IF(ISBLANK(Datenerfassung!N440),\" \",Datenerfassung!N440 ) ))","v":""},{"$f":"IF(ISBLANK(Datenerfassung!V440),\"\",Datenerfassung!V440)","v":""},{"$f":"IF(ISBLANK(Datenerfassung!Q440),\"\",Datenerfassung!Q440)","v":""}]
[{"$f":"IF(ISBLANK(Datenerfassung!A441),\"\",Datenerfassung!A441)","v":""},{"$f":"IF(ISBLANK(Datenerfassung!B441),\"\",Datenerfassung!B441)","v":""},{"$f":"IF(ISBLANK(Datenerfassung!C441),\"\",Datenerfassung!C441)","v":""},{"$f":"IF(ISBLANK(Datenerfassung!R441),\"\",Datenerfassung!R441)","v":""},{"$f":"IF(ISBLANK(Datenerfassung!S441),\"\",Datenerfassung!S441)","v":""},"",{"$f":"IF(ISBLANK(Datenerfassung!U441),\"\",Datenerfassung!U441)","v":""},{"$f":"IF(ISBLANK(Datenerfassung!O441),\"\",Datenerfassung!O441)","v":""},{"$f":"IF(ISBLANK(Datenerfassung!D441),IF(COUNTBLANK(A431:H431)+COUNTBLANK(J431:O431)=14,\"\",\"- ohne Titel -\"),Datenerfassung!D441)","v":""},{"$f":"IF(ISBLANK(Datenerfassung!G441),\"\",Datenerfassung!G441)","v":""},"",{"$f":"IF(ISBLANK(Datenerfassung!X441),\"\",Datenerfassung!X441)","v":""},{"$f":"IF(COUNTBLANK(Datenerfassung!H441:'Datenerfassung'!N441)=7,\"\",CONCATENATE( CONCATENATE(IF(ISBLANK(Datenerfassung!H441),\" \",Datenerfassung!H441 ),\" [IS]\"), CONCATENATE(IF(ISBLANK(Datenerfassung!I441),\" \",Datenerfassung!I441 ),\" [IS]\"), CONCATENATE(IF(ISBLANK(Datenerfassung!J441),\" \",Datenerfassung!J441 ),\" [IS]\"), CONCATENATE(IF(ISBLANK(Datenerfassung!K441),\" \",Datenerfassung!K441 ),\" [IS]\"), CONCATENATE(IF(ISBLANK(Datenerfassung!L441),\" \",Datenerfassung!L441 ),\" [IS]\"), CONCATENATE(IF(ISBLANK(Datenerfassung!M441),\" \",Datenerfassung!M441 ),\" [IS]\"), IF(ISBLANK(Datenerfassung!N441),\" \",Datenerfassung!N441 ) ))","v":""},{"$f":"IF(ISBLANK(Datenerfassung!V441),\"\",Datenerfassung!V441)","v":""},{"$f":"IF(ISBLANK(Datenerfassung!Q441),\"\",Datenerfassung!Q441)","v":""}]
[{"$f":"IF(ISBLANK(Datenerfassung!A442),\"\",Datenerfassung!A442)","v":""},{"$f":"IF(ISBLANK(Datenerfassung!B442),\"\",Datenerfassung!B442)","v":""},{"$f":"IF(ISBLANK(Datenerfassung!C442),\"\",Datenerfassung!C442)","v":""},{"$f":"IF(ISBLANK(Datenerfassung!R442),\"\",Datenerfassung!R442)","v":""},{"$f":"IF(ISBLANK(Datenerfassung!S442),\"\",Datenerfassung!S442)","v":""},"",{"$f":"IF(ISBLANK(Datenerfassung!U442),\"\",Datenerfassung!U442)","v":""},{"$f":"IF(ISBLANK(Datenerfassung!O442),\"\",Datenerfassung!O442)","v":""},{"$f":"IF(ISBLANK(Datenerfassung!D442),IF(COUNTBLANK(A432:H432)+COUNTBLANK(J432:O432)=14,\"\",\"- ohne Titel -\"),Datenerfassung!D442)","v":""},{"$f":"IF(ISBLANK(Datenerfassung!G442),\"\",Datenerfassung!G442)","v":""},"",{"$f":"IF(ISBLANK(Datenerfassung!X442),\"\",Datenerfassung!X442)","v":""},{"$f":"IF(COUNTBLANK(Datenerfassung!H442:'Datenerfassung'!N442)=7,\"\",CONCATENATE( CONCATENATE(IF(ISBLANK(Datenerfassung!H442),\" \",Datenerfassung!H442 ),\" [IS]\"), CONCATENATE(IF(ISBLANK(Datenerfassung!I442),\" \",Datenerfassung!I442 ),\" [IS]\"), CONCATENATE(IF(ISBLANK(Datenerfassung!J442),\" \",Datenerfassung!J442 ),\" [IS]\"), CONCATENATE(IF(ISBLANK(Datenerfassung!K442),\" \",Datenerfassung!K442 ),\" [IS]\"), CONCATENATE(IF(ISBLANK(Datenerfassung!L442),\" \",Datenerfassung!L442 ),\" [IS]\"), CONCATENATE(IF(ISBLANK(Datenerfassung!M442),\" \",Datenerfassung!M442 ),\" [IS]\"), IF(ISBLANK(Datenerfassung!N442),\" \",Datenerfassung!N442 ) ))","v":""},{"$f":"IF(ISBLANK(Datenerfassung!V442),\"\",Datenerfassung!V442)","v":""},{"$f":"IF(ISBLANK(Datenerfassung!Q442),\"\",Datenerfassung!Q442)","v":""}]
[{"$f":"IF(ISBLANK(Datenerfassung!A443),\"\",Datenerfassung!A443)","v":""},{"$f":"IF(ISBLANK(Datenerfassung!B443),\"\",Datenerfassung!B443)","v":""},{"$f":"IF(ISBLANK(Datenerfassung!C443),\"\",Datenerfassung!C443)","v":""},{"$f":"IF(ISBLANK(Datenerfassung!R443),\"\",Datenerfassung!R443)","v":""},{"$f":"IF(ISBLANK(Datenerfassung!S443),\"\",Datenerfassung!S443)","v":""},"",{"$f":"IF(ISBLANK(Datenerfassung!U443),\"\",Datenerfassung!U443)","v":""},{"$f":"IF(ISBLANK(Datenerfassung!O443),\"\",Datenerfassung!O443)","v":""},{"$f":"IF(ISBLANK(Datenerfassung!D443),IF(COUNTBLANK(A433:H433)+COUNTBLANK(J433:O433)=14,\"\",\"- ohne Titel -\"),Datenerfassung!D443)","v":""},{"$f":"IF(ISBLANK(Datenerfassung!G443),\"\",Datenerfassung!G443)","v":""},"",{"$f":"IF(ISBLANK(Datenerfassung!X443),\"\",Datenerfassung!X443)","v":""},{"$f":"IF(COUNTBLANK(Datenerfassung!H443:'Datenerfassung'!N443)=7,\"\",CONCATENATE( CONCATENATE(IF(ISBLANK(Datenerfassung!H443),\" \",Datenerfassung!H443 ),\" [IS]\"), CONCATENATE(IF(ISBLANK(Datenerfassung!I443),\" \",Datenerfassung!I443 ),\" [IS]\"), CONCATENATE(IF(ISBLANK(Datenerfassung!J443),\" \",Datenerfassung!J443 ),\" [IS]\"), CONCATENATE(IF(ISBLANK(Datenerfassung!K443),\" \",Datenerfassung!K443 ),\" [IS]\"), CONCATENATE(IF(ISBLANK(Datenerfassung!L443),\" \",Datenerfassung!L443 ),\" [IS]\"), CONCATENATE(IF(ISBLANK(Datenerfassung!M443),\" \",Datenerfassung!M443 ),\" [IS]\"), IF(ISBLANK(Datenerfassung!N443),\" \",Datenerfassung!N443 ) ))","v":""},{"$f":"IF(ISBLANK(Datenerfassung!V443),\"\",Datenerfassung!V443)","v":""},{"$f":"IF(ISBLANK(Datenerfassung!Q443),\"\",Datenerfassung!Q443)","v":""}]
[{"$f":"IF(ISBLANK(Datenerfassung!A444),\"\",Datenerfassung!A444)","v":""},{"$f":"IF(ISBLANK(Datenerfassung!B444),\"\",Datenerfassung!B444)","v":""},{"$f":"IF(ISBLANK(Datenerfassung!C444),\"\",Datenerfassung!C444)","v":""},{"$f":"IF(ISBLANK(Datenerfassung!R444),\"\",Datenerfassung!R444)","v":""},{"$f":"IF(ISBLANK(Datenerfassung!S444),\"\",Datenerfassung!S444)","v":""},"",{"$f":"IF(ISBLANK(Datenerfassung!U444),\"\",Datenerfassung!U444)","v":""},{"$f":"IF(ISBLANK(Datenerfassung!O444),\"\",Datenerfassung!O444)","v":""},{"$f":"IF(ISBLANK(Datenerfassung!D444),IF(COUNTBLANK(A434:H434)+COUNTBLANK(J434:O434)=14,\"\",\"- ohne Titel -\"),Datenerfassung!D444)","v":""},{"$f":"IF(ISBLANK(Datenerfassung!G444),\"\",Datenerfassung!G444)","v":""},"",{"$f":"IF(ISBLANK(Datenerfassung!X444),\"\",Datenerfassung!X444)","v":""},{"$f":"IF(COUNTBLANK(Datenerfassung!H444:'Datenerfassung'!N444)=7,\"\",CONCATENATE( CONCATENATE(IF(ISBLANK(Datenerfassung!H444),\" \",Datenerfassung!H444 ),\" [IS]\"), CONCATENATE(IF(ISBLANK(Datenerfassung!I444),\" \",Datenerfassung!I444 ),\" [IS]\"), CONCATENATE(IF(ISBLANK(Datenerfassung!J444),\" \",Datenerfassung!J444 ),\" [IS]\"), CONCATENATE(IF(ISBLANK(Datenerfassung!K444),\" \",Datenerfassung!K444 ),\" [IS]\"), CONCATENATE(IF(ISBLANK(Datenerfassung!L444),\" \",Datenerfassung!L444 ),\" [IS]\"), CONCATENATE(IF(ISBLANK(Datenerfassung!M444),\" \",Datenerfassung!M444 ),\" [IS]\"), IF(ISBLANK(Datenerfassung!N444),\" \",Datenerfassung!N444 ) ))","v":""},{"$f":"IF(ISBLANK(Datenerfassung!V444),\"\",Datenerfassung!V444)","v":""},{"$f":"IF(ISBLANK(Datenerfassung!Q444),\"\",Datenerfassung!Q444)","v":""}]
[{"$f":"IF(ISBLANK(Datenerfassung!A445),\"\",Datenerfassung!A445)","v":""},{"$f":"IF(ISBLANK(Datenerfassung!B445),\"\",Datenerfassung!B445)","v":""},{"$f":"IF(ISBLANK(Datenerfassung!C445),\"\",Datenerfassung!C445)","v":""},{"$f":"IF(ISBLANK(Datenerfassung!R445),\"\",Datenerfassung!R445)","v":""},{"$f":"IF(ISBLANK(Datenerfassung!S445),\"\",Datenerfassung!S445)","v":""},"",{"$f":"IF(ISBLANK(Datenerfassung!U445),\"\",Datenerfassung!U445)","v":""},{"$f":"IF(ISBLANK(Datenerfassung!O445),\"\",Datenerfassung!O445)","v":""},{"$f":"IF(ISBLANK(Datenerfassung!D445),IF(COUNTBLANK(A435:H435)+COUNTBLANK(J435:O435)=14,\"\",\"- ohne Titel -\"),Datenerfassung!D445)","v":""},{"$f":"IF(ISBLANK(Datenerfassung!G445),\"\",Datenerfassung!G445)","v":""},"",{"$f":"IF(ISBLANK(Datenerfassung!X445),\"\",Datenerfassung!X445)","v":""},{"$f":"IF(COUNTBLANK(Datenerfassung!H445:'Datenerfassung'!N445)=7,\"\",CONCATENATE( CONCATENATE(IF(ISBLANK(Datenerfassung!H445),\" \",Datenerfassung!H445 ),\" [IS]\"), CONCATENATE(IF(ISBLANK(Datenerfassung!I445),\" \",Datenerfassung!I445 ),\" [IS]\"), CONCATENATE(IF(ISBLANK(Datenerfassung!J445),\" \",Datenerfassung!J445 ),\" [IS]\"), CONCATENATE(IF(ISBLANK(Datenerfassung!K445),\" \",Datenerfassung!K445 ),\" [IS]\"), CONCATENATE(IF(ISBLANK(Datenerfassung!L445),\" \",Datenerfassung!L445 ),\" [IS]\"), CONCATENATE(IF(ISBLANK(Datenerfassung!M445),\" \",Datenerfassung!M445 ),\" [IS]\"), IF(ISBLANK(Datenerfassung!N445),\" \",Datenerfassung!N445 ) ))","v":""},{"$f":"IF(ISBLANK(Datenerfassung!V445),\"\",Datenerfassung!V445)","v":""},{"$f":"IF(ISBLANK(Datenerfassung!Q445),\"\",Datenerfassung!Q445)","v":""}]
[{"$f":"IF(ISBLANK(Datenerfassung!A446),\"\",Datenerfassung!A446)","v":""},{"$f":"IF(ISBLANK(Datenerfassung!B446),\"\",Datenerfassung!B446)","v":""},{"$f":"IF(ISBLANK(Datenerfassung!C446),\"\",Datenerfassung!C446)","v":""},{"$f":"IF(ISBLANK(Datenerfassung!R446),\"\",Datenerfassung!R446)","v":""},{"$f":"IF(ISBLANK(Datenerfassung!S446),\"\",Datenerfassung!S446)","v":""},"",{"$f":"IF(ISBLANK(Datenerfassung!U446),\"\",Datenerfassung!U446)","v":""},{"$f":"IF(ISBLANK(Datenerfassung!O446),\"\",Datenerfassung!O446)","v":""},{"$f":"IF(ISBLANK(Datenerfassung!D446),IF(COUNTBLANK(A436:H436)+COUNTBLANK(J436:O436)=14,\"\",\"- ohne Titel -\"),Datenerfassung!D446)","v":""},{"$f":"IF(ISBLANK(Datenerfassung!G446),\"\",Datenerfassung!G446)","v":""},"",{"$f":"IF(ISBLANK(Datenerfassung!X446),\"\",Datenerfassung!X446)","v":""},{"$f":"IF(COUNTBLANK(Datenerfassung!H446:'Datenerfassung'!N446)=7,\"\",CONCATENATE( CONCATENATE(IF(ISBLANK(Datenerfassung!H446),\" \",Datenerfassung!H446 ),\" [IS]\"), CONCATENATE(IF(ISBLANK(Datenerfassung!I446),\" \",Datenerfassung!I446 ),\" [IS]\"), CONCATENATE(IF(ISBLANK(Datenerfassung!J446),\" \",Datenerfassung!J446 ),\" [IS]\"), CONCATENATE(IF(ISBLANK(Datenerfassung!K446),\" \",Datenerfassung!K446 ),\" [IS]\"), CONCATENATE(IF(ISBLANK(Datenerfassung!L446),\" \",Datenerfassung!L446 ),\" [IS]\"), CONCATENATE(IF(ISBLANK(Datenerfassung!M446),\" \",Datenerfassung!M446 ),\" [IS]\"), IF(ISBLANK(Datenerfassung!N446),\" \",Datenerfassung!N446 ) ))","v":""},{"$f":"IF(ISBLANK(Datenerfassung!V446),\"\",Datenerfassung!V446)","v":""},{"$f":"IF(ISBLANK(Datenerfassung!Q446),\"\",Datenerfassung!Q446)","v":""}]
[{"$f":"IF(ISBLANK(Datenerfassung!A447),\"\",Datenerfassung!A447)","v":""},{"$f":"IF(ISBLANK(Datenerfassung!B447),\"\",Datenerfassung!B447)","v":""},{"$f":"IF(ISBLANK(Datenerfassung!C447),\"\",Datenerfassung!C447)","v":""},{"$f":"IF(ISBLANK(Datenerfassung!R447),\"\",Datenerfassung!R447)","v":""},{"$f":"IF(ISBLANK(Datenerfassung!S447),\"\",Datenerfassung!S447)","v":""},"",{"$f":"IF(ISBLANK(Datenerfassung!U447),\"\",Datenerfassung!U447)","v":""},{"$f":"IF(ISBLANK(Datenerfassung!O447),\"\",Datenerfassung!O447)","v":""},{"$f":"IF(ISBLANK(Datenerfassung!D447),IF(COUNTBLANK(A437:H437)+COUNTBLANK(J437:O437)=14,\"\",\"- ohne Titel -\"),Datenerfassung!D447)","v":""},{"$f":"IF(ISBLANK(Datenerfassung!G447),\"\",Datenerfassung!G447)","v":""},"",{"$f":"IF(ISBLANK(Datenerfassung!X447),\"\",Datenerfassung!X447)","v":""},{"$f":"IF(COUNTBLANK(Datenerfassung!H447:'Datenerfassung'!N447)=7,\"\",CONCATENATE( CONCATENATE(IF(ISBLANK(Datenerfassung!H447),\" \",Datenerfassung!H447 ),\" [IS]\"), CONCATENATE(IF(ISBLANK(Datenerfassung!I447),\" \",Datenerfassung!I447 ),\" [IS]\"), CONCATENATE(IF(ISBLANK(Datenerfassung!J447),\" \",Datenerfassung!J447 ),\" [IS]\"), CONCATENATE(IF(ISBLANK(Datenerfassung!K447),\" \",Datenerfassung!K447 ),\" [IS]\"), CONCATENATE(IF(ISBLANK(Datenerfassung!L447),\" \",Datenerfassung!L447 ),\" [IS]\"), CONCATENATE(IF(ISBLANK(Datenerfassung!M447),\" \",Datenerfassung!M447 ),\" [IS]\"), IF(ISBLANK(Datenerfassung!N447),\" \",Datenerfassung!N447 ) ))","v":""},{"$f":"IF(ISBLANK(Datenerfassung!V447),\"\",Datenerfassung!V447)","v":""},{"$f":"IF(ISBLANK(Datenerfassung!Q447),\"\",Datenerfassung!Q447)","v":""}]
[{"$f":"IF(ISBLANK(Datenerfassung!A448),\"\",Datenerfassung!A448)","v":""},{"$f":"IF(ISBLANK(Datenerfassung!B448),\"\",Datenerfassung!B448)","v":""},{"$f":"IF(ISBLANK(Datenerfassung!C448),\"\",Datenerfassung!C448)","v":""},{"$f":"IF(ISBLANK(Datenerfassung!R448),\"\",Datenerfassung!R448)","v":""},{"$f":"IF(ISBLANK(Datenerfassung!S448),\"\",Datenerfassung!S448)","v":""},"",{"$f":"IF(ISBLANK(Datenerfassung!U448),\"\",Datenerfassung!U448)","v":""},{"$f":"IF(ISBLANK(Datenerfassung!O448),\"\",Datenerfassung!O448)","v":""},{"$f":"IF(ISBLANK(Datenerfassung!D448),IF(COUNTBLANK(A438:H438)+COUNTBLANK(J438:O438)=14,\"\",\"- ohne Titel -\"),Datenerfassung!D448)","v":""},{"$f":"IF(ISBLANK(Datenerfassung!G448),\"\",Datenerfassung!G448)","v":""},"",{"$f":"IF(ISBLANK(Datenerfassung!X448),\"\",Datenerfassung!X448)","v":""},{"$f":"IF(COUNTBLANK(Datenerfassung!H448:'Datenerfassung'!N448)=7,\"\",CONCATENATE( CONCATENATE(IF(ISBLANK(Datenerfassung!H448),\" \",Datenerfassung!H448 ),\" [IS]\"), CONCATENATE(IF(ISBLANK(Datenerfassung!I448),\" \",Datenerfassung!I448 ),\" [IS]\"), CONCATENATE(IF(ISBLANK(Datenerfassung!J448),\" \",Datenerfassung!J448 ),\" [IS]\"), CONCATENATE(IF(ISBLANK(Datenerfassung!K448),\" \",Datenerfassung!K448 ),\" [IS]\"), CONCATENATE(IF(ISBLANK(Datenerfassung!L448),\" \",Datenerfassung!L448 ),\" [IS]\"), CONCATENATE(IF(ISBLANK(Datenerfassung!M448),\" \",Datenerfassung!M448 ),\" [IS]\"), IF(ISBLANK(Datenerfassung!N448),\" \",Datenerfassung!N448 ) ))","v":""},{"$f":"IF(ISBLANK(Datenerfassung!V448),\"\",Datenerfassung!V448)","v":""},{"$f":"IF(ISBLANK(Datenerfassung!Q448),\"\",Datenerfassung!Q448)","v":""}]
[{"$f":"IF(ISBLANK(Datenerfassung!A449),\"\",Datenerfassung!A449)","v":""},{"$f":"IF(ISBLANK(Datenerfassung!B449),\"\",Datenerfassung!B449)","v":""},{"$f":"IF(ISBLANK(Datenerfassung!C449),\"\",Datenerfassung!C449)","v":""},{"$f":"IF(ISBLANK(Datenerfassung!R449),\"\",Datenerfassung!R449)","v":""},{"$f":"IF(ISBLANK(Datenerfassung!S449),\"\",Datenerfassung!S449)","v":""},"",{"$f":"IF(ISBLANK(Datenerfassung!U449),\"\",Datenerfassung!U449)","v":""},{"$f":"IF(ISBLANK(Datenerfassung!O449),\"\",Datenerfassung!O449)","v":""},{"$f":"IF(ISBLANK(Datenerfassung!D449),IF(COUNTBLANK(A439:H439)+COUNTBLANK(J439:O439)=14,\"\",\"- ohne Titel -\"),Datenerfassung!D449)","v":""},{"$f":"IF(ISBLANK(Datenerfassung!G449),\"\",Datenerfassung!G449)","v":""},"",{"$f":"IF(ISBLANK(Datenerfassung!X449),\"\",Datenerfassung!X449)","v":""},{"$f":"IF(COUNTBLANK(Datenerfassung!H449:'Datenerfassung'!N449)=7,\"\",CONCATENATE( CONCATENATE(IF(ISBLANK(Datenerfassung!H449),\" \",Datenerfassung!H449 ),\" [IS]\"), CONCATENATE(IF(ISBLANK(Datenerfassung!I449),\" \",Datenerfassung!I449 ),\" [IS]\"), CONCATENATE(IF(ISBLANK(Datenerfassung!J449),\" \",Datenerfassung!J449 ),\" [IS]\"), CONCATENATE(IF(ISBLANK(Datenerfassung!K449),\" \",Datenerfassung!K449 ),\" [IS]\"), CONCATENATE(IF(ISBLANK(Datenerfassung!L449),\" \",Datenerfassung!L449 ),\" [IS]\"), CONCATENATE(IF(ISBLANK(Datenerfassung!M449),\" \",Datenerfassung!M449 ),\" [IS]\"), IF(ISBLANK(Datenerfassung!N449),\" \",Datenerfassung!N449 ) ))","v":""},{"$f":"IF(ISBLANK(Datenerfassung!V449),\"\",Datenerfassung!V449)","v":""},{"$f":"IF(ISBLANK(Datenerfassung!Q449),\"\",Datenerfassung!Q449)","v":""}]
[{"$f":"IF(ISBLANK(Datenerfassung!A450),\"\",Datenerfassung!A450)","v":""},{"$f":"IF(ISBLANK(Datenerfassung!B450),\"\",Datenerfassung!B450)","v":""},{"$f":"IF(ISBLANK(Datenerfassung!C450),\"\",Datenerfassung!C450)","v":""},{"$f":"IF(ISBLANK(Datenerfassung!R450),\"\",Datenerfassung!R450)","v":""},{"$f":"IF(ISBLANK(Datenerfassung!S450),\"\",Datenerfassung!S450)","v":""},"",{"$f":"IF(ISBLANK(Datenerfassung!U450),\"\",Datenerfassung!U450)","v":""},{"$f":"IF(ISBLANK(Datenerfassung!O450),\"\",Datenerfassung!O450)","v":""},{"$f":"IF(ISBLANK(Datenerfassung!D450),IF(COUNTBLANK(A440:H440)+COUNTBLANK(J440:O440)=14,\"\",\"- ohne Titel -\"),Datenerfassung!D450)","v":""},{"$f":"IF(ISBLANK(Datenerfassung!G450),\"\",Datenerfassung!G450)","v":""},"",{"$f":"IF(ISBLANK(Datenerfassung!X450),\"\",Datenerfassung!X450)","v":""},{"$f":"IF(COUNTBLANK(Datenerfassung!H450:'Datenerfassung'!N450)=7,\"\",CONCATENATE( CONCATENATE(IF(ISBLANK(Datenerfassung!H450),\" \",Datenerfassung!H450 ),\" [IS]\"), CONCATENATE(IF(ISBLANK(Datenerfassung!I450),\" \",Datenerfassung!I450 ),\" [IS]\"), CONCATENATE(IF(ISBLANK(Datenerfassung!J450),\" \",Datenerfassung!J450 ),\" [IS]\"), CONCATENATE(IF(ISBLANK(Datenerfassung!K450),\" \",Datenerfassung!K450 ),\" [IS]\"), CONCATENATE(IF(ISBLANK(Datenerfassung!L450),\" \",Datenerfassung!L450 ),\" [IS]\"), CONCATENATE(IF(ISBLANK(Datenerfassung!M450),\" \",Datenerfassung!M450 ),\" [IS]\"), IF(ISBLANK(Datenerfassung!N450),\" \",Datenerfassung!N450 ) ))","v":""},{"$f":"IF(ISBLANK(Datenerfassung!V450),\"\",Datenerfassung!V450)","v":""},{"$f":"IF(ISBLANK(Datenerfassung!Q450),\"\",Datenerfassung!Q450)","v":""}]
[{"$f":"IF(ISBLANK(Datenerfassung!A451),\"\",Datenerfassung!A451)","v":""},{"$f":"IF(ISBLANK(Datenerfassung!B451),\"\",Datenerfassung!B451)","v":""},{"$f":"IF(ISBLANK(Datenerfassung!C451),\"\",Datenerfassung!C451)","v":""},{"$f":"IF(ISBLANK(Datenerfassung!R451),\"\",Datenerfassung!R451)","v":""},{"$f":"IF(ISBLANK(Datenerfassung!S451),\"\",Datenerfassung!S451)","v":""},"",{"$f":"IF(ISBLANK(Datenerfassung!U451),\"\",Datenerfassung!U451)","v":""},{"$f":"IF(ISBLANK(Datenerfassung!O451),\"\",Datenerfassung!O451)","v":""},{"$f":"IF(ISBLANK(Datenerfassung!D451),IF(COUNTBLANK(A441:H441)+COUNTBLANK(J441:O441)=14,\"\",\"- ohne Titel -\"),Datenerfassung!D451)","v":""},{"$f":"IF(ISBLANK(Datenerfassung!G451),\"\",Datenerfassung!G451)","v":""},"",{"$f":"IF(ISBLANK(Datenerfassung!X451),\"\",Datenerfassung!X451)","v":""},{"$f":"IF(COUNTBLANK(Datenerfassung!H451:'Datenerfassung'!N451)=7,\"\",CONCATENATE( CONCATENATE(IF(ISBLANK(Datenerfassung!H451),\" \",Datenerfassung!H451 ),\" [IS]\"), CONCATENATE(IF(ISBLANK(Datenerfassung!I451),\" \",Datenerfassung!I451 ),\" [IS]\"), CONCATENATE(IF(ISBLANK(Datenerfassung!J451),\" \",Datenerfassung!J451 ),\" [IS]\"), CONCATENATE(IF(ISBLANK(Datenerfassung!K451),\" \",Datenerfassung!K451 ),\" [IS]\"), CONCATENATE(IF(ISBLANK(Datenerfassung!L451),\" \",Datenerfassung!L451 ),\" [IS]\"), CONCATENATE(IF(ISBLANK(Datenerfassung!M451),\" \",Datenerfassung!M451 ),\" [IS]\"), IF(ISBLANK(Datenerfassung!N451),\" \",Datenerfassung!N451 ) ))","v":""},{"$f":"IF(ISBLANK(Datenerfassung!V451),\"\",Datenerfassung!V451)","v":""},{"$f":"IF(ISBLANK(Datenerfassung!Q451),\"\",Datenerfassung!Q451)","v":""}]
[{"$f":"IF(ISBLANK(Datenerfassung!A452),\"\",Datenerfassung!A452)","v":""},{"$f":"IF(ISBLANK(Datenerfassung!B452),\"\",Datenerfassung!B452)","v":""},{"$f":"IF(ISBLANK(Datenerfassung!C452),\"\",Datenerfassung!C452)","v":""},{"$f":"IF(ISBLANK(Datenerfassung!R452),\"\",Datenerfassung!R452)","v":""},{"$f":"IF(ISBLANK(Datenerfassung!S452),\"\",Datenerfassung!S452)","v":""},"",{"$f":"IF(ISBLANK(Datenerfassung!U452),\"\",Datenerfassung!U452)","v":""},{"$f":"IF(ISBLANK(Datenerfassung!O452),\"\",Datenerfassung!O452)","v":""},{"$f":"IF(ISBLANK(Datenerfassung!D452),IF(COUNTBLANK(A442:H442)+COUNTBLANK(J442:O442)=14,\"\",\"- ohne Titel -\"),Datenerfassung!D452)","v":""},{"$f":"IF(ISBLANK(Datenerfassung!G452),\"\",Datenerfassung!G452)","v":""},"",{"$f":"IF(ISBLANK(Datenerfassung!X452),\"\",Datenerfassung!X452)","v":""},{"$f":"IF(COUNTBLANK(Datenerfassung!H452:'Datenerfassung'!N452)=7,\"\",CONCATENATE( CONCATENATE(IF(ISBLANK(Datenerfassung!H452),\" \",Datenerfassung!H452 ),\" [IS]\"), CONCATENATE(IF(ISBLANK(Datenerfassung!I452),\" \",Datenerfassung!I452 ),\" [IS]\"), CONCATENATE(IF(ISBLANK(Datenerfassung!J452),\" \",Datenerfassung!J452 ),\" [IS]\"), CONCATENATE(IF(ISBLANK(Datenerfassung!K452),\" \",Datenerfassung!K452 ),\" [IS]\"), CONCATENATE(IF(ISBLANK(Datenerfassung!L452),\" \",Datenerfassung!L452 ),\" [IS]\"), CONCATENATE(IF(ISBLANK(Datenerfassung!M452),\" \",Datenerfassung!M452 ),\" [IS]\"), IF(ISBLANK(Datenerfassung!N452),\" \",Datenerfassung!N452 ) ))","v":""},{"$f":"IF(ISBLANK(Datenerfassung!V452),\"\",Datenerfassung!V452)","v":""},{"$f":"IF(ISBLANK(Datenerfassung!Q452),\"\",Datenerfassung!Q452)","v":""}]
[{"$f":"IF(ISBLANK(Datenerfassung!A453),\"\",Datenerfassung!A453)","v":""},{"$f":"IF(ISBLANK(Datenerfassung!B453),\"\",Datenerfassung!B453)","v":""},{"$f":"IF(ISBLANK(Datenerfassung!C453),\"\",Datenerfassung!C453)","v":""},{"$f":"IF(ISBLANK(Datenerfassung!R453),\"\",Datenerfassung!R453)","v":""},{"$f":"IF(ISBLANK(Datenerfassung!S453),\"\",Datenerfassung!S453)","v":""},"",{"$f":"IF(ISBLANK(Datenerfassung!U453),\"\",Datenerfassung!U453)","v":""},{"$f":"IF(ISBLANK(Datenerfassung!O453),\"\",Datenerfassung!O453)","v":""},{"$f":"IF(ISBLANK(Datenerfassung!D453),IF(COUNTBLANK(A443:H443)+COUNTBLANK(J443:O443)=14,\"\",\"- ohne Titel -\"),Datenerfassung!D453)","v":""},{"$f":"IF(ISBLANK(Datenerfassung!G453),\"\",Datenerfassung!G453)","v":""},"",{"$f":"IF(ISBLANK(Datenerfassung!X453),\"\",Datenerfassung!X453)","v":""},{"$f":"IF(COUNTBLANK(Datenerfassung!H453:'Datenerfassung'!N453)=7,\"\",CONCATENATE( CONCATENATE(IF(ISBLANK(Datenerfassung!H453),\" \",Datenerfassung!H453 ),\" [IS]\"), CONCATENATE(IF(ISBLANK(Datenerfassung!I453),\" \",Datenerfassung!I453 ),\" [IS]\"), CONCATENATE(IF(ISBLANK(Datenerfassung!J453),\" \",Datenerfassung!J453 ),\" [IS]\"), CONCATENATE(IF(ISBLANK(Datenerfassung!K453),\" \",Datenerfassung!K453 ),\" [IS]\"), CONCATENATE(IF(ISBLANK(Datenerfassung!L453),\" \",Datenerfassung!L453 ),\" [IS]\"), CONCATENATE(IF(ISBLANK(Datenerfassung!M453),\" \",Datenerfassung!M453 ),\" [IS]\"), IF(ISBLANK(Datenerfassung!N453),\" \",Datenerfassung!N453 ) ))","v":""},{"$f":"IF(ISBLANK(Datenerfassung!V453),\"\",Datenerfassung!V453)","v":""},{"$f":"IF(ISBLANK(Datenerfassung!Q453),\"\",Datenerfassung!Q453)","v":""}]
[{"$f":"IF(ISBLANK(Datenerfassung!A454),\"\",Datenerfassung!A454)","v":""},{"$f":"IF(ISBLANK(Datenerfassung!B454),\"\",Datenerfassung!B454)","v":""},{"$f":"IF(ISBLANK(Datenerfassung!C454),\"\",Datenerfassung!C454)","v":""},{"$f":"IF(ISBLANK(Datenerfassung!R454),\"\",Datenerfassung!R454)","v":""},{"$f":"IF(ISBLANK(Datenerfassung!S454),\"\",Datenerfassung!S454)","v":""},"",{"$f":"IF(ISBLANK(Datenerfassung!U454),\"\",Datenerfassung!U454)","v":""},{"$f":"IF(ISBLANK(Datenerfassung!O454),\"\",Datenerfassung!O454)","v":""},{"$f":"IF(ISBLANK(Datenerfassung!D454),IF(COUNTBLANK(A444:H444)+COUNTBLANK(J444:O444)=14,\"\",\"- ohne Titel -\"),Datenerfassung!D454)","v":""},{"$f":"IF(ISBLANK(Datenerfassung!G454),\"\",Datenerfassung!G454)","v":""},"",{"$f":"IF(ISBLANK(Datenerfassung!X454),\"\",Datenerfassung!X454)","v":""},{"$f":"IF(COUNTBLANK(Datenerfassung!H454:'Datenerfassung'!N454)=7,\"\",CONCATENATE( CONCATENATE(IF(ISBLANK(Datenerfassung!H454),\" \",Datenerfassung!H454 ),\" [IS]\"), CONCATENATE(IF(ISBLANK(Datenerfassung!I454),\" \",Datenerfassung!I454 ),\" [IS]\"), CONCATENATE(IF(ISBLANK(Datenerfassung!J454),\" \",Datenerfassung!J454 ),\" [IS]\"), CONCATENATE(IF(ISBLANK(Datenerfassung!K454),\" \",Datenerfassung!K454 ),\" [IS]\"), CONCATENATE(IF(ISBLANK(Datenerfassung!L454),\" \",Datenerfassung!L454 ),\" [IS]\"), CONCATENATE(IF(ISBLANK(Datenerfassung!M454),\" \",Datenerfassung!M454 ),\" [IS]\"), IF(ISBLANK(Datenerfassung!N454),\" \",Datenerfassung!N454 ) ))","v":""},{"$f":"IF(ISBLANK(Datenerfassung!V454),\"\",Datenerfassung!V454)","v":""},{"$f":"IF(ISBLANK(Datenerfassung!Q454),\"\",Datenerfassung!Q454)","v":""}]
[{"$f":"IF(ISBLANK(Datenerfassung!A455),\"\",Datenerfassung!A455)","v":""},{"$f":"IF(ISBLANK(Datenerfassung!B455),\"\",Datenerfassung!B455)","v":""},{"$f":"IF(ISBLANK(Datenerfassung!C455),\"\",Datenerfassung!C455)","v":""},{"$f":"IF(ISBLANK(Datenerfassung!R455),\"\",Datenerfassung!R455)","v":""},{"$f":"IF(ISBLANK(Datenerfassung!S455),\"\",Datenerfassung!S455)","v":""},"",{"$f":"IF(ISBLANK(Datenerfassung!U455),\"\",Datenerfassung!U455)","v":""},{"$f":"IF(ISBLANK(Datenerfassung!O455),\"\",Datenerfassung!O455)","v":""},{"$f":"IF(ISBLANK(Datenerfassung!D455),IF(COUNTBLANK(A445:H445)+COUNTBLANK(J445:O445)=14,\"\",\"- ohne Titel -\"),Datenerfassung!D455)","v":""},{"$f":"IF(ISBLANK(Datenerfassung!G455),\"\",Datenerfassung!G455)","v":""},"",{"$f":"IF(ISBLANK(Datenerfassung!X455),\"\",Datenerfassung!X455)","v":""},{"$f":"IF(COUNTBLANK(Datenerfassung!H455:'Datenerfassung'!N455)=7,\"\",CONCATENATE( CONCATENATE(IF(ISBLANK(Datenerfassung!H455),\" \",Datenerfassung!H455 ),\" [IS]\"), CONCATENATE(IF(ISBLANK(Datenerfassung!I455),\" \",Datenerfassung!I455 ),\" [IS]\"), CONCATENATE(IF(ISBLANK(Datenerfassung!J455),\" \",Datenerfassung!J455 ),\" [IS]\"), CONCATENATE(IF(ISBLANK(Datenerfassung!K455),\" \",Datenerfassung!K455 ),\" [IS]\"), CONCATENATE(IF(ISBLANK(Datenerfassung!L455),\" \",Datenerfassung!L455 ),\" [IS]\"), CONCATENATE(IF(ISBLANK(Datenerfassung!M455),\" \",Datenerfassung!M455 ),\" [IS]\"), IF(ISBLANK(Datenerfassung!N455),\" \",Datenerfassung!N455 ) ))","v":""},{"$f":"IF(ISBLANK(Datenerfassung!V455),\"\",Datenerfassung!V455)","v":""},{"$f":"IF(ISBLANK(Datenerfassung!Q455),\"\",Datenerfassung!Q455)","v":""}]
[{"$f":"IF(ISBLANK(Datenerfassung!A456),\"\",Datenerfassung!A456)","v":""},{"$f":"IF(ISBLANK(Datenerfassung!B456),\"\",Datenerfassung!B456)","v":""},{"$f":"IF(ISBLANK(Datenerfassung!C456),\"\",Datenerfassung!C456)","v":""},{"$f":"IF(ISBLANK(Datenerfassung!R456),\"\",Datenerfassung!R456)","v":""},{"$f":"IF(ISBLANK(Datenerfassung!S456),\"\",Datenerfassung!S456)","v":""},"",{"$f":"IF(ISBLANK(Datenerfassung!U456),\"\",Datenerfassung!U456)","v":""},{"$f":"IF(ISBLANK(Datenerfassung!O456),\"\",Datenerfassung!O456)","v":""},{"$f":"IF(ISBLANK(Datenerfassung!D456),IF(COUNTBLANK(A446:H446)+COUNTBLANK(J446:O446)=14,\"\",\"- ohne Titel -\"),Datenerfassung!D456)","v":""},{"$f":"IF(ISBLANK(Datenerfassung!G456),\"\",Datenerfassung!G456)","v":""},"",{"$f":"IF(ISBLANK(Datenerfassung!X456),\"\",Datenerfassung!X456)","v":""},{"$f":"IF(COUNTBLANK(Datenerfassung!H456:'Datenerfassung'!N456)=7,\"\",CONCATENATE( CONCATENATE(IF(ISBLANK(Datenerfassung!H456),\" \",Datenerfassung!H456 ),\" [IS]\"), CONCATENATE(IF(ISBLANK(Datenerfassung!I456),\" \",Datenerfassung!I456 ),\" [IS]\"), CONCATENATE(IF(ISBLANK(Datenerfassung!J456),\" \",Datenerfassung!J456 ),\" [IS]\"), CONCATENATE(IF(ISBLANK(Datenerfassung!K456),\" \",Datenerfassung!K456 ),\" [IS]\"), CONCATENATE(IF(ISBLANK(Datenerfassung!L456),\" \",Datenerfassung!L456 ),\" [IS]\"), CONCATENATE(IF(ISBLANK(Datenerfassung!M456),\" \",Datenerfassung!M456 ),\" [IS]\"), IF(ISBLANK(Datenerfassung!N456),\" \",Datenerfassung!N456 ) ))","v":""},{"$f":"IF(ISBLANK(Datenerfassung!V456),\"\",Datenerfassung!V456)","v":""},{"$f":"IF(ISBLANK(Datenerfassung!Q456),\"\",Datenerfassung!Q456)","v":""}]
[{"$f":"IF(ISBLANK(Datenerfassung!A457),\"\",Datenerfassung!A457)","v":""},{"$f":"IF(ISBLANK(Datenerfassung!B457),\"\",Datenerfassung!B457)","v":""},{"$f":"IF(ISBLANK(Datenerfassung!C457),\"\",Datenerfassung!C457)","v":""},{"$f":"IF(ISBLANK(Datenerfassung!R457),\"\",Datenerfassung!R457)","v":""},{"$f":"IF(ISBLANK(Datenerfassung!S457),\"\",Datenerfassung!S457)","v":""},"",{"$f":"IF(ISBLANK(Datenerfassung!U457),\"\",Datenerfassung!U457)","v":""},{"$f":"IF(ISBLANK(Datenerfassung!O457),\"\",Datenerfassung!O457)","v":""},{"$f":"IF(ISBLANK(Datenerfassung!D457),IF(COUNTBLANK(A447:H447)+COUNTBLANK(J447:O447)=14,\"\",\"- ohne Titel -\"),Datenerfassung!D457)","v":""},{"$f":"IF(ISBLANK(Datenerfassung!G457),\"\",Datenerfassung!G457)","v":""},"",{"$f":"IF(ISBLANK(Datenerfassung!X457),\"\",Datenerfassung!X457)","v":""},{"$f":"IF(COUNTBLANK(Datenerfassung!H457:'Datenerfassung'!N457)=7,\"\",CONCATENATE( CONCATENATE(IF(ISBLANK(Datenerfassung!H457),\" \",Datenerfassung!H457 ),\" [IS]\"), CONCATENATE(IF(ISBLANK(Datenerfassung!I457),\" \",Datenerfassung!I457 ),\" [IS]\"), CONCATENATE(IF(ISBLANK(Datenerfassung!J457),\" \",Datenerfassung!J457 ),\" [IS]\"), CONCATENATE(IF(ISBLANK(Datenerfassung!K457),\" \",Datenerfassung!K457 ),\" [IS]\"), CONCATENATE(IF(ISBLANK(Datenerfassung!L457),\" \",Datenerfassung!L457 ),\" [IS]\"), CONCATENATE(IF(ISBLANK(Datenerfassung!M457),\" \",Datenerfassung!M457 ),\" [IS]\"), IF(ISBLANK(Datenerfassung!N457),\" \",Datenerfassung!N457 ) ))","v":""},{"$f":"IF(ISBLANK(Datenerfassung!V457),\"\",Datenerfassung!V457)","v":""},{"$f":"IF(ISBLANK(Datenerfassung!Q457),\"\",Datenerfassung!Q457)","v":""}]
[{"$f":"IF(ISBLANK(Datenerfassung!A458),\"\",Datenerfassung!A458)","v":""},{"$f":"IF(ISBLANK(Datenerfassung!B458),\"\",Datenerfassung!B458)","v":""},{"$f":"IF(ISBLANK(Datenerfassung!C458),\"\",Datenerfassung!C458)","v":""},{"$f":"IF(ISBLANK(Datenerfassung!R458),\"\",Datenerfassung!R458)","v":""},{"$f":"IF(ISBLANK(Datenerfassung!S458),\"\",Datenerfassung!S458)","v":""},"",{"$f":"IF(ISBLANK(Datenerfassung!U458),\"\",Datenerfassung!U458)","v":""},{"$f":"IF(ISBLANK(Datenerfassung!O458),\"\",Datenerfassung!O458)","v":""},{"$f":"IF(ISBLANK(Datenerfassung!D458),IF(COUNTBLANK(A448:H448)+COUNTBLANK(J448:O448)=14,\"\",\"- ohne Titel -\"),Datenerfassung!D458)","v":""},{"$f":"IF(ISBLANK(Datenerfassung!G458),\"\",Datenerfassung!G458)","v":""},"",{"$f":"IF(ISBLANK(Datenerfassung!X458),\"\",Datenerfassung!X458)","v":""},{"$f":"IF(COUNTBLANK(Datenerfassung!H458:'Datenerfassung'!N458)=7,\"\",CONCATENATE( CONCATENATE(IF(ISBLANK(Datenerfassung!H458),\" \",Datenerfassung!H458 ),\" [IS]\"), CONCATENATE(IF(ISBLANK(Datenerfassung!I458),\" \",Datenerfassung!I458 ),\" [IS]\"), CONCATENATE(IF(ISBLANK(Datenerfassung!J458),\" \",Datenerfassung!J458 ),\" [IS]\"), CONCATENATE(IF(ISBLANK(Datenerfassung!K458),\" \",Datenerfassung!K458 ),\" [IS]\"), CONCATENATE(IF(ISBLANK(Datenerfassung!L458),\" \",Datenerfassung!L458 ),\" [IS]\"), CONCATENATE(IF(ISBLANK(Datenerfassung!M458),\" \",Datenerfassung!M458 ),\" [IS]\"), IF(ISBLANK(Datenerfassung!N458),\" \",Datenerfassung!N458 ) ))","v":""},{"$f":"IF(ISBLANK(Datenerfassung!V458),\"\",Datenerfassung!V458)","v":""},{"$f":"IF(ISBLANK(Datenerfassung!Q458),\"\",Datenerfassung!Q458)","v":""}]
[{"$f":"IF(ISBLANK(Datenerfassung!A459),\"\",Datenerfassung!A459)","v":""},{"$f":"IF(ISBLANK(Datenerfassung!B459),\"\",Datenerfassung!B459)","v":""},{"$f":"IF(ISBLANK(Datenerfassung!C459),\"\",Datenerfassung!C459)","v":""},{"$f":"IF(ISBLANK(Datenerfassung!R459),\"\",Datenerfassung!R459)","v":""},{"$f":"IF(ISBLANK(Datenerfassung!S459),\"\",Datenerfassung!S459)","v":""},"",{"$f":"IF(ISBLANK(Datenerfassung!U459),\"\",Datenerfassung!U459)","v":""},{"$f":"IF(ISBLANK(Datenerfassung!O459),\"\",Datenerfassung!O459)","v":""},{"$f":"IF(ISBLANK(Datenerfassung!D459),IF(COUNTBLANK(A449:H449)+COUNTBLANK(J449:O449)=14,\"\",\"- ohne Titel -\"),Datenerfassung!D459)","v":""},{"$f":"IF(ISBLANK(Datenerfassung!G459),\"\",Datenerfassung!G459)","v":""},"",{"$f":"IF(ISBLANK(Datenerfassung!X459),\"\",Datenerfassung!X459)","v":""},{"$f":"IF(COUNTBLANK(Datenerfassung!H459:'Datenerfassung'!N459)=7,\"\",CONCATENATE( CONCATENATE(IF(ISBLANK(Datenerfassung!H459),\" \",Datenerfassung!H459 ),\" [IS]\"), CONCATENATE(IF(ISBLANK(Datenerfassung!I459),\" \",Datenerfassung!I459 ),\" [IS]\"), CONCATENATE(IF(ISBLANK(Datenerfassung!J459),\" \",Datenerfassung!J459 ),\" [IS]\"), CONCATENATE(IF(ISBLANK(Datenerfassung!K459),\" \",Datenerfassung!K459 ),\" [IS]\"), CONCATENATE(IF(ISBLANK(Datenerfassung!L459),\" \",Datenerfassung!L459 ),\" [IS]\"), CONCATENATE(IF(ISBLANK(Datenerfassung!M459),\" \",Datenerfassung!M459 ),\" [IS]\"), IF(ISBLANK(Datenerfassung!N459),\" \",Datenerfassung!N459 ) ))","v":""},{"$f":"IF(ISBLANK(Datenerfassung!V459),\"\",Datenerfassung!V459)","v":""},{"$f":"IF(ISBLANK(Datenerfassung!Q459),\"\",Datenerfassung!Q459)","v":""}]
[{"$f":"IF(ISBLANK(Datenerfassung!A460),\"\",Datenerfassung!A460)","v":""},{"$f":"IF(ISBLANK(Datenerfassung!B460),\"\",Datenerfassung!B460)","v":""},{"$f":"IF(ISBLANK(Datenerfassung!C460),\"\",Datenerfassung!C460)","v":""},{"$f":"IF(ISBLANK(Datenerfassung!R460),\"\",Datenerfassung!R460)","v":""},{"$f":"IF(ISBLANK(Datenerfassung!S460),\"\",Datenerfassung!S460)","v":""},"",{"$f":"IF(ISBLANK(Datenerfassung!U460),\"\",Datenerfassung!U460)","v":""},{"$f":"IF(ISBLANK(Datenerfassung!O460),\"\",Datenerfassung!O460)","v":""},{"$f":"IF(ISBLANK(Datenerfassung!D460),IF(COUNTBLANK(A450:H450)+COUNTBLANK(J450:O450)=14,\"\",\"- ohne Titel -\"),Datenerfassung!D460)","v":""},{"$f":"IF(ISBLANK(Datenerfassung!G460),\"\",Datenerfassung!G460)","v":""},"",{"$f":"IF(ISBLANK(Datenerfassung!X460),\"\",Datenerfassung!X460)","v":""},{"$f":"IF(COUNTBLANK(Datenerfassung!H460:'Datenerfassung'!N460)=7,\"\",CONCATENATE( CONCATENATE(IF(ISBLANK(Datenerfassung!H460),\" \",Datenerfassung!H460 ),\" [IS]\"), CONCATENATE(IF(ISBLANK(Datenerfassung!I460),\" \",Datenerfassung!I460 ),\" [IS]\"), CONCATENATE(IF(ISBLANK(Datenerfassung!J460),\" \",Datenerfassung!J460 ),\" [IS]\"), CONCATENATE(IF(ISBLANK(Datenerfassung!K460),\" \",Datenerfassung!K460 ),\" [IS]\"), CONCATENATE(IF(ISBLANK(Datenerfassung!L460),\" \",Datenerfassung!L460 ),\" [IS]\"), CONCATENATE(IF(ISBLANK(Datenerfassung!M460),\" \",Datenerfassung!M460 ),\" [IS]\"), IF(ISBLANK(Datenerfassung!N460),\" \",Datenerfassung!N460 ) ))","v":""},{"$f":"IF(ISBLANK(Datenerfassung!V460),\"\",Datenerfassung!V460)","v":""},{"$f":"IF(ISBLANK(Datenerfassung!Q460),\"\",Datenerfassung!Q460)","v":""}]
[{"$f":"IF(ISBLANK(Datenerfassung!A461),\"\",Datenerfassung!A461)","v":""},{"$f":"IF(ISBLANK(Datenerfassung!B461),\"\",Datenerfassung!B461)","v":""},{"$f":"IF(ISBLANK(Datenerfassung!C461),\"\",Datenerfassung!C461)","v":""},{"$f":"IF(ISBLANK(Datenerfassung!R461),\"\",Datenerfassung!R461)","v":""},{"$f":"IF(ISBLANK(Datenerfassung!S461),\"\",Datenerfassung!S461)","v":""},{"$f":"IF(D451=\"\",\"\",IF(E451=\"\",D451,D451&\" - \"&E451))","v":""},{"$f":"IF(ISBLANK(Datenerfassung!U461),\"\",Datenerfassung!U461)","v":""},{"$f":"IF(ISBLANK(Datenerfassung!O461),\"\",Datenerfassung!O461)","v":""},{"$f":"IF(ISBLANK(Datenerfassung!D461),IF(COUNTBLANK(A451:H451)+COUNTBLANK(J451:O451)=14,\"\",\"- ohne Titel -\"),Datenerfassung!D461)","v":""},{"$f":"IF(ISBLANK(Datenerfassung!G461),\"\",Datenerfassung!G461)","v":""},{"$f":"IF(OR(E451=\"\",G451=\"\"),\"\",\"01.01.\"&RIGHT(E451,4)+G451+1)","v":""},{"$f":"IF(ISBLANK(Datenerfassung!X461),\"\",Datenerfassung!X461)","v":""},{"$f":"IF(COUNTBLANK(Datenerfassung!H461:'Datenerfassung'!N461)=7,\"\",CONCATENATE( CONCATENATE(IF(ISBLANK(Datenerfassung!H461),\" \",Datenerfassung!H461 ),\" [IS]\"), CONCATENATE(IF(ISBLANK(Datenerfassung!I461),\" \",Datenerfassung!I461 ),\" [IS]\"), CONCATENATE(IF(ISBLANK(Datenerfassung!J461),\" \",Datenerfassung!J461 ),\" [IS]\"), CONCATENATE(IF(ISBLANK(Datenerfassung!K461),\" \",Datenerfassung!K461 ),\" [IS]\"), CONCATENATE(IF(ISBLANK(Datenerfassung!L461),\" \",Datenerfassung!L461 ),\" [IS]\"), CONCATENATE(IF(ISBLANK(Datenerfassung!M461),\" \",Datenerfassung!M461 ),\" [IS]\"), IF(ISBLANK(Datenerfassung!N461),\" \",Datenerfassung!N461 ) ))","v":""},{"$f":"IF(ISBLANK(Datenerfassung!V461),\"\",Datenerfassung!V461)","v":""},{"$f":"IF(ISBLANK(Datenerfassung!Q461),\"\",Datenerfassung!Q461)","v":""}]
[{"$f":"IF(ISBLANK(Datenerfassung!A462),\"\",Datenerfassung!A462)","v":""},{"$f":"IF(ISBLANK(Datenerfassung!B462),\"\",Datenerfassung!B462)","v":""},{"$f":"IF(ISBLANK(Datenerfassung!C462),\"\",Datenerfassung!C462)","v":""},{"$f":"IF(ISBLANK(Datenerfassung!R462),\"\",Datenerfassung!R462)","v":""},{"$f":"IF(ISBLANK(Datenerfassung!S462),\"\",Datenerfassung!S462)","v":""},"",{"$f":"IF(ISBLANK(Datenerfassung!U462),\"\",Datenerfassung!U462)","v":""},{"$f":"IF(ISBLANK(Datenerfassung!O462),\"\",Datenerfassung!O462)","v":""},{"$f":"IF(ISBLANK(Datenerfassung!D462),IF(COUNTBLANK(A452:H452)+COUNTBLANK(J452:O452)=14,\"\",\"- ohne Titel -\"),Datenerfassung!D462)","v":""},{"$f":"IF(ISBLANK(Datenerfassung!G462),\"\",Datenerfassung!G462)","v":""},"",{"$f":"IF(ISBLANK(Datenerfassung!X462),\"\",Datenerfassung!X462)","v":""},{"$f":"IF(COUNTBLANK(Datenerfassung!H462:'Datenerfassung'!N462)=7,\"\",CONCATENATE( CONCATENATE(IF(ISBLANK(Datenerfassung!H462),\" \",Datenerfassung!H462 ),\" [IS]\"), CONCATENATE(IF(ISBLANK(Datenerfassung!I462),\" \",Datenerfassung!I462 ),\" [IS]\"), CONCATENATE(IF(ISBLANK(Datenerfassung!J462),\" \",Datenerfassung!J462 ),\" [IS]\"), CONCATENATE(IF(ISBLANK(Datenerfassung!K462),\" \",Datenerfassung!K462 ),\" [IS]\"), CONCATENATE(IF(ISBLANK(Datenerfassung!L462),\" \",Datenerfassung!L462 ),\" [IS]\"), CONCATENATE(IF(ISBLANK(Datenerfassung!M462),\" \",Datenerfassung!M462 ),\" [IS]\"), IF(ISBLANK(Datenerfassung!N462),\" \",Datenerfassung!N462 ) ))","v":""},{"$f":"IF(ISBLANK(Datenerfassung!V462),\"\",Datenerfassung!V462)","v":""},{"$f":"IF(ISBLANK(Datenerfassung!Q462),\"\",Datenerfassung!Q462)","v":""}]
[{"$f":"IF(ISBLANK(Datenerfassung!A463),\"\",Datenerfassung!A463)","v":""},{"$f":"IF(ISBLANK(Datenerfassung!B463),\"\",Datenerfassung!B463)","v":""},{"$f":"IF(ISBLANK(Datenerfassung!C463),\"\",Datenerfassung!C463)","v":""},{"$f":"IF(ISBLANK(Datenerfassung!R463),\"\",Datenerfassung!R463)","v":""},{"$f":"IF(ISBLANK(Datenerfassung!S463),\"\",Datenerfassung!S463)","v":""},"",{"$f":"IF(ISBLANK(Datenerfassung!U463),\"\",Datenerfassung!U463)","v":""},{"$f":"IF(ISBLANK(Datenerfassung!O463),\"\",Datenerfassung!O463)","v":""},{"$f":"IF(ISBLANK(Datenerfassung!D463),IF(COUNTBLANK(A453:H453)+COUNTBLANK(J453:O453)=14,\"\",\"- ohne Titel -\"),Datenerfassung!D463)","v":""},{"$f":"IF(ISBLANK(Datenerfassung!G463),\"\",Datenerfassung!G463)","v":""},"",{"$f":"IF(ISBLANK(Datenerfassung!X463),\"\",Datenerfassung!X463)","v":""},{"$f":"IF(COUNTBLANK(Datenerfassung!H463:'Datenerfassung'!N463)=7,\"\",CONCATENATE( CONCATENATE(IF(ISBLANK(Datenerfassung!H463),\" \",Datenerfassung!H463 ),\" [IS]\"), CONCATENATE(IF(ISBLANK(Datenerfassung!I463),\" \",Datenerfassung!I463 ),\" [IS]\"), CONCATENATE(IF(ISBLANK(Datenerfassung!J463),\" \",Datenerfassung!J463 ),\" [IS]\"), CONCATENATE(IF(ISBLANK(Datenerfassung!K463),\" \",Datenerfassung!K463 ),\" [IS]\"), CONCATENATE(IF(ISBLANK(Datenerfassung!L463),\" \",Datenerfassung!L463 ),\" [IS]\"), CONCATENATE(IF(ISBLANK(Datenerfassung!M463),\" \",Datenerfassung!M463 ),\" [IS]\"), IF(ISBLANK(Datenerfassung!N463),\" \",Datenerfassung!N463 ) ))","v":""},{"$f":"IF(ISBLANK(Datenerfassung!V463),\"\",Datenerfassung!V463)","v":""},{"$f":"IF(ISBLANK(Datenerfassung!Q463),\"\",Datenerfassung!Q463)","v":""}]
[{"$f":"IF(ISBLANK(Datenerfassung!A464),\"\",Datenerfassung!A464)","v":""},{"$f":"IF(ISBLANK(Datenerfassung!B464),\"\",Datenerfassung!B464)","v":""},{"$f":"IF(ISBLANK(Datenerfassung!C464),\"\",Datenerfassung!C464)","v":""},{"$f":"IF(ISBLANK(Datenerfassung!R464),\"\",Datenerfassung!R464)","v":""},{"$f":"IF(ISBLANK(Datenerfassung!S464),\"\",Datenerfassung!S464)","v":""},"",{"$f":"IF(ISBLANK(Datenerfassung!U464),\"\",Datenerfassung!U464)","v":""},{"$f":"IF(ISBLANK(Datenerfassung!O464),\"\",Datenerfassung!O464)","v":""},{"$f":"IF(ISBLANK(Datenerfassung!D464),IF(COUNTBLANK(A454:H454)+COUNTBLANK(J454:O454)=14,\"\",\"- ohne Titel -\"),Datenerfassung!D464)","v":""},{"$f":"IF(ISBLANK(Datenerfassung!G464),\"\",Datenerfassung!G464)","v":""},"",{"$f":"IF(ISBLANK(Datenerfassung!X464),\"\",Datenerfassung!X464)","v":""},{"$f":"IF(COUNTBLANK(Datenerfassung!H464:'Datenerfassung'!N464)=7,\"\",CONCATENATE( CONCATENATE(IF(ISBLANK(Datenerfassung!H464),\" \",Datenerfassung!H464 ),\" [IS]\"), CONCATENATE(IF(ISBLANK(Datenerfassung!I464),\" \",Datenerfassung!I464 ),\" [IS]\"), CONCATENATE(IF(ISBLANK(Datenerfassung!J464),\" \",Datenerfassung!J464 ),\" [IS]\"), CONCATENATE(IF(ISBLANK(Datenerfassung!K464),\" \",Datenerfassung!K464 ),\" [IS]\"), CONCATENATE(IF(ISBLANK(Datenerfassung!L464),\" \",Datenerfassung!L464 ),\" [IS]\"), CONCATENATE(IF(ISBLANK(Datenerfassung!M464),\" \",Datenerfassung!M464 ),\" [IS]\"), IF(ISBLANK(Datenerfassung!N464),\" \",Datenerfassung!N464 ) ))","v":""},{"$f":"IF(ISBLANK(Datenerfassung!V464),\"\",Datenerfassung!V464)","v":""},{"$f":"IF(ISBLANK(Datenerfassung!Q464),\"\",Datenerfassung!Q464)","v":""}]
[{"$f":"IF(ISBLANK(Datenerfassung!A465),\"\",Datenerfassung!A465)","v":""},{"$f":"IF(ISBLANK(Datenerfassung!B465),\"\",Datenerfassung!B465)","v":""},{"$f":"IF(ISBLANK(Datenerfassung!C465),\"\",Datenerfassung!C465)","v":""},{"$f":"IF(ISBLANK(Datenerfassung!R465),\"\",Datenerfassung!R465)","v":""},{"$f":"IF(ISBLANK(Datenerfassung!S465),\"\",Datenerfassung!S465)","v":""},"",{"$f":"IF(ISBLANK(Datenerfassung!U465),\"\",Datenerfassung!U465)","v":""},{"$f":"IF(ISBLANK(Datenerfassung!O465),\"\",Datenerfassung!O465)","v":""},{"$f":"IF(ISBLANK(Datenerfassung!D465),IF(COUNTBLANK(A455:H455)+COUNTBLANK(J455:O455)=14,\"\",\"- ohne Titel -\"),Datenerfassung!D465)","v":""},{"$f":"IF(ISBLANK(Datenerfassung!G465),\"\",Datenerfassung!G465)","v":""},"",{"$f":"IF(ISBLANK(Datenerfassung!X465),\"\",Datenerfassung!X465)","v":""},{"$f":"IF(COUNTBLANK(Datenerfassung!H465:'Datenerfassung'!N465)=7,\"\",CONCATENATE( CONCATENATE(IF(ISBLANK(Datenerfassung!H465),\" \",Datenerfassung!H465 ),\" [IS]\"), CONCATENATE(IF(ISBLANK(Datenerfassung!I465),\" \",Datenerfassung!I465 ),\" [IS]\"), CONCATENATE(IF(ISBLANK(Datenerfassung!J465),\" \",Datenerfassung!J465 ),\" [IS]\"), CONCATENATE(IF(ISBLANK(Datenerfassung!K465),\" \",Datenerfassung!K465 ),\" [IS]\"), CONCATENATE(IF(ISBLANK(Datenerfassung!L465),\" \",Datenerfassung!L465 ),\" [IS]\"), CONCATENATE(IF(ISBLANK(Datenerfassung!M465),\" \",Datenerfassung!M465 ),\" [IS]\"), IF(ISBLANK(Datenerfassung!N465),\" \",Datenerfassung!N465 ) ))","v":""},{"$f":"IF(ISBLANK(Datenerfassung!V465),\"\",Datenerfassung!V465)","v":""},{"$f":"IF(ISBLANK(Datenerfassung!Q465),\"\",Datenerfassung!Q465)","v":""}]
[{"$f":"IF(ISBLANK(Datenerfassung!A466),\"\",Datenerfassung!A466)","v":""},{"$f":"IF(ISBLANK(Datenerfassung!B466),\"\",Datenerfassung!B466)","v":""},{"$f":"IF(ISBLANK(Datenerfassung!C466),\"\",Datenerfassung!C466)","v":""},{"$f":"IF(ISBLANK(Datenerfassung!R466),\"\",Datenerfassung!R466)","v":""},{"$f":"IF(ISBLANK(Datenerfassung!S466),\"\",Datenerfassung!S466)","v":""},"",{"$f":"IF(ISBLANK(Datenerfassung!U466),\"\",Datenerfassung!U466)","v":""},{"$f":"IF(ISBLANK(Datenerfassung!O466),\"\",Datenerfassung!O466)","v":""},{"$f":"IF(ISBLANK(Datenerfassung!D466),IF(COUNTBLANK(A456:H456)+COUNTBLANK(J456:O456)=14,\"\",\"- ohne Titel -\"),Datenerfassung!D466)","v":""},{"$f":"IF(ISBLANK(Datenerfassung!G466),\"\",Datenerfassung!G466)","v":""},"",{"$f":"IF(ISBLANK(Datenerfassung!X466),\"\",Datenerfassung!X466)","v":""},{"$f":"IF(COUNTBLANK(Datenerfassung!H466:'Datenerfassung'!N466)=7,\"\",CONCATENATE( CONCATENATE(IF(ISBLANK(Datenerfassung!H466),\" \",Datenerfassung!H466 ),\" [IS]\"), CONCATENATE(IF(ISBLANK(Datenerfassung!I466),\" \",Datenerfassung!I466 ),\" [IS]\"), CONCATENATE(IF(ISBLANK(Datenerfassung!J466),\" \",Datenerfassung!J466 ),\" [IS]\"), CONCATENATE(IF(ISBLANK(Datenerfassung!K466),\" \",Datenerfassung!K466 ),\" [IS]\"), CONCATENATE(IF(ISBLANK(Datenerfassung!L466),\" \",Datenerfassung!L466 ),\" [IS]\"), CONCATENATE(IF(ISBLANK(Datenerfassung!M466),\" \",Datenerfassung!M466 ),\" [IS]\"), IF(ISBLANK(Datenerfassung!N466),\" \",Datenerfassung!N466 ) ))","v":""},{"$f":"IF(ISBLANK(Datenerfassung!V466),\"\",Datenerfassung!V466)","v":""},{"$f":"IF(ISBLANK(Datenerfassung!Q466),\"\",Datenerfassung!Q466)","v":""}]
[{"$f":"IF(ISBLANK(Datenerfassung!A467),\"\",Datenerfassung!A467)","v":""},{"$f":"IF(ISBLANK(Datenerfassung!B467),\"\",Datenerfassung!B467)","v":""},{"$f":"IF(ISBLANK(Datenerfassung!C467),\"\",Datenerfassung!C467)","v":""},{"$f":"IF(ISBLANK(Datenerfassung!R467),\"\",Datenerfassung!R467)","v":""},{"$f":"IF(ISBLANK(Datenerfassung!S467),\"\",Datenerfassung!S467)","v":""},"",{"$f":"IF(ISBLANK(Datenerfassung!U467),\"\",Datenerfassung!U467)","v":""},{"$f":"IF(ISBLANK(Datenerfassung!O467),\"\",Datenerfassung!O467)","v":""},{"$f":"IF(ISBLANK(Datenerfassung!D467),IF(COUNTBLANK(A457:H457)+COUNTBLANK(J457:O457)=14,\"\",\"- ohne Titel -\"),Datenerfassung!D467)","v":""},{"$f":"IF(ISBLANK(Datenerfassung!G467),\"\",Datenerfassung!G467)","v":""},"",{"$f":"IF(ISBLANK(Datenerfassung!X467),\"\",Datenerfassung!X467)","v":""},{"$f":"IF(COUNTBLANK(Datenerfassung!H467:'Datenerfassung'!N467)=7,\"\",CONCATENATE( CONCATENATE(IF(ISBLANK(Datenerfassung!H467),\" \",Datenerfassung!H467 ),\" [IS]\"), CONCATENATE(IF(ISBLANK(Datenerfassung!I467),\" \",Datenerfassung!I467 ),\" [IS]\"), CONCATENATE(IF(ISBLANK(Datenerfassung!J467),\" \",Datenerfassung!J467 ),\" [IS]\"), CONCATENATE(IF(ISBLANK(Datenerfassung!K467),\" \",Datenerfassung!K467 ),\" [IS]\"), CONCATENATE(IF(ISBLANK(Datenerfassung!L467),\" \",Datenerfassung!L467 ),\" [IS]\"), CONCATENATE(IF(ISBLANK(Datenerfassung!M467),\" \",Datenerfassung!M467 ),\" [IS]\"), IF(ISBLANK(Datenerfassung!N467),\" \",Datenerfassung!N467 ) ))","v":""},{"$f":"IF(ISBLANK(Datenerfassung!V467),\"\",Datenerfassung!V467)","v":""},{"$f":"IF(ISBLANK(Datenerfassung!Q467),\"\",Datenerfassung!Q467)","v":""}]
[{"$f":"IF(ISBLANK(Datenerfassung!A468),\"\",Datenerfassung!A468)","v":""},{"$f":"IF(ISBLANK(Datenerfassung!B468),\"\",Datenerfassung!B468)","v":""},{"$f":"IF(ISBLANK(Datenerfassung!C468),\"\",Datenerfassung!C468)","v":""},{"$f":"IF(ISBLANK(Datenerfassung!R468),\"\",Datenerfassung!R468)","v":""},{"$f":"IF(ISBLANK(Datenerfassung!S468),\"\",Datenerfassung!S468)","v":""},"",{"$f":"IF(ISBLANK(Datenerfassung!U468),\"\",Datenerfassung!U468)","v":""},{"$f":"IF(ISBLANK(Datenerfassung!O468),\"\",Datenerfassung!O468)","v":""},{"$f":"IF(ISBLANK(Datenerfassung!D468),IF(COUNTBLANK(A458:H458)+COUNTBLANK(J458:O458)=14,\"\",\"- ohne Titel -\"),Datenerfassung!D468)","v":""},{"$f":"IF(ISBLANK(Datenerfassung!G468),\"\",Datenerfassung!G468)","v":""},"",{"$f":"IF(ISBLANK(Datenerfassung!X468),\"\",Datenerfassung!X468)","v":""},{"$f":"IF(COUNTBLANK(Datenerfassung!H468:'Datenerfassung'!N468)=7,\"\",CONCATENATE( CONCATENATE(IF(ISBLANK(Datenerfassung!H468),\" \",Datenerfassung!H468 ),\" [IS]\"), CONCATENATE(IF(ISBLANK(Datenerfassung!I468),\" \",Datenerfassung!I468 ),\" [IS]\"), CONCATENATE(IF(ISBLANK(Datenerfassung!J468),\" \",Datenerfassung!J468 ),\" [IS]\"), CONCATENATE(IF(ISBLANK(Datenerfassung!K468),\" \",Datenerfassung!K468 ),\" [IS]\"), CONCATENATE(IF(ISBLANK(Datenerfassung!L468),\" \",Datenerfassung!L468 ),\" [IS]\"), CONCATENATE(IF(ISBLANK(Datenerfassung!M468),\" \",Datenerfassung!M468 ),\" [IS]\"), IF(ISBLANK(Datenerfassung!N468),\" \",Datenerfassung!N468 ) ))","v":""},{"$f":"IF(ISBLANK(Datenerfassung!V468),\"\",Datenerfassung!V468)","v":""},{"$f":"IF(ISBLANK(Datenerfassung!Q468),\"\",Datenerfassung!Q468)","v":""}]
[{"$f":"IF(ISBLANK(Datenerfassung!A469),\"\",Datenerfassung!A469)","v":""},{"$f":"IF(ISBLANK(Datenerfassung!B469),\"\",Datenerfassung!B469)","v":""},{"$f":"IF(ISBLANK(Datenerfassung!C469),\"\",Datenerfassung!C469)","v":""},{"$f":"IF(ISBLANK(Datenerfassung!R469),\"\",Datenerfassung!R469)","v":""},{"$f":"IF(ISBLANK(Datenerfassung!S469),\"\",Datenerfassung!S469)","v":""},"",{"$f":"IF(ISBLANK(Datenerfassung!U469),\"\",Datenerfassung!U469)","v":""},{"$f":"IF(ISBLANK(Datenerfassung!O469),\"\",Datenerfassung!O469)","v":""},{"$f":"IF(ISBLANK(Datenerfassung!D469),IF(COUNTBLANK(A459:H459)+COUNTBLANK(J459:O459)=14,\"\",\"- ohne Titel -\"),Datenerfassung!D469)","v":""},{"$f":"IF(ISBLANK(Datenerfassung!G469),\"\",Datenerfassung!G469)","v":""},"",{"$f":"IF(ISBLANK(Datenerfassung!X469),\"\",Datenerfassung!X469)","v":""},{"$f":"IF(COUNTBLANK(Datenerfassung!H469:'Datenerfassung'!N469)=7,\"\",CONCATENATE( CONCATENATE(IF(ISBLANK(Datenerfassung!H469),\" \",Datenerfassung!H469 ),\" [IS]\"), CONCATENATE(IF(ISBLANK(Datenerfassung!I469),\" \",Datenerfassung!I469 ),\" [IS]\"), CONCATENATE(IF(ISBLANK(Datenerfassung!J469),\" \",Datenerfassung!J469 ),\" [IS]\"), CONCATENATE(IF(ISBLANK(Datenerfassung!K469),\" \",Datenerfassung!K469 ),\" [IS]\"), CONCATENATE(IF(ISBLANK(Datenerfassung!L469),\" \",Datenerfassung!L469 ),\" [IS]\"), CONCATENATE(IF(ISBLANK(Datenerfassung!M469),\" \",Datenerfassung!M469 ),\" [IS]\"), IF(ISBLANK(Datenerfassung!N469),\" \",Datenerfassung!N469 ) ))","v":""},{"$f":"IF(ISBLANK(Datenerfassung!V469),\"\",Datenerfassung!V469)","v":""},{"$f":"IF(ISBLANK(Datenerfassung!Q469),\"\",Datenerfassung!Q469)","v":""}]
[{"$f":"IF(ISBLANK(Datenerfassung!A470),\"\",Datenerfassung!A470)","v":""},{"$f":"IF(ISBLANK(Datenerfassung!B470),\"\",Datenerfassung!B470)","v":""},{"$f":"IF(ISBLANK(Datenerfassung!C470),\"\",Datenerfassung!C470)","v":""},{"$f":"IF(ISBLANK(Datenerfassung!R470),\"\",Datenerfassung!R470)","v":""},{"$f":"IF(ISBLANK(Datenerfassung!S470),\"\",Datenerfassung!S470)","v":""},"",{"$f":"IF(ISBLANK(Datenerfassung!U470),\"\",Datenerfassung!U470)","v":""},{"$f":"IF(ISBLANK(Datenerfassung!O470),\"\",Datenerfassung!O470)","v":""},{"$f":"IF(ISBLANK(Datenerfassung!D470),IF(COUNTBLANK(A460:H460)+COUNTBLANK(J460:O460)=14,\"\",\"- ohne Titel -\"),Datenerfassung!D470)","v":""},{"$f":"IF(ISBLANK(Datenerfassung!G470),\"\",Datenerfassung!G470)","v":""},"",{"$f":"IF(ISBLANK(Datenerfassung!X470),\"\",Datenerfassung!X470)","v":""},{"$f":"IF(COUNTBLANK(Datenerfassung!H470:'Datenerfassung'!N470)=7,\"\",CONCATENATE( CONCATENATE(IF(ISBLANK(Datenerfassung!H470),\" \",Datenerfassung!H470 ),\" [IS]\"), CONCATENATE(IF(ISBLANK(Datenerfassung!I470),\" \",Datenerfassung!I470 ),\" [IS]\"), CONCATENATE(IF(ISBLANK(Datenerfassung!J470),\" \",Datenerfassung!J470 ),\" [IS]\"), CONCATENATE(IF(ISBLANK(Datenerfassung!K470),\" \",Datenerfassung!K470 ),\" [IS]\"), CONCATENATE(IF(ISBLANK(Datenerfassung!L470),\" \",Datenerfassung!L470 ),\" [IS]\"), CONCATENATE(IF(ISBLANK(Datenerfassung!M470),\" \",Datenerfassung!M470 ),\" [IS]\"), IF(ISBLANK(Datenerfassung!N470),\" \",Datenerfassung!N470 ) ))","v":""},{"$f":"IF(ISBLANK(Datenerfassung!V470),\"\",Datenerfassung!V470)","v":""},{"$f":"IF(ISBLANK(Datenerfassung!Q470),\"\",Datenerfassung!Q470)","v":""}]
[{"$f":"IF(ISBLANK(Datenerfassung!A471),\"\",Datenerfassung!A471)","v":""},{"$f":"IF(ISBLANK(Datenerfassung!B471),\"\",Datenerfassung!B471)","v":""},{"$f":"IF(ISBLANK(Datenerfassung!C471),\"\",Datenerfassung!C471)","v":""},{"$f":"IF(ISBLANK(Datenerfassung!R471),\"\",Datenerfassung!R471)","v":""},{"$f":"IF(ISBLANK(Datenerfassung!S471),\"\",Datenerfassung!S471)","v":""},"",{"$f":"IF(ISBLANK(Datenerfassung!U471),\"\",Datenerfassung!U471)","v":""},{"$f":"IF(ISBLANK(Datenerfassung!O471),\"\",Datenerfassung!O471)","v":""},{"$f":"IF(ISBLANK(Datenerfassung!D471),IF(COUNTBLANK(A461:H461)+COUNTBLANK(J461:O461)=14,\"\",\"- ohne Titel -\"),Datenerfassung!D471)","v":""},{"$f":"IF(ISBLANK(Datenerfassung!G471),\"\",Datenerfassung!G471)","v":""},"",{"$f":"IF(ISBLANK(Datenerfassung!X471),\"\",Datenerfassung!X471)","v":""},{"$f":"IF(COUNTBLANK(Datenerfassung!H471:'Datenerfassung'!N471)=7,\"\",CONCATENATE( CONCATENATE(IF(ISBLANK(Datenerfassung!H471),\" \",Datenerfassung!H471 ),\" [IS]\"), CONCATENATE(IF(ISBLANK(Datenerfassung!I471),\" \",Datenerfassung!I471 ),\" [IS]\"), CONCATENATE(IF(ISBLANK(Datenerfassung!J471),\" \",Datenerfassung!J471 ),\" [IS]\"), CONCATENATE(IF(ISBLANK(Datenerfassung!K471),\" \",Datenerfassung!K471 ),\" [IS]\"), CONCATENATE(IF(ISBLANK(Datenerfassung!L471),\" \",Datenerfassung!L471 ),\" [IS]\"), CONCATENATE(IF(ISBLANK(Datenerfassung!M471),\" \",Datenerfassung!M471 ),\" [IS]\"), IF(ISBLANK(Datenerfassung!N471),\" \",Datenerfassung!N471 ) ))","v":""},{"$f":"IF(ISBLANK(Datenerfassung!V471),\"\",Datenerfassung!V471)","v":""},{"$f":"IF(ISBLANK(Datenerfassung!Q471),\"\",Datenerfassung!Q471)","v":""}]
[{"$f":"IF(ISBLANK(Datenerfassung!A472),\"\",Datenerfassung!A472)","v":""},{"$f":"IF(ISBLANK(Datenerfassung!B472),\"\",Datenerfassung!B472)","v":""},{"$f":"IF(ISBLANK(Datenerfassung!C472),\"\",Datenerfassung!C472)","v":""},{"$f":"IF(ISBLANK(Datenerfassung!R472),\"\",Datenerfassung!R472)","v":""},{"$f":"IF(ISBLANK(Datenerfassung!S472),\"\",Datenerfassung!S472)","v":""},"",{"$f":"IF(ISBLANK(Datenerfassung!U472),\"\",Datenerfassung!U472)","v":""},{"$f":"IF(ISBLANK(Datenerfassung!O472),\"\",Datenerfassung!O472)","v":""},{"$f":"IF(ISBLANK(Datenerfassung!D472),IF(COUNTBLANK(A462:H462)+COUNTBLANK(J462:O462)=14,\"\",\"- ohne Titel -\"),Datenerfassung!D472)","v":""},{"$f":"IF(ISBLANK(Datenerfassung!G472),\"\",Datenerfassung!G472)","v":""},"",{"$f":"IF(ISBLANK(Datenerfassung!X472),\"\",Datenerfassung!X472)","v":""},{"$f":"IF(COUNTBLANK(Datenerfassung!H472:'Datenerfassung'!N472)=7,\"\",CONCATENATE( CONCATENATE(IF(ISBLANK(Datenerfassung!H472),\" \",Datenerfassung!H472 ),\" [IS]\"), CONCATENATE(IF(ISBLANK(Datenerfassung!I472),\" \",Datenerfassung!I472 ),\" [IS]\"), CONCATENATE(IF(ISBLANK(Datenerfassung!J472),\" \",Datenerfassung!J472 ),\" [IS]\"), CONCATENATE(IF(ISBLANK(Datenerfassung!K472),\" \",Datenerfassung!K472 ),\" [IS]\"), CONCATENATE(IF(ISBLANK(Datenerfassung!L472),\" \",Datenerfassung!L472 ),\" [IS]\"), CONCATENATE(IF(ISBLANK(Datenerfassung!M472),\" \",Datenerfassung!M472 ),\" [IS]\"), IF(ISBLANK(Datenerfassung!N472),\" \",Datenerfassung!N472 ) ))","v":""},{"$f":"IF(ISBLANK(Datenerfassung!V472),\"\",Datenerfassung!V472)","v":""},{"$f":"IF(ISBLANK(Datenerfassung!Q472),\"\",Datenerfassung!Q472)","v":""}]
[{"$f":"IF(ISBLANK(Datenerfassung!A473),\"\",Datenerfassung!A473)","v":""},{"$f":"IF(ISBLANK(Datenerfassung!B473),\"\",Datenerfassung!B473)","v":""},{"$f":"IF(ISBLANK(Datenerfassung!C473),\"\",Datenerfassung!C473)","v":""},{"$f":"IF(ISBLANK(Datenerfassung!R473),\"\",Datenerfassung!R473)","v":""},{"$f":"IF(ISBLANK(Datenerfassung!S473),\"\",Datenerfassung!S473)","v":""},"",{"$f":"IF(ISBLANK(Datenerfassung!U473),\"\",Datenerfassung!U473)","v":""},{"$f":"IF(ISBLANK(Datenerfassung!O473),\"\",Datenerfassung!O473)","v":""},{"$f":"IF(ISBLANK(Datenerfassung!D473),IF(COUNTBLANK(A463:H463)+COUNTBLANK(J463:O463)=14,\"\",\"- ohne Titel -\"),Datenerfassung!D473)","v":""},{"$f":"IF(ISBLANK(Datenerfassung!G473),\"\",Datenerfassung!G473)","v":""},"",{"$f":"IF(ISBLANK(Datenerfassung!X473),\"\",Datenerfassung!X473)","v":""},{"$f":"IF(COUNTBLANK(Datenerfassung!H473:'Datenerfassung'!N473)=7,\"\",CONCATENATE( CONCATENATE(IF(ISBLANK(Datenerfassung!H473),\" \",Datenerfassung!H473 ),\" [IS]\"), CONCATENATE(IF(ISBLANK(Datenerfassung!I473),\" \",Datenerfassung!I473 ),\" [IS]\"), CONCATENATE(IF(ISBLANK(Datenerfassung!J473),\" \",Datenerfassung!J473 ),\" [IS]\"), CONCATENATE(IF(ISBLANK(Datenerfassung!K473),\" \",Datenerfassung!K473 ),\" [IS]\"), CONCATENATE(IF(ISBLANK(Datenerfassung!L473),\" \",Datenerfassung!L473 ),\" [IS]\"), CONCATENATE(IF(ISBLANK(Datenerfassung!M473),\" \",Datenerfassung!M473 ),\" [IS]\"), IF(ISBLANK(Datenerfassung!N473),\" \",Datenerfassung!N473 ) ))","v":""},{"$f":"IF(ISBLANK(Datenerfassung!V473),\"\",Datenerfassung!V473)","v":""},{"$f":"IF(ISBLANK(Datenerfassung!Q473),\"\",Datenerfassung!Q473)","v":""}]
[{"$f":"IF(ISBLANK(Datenerfassung!A474),\"\",Datenerfassung!A474)","v":""},{"$f":"IF(ISBLANK(Datenerfassung!B474),\"\",Datenerfassung!B474)","v":""},{"$f":"IF(ISBLANK(Datenerfassung!C474),\"\",Datenerfassung!C474)","v":""},{"$f":"IF(ISBLANK(Datenerfassung!R474),\"\",Datenerfassung!R474)","v":""},{"$f":"IF(ISBLANK(Datenerfassung!S474),\"\",Datenerfassung!S474)","v":""},"",{"$f":"IF(ISBLANK(Datenerfassung!U474),\"\",Datenerfassung!U474)","v":""},{"$f":"IF(ISBLANK(Datenerfassung!O474),\"\",Datenerfassung!O474)","v":""},{"$f":"IF(ISBLANK(Datenerfassung!D474),IF(COUNTBLANK(A464:H464)+COUNTBLANK(J464:O464)=14,\"\",\"- ohne Titel -\"),Datenerfassung!D474)","v":""},{"$f":"IF(ISBLANK(Datenerfassung!G474),\"\",Datenerfassung!G474)","v":""},"",{"$f":"IF(ISBLANK(Datenerfassung!X474),\"\",Datenerfassung!X474)","v":""},{"$f":"IF(COUNTBLANK(Datenerfassung!H474:'Datenerfassung'!N474)=7,\"\",CONCATENATE( CONCATENATE(IF(ISBLANK(Datenerfassung!H474),\" \",Datenerfassung!H474 ),\" [IS]\"), CONCATENATE(IF(ISBLANK(Datenerfassung!I474),\" \",Datenerfassung!I474 ),\" [IS]\"), CONCATENATE(IF(ISBLANK(Datenerfassung!J474),\" \",Datenerfassung!J474 ),\" [IS]\"), CONCATENATE(IF(ISBLANK(Datenerfassung!K474),\" \",Datenerfassung!K474 ),\" [IS]\"), CONCATENATE(IF(ISBLANK(Datenerfassung!L474),\" \",Datenerfassung!L474 ),\" [IS]\"), CONCATENATE(IF(ISBLANK(Datenerfassung!M474),\" \",Datenerfassung!M474 ),\" [IS]\"), IF(ISBLANK(Datenerfassung!N474),\" \",Datenerfassung!N474 ) ))","v":""},{"$f":"IF(ISBLANK(Datenerfassung!V474),\"\",Datenerfassung!V474)","v":""},{"$f":"IF(ISBLANK(Datenerfassung!Q474),\"\",Datenerfassung!Q474)","v":""}]
[{"$f":"IF(ISBLANK(Datenerfassung!A475),\"\",Datenerfassung!A475)","v":""},{"$f":"IF(ISBLANK(Datenerfassung!B475),\"\",Datenerfassung!B475)","v":""},{"$f":"IF(ISBLANK(Datenerfassung!C475),\"\",Datenerfassung!C475)","v":""},{"$f":"IF(ISBLANK(Datenerfassung!R475),\"\",Datenerfassung!R475)","v":""},{"$f":"IF(ISBLANK(Datenerfassung!S475),\"\",Datenerfassung!S475)","v":""},"",{"$f":"IF(ISBLANK(Datenerfassung!U475),\"\",Datenerfassung!U475)","v":""},{"$f":"IF(ISBLANK(Datenerfassung!O475),\"\",Datenerfassung!O475)","v":""},{"$f":"IF(ISBLANK(Datenerfassung!D475),IF(COUNTBLANK(A465:H465)+COUNTBLANK(J465:O465)=14,\"\",\"- ohne Titel -\"),Datenerfassung!D475)","v":""},{"$f":"IF(ISBLANK(Datenerfassung!G475),\"\",Datenerfassung!G475)","v":""},"",{"$f":"IF(ISBLANK(Datenerfassung!X475),\"\",Datenerfassung!X475)","v":""},{"$f":"IF(COUNTBLANK(Datenerfassung!H475:'Datenerfassung'!N475)=7,\"\",CONCATENATE( CONCATENATE(IF(ISBLANK(Datenerfassung!H475),\" \",Datenerfassung!H475 ),\" [IS]\"), CONCATENATE(IF(ISBLANK(Datenerfassung!I475),\" \",Datenerfassung!I475 ),\" [IS]\"), CONCATENATE(IF(ISBLANK(Datenerfassung!J475),\" \",Datenerfassung!J475 ),\" [IS]\"), CONCATENATE(IF(ISBLANK(Datenerfassung!K475),\" \",Datenerfassung!K475 ),\" [IS]\"), CONCATENATE(IF(ISBLANK(Datenerfassung!L475),\" \",Datenerfassung!L475 ),\" [IS]\"), CONCATENATE(IF(ISBLANK(Datenerfassung!M475),\" \",Datenerfassung!M475 ),\" [IS]\"), IF(ISBLANK(Datenerfassung!N475),\" \",Datenerfassung!N475 ) ))","v":""},{"$f":"IF(ISBLANK(Datenerfassung!V475),\"\",Datenerfassung!V475)","v":""},{"$f":"IF(ISBLANK(Datenerfassung!Q475),\"\",Datenerfassung!Q475)","v":""}]
[{"$f":"IF(ISBLANK(Datenerfassung!A476),\"\",Datenerfassung!A476)","v":""},{"$f":"IF(ISBLANK(Datenerfassung!B476),\"\",Datenerfassung!B476)","v":""},{"$f":"IF(ISBLANK(Datenerfassung!C476),\"\",Datenerfassung!C476)","v":""},{"$f":"IF(ISBLANK(Datenerfassung!R476),\"\",Datenerfassung!R476)","v":""},{"$f":"IF(ISBLANK(Datenerfassung!S476),\"\",Datenerfassung!S476)","v":""},"",{"$f":"IF(ISBLANK(Datenerfassung!U476),\"\",Datenerfassung!U476)","v":""},{"$f":"IF(ISBLANK(Datenerfassung!O476),\"\",Datenerfassung!O476)","v":""},{"$f":"IF(ISBLANK(Datenerfassung!D476),IF(COUNTBLANK(A466:H466)+COUNTBLANK(J466:O466)=14,\"\",\"- ohne Titel -\"),Datenerfassung!D476)","v":""},{"$f":"IF(ISBLANK(Datenerfassung!G476),\"\",Datenerfassung!G476)","v":""},"",{"$f":"IF(ISBLANK(Datenerfassung!X476),\"\",Datenerfassung!X476)","v":""},{"$f":"IF(COUNTBLANK(Datenerfassung!H476:'Datenerfassung'!N476)=7,\"\",CONCATENATE( CONCATENATE(IF(ISBLANK(Datenerfassung!H476),\" \",Datenerfassung!H476 ),\" [IS]\"), CONCATENATE(IF(ISBLANK(Datenerfassung!I476),\" \",Datenerfassung!I476 ),\" [IS]\"), CONCATENATE(IF(ISBLANK(Datenerfassung!J476),\" \",Datenerfassung!J476 ),\" [IS]\"), CONCATENATE(IF(ISBLANK(Datenerfassung!K476),\" \",Datenerfassung!K476 ),\" [IS]\"), CONCATENATE(IF(ISBLANK(Datenerfassung!L476),\" \",Datenerfassung!L476 ),\" [IS]\"), CONCATENATE(IF(ISBLANK(Datenerfassung!M476),\" \",Datenerfassung!M476 ),\" [IS]\"), IF(ISBLANK(Datenerfassung!N476),\" \",Datenerfassung!N476 ) ))","v":""},{"$f":"IF(ISBLANK(Datenerfassung!V476),\"\",Datenerfassung!V476)","v":""},{"$f":"IF(ISBLANK(Datenerfassung!Q476),\"\",Datenerfassung!Q476)","v":""}]
[{"$f":"IF(ISBLANK(Datenerfassung!A477),\"\",Datenerfassung!A477)","v":""},{"$f":"IF(ISBLANK(Datenerfassung!B477),\"\",Datenerfassung!B477)","v":""},{"$f":"IF(ISBLANK(Datenerfassung!C477),\"\",Datenerfassung!C477)","v":""},{"$f":"IF(ISBLANK(Datenerfassung!R477),\"\",Datenerfassung!R477)","v":""},{"$f":"IF(ISBLANK(Datenerfassung!S477),\"\",Datenerfassung!S477)","v":""},"",{"$f":"IF(ISBLANK(Datenerfassung!U477),\"\",Datenerfassung!U477)","v":""},{"$f":"IF(ISBLANK(Datenerfassung!O477),\"\",Datenerfassung!O477)","v":""},{"$f":"IF(ISBLANK(Datenerfassung!D477),IF(COUNTBLANK(A467:H467)+COUNTBLANK(J467:O467)=14,\"\",\"- ohne Titel -\"),Datenerfassung!D477)","v":""},{"$f":"IF(ISBLANK(Datenerfassung!G477),\"\",Datenerfassung!G477)","v":""},"",{"$f":"IF(ISBLANK(Datenerfassung!X477),\"\",Datenerfassung!X477)","v":""},{"$f":"IF(COUNTBLANK(Datenerfassung!H477:'Datenerfassung'!N477)=7,\"\",CONCATENATE( CONCATENATE(IF(ISBLANK(Datenerfassung!H477),\" \",Datenerfassung!H477 ),\" [IS]\"), CONCATENATE(IF(ISBLANK(Datenerfassung!I477),\" \",Datenerfassung!I477 ),\" [IS]\"), CONCATENATE(IF(ISBLANK(Datenerfassung!J477),\" \",Datenerfassung!J477 ),\" [IS]\"), CONCATENATE(IF(ISBLANK(Datenerfassung!K477),\" \",Datenerfassung!K477 ),\" [IS]\"), CONCATENATE(IF(ISBLANK(Datenerfassung!L477),\" \",Datenerfassung!L477 ),\" [IS]\"), CONCATENATE(IF(ISBLANK(Datenerfassung!M477),\" \",Datenerfassung!M477 ),\" [IS]\"), IF(ISBLANK(Datenerfassung!N477),\" \",Datenerfassung!N477 ) ))","v":""},{"$f":"IF(ISBLANK(Datenerfassung!V477),\"\",Datenerfassung!V477)","v":""},{"$f":"IF(ISBLANK(Datenerfassung!Q477),\"\",Datenerfassung!Q477)","v":""}]
[{"$f":"IF(ISBLANK(Datenerfassung!A478),\"\",Datenerfassung!A478)","v":""},{"$f":"IF(ISBLANK(Datenerfassung!B478),\"\",Datenerfassung!B478)","v":""},{"$f":"IF(ISBLANK(Datenerfassung!C478),\"\",Datenerfassung!C478)","v":""},{"$f":"IF(ISBLANK(Datenerfassung!R478),\"\",Datenerfassung!R478)","v":""},{"$f":"IF(ISBLANK(Datenerfassung!S478),\"\",Datenerfassung!S478)","v":""},"",{"$f":"IF(ISBLANK(Datenerfassung!U478),\"\",Datenerfassung!U478)","v":""},{"$f":"IF(ISBLANK(Datenerfassung!O478),\"\",Datenerfassung!O478)","v":""},{"$f":"IF(ISBLANK(Datenerfassung!D478),IF(COUNTBLANK(A468:H468)+COUNTBLANK(J468:O468)=14,\"\",\"- ohne Titel -\"),Datenerfassung!D478)","v":""},{"$f":"IF(ISBLANK(Datenerfassung!G478),\"\",Datenerfassung!G478)","v":""},"",{"$f":"IF(ISBLANK(Datenerfassung!X478),\"\",Datenerfassung!X478)","v":""},{"$f":"IF(COUNTBLANK(Datenerfassung!H478:'Datenerfassung'!N478)=7,\"\",CONCATENATE( CONCATENATE(IF(ISBLANK(Datenerfassung!H478),\" \",Datenerfassung!H478 ),\" [IS]\"), CONCATENATE(IF(ISBLANK(Datenerfassung!I478),\" \",Datenerfassung!I478 ),\" [IS]\"), CONCATENATE(IF(ISBLANK(Datenerfassung!J478),\" \",Datenerfassung!J478 ),\" [IS]\"), CONCATENATE(IF(ISBLANK(Datenerfassung!K478),\" \",Datenerfassung!K478 ),\" [IS]\"), CONCATENATE(IF(ISBLANK(Datenerfassung!L478),\" \",Datenerfassung!L478 ),\" [IS]\"), CONCATENATE(IF(ISBLANK(Datenerfassung!M478),\" \",Datenerfassung!M478 ),\" [IS]\"), IF(ISBLANK(Datenerfassung!N478),\" \",Datenerfassung!N478 ) ))","v":""},{"$f":"IF(ISBLANK(Datenerfassung!V478),\"\",Datenerfassung!V478)","v":""},{"$f":"IF(ISBLANK(Datenerfassung!Q478),\"\",Datenerfassung!Q478)","v":""}]
[{"$f":"IF(ISBLANK(Datenerfassung!A479),\"\",Datenerfassung!A479)","v":""},{"$f":"IF(ISBLANK(Datenerfassung!B479),\"\",Datenerfassung!B479)","v":""},{"$f":"IF(ISBLANK(Datenerfassung!C479),\"\",Datenerfassung!C479)","v":""},{"$f":"IF(ISBLANK(Datenerfassung!R479),\"\",Datenerfassung!R479)","v":""},{"$f":"IF(ISBLANK(Datenerfassung!S479),\"\",Datenerfassung!S479)","v":""},"",{"$f":"IF(ISBLANK(Datenerfassung!U479),\"\",Datenerfassung!U479)","v":""},{"$f":"IF(ISBLANK(Datenerfassung!O479),\"\",Datenerfassung!O479)","v":""},{"$f":"IF(ISBLANK(Datenerfassung!D479),IF(COUNTBLANK(A469:H469)+COUNTBLANK(J469:O469)=14,\"\",\"- ohne Titel -\"),Datenerfassung!D479)","v":""},{"$f":"IF(ISBLANK(Datenerfassung!G479),\"\",Datenerfassung!G479)","v":""},"",{"$f":"IF(ISBLANK(Datenerfassung!X479),\"\",Datenerfassung!X479)","v":""},{"$f":"IF(COUNTBLANK(Datenerfassung!H479:'Datenerfassung'!N479)=7,\"\",CONCATENATE( CONCATENATE(IF(ISBLANK(Datenerfassung!H479),\" \",Datenerfassung!H479 ),\" [IS]\"), CONCATENATE(IF(ISBLANK(Datenerfassung!I479),\" \",Datenerfassung!I479 ),\" [IS]\"), CONCATENATE(IF(ISBLANK(Datenerfassung!J479),\" \",Datenerfassung!J479 ),\" [IS]\"), CONCATENATE(IF(ISBLANK(Datenerfassung!K479),\" \",Datenerfassung!K479 ),\" [IS]\"), CONCATENATE(IF(ISBLANK(Datenerfassung!L479),\" \",Datenerfassung!L479 ),\" [IS]\"), CONCATENATE(IF(ISBLANK(Datenerfassung!M479),\" \",Datenerfassung!M479 ),\" [IS]\"), IF(ISBLANK(Datenerfassung!N479),\" \",Datenerfassung!N479 ) ))","v":""},{"$f":"IF(ISBLANK(Datenerfassung!V479),\"\",Datenerfassung!V479)","v":""},{"$f":"IF(ISBLANK(Datenerfassung!Q479),\"\",Datenerfassung!Q479)","v":""}]
[{"$f":"IF(ISBLANK(Datenerfassung!A480),\"\",Datenerfassung!A480)","v":""},{"$f":"IF(ISBLANK(Datenerfassung!B480),\"\",Datenerfassung!B480)","v":""},{"$f":"IF(ISBLANK(Datenerfassung!C480),\"\",Datenerfassung!C480)","v":""},{"$f":"IF(ISBLANK(Datenerfassung!R480),\"\",Datenerfassung!R480)","v":""},{"$f":"IF(ISBLANK(Datenerfassung!S480),\"\",Datenerfassung!S480)","v":""},"",{"$f":"IF(ISBLANK(Datenerfassung!U480),\"\",Datenerfassung!U480)","v":""},{"$f":"IF(ISBLANK(Datenerfassung!O480),\"\",Datenerfassung!O480)","v":""},{"$f":"IF(ISBLANK(Datenerfassung!D480),IF(COUNTBLANK(A470:H470)+COUNTBLANK(J470:O470)=14,\"\",\"- ohne Titel -\"),Datenerfassung!D480)","v":""},{"$f":"IF(ISBLANK(Datenerfassung!G480),\"\",Datenerfassung!G480)","v":""},"",{"$f":"IF(ISBLANK(Datenerfassung!X480),\"\",Datenerfassung!X480)","v":""},{"$f":"IF(COUNTBLANK(Datenerfassung!H480:'Datenerfassung'!N480)=7,\"\",CONCATENATE( CONCATENATE(IF(ISBLANK(Datenerfassung!H480),\" \",Datenerfassung!H480 ),\" [IS]\"), CONCATENATE(IF(ISBLANK(Datenerfassung!I480),\" \",Datenerfassung!I480 ),\" [IS]\"), CONCATENATE(IF(ISBLANK(Datenerfassung!J480),\" \",Datenerfassung!J480 ),\" [IS]\"), CONCATENATE(IF(ISBLANK(Datenerfassung!K480),\" \",Datenerfassung!K480 ),\" [IS]\"), CONCATENATE(IF(ISBLANK(Datenerfassung!L480),\" \",Datenerfassung!L480 ),\" [IS]\"), CONCATENATE(IF(ISBLANK(Datenerfassung!M480),\" \",Datenerfassung!M480 ),\" [IS]\"), IF(ISBLANK(Datenerfassung!N480),\" \",Datenerfassung!N480 ) ))","v":""},{"$f":"IF(ISBLANK(Datenerfassung!V480),\"\",Datenerfassung!V480)","v":""},{"$f":"IF(ISBLANK(Datenerfassung!Q480),\"\",Datenerfassung!Q480)","v":""}]
[{"$f":"IF(ISBLANK(Datenerfassung!A481),\"\",Datenerfassung!A481)","v":""},{"$f":"IF(ISBLANK(Datenerfassung!B481),\"\",Datenerfassung!B481)","v":""},{"$f":"IF(ISBLANK(Datenerfassung!C481),\"\",Datenerfassung!C481)","v":""},{"$f":"IF(ISBLANK(Datenerfassung!R481),\"\",Datenerfassung!R481)","v":""},{"$f":"IF(ISBLANK(Datenerfassung!S481),\"\",Datenerfassung!S481)","v":""},"",{"$f":"IF(ISBLANK(Datenerfassung!U481),\"\",Datenerfassung!U481)","v":""},{"$f":"IF(ISBLANK(Datenerfassung!O481),\"\",Datenerfassung!O481)","v":""},{"$f":"IF(ISBLANK(Datenerfassung!D481),IF(COUNTBLANK(A471:H471)+COUNTBLANK(J471:O471)=14,\"\",\"- ohne Titel -\"),Datenerfassung!D481)","v":""},{"$f":"IF(ISBLANK(Datenerfassung!G481),\"\",Datenerfassung!G481)","v":""},"",{"$f":"IF(ISBLANK(Datenerfassung!X481),\"\",Datenerfassung!X481)","v":""},{"$f":"IF(COUNTBLANK(Datenerfassung!H481:'Datenerfassung'!N481)=7,\"\",CONCATENATE( CONCATENATE(IF(ISBLANK(Datenerfassung!H481),\" \",Datenerfassung!H481 ),\" [IS]\"), CONCATENATE(IF(ISBLANK(Datenerfassung!I481),\" \",Datenerfassung!I481 ),\" [IS]\"), CONCATENATE(IF(ISBLANK(Datenerfassung!J481),\" \",Datenerfassung!J481 ),\" [IS]\"), CONCATENATE(IF(ISBLANK(Datenerfassung!K481),\" \",Datenerfassung!K481 ),\" [IS]\"), CONCATENATE(IF(ISBLANK(Datenerfassung!L481),\" \",Datenerfassung!L481 ),\" [IS]\"), CONCATENATE(IF(ISBLANK(Datenerfassung!M481),\" \",Datenerfassung!M481 ),\" [IS]\"), IF(ISBLANK(Datenerfassung!N481),\" \",Datenerfassung!N481 ) ))","v":""},{"$f":"IF(ISBLANK(Datenerfassung!V481),\"\",Datenerfassung!V481)","v":""},{"$f":"IF(ISBLANK(Datenerfassung!Q481),\"\",Datenerfassung!Q481)","v":""}]
[{"$f":"IF(ISBLANK(Datenerfassung!A482),\"\",Datenerfassung!A482)","v":""},{"$f":"IF(ISBLANK(Datenerfassung!B482),\"\",Datenerfassung!B482)","v":""},{"$f":"IF(ISBLANK(Datenerfassung!C482),\"\",Datenerfassung!C482)","v":""},{"$f":"IF(ISBLANK(Datenerfassung!R482),\"\",Datenerfassung!R482)","v":""},{"$f":"IF(ISBLANK(Datenerfassung!S482),\"\",Datenerfassung!S482)","v":""},"",{"$f":"IF(ISBLANK(Datenerfassung!U482),\"\",Datenerfassung!U482)","v":""},{"$f":"IF(ISBLANK(Datenerfassung!O482),\"\",Datenerfassung!O482)","v":""},{"$f":"IF(ISBLANK(Datenerfassung!D482),IF(COUNTBLANK(A472:H472)+COUNTBLANK(J472:O472)=14,\"\",\"- ohne Titel -\"),Datenerfassung!D482)","v":""},{"$f":"IF(ISBLANK(Datenerfassung!G482),\"\",Datenerfassung!G482)","v":""},"",{"$f":"IF(ISBLANK(Datenerfassung!X482),\"\",Datenerfassung!X482)","v":""},{"$f":"IF(COUNTBLANK(Datenerfassung!H482:'Datenerfassung'!N482)=7,\"\",CONCATENATE( CONCATENATE(IF(ISBLANK(Datenerfassung!H482),\" \",Datenerfassung!H482 ),\" [IS]\"), CONCATENATE(IF(ISBLANK(Datenerfassung!I482),\" \",Datenerfassung!I482 ),\" [IS]\"), CONCATENATE(IF(ISBLANK(Datenerfassung!J482),\" \",Datenerfassung!J482 ),\" [IS]\"), CONCATENATE(IF(ISBLANK(Datenerfassung!K482),\" \",Datenerfassung!K482 ),\" [IS]\"), CONCATENATE(IF(ISBLANK(Datenerfassung!L482),\" \",Datenerfassung!L482 ),\" [IS]\"), CONCATENATE(IF(ISBLANK(Datenerfassung!M482),\" \",Datenerfassung!M482 ),\" [IS]\"), IF(ISBLANK(Datenerfassung!N482),\" \",Datenerfassung!N482 ) ))","v":""},{"$f":"IF(ISBLANK(Datenerfassung!V482),\"\",Datenerfassung!V482)","v":""},{"$f":"IF(ISBLANK(Datenerfassung!Q482),\"\",Datenerfassung!Q482)","v":""}]
[{"$f":"IF(ISBLANK(Datenerfassung!A483),\"\",Datenerfassung!A483)","v":""},{"$f":"IF(ISBLANK(Datenerfassung!B483),\"\",Datenerfassung!B483)","v":""},{"$f":"IF(ISBLANK(Datenerfassung!C483),\"\",Datenerfassung!C483)","v":""},{"$f":"IF(ISBLANK(Datenerfassung!R483),\"\",Datenerfassung!R483)","v":""},{"$f":"IF(ISBLANK(Datenerfassung!S483),\"\",Datenerfassung!S483)","v":""},"",{"$f":"IF(ISBLANK(Datenerfassung!U483),\"\",Datenerfassung!U483)","v":""},{"$f":"IF(ISBLANK(Datenerfassung!O483),\"\",Datenerfassung!O483)","v":""},{"$f":"IF(ISBLANK(Datenerfassung!D483),IF(COUNTBLANK(A473:H473)+COUNTBLANK(J473:O473)=14,\"\",\"- ohne Titel -\"),Datenerfassung!D483)","v":""},{"$f":"IF(ISBLANK(Datenerfassung!G483),\"\",Datenerfassung!G483)","v":""},"",{"$f":"IF(ISBLANK(Datenerfassung!X483),\"\",Datenerfassung!X483)","v":""},{"$f":"IF(COUNTBLANK(Datenerfassung!H483:'Datenerfassung'!N483)=7,\"\",CONCATENATE( CONCATENATE(IF(ISBLANK(Datenerfassung!H483),\" \",Datenerfassung!H483 ),\" [IS]\"), CONCATENATE(IF(ISBLANK(Datenerfassung!I483),\" \",Datenerfassung!I483 ),\" [IS]\"), CONCATENATE(IF(ISBLANK(Datenerfassung!J483),\" \",Datenerfassung!J483 ),\" [IS]\"), CONCATENATE(IF(ISBLANK(Datenerfassung!K483),\" \",Datenerfassung!K483 ),\" [IS]\"), CONCATENATE(IF(ISBLANK(Datenerfassung!L483),\" \",Datenerfassung!L483 ),\" [IS]\"), CONCATENATE(IF(ISBLANK(Datenerfassung!M483),\" \",Datenerfassung!M483 ),\" [IS]\"), IF(ISBLANK(Datenerfassung!N483),\" \",Datenerfassung!N483 ) ))","v":""},{"$f":"IF(ISBLANK(Datenerfassung!V483),\"\",Datenerfassung!V483)","v":""},{"$f":"IF(ISBLANK(Datenerfassung!Q483),\"\",Datenerfassung!Q483)","v":""}]
[{"$f":"IF(ISBLANK(Datenerfassung!A484),\"\",Datenerfassung!A484)","v":""},{"$f":"IF(ISBLANK(Datenerfassung!B484),\"\",Datenerfassung!B484)","v":""},{"$f":"IF(ISBLANK(Datenerfassung!C484),\"\",Datenerfassung!C484)","v":""},{"$f":"IF(ISBLANK(Datenerfassung!R484),\"\",Datenerfassung!R484)","v":""},{"$f":"IF(ISBLANK(Datenerfassung!S484),\"\",Datenerfassung!S484)","v":""},"",{"$f":"IF(ISBLANK(Datenerfassung!U484),\"\",Datenerfassung!U484)","v":""},{"$f":"IF(ISBLANK(Datenerfassung!O484),\"\",Datenerfassung!O484)","v":""},{"$f":"IF(ISBLANK(Datenerfassung!D484),IF(COUNTBLANK(A474:H474)+COUNTBLANK(J474:O474)=14,\"\",\"- ohne Titel -\"),Datenerfassung!D484)","v":""},{"$f":"IF(ISBLANK(Datenerfassung!G484),\"\",Datenerfassung!G484)","v":""},"",{"$f":"IF(ISBLANK(Datenerfassung!X484),\"\",Datenerfassung!X484)","v":""},{"$f":"IF(COUNTBLANK(Datenerfassung!H484:'Datenerfassung'!N484)=7,\"\",CONCATENATE( CONCATENATE(IF(ISBLANK(Datenerfassung!H484),\" \",Datenerfassung!H484 ),\" [IS]\"), CONCATENATE(IF(ISBLANK(Datenerfassung!I484),\" \",Datenerfassung!I484 ),\" [IS]\"), CONCATENATE(IF(ISBLANK(Datenerfassung!J484),\" \",Datenerfassung!J484 ),\" [IS]\"), CONCATENATE(IF(ISBLANK(Datenerfassung!K484),\" \",Datenerfassung!K484 ),\" [IS]\"), CONCATENATE(IF(ISBLANK(Datenerfassung!L484),\" \",Datenerfassung!L484 ),\" [IS]\"), CONCATENATE(IF(ISBLANK(Datenerfassung!M484),\" \",Datenerfassung!M484 ),\" [IS]\"), IF(ISBLANK(Datenerfassung!N484),\" \",Datenerfassung!N484 ) ))","v":""},{"$f":"IF(ISBLANK(Datenerfassung!V484),\"\",Datenerfassung!V484)","v":""},{"$f":"IF(ISBLANK(Datenerfassung!Q484),\"\",Datenerfassung!Q484)","v":""}]
[{"$f":"IF(ISBLANK(Datenerfassung!A485),\"\",Datenerfassung!A485)","v":""},{"$f":"IF(ISBLANK(Datenerfassung!B485),\"\",Datenerfassung!B485)","v":""},{"$f":"IF(ISBLANK(Datenerfassung!C485),\"\",Datenerfassung!C485)","v":""},{"$f":"IF(ISBLANK(Datenerfassung!R485),\"\",Datenerfassung!R485)","v":""},{"$f":"IF(ISBLANK(Datenerfassung!S485),\"\",Datenerfassung!S485)","v":""},"",{"$f":"IF(ISBLANK(Datenerfassung!U485),\"\",Datenerfassung!U485)","v":""},{"$f":"IF(ISBLANK(Datenerfassung!O485),\"\",Datenerfassung!O485)","v":""},{"$f":"IF(ISBLANK(Datenerfassung!D485),IF(COUNTBLANK(A475:H475)+COUNTBLANK(J475:O475)=14,\"\",\"- ohne Titel -\"),Datenerfassung!D485)","v":""},{"$f":"IF(ISBLANK(Datenerfassung!G485),\"\",Datenerfassung!G485)","v":""},"",{"$f":"IF(ISBLANK(Datenerfassung!X485),\"\",Datenerfassung!X485)","v":""},{"$f":"IF(COUNTBLANK(Datenerfassung!H485:'Datenerfassung'!N485)=7,\"\",CONCATENATE( CONCATENATE(IF(ISBLANK(Datenerfassung!H485),\" \",Datenerfassung!H485 ),\" [IS]\"), CONCATENATE(IF(ISBLANK(Datenerfassung!I485),\" \",Datenerfassung!I485 ),\" [IS]\"), CONCATENATE(IF(ISBLANK(Datenerfassung!J485),\" \",Datenerfassung!J485 ),\" [IS]\"), CONCATENATE(IF(ISBLANK(Datenerfassung!K485),\" \",Datenerfassung!K485 ),\" [IS]\"), CONCATENATE(IF(ISBLANK(Datenerfassung!L485),\" \",Datenerfassung!L485 ),\" [IS]\"), CONCATENATE(IF(ISBLANK(Datenerfassung!M485),\" \",Datenerfassung!M485 ),\" [IS]\"), IF(ISBLANK(Datenerfassung!N485),\" \",Datenerfassung!N485 ) ))","v":""},{"$f":"IF(ISBLANK(Datenerfassung!V485),\"\",Datenerfassung!V485)","v":""},{"$f":"IF(ISBLANK(Datenerfassung!Q485),\"\",Datenerfassung!Q485)","v":""}]
[{"$f":"IF(ISBLANK(Datenerfassung!A486),\"\",Datenerfassung!A486)","v":""},{"$f":"IF(ISBLANK(Datenerfassung!B486),\"\",Datenerfassung!B486)","v":""},{"$f":"IF(ISBLANK(Datenerfassung!C486),\"\",Datenerfassung!C486)","v":""},{"$f":"IF(ISBLANK(Datenerfassung!R486),\"\",Datenerfassung!R486)","v":""},{"$f":"IF(ISBLANK(Datenerfassung!S486),\"\",Datenerfassung!S486)","v":""},"",{"$f":"IF(ISBLANK(Datenerfassung!U486),\"\",Datenerfassung!U486)","v":""},{"$f":"IF(ISBLANK(Datenerfassung!O486),\"\",Datenerfassung!O486)","v":""},{"$f":"IF(ISBLANK(Datenerfassung!D486),IF(COUNTBLANK(A476:H476)+COUNTBLANK(J476:O476)=14,\"\",\"- ohne Titel -\"),Datenerfassung!D486)","v":""},{"$f":"IF(ISBLANK(Datenerfassung!G486),\"\",Datenerfassung!G486)","v":""},"",{"$f":"IF(ISBLANK(Datenerfassung!X486),\"\",Datenerfassung!X486)","v":""},{"$f":"IF(COUNTBLANK(Datenerfassung!H486:'Datenerfassung'!N486)=7,\"\",CONCATENATE( CONCATENATE(IF(ISBLANK(Datenerfassung!H486),\" \",Datenerfassung!H486 ),\" [IS]\"), CONCATENATE(IF(ISBLANK(Datenerfassung!I486),\" \",Datenerfassung!I486 ),\" [IS]\"), CONCATENATE(IF(ISBLANK(Datenerfassung!J486),\" \",Datenerfassung!J486 ),\" [IS]\"), CONCATENATE(IF(ISBLANK(Datenerfassung!K486),\" \",Datenerfassung!K486 ),\" [IS]\"), CONCATENATE(IF(ISBLANK(Datenerfassung!L486),\" \",Datenerfassung!L486 ),\" [IS]\"), CONCATENATE(IF(ISBLANK(Datenerfassung!M486),\" \",Datenerfassung!M486 ),\" [IS]\"), IF(ISBLANK(Datenerfassung!N486),\" \",Datenerfassung!N486 ) ))","v":""},{"$f":"IF(ISBLANK(Datenerfassung!V486),\"\",Datenerfassung!V486)","v":""},{"$f":"IF(ISBLANK(Datenerfassung!Q486),\"\",Datenerfassung!Q486)","v":""}]
[{"$f":"IF(ISBLANK(Datenerfassung!A487),\"\",Datenerfassung!A487)","v":""},{"$f":"IF(ISBLANK(Datenerfassung!B487),\"\",Datenerfassung!B487)","v":""},{"$f":"IF(ISBLANK(Datenerfassung!C487),\"\",Datenerfassung!C487)","v":""},{"$f":"IF(ISBLANK(Datenerfassung!R487),\"\",Datenerfassung!R487)","v":""},{"$f":"IF(ISBLANK(Datenerfassung!S487),\"\",Datenerfassung!S487)","v":""},"",{"$f":"IF(ISBLANK(Datenerfassung!U487),\"\",Datenerfassung!U487)","v":""},{"$f":"IF(ISBLANK(Datenerfassung!O487),\"\",Datenerfassung!O487)","v":""},{"$f":"IF(ISBLANK(Datenerfassung!D487),IF(COUNTBLANK(A477:H477)+COUNTBLANK(J477:O477)=14,\"\",\"- ohne Titel -\"),Datenerfassung!D487)","v":""},{"$f":"IF(ISBLANK(Datenerfassung!G487),\"\",Datenerfassung!G487)","v":""},"",{"$f":"IF(ISBLANK(Datenerfassung!X487),\"\",Datenerfassung!X487)","v":""},{"$f":"IF(COUNTBLANK(Datenerfassung!H487:'Datenerfassung'!N487)=7,\"\",CONCATENATE( CONCATENATE(IF(ISBLANK(Datenerfassung!H487),\" \",Datenerfassung!H487 ),\" [IS]\"), CONCATENATE(IF(ISBLANK(Datenerfassung!I487),\" \",Datenerfassung!I487 ),\" [IS]\"), CONCATENATE(IF(ISBLANK(Datenerfassung!J487),\" \",Datenerfassung!J487 ),\" [IS]\"), CONCATENATE(IF(ISBLANK(Datenerfassung!K487),\" \",Datenerfassung!K487 ),\" [IS]\"), CONCATENATE(IF(ISBLANK(Datenerfassung!L487),\" \",Datenerfassung!L487 ),\" [IS]\"), CONCATENATE(IF(ISBLANK(Datenerfassung!M487),\" \",Datenerfassung!M487 ),\" [IS]\"), IF(ISBLANK(Datenerfassung!N487),\" \",Datenerfassung!N487 ) ))","v":""},{"$f":"IF(ISBLANK(Datenerfassung!V487),\"\",Datenerfassung!V487)","v":""},{"$f":"IF(ISBLANK(Datenerfassung!Q487),\"\",Datenerfassung!Q487)","v":""}]
[{"$f":"IF(ISBLANK(Datenerfassung!A488),\"\",Datenerfassung!A488)","v":""},{"$f":"IF(ISBLANK(Datenerfassung!B488),\"\",Datenerfassung!B488)","v":""},{"$f":"IF(ISBLANK(Datenerfassung!C488),\"\",Datenerfassung!C488)","v":""},{"$f":"IF(ISBLANK(Datenerfassung!R488),\"\",Datenerfassung!R488)","v":""},{"$f":"IF(ISBLANK(Datenerfassung!S488),\"\",Datenerfassung!S488)","v":""},"",{"$f":"IF(ISBLANK(Datenerfassung!U488),\"\",Datenerfassung!U488)","v":""},{"$f":"IF(ISBLANK(Datenerfassung!O488),\"\",Datenerfassung!O488)","v":""},{"$f":"IF(ISBLANK(Datenerfassung!D488),IF(COUNTBLANK(A478:H478)+COUNTBLANK(J478:O478)=14,\"\",\"- ohne Titel -\"),Datenerfassung!D488)","v":""},{"$f":"IF(ISBLANK(Datenerfassung!G488),\"\",Datenerfassung!G488)","v":""},"",{"$f":"IF(ISBLANK(Datenerfassung!X488),\"\",Datenerfassung!X488)","v":""},{"$f":"IF(COUNTBLANK(Datenerfassung!H488:'Datenerfassung'!N488)=7,\"\",CONCATENATE( CONCATENATE(IF(ISBLANK(Datenerfassung!H488),\" \",Datenerfassung!H488 ),\" [IS]\"), CONCATENATE(IF(ISBLANK(Datenerfassung!I488),\" \",Datenerfassung!I488 ),\" [IS]\"), CONCATENATE(IF(ISBLANK(Datenerfassung!J488),\" \",Datenerfassung!J488 ),\" [IS]\"), CONCATENATE(IF(ISBLANK(Datenerfassung!K488),\" \",Datenerfassung!K488 ),\" [IS]\"), CONCATENATE(IF(ISBLANK(Datenerfassung!L488),\" \",Datenerfassung!L488 ),\" [IS]\"), CONCATENATE(IF(ISBLANK(Datenerfassung!M488),\" \",Datenerfassung!M488 ),\" [IS]\"), IF(ISBLANK(Datenerfassung!N488),\" \",Datenerfassung!N488 ) ))","v":""},{"$f":"IF(ISBLANK(Datenerfassung!V488),\"\",Datenerfassung!V488)","v":""},{"$f":"IF(ISBLANK(Datenerfassung!Q488),\"\",Datenerfassung!Q488)","v":""}]
[{"$f":"IF(ISBLANK(Datenerfassung!A489),\"\",Datenerfassung!A489)","v":""},{"$f":"IF(ISBLANK(Datenerfassung!B489),\"\",Datenerfassung!B489)","v":""},{"$f":"IF(ISBLANK(Datenerfassung!C489),\"\",Datenerfassung!C489)","v":""},{"$f":"IF(ISBLANK(Datenerfassung!R489),\"\",Datenerfassung!R489)","v":""},{"$f":"IF(ISBLANK(Datenerfassung!S489),\"\",Datenerfassung!S489)","v":""},"",{"$f":"IF(ISBLANK(Datenerfassung!U489),\"\",Datenerfassung!U489)","v":""},{"$f":"IF(ISBLANK(Datenerfassung!O489),\"\",Datenerfassung!O489)","v":""},{"$f":"IF(ISBLANK(Datenerfassung!D489),IF(COUNTBLANK(A479:H479)+COUNTBLANK(J479:O479)=14,\"\",\"- ohne Titel -\"),Datenerfassung!D489)","v":""},{"$f":"IF(ISBLANK(Datenerfassung!G489),\"\",Datenerfassung!G489)","v":""},"",{"$f":"IF(ISBLANK(Datenerfassung!X489),\"\",Datenerfassung!X489)","v":""},{"$f":"IF(COUNTBLANK(Datenerfassung!H489:'Datenerfassung'!N489)=7,\"\",CONCATENATE( CONCATENATE(IF(ISBLANK(Datenerfassung!H489),\" \",Datenerfassung!H489 ),\" [IS]\"), CONCATENATE(IF(ISBLANK(Datenerfassung!I489),\" \",Datenerfassung!I489 ),\" [IS]\"), CONCATENATE(IF(ISBLANK(Datenerfassung!J489),\" \",Datenerfassung!J489 ),\" [IS]\"), CONCATENATE(IF(ISBLANK(Datenerfassung!K489),\" \",Datenerfassung!K489 ),\" [IS]\"), CONCATENATE(IF(ISBLANK(Datenerfassung!L489),\" \",Datenerfassung!L489 ),\" [IS]\"), CONCATENATE(IF(ISBLANK(Datenerfassung!M489),\" \",Datenerfassung!M489 ),\" [IS]\"), IF(ISBLANK(Datenerfassung!N489),\" \",Datenerfassung!N489 ) ))","v":""},{"$f":"IF(ISBLANK(Datenerfassung!V489),\"\",Datenerfassung!V489)","v":""},{"$f":"IF(ISBLANK(Datenerfassung!Q489),\"\",Datenerfassung!Q489)","v":""}]
[{"$f":"IF(ISBLANK(Datenerfassung!A490),\"\",Datenerfassung!A490)","v":""},{"$f":"IF(ISBLANK(Datenerfassung!B490),\"\",Datenerfassung!B490)","v":""},{"$f":"IF(ISBLANK(Datenerfassung!C490),\"\",Datenerfassung!C490)","v":""},{"$f":"IF(ISBLANK(Datenerfassung!R490),\"\",Datenerfassung!R490)","v":""},{"$f":"IF(ISBLANK(Datenerfassung!S490),\"\",Datenerfassung!S490)","v":""},"",{"$f":"IF(ISBLANK(Datenerfassung!U490),\"\",Datenerfassung!U490)","v":""},{"$f":"IF(ISBLANK(Datenerfassung!O490),\"\",Datenerfassung!O490)","v":""},{"$f":"IF(ISBLANK(Datenerfassung!D490),IF(COUNTBLANK(A480:H480)+COUNTBLANK(J480:O480)=14,\"\",\"- ohne Titel -\"),Datenerfassung!D490)","v":""},{"$f":"IF(ISBLANK(Datenerfassung!G490),\"\",Datenerfassung!G490)","v":""},"",{"$f":"IF(ISBLANK(Datenerfassung!X490),\"\",Datenerfassung!X490)","v":""},{"$f":"IF(COUNTBLANK(Datenerfassung!H490:'Datenerfassung'!N490)=7,\"\",CONCATENATE( CONCATENATE(IF(ISBLANK(Datenerfassung!H490),\" \",Datenerfassung!H490 ),\" [IS]\"), CONCATENATE(IF(ISBLANK(Datenerfassung!I490),\" \",Datenerfassung!I490 ),\" [IS]\"), CONCATENATE(IF(ISBLANK(Datenerfassung!J490),\" \",Datenerfassung!J490 ),\" [IS]\"), CONCATENATE(IF(ISBLANK(Datenerfassung!K490),\" \",Datenerfassung!K490 ),\" [IS]\"), CONCATENATE(IF(ISBLANK(Datenerfassung!L490),\" \",Datenerfassung!L490 ),\" [IS]\"), CONCATENATE(IF(ISBLANK(Datenerfassung!M490),\" \",Datenerfassung!M490 ),\" [IS]\"), IF(ISBLANK(Datenerfassung!N490),\" \",Datenerfassung!N490 ) ))","v":""},{"$f":"IF(ISBLANK(Datenerfassung!V490),\"\",Datenerfassung!V490)","v":""},{"$f":"IF(ISBLANK(Datenerfassung!Q490),\"\",Datenerfassung!Q490)","v":""}]
[{"$f":"IF(ISBLANK(Datenerfassung!A491),\"\",Datenerfassung!A491)","v":""},{"$f":"IF(ISBLANK(Datenerfassung!B491),\"\",Datenerfassung!B491)","v":""},{"$f":"IF(ISBLANK(Datenerfassung!C491),\"\",Datenerfassung!C491)","v":""},{"$f":"IF(ISBLANK(Datenerfassung!R491),\"\",Datenerfassung!R491)","v":""},{"$f":"IF(ISBLANK(Datenerfassung!S491),\"\",Datenerfassung!S491)","v":""},"",{"$f":"IF(ISBLANK(Datenerfassung!U491),\"\",Datenerfassung!U491)","v":""},{"$f":"IF(ISBLANK(Datenerfassung!O491),\"\",Datenerfassung!O491)","v":""},{"$f":"IF(ISBLANK(Datenerfassung!D491),IF(COUNTBLANK(A481:H481)+COUNTBLANK(J481:O481)=14,\"\",\"- ohne Titel -\"),Datenerfassung!D491)","v":""},{"$f":"IF(ISBLANK(Datenerfassung!G491),\"\",Datenerfassung!G491)","v":""},"",{"$f":"IF(ISBLANK(Datenerfassung!X491),\"\",Datenerfassung!X491)","v":""},{"$f":"IF(COUNTBLANK(Datenerfassung!H491:'Datenerfassung'!N491)=7,\"\",CONCATENATE( CONCATENATE(IF(ISBLANK(Datenerfassung!H491),\" \",Datenerfassung!H491 ),\" [IS]\"), CONCATENATE(IF(ISBLANK(Datenerfassung!I491),\" \",Datenerfassung!I491 ),\" [IS]\"), CONCATENATE(IF(ISBLANK(Datenerfassung!J491),\" \",Datenerfassung!J491 ),\" [IS]\"), CONCATENATE(IF(ISBLANK(Datenerfassung!K491),\" \",Datenerfassung!K491 ),\" [IS]\"), CONCATENATE(IF(ISBLANK(Datenerfassung!L491),\" \",Datenerfassung!L491 ),\" [IS]\"), CONCATENATE(IF(ISBLANK(Datenerfassung!M491),\" \",Datenerfassung!M491 ),\" [IS]\"), IF(ISBLANK(Datenerfassung!N491),\" \",Datenerfassung!N491 ) ))","v":""},{"$f":"IF(ISBLANK(Datenerfassung!V491),\"\",Datenerfassung!V491)","v":""},{"$f":"IF(ISBLANK(Datenerfassung!Q491),\"\",Datenerfassung!Q491)","v":""}]
[{"$f":"IF(ISBLANK(Datenerfassung!A492),\"\",Datenerfassung!A492)","v":""},{"$f":"IF(ISBLANK(Datenerfassung!B492),\"\",Datenerfassung!B492)","v":""},{"$f":"IF(ISBLANK(Datenerfassung!C492),\"\",Datenerfassung!C492)","v":""},{"$f":"IF(ISBLANK(Datenerfassung!R492),\"\",Datenerfassung!R492)","v":""},{"$f":"IF(ISBLANK(Datenerfassung!S492),\"\",Datenerfassung!S492)","v":""},"",{"$f":"IF(ISBLANK(Datenerfassung!U492),\"\",Datenerfassung!U492)","v":""},{"$f":"IF(ISBLANK(Datenerfassung!O492),\"\",Datenerfassung!O492)","v":""},{"$f":"IF(ISBLANK(Datenerfassung!D492),IF(COUNTBLANK(A482:H482)+COUNTBLANK(J482:O482)=14,\"\",\"- ohne Titel -\"),Datenerfassung!D492)","v":""},{"$f":"IF(ISBLANK(Datenerfassung!G492),\"\",Datenerfassung!G492)","v":""},"",{"$f":"IF(ISBLANK(Datenerfassung!X492),\"\",Datenerfassung!X492)","v":""},{"$f":"IF(COUNTBLANK(Datenerfassung!H492:'Datenerfassung'!N492)=7,\"\",CONCATENATE( CONCATENATE(IF(ISBLANK(Datenerfassung!H492),\" \",Datenerfassung!H492 ),\" [IS]\"), CONCATENATE(IF(ISBLANK(Datenerfassung!I492),\" \",Datenerfassung!I492 ),\" [IS]\"), CONCATENATE(IF(ISBLANK(Datenerfassung!J492),\" \",Datenerfassung!J492 ),\" [IS]\"), CONCATENATE(IF(ISBLANK(Datenerfassung!K492),\" \",Datenerfassung!K492 ),\" [IS]\"), CONCATENATE(IF(ISBLANK(Datenerfassung!L492),\" \",Datenerfassung!L492 ),\" [IS]\"), CONCATENATE(IF(ISBLANK(Datenerfassung!M492),\" \",Datenerfassung!M492 ),\" [IS]\"), IF(ISBLANK(Datenerfassung!N492),\" \",Datenerfassung!N492 ) ))","v":""},{"$f":"IF(ISBLANK(Datenerfassung!V492),\"\",Datenerfassung!V492)","v":""},{"$f":"IF(ISBLANK(Datenerfassung!Q492),\"\",Datenerfassung!Q492)","v":""}]
[{"$f":"IF(ISBLANK(Datenerfassung!A493),\"\",Datenerfassung!A493)","v":""},{"$f":"IF(ISBLANK(Datenerfassung!B493),\"\",Datenerfassung!B493)","v":""},{"$f":"IF(ISBLANK(Datenerfassung!C493),\"\",Datenerfassung!C493)","v":""},{"$f":"IF(ISBLANK(Datenerfassung!R493),\"\",Datenerfassung!R493)","v":""},{"$f":"IF(ISBLANK(Datenerfassung!S493),\"\",Datenerfassung!S493)","v":""},"",{"$f":"IF(ISBLANK(Datenerfassung!U493),\"\",Datenerfassung!U493)","v":""},{"$f":"IF(ISBLANK(Datenerfassung!O493),\"\",Datenerfassung!O493)","v":""},{"$f":"IF(ISBLANK(Datenerfassung!D493),IF(COUNTBLANK(A483:H483)+COUNTBLANK(J483:O483)=14,\"\",\"- ohne Titel -\"),Datenerfassung!D493)","v":""},{"$f":"IF(ISBLANK(Datenerfassung!G493),\"\",Datenerfassung!G493)","v":""},"",{"$f":"IF(ISBLANK(Datenerfassung!X493),\"\",Datenerfassung!X493)","v":""},{"$f":"IF(COUNTBLANK(Datenerfassung!H493:'Datenerfassung'!N493)=7,\"\",CONCATENATE( CONCATENATE(IF(ISBLANK(Datenerfassung!H493),\" \",Datenerfassung!H493 ),\" [IS]\"), CONCATENATE(IF(ISBLANK(Datenerfassung!I493),\" \",Datenerfassung!I493 ),\" [IS]\"), CONCATENATE(IF(ISBLANK(Datenerfassung!J493),\" \",Datenerfassung!J493 ),\" [IS]\"), CONCATENATE(IF(ISBLANK(Datenerfassung!K493),\" \",Datenerfassung!K493 ),\" [IS]\"), CONCATENATE(IF(ISBLANK(Datenerfassung!L493),\" \",Datenerfassung!L493 ),\" [IS]\"), CONCATENATE(IF(ISBLANK(Datenerfassung!M493),\" \",Datenerfassung!M493 ),\" [IS]\"), IF(ISBLANK(Datenerfassung!N493),\" \",Datenerfassung!N493 ) ))","v":""},{"$f":"IF(ISBLANK(Datenerfassung!V493),\"\",Datenerfassung!V493)","v":""},{"$f":"IF(ISBLANK(Datenerfassung!Q493),\"\",Datenerfassung!Q493)","v":""}]
[{"$f":"IF(ISBLANK(Datenerfassung!A494),\"\",Datenerfassung!A494)","v":""},{"$f":"IF(ISBLANK(Datenerfassung!B494),\"\",Datenerfassung!B494)","v":""},{"$f":"IF(ISBLANK(Datenerfassung!C494),\"\",Datenerfassung!C494)","v":""},{"$f":"IF(ISBLANK(Datenerfassung!R494),\"\",Datenerfassung!R494)","v":""},{"$f":"IF(ISBLANK(Datenerfassung!S494),\"\",Datenerfassung!S494)","v":""},"",{"$f":"IF(ISBLANK(Datenerfassung!U494),\"\",Datenerfassung!U494)","v":""},{"$f":"IF(ISBLANK(Datenerfassung!O494),\"\",Datenerfassung!O494)","v":""},{"$f":"IF(ISBLANK(Datenerfassung!D494),IF(COUNTBLANK(A484:H484)+COUNTBLANK(J484:O484)=14,\"\",\"- ohne Titel -\"),Datenerfassung!D494)","v":""},{"$f":"IF(ISBLANK(Datenerfassung!G494),\"\",Datenerfassung!G494)","v":""},"",{"$f":"IF(ISBLANK(Datenerfassung!X494),\"\",Datenerfassung!X494)","v":""},{"$f":"IF(COUNTBLANK(Datenerfassung!H494:'Datenerfassung'!N494)=7,\"\",CONCATENATE( CONCATENATE(IF(ISBLANK(Datenerfassung!H494),\" \",Datenerfassung!H494 ),\" [IS]\"), CONCATENATE(IF(ISBLANK(Datenerfassung!I494),\" \",Datenerfassung!I494 ),\" [IS]\"), CONCATENATE(IF(ISBLANK(Datenerfassung!J494),\" \",Datenerfassung!J494 ),\" [IS]\"), CONCATENATE(IF(ISBLANK(Datenerfassung!K494),\" \",Datenerfassung!K494 ),\" [IS]\"), CONCATENATE(IF(ISBLANK(Datenerfassung!L494),\" \",Datenerfassung!L494 ),\" [IS]\"), CONCATENATE(IF(ISBLANK(Datenerfassung!M494),\" \",Datenerfassung!M494 ),\" [IS]\"), IF(ISBLANK(Datenerfassung!N494),\" \",Datenerfassung!N494 ) ))","v":""},{"$f":"IF(ISBLANK(Datenerfassung!V494),\"\",Datenerfassung!V494)","v":""},{"$f":"IF(ISBLANK(Datenerfassung!Q494),\"\",Datenerfassung!Q494)","v":""}]
[{"$f":"IF(ISBLANK(Datenerfassung!A495),\"\",Datenerfassung!A495)","v":""},{"$f":"IF(ISBLANK(Datenerfassung!B495),\"\",Datenerfassung!B495)","v":""},{"$f":"IF(ISBLANK(Datenerfassung!C495),\"\",Datenerfassung!C495)","v":""},{"$f":"IF(ISBLANK(Datenerfassung!R495),\"\",Datenerfassung!R495)","v":""},{"$f":"IF(ISBLANK(Datenerfassung!S495),\"\",Datenerfassung!S495)","v":""},"",{"$f":"IF(ISBLANK(Datenerfassung!U495),\"\",Datenerfassung!U495)","v":""},{"$f":"IF(ISBLANK(Datenerfassung!O495),\"\",Datenerfassung!O495)","v":""},{"$f":"IF(ISBLANK(Datenerfassung!D495),IF(COUNTBLANK(A485:H485)+COUNTBLANK(J485:O485)=14,\"\",\"- ohne Titel -\"),Datenerfassung!D495)","v":""},{"$f":"IF(ISBLANK(Datenerfassung!G495),\"\",Datenerfassung!G495)","v":""},"",{"$f":"IF(ISBLANK(Datenerfassung!X495),\"\",Datenerfassung!X495)","v":""},{"$f":"IF(COUNTBLANK(Datenerfassung!H495:'Datenerfassung'!N495)=7,\"\",CONCATENATE( CONCATENATE(IF(ISBLANK(Datenerfassung!H495),\" \",Datenerfassung!H495 ),\" [IS]\"), CONCATENATE(IF(ISBLANK(Datenerfassung!I495),\" \",Datenerfassung!I495 ),\" [IS]\"), CONCATENATE(IF(ISBLANK(Datenerfassung!J495),\" \",Datenerfassung!J495 ),\" [IS]\"), CONCATENATE(IF(ISBLANK(Datenerfassung!K495),\" \",Datenerfassung!K495 ),\" [IS]\"), CONCATENATE(IF(ISBLANK(Datenerfassung!L495),\" \",Datenerfassung!L495 ),\" [IS]\"), CONCATENATE(IF(ISBLANK(Datenerfassung!M495),\" \",Datenerfassung!M495 ),\" [IS]\"), IF(ISBLANK(Datenerfassung!N495),\" \",Datenerfassung!N495 ) ))","v":""},{"$f":"IF(ISBLANK(Datenerfassung!V495),\"\",Datenerfassung!V495)","v":""},{"$f":"IF(ISBLANK(Datenerfassung!Q495),\"\",Datenerfassung!Q495)","v":""}]
[{"$f":"IF(ISBLANK(Datenerfassung!A496),\"\",Datenerfassung!A496)","v":""},{"$f":"IF(ISBLANK(Datenerfassung!B496),\"\",Datenerfassung!B496)","v":""},{"$f":"IF(ISBLANK(Datenerfassung!C496),\"\",Datenerfassung!C496)","v":""},{"$f":"IF(ISBLANK(Datenerfassung!R496),\"\",Datenerfassung!R496)","v":""},{"$f":"IF(ISBLANK(Datenerfassung!S496),\"\",Datenerfassung!S496)","v":""},"",{"$f":"IF(ISBLANK(Datenerfassung!U496),\"\",Datenerfassung!U496)","v":""},{"$f":"IF(ISBLANK(Datenerfassung!O496),\"\",Datenerfassung!O496)","v":""},{"$f":"IF(ISBLANK(Datenerfassung!D496),IF(COUNTBLANK(A486:H486)+COUNTBLANK(J486:O486)=14,\"\",\"- ohne Titel -\"),Datenerfassung!D496)","v":""},{"$f":"IF(ISBLANK(Datenerfassung!G496),\"\",Datenerfassung!G496)","v":""},"",{"$f":"IF(ISBLANK(Datenerfassung!X496),\"\",Datenerfassung!X496)","v":""},{"$f":"IF(COUNTBLANK(Datenerfassung!H496:'Datenerfassung'!N496)=7,\"\",CONCATENATE( CONCATENATE(IF(ISBLANK(Datenerfassung!H496),\" \",Datenerfassung!H496 ),\" [IS]\"), CONCATENATE(IF(ISBLANK(Datenerfassung!I496),\" \",Datenerfassung!I496 ),\" [IS]\"), CONCATENATE(IF(ISBLANK(Datenerfassung!J496),\" \",Datenerfassung!J496 ),\" [IS]\"), CONCATENATE(IF(ISBLANK(Datenerfassung!K496),\" \",Datenerfassung!K496 ),\" [IS]\"), CONCATENATE(IF(ISBLANK(Datenerfassung!L496),\" \",Datenerfassung!L496 ),\" [IS]\"), CONCATENATE(IF(ISBLANK(Datenerfassung!M496),\" \",Datenerfassung!M496 ),\" [IS]\"), IF(ISBLANK(Datenerfassung!N496),\" \",Datenerfassung!N496 ) ))","v":""},{"$f":"IF(ISBLANK(Datenerfassung!V496),\"\",Datenerfassung!V496)","v":""},{"$f":"IF(ISBLANK(Datenerfassung!Q496),\"\",Datenerfassung!Q496)","v":""}]
[{"$f":"IF(ISBLANK(Datenerfassung!A497),\"\",Datenerfassung!A497)","v":""},{"$f":"IF(ISBLANK(Datenerfassung!B497),\"\",Datenerfassung!B497)","v":""},{"$f":"IF(ISBLANK(Datenerfassung!C497),\"\",Datenerfassung!C497)","v":""},{"$f":"IF(ISBLANK(Datenerfassung!R497),\"\",Datenerfassung!R497)","v":""},{"$f":"IF(ISBLANK(Datenerfassung!S497),\"\",Datenerfassung!S497)","v":""},"",{"$f":"IF(ISBLANK(Datenerfassung!U497),\"\",Datenerfassung!U497)","v":""},{"$f":"IF(ISBLANK(Datenerfassung!O497),\"\",Datenerfassung!O497)","v":""},{"$f":"IF(ISBLANK(Datenerfassung!D497),IF(COUNTBLANK(A487:H487)+COUNTBLANK(J487:O487)=14,\"\",\"- ohne Titel -\"),Datenerfassung!D497)","v":""},{"$f":"IF(ISBLANK(Datenerfassung!G497),\"\",Datenerfassung!G497)","v":""},"",{"$f":"IF(ISBLANK(Datenerfassung!X497),\"\",Datenerfassung!X497)","v":""},{"$f":"IF(COUNTBLANK(Datenerfassung!H497:'Datenerfassung'!N497)=7,\"\",CONCATENATE( CONCATENATE(IF(ISBLANK(Datenerfassung!H497),\" \",Datenerfassung!H497 ),\" [IS]\"), CONCATENATE(IF(ISBLANK(Datenerfassung!I497),\" \",Datenerfassung!I497 ),\" [IS]\"), CONCATENATE(IF(ISBLANK(Datenerfassung!J497),\" \",Datenerfassung!J497 ),\" [IS]\"), CONCATENATE(IF(ISBLANK(Datenerfassung!K497),\" \",Datenerfassung!K497 ),\" [IS]\"), CONCATENATE(IF(ISBLANK(Datenerfassung!L497),\" \",Datenerfassung!L497 ),\" [IS]\"), CONCATENATE(IF(ISBLANK(Datenerfassung!M497),\" \",Datenerfassung!M497 ),\" [IS]\"), IF(ISBLANK(Datenerfassung!N497),\" \",Datenerfassung!N497 ) ))","v":""},{"$f":"IF(ISBLANK(Datenerfassung!V497),\"\",Datenerfassung!V497)","v":""},{"$f":"IF(ISBLANK(Datenerfassung!Q497),\"\",Datenerfassung!Q497)","v":""}]
[{"$f":"IF(ISBLANK(Datenerfassung!A498),\"\",Datenerfassung!A498)","v":""},{"$f":"IF(ISBLANK(Datenerfassung!B498),\"\",Datenerfassung!B498)","v":""},{"$f":"IF(ISBLANK(Datenerfassung!C498),\"\",Datenerfassung!C498)","v":""},{"$f":"IF(ISBLANK(Datenerfassung!R498),\"\",Datenerfassung!R498)","v":""},{"$f":"IF(ISBLANK(Datenerfassung!S498),\"\",Datenerfassung!S498)","v":""},"",{"$f":"IF(ISBLANK(Datenerfassung!U498),\"\",Datenerfassung!U498)","v":""},{"$f":"IF(ISBLANK(Datenerfassung!O498),\"\",Datenerfassung!O498)","v":""},{"$f":"IF(ISBLANK(Datenerfassung!D498),IF(COUNTBLANK(A488:H488)+COUNTBLANK(J488:O488)=14,\"\",\"- ohne Titel -\"),Datenerfassung!D498)","v":""},{"$f":"IF(ISBLANK(Datenerfassung!G498),\"\",Datenerfassung!G498)","v":""},"",{"$f":"IF(ISBLANK(Datenerfassung!X498),\"\",Datenerfassung!X498)","v":""},{"$f":"IF(COUNTBLANK(Datenerfassung!H498:'Datenerfassung'!N498)=7,\"\",CONCATENATE( CONCATENATE(IF(ISBLANK(Datenerfassung!H498),\" \",Datenerfassung!H498 ),\" [IS]\"), CONCATENATE(IF(ISBLANK(Datenerfassung!I498),\" \",Datenerfassung!I498 ),\" [IS]\"), CONCATENATE(IF(ISBLANK(Datenerfassung!J498),\" \",Datenerfassung!J498 ),\" [IS]\"), CONCATENATE(IF(ISBLANK(Datenerfassung!K498),\" \",Datenerfassung!K498 ),\" [IS]\"), CONCATENATE(IF(ISBLANK(Datenerfassung!L498),\" \",Datenerfassung!L498 ),\" [IS]\"), CONCATENATE(IF(ISBLANK(Datenerfassung!M498),\" \",Datenerfassung!M498 ),\" [IS]\"), IF(ISBLANK(Datenerfassung!N498),\" \",Datenerfassung!N498 ) ))","v":""},{"$f":"IF(ISBLANK(Datenerfassung!V498),\"\",Datenerfassung!V498)","v":""},{"$f":"IF(ISBLANK(Datenerfassung!Q498),\"\",Datenerfassung!Q498)","v":""}]
[{"$f":"IF(ISBLANK(Datenerfassung!A499),\"\",Datenerfassung!A499)","v":""},{"$f":"IF(ISBLANK(Datenerfassung!B499),\"\",Datenerfassung!B499)","v":""},{"$f":"IF(ISBLANK(Datenerfassung!C499),\"\",Datenerfassung!C499)","v":""},{"$f":"IF(ISBLANK(Datenerfassung!R499),\"\",Datenerfassung!R499)","v":""},{"$f":"IF(ISBLANK(Datenerfassung!S499),\"\",Datenerfassung!S499)","v":""},"",{"$f":"IF(ISBLANK(Datenerfassung!U499),\"\",Datenerfassung!U499)","v":""},{"$f":"IF(ISBLANK(Datenerfassung!O499),\"\",Datenerfassung!O499)","v":""},{"$f":"IF(ISBLANK(Datenerfassung!D499),IF(COUNTBLANK(A489:H489)+COUNTBLANK(J489:O489)=14,\"\",\"- ohne Titel -\"),Datenerfassung!D499)","v":""},{"$f":"IF(ISBLANK(Datenerfassung!G499),\"\",Datenerfassung!G499)","v":""},"",{"$f":"IF(ISBLANK(Datenerfassung!X499),\"\",Datenerfassung!X499)","v":""},{"$f":"IF(COUNTBLANK(Datenerfassung!H499:'Datenerfassung'!N499)=7,\"\",CONCATENATE( CONCATENATE(IF(ISBLANK(Datenerfassung!H499),\" \",Datenerfassung!H499 ),\" [IS]\"), CONCATENATE(IF(ISBLANK(Datenerfassung!I499),\" \",Datenerfassung!I499 ),\" [IS]\"), CONCATENATE(IF(ISBLANK(Datenerfassung!J499),\" \",Datenerfassung!J499 ),\" [IS]\"), CONCATENATE(IF(ISBLANK(Datenerfassung!K499),\" \",Datenerfassung!K499 ),\" [IS]\"), CONCATENATE(IF(ISBLANK(Datenerfassung!L499),\" \",Datenerfassung!L499 ),\" [IS]\"), CONCATENATE(IF(ISBLANK(Datenerfassung!M499),\" \",Datenerfassung!M499 ),\" [IS]\"), IF(ISBLANK(Datenerfassung!N499),\" \",Datenerfassung!N499 ) ))","v":""},{"$f":"IF(ISBLANK(Datenerfassung!V499),\"\",Datenerfassung!V499)","v":""},{"$f":"IF(ISBLANK(Datenerfassung!Q499),\"\",Datenerfassung!Q499)","v":""}]
[{"$f":"IF(ISBLANK(Datenerfassung!A500),\"\",Datenerfassung!A500)","v":""},{"$f":"IF(ISBLANK(Datenerfassung!B500),\"\",Datenerfassung!B500)","v":""},{"$f":"IF(ISBLANK(Datenerfassung!C500),\"\",Datenerfassung!C500)","v":""},{"$f":"IF(ISBLANK(Datenerfassung!R500),\"\",Datenerfassung!R500)","v":""},{"$f":"IF(ISBLANK(Datenerfassung!S500),\"\",Datenerfassung!S500)","v":""},"",{"$f":"IF(ISBLANK(Datenerfassung!U500),\"\",Datenerfassung!U500)","v":""},{"$f":"IF(ISBLANK(Datenerfassung!O500),\"\",Datenerfassung!O500)","v":""},{"$f":"IF(ISBLANK(Datenerfassung!D500),IF(COUNTBLANK(A490:H490)+COUNTBLANK(J490:O490)=14,\"\",\"- ohne Titel -\"),Datenerfassung!D500)","v":""},{"$f":"IF(ISBLANK(Datenerfassung!G500),\"\",Datenerfassung!G500)","v":""},"",{"$f":"IF(ISBLANK(Datenerfassung!X500),\"\",Datenerfassung!X500)","v":""},{"$f":"IF(COUNTBLANK(Datenerfassung!H500:'Datenerfassung'!N500)=7,\"\",CONCATENATE( CONCATENATE(IF(ISBLANK(Datenerfassung!H500),\" \",Datenerfassung!H500 ),\" [IS]\"), CONCATENATE(IF(ISBLANK(Datenerfassung!I500),\" \",Datenerfassung!I500 ),\" [IS]\"), CONCATENATE(IF(ISBLANK(Datenerfassung!J500),\" \",Datenerfassung!J500 ),\" [IS]\"), CONCATENATE(IF(ISBLANK(Datenerfassung!K500),\" \",Datenerfassung!K500 ),\" [IS]\"), CONCATENATE(IF(ISBLANK(Datenerfassung!L500),\" \",Datenerfassung!L500 ),\" [IS]\"), CONCATENATE(IF(ISBLANK(Datenerfassung!M500),\" \",Datenerfassung!M500 ),\" [IS]\"), IF(ISBLANK(Datenerfassung!N500),\" \",Datenerfassung!N500 ) ))","v":""},{"$f":"IF(ISBLANK(Datenerfassung!V500),\"\",Datenerfassung!V500)","v":""},{"$f":"IF(ISBLANK(Datenerfassung!Q500),\"\",Datenerfassung!Q500)","v":""}]
[{"$f":"IF(ISBLANK(Datenerfassung!A501),\"\",Datenerfassung!A501)","v":""},{"$f":"IF(ISBLANK(Datenerfassung!B501),\"\",Datenerfassung!B501)","v":""},{"$f":"IF(ISBLANK(Datenerfassung!C501),\"\",Datenerfassung!C501)","v":""},{"$f":"IF(ISBLANK(Datenerfassung!R501),\"\",Datenerfassung!R501)","v":""},{"$f":"IF(ISBLANK(Datenerfassung!S501),\"\",Datenerfassung!S501)","v":""},"",{"$f":"IF(ISBLANK(Datenerfassung!U501),\"\",Datenerfassung!U501)","v":""},{"$f":"IF(ISBLANK(Datenerfassung!O501),\"\",Datenerfassung!O501)","v":""},{"$f":"IF(ISBLANK(Datenerfassung!D501),IF(COUNTBLANK(A491:H491)+COUNTBLANK(J491:O491)=14,\"\",\"- ohne Titel -\"),Datenerfassung!D501)","v":""},{"$f":"IF(ISBLANK(Datenerfassung!G501),\"\",Datenerfassung!G501)","v":""},"",{"$f":"IF(ISBLANK(Datenerfassung!X501),\"\",Datenerfassung!X501)","v":""},{"$f":"IF(COUNTBLANK(Datenerfassung!H501:'Datenerfassung'!N501)=7,\"\",CONCATENATE( CONCATENATE(IF(ISBLANK(Datenerfassung!H501),\" \",Datenerfassung!H501 ),\" [IS]\"), CONCATENATE(IF(ISBLANK(Datenerfassung!I501),\" \",Datenerfassung!I501 ),\" [IS]\"), CONCATENATE(IF(ISBLANK(Datenerfassung!J501),\" \",Datenerfassung!J501 ),\" [IS]\"), CONCATENATE(IF(ISBLANK(Datenerfassung!K501),\" \",Datenerfassung!K501 ),\" [IS]\"), CONCATENATE(IF(ISBLANK(Datenerfassung!L501),\" \",Datenerfassung!L501 ),\" [IS]\"), CONCATENATE(IF(ISBLANK(Datenerfassung!M501),\" \",Datenerfassung!M501 ),\" [IS]\"), IF(ISBLANK(Datenerfassung!N501),\" \",Datenerfassung!N501 ) ))","v":""},{"$f":"IF(ISBLANK(Datenerfassung!V501),\"\",Datenerfassung!V501)","v":""},{"$f":"IF(ISBLANK(Datenerfassung!Q501),\"\",Datenerfassung!Q501)","v":""}]
[{"$f":"IF(ISBLANK(Datenerfassung!A502),\"\",Datenerfassung!A502)","v":""},{"$f":"IF(ISBLANK(Datenerfassung!B502),\"\",Datenerfassung!B502)","v":""},{"$f":"IF(ISBLANK(Datenerfassung!C502),\"\",Datenerfassung!C502)","v":""},{"$f":"IF(ISBLANK(Datenerfassung!R502),\"\",Datenerfassung!R502)","v":""},{"$f":"IF(ISBLANK(Datenerfassung!S502),\"\",Datenerfassung!S502)","v":""},"",{"$f":"IF(ISBLANK(Datenerfassung!U502),\"\",Datenerfassung!U502)","v":""},{"$f":"IF(ISBLANK(Datenerfassung!O502),\"\",Datenerfassung!O502)","v":""},{"$f":"IF(ISBLANK(Datenerfassung!D502),IF(COUNTBLANK(A492:H492)+COUNTBLANK(J492:O492)=14,\"\",\"- ohne Titel -\"),Datenerfassung!D502)","v":""},{"$f":"IF(ISBLANK(Datenerfassung!G502),\"\",Datenerfassung!G502)","v":""},"",{"$f":"IF(ISBLANK(Datenerfassung!X502),\"\",Datenerfassung!X502)","v":""},{"$f":"IF(COUNTBLANK(Datenerfassung!H502:'Datenerfassung'!N502)=7,\"\",CONCATENATE( CONCATENATE(IF(ISBLANK(Datenerfassung!H502),\" \",Datenerfassung!H502 ),\" [IS]\"), CONCATENATE(IF(ISBLANK(Datenerfassung!I502),\" \",Datenerfassung!I502 ),\" [IS]\"), CONCATENATE(IF(ISBLANK(Datenerfassung!J502),\" \",Datenerfassung!J502 ),\" [IS]\"), CONCATENATE(IF(ISBLANK(Datenerfassung!K502),\" \",Datenerfassung!K502 ),\" [IS]\"), CONCATENATE(IF(ISBLANK(Datenerfassung!L502),\" \",Datenerfassung!L502 ),\" [IS]\"), CONCATENATE(IF(ISBLANK(Datenerfassung!M502),\" \",Datenerfassung!M502 ),\" [IS]\"), IF(ISBLANK(Datenerfassung!N502),\" \",Datenerfassung!N502 ) ))","v":""},{"$f":"IF(ISBLANK(Datenerfassung!V502),\"\",Datenerfassung!V502)","v":""},{"$f":"IF(ISBLANK(Datenerfassung!Q502),\"\",Datenerfassung!Q502)","v":""}]
[{"$f":"IF(ISBLANK(Datenerfassung!A503),\"\",Datenerfassung!A503)","v":""},{"$f":"IF(ISBLANK(Datenerfassung!B503),\"\",Datenerfassung!B503)","v":""},{"$f":"IF(ISBLANK(Datenerfassung!C503),\"\",Datenerfassung!C503)","v":""},{"$f":"IF(ISBLANK(Datenerfassung!R503),\"\",Datenerfassung!R503)","v":""},{"$f":"IF(ISBLANK(Datenerfassung!S503),\"\",Datenerfassung!S503)","v":""},"",{"$f":"IF(ISBLANK(Datenerfassung!U503),\"\",Datenerfassung!U503)","v":""},{"$f":"IF(ISBLANK(Datenerfassung!O503),\"\",Datenerfassung!O503)","v":""},{"$f":"IF(ISBLANK(Datenerfassung!D503),IF(COUNTBLANK(A493:H493)+COUNTBLANK(J493:O493)=14,\"\",\"- ohne Titel -\"),Datenerfassung!D503)","v":""},{"$f":"IF(ISBLANK(Datenerfassung!G503),\"\",Datenerfassung!G503)","v":""},"",{"$f":"IF(ISBLANK(Datenerfassung!X503),\"\",Datenerfassung!X503)","v":""},{"$f":"IF(COUNTBLANK(Datenerfassung!H503:'Datenerfassung'!N503)=7,\"\",CONCATENATE( CONCATENATE(IF(ISBLANK(Datenerfassung!H503),\" \",Datenerfassung!H503 ),\" [IS]\"), CONCATENATE(IF(ISBLANK(Datenerfassung!I503),\" \",Datenerfassung!I503 ),\" [IS]\"), CONCATENATE(IF(ISBLANK(Datenerfassung!J503),\" \",Datenerfassung!J503 ),\" [IS]\"), CONCATENATE(IF(ISBLANK(Datenerfassung!K503),\" \",Datenerfassung!K503 ),\" [IS]\"), CONCATENATE(IF(ISBLANK(Datenerfassung!L503),\" \",Datenerfassung!L503 ),\" [IS]\"), CONCATENATE(IF(ISBLANK(Datenerfassung!M503),\" \",Datenerfassung!M503 ),\" [IS]\"), IF(ISBLANK(Datenerfassung!N503),\" \",Datenerfassung!N503 ) ))","v":""},{"$f":"IF(ISBLANK(Datenerfassung!V503),\"\",Datenerfassung!V503)","v":""},{"$f":"IF(ISBLANK(Datenerfassung!Q503),\"\",Datenerfassung!Q503)","v":""}]
[{"$f":"IF(ISBLANK(Datenerfassung!A504),\"\",Datenerfassung!A504)","v":""},{"$f":"IF(ISBLANK(Datenerfassung!B504),\"\",Datenerfassung!B504)","v":""},{"$f":"IF(ISBLANK(Datenerfassung!C504),\"\",Datenerfassung!C504)","v":""},{"$f":"IF(ISBLANK(Datenerfassung!R504),\"\",Datenerfassung!R504)","v":""},{"$f":"IF(ISBLANK(Datenerfassung!S504),\"\",Datenerfassung!S504)","v":""},"",{"$f":"IF(ISBLANK(Datenerfassung!U504),\"\",Datenerfassung!U504)","v":""},{"$f":"IF(ISBLANK(Datenerfassung!O504),\"\",Datenerfassung!O504)","v":""},{"$f":"IF(ISBLANK(Datenerfassung!D504),IF(COUNTBLANK(A494:H494)+COUNTBLANK(J494:O494)=14,\"\",\"- ohne Titel -\"),Datenerfassung!D504)","v":""},{"$f":"IF(ISBLANK(Datenerfassung!G504),\"\",Datenerfassung!G504)","v":""},"",{"$f":"IF(ISBLANK(Datenerfassung!X504),\"\",Datenerfassung!X504)","v":""},{"$f":"IF(COUNTBLANK(Datenerfassung!H504:'Datenerfassung'!N504)=7,\"\",CONCATENATE( CONCATENATE(IF(ISBLANK(Datenerfassung!H504),\" \",Datenerfassung!H504 ),\" [IS]\"), CONCATENATE(IF(ISBLANK(Datenerfassung!I504),\" \",Datenerfassung!I504 ),\" [IS]\"), CONCATENATE(IF(ISBLANK(Datenerfassung!J504),\" \",Datenerfassung!J504 ),\" [IS]\"), CONCATENATE(IF(ISBLANK(Datenerfassung!K504),\" \",Datenerfassung!K504 ),\" [IS]\"), CONCATENATE(IF(ISBLANK(Datenerfassung!L504),\" \",Datenerfassung!L504 ),\" [IS]\"), CONCATENATE(IF(ISBLANK(Datenerfassung!M504),\" \",Datenerfassung!M504 ),\" [IS]\"), IF(ISBLANK(Datenerfassung!N504),\" \",Datenerfassung!N504 ) ))","v":""},{"$f":"IF(ISBLANK(Datenerfassung!V504),\"\",Datenerfassung!V504)","v":""},{"$f":"IF(ISBLANK(Datenerfassung!Q504),\"\",Datenerfassung!Q504)","v":""}]
[{"$f":"IF(ISBLANK(Datenerfassung!A505),\"\",Datenerfassung!A505)","v":""},{"$f":"IF(ISBLANK(Datenerfassung!B505),\"\",Datenerfassung!B505)","v":""},{"$f":"IF(ISBLANK(Datenerfassung!C505),\"\",Datenerfassung!C505)","v":""},{"$f":"IF(ISBLANK(Datenerfassung!R505),\"\",Datenerfassung!R505)","v":""},{"$f":"IF(ISBLANK(Datenerfassung!S505),\"\",Datenerfassung!S505)","v":""},"",{"$f":"IF(ISBLANK(Datenerfassung!U505),\"\",Datenerfassung!U505)","v":""},{"$f":"IF(ISBLANK(Datenerfassung!O505),\"\",Datenerfassung!O505)","v":""},{"$f":"IF(ISBLANK(Datenerfassung!D505),IF(COUNTBLANK(A495:H495)+COUNTBLANK(J495:O495)=14,\"\",\"- ohne Titel -\"),Datenerfassung!D505)","v":""},{"$f":"IF(ISBLANK(Datenerfassung!G505),\"\",Datenerfassung!G505)","v":""},"",{"$f":"IF(ISBLANK(Datenerfassung!X505),\"\",Datenerfassung!X505)","v":""},{"$f":"IF(COUNTBLANK(Datenerfassung!H505:'Datenerfassung'!N505)=7,\"\",CONCATENATE( CONCATENATE(IF(ISBLANK(Datenerfassung!H505),\" \",Datenerfassung!H505 ),\" [IS]\"), CONCATENATE(IF(ISBLANK(Datenerfassung!I505),\" \",Datenerfassung!I505 ),\" [IS]\"), CONCATENATE(IF(ISBLANK(Datenerfassung!J505),\" \",Datenerfassung!J505 ),\" [IS]\"), CONCATENATE(IF(ISBLANK(Datenerfassung!K505),\" \",Datenerfassung!K505 ),\" [IS]\"), CONCATENATE(IF(ISBLANK(Datenerfassung!L505),\" \",Datenerfassung!L505 ),\" [IS]\"), CONCATENATE(IF(ISBLANK(Datenerfassung!M505),\" \",Datenerfassung!M505 ),\" [IS]\"), IF(ISBLANK(Datenerfassung!N505),\" \",Datenerfassung!N505 ) ))","v":""},{"$f":"IF(ISBLANK(Datenerfassung!V505),\"\",Datenerfassung!V505)","v":""},{"$f":"IF(ISBLANK(Datenerfassung!Q505),\"\",Datenerfassung!Q505)","v":""}]
[{"$f":"IF(ISBLANK(Datenerfassung!A506),\"\",Datenerfassung!A506)","v":""},{"$f":"IF(ISBLANK(Datenerfassung!B506),\"\",Datenerfassung!B506)","v":""},{"$f":"IF(ISBLANK(Datenerfassung!C506),\"\",Datenerfassung!C506)","v":""},{"$f":"IF(ISBLANK(Datenerfassung!R506),\"\",Datenerfassung!R506)","v":""},{"$f":"IF(ISBLANK(Datenerfassung!S506),\"\",Datenerfassung!S506)","v":""},"",{"$f":"IF(ISBLANK(Datenerfassung!U506),\"\",Datenerfassung!U506)","v":""},{"$f":"IF(ISBLANK(Datenerfassung!O506),\"\",Datenerfassung!O506)","v":""},{"$f":"IF(ISBLANK(Datenerfassung!D506),IF(COUNTBLANK(A496:H496)+COUNTBLANK(J496:O496)=14,\"\",\"- ohne Titel -\"),Datenerfassung!D506)","v":""},{"$f":"IF(ISBLANK(Datenerfassung!G506),\"\",Datenerfassung!G506)","v":""},"",{"$f":"IF(ISBLANK(Datenerfassung!X506),\"\",Datenerfassung!X506)","v":""},{"$f":"IF(COUNTBLANK(Datenerfassung!H506:'Datenerfassung'!N506)=7,\"\",CONCATENATE( CONCATENATE(IF(ISBLANK(Datenerfassung!H506),\" \",Datenerfassung!H506 ),\" [IS]\"), CONCATENATE(IF(ISBLANK(Datenerfassung!I506),\" \",Datenerfassung!I506 ),\" [IS]\"), CONCATENATE(IF(ISBLANK(Datenerfassung!J506),\" \",Datenerfassung!J506 ),\" [IS]\"), CONCATENATE(IF(ISBLANK(Datenerfassung!K506),\" \",Datenerfassung!K506 ),\" [IS]\"), CONCATENATE(IF(ISBLANK(Datenerfassung!L506),\" \",Datenerfassung!L506 ),\" [IS]\"), CONCATENATE(IF(ISBLANK(Datenerfassung!M506),\" \",Datenerfassung!M506 ),\" [IS]\"), IF(ISBLANK(Datenerfassung!N506),\" \",Datenerfassung!N506 ) ))","v":""},{"$f":"IF(ISBLANK(Datenerfassung!V506),\"\",Datenerfassung!V506)","v":""},{"$f":"IF(ISBLANK(Datenerfassung!Q506),\"\",Datenerfassung!Q506)","v":""}]
[{"$f":"IF(ISBLANK(Datenerfassung!A507),\"\",Datenerfassung!A507)","v":""},{"$f":"IF(ISBLANK(Datenerfassung!B507),\"\",Datenerfassung!B507)","v":""},{"$f":"IF(ISBLANK(Datenerfassung!C507),\"\",Datenerfassung!C507)","v":""},{"$f":"IF(ISBLANK(Datenerfassung!R507),\"\",Datenerfassung!R507)","v":""},{"$f":"IF(ISBLANK(Datenerfassung!S507),\"\",Datenerfassung!S507)","v":""},"",{"$f":"IF(ISBLANK(Datenerfassung!U507),\"\",Datenerfassung!U507)","v":""},{"$f":"IF(ISBLANK(Datenerfassung!O507),\"\",Datenerfassung!O507)","v":""},{"$f":"IF(ISBLANK(Datenerfassung!D507),IF(COUNTBLANK(A497:H497)+COUNTBLANK(J497:O497)=14,\"\",\"- ohne Titel -\"),Datenerfassung!D507)","v":""},{"$f":"IF(ISBLANK(Datenerfassung!G507),\"\",Datenerfassung!G507)","v":""},"",{"$f":"IF(ISBLANK(Datenerfassung!X507),\"\",Datenerfassung!X507)","v":""},{"$f":"IF(COUNTBLANK(Datenerfassung!H507:'Datenerfassung'!N507)=7,\"\",CONCATENATE( CONCATENATE(IF(ISBLANK(Datenerfassung!H507),\" \",Datenerfassung!H507 ),\" [IS]\"), CONCATENATE(IF(ISBLANK(Datenerfassung!I507),\" \",Datenerfassung!I507 ),\" [IS]\"), CONCATENATE(IF(ISBLANK(Datenerfassung!J507),\" \",Datenerfassung!J507 ),\" [IS]\"), CONCATENATE(IF(ISBLANK(Datenerfassung!K507),\" \",Datenerfassung!K507 ),\" [IS]\"), CONCATENATE(IF(ISBLANK(Datenerfassung!L507),\" \",Datenerfassung!L507 ),\" [IS]\"), CONCATENATE(IF(ISBLANK(Datenerfassung!M507),\" \",Datenerfassung!M507 ),\" [IS]\"), IF(ISBLANK(Datenerfassung!N507),\" \",Datenerfassung!N507 ) ))","v":""},{"$f":"IF(ISBLANK(Datenerfassung!V507),\"\",Datenerfassung!V507)","v":""},{"$f":"IF(ISBLANK(Datenerfassung!Q507),\"\",Datenerfassung!Q507)","v":""}]
[{"$f":"IF(ISBLANK(Datenerfassung!A508),\"\",Datenerfassung!A508)","v":""},{"$f":"IF(ISBLANK(Datenerfassung!B508),\"\",Datenerfassung!B508)","v":""},{"$f":"IF(ISBLANK(Datenerfassung!C508),\"\",Datenerfassung!C508)","v":""},{"$f":"IF(ISBLANK(Datenerfassung!R508),\"\",Datenerfassung!R508)","v":""},{"$f":"IF(ISBLANK(Datenerfassung!S508),\"\",Datenerfassung!S508)","v":""},"",{"$f":"IF(ISBLANK(Datenerfassung!U508),\"\",Datenerfassung!U508)","v":""},{"$f":"IF(ISBLANK(Datenerfassung!O508),\"\",Datenerfassung!O508)","v":""},{"$f":"IF(ISBLANK(Datenerfassung!D508),IF(COUNTBLANK(A498:H498)+COUNTBLANK(J498:O498)=14,\"\",\"- ohne Titel -\"),Datenerfassung!D508)","v":""},{"$f":"IF(ISBLANK(Datenerfassung!G508),\"\",Datenerfassung!G508)","v":""},"",{"$f":"IF(ISBLANK(Datenerfassung!X508),\"\",Datenerfassung!X508)","v":""},{"$f":"IF(COUNTBLANK(Datenerfassung!H508:'Datenerfassung'!N508)=7,\"\",CONCATENATE( CONCATENATE(IF(ISBLANK(Datenerfassung!H508),\" \",Datenerfassung!H508 ),\" [IS]\"), CONCATENATE(IF(ISBLANK(Datenerfassung!I508),\" \",Datenerfassung!I508 ),\" [IS]\"), CONCATENATE(IF(ISBLANK(Datenerfassung!J508),\" \",Datenerfassung!J508 ),\" [IS]\"), CONCATENATE(IF(ISBLANK(Datenerfassung!K508),\" \",Datenerfassung!K508 ),\" [IS]\"), CONCATENATE(IF(ISBLANK(Datenerfassung!L508),\" \",Datenerfassung!L508 ),\" [IS]\"), CONCATENATE(IF(ISBLANK(Datenerfassung!M508),\" \",Datenerfassung!M508 ),\" [IS]\"), IF(ISBLANK(Datenerfassung!N508),\" \",Datenerfassung!N508 ) ))","v":""},{"$f":"IF(ISBLANK(Datenerfassung!V508),\"\",Datenerfassung!V508)","v":""},{"$f":"IF(ISBLANK(Datenerfassung!Q508),\"\",Datenerfassung!Q508)","v":""}]
[{"$f":"IF(ISBLANK(Datenerfassung!A509),\"\",Datenerfassung!A509)","v":""},{"$f":"IF(ISBLANK(Datenerfassung!B509),\"\",Datenerfassung!B509)","v":""},{"$f":"IF(ISBLANK(Datenerfassung!C509),\"\",Datenerfassung!C509)","v":""},{"$f":"IF(ISBLANK(Datenerfassung!R509),\"\",Datenerfassung!R509)","v":""},{"$f":"IF(ISBLANK(Datenerfassung!S509),\"\",Datenerfassung!S509)","v":""},"",{"$f":"IF(ISBLANK(Datenerfassung!U509),\"\",Datenerfassung!U509)","v":""},{"$f":"IF(ISBLANK(Datenerfassung!O509),\"\",Datenerfassung!O509)","v":""},{"$f":"IF(ISBLANK(Datenerfassung!D509),IF(COUNTBLANK(A499:H499)+COUNTBLANK(J499:O499)=14,\"\",\"- ohne Titel -\"),Datenerfassung!D509)","v":""},{"$f":"IF(ISBLANK(Datenerfassung!G509),\"\",Datenerfassung!G509)","v":""},"",{"$f":"IF(ISBLANK(Datenerfassung!X509),\"\",Datenerfassung!X509)","v":""},{"$f":"IF(COUNTBLANK(Datenerfassung!H509:'Datenerfassung'!N509)=7,\"\",CONCATENATE( CONCATENATE(IF(ISBLANK(Datenerfassung!H509),\" \",Datenerfassung!H509 ),\" [IS]\"), CONCATENATE(IF(ISBLANK(Datenerfassung!I509),\" \",Datenerfassung!I509 ),\" [IS]\"), CONCATENATE(IF(ISBLANK(Datenerfassung!J509),\" \",Datenerfassung!J509 ),\" [IS]\"), CONCATENATE(IF(ISBLANK(Datenerfassung!K509),\" \",Datenerfassung!K509 ),\" [IS]\"), CONCATENATE(IF(ISBLANK(Datenerfassung!L509),\" \",Datenerfassung!L509 ),\" [IS]\"), CONCATENATE(IF(ISBLANK(Datenerfassung!M509),\" \",Datenerfassung!M509 ),\" [IS]\"), IF(ISBLANK(Datenerfassung!N509),\" \",Datenerfassung!N509 ) ))","v":""},{"$f":"IF(ISBLANK(Datenerfassung!V509),\"\",Datenerfassung!V509)","v":""},{"$f":"IF(ISBLANK(Datenerfassung!Q509),\"\",Datenerfassung!Q509)","v":""}]
[{"$f":"IF(ISBLANK(Datenerfassung!A510),\"\",Datenerfassung!A510)","v":""},{"$f":"IF(ISBLANK(Datenerfassung!B510),\"\",Datenerfassung!B510)","v":""},{"$f":"IF(ISBLANK(Datenerfassung!C510),\"\",Datenerfassung!C510)","v":""},{"$f":"IF(ISBLANK(Datenerfassung!R510),\"\",Datenerfassung!R510)","v":""},{"$f":"IF(ISBLANK(Datenerfassung!S510),\"\",Datenerfassung!S510)","v":""},"",{"$f":"IF(ISBLANK(Datenerfassung!U510),\"\",Datenerfassung!U510)","v":""},{"$f":"IF(ISBLANK(Datenerfassung!O510),\"\",Datenerfassung!O510)","v":""},{"$f":"IF(ISBLANK(Datenerfassung!D510),IF(COUNTBLANK(A500:H500)+COUNTBLANK(J500:O500)=14,\"\",\"- ohne Titel -\"),Datenerfassung!D510)","v":""},{"$f":"IF(ISBLANK(Datenerfassung!G510),\"\",Datenerfassung!G510)","v":""},"",{"$f":"IF(ISBLANK(Datenerfassung!X510),\"\",Datenerfassung!X510)","v":""},{"$f":"IF(COUNTBLANK(Datenerfassung!H510:'Datenerfassung'!N510)=7,\"\",CONCATENATE( CONCATENATE(IF(ISBLANK(Datenerfassung!H510),\" \",Datenerfassung!H510 ),\" [IS]\"), CONCATENATE(IF(ISBLANK(Datenerfassung!I510),\" \",Datenerfassung!I510 ),\" [IS]\"), CONCATENATE(IF(ISBLANK(Datenerfassung!J510),\" \",Datenerfassung!J510 ),\" [IS]\"), CONCATENATE(IF(ISBLANK(Datenerfassung!K510),\" \",Datenerfassung!K510 ),\" [IS]\"), CONCATENATE(IF(ISBLANK(Datenerfassung!L510),\" \",Datenerfassung!L510 ),\" [IS]\"), CONCATENATE(IF(ISBLANK(Datenerfassung!M510),\" \",Datenerfassung!M510 ),\" [IS]\"), IF(ISBLANK(Datenerfassung!N510),\" \",Datenerfassung!N510 ) ))","v":""},{"$f":"IF(ISBLANK(Datenerfassung!V510),\"\",Datenerfassung!V510)","v":""},{"$f":"IF(ISBLANK(Datenerfassung!Q510),\"\",Datenerfassung!Q510)","v":""}]
[{"$f":"IF(ISBLANK(Datenerfassung!A511),\"\",Datenerfassung!A511)","v":""},{"$f":"IF(ISBLANK(Datenerfassung!B511),\"\",Datenerfassung!B511)","v":""},{"$f":"IF(ISBLANK(Datenerfassung!C511),\"\",Datenerfassung!C511)","v":""},{"$f":"IF(ISBLANK(Datenerfassung!R511),\"\",Datenerfassung!R511)","v":""},{"$f":"IF(ISBLANK(Datenerfassung!S511),\"\",Datenerfassung!S511)","v":""},"",{"$f":"IF(ISBLANK(Datenerfassung!U511),\"\",Datenerfassung!U511)","v":""},{"$f":"IF(ISBLANK(Datenerfassung!O511),\"\",Datenerfassung!O511)","v":""},{"$f":"IF(ISBLANK(Datenerfassung!D511),IF(COUNTBLANK(A501:H501)+COUNTBLANK(J501:O501)=14,\"\",\"- ohne Titel -\"),Datenerfassung!D511)","v":""},{"$f":"IF(ISBLANK(Datenerfassung!G511),\"\",Datenerfassung!G511)","v":""},"",{"$f":"IF(ISBLANK(Datenerfassung!X511),\"\",Datenerfassung!X511)","v":""},{"$f":"IF(COUNTBLANK(Datenerfassung!H511:'Datenerfassung'!N511)=7,\"\",CONCATENATE( CONCATENATE(IF(ISBLANK(Datenerfassung!H511),\" \",Datenerfassung!H511 ),\" [IS]\"), CONCATENATE(IF(ISBLANK(Datenerfassung!I511),\" \",Datenerfassung!I511 ),\" [IS]\"), CONCATENATE(IF(ISBLANK(Datenerfassung!J511),\" \",Datenerfassung!J511 ),\" [IS]\"), CONCATENATE(IF(ISBLANK(Datenerfassung!K511),\" \",Datenerfassung!K511 ),\" [IS]\"), CONCATENATE(IF(ISBLANK(Datenerfassung!L511),\" \",Datenerfassung!L511 ),\" [IS]\"), CONCATENATE(IF(ISBLANK(Datenerfassung!M511),\" \",Datenerfassung!M511 ),\" [IS]\"), IF(ISBLANK(Datenerfassung!N511),\" \",Datenerfassung!N511 ) ))","v":""},{"$f":"IF(ISBLANK(Datenerfassung!V511),\"\",Datenerfassung!V511)","v":""},{"$f":"IF(ISBLANK(Datenerfassung!Q511),\"\",Datenerfassung!Q511)","v":""}]
[{"$f":"IF(ISBLANK(Datenerfassung!A512),\"\",Datenerfassung!A512)","v":""},{"$f":"IF(ISBLANK(Datenerfassung!B512),\"\",Datenerfassung!B512)","v":""},{"$f":"IF(ISBLANK(Datenerfassung!C512),\"\",Datenerfassung!C512)","v":""},{"$f":"IF(ISBLANK(Datenerfassung!R512),\"\",Datenerfassung!R512)","v":""},{"$f":"IF(ISBLANK(Datenerfassung!S512),\"\",Datenerfassung!S512)","v":""},"",{"$f":"IF(ISBLANK(Datenerfassung!U512),\"\",Datenerfassung!U512)","v":""},{"$f":"IF(ISBLANK(Datenerfassung!O512),\"\",Datenerfassung!O512)","v":""},{"$f":"IF(ISBLANK(Datenerfassung!D512),IF(COUNTBLANK(A502:H502)+COUNTBLANK(J502:O502)=14,\"\",\"- ohne Titel -\"),Datenerfassung!D512)","v":""},{"$f":"IF(ISBLANK(Datenerfassung!G512),\"\",Datenerfassung!G512)","v":""},"",{"$f":"IF(ISBLANK(Datenerfassung!X512),\"\",Datenerfassung!X512)","v":""},{"$f":"IF(COUNTBLANK(Datenerfassung!H512:'Datenerfassung'!N512)=7,\"\",CONCATENATE( CONCATENATE(IF(ISBLANK(Datenerfassung!H512),\" \",Datenerfassung!H512 ),\" [IS]\"), CONCATENATE(IF(ISBLANK(Datenerfassung!I512),\" \",Datenerfassung!I512 ),\" [IS]\"), CONCATENATE(IF(ISBLANK(Datenerfassung!J512),\" \",Datenerfassung!J512 ),\" [IS]\"), CONCATENATE(IF(ISBLANK(Datenerfassung!K512),\" \",Datenerfassung!K512 ),\" [IS]\"), CONCATENATE(IF(ISBLANK(Datenerfassung!L512),\" \",Datenerfassung!L512 ),\" [IS]\"), CONCATENATE(IF(ISBLANK(Datenerfassung!M512),\" \",Datenerfassung!M512 ),\" [IS]\"), IF(ISBLANK(Datenerfassung!N512),\" \",Datenerfassung!N512 ) ))","v":""},{"$f":"IF(ISBLANK(Datenerfassung!V512),\"\",Datenerfassung!V512)","v":""},{"$f":"IF(ISBLANK(Datenerfassung!Q512),\"\",Datenerfassung!Q512)","v":""}]
[{"$f":"IF(ISBLANK(Datenerfassung!A513),\"\",Datenerfassung!A513)","v":""},{"$f":"IF(ISBLANK(Datenerfassung!B513),\"\",Datenerfassung!B513)","v":""},{"$f":"IF(ISBLANK(Datenerfassung!C513),\"\",Datenerfassung!C513)","v":""},{"$f":"IF(ISBLANK(Datenerfassung!R513),\"\",Datenerfassung!R513)","v":""},{"$f":"IF(ISBLANK(Datenerfassung!S513),\"\",Datenerfassung!S513)","v":""},"",{"$f":"IF(ISBLANK(Datenerfassung!U513),\"\",Datenerfassung!U513)","v":""},{"$f":"IF(ISBLANK(Datenerfassung!O513),\"\",Datenerfassung!O513)","v":""},{"$f":"IF(ISBLANK(Datenerfassung!D513),IF(COUNTBLANK(A503:H503)+COUNTBLANK(J503:O503)=14,\"\",\"- ohne Titel -\"),Datenerfassung!D513)","v":""},{"$f":"IF(ISBLANK(Datenerfassung!G513),\"\",Datenerfassung!G513)","v":""},"",{"$f":"IF(ISBLANK(Datenerfassung!X513),\"\",Datenerfassung!X513)","v":""},{"$f":"IF(COUNTBLANK(Datenerfassung!H513:'Datenerfassung'!N513)=7,\"\",CONCATENATE( CONCATENATE(IF(ISBLANK(Datenerfassung!H513),\" \",Datenerfassung!H513 ),\" [IS]\"), CONCATENATE(IF(ISBLANK(Datenerfassung!I513),\" \",Datenerfassung!I513 ),\" [IS]\"), CONCATENATE(IF(ISBLANK(Datenerfassung!J513),\" \",Datenerfassung!J513 ),\" [IS]\"), CONCATENATE(IF(ISBLANK(Datenerfassung!K513),\" \",Datenerfassung!K513 ),\" [IS]\"), CONCATENATE(IF(ISBLANK(Datenerfassung!L513),\" \",Datenerfassung!L513 ),\" [IS]\"), CONCATENATE(IF(ISBLANK(Datenerfassung!M513),\" \",Datenerfassung!M513 ),\" [IS]\"), IF(ISBLANK(Datenerfassung!N513),\" \",Datenerfassung!N513 ) ))","v":""},{"$f":"IF(ISBLANK(Datenerfassung!V513),\"\",Datenerfassung!V513)","v":""},{"$f":"IF(ISBLANK(Datenerfassung!Q513),\"\",Datenerfassung!Q513)","v":""}]
[{"$f":"IF(ISBLANK(Datenerfassung!A514),\"\",Datenerfassung!A514)","v":""},{"$f":"IF(ISBLANK(Datenerfassung!B514),\"\",Datenerfassung!B514)","v":""},{"$f":"IF(ISBLANK(Datenerfassung!C514),\"\",Datenerfassung!C514)","v":""},{"$f":"IF(ISBLANK(Datenerfassung!R514),\"\",Datenerfassung!R514)","v":""},{"$f":"IF(ISBLANK(Datenerfassung!S514),\"\",Datenerfassung!S514)","v":""},"",{"$f":"IF(ISBLANK(Datenerfassung!U514),\"\",Datenerfassung!U514)","v":""},{"$f":"IF(ISBLANK(Datenerfassung!O514),\"\",Datenerfassung!O514)","v":""},{"$f":"IF(ISBLANK(Datenerfassung!D514),IF(COUNTBLANK(A504:H504)+COUNTBLANK(J504:O504)=14,\"\",\"- ohne Titel -\"),Datenerfassung!D514)","v":""},{"$f":"IF(ISBLANK(Datenerfassung!G514),\"\",Datenerfassung!G514)","v":""},"",{"$f":"IF(ISBLANK(Datenerfassung!X514),\"\",Datenerfassung!X514)","v":""},{"$f":"IF(COUNTBLANK(Datenerfassung!H514:'Datenerfassung'!N514)=7,\"\",CONCATENATE( CONCATENATE(IF(ISBLANK(Datenerfassung!H514),\" \",Datenerfassung!H514 ),\" [IS]\"), CONCATENATE(IF(ISBLANK(Datenerfassung!I514),\" \",Datenerfassung!I514 ),\" [IS]\"), CONCATENATE(IF(ISBLANK(Datenerfassung!J514),\" \",Datenerfassung!J514 ),\" [IS]\"), CONCATENATE(IF(ISBLANK(Datenerfassung!K514),\" \",Datenerfassung!K514 ),\" [IS]\"), CONCATENATE(IF(ISBLANK(Datenerfassung!L514),\" \",Datenerfassung!L514 ),\" [IS]\"), CONCATENATE(IF(ISBLANK(Datenerfassung!M514),\" \",Datenerfassung!M514 ),\" [IS]\"), IF(ISBLANK(Datenerfassung!N514),\" \",Datenerfassung!N514 ) ))","v":""},{"$f":"IF(ISBLANK(Datenerfassung!V514),\"\",Datenerfassung!V514)","v":""},{"$f":"IF(ISBLANK(Datenerfassung!Q514),\"\",Datenerfassung!Q514)","v":""}]
[{"$f":"IF(ISBLANK(Datenerfassung!A515),\"\",Datenerfassung!A515)","v":""},{"$f":"IF(ISBLANK(Datenerfassung!B515),\"\",Datenerfassung!B515)","v":""},{"$f":"IF(ISBLANK(Datenerfassung!C515),\"\",Datenerfassung!C515)","v":""},{"$f":"IF(ISBLANK(Datenerfassung!R515),\"\",Datenerfassung!R515)","v":""},{"$f":"IF(ISBLANK(Datenerfassung!S515),\"\",Datenerfassung!S515)","v":""},"",{"$f":"IF(ISBLANK(Datenerfassung!U515),\"\",Datenerfassung!U515)","v":""},{"$f":"IF(ISBLANK(Datenerfassung!O515),\"\",Datenerfassung!O515)","v":""},{"$f":"IF(ISBLANK(Datenerfassung!D515),IF(COUNTBLANK(A505:H505)+COUNTBLANK(J505:O505)=14,\"\",\"- ohne Titel -\"),Datenerfassung!D515)","v":""},{"$f":"IF(ISBLANK(Datenerfassung!G515),\"\",Datenerfassung!G515)","v":""},"",{"$f":"IF(ISBLANK(Datenerfassung!X515),\"\",Datenerfassung!X515)","v":""},{"$f":"IF(COUNTBLANK(Datenerfassung!H515:'Datenerfassung'!N515)=7,\"\",CONCATENATE( CONCATENATE(IF(ISBLANK(Datenerfassung!H515),\" \",Datenerfassung!H515 ),\" [IS]\"), CONCATENATE(IF(ISBLANK(Datenerfassung!I515),\" \",Datenerfassung!I515 ),\" [IS]\"), CONCATENATE(IF(ISBLANK(Datenerfassung!J515),\" \",Datenerfassung!J515 ),\" [IS]\"), CONCATENATE(IF(ISBLANK(Datenerfassung!K515),\" \",Datenerfassung!K515 ),\" [IS]\"), CONCATENATE(IF(ISBLANK(Datenerfassung!L515),\" \",Datenerfassung!L515 ),\" [IS]\"), CONCATENATE(IF(ISBLANK(Datenerfassung!M515),\" \",Datenerfassung!M515 ),\" [IS]\"), IF(ISBLANK(Datenerfassung!N515),\" \",Datenerfassung!N515 ) ))","v":""},{"$f":"IF(ISBLANK(Datenerfassung!V515),\"\",Datenerfassung!V515)","v":""},{"$f":"IF(ISBLANK(Datenerfassung!Q515),\"\",Datenerfassung!Q515)","v":""}]
[{"$f":"IF(ISBLANK(Datenerfassung!A516),\"\",Datenerfassung!A516)","v":""},{"$f":"IF(ISBLANK(Datenerfassung!B516),\"\",Datenerfassung!B516)","v":""},{"$f":"IF(ISBLANK(Datenerfassung!C516),\"\",Datenerfassung!C516)","v":""},{"$f":"IF(ISBLANK(Datenerfassung!R516),\"\",Datenerfassung!R516)","v":""},{"$f":"IF(ISBLANK(Datenerfassung!S516),\"\",Datenerfassung!S516)","v":""},"",{"$f":"IF(ISBLANK(Datenerfassung!U516),\"\",Datenerfassung!U516)","v":""},{"$f":"IF(ISBLANK(Datenerfassung!O516),\"\",Datenerfassung!O516)","v":""},{"$f":"IF(ISBLANK(Datenerfassung!D516),IF(COUNTBLANK(A506:H506)+COUNTBLANK(J506:O506)=14,\"\",\"- ohne Titel -\"),Datenerfassung!D516)","v":""},{"$f":"IF(ISBLANK(Datenerfassung!G516),\"\",Datenerfassung!G516)","v":""},"",{"$f":"IF(ISBLANK(Datenerfassung!X516),\"\",Datenerfassung!X516)","v":""},{"$f":"IF(COUNTBLANK(Datenerfassung!H516:'Datenerfassung'!N516)=7,\"\",CONCATENATE( CONCATENATE(IF(ISBLANK(Datenerfassung!H516),\" \",Datenerfassung!H516 ),\" [IS]\"), CONCATENATE(IF(ISBLANK(Datenerfassung!I516),\" \",Datenerfassung!I516 ),\" [IS]\"), CONCATENATE(IF(ISBLANK(Datenerfassung!J516),\" \",Datenerfassung!J516 ),\" [IS]\"), CONCATENATE(IF(ISBLANK(Datenerfassung!K516),\" \",Datenerfassung!K516 ),\" [IS]\"), CONCATENATE(IF(ISBLANK(Datenerfassung!L516),\" \",Datenerfassung!L516 ),\" [IS]\"), CONCATENATE(IF(ISBLANK(Datenerfassung!M516),\" \",Datenerfassung!M516 ),\" [IS]\"), IF(ISBLANK(Datenerfassung!N516),\" \",Datenerfassung!N516 ) ))","v":""},{"$f":"IF(ISBLANK(Datenerfassung!V516),\"\",Datenerfassung!V516)","v":""},{"$f":"IF(ISBLANK(Datenerfassung!Q516),\"\",Datenerfassung!Q516)","v":""}]
[{"$f":"IF(ISBLANK(Datenerfassung!A517),\"\",Datenerfassung!A517)","v":""},{"$f":"IF(ISBLANK(Datenerfassung!B517),\"\",Datenerfassung!B517)","v":""},{"$f":"IF(ISBLANK(Datenerfassung!C517),\"\",Datenerfassung!C517)","v":""},{"$f":"IF(ISBLANK(Datenerfassung!R517),\"\",Datenerfassung!R517)","v":""},{"$f":"IF(ISBLANK(Datenerfassung!S517),\"\",Datenerfassung!S517)","v":""},"",{"$f":"IF(ISBLANK(Datenerfassung!U517),\"\",Datenerfassung!U517)","v":""},{"$f":"IF(ISBLANK(Datenerfassung!O517),\"\",Datenerfassung!O517)","v":""},{"$f":"IF(ISBLANK(Datenerfassung!D517),IF(COUNTBLANK(A507:H507)+COUNTBLANK(J507:O507)=14,\"\",\"- ohne Titel -\"),Datenerfassung!D517)","v":""},{"$f":"IF(ISBLANK(Datenerfassung!G517),\"\",Datenerfassung!G517)","v":""},"",{"$f":"IF(ISBLANK(Datenerfassung!X517),\"\",Datenerfassung!X517)","v":""},{"$f":"IF(COUNTBLANK(Datenerfassung!H517:'Datenerfassung'!N517)=7,\"\",CONCATENATE( CONCATENATE(IF(ISBLANK(Datenerfassung!H517),\" \",Datenerfassung!H517 ),\" [IS]\"), CONCATENATE(IF(ISBLANK(Datenerfassung!I517),\" \",Datenerfassung!I517 ),\" [IS]\"), CONCATENATE(IF(ISBLANK(Datenerfassung!J517),\" \",Datenerfassung!J517 ),\" [IS]\"), CONCATENATE(IF(ISBLANK(Datenerfassung!K517),\" \",Datenerfassung!K517 ),\" [IS]\"), CONCATENATE(IF(ISBLANK(Datenerfassung!L517),\" \",Datenerfassung!L517 ),\" [IS]\"), CONCATENATE(IF(ISBLANK(Datenerfassung!M517),\" \",Datenerfassung!M517 ),\" [IS]\"), IF(ISBLANK(Datenerfassung!N517),\" \",Datenerfassung!N517 ) ))","v":""},{"$f":"IF(ISBLANK(Datenerfassung!V517),\"\",Datenerfassung!V517)","v":""},{"$f":"IF(ISBLANK(Datenerfassung!Q517),\"\",Datenerfassung!Q517)","v":""}]
[{"$f":"IF(ISBLANK(Datenerfassung!A518),\"\",Datenerfassung!A518)","v":""},{"$f":"IF(ISBLANK(Datenerfassung!B518),\"\",Datenerfassung!B518)","v":""},{"$f":"IF(ISBLANK(Datenerfassung!C518),\"\",Datenerfassung!C518)","v":""},{"$f":"IF(ISBLANK(Datenerfassung!R518),\"\",Datenerfassung!R518)","v":""},{"$f":"IF(ISBLANK(Datenerfassung!S518),\"\",Datenerfassung!S518)","v":""},"",{"$f":"IF(ISBLANK(Datenerfassung!U518),\"\",Datenerfassung!U518)","v":""},{"$f":"IF(ISBLANK(Datenerfassung!O518),\"\",Datenerfassung!O518)","v":""},{"$f":"IF(ISBLANK(Datenerfassung!D518),IF(COUNTBLANK(A508:H508)+COUNTBLANK(J508:O508)=14,\"\",\"- ohne Titel -\"),Datenerfassung!D518)","v":""},{"$f":"IF(ISBLANK(Datenerfassung!G518),\"\",Datenerfassung!G518)","v":""},"",{"$f":"IF(ISBLANK(Datenerfassung!X518),\"\",Datenerfassung!X518)","v":""},{"$f":"IF(COUNTBLANK(Datenerfassung!H518:'Datenerfassung'!N518)=7,\"\",CONCATENATE( CONCATENATE(IF(ISBLANK(Datenerfassung!H518),\" \",Datenerfassung!H518 ),\" [IS]\"), CONCATENATE(IF(ISBLANK(Datenerfassung!I518),\" \",Datenerfassung!I518 ),\" [IS]\"), CONCATENATE(IF(ISBLANK(Datenerfassung!J518),\" \",Datenerfassung!J518 ),\" [IS]\"), CONCATENATE(IF(ISBLANK(Datenerfassung!K518),\" \",Datenerfassung!K518 ),\" [IS]\"), CONCATENATE(IF(ISBLANK(Datenerfassung!L518),\" \",Datenerfassung!L518 ),\" [IS]\"), CONCATENATE(IF(ISBLANK(Datenerfassung!M518),\" \",Datenerfassung!M518 ),\" [IS]\"), IF(ISBLANK(Datenerfassung!N518),\" \",Datenerfassung!N518 ) ))","v":""},{"$f":"IF(ISBLANK(Datenerfassung!V518),\"\",Datenerfassung!V518)","v":""},{"$f":"IF(ISBLANK(Datenerfassung!Q518),\"\",Datenerfassung!Q518)","v":""}]
[{"$f":"IF(ISBLANK(Datenerfassung!A519),\"\",Datenerfassung!A519)","v":""},{"$f":"IF(ISBLANK(Datenerfassung!B519),\"\",Datenerfassung!B519)","v":""},{"$f":"IF(ISBLANK(Datenerfassung!C519),\"\",Datenerfassung!C519)","v":""},{"$f":"IF(ISBLANK(Datenerfassung!R519),\"\",Datenerfassung!R519)","v":""},{"$f":"IF(ISBLANK(Datenerfassung!S519),\"\",Datenerfassung!S519)","v":""},"",{"$f":"IF(ISBLANK(Datenerfassung!U519),\"\",Datenerfassung!U519)","v":""},{"$f":"IF(ISBLANK(Datenerfassung!O519),\"\",Datenerfassung!O519)","v":""},{"$f":"IF(ISBLANK(Datenerfassung!D519),IF(COUNTBLANK(A509:H509)+COUNTBLANK(J509:O509)=14,\"\",\"- ohne Titel -\"),Datenerfassung!D519)","v":""},{"$f":"IF(ISBLANK(Datenerfassung!G519),\"\",Datenerfassung!G519)","v":""},"",{"$f":"IF(ISBLANK(Datenerfassung!X519),\"\",Datenerfassung!X519)","v":""},{"$f":"IF(COUNTBLANK(Datenerfassung!H519:'Datenerfassung'!N519)=7,\"\",CONCATENATE( CONCATENATE(IF(ISBLANK(Datenerfassung!H519),\" \",Datenerfassung!H519 ),\" [IS]\"), CONCATENATE(IF(ISBLANK(Datenerfassung!I519),\" \",Datenerfassung!I519 ),\" [IS]\"), CONCATENATE(IF(ISBLANK(Datenerfassung!J519),\" \",Datenerfassung!J519 ),\" [IS]\"), CONCATENATE(IF(ISBLANK(Datenerfassung!K519),\" \",Datenerfassung!K519 ),\" [IS]\"), CONCATENATE(IF(ISBLANK(Datenerfassung!L519),\" \",Datenerfassung!L519 ),\" [IS]\"), CONCATENATE(IF(ISBLANK(Datenerfassung!M519),\" \",Datenerfassung!M519 ),\" [IS]\"), IF(ISBLANK(Datenerfassung!N519),\" \",Datenerfassung!N519 ) ))","v":""},{"$f":"IF(ISBLANK(Datenerfassung!V519),\"\",Datenerfassung!V519)","v":""},{"$f":"IF(ISBLANK(Datenerfassung!Q519),\"\",Datenerfassung!Q519)","v":""}]
[{"$f":"IF(ISBLANK(Datenerfassung!A520),\"\",Datenerfassung!A520)","v":""},{"$f":"IF(ISBLANK(Datenerfassung!B520),\"\",Datenerfassung!B520)","v":""},{"$f":"IF(ISBLANK(Datenerfassung!C520),\"\",Datenerfassung!C520)","v":""},{"$f":"IF(ISBLANK(Datenerfassung!R520),\"\",Datenerfassung!R520)","v":""},{"$f":"IF(ISBLANK(Datenerfassung!S520),\"\",Datenerfassung!S520)","v":""},"",{"$f":"IF(ISBLANK(Datenerfassung!U520),\"\",Datenerfassung!U520)","v":""},{"$f":"IF(ISBLANK(Datenerfassung!O520),\"\",Datenerfassung!O520)","v":""},{"$f":"IF(ISBLANK(Datenerfassung!D520),IF(COUNTBLANK(A510:H510)+COUNTBLANK(J510:O510)=14,\"\",\"- ohne Titel -\"),Datenerfassung!D520)","v":""},{"$f":"IF(ISBLANK(Datenerfassung!G520),\"\",Datenerfassung!G520)","v":""},"",{"$f":"IF(ISBLANK(Datenerfassung!X520),\"\",Datenerfassung!X520)","v":""},{"$f":"IF(COUNTBLANK(Datenerfassung!H520:'Datenerfassung'!N520)=7,\"\",CONCATENATE( CONCATENATE(IF(ISBLANK(Datenerfassung!H520),\" \",Datenerfassung!H520 ),\" [IS]\"), CONCATENATE(IF(ISBLANK(Datenerfassung!I520),\" \",Datenerfassung!I520 ),\" [IS]\"), CONCATENATE(IF(ISBLANK(Datenerfassung!J520),\" \",Datenerfassung!J520 ),\" [IS]\"), CONCATENATE(IF(ISBLANK(Datenerfassung!K520),\" \",Datenerfassung!K520 ),\" [IS]\"), CONCATENATE(IF(ISBLANK(Datenerfassung!L520),\" \",Datenerfassung!L520 ),\" [IS]\"), CONCATENATE(IF(ISBLANK(Datenerfassung!M520),\" \",Datenerfassung!M520 ),\" [IS]\"), IF(ISBLANK(Datenerfassung!N520),\" \",Datenerfassung!N520 ) ))","v":""},{"$f":"IF(ISBLANK(Datenerfassung!V520),\"\",Datenerfassung!V520)","v":""},{"$f":"IF(ISBLANK(Datenerfassung!Q520),\"\",Datenerfassung!Q520)","v":""}]
[{"$f":"IF(ISBLANK(Datenerfassung!A521),\"\",Datenerfassung!A521)","v":""},{"$f":"IF(ISBLANK(Datenerfassung!B521),\"\",Datenerfassung!B521)","v":""},{"$f":"IF(ISBLANK(Datenerfassung!C521),\"\",Datenerfassung!C521)","v":""},{"$f":"IF(ISBLANK(Datenerfassung!R521),\"\",Datenerfassung!R521)","v":""},{"$f":"IF(ISBLANK(Datenerfassung!S521),\"\",Datenerfassung!S521)","v":""},"",{"$f":"IF(ISBLANK(Datenerfassung!U521),\"\",Datenerfassung!U521)","v":""},{"$f":"IF(ISBLANK(Datenerfassung!O521),\"\",Datenerfassung!O521)","v":""},{"$f":"IF(ISBLANK(Datenerfassung!D521),IF(COUNTBLANK(A511:H511)+COUNTBLANK(J511:O511)=14,\"\",\"- ohne Titel -\"),Datenerfassung!D521)","v":""},{"$f":"IF(ISBLANK(Datenerfassung!G521),\"\",Datenerfassung!G521)","v":""},"",{"$f":"IF(ISBLANK(Datenerfassung!X521),\"\",Datenerfassung!X521)","v":""},{"$f":"IF(COUNTBLANK(Datenerfassung!H521:'Datenerfassung'!N521)=7,\"\",CONCATENATE( CONCATENATE(IF(ISBLANK(Datenerfassung!H521),\" \",Datenerfassung!H521 ),\" [IS]\"), CONCATENATE(IF(ISBLANK(Datenerfassung!I521),\" \",Datenerfassung!I521 ),\" [IS]\"), CONCATENATE(IF(ISBLANK(Datenerfassung!J521),\" \",Datenerfassung!J521 ),\" [IS]\"), CONCATENATE(IF(ISBLANK(Datenerfassung!K521),\" \",Datenerfassung!K521 ),\" [IS]\"), CONCATENATE(IF(ISBLANK(Datenerfassung!L521),\" \",Datenerfassung!L521 ),\" [IS]\"), CONCATENATE(IF(ISBLANK(Datenerfassung!M521),\" \",Datenerfassung!M521 ),\" [IS]\"), IF(ISBLANK(Datenerfassung!N521),\" \",Datenerfassung!N521 ) ))","v":""},{"$f":"IF(ISBLANK(Datenerfassung!V521),\"\",Datenerfassung!V521)","v":""},{"$f":"IF(ISBLANK(Datenerfassung!Q521),\"\",Datenerfassung!Q521)","v":""}]
[{"$f":"IF(ISBLANK(Datenerfassung!A522),\"\",Datenerfassung!A522)","v":""},{"$f":"IF(ISBLANK(Datenerfassung!B522),\"\",Datenerfassung!B522)","v":""},{"$f":"IF(ISBLANK(Datenerfassung!C522),\"\",Datenerfassung!C522)","v":""},{"$f":"IF(ISBLANK(Datenerfassung!R522),\"\",Datenerfassung!R522)","v":""},{"$f":"IF(ISBLANK(Datenerfassung!S522),\"\",Datenerfassung!S522)","v":""},"",{"$f":"IF(ISBLANK(Datenerfassung!U522),\"\",Datenerfassung!U522)","v":""},{"$f":"IF(ISBLANK(Datenerfassung!O522),\"\",Datenerfassung!O522)","v":""},{"$f":"IF(ISBLANK(Datenerfassung!D522),IF(COUNTBLANK(A512:H512)+COUNTBLANK(J512:O512)=14,\"\",\"- ohne Titel -\"),Datenerfassung!D522)","v":""},{"$f":"IF(ISBLANK(Datenerfassung!G522),\"\",Datenerfassung!G522)","v":""},"",{"$f":"IF(ISBLANK(Datenerfassung!X522),\"\",Datenerfassung!X522)","v":""},{"$f":"IF(COUNTBLANK(Datenerfassung!H522:'Datenerfassung'!N522)=7,\"\",CONCATENATE( CONCATENATE(IF(ISBLANK(Datenerfassung!H522),\" \",Datenerfassung!H522 ),\" [IS]\"), CONCATENATE(IF(ISBLANK(Datenerfassung!I522),\" \",Datenerfassung!I522 ),\" [IS]\"), CONCATENATE(IF(ISBLANK(Datenerfassung!J522),\" \",Datenerfassung!J522 ),\" [IS]\"), CONCATENATE(IF(ISBLANK(Datenerfassung!K522),\" \",Datenerfassung!K522 ),\" [IS]\"), CONCATENATE(IF(ISBLANK(Datenerfassung!L522),\" \",Datenerfassung!L522 ),\" [IS]\"), CONCATENATE(IF(ISBLANK(Datenerfassung!M522),\" \",Datenerfassung!M522 ),\" [IS]\"), IF(ISBLANK(Datenerfassung!N522),\" \",Datenerfassung!N522 ) ))","v":""},{"$f":"IF(ISBLANK(Datenerfassung!V522),\"\",Datenerfassung!V522)","v":""},{"$f":"IF(ISBLANK(Datenerfassung!Q522),\"\",Datenerfassung!Q522)","v":""}]
[{"$f":"IF(ISBLANK(Datenerfassung!A523),\"\",Datenerfassung!A523)","v":""},{"$f":"IF(ISBLANK(Datenerfassung!B523),\"\",Datenerfassung!B523)","v":""},{"$f":"IF(ISBLANK(Datenerfassung!C523),\"\",Datenerfassung!C523)","v":""},{"$f":"IF(ISBLANK(Datenerfassung!R523),\"\",Datenerfassung!R523)","v":""},{"$f":"IF(ISBLANK(Datenerfassung!S523),\"\",Datenerfassung!S523)","v":""},"",{"$f":"IF(ISBLANK(Datenerfassung!U523),\"\",Datenerfassung!U523)","v":""},{"$f":"IF(ISBLANK(Datenerfassung!O523),\"\",Datenerfassung!O523)","v":""},{"$f":"IF(ISBLANK(Datenerfassung!D523),IF(COUNTBLANK(A513:H513)+COUNTBLANK(J513:O513)=14,\"\",\"- ohne Titel -\"),Datenerfassung!D523)","v":""},{"$f":"IF(ISBLANK(Datenerfassung!G523),\"\",Datenerfassung!G523)","v":""},"",{"$f":"IF(ISBLANK(Datenerfassung!X523),\"\",Datenerfassung!X523)","v":""},{"$f":"IF(COUNTBLANK(Datenerfassung!H523:'Datenerfassung'!N523)=7,\"\",CONCATENATE( CONCATENATE(IF(ISBLANK(Datenerfassung!H523),\" \",Datenerfassung!H523 ),\" [IS]\"), CONCATENATE(IF(ISBLANK(Datenerfassung!I523),\" \",Datenerfassung!I523 ),\" [IS]\"), CONCATENATE(IF(ISBLANK(Datenerfassung!J523),\" \",Datenerfassung!J523 ),\" [IS]\"), CONCATENATE(IF(ISBLANK(Datenerfassung!K523),\" \",Datenerfassung!K523 ),\" [IS]\"), CONCATENATE(IF(ISBLANK(Datenerfassung!L523),\" \",Datenerfassung!L523 ),\" [IS]\"), CONCATENATE(IF(ISBLANK(Datenerfassung!M523),\" \",Datenerfassung!M523 ),\" [IS]\"), IF(ISBLANK(Datenerfassung!N523),\" \",Datenerfassung!N523 ) ))","v":""},{"$f":"IF(ISBLANK(Datenerfassung!V523),\"\",Datenerfassung!V523)","v":""},{"$f":"IF(ISBLANK(Datenerfassung!Q523),\"\",Datenerfassung!Q523)","v":""}]
[{"$f":"IF(ISBLANK(Datenerfassung!A524),\"\",Datenerfassung!A524)","v":""},{"$f":"IF(ISBLANK(Datenerfassung!B524),\"\",Datenerfassung!B524)","v":""},{"$f":"IF(ISBLANK(Datenerfassung!C524),\"\",Datenerfassung!C524)","v":""},{"$f":"IF(ISBLANK(Datenerfassung!R524),\"\",Datenerfassung!R524)","v":""},{"$f":"IF(ISBLANK(Datenerfassung!S524),\"\",Datenerfassung!S524)","v":""},"",{"$f":"IF(ISBLANK(Datenerfassung!U524),\"\",Datenerfassung!U524)","v":""},{"$f":"IF(ISBLANK(Datenerfassung!O524),\"\",Datenerfassung!O524)","v":""},{"$f":"IF(ISBLANK(Datenerfassung!D524),IF(COUNTBLANK(A514:H514)+COUNTBLANK(J514:O514)=14,\"\",\"- ohne Titel -\"),Datenerfassung!D524)","v":""},{"$f":"IF(ISBLANK(Datenerfassung!G524),\"\",Datenerfassung!G524)","v":""},"",{"$f":"IF(ISBLANK(Datenerfassung!X524),\"\",Datenerfassung!X524)","v":""},{"$f":"IF(COUNTBLANK(Datenerfassung!H524:'Datenerfassung'!N524)=7,\"\",CONCATENATE( CONCATENATE(IF(ISBLANK(Datenerfassung!H524),\" \",Datenerfassung!H524 ),\" [IS]\"), CONCATENATE(IF(ISBLANK(Datenerfassung!I524),\" \",Datenerfassung!I524 ),\" [IS]\"), CONCATENATE(IF(ISBLANK(Datenerfassung!J524),\" \",Datenerfassung!J524 ),\" [IS]\"), CONCATENATE(IF(ISBLANK(Datenerfassung!K524),\" \",Datenerfassung!K524 ),\" [IS]\"), CONCATENATE(IF(ISBLANK(Datenerfassung!L524),\" \",Datenerfassung!L524 ),\" [IS]\"), CONCATENATE(IF(ISBLANK(Datenerfassung!M524),\" \",Datenerfassung!M524 ),\" [IS]\"), IF(ISBLANK(Datenerfassung!N524),\" \",Datenerfassung!N524 ) ))","v":""},{"$f":"IF(ISBLANK(Datenerfassung!V524),\"\",Datenerfassung!V524)","v":""},{"$f":"IF(ISBLANK(Datenerfassung!Q524),\"\",Datenerfassung!Q524)","v":""}]
[{"$f":"IF(ISBLANK(Datenerfassung!A525),\"\",Datenerfassung!A525)","v":""},{"$f":"IF(ISBLANK(Datenerfassung!B525),\"\",Datenerfassung!B525)","v":""},{"$f":"IF(ISBLANK(Datenerfassung!C525),\"\",Datenerfassung!C525)","v":""},{"$f":"IF(ISBLANK(Datenerfassung!R525),\"\",Datenerfassung!R525)","v":""},{"$f":"IF(ISBLANK(Datenerfassung!S525),\"\",Datenerfassung!S525)","v":""},{"$f":"IF(D515=\"\",\"\",IF(E515=\"\",D515,D515&\" - \"&E515))","v":""},{"$f":"IF(ISBLANK(Datenerfassung!U525),\"\",Datenerfassung!U525)","v":""},{"$f":"IF(ISBLANK(Datenerfassung!O525),\"\",Datenerfassung!O525)","v":""},{"$f":"IF(ISBLANK(Datenerfassung!D525),IF(COUNTBLANK(A515:H515)+COUNTBLANK(J515:O515)=14,\"\",\"- ohne Titel -\"),Datenerfassung!D525)","v":""},{"$f":"IF(ISBLANK(Datenerfassung!G525),\"\",Datenerfassung!G525)","v":""},{"$f":"IF(OR(E515=\"\",G515=\"\"),\"\",\"01.01.\"&RIGHT(E515,4)+G515+1)","v":""},{"$f":"IF(ISBLANK(Datenerfassung!X525),\"\",Datenerfassung!X525)","v":""},{"$f":"IF(COUNTBLANK(Datenerfassung!H525:'Datenerfassung'!N525)=7,\"\",CONCATENATE( CONCATENATE(IF(ISBLANK(Datenerfassung!H525),\" \",Datenerfassung!H525 ),\" [IS]\"), CONCATENATE(IF(ISBLANK(Datenerfassung!I525),\" \",Datenerfassung!I525 ),\" [IS]\"), CONCATENATE(IF(ISBLANK(Datenerfassung!J525),\" \",Datenerfassung!J525 ),\" [IS]\"), CONCATENATE(IF(ISBLANK(Datenerfassung!K525),\" \",Datenerfassung!K525 ),\" [IS]\"), CONCATENATE(IF(ISBLANK(Datenerfassung!L525),\" \",Datenerfassung!L525 ),\" [IS]\"), CONCATENATE(IF(ISBLANK(Datenerfassung!M525),\" \",Datenerfassung!M525 ),\" [IS]\"), IF(ISBLANK(Datenerfassung!N525),\" \",Datenerfassung!N525 ) ))","v":""},{"$f":"IF(ISBLANK(Datenerfassung!V525),\"\",Datenerfassung!V525)","v":""},{"$f":"IF(ISBLANK(Datenerfassung!Q525),\"\",Datenerfassung!Q525)","v":""}]
[{"$f":"IF(ISBLANK(Datenerfassung!A526),\"\",Datenerfassung!A526)","v":""},{"$f":"IF(ISBLANK(Datenerfassung!B526),\"\",Datenerfassung!B526)","v":""},{"$f":"IF(ISBLANK(Datenerfassung!C526),\"\",Datenerfassung!C526)","v":""},{"$f":"IF(ISBLANK(Datenerfassung!R526),\"\",Datenerfassung!R526)","v":""},{"$f":"IF(ISBLANK(Datenerfassung!S526),\"\",Datenerfassung!S526)","v":""},"",{"$f":"IF(ISBLANK(Datenerfassung!U526),\"\",Datenerfassung!U526)","v":""},{"$f":"IF(ISBLANK(Datenerfassung!O526),\"\",Datenerfassung!O526)","v":""},{"$f":"IF(ISBLANK(Datenerfassung!D526),IF(COUNTBLANK(A516:H516)+COUNTBLANK(J516:O516)=14,\"\",\"- ohne Titel -\"),Datenerfassung!D526)","v":""},{"$f":"IF(ISBLANK(Datenerfassung!G526),\"\",Datenerfassung!G526)","v":""},"",{"$f":"IF(ISBLANK(Datenerfassung!X526),\"\",Datenerfassung!X526)","v":""},{"$f":"IF(COUNTBLANK(Datenerfassung!H526:'Datenerfassung'!N526)=7,\"\",CONCATENATE( CONCATENATE(IF(ISBLANK(Datenerfassung!H526),\" \",Datenerfassung!H526 ),\" [IS]\"), CONCATENATE(IF(ISBLANK(Datenerfassung!I526),\" \",Datenerfassung!I526 ),\" [IS]\"), CONCATENATE(IF(ISBLANK(Datenerfassung!J526),\" \",Datenerfassung!J526 ),\" [IS]\"), CONCATENATE(IF(ISBLANK(Datenerfassung!K526),\" \",Datenerfassung!K526 ),\" [IS]\"), CONCATENATE(IF(ISBLANK(Datenerfassung!L526),\" \",Datenerfassung!L526 ),\" [IS]\"), CONCATENATE(IF(ISBLANK(Datenerfassung!M526),\" \",Datenerfassung!M526 ),\" [IS]\"), IF(ISBLANK(Datenerfassung!N526),\" \",Datenerfassung!N526 ) ))","v":""},{"$f":"IF(ISBLANK(Datenerfassung!V526),\"\",Datenerfassung!V526)","v":""},{"$f":"IF(ISBLANK(Datenerfassung!Q526),\"\",Datenerfassung!Q526)","v":""}]
[{"$f":"IF(ISBLANK(Datenerfassung!A527),\"\",Datenerfassung!A527)","v":""},{"$f":"IF(ISBLANK(Datenerfassung!B527),\"\",Datenerfassung!B527)","v":""},{"$f":"IF(ISBLANK(Datenerfassung!C527),\"\",Datenerfassung!C527)","v":""},{"$f":"IF(ISBLANK(Datenerfassung!R527),\"\",Datenerfassung!R527)","v":""},{"$f":"IF(ISBLANK(Datenerfassung!S527),\"\",Datenerfassung!S527)","v":""},"",{"$f":"IF(ISBLANK(Datenerfassung!U527),\"\",Datenerfassung!U527)","v":""},{"$f":"IF(ISBLANK(Datenerfassung!O527),\"\",Datenerfassung!O527)","v":""},{"$f":"IF(ISBLANK(Datenerfassung!D527),IF(COUNTBLANK(A517:H517)+COUNTBLANK(J517:O517)=14,\"\",\"- ohne Titel -\"),Datenerfassung!D527)","v":""},{"$f":"IF(ISBLANK(Datenerfassung!G527),\"\",Datenerfassung!G527)","v":""},"",{"$f":"IF(ISBLANK(Datenerfassung!X527),\"\",Datenerfassung!X527)","v":""},{"$f":"IF(COUNTBLANK(Datenerfassung!H527:'Datenerfassung'!N527)=7,\"\",CONCATENATE( CONCATENATE(IF(ISBLANK(Datenerfassung!H527),\" \",Datenerfassung!H527 ),\" [IS]\"), CONCATENATE(IF(ISBLANK(Datenerfassung!I527),\" \",Datenerfassung!I527 ),\" [IS]\"), CONCATENATE(IF(ISBLANK(Datenerfassung!J527),\" \",Datenerfassung!J527 ),\" [IS]\"), CONCATENATE(IF(ISBLANK(Datenerfassung!K527),\" \",Datenerfassung!K527 ),\" [IS]\"), CONCATENATE(IF(ISBLANK(Datenerfassung!L527),\" \",Datenerfassung!L527 ),\" [IS]\"), CONCATENATE(IF(ISBLANK(Datenerfassung!M527),\" \",Datenerfassung!M527 ),\" [IS]\"), IF(ISBLANK(Datenerfassung!N527),\" \",Datenerfassung!N527 ) ))","v":""},{"$f":"IF(ISBLANK(Datenerfassung!V527),\"\",Datenerfassung!V527)","v":""},{"$f":"IF(ISBLANK(Datenerfassung!Q527),\"\",Datenerfassung!Q527)","v":""}]
[{"$f":"IF(ISBLANK(Datenerfassung!A528),\"\",Datenerfassung!A528)","v":""},{"$f":"IF(ISBLANK(Datenerfassung!B528),\"\",Datenerfassung!B528)","v":""},{"$f":"IF(ISBLANK(Datenerfassung!C528),\"\",Datenerfassung!C528)","v":""},{"$f":"IF(ISBLANK(Datenerfassung!R528),\"\",Datenerfassung!R528)","v":""},{"$f":"IF(ISBLANK(Datenerfassung!S528),\"\",Datenerfassung!S528)","v":""},"",{"$f":"IF(ISBLANK(Datenerfassung!U528),\"\",Datenerfassung!U528)","v":""},{"$f":"IF(ISBLANK(Datenerfassung!O528),\"\",Datenerfassung!O528)","v":""},{"$f":"IF(ISBLANK(Datenerfassung!D528),IF(COUNTBLANK(A518:H518)+COUNTBLANK(J518:O518)=14,\"\",\"- ohne Titel -\"),Datenerfassung!D528)","v":""},{"$f":"IF(ISBLANK(Datenerfassung!G528),\"\",Datenerfassung!G528)","v":""},"",{"$f":"IF(ISBLANK(Datenerfassung!X528),\"\",Datenerfassung!X528)","v":""},{"$f":"IF(COUNTBLANK(Datenerfassung!H528:'Datenerfassung'!N528)=7,\"\",CONCATENATE( CONCATENATE(IF(ISBLANK(Datenerfassung!H528),\" \",Datenerfassung!H528 ),\" [IS]\"), CONCATENATE(IF(ISBLANK(Datenerfassung!I528),\" \",Datenerfassung!I528 ),\" [IS]\"), CONCATENATE(IF(ISBLANK(Datenerfassung!J528),\" \",Datenerfassung!J528 ),\" [IS]\"), CONCATENATE(IF(ISBLANK(Datenerfassung!K528),\" \",Datenerfassung!K528 ),\" [IS]\"), CONCATENATE(IF(ISBLANK(Datenerfassung!L528),\" \",Datenerfassung!L528 ),\" [IS]\"), CONCATENATE(IF(ISBLANK(Datenerfassung!M528),\" \",Datenerfassung!M528 ),\" [IS]\"), IF(ISBLANK(Datenerfassung!N528),\" \",Datenerfassung!N528 ) ))","v":""},{"$f":"IF(ISBLANK(Datenerfassung!V528),\"\",Datenerfassung!V528)","v":""},{"$f":"IF(ISBLANK(Datenerfassung!Q528),\"\",Datenerfassung!Q528)","v":""}]
[{"$f":"IF(ISBLANK(Datenerfassung!A529),\"\",Datenerfassung!A529)","v":""},{"$f":"IF(ISBLANK(Datenerfassung!B529),\"\",Datenerfassung!B529)","v":""},{"$f":"IF(ISBLANK(Datenerfassung!C529),\"\",Datenerfassung!C529)","v":""},{"$f":"IF(ISBLANK(Datenerfassung!R529),\"\",Datenerfassung!R529)","v":""},{"$f":"IF(ISBLANK(Datenerfassung!S529),\"\",Datenerfassung!S529)","v":""},"",{"$f":"IF(ISBLANK(Datenerfassung!U529),\"\",Datenerfassung!U529)","v":""},{"$f":"IF(ISBLANK(Datenerfassung!O529),\"\",Datenerfassung!O529)","v":""},{"$f":"IF(ISBLANK(Datenerfassung!D529),IF(COUNTBLANK(A519:H519)+COUNTBLANK(J519:O519)=14,\"\",\"- ohne Titel -\"),Datenerfassung!D529)","v":""},{"$f":"IF(ISBLANK(Datenerfassung!G529),\"\",Datenerfassung!G529)","v":""},"",{"$f":"IF(ISBLANK(Datenerfassung!X529),\"\",Datenerfassung!X529)","v":""},{"$f":"IF(COUNTBLANK(Datenerfassung!H529:'Datenerfassung'!N529)=7,\"\",CONCATENATE( CONCATENATE(IF(ISBLANK(Datenerfassung!H529),\" \",Datenerfassung!H529 ),\" [IS]\"), CONCATENATE(IF(ISBLANK(Datenerfassung!I529),\" \",Datenerfassung!I529 ),\" [IS]\"), CONCATENATE(IF(ISBLANK(Datenerfassung!J529),\" \",Datenerfassung!J529 ),\" [IS]\"), CONCATENATE(IF(ISBLANK(Datenerfassung!K529),\" \",Datenerfassung!K529 ),\" [IS]\"), CONCATENATE(IF(ISBLANK(Datenerfassung!L529),\" \",Datenerfassung!L529 ),\" [IS]\"), CONCATENATE(IF(ISBLANK(Datenerfassung!M529),\" \",Datenerfassung!M529 ),\" [IS]\"), IF(ISBLANK(Datenerfassung!N529),\" \",Datenerfassung!N529 ) ))","v":""},{"$f":"IF(ISBLANK(Datenerfassung!V529),\"\",Datenerfassung!V529)","v":""},{"$f":"IF(ISBLANK(Datenerfassung!Q529),\"\",Datenerfassung!Q529)","v":""}]
[{"$f":"IF(ISBLANK(Datenerfassung!A530),\"\",Datenerfassung!A530)","v":""},{"$f":"IF(ISBLANK(Datenerfassung!B530),\"\",Datenerfassung!B530)","v":""},{"$f":"IF(ISBLANK(Datenerfassung!C530),\"\",Datenerfassung!C530)","v":""},{"$f":"IF(ISBLANK(Datenerfassung!R530),\"\",Datenerfassung!R530)","v":""},{"$f":"IF(ISBLANK(Datenerfassung!S530),\"\",Datenerfassung!S530)","v":""},"",{"$f":"IF(ISBLANK(Datenerfassung!U530),\"\",Datenerfassung!U530)","v":""},{"$f":"IF(ISBLANK(Datenerfassung!O530),\"\",Datenerfassung!O530)","v":""},{"$f":"IF(ISBLANK(Datenerfassung!D530),IF(COUNTBLANK(A520:H520)+COUNTBLANK(J520:O520)=14,\"\",\"- ohne Titel -\"),Datenerfassung!D530)","v":""},{"$f":"IF(ISBLANK(Datenerfassung!G530),\"\",Datenerfassung!G530)","v":""},"",{"$f":"IF(ISBLANK(Datenerfassung!X530),\"\",Datenerfassung!X530)","v":""},{"$f":"IF(COUNTBLANK(Datenerfassung!H530:'Datenerfassung'!N530)=7,\"\",CONCATENATE( CONCATENATE(IF(ISBLANK(Datenerfassung!H530),\" \",Datenerfassung!H530 ),\" [IS]\"), CONCATENATE(IF(ISBLANK(Datenerfassung!I530),\" \",Datenerfassung!I530 ),\" [IS]\"), CONCATENATE(IF(ISBLANK(Datenerfassung!J530),\" \",Datenerfassung!J530 ),\" [IS]\"), CONCATENATE(IF(ISBLANK(Datenerfassung!K530),\" \",Datenerfassung!K530 ),\" [IS]\"), CONCATENATE(IF(ISBLANK(Datenerfassung!L530),\" \",Datenerfassung!L530 ),\" [IS]\"), CONCATENATE(IF(ISBLANK(Datenerfassung!M530),\" \",Datenerfassung!M530 ),\" [IS]\"), IF(ISBLANK(Datenerfassung!N530),\" \",Datenerfassung!N530 ) ))","v":""},{"$f":"IF(ISBLANK(Datenerfassung!V530),\"\",Datenerfassung!V530)","v":""},{"$f":"IF(ISBLANK(Datenerfassung!Q530),\"\",Datenerfassung!Q530)","v":""}]
[{"$f":"IF(ISBLANK(Datenerfassung!A531),\"\",Datenerfassung!A531)","v":""},{"$f":"IF(ISBLANK(Datenerfassung!B531),\"\",Datenerfassung!B531)","v":""},{"$f":"IF(ISBLANK(Datenerfassung!C531),\"\",Datenerfassung!C531)","v":""},{"$f":"IF(ISBLANK(Datenerfassung!R531),\"\",Datenerfassung!R531)","v":""},{"$f":"IF(ISBLANK(Datenerfassung!S531),\"\",Datenerfassung!S531)","v":""},"",{"$f":"IF(ISBLANK(Datenerfassung!U531),\"\",Datenerfassung!U531)","v":""},{"$f":"IF(ISBLANK(Datenerfassung!O531),\"\",Datenerfassung!O531)","v":""},{"$f":"IF(ISBLANK(Datenerfassung!D531),IF(COUNTBLANK(A521:H521)+COUNTBLANK(J521:O521)=14,\"\",\"- ohne Titel -\"),Datenerfassung!D531)","v":""},{"$f":"IF(ISBLANK(Datenerfassung!G531),\"\",Datenerfassung!G531)","v":""},"",{"$f":"IF(ISBLANK(Datenerfassung!X531),\"\",Datenerfassung!X531)","v":""},{"$f":"IF(COUNTBLANK(Datenerfassung!H531:'Datenerfassung'!N531)=7,\"\",CONCATENATE( CONCATENATE(IF(ISBLANK(Datenerfassung!H531),\" \",Datenerfassung!H531 ),\" [IS]\"), CONCATENATE(IF(ISBLANK(Datenerfassung!I531),\" \",Datenerfassung!I531 ),\" [IS]\"), CONCATENATE(IF(ISBLANK(Datenerfassung!J531),\" \",Datenerfassung!J531 ),\" [IS]\"), CONCATENATE(IF(ISBLANK(Datenerfassung!K531),\" \",Datenerfassung!K531 ),\" [IS]\"), CONCATENATE(IF(ISBLANK(Datenerfassung!L531),\" \",Datenerfassung!L531 ),\" [IS]\"), CONCATENATE(IF(ISBLANK(Datenerfassung!M531),\" \",Datenerfassung!M531 ),\" [IS]\"), IF(ISBLANK(Datenerfassung!N531),\" \",Datenerfassung!N531 ) ))","v":""},{"$f":"IF(ISBLANK(Datenerfassung!V531),\"\",Datenerfassung!V531)","v":""},{"$f":"IF(ISBLANK(Datenerfassung!Q531),\"\",Datenerfassung!Q531)","v":""}]
[{"$f":"IF(ISBLANK(Datenerfassung!A532),\"\",Datenerfassung!A532)","v":""},{"$f":"IF(ISBLANK(Datenerfassung!B532),\"\",Datenerfassung!B532)","v":""},{"$f":"IF(ISBLANK(Datenerfassung!C532),\"\",Datenerfassung!C532)","v":""},{"$f":"IF(ISBLANK(Datenerfassung!R532),\"\",Datenerfassung!R532)","v":""},{"$f":"IF(ISBLANK(Datenerfassung!S532),\"\",Datenerfassung!S532)","v":""},"",{"$f":"IF(ISBLANK(Datenerfassung!U532),\"\",Datenerfassung!U532)","v":""},{"$f":"IF(ISBLANK(Datenerfassung!O532),\"\",Datenerfassung!O532)","v":""},{"$f":"IF(ISBLANK(Datenerfassung!D532),IF(COUNTBLANK(A522:H522)+COUNTBLANK(J522:O522)=14,\"\",\"- ohne Titel -\"),Datenerfassung!D532)","v":""},{"$f":"IF(ISBLANK(Datenerfassung!G532),\"\",Datenerfassung!G532)","v":""},"",{"$f":"IF(ISBLANK(Datenerfassung!X532),\"\",Datenerfassung!X532)","v":""},{"$f":"IF(COUNTBLANK(Datenerfassung!H532:'Datenerfassung'!N532)=7,\"\",CONCATENATE( CONCATENATE(IF(ISBLANK(Datenerfassung!H532),\" \",Datenerfassung!H532 ),\" [IS]\"), CONCATENATE(IF(ISBLANK(Datenerfassung!I532),\" \",Datenerfassung!I532 ),\" [IS]\"), CONCATENATE(IF(ISBLANK(Datenerfassung!J532),\" \",Datenerfassung!J532 ),\" [IS]\"), CONCATENATE(IF(ISBLANK(Datenerfassung!K532),\" \",Datenerfassung!K532 ),\" [IS]\"), CONCATENATE(IF(ISBLANK(Datenerfassung!L532),\" \",Datenerfassung!L532 ),\" [IS]\"), CONCATENATE(IF(ISBLANK(Datenerfassung!M532),\" \",Datenerfassung!M532 ),\" [IS]\"), IF(ISBLANK(Datenerfassung!N532),\" \",Datenerfassung!N532 ) ))","v":""},{"$f":"IF(ISBLANK(Datenerfassung!V532),\"\",Datenerfassung!V532)","v":""},{"$f":"IF(ISBLANK(Datenerfassung!Q532),\"\",Datenerfassung!Q532)","v":""}]
[{"$f":"IF(ISBLANK(Datenerfassung!A533),\"\",Datenerfassung!A533)","v":""},{"$f":"IF(ISBLANK(Datenerfassung!B533),\"\",Datenerfassung!B533)","v":""},{"$f":"IF(ISBLANK(Datenerfassung!C533),\"\",Datenerfassung!C533)","v":""},{"$f":"IF(ISBLANK(Datenerfassung!R533),\"\",Datenerfassung!R533)","v":""},{"$f":"IF(ISBLANK(Datenerfassung!S533),\"\",Datenerfassung!S533)","v":""},"",{"$f":"IF(ISBLANK(Datenerfassung!U533),\"\",Datenerfassung!U533)","v":""},{"$f":"IF(ISBLANK(Datenerfassung!O533),\"\",Datenerfassung!O533)","v":""},{"$f":"IF(ISBLANK(Datenerfassung!D533),IF(COUNTBLANK(A523:H523)+COUNTBLANK(J523:O523)=14,\"\",\"- ohne Titel -\"),Datenerfassung!D533)","v":""},{"$f":"IF(ISBLANK(Datenerfassung!G533),\"\",Datenerfassung!G533)","v":""},"",{"$f":"IF(ISBLANK(Datenerfassung!X533),\"\",Datenerfassung!X533)","v":""},{"$f":"IF(COUNTBLANK(Datenerfassung!H533:'Datenerfassung'!N533)=7,\"\",CONCATENATE( CONCATENATE(IF(ISBLANK(Datenerfassung!H533),\" \",Datenerfassung!H533 ),\" [IS]\"), CONCATENATE(IF(ISBLANK(Datenerfassung!I533),\" \",Datenerfassung!I533 ),\" [IS]\"), CONCATENATE(IF(ISBLANK(Datenerfassung!J533),\" \",Datenerfassung!J533 ),\" [IS]\"), CONCATENATE(IF(ISBLANK(Datenerfassung!K533),\" \",Datenerfassung!K533 ),\" [IS]\"), CONCATENATE(IF(ISBLANK(Datenerfassung!L533),\" \",Datenerfassung!L533 ),\" [IS]\"), CONCATENATE(IF(ISBLANK(Datenerfassung!M533),\" \",Datenerfassung!M533 ),\" [IS]\"), IF(ISBLANK(Datenerfassung!N533),\" \",Datenerfassung!N533 ) ))","v":""},{"$f":"IF(ISBLANK(Datenerfassung!V533),\"\",Datenerfassung!V533)","v":""},{"$f":"IF(ISBLANK(Datenerfassung!Q533),\"\",Datenerfassung!Q533)","v":""}]
[{"$f":"IF(ISBLANK(Datenerfassung!A534),\"\",Datenerfassung!A534)","v":""},{"$f":"IF(ISBLANK(Datenerfassung!B534),\"\",Datenerfassung!B534)","v":""},{"$f":"IF(ISBLANK(Datenerfassung!C534),\"\",Datenerfassung!C534)","v":""},{"$f":"IF(ISBLANK(Datenerfassung!R534),\"\",Datenerfassung!R534)","v":""},{"$f":"IF(ISBLANK(Datenerfassung!S534),\"\",Datenerfassung!S534)","v":""},"",{"$f":"IF(ISBLANK(Datenerfassung!U534),\"\",Datenerfassung!U534)","v":""},{"$f":"IF(ISBLANK(Datenerfassung!O534),\"\",Datenerfassung!O534)","v":""},{"$f":"IF(ISBLANK(Datenerfassung!D534),IF(COUNTBLANK(A524:H524)+COUNTBLANK(J524:O524)=14,\"\",\"- ohne Titel -\"),Datenerfassung!D534)","v":""},{"$f":"IF(ISBLANK(Datenerfassung!G534),\"\",Datenerfassung!G534)","v":""},"",{"$f":"IF(ISBLANK(Datenerfassung!X534),\"\",Datenerfassung!X534)","v":""},{"$f":"IF(COUNTBLANK(Datenerfassung!H534:'Datenerfassung'!N534)=7,\"\",CONCATENATE( CONCATENATE(IF(ISBLANK(Datenerfassung!H534),\" \",Datenerfassung!H534 ),\" [IS]\"), CONCATENATE(IF(ISBLANK(Datenerfassung!I534),\" \",Datenerfassung!I534 ),\" [IS]\"), CONCATENATE(IF(ISBLANK(Datenerfassung!J534),\" \",Datenerfassung!J534 ),\" [IS]\"), CONCATENATE(IF(ISBLANK(Datenerfassung!K534),\" \",Datenerfassung!K534 ),\" [IS]\"), CONCATENATE(IF(ISBLANK(Datenerfassung!L534),\" \",Datenerfassung!L534 ),\" [IS]\"), CONCATENATE(IF(ISBLANK(Datenerfassung!M534),\" \",Datenerfassung!M534 ),\" [IS]\"), IF(ISBLANK(Datenerfassung!N534),\" \",Datenerfassung!N534 ) ))","v":""},{"$f":"IF(ISBLANK(Datenerfassung!V534),\"\",Datenerfassung!V534)","v":""},{"$f":"IF(ISBLANK(Datenerfassung!Q534),\"\",Datenerfassung!Q534)","v":""}]
[{"$f":"IF(ISBLANK(Datenerfassung!A535),\"\",Datenerfassung!A535)","v":""},{"$f":"IF(ISBLANK(Datenerfassung!B535),\"\",Datenerfassung!B535)","v":""},{"$f":"IF(ISBLANK(Datenerfassung!C535),\"\",Datenerfassung!C535)","v":""},{"$f":"IF(ISBLANK(Datenerfassung!R535),\"\",Datenerfassung!R535)","v":""},{"$f":"IF(ISBLANK(Datenerfassung!S535),\"\",Datenerfassung!S535)","v":""},"",{"$f":"IF(ISBLANK(Datenerfassung!U535),\"\",Datenerfassung!U535)","v":""},{"$f":"IF(ISBLANK(Datenerfassung!O535),\"\",Datenerfassung!O535)","v":""},{"$f":"IF(ISBLANK(Datenerfassung!D535),IF(COUNTBLANK(A525:H525)+COUNTBLANK(J525:O525)=14,\"\",\"- ohne Titel -\"),Datenerfassung!D535)","v":""},{"$f":"IF(ISBLANK(Datenerfassung!G535),\"\",Datenerfassung!G535)","v":""},"",{"$f":"IF(ISBLANK(Datenerfassung!X535),\"\",Datenerfassung!X535)","v":""},{"$f":"IF(COUNTBLANK(Datenerfassung!H535:'Datenerfassung'!N535)=7,\"\",CONCATENATE( CONCATENATE(IF(ISBLANK(Datenerfassung!H535),\" \",Datenerfassung!H535 ),\" [IS]\"), CONCATENATE(IF(ISBLANK(Datenerfassung!I535),\" \",Datenerfassung!I535 ),\" [IS]\"), CONCATENATE(IF(ISBLANK(Datenerfassung!J535),\" \",Datenerfassung!J535 ),\" [IS]\"), CONCATENATE(IF(ISBLANK(Datenerfassung!K535),\" \",Datenerfassung!K535 ),\" [IS]\"), CONCATENATE(IF(ISBLANK(Datenerfassung!L535),\" \",Datenerfassung!L535 ),\" [IS]\"), CONCATENATE(IF(ISBLANK(Datenerfassung!M535),\" \",Datenerfassung!M535 ),\" [IS]\"), IF(ISBLANK(Datenerfassung!N535),\" \",Datenerfassung!N535 ) ))","v":""},{"$f":"IF(ISBLANK(Datenerfassung!V535),\"\",Datenerfassung!V535)","v":""},{"$f":"IF(ISBLANK(Datenerfassung!Q535),\"\",Datenerfassung!Q535)","v":""}]
[{"$f":"IF(ISBLANK(Datenerfassung!A536),\"\",Datenerfassung!A536)","v":""},{"$f":"IF(ISBLANK(Datenerfassung!B536),\"\",Datenerfassung!B536)","v":""},{"$f":"IF(ISBLANK(Datenerfassung!C536),\"\",Datenerfassung!C536)","v":""},{"$f":"IF(ISBLANK(Datenerfassung!R536),\"\",Datenerfassung!R536)","v":""},{"$f":"IF(ISBLANK(Datenerfassung!S536),\"\",Datenerfassung!S536)","v":""},"",{"$f":"IF(ISBLANK(Datenerfassung!U536),\"\",Datenerfassung!U536)","v":""},{"$f":"IF(ISBLANK(Datenerfassung!O536),\"\",Datenerfassung!O536)","v":""},{"$f":"IF(ISBLANK(Datenerfassung!D536),IF(COUNTBLANK(A526:H526)+COUNTBLANK(J526:O526)=14,\"\",\"- ohne Titel -\"),Datenerfassung!D536)","v":""},{"$f":"IF(ISBLANK(Datenerfassung!G536),\"\",Datenerfassung!G536)","v":""},"",{"$f":"IF(ISBLANK(Datenerfassung!X536),\"\",Datenerfassung!X536)","v":""},{"$f":"IF(COUNTBLANK(Datenerfassung!H536:'Datenerfassung'!N536)=7,\"\",CONCATENATE( CONCATENATE(IF(ISBLANK(Datenerfassung!H536),\" \",Datenerfassung!H536 ),\" [IS]\"), CONCATENATE(IF(ISBLANK(Datenerfassung!I536),\" \",Datenerfassung!I536 ),\" [IS]\"), CONCATENATE(IF(ISBLANK(Datenerfassung!J536),\" \",Datenerfassung!J536 ),\" [IS]\"), CONCATENATE(IF(ISBLANK(Datenerfassung!K536),\" \",Datenerfassung!K536 ),\" [IS]\"), CONCATENATE(IF(ISBLANK(Datenerfassung!L536),\" \",Datenerfassung!L536 ),\" [IS]\"), CONCATENATE(IF(ISBLANK(Datenerfassung!M536),\" \",Datenerfassung!M536 ),\" [IS]\"), IF(ISBLANK(Datenerfassung!N536),\" \",Datenerfassung!N536 ) ))","v":""},{"$f":"IF(ISBLANK(Datenerfassung!V536),\"\",Datenerfassung!V536)","v":""},{"$f":"IF(ISBLANK(Datenerfassung!Q536),\"\",Datenerfassung!Q536)","v":""}]
[{"$f":"IF(ISBLANK(Datenerfassung!A537),\"\",Datenerfassung!A537)","v":""},{"$f":"IF(ISBLANK(Datenerfassung!B537),\"\",Datenerfassung!B537)","v":""},{"$f":"IF(ISBLANK(Datenerfassung!C537),\"\",Datenerfassung!C537)","v":""},{"$f":"IF(ISBLANK(Datenerfassung!R537),\"\",Datenerfassung!R537)","v":""},{"$f":"IF(ISBLANK(Datenerfassung!S537),\"\",Datenerfassung!S537)","v":""},"",{"$f":"IF(ISBLANK(Datenerfassung!U537),\"\",Datenerfassung!U537)","v":""},{"$f":"IF(ISBLANK(Datenerfassung!O537),\"\",Datenerfassung!O537)","v":""},{"$f":"IF(ISBLANK(Datenerfassung!D537),IF(COUNTBLANK(A527:H527)+COUNTBLANK(J527:O527)=14,\"\",\"- ohne Titel -\"),Datenerfassung!D537)","v":""},{"$f":"IF(ISBLANK(Datenerfassung!G537),\"\",Datenerfassung!G537)","v":""},"",{"$f":"IF(ISBLANK(Datenerfassung!X537),\"\",Datenerfassung!X537)","v":""},{"$f":"IF(COUNTBLANK(Datenerfassung!H537:'Datenerfassung'!N537)=7,\"\",CONCATENATE( CONCATENATE(IF(ISBLANK(Datenerfassung!H537),\" \",Datenerfassung!H537 ),\" [IS]\"), CONCATENATE(IF(ISBLANK(Datenerfassung!I537),\" \",Datenerfassung!I537 ),\" [IS]\"), CONCATENATE(IF(ISBLANK(Datenerfassung!J537),\" \",Datenerfassung!J537 ),\" [IS]\"), CONCATENATE(IF(ISBLANK(Datenerfassung!K537),\" \",Datenerfassung!K537 ),\" [IS]\"), CONCATENATE(IF(ISBLANK(Datenerfassung!L537),\" \",Datenerfassung!L537 ),\" [IS]\"), CONCATENATE(IF(ISBLANK(Datenerfassung!M537),\" \",Datenerfassung!M537 ),\" [IS]\"), IF(ISBLANK(Datenerfassung!N537),\" \",Datenerfassung!N537 ) ))","v":""},{"$f":"IF(ISBLANK(Datenerfassung!V537),\"\",Datenerfassung!V537)","v":""},{"$f":"IF(ISBLANK(Datenerfassung!Q537),\"\",Datenerfassung!Q537)","v":""}]
[{"$f":"IF(ISBLANK(Datenerfassung!A538),\"\",Datenerfassung!A538)","v":""},{"$f":"IF(ISBLANK(Datenerfassung!B538),\"\",Datenerfassung!B538)","v":""},{"$f":"IF(ISBLANK(Datenerfassung!C538),\"\",Datenerfassung!C538)","v":""},{"$f":"IF(ISBLANK(Datenerfassung!R538),\"\",Datenerfassung!R538)","v":""},{"$f":"IF(ISBLANK(Datenerfassung!S538),\"\",Datenerfassung!S538)","v":""},"",{"$f":"IF(ISBLANK(Datenerfassung!U538),\"\",Datenerfassung!U538)","v":""},{"$f":"IF(ISBLANK(Datenerfassung!O538),\"\",Datenerfassung!O538)","v":""},{"$f":"IF(ISBLANK(Datenerfassung!D538),IF(COUNTBLANK(A528:H528)+COUNTBLANK(J528:O528)=14,\"\",\"- ohne Titel -\"),Datenerfassung!D538)","v":""},{"$f":"IF(ISBLANK(Datenerfassung!G538),\"\",Datenerfassung!G538)","v":""},"",{"$f":"IF(ISBLANK(Datenerfassung!X538),\"\",Datenerfassung!X538)","v":""},{"$f":"IF(COUNTBLANK(Datenerfassung!H538:'Datenerfassung'!N538)=7,\"\",CONCATENATE( CONCATENATE(IF(ISBLANK(Datenerfassung!H538),\" \",Datenerfassung!H538 ),\" [IS]\"), CONCATENATE(IF(ISBLANK(Datenerfassung!I538),\" \",Datenerfassung!I538 ),\" [IS]\"), CONCATENATE(IF(ISBLANK(Datenerfassung!J538),\" \",Datenerfassung!J538 ),\" [IS]\"), CONCATENATE(IF(ISBLANK(Datenerfassung!K538),\" \",Datenerfassung!K538 ),\" [IS]\"), CONCATENATE(IF(ISBLANK(Datenerfassung!L538),\" \",Datenerfassung!L538 ),\" [IS]\"), CONCATENATE(IF(ISBLANK(Datenerfassung!M538),\" \",Datenerfassung!M538 ),\" [IS]\"), IF(ISBLANK(Datenerfassung!N538),\" \",Datenerfassung!N538 ) ))","v":""},{"$f":"IF(ISBLANK(Datenerfassung!V538),\"\",Datenerfassung!V538)","v":""},{"$f":"IF(ISBLANK(Datenerfassung!Q538),\"\",Datenerfassung!Q538)","v":""}]
[{"$f":"IF(ISBLANK(Datenerfassung!A539),\"\",Datenerfassung!A539)","v":""},{"$f":"IF(ISBLANK(Datenerfassung!B539),\"\",Datenerfassung!B539)","v":""},{"$f":"IF(ISBLANK(Datenerfassung!C539),\"\",Datenerfassung!C539)","v":""},{"$f":"IF(ISBLANK(Datenerfassung!R539),\"\",Datenerfassung!R539)","v":""},{"$f":"IF(ISBLANK(Datenerfassung!S539),\"\",Datenerfassung!S539)","v":""},"",{"$f":"IF(ISBLANK(Datenerfassung!U539),\"\",Datenerfassung!U539)","v":""},{"$f":"IF(ISBLANK(Datenerfassung!O539),\"\",Datenerfassung!O539)","v":""},{"$f":"IF(ISBLANK(Datenerfassung!D539),IF(COUNTBLANK(A529:H529)+COUNTBLANK(J529:O529)=14,\"\",\"- ohne Titel -\"),Datenerfassung!D539)","v":""},{"$f":"IF(ISBLANK(Datenerfassung!G539),\"\",Datenerfassung!G539)","v":""},"",{"$f":"IF(ISBLANK(Datenerfassung!X539),\"\",Datenerfassung!X539)","v":""},{"$f":"IF(COUNTBLANK(Datenerfassung!H539:'Datenerfassung'!N539)=7,\"\",CONCATENATE( CONCATENATE(IF(ISBLANK(Datenerfassung!H539),\" \",Datenerfassung!H539 ),\" [IS]\"), CONCATENATE(IF(ISBLANK(Datenerfassung!I539),\" \",Datenerfassung!I539 ),\" [IS]\"), CONCATENATE(IF(ISBLANK(Datenerfassung!J539),\" \",Datenerfassung!J539 ),\" [IS]\"), CONCATENATE(IF(ISBLANK(Datenerfassung!K539),\" \",Datenerfassung!K539 ),\" [IS]\"), CONCATENATE(IF(ISBLANK(Datenerfassung!L539),\" \",Datenerfassung!L539 ),\" [IS]\"), CONCATENATE(IF(ISBLANK(Datenerfassung!M539),\" \",Datenerfassung!M539 ),\" [IS]\"), IF(ISBLANK(Datenerfassung!N539),\" \",Datenerfassung!N539 ) ))","v":""},{"$f":"IF(ISBLANK(Datenerfassung!V539),\"\",Datenerfassung!V539)","v":""},{"$f":"IF(ISBLANK(Datenerfassung!Q539),\"\",Datenerfassung!Q539)","v":""}]
[{"$f":"IF(ISBLANK(Datenerfassung!A540),\"\",Datenerfassung!A540)","v":""},{"$f":"IF(ISBLANK(Datenerfassung!B540),\"\",Datenerfassung!B540)","v":""},{"$f":"IF(ISBLANK(Datenerfassung!C540),\"\",Datenerfassung!C540)","v":""},{"$f":"IF(ISBLANK(Datenerfassung!R540),\"\",Datenerfassung!R540)","v":""},{"$f":"IF(ISBLANK(Datenerfassung!S540),\"\",Datenerfassung!S540)","v":""},"",{"$f":"IF(ISBLANK(Datenerfassung!U540),\"\",Datenerfassung!U540)","v":""},{"$f":"IF(ISBLANK(Datenerfassung!O540),\"\",Datenerfassung!O540)","v":""},{"$f":"IF(ISBLANK(Datenerfassung!D540),IF(COUNTBLANK(A530:H530)+COUNTBLANK(J530:O530)=14,\"\",\"- ohne Titel -\"),Datenerfassung!D540)","v":""},{"$f":"IF(ISBLANK(Datenerfassung!G540),\"\",Datenerfassung!G540)","v":""},"",{"$f":"IF(ISBLANK(Datenerfassung!X540),\"\",Datenerfassung!X540)","v":""},{"$f":"IF(COUNTBLANK(Datenerfassung!H540:'Datenerfassung'!N540)=7,\"\",CONCATENATE( CONCATENATE(IF(ISBLANK(Datenerfassung!H540),\" \",Datenerfassung!H540 ),\" [IS]\"), CONCATENATE(IF(ISBLANK(Datenerfassung!I540),\" \",Datenerfassung!I540 ),\" [IS]\"), CONCATENATE(IF(ISBLANK(Datenerfassung!J540),\" \",Datenerfassung!J540 ),\" [IS]\"), CONCATENATE(IF(ISBLANK(Datenerfassung!K540),\" \",Datenerfassung!K540 ),\" [IS]\"), CONCATENATE(IF(ISBLANK(Datenerfassung!L540),\" \",Datenerfassung!L540 ),\" [IS]\"), CONCATENATE(IF(ISBLANK(Datenerfassung!M540),\" \",Datenerfassung!M540 ),\" [IS]\"), IF(ISBLANK(Datenerfassung!N540),\" \",Datenerfassung!N540 ) ))","v":""},{"$f":"IF(ISBLANK(Datenerfassung!V540),\"\",Datenerfassung!V540)","v":""},{"$f":"IF(ISBLANK(Datenerfassung!Q540),\"\",Datenerfassung!Q540)","v":""}]
[{"$f":"IF(ISBLANK(Datenerfassung!A541),\"\",Datenerfassung!A541)","v":""},{"$f":"IF(ISBLANK(Datenerfassung!B541),\"\",Datenerfassung!B541)","v":""},{"$f":"IF(ISBLANK(Datenerfassung!C541),\"\",Datenerfassung!C541)","v":""},{"$f":"IF(ISBLANK(Datenerfassung!R541),\"\",Datenerfassung!R541)","v":""},{"$f":"IF(ISBLANK(Datenerfassung!S541),\"\",Datenerfassung!S541)","v":""},"",{"$f":"IF(ISBLANK(Datenerfassung!U541),\"\",Datenerfassung!U541)","v":""},{"$f":"IF(ISBLANK(Datenerfassung!O541),\"\",Datenerfassung!O541)","v":""},{"$f":"IF(ISBLANK(Datenerfassung!D541),IF(COUNTBLANK(A531:H531)+COUNTBLANK(J531:O531)=14,\"\",\"- ohne Titel -\"),Datenerfassung!D541)","v":""},{"$f":"IF(ISBLANK(Datenerfassung!G541),\"\",Datenerfassung!G541)","v":""},"",{"$f":"IF(ISBLANK(Datenerfassung!X541),\"\",Datenerfassung!X541)","v":""},{"$f":"IF(COUNTBLANK(Datenerfassung!H541:'Datenerfassung'!N541)=7,\"\",CONCATENATE( CONCATENATE(IF(ISBLANK(Datenerfassung!H541),\" \",Datenerfassung!H541 ),\" [IS]\"), CONCATENATE(IF(ISBLANK(Datenerfassung!I541),\" \",Datenerfassung!I541 ),\" [IS]\"), CONCATENATE(IF(ISBLANK(Datenerfassung!J541),\" \",Datenerfassung!J541 ),\" [IS]\"), CONCATENATE(IF(ISBLANK(Datenerfassung!K541),\" \",Datenerfassung!K541 ),\" [IS]\"), CONCATENATE(IF(ISBLANK(Datenerfassung!L541),\" \",Datenerfassung!L541 ),\" [IS]\"), CONCATENATE(IF(ISBLANK(Datenerfassung!M541),\" \",Datenerfassung!M541 ),\" [IS]\"), IF(ISBLANK(Datenerfassung!N541),\" \",Datenerfassung!N541 ) ))","v":""},{"$f":"IF(ISBLANK(Datenerfassung!V541),\"\",Datenerfassung!V541)","v":""},{"$f":"IF(ISBLANK(Datenerfassung!Q541),\"\",Datenerfassung!Q541)","v":""}]
[{"$f":"IF(ISBLANK(Datenerfassung!A542),\"\",Datenerfassung!A542)","v":""},{"$f":"IF(ISBLANK(Datenerfassung!B542),\"\",Datenerfassung!B542)","v":""},{"$f":"IF(ISBLANK(Datenerfassung!C542),\"\",Datenerfassung!C542)","v":""},{"$f":"IF(ISBLANK(Datenerfassung!R542),\"\",Datenerfassung!R542)","v":""},{"$f":"IF(ISBLANK(Datenerfassung!S542),\"\",Datenerfassung!S542)","v":""},"",{"$f":"IF(ISBLANK(Datenerfassung!U542),\"\",Datenerfassung!U542)","v":""},{"$f":"IF(ISBLANK(Datenerfassung!O542),\"\",Datenerfassung!O542)","v":""},{"$f":"IF(ISBLANK(Datenerfassung!D542),IF(COUNTBLANK(A532:H532)+COUNTBLANK(J532:O532)=14,\"\",\"- ohne Titel -\"),Datenerfassung!D542)","v":""},{"$f":"IF(ISBLANK(Datenerfassung!G542),\"\",Datenerfassung!G542)","v":""},"",{"$f":"IF(ISBLANK(Datenerfassung!X542),\"\",Datenerfassung!X542)","v":""},{"$f":"IF(COUNTBLANK(Datenerfassung!H542:'Datenerfassung'!N542)=7,\"\",CONCATENATE( CONCATENATE(IF(ISBLANK(Datenerfassung!H542),\" \",Datenerfassung!H542 ),\" [IS]\"), CONCATENATE(IF(ISBLANK(Datenerfassung!I542),\" \",Datenerfassung!I542 ),\" [IS]\"), CONCATENATE(IF(ISBLANK(Datenerfassung!J542),\" \",Datenerfassung!J542 ),\" [IS]\"), CONCATENATE(IF(ISBLANK(Datenerfassung!K542),\" \",Datenerfassung!K542 ),\" [IS]\"), CONCATENATE(IF(ISBLANK(Datenerfassung!L542),\" \",Datenerfassung!L542 ),\" [IS]\"), CONCATENATE(IF(ISBLANK(Datenerfassung!M542),\" \",Datenerfassung!M542 ),\" [IS]\"), IF(ISBLANK(Datenerfassung!N542),\" \",Datenerfassung!N542 ) ))","v":""},{"$f":"IF(ISBLANK(Datenerfassung!V542),\"\",Datenerfassung!V542)","v":""},{"$f":"IF(ISBLANK(Datenerfassung!Q542),\"\",Datenerfassung!Q542)","v":""}]
[{"$f":"IF(ISBLANK(Datenerfassung!A543),\"\",Datenerfassung!A543)","v":""},{"$f":"IF(ISBLANK(Datenerfassung!B543),\"\",Datenerfassung!B543)","v":""},{"$f":"IF(ISBLANK(Datenerfassung!C543),\"\",Datenerfassung!C543)","v":""},{"$f":"IF(ISBLANK(Datenerfassung!R543),\"\",Datenerfassung!R543)","v":""},{"$f":"IF(ISBLANK(Datenerfassung!S543),\"\",Datenerfassung!S543)","v":""},"",{"$f":"IF(ISBLANK(Datenerfassung!U543),\"\",Datenerfassung!U543)","v":""},{"$f":"IF(ISBLANK(Datenerfassung!O543),\"\",Datenerfassung!O543)","v":""},{"$f":"IF(ISBLANK(Datenerfassung!D543),IF(COUNTBLANK(A533:H533)+COUNTBLANK(J533:O533)=14,\"\",\"- ohne Titel -\"),Datenerfassung!D543)","v":""},{"$f":"IF(ISBLANK(Datenerfassung!G543),\"\",Datenerfassung!G543)","v":""},"",{"$f":"IF(ISBLANK(Datenerfassung!X543),\"\",Datenerfassung!X543)","v":""},{"$f":"IF(COUNTBLANK(Datenerfassung!H543:'Datenerfassung'!N543)=7,\"\",CONCATENATE( CONCATENATE(IF(ISBLANK(Datenerfassung!H543),\" \",Datenerfassung!H543 ),\" [IS]\"), CONCATENATE(IF(ISBLANK(Datenerfassung!I543),\" \",Datenerfassung!I543 ),\" [IS]\"), CONCATENATE(IF(ISBLANK(Datenerfassung!J543),\" \",Datenerfassung!J543 ),\" [IS]\"), CONCATENATE(IF(ISBLANK(Datenerfassung!K543),\" \",Datenerfassung!K543 ),\" [IS]\"), CONCATENATE(IF(ISBLANK(Datenerfassung!L543),\" \",Datenerfassung!L543 ),\" [IS]\"), CONCATENATE(IF(ISBLANK(Datenerfassung!M543),\" \",Datenerfassung!M543 ),\" [IS]\"), IF(ISBLANK(Datenerfassung!N543),\" \",Datenerfassung!N543 ) ))","v":""},{"$f":"IF(ISBLANK(Datenerfassung!V543),\"\",Datenerfassung!V543)","v":""},{"$f":"IF(ISBLANK(Datenerfassung!Q543),\"\",Datenerfassung!Q543)","v":""}]
[{"$f":"IF(ISBLANK(Datenerfassung!A544),\"\",Datenerfassung!A544)","v":""},{"$f":"IF(ISBLANK(Datenerfassung!B544),\"\",Datenerfassung!B544)","v":""},{"$f":"IF(ISBLANK(Datenerfassung!C544),\"\",Datenerfassung!C544)","v":""},{"$f":"IF(ISBLANK(Datenerfassung!R544),\"\",Datenerfassung!R544)","v":""},{"$f":"IF(ISBLANK(Datenerfassung!S544),\"\",Datenerfassung!S544)","v":""},"",{"$f":"IF(ISBLANK(Datenerfassung!U544),\"\",Datenerfassung!U544)","v":""},{"$f":"IF(ISBLANK(Datenerfassung!O544),\"\",Datenerfassung!O544)","v":""},{"$f":"IF(ISBLANK(Datenerfassung!D544),IF(COUNTBLANK(A534:H534)+COUNTBLANK(J534:O534)=14,\"\",\"- ohne Titel -\"),Datenerfassung!D544)","v":""},{"$f":"IF(ISBLANK(Datenerfassung!G544),\"\",Datenerfassung!G544)","v":""},"",{"$f":"IF(ISBLANK(Datenerfassung!X544),\"\",Datenerfassung!X544)","v":""},{"$f":"IF(COUNTBLANK(Datenerfassung!H544:'Datenerfassung'!N544)=7,\"\",CONCATENATE( CONCATENATE(IF(ISBLANK(Datenerfassung!H544),\" \",Datenerfassung!H544 ),\" [IS]\"), CONCATENATE(IF(ISBLANK(Datenerfassung!I544),\" \",Datenerfassung!I544 ),\" [IS]\"), CONCATENATE(IF(ISBLANK(Datenerfassung!J544),\" \",Datenerfassung!J544 ),\" [IS]\"), CONCATENATE(IF(ISBLANK(Datenerfassung!K544),\" \",Datenerfassung!K544 ),\" [IS]\"), CONCATENATE(IF(ISBLANK(Datenerfassung!L544),\" \",Datenerfassung!L544 ),\" [IS]\"), CONCATENATE(IF(ISBLANK(Datenerfassung!M544),\" \",Datenerfassung!M544 ),\" [IS]\"), IF(ISBLANK(Datenerfassung!N544),\" \",Datenerfassung!N544 ) ))","v":""},{"$f":"IF(ISBLANK(Datenerfassung!V544),\"\",Datenerfassung!V544)","v":""},{"$f":"IF(ISBLANK(Datenerfassung!Q544),\"\",Datenerfassung!Q544)","v":""}]
[{"$f":"IF(ISBLANK(Datenerfassung!A545),\"\",Datenerfassung!A545)","v":""},{"$f":"IF(ISBLANK(Datenerfassung!B545),\"\",Datenerfassung!B545)","v":""},{"$f":"IF(ISBLANK(Datenerfassung!C545),\"\",Datenerfassung!C545)","v":""},{"$f":"IF(ISBLANK(Datenerfassung!R545),\"\",Datenerfassung!R545)","v":""},{"$f":"IF(ISBLANK(Datenerfassung!S545),\"\",Datenerfassung!S545)","v":""},"",{"$f":"IF(ISBLANK(Datenerfassung!U545),\"\",Datenerfassung!U545)","v":""},{"$f":"IF(ISBLANK(Datenerfassung!O545),\"\",Datenerfassung!O545)","v":""},{"$f":"IF(ISBLANK(Datenerfassung!D545),IF(COUNTBLANK(A535:H535)+COUNTBLANK(J535:O535)=14,\"\",\"- ohne Titel -\"),Datenerfassung!D545)","v":""},{"$f":"IF(ISBLANK(Datenerfassung!G545),\"\",Datenerfassung!G545)","v":""},"",{"$f":"IF(ISBLANK(Datenerfassung!X545),\"\",Datenerfassung!X545)","v":""},{"$f":"IF(COUNTBLANK(Datenerfassung!H545:'Datenerfassung'!N545)=7,\"\",CONCATENATE( CONCATENATE(IF(ISBLANK(Datenerfassung!H545),\" \",Datenerfassung!H545 ),\" [IS]\"), CONCATENATE(IF(ISBLANK(Datenerfassung!I545),\" \",Datenerfassung!I545 ),\" [IS]\"), CONCATENATE(IF(ISBLANK(Datenerfassung!J545),\" \",Datenerfassung!J545 ),\" [IS]\"), CONCATENATE(IF(ISBLANK(Datenerfassung!K545),\" \",Datenerfassung!K545 ),\" [IS]\"), CONCATENATE(IF(ISBLANK(Datenerfassung!L545),\" \",Datenerfassung!L545 ),\" [IS]\"), CONCATENATE(IF(ISBLANK(Datenerfassung!M545),\" \",Datenerfassung!M545 ),\" [IS]\"), IF(ISBLANK(Datenerfassung!N545),\" \",Datenerfassung!N545 ) ))","v":""},{"$f":"IF(ISBLANK(Datenerfassung!V545),\"\",Datenerfassung!V545)","v":""},{"$f":"IF(ISBLANK(Datenerfassung!Q545),\"\",Datenerfassung!Q545)","v":""}]
[{"$f":"IF(ISBLANK(Datenerfassung!A546),\"\",Datenerfassung!A546)","v":""},{"$f":"IF(ISBLANK(Datenerfassung!B546),\"\",Datenerfassung!B546)","v":""},{"$f":"IF(ISBLANK(Datenerfassung!C546),\"\",Datenerfassung!C546)","v":""},{"$f":"IF(ISBLANK(Datenerfassung!R546),\"\",Datenerfassung!R546)","v":""},{"$f":"IF(ISBLANK(Datenerfassung!S546),\"\",Datenerfassung!S546)","v":""},"",{"$f":"IF(ISBLANK(Datenerfassung!U546),\"\",Datenerfassung!U546)","v":""},{"$f":"IF(ISBLANK(Datenerfassung!O546),\"\",Datenerfassung!O546)","v":""},{"$f":"IF(ISBLANK(Datenerfassung!D546),IF(COUNTBLANK(A536:H536)+COUNTBLANK(J536:O536)=14,\"\",\"- ohne Titel -\"),Datenerfassung!D546)","v":""},{"$f":"IF(ISBLANK(Datenerfassung!G546),\"\",Datenerfassung!G546)","v":""},"",{"$f":"IF(ISBLANK(Datenerfassung!X546),\"\",Datenerfassung!X546)","v":""},{"$f":"IF(COUNTBLANK(Datenerfassung!H546:'Datenerfassung'!N546)=7,\"\",CONCATENATE( CONCATENATE(IF(ISBLANK(Datenerfassung!H546),\" \",Datenerfassung!H546 ),\" [IS]\"), CONCATENATE(IF(ISBLANK(Datenerfassung!I546),\" \",Datenerfassung!I546 ),\" [IS]\"), CONCATENATE(IF(ISBLANK(Datenerfassung!J546),\" \",Datenerfassung!J546 ),\" [IS]\"), CONCATENATE(IF(ISBLANK(Datenerfassung!K546),\" \",Datenerfassung!K546 ),\" [IS]\"), CONCATENATE(IF(ISBLANK(Datenerfassung!L546),\" \",Datenerfassung!L546 ),\" [IS]\"), CONCATENATE(IF(ISBLANK(Datenerfassung!M546),\" \",Datenerfassung!M546 ),\" [IS]\"), IF(ISBLANK(Datenerfassung!N546),\" \",Datenerfassung!N546 ) ))","v":""},{"$f":"IF(ISBLANK(Datenerfassung!V546),\"\",Datenerfassung!V546)","v":""},{"$f":"IF(ISBLANK(Datenerfassung!Q546),\"\",Datenerfassung!Q546)","v":""}]
[{"$f":"IF(ISBLANK(Datenerfassung!A547),\"\",Datenerfassung!A547)","v":""},{"$f":"IF(ISBLANK(Datenerfassung!B547),\"\",Datenerfassung!B547)","v":""},{"$f":"IF(ISBLANK(Datenerfassung!C547),\"\",Datenerfassung!C547)","v":""},{"$f":"IF(ISBLANK(Datenerfassung!R547),\"\",Datenerfassung!R547)","v":""},{"$f":"IF(ISBLANK(Datenerfassung!S547),\"\",Datenerfassung!S547)","v":""},"",{"$f":"IF(ISBLANK(Datenerfassung!U547),\"\",Datenerfassung!U547)","v":""},{"$f":"IF(ISBLANK(Datenerfassung!O547),\"\",Datenerfassung!O547)","v":""},{"$f":"IF(ISBLANK(Datenerfassung!D547),IF(COUNTBLANK(A537:H537)+COUNTBLANK(J537:O537)=14,\"\",\"- ohne Titel -\"),Datenerfassung!D547)","v":""},{"$f":"IF(ISBLANK(Datenerfassung!G547),\"\",Datenerfassung!G547)","v":""},"",{"$f":"IF(ISBLANK(Datenerfassung!X547),\"\",Datenerfassung!X547)","v":""},{"$f":"IF(COUNTBLANK(Datenerfassung!H547:'Datenerfassung'!N547)=7,\"\",CONCATENATE( CONCATENATE(IF(ISBLANK(Datenerfassung!H547),\" \",Datenerfassung!H547 ),\" [IS]\"), CONCATENATE(IF(ISBLANK(Datenerfassung!I547),\" \",Datenerfassung!I547 ),\" [IS]\"), CONCATENATE(IF(ISBLANK(Datenerfassung!J547),\" \",Datenerfassung!J547 ),\" [IS]\"), CONCATENATE(IF(ISBLANK(Datenerfassung!K547),\" \",Datenerfassung!K547 ),\" [IS]\"), CONCATENATE(IF(ISBLANK(Datenerfassung!L547),\" \",Datenerfassung!L547 ),\" [IS]\"), CONCATENATE(IF(ISBLANK(Datenerfassung!M547),\" \",Datenerfassung!M547 ),\" [IS]\"), IF(ISBLANK(Datenerfassung!N547),\" \",Datenerfassung!N547 ) ))","v":""},{"$f":"IF(ISBLANK(Datenerfassung!V547),\"\",Datenerfassung!V547)","v":""},{"$f":"IF(ISBLANK(Datenerfassung!Q547),\"\",Datenerfassung!Q547)","v":""}]
[{"$f":"IF(ISBLANK(Datenerfassung!A548),\"\",Datenerfassung!A548)","v":""},{"$f":"IF(ISBLANK(Datenerfassung!B548),\"\",Datenerfassung!B548)","v":""},{"$f":"IF(ISBLANK(Datenerfassung!C548),\"\",Datenerfassung!C548)","v":""},{"$f":"IF(ISBLANK(Datenerfassung!R548),\"\",Datenerfassung!R548)","v":""},{"$f":"IF(ISBLANK(Datenerfassung!S548),\"\",Datenerfassung!S548)","v":""},"",{"$f":"IF(ISBLANK(Datenerfassung!U548),\"\",Datenerfassung!U548)","v":""},{"$f":"IF(ISBLANK(Datenerfassung!O548),\"\",Datenerfassung!O548)","v":""},{"$f":"IF(ISBLANK(Datenerfassung!D548),IF(COUNTBLANK(A538:H538)+COUNTBLANK(J538:O538)=14,\"\",\"- ohne Titel -\"),Datenerfassung!D548)","v":""},{"$f":"IF(ISBLANK(Datenerfassung!G548),\"\",Datenerfassung!G548)","v":""},"",{"$f":"IF(ISBLANK(Datenerfassung!X548),\"\",Datenerfassung!X548)","v":""},{"$f":"IF(COUNTBLANK(Datenerfassung!H548:'Datenerfassung'!N548)=7,\"\",CONCATENATE( CONCATENATE(IF(ISBLANK(Datenerfassung!H548),\" \",Datenerfassung!H548 ),\" [IS]\"), CONCATENATE(IF(ISBLANK(Datenerfassung!I548),\" \",Datenerfassung!I548 ),\" [IS]\"), CONCATENATE(IF(ISBLANK(Datenerfassung!J548),\" \",Datenerfassung!J548 ),\" [IS]\"), CONCATENATE(IF(ISBLANK(Datenerfassung!K548),\" \",Datenerfassung!K548 ),\" [IS]\"), CONCATENATE(IF(ISBLANK(Datenerfassung!L548),\" \",Datenerfassung!L548 ),\" [IS]\"), CONCATENATE(IF(ISBLANK(Datenerfassung!M548),\" \",Datenerfassung!M548 ),\" [IS]\"), IF(ISBLANK(Datenerfassung!N548),\" \",Datenerfassung!N548 ) ))","v":""},{"$f":"IF(ISBLANK(Datenerfassung!V548),\"\",Datenerfassung!V548)","v":""},{"$f":"IF(ISBLANK(Datenerfassung!Q548),\"\",Datenerfassung!Q548)","v":""}]
[{"$f":"IF(ISBLANK(Datenerfassung!A549),\"\",Datenerfassung!A549)","v":""},{"$f":"IF(ISBLANK(Datenerfassung!B549),\"\",Datenerfassung!B549)","v":""},{"$f":"IF(ISBLANK(Datenerfassung!C549),\"\",Datenerfassung!C549)","v":""},{"$f":"IF(ISBLANK(Datenerfassung!R549),\"\",Datenerfassung!R549)","v":""},{"$f":"IF(ISBLANK(Datenerfassung!S549),\"\",Datenerfassung!S549)","v":""},"",{"$f":"IF(ISBLANK(Datenerfassung!U549),\"\",Datenerfassung!U549)","v":""},{"$f":"IF(ISBLANK(Datenerfassung!O549),\"\",Datenerfassung!O549)","v":""},{"$f":"IF(ISBLANK(Datenerfassung!D549),IF(COUNTBLANK(A539:H539)+COUNTBLANK(J539:O539)=14,\"\",\"- ohne Titel -\"),Datenerfassung!D549)","v":""},{"$f":"IF(ISBLANK(Datenerfassung!G549),\"\",Datenerfassung!G549)","v":""},"",{"$f":"IF(ISBLANK(Datenerfassung!X549),\"\",Datenerfassung!X549)","v":""},{"$f":"IF(COUNTBLANK(Datenerfassung!H549:'Datenerfassung'!N549)=7,\"\",CONCATENATE( CONCATENATE(IF(ISBLANK(Datenerfassung!H549),\" \",Datenerfassung!H549 ),\" [IS]\"), CONCATENATE(IF(ISBLANK(Datenerfassung!I549),\" \",Datenerfassung!I549 ),\" [IS]\"), CONCATENATE(IF(ISBLANK(Datenerfassung!J549),\" \",Datenerfassung!J549 ),\" [IS]\"), CONCATENATE(IF(ISBLANK(Datenerfassung!K549),\" \",Datenerfassung!K549 ),\" [IS]\"), CONCATENATE(IF(ISBLANK(Datenerfassung!L549),\" \",Datenerfassung!L549 ),\" [IS]\"), CONCATENATE(IF(ISBLANK(Datenerfassung!M549),\" \",Datenerfassung!M549 ),\" [IS]\"), IF(ISBLANK(Datenerfassung!N549),\" \",Datenerfassung!N549 ) ))","v":""},{"$f":"IF(ISBLANK(Datenerfassung!V549),\"\",Datenerfassung!V549)","v":""},{"$f":"IF(ISBLANK(Datenerfassung!Q549),\"\",Datenerfassung!Q549)","v":""}]
[{"$f":"IF(ISBLANK(Datenerfassung!A550),\"\",Datenerfassung!A550)","v":""},{"$f":"IF(ISBLANK(Datenerfassung!B550),\"\",Datenerfassung!B550)","v":""},{"$f":"IF(ISBLANK(Datenerfassung!C550),\"\",Datenerfassung!C550)","v":""},{"$f":"IF(ISBLANK(Datenerfassung!R550),\"\",Datenerfassung!R550)","v":""},{"$f":"IF(ISBLANK(Datenerfassung!S550),\"\",Datenerfassung!S550)","v":""},"",{"$f":"IF(ISBLANK(Datenerfassung!U550),\"\",Datenerfassung!U550)","v":""},{"$f":"IF(ISBLANK(Datenerfassung!O550),\"\",Datenerfassung!O550)","v":""},{"$f":"IF(ISBLANK(Datenerfassung!D550),IF(COUNTBLANK(A540:H540)+COUNTBLANK(J540:O540)=14,\"\",\"- ohne Titel -\"),Datenerfassung!D550)","v":""},{"$f":"IF(ISBLANK(Datenerfassung!G550),\"\",Datenerfassung!G550)","v":""},"",{"$f":"IF(ISBLANK(Datenerfassung!X550),\"\",Datenerfassung!X550)","v":""},{"$f":"IF(COUNTBLANK(Datenerfassung!H550:'Datenerfassung'!N550)=7,\"\",CONCATENATE( CONCATENATE(IF(ISBLANK(Datenerfassung!H550),\" \",Datenerfassung!H550 ),\" [IS]\"), CONCATENATE(IF(ISBLANK(Datenerfassung!I550),\" \",Datenerfassung!I550 ),\" [IS]\"), CONCATENATE(IF(ISBLANK(Datenerfassung!J550),\" \",Datenerfassung!J550 ),\" [IS]\"), CONCATENATE(IF(ISBLANK(Datenerfassung!K550),\" \",Datenerfassung!K550 ),\" [IS]\"), CONCATENATE(IF(ISBLANK(Datenerfassung!L550),\" \",Datenerfassung!L550 ),\" [IS]\"), CONCATENATE(IF(ISBLANK(Datenerfassung!M550),\" \",Datenerfassung!M550 ),\" [IS]\"), IF(ISBLANK(Datenerfassung!N550),\" \",Datenerfassung!N550 ) ))","v":""},{"$f":"IF(ISBLANK(Datenerfassung!V550),\"\",Datenerfassung!V550)","v":""},{"$f":"IF(ISBLANK(Datenerfassung!Q550),\"\",Datenerfassung!Q550)","v":""}]
[{"$f":"IF(ISBLANK(Datenerfassung!A551),\"\",Datenerfassung!A551)","v":""},{"$f":"IF(ISBLANK(Datenerfassung!B551),\"\",Datenerfassung!B551)","v":""},{"$f":"IF(ISBLANK(Datenerfassung!C551),\"\",Datenerfassung!C551)","v":""},{"$f":"IF(ISBLANK(Datenerfassung!R551),\"\",Datenerfassung!R551)","v":""},{"$f":"IF(ISBLANK(Datenerfassung!S551),\"\",Datenerfassung!S551)","v":""},"",{"$f":"IF(ISBLANK(Datenerfassung!U551),\"\",Datenerfassung!U551)","v":""},{"$f":"IF(ISBLANK(Datenerfassung!O551),\"\",Datenerfassung!O551)","v":""},{"$f":"IF(ISBLANK(Datenerfassung!D551),IF(COUNTBLANK(A541:H541)+COUNTBLANK(J541:O541)=14,\"\",\"- ohne Titel -\"),Datenerfassung!D551)","v":""},{"$f":"IF(ISBLANK(Datenerfassung!G551),\"\",Datenerfassung!G551)","v":""},"",{"$f":"IF(ISBLANK(Datenerfassung!X551),\"\",Datenerfassung!X551)","v":""},{"$f":"IF(COUNTBLANK(Datenerfassung!H551:'Datenerfassung'!N551)=7,\"\",CONCATENATE( CONCATENATE(IF(ISBLANK(Datenerfassung!H551),\" \",Datenerfassung!H551 ),\" [IS]\"), CONCATENATE(IF(ISBLANK(Datenerfassung!I551),\" \",Datenerfassung!I551 ),\" [IS]\"), CONCATENATE(IF(ISBLANK(Datenerfassung!J551),\" \",Datenerfassung!J551 ),\" [IS]\"), CONCATENATE(IF(ISBLANK(Datenerfassung!K551),\" \",Datenerfassung!K551 ),\" [IS]\"), CONCATENATE(IF(ISBLANK(Datenerfassung!L551),\" \",Datenerfassung!L551 ),\" [IS]\"), CONCATENATE(IF(ISBLANK(Datenerfassung!M551),\" \",Datenerfassung!M551 ),\" [IS]\"), IF(ISBLANK(Datenerfassung!N551),\" \",Datenerfassung!N551 ) ))","v":""},{"$f":"IF(ISBLANK(Datenerfassung!V551),\"\",Datenerfassung!V551)","v":""},{"$f":"IF(ISBLANK(Datenerfassung!Q551),\"\",Datenerfassung!Q551)","v":""}]
[{"$f":"IF(ISBLANK(Datenerfassung!A552),\"\",Datenerfassung!A552)","v":""},{"$f":"IF(ISBLANK(Datenerfassung!B552),\"\",Datenerfassung!B552)","v":""},{"$f":"IF(ISBLANK(Datenerfassung!C552),\"\",Datenerfassung!C552)","v":""},{"$f":"IF(ISBLANK(Datenerfassung!R552),\"\",Datenerfassung!R552)","v":""},{"$f":"IF(ISBLANK(Datenerfassung!S552),\"\",Datenerfassung!S552)","v":""},"",{"$f":"IF(ISBLANK(Datenerfassung!U552),\"\",Datenerfassung!U552)","v":""},{"$f":"IF(ISBLANK(Datenerfassung!O552),\"\",Datenerfassung!O552)","v":""},{"$f":"IF(ISBLANK(Datenerfassung!D552),IF(COUNTBLANK(A542:H542)+COUNTBLANK(J542:O542)=14,\"\",\"- ohne Titel -\"),Datenerfassung!D552)","v":""},{"$f":"IF(ISBLANK(Datenerfassung!G552),\"\",Datenerfassung!G552)","v":""},"",{"$f":"IF(ISBLANK(Datenerfassung!X552),\"\",Datenerfassung!X552)","v":""},{"$f":"IF(COUNTBLANK(Datenerfassung!H552:'Datenerfassung'!N552)=7,\"\",CONCATENATE( CONCATENATE(IF(ISBLANK(Datenerfassung!H552),\" \",Datenerfassung!H552 ),\" [IS]\"), CONCATENATE(IF(ISBLANK(Datenerfassung!I552),\" \",Datenerfassung!I552 ),\" [IS]\"), CONCATENATE(IF(ISBLANK(Datenerfassung!J552),\" \",Datenerfassung!J552 ),\" [IS]\"), CONCATENATE(IF(ISBLANK(Datenerfassung!K552),\" \",Datenerfassung!K552 ),\" [IS]\"), CONCATENATE(IF(ISBLANK(Datenerfassung!L552),\" \",Datenerfassung!L552 ),\" [IS]\"), CONCATENATE(IF(ISBLANK(Datenerfassung!M552),\" \",Datenerfassung!M552 ),\" [IS]\"), IF(ISBLANK(Datenerfassung!N552),\" \",Datenerfassung!N552 ) ))","v":""},{"$f":"IF(ISBLANK(Datenerfassung!V552),\"\",Datenerfassung!V552)","v":""},{"$f":"IF(ISBLANK(Datenerfassung!Q552),\"\",Datenerfassung!Q552)","v":""}]
[{"$f":"IF(ISBLANK(Datenerfassung!A553),\"\",Datenerfassung!A553)","v":""},{"$f":"IF(ISBLANK(Datenerfassung!B553),\"\",Datenerfassung!B553)","v":""},{"$f":"IF(ISBLANK(Datenerfassung!C553),\"\",Datenerfassung!C553)","v":""},{"$f":"IF(ISBLANK(Datenerfassung!R553),\"\",Datenerfassung!R553)","v":""},{"$f":"IF(ISBLANK(Datenerfassung!S553),\"\",Datenerfassung!S553)","v":""},"",{"$f":"IF(ISBLANK(Datenerfassung!U553),\"\",Datenerfassung!U553)","v":""},{"$f":"IF(ISBLANK(Datenerfassung!O553),\"\",Datenerfassung!O553)","v":""},{"$f":"IF(ISBLANK(Datenerfassung!D553),IF(COUNTBLANK(A543:H543)+COUNTBLANK(J543:O543)=14,\"\",\"- ohne Titel -\"),Datenerfassung!D553)","v":""},{"$f":"IF(ISBLANK(Datenerfassung!G553),\"\",Datenerfassung!G553)","v":""},"",{"$f":"IF(ISBLANK(Datenerfassung!X553),\"\",Datenerfassung!X553)","v":""},{"$f":"IF(COUNTBLANK(Datenerfassung!H553:'Datenerfassung'!N553)=7,\"\",CONCATENATE( CONCATENATE(IF(ISBLANK(Datenerfassung!H553),\" \",Datenerfassung!H553 ),\" [IS]\"), CONCATENATE(IF(ISBLANK(Datenerfassung!I553),\" \",Datenerfassung!I553 ),\" [IS]\"), CONCATENATE(IF(ISBLANK(Datenerfassung!J553),\" \",Datenerfassung!J553 ),\" [IS]\"), CONCATENATE(IF(ISBLANK(Datenerfassung!K553),\" \",Datenerfassung!K553 ),\" [IS]\"), CONCATENATE(IF(ISBLANK(Datenerfassung!L553),\" \",Datenerfassung!L553 ),\" [IS]\"), CONCATENATE(IF(ISBLANK(Datenerfassung!M553),\" \",Datenerfassung!M553 ),\" [IS]\"), IF(ISBLANK(Datenerfassung!N553),\" \",Datenerfassung!N553 ) ))","v":""},{"$f":"IF(ISBLANK(Datenerfassung!V553),\"\",Datenerfassung!V553)","v":""},{"$f":"IF(ISBLANK(Datenerfassung!Q553),\"\",Datenerfassung!Q553)","v":""}]
[{"$f":"IF(ISBLANK(Datenerfassung!A554),\"\",Datenerfassung!A554)","v":""},{"$f":"IF(ISBLANK(Datenerfassung!B554),\"\",Datenerfassung!B554)","v":""},{"$f":"IF(ISBLANK(Datenerfassung!C554),\"\",Datenerfassung!C554)","v":""},{"$f":"IF(ISBLANK(Datenerfassung!R554),\"\",Datenerfassung!R554)","v":""},{"$f":"IF(ISBLANK(Datenerfassung!S554),\"\",Datenerfassung!S554)","v":""},"",{"$f":"IF(ISBLANK(Datenerfassung!U554),\"\",Datenerfassung!U554)","v":""},{"$f":"IF(ISBLANK(Datenerfassung!O554),\"\",Datenerfassung!O554)","v":""},{"$f":"IF(ISBLANK(Datenerfassung!D554),IF(COUNTBLANK(A544:H544)+COUNTBLANK(J544:O544)=14,\"\",\"- ohne Titel -\"),Datenerfassung!D554)","v":""},{"$f":"IF(ISBLANK(Datenerfassung!G554),\"\",Datenerfassung!G554)","v":""},"",{"$f":"IF(ISBLANK(Datenerfassung!X554),\"\",Datenerfassung!X554)","v":""},{"$f":"IF(COUNTBLANK(Datenerfassung!H554:'Datenerfassung'!N554)=7,\"\",CONCATENATE( CONCATENATE(IF(ISBLANK(Datenerfassung!H554),\" \",Datenerfassung!H554 ),\" [IS]\"), CONCATENATE(IF(ISBLANK(Datenerfassung!I554),\" \",Datenerfassung!I554 ),\" [IS]\"), CONCATENATE(IF(ISBLANK(Datenerfassung!J554),\" \",Datenerfassung!J554 ),\" [IS]\"), CONCATENATE(IF(ISBLANK(Datenerfassung!K554),\" \",Datenerfassung!K554 ),\" [IS]\"), CONCATENATE(IF(ISBLANK(Datenerfassung!L554),\" \",Datenerfassung!L554 ),\" [IS]\"), CONCATENATE(IF(ISBLANK(Datenerfassung!M554),\" \",Datenerfassung!M554 ),\" [IS]\"), IF(ISBLANK(Datenerfassung!N554),\" \",Datenerfassung!N554 ) ))","v":""},{"$f":"IF(ISBLANK(Datenerfassung!V554),\"\",Datenerfassung!V554)","v":""},{"$f":"IF(ISBLANK(Datenerfassung!Q554),\"\",Datenerfassung!Q554)","v":""}]
[{"$f":"IF(ISBLANK(Datenerfassung!A555),\"\",Datenerfassung!A555)","v":""},{"$f":"IF(ISBLANK(Datenerfassung!B555),\"\",Datenerfassung!B555)","v":""},{"$f":"IF(ISBLANK(Datenerfassung!C555),\"\",Datenerfassung!C555)","v":""},{"$f":"IF(ISBLANK(Datenerfassung!R555),\"\",Datenerfassung!R555)","v":""},{"$f":"IF(ISBLANK(Datenerfassung!S555),\"\",Datenerfassung!S555)","v":""},"",{"$f":"IF(ISBLANK(Datenerfassung!U555),\"\",Datenerfassung!U555)","v":""},{"$f":"IF(ISBLANK(Datenerfassung!O555),\"\",Datenerfassung!O555)","v":""},{"$f":"IF(ISBLANK(Datenerfassung!D555),IF(COUNTBLANK(A545:H545)+COUNTBLANK(J545:O545)=14,\"\",\"- ohne Titel -\"),Datenerfassung!D555)","v":""},{"$f":"IF(ISBLANK(Datenerfassung!G555),\"\",Datenerfassung!G555)","v":""},"",{"$f":"IF(ISBLANK(Datenerfassung!X555),\"\",Datenerfassung!X555)","v":""},{"$f":"IF(COUNTBLANK(Datenerfassung!H555:'Datenerfassung'!N555)=7,\"\",CONCATENATE( CONCATENATE(IF(ISBLANK(Datenerfassung!H555),\" \",Datenerfassung!H555 ),\" [IS]\"), CONCATENATE(IF(ISBLANK(Datenerfassung!I555),\" \",Datenerfassung!I555 ),\" [IS]\"), CONCATENATE(IF(ISBLANK(Datenerfassung!J555),\" \",Datenerfassung!J555 ),\" [IS]\"), CONCATENATE(IF(ISBLANK(Datenerfassung!K555),\" \",Datenerfassung!K555 ),\" [IS]\"), CONCATENATE(IF(ISBLANK(Datenerfassung!L555),\" \",Datenerfassung!L555 ),\" [IS]\"), CONCATENATE(IF(ISBLANK(Datenerfassung!M555),\" \",Datenerfassung!M555 ),\" [IS]\"), IF(ISBLANK(Datenerfassung!N555),\" \",Datenerfassung!N555 ) ))","v":""},{"$f":"IF(ISBLANK(Datenerfassung!V555),\"\",Datenerfassung!V555)","v":""},{"$f":"IF(ISBLANK(Datenerfassung!Q555),\"\",Datenerfassung!Q555)","v":""}]
[{"$f":"IF(ISBLANK(Datenerfassung!A556),\"\",Datenerfassung!A556)","v":""},{"$f":"IF(ISBLANK(Datenerfassung!B556),\"\",Datenerfassung!B556)","v":""},{"$f":"IF(ISBLANK(Datenerfassung!C556),\"\",Datenerfassung!C556)","v":""},{"$f":"IF(ISBLANK(Datenerfassung!R556),\"\",Datenerfassung!R556)","v":""},{"$f":"IF(ISBLANK(Datenerfassung!S556),\"\",Datenerfassung!S556)","v":""},"",{"$f":"IF(ISBLANK(Datenerfassung!U556),\"\",Datenerfassung!U556)","v":""},{"$f":"IF(ISBLANK(Datenerfassung!O556),\"\",Datenerfassung!O556)","v":""},{"$f":"IF(ISBLANK(Datenerfassung!D556),IF(COUNTBLANK(A546:H546)+COUNTBLANK(J546:O546)=14,\"\",\"- ohne Titel -\"),Datenerfassung!D556)","v":""},{"$f":"IF(ISBLANK(Datenerfassung!G556),\"\",Datenerfassung!G556)","v":""},"",{"$f":"IF(ISBLANK(Datenerfassung!X556),\"\",Datenerfassung!X556)","v":""},{"$f":"IF(COUNTBLANK(Datenerfassung!H556:'Datenerfassung'!N556)=7,\"\",CONCATENATE( CONCATENATE(IF(ISBLANK(Datenerfassung!H556),\" \",Datenerfassung!H556 ),\" [IS]\"), CONCATENATE(IF(ISBLANK(Datenerfassung!I556),\" \",Datenerfassung!I556 ),\" [IS]\"), CONCATENATE(IF(ISBLANK(Datenerfassung!J556),\" \",Datenerfassung!J556 ),\" [IS]\"), CONCATENATE(IF(ISBLANK(Datenerfassung!K556),\" \",Datenerfassung!K556 ),\" [IS]\"), CONCATENATE(IF(ISBLANK(Datenerfassung!L556),\" \",Datenerfassung!L556 ),\" [IS]\"), CONCATENATE(IF(ISBLANK(Datenerfassung!M556),\" \",Datenerfassung!M556 ),\" [IS]\"), IF(ISBLANK(Datenerfassung!N556),\" \",Datenerfassung!N556 ) ))","v":""},{"$f":"IF(ISBLANK(Datenerfassung!V556),\"\",Datenerfassung!V556)","v":""},{"$f":"IF(ISBLANK(Datenerfassung!Q556),\"\",Datenerfassung!Q556)","v":""}]
[{"$f":"IF(ISBLANK(Datenerfassung!A557),\"\",Datenerfassung!A557)","v":""},{"$f":"IF(ISBLANK(Datenerfassung!B557),\"\",Datenerfassung!B557)","v":""},{"$f":"IF(ISBLANK(Datenerfassung!C557),\"\",Datenerfassung!C557)","v":""},{"$f":"IF(ISBLANK(Datenerfassung!R557),\"\",Datenerfassung!R557)","v":""},{"$f":"IF(ISBLANK(Datenerfassung!S557),\"\",Datenerfassung!S557)","v":""},"",{"$f":"IF(ISBLANK(Datenerfassung!U557),\"\",Datenerfassung!U557)","v":""},{"$f":"IF(ISBLANK(Datenerfassung!O557),\"\",Datenerfassung!O557)","v":""},{"$f":"IF(ISBLANK(Datenerfassung!D557),IF(COUNTBLANK(A547:H547)+COUNTBLANK(J547:O547)=14,\"\",\"- ohne Titel -\"),Datenerfassung!D557)","v":""},{"$f":"IF(ISBLANK(Datenerfassung!G557),\"\",Datenerfassung!G557)","v":""},"",{"$f":"IF(ISBLANK(Datenerfassung!X557),\"\",Datenerfassung!X557)","v":""},{"$f":"IF(COUNTBLANK(Datenerfassung!H557:'Datenerfassung'!N557)=7,\"\",CONCATENATE( CONCATENATE(IF(ISBLANK(Datenerfassung!H557),\" \",Datenerfassung!H557 ),\" [IS]\"), CONCATENATE(IF(ISBLANK(Datenerfassung!I557),\" \",Datenerfassung!I557 ),\" [IS]\"), CONCATENATE(IF(ISBLANK(Datenerfassung!J557),\" \",Datenerfassung!J557 ),\" [IS]\"), CONCATENATE(IF(ISBLANK(Datenerfassung!K557),\" \",Datenerfassung!K557 ),\" [IS]\"), CONCATENATE(IF(ISBLANK(Datenerfassung!L557),\" \",Datenerfassung!L557 ),\" [IS]\"), CONCATENATE(IF(ISBLANK(Datenerfassung!M557),\" \",Datenerfassung!M557 ),\" [IS]\"), IF(ISBLANK(Datenerfassung!N557),\" \",Datenerfassung!N557 ) ))","v":""},{"$f":"IF(ISBLANK(Datenerfassung!V557),\"\",Datenerfassung!V557)","v":""},{"$f":"IF(ISBLANK(Datenerfassung!Q557),\"\",Datenerfassung!Q557)","v":""}]
[{"$f":"IF(ISBLANK(Datenerfassung!A558),\"\",Datenerfassung!A558)","v":""},{"$f":"IF(ISBLANK(Datenerfassung!B558),\"\",Datenerfassung!B558)","v":""},{"$f":"IF(ISBLANK(Datenerfassung!C558),\"\",Datenerfassung!C558)","v":""},{"$f":"IF(ISBLANK(Datenerfassung!R558),\"\",Datenerfassung!R558)","v":""},{"$f":"IF(ISBLANK(Datenerfassung!S558),\"\",Datenerfassung!S558)","v":""},"",{"$f":"IF(ISBLANK(Datenerfassung!U558),\"\",Datenerfassung!U558)","v":""},{"$f":"IF(ISBLANK(Datenerfassung!O558),\"\",Datenerfassung!O558)","v":""},{"$f":"IF(ISBLANK(Datenerfassung!D558),IF(COUNTBLANK(A548:H548)+COUNTBLANK(J548:O548)=14,\"\",\"- ohne Titel -\"),Datenerfassung!D558)","v":""},{"$f":"IF(ISBLANK(Datenerfassung!G558),\"\",Datenerfassung!G558)","v":""},"",{"$f":"IF(ISBLANK(Datenerfassung!X558),\"\",Datenerfassung!X558)","v":""},{"$f":"IF(COUNTBLANK(Datenerfassung!H558:'Datenerfassung'!N558)=7,\"\",CONCATENATE( CONCATENATE(IF(ISBLANK(Datenerfassung!H558),\" \",Datenerfassung!H558 ),\" [IS]\"), CONCATENATE(IF(ISBLANK(Datenerfassung!I558),\" \",Datenerfassung!I558 ),\" [IS]\"), CONCATENATE(IF(ISBLANK(Datenerfassung!J558),\" \",Datenerfassung!J558 ),\" [IS]\"), CONCATENATE(IF(ISBLANK(Datenerfassung!K558),\" \",Datenerfassung!K558 ),\" [IS]\"), CONCATENATE(IF(ISBLANK(Datenerfassung!L558),\" \",Datenerfassung!L558 ),\" [IS]\"), CONCATENATE(IF(ISBLANK(Datenerfassung!M558),\" \",Datenerfassung!M558 ),\" [IS]\"), IF(ISBLANK(Datenerfassung!N558),\" \",Datenerfassung!N558 ) ))","v":""},{"$f":"IF(ISBLANK(Datenerfassung!V558),\"\",Datenerfassung!V558)","v":""},{"$f":"IF(ISBLANK(Datenerfassung!Q558),\"\",Datenerfassung!Q558)","v":""}]
[{"$f":"IF(ISBLANK(Datenerfassung!A559),\"\",Datenerfassung!A559)","v":""},{"$f":"IF(ISBLANK(Datenerfassung!B559),\"\",Datenerfassung!B559)","v":""},{"$f":"IF(ISBLANK(Datenerfassung!C559),\"\",Datenerfassung!C559)","v":""},{"$f":"IF(ISBLANK(Datenerfassung!R559),\"\",Datenerfassung!R559)","v":""},{"$f":"IF(ISBLANK(Datenerfassung!S559),\"\",Datenerfassung!S559)","v":""},"",{"$f":"IF(ISBLANK(Datenerfassung!U559),\"\",Datenerfassung!U559)","v":""},{"$f":"IF(ISBLANK(Datenerfassung!O559),\"\",Datenerfassung!O559)","v":""},{"$f":"IF(ISBLANK(Datenerfassung!D559),IF(COUNTBLANK(A549:H549)+COUNTBLANK(J549:O549)=14,\"\",\"- ohne Titel -\"),Datenerfassung!D559)","v":""},{"$f":"IF(ISBLANK(Datenerfassung!G559),\"\",Datenerfassung!G559)","v":""},"",{"$f":"IF(ISBLANK(Datenerfassung!X559),\"\",Datenerfassung!X559)","v":""},{"$f":"IF(COUNTBLANK(Datenerfassung!H559:'Datenerfassung'!N559)=7,\"\",CONCATENATE( CONCATENATE(IF(ISBLANK(Datenerfassung!H559),\" \",Datenerfassung!H559 ),\" [IS]\"), CONCATENATE(IF(ISBLANK(Datenerfassung!I559),\" \",Datenerfassung!I559 ),\" [IS]\"), CONCATENATE(IF(ISBLANK(Datenerfassung!J559),\" \",Datenerfassung!J559 ),\" [IS]\"), CONCATENATE(IF(ISBLANK(Datenerfassung!K559),\" \",Datenerfassung!K559 ),\" [IS]\"), CONCATENATE(IF(ISBLANK(Datenerfassung!L559),\" \",Datenerfassung!L559 ),\" [IS]\"), CONCATENATE(IF(ISBLANK(Datenerfassung!M559),\" \",Datenerfassung!M559 ),\" [IS]\"), IF(ISBLANK(Datenerfassung!N559),\" \",Datenerfassung!N559 ) ))","v":""},{"$f":"IF(ISBLANK(Datenerfassung!V559),\"\",Datenerfassung!V559)","v":""},{"$f":"IF(ISBLANK(Datenerfassung!Q559),\"\",Datenerfassung!Q559)","v":""}]
[{"$f":"IF(ISBLANK(Datenerfassung!A560),\"\",Datenerfassung!A560)","v":""},{"$f":"IF(ISBLANK(Datenerfassung!B560),\"\",Datenerfassung!B560)","v":""},{"$f":"IF(ISBLANK(Datenerfassung!C560),\"\",Datenerfassung!C560)","v":""},{"$f":"IF(ISBLANK(Datenerfassung!R560),\"\",Datenerfassung!R560)","v":""},{"$f":"IF(ISBLANK(Datenerfassung!S560),\"\",Datenerfassung!S560)","v":""},"",{"$f":"IF(ISBLANK(Datenerfassung!U560),\"\",Datenerfassung!U560)","v":""},{"$f":"IF(ISBLANK(Datenerfassung!O560),\"\",Datenerfassung!O560)","v":""},{"$f":"IF(ISBLANK(Datenerfassung!D560),IF(COUNTBLANK(A550:H550)+COUNTBLANK(J550:O550)=14,\"\",\"- ohne Titel -\"),Datenerfassung!D560)","v":""},{"$f":"IF(ISBLANK(Datenerfassung!G560),\"\",Datenerfassung!G560)","v":""},"",{"$f":"IF(ISBLANK(Datenerfassung!X560),\"\",Datenerfassung!X560)","v":""},{"$f":"IF(COUNTBLANK(Datenerfassung!H560:'Datenerfassung'!N560)=7,\"\",CONCATENATE( CONCATENATE(IF(ISBLANK(Datenerfassung!H560),\" \",Datenerfassung!H560 ),\" [IS]\"), CONCATENATE(IF(ISBLANK(Datenerfassung!I560),\" \",Datenerfassung!I560 ),\" [IS]\"), CONCATENATE(IF(ISBLANK(Datenerfassung!J560),\" \",Datenerfassung!J560 ),\" [IS]\"), CONCATENATE(IF(ISBLANK(Datenerfassung!K560),\" \",Datenerfassung!K560 ),\" [IS]\"), CONCATENATE(IF(ISBLANK(Datenerfassung!L560),\" \",Datenerfassung!L560 ),\" [IS]\"), CONCATENATE(IF(ISBLANK(Datenerfassung!M560),\" \",Datenerfassung!M560 ),\" [IS]\"), IF(ISBLANK(Datenerfassung!N560),\" \",Datenerfassung!N560 ) ))","v":""},{"$f":"IF(ISBLANK(Datenerfassung!V560),\"\",Datenerfassung!V560)","v":""},{"$f":"IF(ISBLANK(Datenerfassung!Q560),\"\",Datenerfassung!Q560)","v":""}]
[{"$f":"IF(ISBLANK(Datenerfassung!A561),\"\",Datenerfassung!A561)","v":""},{"$f":"IF(ISBLANK(Datenerfassung!B561),\"\",Datenerfassung!B561)","v":""},{"$f":"IF(ISBLANK(Datenerfassung!C561),\"\",Datenerfassung!C561)","v":""},{"$f":"IF(ISBLANK(Datenerfassung!R561),\"\",Datenerfassung!R561)","v":""},{"$f":"IF(ISBLANK(Datenerfassung!S561),\"\",Datenerfassung!S561)","v":""},"",{"$f":"IF(ISBLANK(Datenerfassung!U561),\"\",Datenerfassung!U561)","v":""},{"$f":"IF(ISBLANK(Datenerfassung!O561),\"\",Datenerfassung!O561)","v":""},{"$f":"IF(ISBLANK(Datenerfassung!D561),IF(COUNTBLANK(A551:H551)+COUNTBLANK(J551:O551)=14,\"\",\"- ohne Titel -\"),Datenerfassung!D561)","v":""},{"$f":"IF(ISBLANK(Datenerfassung!G561),\"\",Datenerfassung!G561)","v":""},"",{"$f":"IF(ISBLANK(Datenerfassung!X561),\"\",Datenerfassung!X561)","v":""},{"$f":"IF(COUNTBLANK(Datenerfassung!H561:'Datenerfassung'!N561)=7,\"\",CONCATENATE( CONCATENATE(IF(ISBLANK(Datenerfassung!H561),\" \",Datenerfassung!H561 ),\" [IS]\"), CONCATENATE(IF(ISBLANK(Datenerfassung!I561),\" \",Datenerfassung!I561 ),\" [IS]\"), CONCATENATE(IF(ISBLANK(Datenerfassung!J561),\" \",Datenerfassung!J561 ),\" [IS]\"), CONCATENATE(IF(ISBLANK(Datenerfassung!K561),\" \",Datenerfassung!K561 ),\" [IS]\"), CONCATENATE(IF(ISBLANK(Datenerfassung!L561),\" \",Datenerfassung!L561 ),\" [IS]\"), CONCATENATE(IF(ISBLANK(Datenerfassung!M561),\" \",Datenerfassung!M561 ),\" [IS]\"), IF(ISBLANK(Datenerfassung!N561),\" \",Datenerfassung!N561 ) ))","v":""},{"$f":"IF(ISBLANK(Datenerfassung!V561),\"\",Datenerfassung!V561)","v":""},{"$f":"IF(ISBLANK(Datenerfassung!Q561),\"\",Datenerfassung!Q561)","v":""}]
[{"$f":"IF(ISBLANK(Datenerfassung!A562),\"\",Datenerfassung!A562)","v":""},{"$f":"IF(ISBLANK(Datenerfassung!B562),\"\",Datenerfassung!B562)","v":""},{"$f":"IF(ISBLANK(Datenerfassung!C562),\"\",Datenerfassung!C562)","v":""},{"$f":"IF(ISBLANK(Datenerfassung!R562),\"\",Datenerfassung!R562)","v":""},{"$f":"IF(ISBLANK(Datenerfassung!S562),\"\",Datenerfassung!S562)","v":""},"",{"$f":"IF(ISBLANK(Datenerfassung!U562),\"\",Datenerfassung!U562)","v":""},{"$f":"IF(ISBLANK(Datenerfassung!O562),\"\",Datenerfassung!O562)","v":""},{"$f":"IF(ISBLANK(Datenerfassung!D562),IF(COUNTBLANK(A552:H552)+COUNTBLANK(J552:O552)=14,\"\",\"- ohne Titel -\"),Datenerfassung!D562)","v":""},{"$f":"IF(ISBLANK(Datenerfassung!G562),\"\",Datenerfassung!G562)","v":""},"",{"$f":"IF(ISBLANK(Datenerfassung!X562),\"\",Datenerfassung!X562)","v":""},{"$f":"IF(COUNTBLANK(Datenerfassung!H562:'Datenerfassung'!N562)=7,\"\",CONCATENATE( CONCATENATE(IF(ISBLANK(Datenerfassung!H562),\" \",Datenerfassung!H562 ),\" [IS]\"), CONCATENATE(IF(ISBLANK(Datenerfassung!I562),\" \",Datenerfassung!I562 ),\" [IS]\"), CONCATENATE(IF(ISBLANK(Datenerfassung!J562),\" \",Datenerfassung!J562 ),\" [IS]\"), CONCATENATE(IF(ISBLANK(Datenerfassung!K562),\" \",Datenerfassung!K562 ),\" [IS]\"), CONCATENATE(IF(ISBLANK(Datenerfassung!L562),\" \",Datenerfassung!L562 ),\" [IS]\"), CONCATENATE(IF(ISBLANK(Datenerfassung!M562),\" \",Datenerfassung!M562 ),\" [IS]\"), IF(ISBLANK(Datenerfassung!N562),\" \",Datenerfassung!N562 ) ))","v":""},{"$f":"IF(ISBLANK(Datenerfassung!V562),\"\",Datenerfassung!V562)","v":""},{"$f":"IF(ISBLANK(Datenerfassung!Q562),\"\",Datenerfassung!Q562)","v":""}]
[{"$f":"IF(ISBLANK(Datenerfassung!A563),\"\",Datenerfassung!A563)","v":""},{"$f":"IF(ISBLANK(Datenerfassung!B563),\"\",Datenerfassung!B563)","v":""},{"$f":"IF(ISBLANK(Datenerfassung!C563),\"\",Datenerfassung!C563)","v":""},{"$f":"IF(ISBLANK(Datenerfassung!R563),\"\",Datenerfassung!R563)","v":""},{"$f":"IF(ISBLANK(Datenerfassung!S563),\"\",Datenerfassung!S563)","v":""},"",{"$f":"IF(ISBLANK(Datenerfassung!U563),\"\",Datenerfassung!U563)","v":""},{"$f":"IF(ISBLANK(Datenerfassung!O563),\"\",Datenerfassung!O563)","v":""},{"$f":"IF(ISBLANK(Datenerfassung!D563),IF(COUNTBLANK(A553:H553)+COUNTBLANK(J553:O553)=14,\"\",\"- ohne Titel -\"),Datenerfassung!D563)","v":""},{"$f":"IF(ISBLANK(Datenerfassung!G563),\"\",Datenerfassung!G563)","v":""},"",{"$f":"IF(ISBLANK(Datenerfassung!X563),\"\",Datenerfassung!X563)","v":""},{"$f":"IF(COUNTBLANK(Datenerfassung!H563:'Datenerfassung'!N563)=7,\"\",CONCATENATE( CONCATENATE(IF(ISBLANK(Datenerfassung!H563),\" \",Datenerfassung!H563 ),\" [IS]\"), CONCATENATE(IF(ISBLANK(Datenerfassung!I563),\" \",Datenerfassung!I563 ),\" [IS]\"), CONCATENATE(IF(ISBLANK(Datenerfassung!J563),\" \",Datenerfassung!J563 ),\" [IS]\"), CONCATENATE(IF(ISBLANK(Datenerfassung!K563),\" \",Datenerfassung!K563 ),\" [IS]\"), CONCATENATE(IF(ISBLANK(Datenerfassung!L563),\" \",Datenerfassung!L563 ),\" [IS]\"), CONCATENATE(IF(ISBLANK(Datenerfassung!M563),\" \",Datenerfassung!M563 ),\" [IS]\"), IF(ISBLANK(Datenerfassung!N563),\" \",Datenerfassung!N563 ) ))","v":""},{"$f":"IF(ISBLANK(Datenerfassung!V563),\"\",Datenerfassung!V563)","v":""},{"$f":"IF(ISBLANK(Datenerfassung!Q563),\"\",Datenerfassung!Q563)","v":""}]
[{"$f":"IF(ISBLANK(Datenerfassung!A564),\"\",Datenerfassung!A564)","v":""},{"$f":"IF(ISBLANK(Datenerfassung!B564),\"\",Datenerfassung!B564)","v":""},{"$f":"IF(ISBLANK(Datenerfassung!C564),\"\",Datenerfassung!C564)","v":""},{"$f":"IF(ISBLANK(Datenerfassung!R564),\"\",Datenerfassung!R564)","v":""},{"$f":"IF(ISBLANK(Datenerfassung!S564),\"\",Datenerfassung!S564)","v":""},"",{"$f":"IF(ISBLANK(Datenerfassung!U564),\"\",Datenerfassung!U564)","v":""},{"$f":"IF(ISBLANK(Datenerfassung!O564),\"\",Datenerfassung!O564)","v":""},{"$f":"IF(ISBLANK(Datenerfassung!D564),IF(COUNTBLANK(A554:H554)+COUNTBLANK(J554:O554)=14,\"\",\"- ohne Titel -\"),Datenerfassung!D564)","v":""},{"$f":"IF(ISBLANK(Datenerfassung!G564),\"\",Datenerfassung!G564)","v":""},"",{"$f":"IF(ISBLANK(Datenerfassung!X564),\"\",Datenerfassung!X564)","v":""},{"$f":"IF(COUNTBLANK(Datenerfassung!H564:'Datenerfassung'!N564)=7,\"\",CONCATENATE( CONCATENATE(IF(ISBLANK(Datenerfassung!H564),\" \",Datenerfassung!H564 ),\" [IS]\"), CONCATENATE(IF(ISBLANK(Datenerfassung!I564),\" \",Datenerfassung!I564 ),\" [IS]\"), CONCATENATE(IF(ISBLANK(Datenerfassung!J564),\" \",Datenerfassung!J564 ),\" [IS]\"), CONCATENATE(IF(ISBLANK(Datenerfassung!K564),\" \",Datenerfassung!K564 ),\" [IS]\"), CONCATENATE(IF(ISBLANK(Datenerfassung!L564),\" \",Datenerfassung!L564 ),\" [IS]\"), CONCATENATE(IF(ISBLANK(Datenerfassung!M564),\" \",Datenerfassung!M564 ),\" [IS]\"), IF(ISBLANK(Datenerfassung!N564),\" \",Datenerfassung!N564 ) ))","v":""},{"$f":"IF(ISBLANK(Datenerfassung!V564),\"\",Datenerfassung!V564)","v":""},{"$f":"IF(ISBLANK(Datenerfassung!Q564),\"\",Datenerfassung!Q564)","v":""}]
[{"$f":"IF(ISBLANK(Datenerfassung!A565),\"\",Datenerfassung!A565)","v":""},{"$f":"IF(ISBLANK(Datenerfassung!B565),\"\",Datenerfassung!B565)","v":""},{"$f":"IF(ISBLANK(Datenerfassung!C565),\"\",Datenerfassung!C565)","v":""},{"$f":"IF(ISBLANK(Datenerfassung!R565),\"\",Datenerfassung!R565)","v":""},{"$f":"IF(ISBLANK(Datenerfassung!S565),\"\",Datenerfassung!S565)","v":""},"",{"$f":"IF(ISBLANK(Datenerfassung!U565),\"\",Datenerfassung!U565)","v":""},{"$f":"IF(ISBLANK(Datenerfassung!O565),\"\",Datenerfassung!O565)","v":""},{"$f":"IF(ISBLANK(Datenerfassung!D565),IF(COUNTBLANK(A555:H555)+COUNTBLANK(J555:O555)=14,\"\",\"- ohne Titel -\"),Datenerfassung!D565)","v":""},{"$f":"IF(ISBLANK(Datenerfassung!G565),\"\",Datenerfassung!G565)","v":""},"",{"$f":"IF(ISBLANK(Datenerfassung!X565),\"\",Datenerfassung!X565)","v":""},{"$f":"IF(COUNTBLANK(Datenerfassung!H565:'Datenerfassung'!N565)=7,\"\",CONCATENATE( CONCATENATE(IF(ISBLANK(Datenerfassung!H565),\" \",Datenerfassung!H565 ),\" [IS]\"), CONCATENATE(IF(ISBLANK(Datenerfassung!I565),\" \",Datenerfassung!I565 ),\" [IS]\"), CONCATENATE(IF(ISBLANK(Datenerfassung!J565),\" \",Datenerfassung!J565 ),\" [IS]\"), CONCATENATE(IF(ISBLANK(Datenerfassung!K565),\" \",Datenerfassung!K565 ),\" [IS]\"), CONCATENATE(IF(ISBLANK(Datenerfassung!L565),\" \",Datenerfassung!L565 ),\" [IS]\"), CONCATENATE(IF(ISBLANK(Datenerfassung!M565),\" \",Datenerfassung!M565 ),\" [IS]\"), IF(ISBLANK(Datenerfassung!N565),\" \",Datenerfassung!N565 ) ))","v":""},{"$f":"IF(ISBLANK(Datenerfassung!V565),\"\",Datenerfassung!V565)","v":""},{"$f":"IF(ISBLANK(Datenerfassung!Q565),\"\",Datenerfassung!Q565)","v":""}]
[{"$f":"IF(ISBLANK(Datenerfassung!A566),\"\",Datenerfassung!A566)","v":""},{"$f":"IF(ISBLANK(Datenerfassung!B566),\"\",Datenerfassung!B566)","v":""},{"$f":"IF(ISBLANK(Datenerfassung!C566),\"\",Datenerfassung!C566)","v":""},{"$f":"IF(ISBLANK(Datenerfassung!R566),\"\",Datenerfassung!R566)","v":""},{"$f":"IF(ISBLANK(Datenerfassung!S566),\"\",Datenerfassung!S566)","v":""},"",{"$f":"IF(ISBLANK(Datenerfassung!U566),\"\",Datenerfassung!U566)","v":""},{"$f":"IF(ISBLANK(Datenerfassung!O566),\"\",Datenerfassung!O566)","v":""},{"$f":"IF(ISBLANK(Datenerfassung!D566),IF(COUNTBLANK(A556:H556)+COUNTBLANK(J556:O556)=14,\"\",\"- ohne Titel -\"),Datenerfassung!D566)","v":""},{"$f":"IF(ISBLANK(Datenerfassung!G566),\"\",Datenerfassung!G566)","v":""},"",{"$f":"IF(ISBLANK(Datenerfassung!X566),\"\",Datenerfassung!X566)","v":""},{"$f":"IF(COUNTBLANK(Datenerfassung!H566:'Datenerfassung'!N566)=7,\"\",CONCATENATE( CONCATENATE(IF(ISBLANK(Datenerfassung!H566),\" \",Datenerfassung!H566 ),\" [IS]\"), CONCATENATE(IF(ISBLANK(Datenerfassung!I566),\" \",Datenerfassung!I566 ),\" [IS]\"), CONCATENATE(IF(ISBLANK(Datenerfassung!J566),\" \",Datenerfassung!J566 ),\" [IS]\"), CONCATENATE(IF(ISBLANK(Datenerfassung!K566),\" \",Datenerfassung!K566 ),\" [IS]\"), CONCATENATE(IF(ISBLANK(Datenerfassung!L566),\" \",Datenerfassung!L566 ),\" [IS]\"), CONCATENATE(IF(ISBLANK(Datenerfassung!M566),\" \",Datenerfassung!M566 ),\" [IS]\"), IF(ISBLANK(Datenerfassung!N566),\" \",Datenerfassung!N566 ) ))","v":""},{"$f":"IF(ISBLANK(Datenerfassung!V566),\"\",Datenerfassung!V566)","v":""},{"$f":"IF(ISBLANK(Datenerfassung!Q566),\"\",Datenerfassung!Q566)","v":""}]
[{"$f":"IF(ISBLANK(Datenerfassung!A567),\"\",Datenerfassung!A567)","v":""},{"$f":"IF(ISBLANK(Datenerfassung!B567),\"\",Datenerfassung!B567)","v":""},{"$f":"IF(ISBLANK(Datenerfassung!C567),\"\",Datenerfassung!C567)","v":""},{"$f":"IF(ISBLANK(Datenerfassung!R567),\"\",Datenerfassung!R567)","v":""},{"$f":"IF(ISBLANK(Datenerfassung!S567),\"\",Datenerfassung!S567)","v":""},"",{"$f":"IF(ISBLANK(Datenerfassung!U567),\"\",Datenerfassung!U567)","v":""},{"$f":"IF(ISBLANK(Datenerfassung!O567),\"\",Datenerfassung!O567)","v":""},{"$f":"IF(ISBLANK(Datenerfassung!D567),IF(COUNTBLANK(A557:H557)+COUNTBLANK(J557:O557)=14,\"\",\"- ohne Titel -\"),Datenerfassung!D567)","v":""},{"$f":"IF(ISBLANK(Datenerfassung!G567),\"\",Datenerfassung!G567)","v":""},"",{"$f":"IF(ISBLANK(Datenerfassung!X567),\"\",Datenerfassung!X567)","v":""},{"$f":"IF(COUNTBLANK(Datenerfassung!H567:'Datenerfassung'!N567)=7,\"\",CONCATENATE( CONCATENATE(IF(ISBLANK(Datenerfassung!H567),\" \",Datenerfassung!H567 ),\" [IS]\"), CONCATENATE(IF(ISBLANK(Datenerfassung!I567),\" \",Datenerfassung!I567 ),\" [IS]\"), CONCATENATE(IF(ISBLANK(Datenerfassung!J567),\" \",Datenerfassung!J567 ),\" [IS]\"), CONCATENATE(IF(ISBLANK(Datenerfassung!K567),\" \",Datenerfassung!K567 ),\" [IS]\"), CONCATENATE(IF(ISBLANK(Datenerfassung!L567),\" \",Datenerfassung!L567 ),\" [IS]\"), CONCATENATE(IF(ISBLANK(Datenerfassung!M567),\" \",Datenerfassung!M567 ),\" [IS]\"), IF(ISBLANK(Datenerfassung!N567),\" \",Datenerfassung!N567 ) ))","v":""},{"$f":"IF(ISBLANK(Datenerfassung!V567),\"\",Datenerfassung!V567)","v":""},{"$f":"IF(ISBLANK(Datenerfassung!Q567),\"\",Datenerfassung!Q567)","v":""}]
[{"$f":"IF(ISBLANK(Datenerfassung!A568),\"\",Datenerfassung!A568)","v":""},{"$f":"IF(ISBLANK(Datenerfassung!B568),\"\",Datenerfassung!B568)","v":""},{"$f":"IF(ISBLANK(Datenerfassung!C568),\"\",Datenerfassung!C568)","v":""},{"$f":"IF(ISBLANK(Datenerfassung!R568),\"\",Datenerfassung!R568)","v":""},{"$f":"IF(ISBLANK(Datenerfassung!S568),\"\",Datenerfassung!S568)","v":""},"",{"$f":"IF(ISBLANK(Datenerfassung!U568),\"\",Datenerfassung!U568)","v":""},{"$f":"IF(ISBLANK(Datenerfassung!O568),\"\",Datenerfassung!O568)","v":""},{"$f":"IF(ISBLANK(Datenerfassung!D568),IF(COUNTBLANK(A558:H558)+COUNTBLANK(J558:O558)=14,\"\",\"- ohne Titel -\"),Datenerfassung!D568)","v":""},{"$f":"IF(ISBLANK(Datenerfassung!G568),\"\",Datenerfassung!G568)","v":""},"",{"$f":"IF(ISBLANK(Datenerfassung!X568),\"\",Datenerfassung!X568)","v":""},{"$f":"IF(COUNTBLANK(Datenerfassung!H568:'Datenerfassung'!N568)=7,\"\",CONCATENATE( CONCATENATE(IF(ISBLANK(Datenerfassung!H568),\" \",Datenerfassung!H568 ),\" [IS]\"), CONCATENATE(IF(ISBLANK(Datenerfassung!I568),\" \",Datenerfassung!I568 ),\" [IS]\"), CONCATENATE(IF(ISBLANK(Datenerfassung!J568),\" \",Datenerfassung!J568 ),\" [IS]\"), CONCATENATE(IF(ISBLANK(Datenerfassung!K568),\" \",Datenerfassung!K568 ),\" [IS]\"), CONCATENATE(IF(ISBLANK(Datenerfassung!L568),\" \",Datenerfassung!L568 ),\" [IS]\"), CONCATENATE(IF(ISBLANK(Datenerfassung!M568),\" \",Datenerfassung!M568 ),\" [IS]\"), IF(ISBLANK(Datenerfassung!N568),\" \",Datenerfassung!N568 ) ))","v":""},{"$f":"IF(ISBLANK(Datenerfassung!V568),\"\",Datenerfassung!V568)","v":""},{"$f":"IF(ISBLANK(Datenerfassung!Q568),\"\",Datenerfassung!Q568)","v":""}]
[{"$f":"IF(ISBLANK(Datenerfassung!A569),\"\",Datenerfassung!A569)","v":""},{"$f":"IF(ISBLANK(Datenerfassung!B569),\"\",Datenerfassung!B569)","v":""},{"$f":"IF(ISBLANK(Datenerfassung!C569),\"\",Datenerfassung!C569)","v":""},{"$f":"IF(ISBLANK(Datenerfassung!R569),\"\",Datenerfassung!R569)","v":""},{"$f":"IF(ISBLANK(Datenerfassung!S569),\"\",Datenerfassung!S569)","v":""},"",{"$f":"IF(ISBLANK(Datenerfassung!U569),\"\",Datenerfassung!U569)","v":""},{"$f":"IF(ISBLANK(Datenerfassung!O569),\"\",Datenerfassung!O569)","v":""},{"$f":"IF(ISBLANK(Datenerfassung!D569),IF(COUNTBLANK(A559:H559)+COUNTBLANK(J559:O559)=14,\"\",\"- ohne Titel -\"),Datenerfassung!D569)","v":""},{"$f":"IF(ISBLANK(Datenerfassung!G569),\"\",Datenerfassung!G569)","v":""},"",{"$f":"IF(ISBLANK(Datenerfassung!X569),\"\",Datenerfassung!X569)","v":""},{"$f":"IF(COUNTBLANK(Datenerfassung!H569:'Datenerfassung'!N569)=7,\"\",CONCATENATE( CONCATENATE(IF(ISBLANK(Datenerfassung!H569),\" \",Datenerfassung!H569 ),\" [IS]\"), CONCATENATE(IF(ISBLANK(Datenerfassung!I569),\" \",Datenerfassung!I569 ),\" [IS]\"), CONCATENATE(IF(ISBLANK(Datenerfassung!J569),\" \",Datenerfassung!J569 ),\" [IS]\"), CONCATENATE(IF(ISBLANK(Datenerfassung!K569),\" \",Datenerfassung!K569 ),\" [IS]\"), CONCATENATE(IF(ISBLANK(Datenerfassung!L569),\" \",Datenerfassung!L569 ),\" [IS]\"), CONCATENATE(IF(ISBLANK(Datenerfassung!M569),\" \",Datenerfassung!M569 ),\" [IS]\"), IF(ISBLANK(Datenerfassung!N569),\" \",Datenerfassung!N569 ) ))","v":""},{"$f":"IF(ISBLANK(Datenerfassung!V569),\"\",Datenerfassung!V569)","v":""},{"$f":"IF(ISBLANK(Datenerfassung!Q569),\"\",Datenerfassung!Q569)","v":""}]
[{"$f":"IF(ISBLANK(Datenerfassung!A570),\"\",Datenerfassung!A570)","v":""},{"$f":"IF(ISBLANK(Datenerfassung!B570),\"\",Datenerfassung!B570)","v":""},{"$f":"IF(ISBLANK(Datenerfassung!C570),\"\",Datenerfassung!C570)","v":""},{"$f":"IF(ISBLANK(Datenerfassung!R570),\"\",Datenerfassung!R570)","v":""},{"$f":"IF(ISBLANK(Datenerfassung!S570),\"\",Datenerfassung!S570)","v":""},"",{"$f":"IF(ISBLANK(Datenerfassung!U570),\"\",Datenerfassung!U570)","v":""},{"$f":"IF(ISBLANK(Datenerfassung!O570),\"\",Datenerfassung!O570)","v":""},{"$f":"IF(ISBLANK(Datenerfassung!D570),IF(COUNTBLANK(A560:H560)+COUNTBLANK(J560:O560)=14,\"\",\"- ohne Titel -\"),Datenerfassung!D570)","v":""},{"$f":"IF(ISBLANK(Datenerfassung!G570),\"\",Datenerfassung!G570)","v":""},"",{"$f":"IF(ISBLANK(Datenerfassung!X570),\"\",Datenerfassung!X570)","v":""},{"$f":"IF(COUNTBLANK(Datenerfassung!H570:'Datenerfassung'!N570)=7,\"\",CONCATENATE( CONCATENATE(IF(ISBLANK(Datenerfassung!H570),\" \",Datenerfassung!H570 ),\" [IS]\"), CONCATENATE(IF(ISBLANK(Datenerfassung!I570),\" \",Datenerfassung!I570 ),\" [IS]\"), CONCATENATE(IF(ISBLANK(Datenerfassung!J570),\" \",Datenerfassung!J570 ),\" [IS]\"), CONCATENATE(IF(ISBLANK(Datenerfassung!K570),\" \",Datenerfassung!K570 ),\" [IS]\"), CONCATENATE(IF(ISBLANK(Datenerfassung!L570),\" \",Datenerfassung!L570 ),\" [IS]\"), CONCATENATE(IF(ISBLANK(Datenerfassung!M570),\" \",Datenerfassung!M570 ),\" [IS]\"), IF(ISBLANK(Datenerfassung!N570),\" \",Datenerfassung!N570 ) ))","v":""},{"$f":"IF(ISBLANK(Datenerfassung!V570),\"\",Datenerfassung!V570)","v":""},{"$f":"IF(ISBLANK(Datenerfassung!Q570),\"\",Datenerfassung!Q570)","v":""}]
[{"$f":"IF(ISBLANK(Datenerfassung!A571),\"\",Datenerfassung!A571)","v":""},{"$f":"IF(ISBLANK(Datenerfassung!B571),\"\",Datenerfassung!B571)","v":""},{"$f":"IF(ISBLANK(Datenerfassung!C571),\"\",Datenerfassung!C571)","v":""},{"$f":"IF(ISBLANK(Datenerfassung!R571),\"\",Datenerfassung!R571)","v":""},{"$f":"IF(ISBLANK(Datenerfassung!S571),\"\",Datenerfassung!S571)","v":""},"",{"$f":"IF(ISBLANK(Datenerfassung!U571),\"\",Datenerfassung!U571)","v":""},{"$f":"IF(ISBLANK(Datenerfassung!O571),\"\",Datenerfassung!O571)","v":""},{"$f":"IF(ISBLANK(Datenerfassung!D571),IF(COUNTBLANK(A561:H561)+COUNTBLANK(J561:O561)=14,\"\",\"- ohne Titel -\"),Datenerfassung!D571)","v":""},{"$f":"IF(ISBLANK(Datenerfassung!G571),\"\",Datenerfassung!G571)","v":""},"",{"$f":"IF(ISBLANK(Datenerfassung!X571),\"\",Datenerfassung!X571)","v":""},{"$f":"IF(COUNTBLANK(Datenerfassung!H571:'Datenerfassung'!N571)=7,\"\",CONCATENATE( CONCATENATE(IF(ISBLANK(Datenerfassung!H571),\" \",Datenerfassung!H571 ),\" [IS]\"), CONCATENATE(IF(ISBLANK(Datenerfassung!I571),\" \",Datenerfassung!I571 ),\" [IS]\"), CONCATENATE(IF(ISBLANK(Datenerfassung!J571),\" \",Datenerfassung!J571 ),\" [IS]\"), CONCATENATE(IF(ISBLANK(Datenerfassung!K571),\" \",Datenerfassung!K571 ),\" [IS]\"), CONCATENATE(IF(ISBLANK(Datenerfassung!L571),\" \",Datenerfassung!L571 ),\" [IS]\"), CONCATENATE(IF(ISBLANK(Datenerfassung!M571),\" \",Datenerfassung!M571 ),\" [IS]\"), IF(ISBLANK(Datenerfassung!N571),\" \",Datenerfassung!N571 ) ))","v":""},{"$f":"IF(ISBLANK(Datenerfassung!V571),\"\",Datenerfassung!V571)","v":""},{"$f":"IF(ISBLANK(Datenerfassung!Q571),\"\",Datenerfassung!Q571)","v":""}]
[{"$f":"IF(ISBLANK(Datenerfassung!A572),\"\",Datenerfassung!A572)","v":""},{"$f":"IF(ISBLANK(Datenerfassung!B572),\"\",Datenerfassung!B572)","v":""},{"$f":"IF(ISBLANK(Datenerfassung!C572),\"\",Datenerfassung!C572)","v":""},{"$f":"IF(ISBLANK(Datenerfassung!R572),\"\",Datenerfassung!R572)","v":""},{"$f":"IF(ISBLANK(Datenerfassung!S572),\"\",Datenerfassung!S572)","v":""},"",{"$f":"IF(ISBLANK(Datenerfassung!U572),\"\",Datenerfassung!U572)","v":""},{"$f":"IF(ISBLANK(Datenerfassung!O572),\"\",Datenerfassung!O572)","v":""},{"$f":"IF(ISBLANK(Datenerfassung!D572),IF(COUNTBLANK(A562:H562)+COUNTBLANK(J562:O562)=14,\"\",\"- ohne Titel -\"),Datenerfassung!D572)","v":""},{"$f":"IF(ISBLANK(Datenerfassung!G572),\"\",Datenerfassung!G572)","v":""},"",{"$f":"IF(ISBLANK(Datenerfassung!X572),\"\",Datenerfassung!X572)","v":""},{"$f":"IF(COUNTBLANK(Datenerfassung!H572:'Datenerfassung'!N572)=7,\"\",CONCATENATE( CONCATENATE(IF(ISBLANK(Datenerfassung!H572),\" \",Datenerfassung!H572 ),\" [IS]\"), CONCATENATE(IF(ISBLANK(Datenerfassung!I572),\" \",Datenerfassung!I572 ),\" [IS]\"), CONCATENATE(IF(ISBLANK(Datenerfassung!J572),\" \",Datenerfassung!J572 ),\" [IS]\"), CONCATENATE(IF(ISBLANK(Datenerfassung!K572),\" \",Datenerfassung!K572 ),\" [IS]\"), CONCATENATE(IF(ISBLANK(Datenerfassung!L572),\" \",Datenerfassung!L572 ),\" [IS]\"), CONCATENATE(IF(ISBLANK(Datenerfassung!M572),\" \",Datenerfassung!M572 ),\" [IS]\"), IF(ISBLANK(Datenerfassung!N572),\" \",Datenerfassung!N572 ) ))","v":""},{"$f":"IF(ISBLANK(Datenerfassung!V572),\"\",Datenerfassung!V572)","v":""},{"$f":"IF(ISBLANK(Datenerfassung!Q572),\"\",Datenerfassung!Q572)","v":""}]
[{"$f":"IF(ISBLANK(Datenerfassung!A573),\"\",Datenerfassung!A573)","v":""},{"$f":"IF(ISBLANK(Datenerfassung!B573),\"\",Datenerfassung!B573)","v":""},{"$f":"IF(ISBLANK(Datenerfassung!C573),\"\",Datenerfassung!C573)","v":""},{"$f":"IF(ISBLANK(Datenerfassung!R573),\"\",Datenerfassung!R573)","v":""},{"$f":"IF(ISBLANK(Datenerfassung!S573),\"\",Datenerfassung!S573)","v":""},"",{"$f":"IF(ISBLANK(Datenerfassung!U573),\"\",Datenerfassung!U573)","v":""},{"$f":"IF(ISBLANK(Datenerfassung!O573),\"\",Datenerfassung!O573)","v":""},{"$f":"IF(ISBLANK(Datenerfassung!D573),IF(COUNTBLANK(A563:H563)+COUNTBLANK(J563:O563)=14,\"\",\"- ohne Titel -\"),Datenerfassung!D573)","v":""},{"$f":"IF(ISBLANK(Datenerfassung!G573),\"\",Datenerfassung!G573)","v":""},"",{"$f":"IF(ISBLANK(Datenerfassung!X573),\"\",Datenerfassung!X573)","v":""},{"$f":"IF(COUNTBLANK(Datenerfassung!H573:'Datenerfassung'!N573)=7,\"\",CONCATENATE( CONCATENATE(IF(ISBLANK(Datenerfassung!H573),\" \",Datenerfassung!H573 ),\" [IS]\"), CONCATENATE(IF(ISBLANK(Datenerfassung!I573),\" \",Datenerfassung!I573 ),\" [IS]\"), CONCATENATE(IF(ISBLANK(Datenerfassung!J573),\" \",Datenerfassung!J573 ),\" [IS]\"), CONCATENATE(IF(ISBLANK(Datenerfassung!K573),\" \",Datenerfassung!K573 ),\" [IS]\"), CONCATENATE(IF(ISBLANK(Datenerfassung!L573),\" \",Datenerfassung!L573 ),\" [IS]\"), CONCATENATE(IF(ISBLANK(Datenerfassung!M573),\" \",Datenerfassung!M573 ),\" [IS]\"), IF(ISBLANK(Datenerfassung!N573),\" \",Datenerfassung!N573 ) ))","v":""},{"$f":"IF(ISBLANK(Datenerfassung!V573),\"\",Datenerfassung!V573)","v":""},{"$f":"IF(ISBLANK(Datenerfassung!Q573),\"\",Datenerfassung!Q573)","v":""}]
[{"$f":"IF(ISBLANK(Datenerfassung!A574),\"\",Datenerfassung!A574)","v":""},{"$f":"IF(ISBLANK(Datenerfassung!B574),\"\",Datenerfassung!B574)","v":""},{"$f":"IF(ISBLANK(Datenerfassung!C574),\"\",Datenerfassung!C574)","v":""},{"$f":"IF(ISBLANK(Datenerfassung!R574),\"\",Datenerfassung!R574)","v":""},{"$f":"IF(ISBLANK(Datenerfassung!S574),\"\",Datenerfassung!S574)","v":""},"",{"$f":"IF(ISBLANK(Datenerfassung!U574),\"\",Datenerfassung!U574)","v":""},{"$f":"IF(ISBLANK(Datenerfassung!O574),\"\",Datenerfassung!O574)","v":""},{"$f":"IF(ISBLANK(Datenerfassung!D574),IF(COUNTBLANK(A564:H564)+COUNTBLANK(J564:O564)=14,\"\",\"- ohne Titel -\"),Datenerfassung!D574)","v":""},{"$f":"IF(ISBLANK(Datenerfassung!G574),\"\",Datenerfassung!G574)","v":""},"",{"$f":"IF(ISBLANK(Datenerfassung!X574),\"\",Datenerfassung!X574)","v":""},{"$f":"IF(COUNTBLANK(Datenerfassung!H574:'Datenerfassung'!N574)=7,\"\",CONCATENATE( CONCATENATE(IF(ISBLANK(Datenerfassung!H574),\" \",Datenerfassung!H574 ),\" [IS]\"), CONCATENATE(IF(ISBLANK(Datenerfassung!I574),\" \",Datenerfassung!I574 ),\" [IS]\"), CONCATENATE(IF(ISBLANK(Datenerfassung!J574),\" \",Datenerfassung!J574 ),\" [IS]\"), CONCATENATE(IF(ISBLANK(Datenerfassung!K574),\" \",Datenerfassung!K574 ),\" [IS]\"), CONCATENATE(IF(ISBLANK(Datenerfassung!L574),\" \",Datenerfassung!L574 ),\" [IS]\"), CONCATENATE(IF(ISBLANK(Datenerfassung!M574),\" \",Datenerfassung!M574 ),\" [IS]\"), IF(ISBLANK(Datenerfassung!N574),\" \",Datenerfassung!N574 ) ))","v":""},{"$f":"IF(ISBLANK(Datenerfassung!V574),\"\",Datenerfassung!V574)","v":""},{"$f":"IF(ISBLANK(Datenerfassung!Q574),\"\",Datenerfassung!Q574)","v":""}]
[{"$f":"IF(ISBLANK(Datenerfassung!A575),\"\",Datenerfassung!A575)","v":""},{"$f":"IF(ISBLANK(Datenerfassung!B575),\"\",Datenerfassung!B575)","v":""},{"$f":"IF(ISBLANK(Datenerfassung!C575),\"\",Datenerfassung!C575)","v":""},{"$f":"IF(ISBLANK(Datenerfassung!R575),\"\",Datenerfassung!R575)","v":""},{"$f":"IF(ISBLANK(Datenerfassung!S575),\"\",Datenerfassung!S575)","v":""},"",{"$f":"IF(ISBLANK(Datenerfassung!U575),\"\",Datenerfassung!U575)","v":""},{"$f":"IF(ISBLANK(Datenerfassung!O575),\"\",Datenerfassung!O575)","v":""},{"$f":"IF(ISBLANK(Datenerfassung!D575),IF(COUNTBLANK(A565:H565)+COUNTBLANK(J565:O565)=14,\"\",\"- ohne Titel -\"),Datenerfassung!D575)","v":""},{"$f":"IF(ISBLANK(Datenerfassung!G575),\"\",Datenerfassung!G575)","v":""},"",{"$f":"IF(ISBLANK(Datenerfassung!X575),\"\",Datenerfassung!X575)","v":""},{"$f":"IF(COUNTBLANK(Datenerfassung!H575:'Datenerfassung'!N575)=7,\"\",CONCATENATE( CONCATENATE(IF(ISBLANK(Datenerfassung!H575),\" \",Datenerfassung!H575 ),\" [IS]\"), CONCATENATE(IF(ISBLANK(Datenerfassung!I575),\" \",Datenerfassung!I575 ),\" [IS]\"), CONCATENATE(IF(ISBLANK(Datenerfassung!J575),\" \",Datenerfassung!J575 ),\" [IS]\"), CONCATENATE(IF(ISBLANK(Datenerfassung!K575),\" \",Datenerfassung!K575 ),\" [IS]\"), CONCATENATE(IF(ISBLANK(Datenerfassung!L575),\" \",Datenerfassung!L575 ),\" [IS]\"), CONCATENATE(IF(ISBLANK(Datenerfassung!M575),\" \",Datenerfassung!M575 ),\" [IS]\"), IF(ISBLANK(Datenerfassung!N575),\" \",Datenerfassung!N575 ) ))","v":""},{"$f":"IF(ISBLANK(Datenerfassung!V575),\"\",Datenerfassung!V575)","v":""},{"$f":"IF(ISBLANK(Datenerfassung!Q575),\"\",Datenerfassung!Q575)","v":""}]
[{"$f":"IF(ISBLANK(Datenerfassung!A576),\"\",Datenerfassung!A576)","v":""},{"$f":"IF(ISBLANK(Datenerfassung!B576),\"\",Datenerfassung!B576)","v":""},{"$f":"IF(ISBLANK(Datenerfassung!C576),\"\",Datenerfassung!C576)","v":""},{"$f":"IF(ISBLANK(Datenerfassung!R576),\"\",Datenerfassung!R576)","v":""},{"$f":"IF(ISBLANK(Datenerfassung!S576),\"\",Datenerfassung!S576)","v":""},"",{"$f":"IF(ISBLANK(Datenerfassung!U576),\"\",Datenerfassung!U576)","v":""},{"$f":"IF(ISBLANK(Datenerfassung!O576),\"\",Datenerfassung!O576)","v":""},{"$f":"IF(ISBLANK(Datenerfassung!D576),IF(COUNTBLANK(A566:H566)+COUNTBLANK(J566:O566)=14,\"\",\"- ohne Titel -\"),Datenerfassung!D576)","v":""},{"$f":"IF(ISBLANK(Datenerfassung!G576),\"\",Datenerfassung!G576)","v":""},"",{"$f":"IF(ISBLANK(Datenerfassung!X576),\"\",Datenerfassung!X576)","v":""},{"$f":"IF(COUNTBLANK(Datenerfassung!H576:'Datenerfassung'!N576)=7,\"\",CONCATENATE( CONCATENATE(IF(ISBLANK(Datenerfassung!H576),\" \",Datenerfassung!H576 ),\" [IS]\"), CONCATENATE(IF(ISBLANK(Datenerfassung!I576),\" \",Datenerfassung!I576 ),\" [IS]\"), CONCATENATE(IF(ISBLANK(Datenerfassung!J576),\" \",Datenerfassung!J576 ),\" [IS]\"), CONCATENATE(IF(ISBLANK(Datenerfassung!K576),\" \",Datenerfassung!K576 ),\" [IS]\"), CONCATENATE(IF(ISBLANK(Datenerfassung!L576),\" \",Datenerfassung!L576 ),\" [IS]\"), CONCATENATE(IF(ISBLANK(Datenerfassung!M576),\" \",Datenerfassung!M576 ),\" [IS]\"), IF(ISBLANK(Datenerfassung!N576),\" \",Datenerfassung!N576 ) ))","v":""},{"$f":"IF(ISBLANK(Datenerfassung!V576),\"\",Datenerfassung!V576)","v":""},{"$f":"IF(ISBLANK(Datenerfassung!Q576),\"\",Datenerfassung!Q576)","v":""}]
[{"$f":"IF(ISBLANK(Datenerfassung!A577),\"\",Datenerfassung!A577)","v":""},{"$f":"IF(ISBLANK(Datenerfassung!B577),\"\",Datenerfassung!B577)","v":""},{"$f":"IF(ISBLANK(Datenerfassung!C577),\"\",Datenerfassung!C577)","v":""},{"$f":"IF(ISBLANK(Datenerfassung!R577),\"\",Datenerfassung!R577)","v":""},{"$f":"IF(ISBLANK(Datenerfassung!S577),\"\",Datenerfassung!S577)","v":""},"",{"$f":"IF(ISBLANK(Datenerfassung!U577),\"\",Datenerfassung!U577)","v":""},{"$f":"IF(ISBLANK(Datenerfassung!O577),\"\",Datenerfassung!O577)","v":""},{"$f":"IF(ISBLANK(Datenerfassung!D577),IF(COUNTBLANK(A567:H567)+COUNTBLANK(J567:O567)=14,\"\",\"- ohne Titel -\"),Datenerfassung!D577)","v":""},{"$f":"IF(ISBLANK(Datenerfassung!G577),\"\",Datenerfassung!G577)","v":""},"",{"$f":"IF(ISBLANK(Datenerfassung!X577),\"\",Datenerfassung!X577)","v":""},{"$f":"IF(COUNTBLANK(Datenerfassung!H577:'Datenerfassung'!N577)=7,\"\",CONCATENATE( CONCATENATE(IF(ISBLANK(Datenerfassung!H577),\" \",Datenerfassung!H577 ),\" [IS]\"), CONCATENATE(IF(ISBLANK(Datenerfassung!I577),\" \",Datenerfassung!I577 ),\" [IS]\"), CONCATENATE(IF(ISBLANK(Datenerfassung!J577),\" \",Datenerfassung!J577 ),\" [IS]\"), CONCATENATE(IF(ISBLANK(Datenerfassung!K577),\" \",Datenerfassung!K577 ),\" [IS]\"), CONCATENATE(IF(ISBLANK(Datenerfassung!L577),\" \",Datenerfassung!L577 ),\" [IS]\"), CONCATENATE(IF(ISBLANK(Datenerfassung!M577),\" \",Datenerfassung!M577 ),\" [IS]\"), IF(ISBLANK(Datenerfassung!N577),\" \",Datenerfassung!N577 ) ))","v":""},{"$f":"IF(ISBLANK(Datenerfassung!V577),\"\",Datenerfassung!V577)","v":""},{"$f":"IF(ISBLANK(Datenerfassung!Q577),\"\",Datenerfassung!Q577)","v":""}]
[{"$f":"IF(ISBLANK(Datenerfassung!A578),\"\",Datenerfassung!A578)","v":""},{"$f":"IF(ISBLANK(Datenerfassung!B578),\"\",Datenerfassung!B578)","v":""},{"$f":"IF(ISBLANK(Datenerfassung!C578),\"\",Datenerfassung!C578)","v":""},{"$f":"IF(ISBLANK(Datenerfassung!R578),\"\",Datenerfassung!R578)","v":""},{"$f":"IF(ISBLANK(Datenerfassung!S578),\"\",Datenerfassung!S578)","v":""},"",{"$f":"IF(ISBLANK(Datenerfassung!U578),\"\",Datenerfassung!U578)","v":""},{"$f":"IF(ISBLANK(Datenerfassung!O578),\"\",Datenerfassung!O578)","v":""},{"$f":"IF(ISBLANK(Datenerfassung!D578),IF(COUNTBLANK(A568:H568)+COUNTBLANK(J568:O568)=14,\"\",\"- ohne Titel -\"),Datenerfassung!D578)","v":""},{"$f":"IF(ISBLANK(Datenerfassung!G578),\"\",Datenerfassung!G578)","v":""},"",{"$f":"IF(ISBLANK(Datenerfassung!X578),\"\",Datenerfassung!X578)","v":""},{"$f":"IF(COUNTBLANK(Datenerfassung!H578:'Datenerfassung'!N578)=7,\"\",CONCATENATE( CONCATENATE(IF(ISBLANK(Datenerfassung!H578),\" \",Datenerfassung!H578 ),\" [IS]\"), CONCATENATE(IF(ISBLANK(Datenerfassung!I578),\" \",Datenerfassung!I578 ),\" [IS]\"), CONCATENATE(IF(ISBLANK(Datenerfassung!J578),\" \",Datenerfassung!J578 ),\" [IS]\"), CONCATENATE(IF(ISBLANK(Datenerfassung!K578),\" \",Datenerfassung!K578 ),\" [IS]\"), CONCATENATE(IF(ISBLANK(Datenerfassung!L578),\" \",Datenerfassung!L578 ),\" [IS]\"), CONCATENATE(IF(ISBLANK(Datenerfassung!M578),\" \",Datenerfassung!M578 ),\" [IS]\"), IF(ISBLANK(Datenerfassung!N578),\" \",Datenerfassung!N578 ) ))","v":""},{"$f":"IF(ISBLANK(Datenerfassung!V578),\"\",Datenerfassung!V578)","v":""},{"$f":"IF(ISBLANK(Datenerfassung!Q578),\"\",Datenerfassung!Q578)","v":""}]
[{"$f":"IF(ISBLANK(Datenerfassung!A579),\"\",Datenerfassung!A579)","v":""},{"$f":"IF(ISBLANK(Datenerfassung!B579),\"\",Datenerfassung!B579)","v":""},{"$f":"IF(ISBLANK(Datenerfassung!C579),\"\",Datenerfassung!C579)","v":""},{"$f":"IF(ISBLANK(Datenerfassung!R579),\"\",Datenerfassung!R579)","v":""},{"$f":"IF(ISBLANK(Datenerfassung!S579),\"\",Datenerfassung!S579)","v":""},"",{"$f":"IF(ISBLANK(Datenerfassung!U579),\"\",Datenerfassung!U579)","v":""},{"$f":"IF(ISBLANK(Datenerfassung!O579),\"\",Datenerfassung!O579)","v":""},{"$f":"IF(ISBLANK(Datenerfassung!D579),IF(COUNTBLANK(A569:H569)+COUNTBLANK(J569:O569)=14,\"\",\"- ohne Titel -\"),Datenerfassung!D579)","v":""},{"$f":"IF(ISBLANK(Datenerfassung!G579),\"\",Datenerfassung!G579)","v":""},"",{"$f":"IF(ISBLANK(Datenerfassung!X579),\"\",Datenerfassung!X579)","v":""},{"$f":"IF(COUNTBLANK(Datenerfassung!H579:'Datenerfassung'!N579)=7,\"\",CONCATENATE( CONCATENATE(IF(ISBLANK(Datenerfassung!H579),\" \",Datenerfassung!H579 ),\" [IS]\"), CONCATENATE(IF(ISBLANK(Datenerfassung!I579),\" \",Datenerfassung!I579 ),\" [IS]\"), CONCATENATE(IF(ISBLANK(Datenerfassung!J579),\" \",Datenerfassung!J579 ),\" [IS]\"), CONCATENATE(IF(ISBLANK(Datenerfassung!K579),\" \",Datenerfassung!K579 ),\" [IS]\"), CONCATENATE(IF(ISBLANK(Datenerfassung!L579),\" \",Datenerfassung!L579 ),\" [IS]\"), CONCATENATE(IF(ISBLANK(Datenerfassung!M579),\" \",Datenerfassung!M579 ),\" [IS]\"), IF(ISBLANK(Datenerfassung!N579),\" \",Datenerfassung!N579 ) ))","v":""},{"$f":"IF(ISBLANK(Datenerfassung!V579),\"\",Datenerfassung!V579)","v":""},{"$f":"IF(ISBLANK(Datenerfassung!Q579),\"\",Datenerfassung!Q579)","v":""}]
[{"$f":"IF(ISBLANK(Datenerfassung!A580),\"\",Datenerfassung!A580)","v":""},{"$f":"IF(ISBLANK(Datenerfassung!B580),\"\",Datenerfassung!B580)","v":""},{"$f":"IF(ISBLANK(Datenerfassung!C580),\"\",Datenerfassung!C580)","v":""},{"$f":"IF(ISBLANK(Datenerfassung!R580),\"\",Datenerfassung!R580)","v":""},{"$f":"IF(ISBLANK(Datenerfassung!S580),\"\",Datenerfassung!S580)","v":""},"",{"$f":"IF(ISBLANK(Datenerfassung!U580),\"\",Datenerfassung!U580)","v":""},{"$f":"IF(ISBLANK(Datenerfassung!O580),\"\",Datenerfassung!O580)","v":""},{"$f":"IF(ISBLANK(Datenerfassung!D580),IF(COUNTBLANK(A570:H570)+COUNTBLANK(J570:O570)=14,\"\",\"- ohne Titel -\"),Datenerfassung!D580)","v":""},{"$f":"IF(ISBLANK(Datenerfassung!G580),\"\",Datenerfassung!G580)","v":""},"",{"$f":"IF(ISBLANK(Datenerfassung!X580),\"\",Datenerfassung!X580)","v":""},{"$f":"IF(COUNTBLANK(Datenerfassung!H580:'Datenerfassung'!N580)=7,\"\",CONCATENATE( CONCATENATE(IF(ISBLANK(Datenerfassung!H580),\" \",Datenerfassung!H580 ),\" [IS]\"), CONCATENATE(IF(ISBLANK(Datenerfassung!I580),\" \",Datenerfassung!I580 ),\" [IS]\"), CONCATENATE(IF(ISBLANK(Datenerfassung!J580),\" \",Datenerfassung!J580 ),\" [IS]\"), CONCATENATE(IF(ISBLANK(Datenerfassung!K580),\" \",Datenerfassung!K580 ),\" [IS]\"), CONCATENATE(IF(ISBLANK(Datenerfassung!L580),\" \",Datenerfassung!L580 ),\" [IS]\"), CONCATENATE(IF(ISBLANK(Datenerfassung!M580),\" \",Datenerfassung!M580 ),\" [IS]\"), IF(ISBLANK(Datenerfassung!N580),\" \",Datenerfassung!N580 ) ))","v":""},{"$f":"IF(ISBLANK(Datenerfassung!V580),\"\",Datenerfassung!V580)","v":""},{"$f":"IF(ISBLANK(Datenerfassung!Q580),\"\",Datenerfassung!Q580)","v":""}]
[{"$f":"IF(ISBLANK(Datenerfassung!A581),\"\",Datenerfassung!A581)","v":""},{"$f":"IF(ISBLANK(Datenerfassung!B581),\"\",Datenerfassung!B581)","v":""},{"$f":"IF(ISBLANK(Datenerfassung!C581),\"\",Datenerfassung!C581)","v":""},{"$f":"IF(ISBLANK(Datenerfassung!R581),\"\",Datenerfassung!R581)","v":""},{"$f":"IF(ISBLANK(Datenerfassung!S581),\"\",Datenerfassung!S581)","v":""},"",{"$f":"IF(ISBLANK(Datenerfassung!U581),\"\",Datenerfassung!U581)","v":""},{"$f":"IF(ISBLANK(Datenerfassung!O581),\"\",Datenerfassung!O581)","v":""},{"$f":"IF(ISBLANK(Datenerfassung!D581),IF(COUNTBLANK(A571:H571)+COUNTBLANK(J571:O571)=14,\"\",\"- ohne Titel -\"),Datenerfassung!D581)","v":""},{"$f":"IF(ISBLANK(Datenerfassung!G581),\"\",Datenerfassung!G581)","v":""},"",{"$f":"IF(ISBLANK(Datenerfassung!X581),\"\",Datenerfassung!X581)","v":""},{"$f":"IF(COUNTBLANK(Datenerfassung!H581:'Datenerfassung'!N581)=7,\"\",CONCATENATE( CONCATENATE(IF(ISBLANK(Datenerfassung!H581),\" \",Datenerfassung!H581 ),\" [IS]\"), CONCATENATE(IF(ISBLANK(Datenerfassung!I581),\" \",Datenerfassung!I581 ),\" [IS]\"), CONCATENATE(IF(ISBLANK(Datenerfassung!J581),\" \",Datenerfassung!J581 ),\" [IS]\"), CONCATENATE(IF(ISBLANK(Datenerfassung!K581),\" \",Datenerfassung!K581 ),\" [IS]\"), CONCATENATE(IF(ISBLANK(Datenerfassung!L581),\" \",Datenerfassung!L581 ),\" [IS]\"), CONCATENATE(IF(ISBLANK(Datenerfassung!M581),\" \",Datenerfassung!M581 ),\" [IS]\"), IF(ISBLANK(Datenerfassung!N581),\" \",Datenerfassung!N581 ) ))","v":""},{"$f":"IF(ISBLANK(Datenerfassung!V581),\"\",Datenerfassung!V581)","v":""},{"$f":"IF(ISBLANK(Datenerfassung!Q581),\"\",Datenerfassung!Q581)","v":""}]
[{"$f":"IF(ISBLANK(Datenerfassung!A582),\"\",Datenerfassung!A582)","v":""},{"$f":"IF(ISBLANK(Datenerfassung!B582),\"\",Datenerfassung!B582)","v":""},{"$f":"IF(ISBLANK(Datenerfassung!C582),\"\",Datenerfassung!C582)","v":""},{"$f":"IF(ISBLANK(Datenerfassung!R582),\"\",Datenerfassung!R582)","v":""},{"$f":"IF(ISBLANK(Datenerfassung!S582),\"\",Datenerfassung!S582)","v":""},"",{"$f":"IF(ISBLANK(Datenerfassung!U582),\"\",Datenerfassung!U582)","v":""},{"$f":"IF(ISBLANK(Datenerfassung!O582),\"\",Datenerfassung!O582)","v":""},{"$f":"IF(ISBLANK(Datenerfassung!D582),IF(COUNTBLANK(A572:H572)+COUNTBLANK(J572:O572)=14,\"\",\"- ohne Titel -\"),Datenerfassung!D582)","v":""},{"$f":"IF(ISBLANK(Datenerfassung!G582),\"\",Datenerfassung!G582)","v":""},"",{"$f":"IF(ISBLANK(Datenerfassung!X582),\"\",Datenerfassung!X582)","v":""},{"$f":"IF(COUNTBLANK(Datenerfassung!H582:'Datenerfassung'!N582)=7,\"\",CONCATENATE( CONCATENATE(IF(ISBLANK(Datenerfassung!H582),\" \",Datenerfassung!H582 ),\" [IS]\"), CONCATENATE(IF(ISBLANK(Datenerfassung!I582),\" \",Datenerfassung!I582 ),\" [IS]\"), CONCATENATE(IF(ISBLANK(Datenerfassung!J582),\" \",Datenerfassung!J582 ),\" [IS]\"), CONCATENATE(IF(ISBLANK(Datenerfassung!K582),\" \",Datenerfassung!K582 ),\" [IS]\"), CONCATENATE(IF(ISBLANK(Datenerfassung!L582),\" \",Datenerfassung!L582 ),\" [IS]\"), CONCATENATE(IF(ISBLANK(Datenerfassung!M582),\" \",Datenerfassung!M582 ),\" [IS]\"), IF(ISBLANK(Datenerfassung!N582),\" \",Datenerfassung!N582 ) ))","v":""},{"$f":"IF(ISBLANK(Datenerfassung!V582),\"\",Datenerfassung!V582)","v":""},{"$f":"IF(ISBLANK(Datenerfassung!Q582),\"\",Datenerfassung!Q582)","v":""}]
[{"$f":"IF(ISBLANK(Datenerfassung!A583),\"\",Datenerfassung!A583)","v":""},{"$f":"IF(ISBLANK(Datenerfassung!B583),\"\",Datenerfassung!B583)","v":""},{"$f":"IF(ISBLANK(Datenerfassung!C583),\"\",Datenerfassung!C583)","v":""},{"$f":"IF(ISBLANK(Datenerfassung!R583),\"\",Datenerfassung!R583)","v":""},{"$f":"IF(ISBLANK(Datenerfassung!S583),\"\",Datenerfassung!S583)","v":""},"",{"$f":"IF(ISBLANK(Datenerfassung!U583),\"\",Datenerfassung!U583)","v":""},{"$f":"IF(ISBLANK(Datenerfassung!O583),\"\",Datenerfassung!O583)","v":""},{"$f":"IF(ISBLANK(Datenerfassung!D583),IF(COUNTBLANK(A573:H573)+COUNTBLANK(J573:O573)=14,\"\",\"- ohne Titel -\"),Datenerfassung!D583)","v":""},{"$f":"IF(ISBLANK(Datenerfassung!G583),\"\",Datenerfassung!G583)","v":""},"",{"$f":"IF(ISBLANK(Datenerfassung!X583),\"\",Datenerfassung!X583)","v":""},{"$f":"IF(COUNTBLANK(Datenerfassung!H583:'Datenerfassung'!N583)=7,\"\",CONCATENATE( CONCATENATE(IF(ISBLANK(Datenerfassung!H583),\" \",Datenerfassung!H583 ),\" [IS]\"), CONCATENATE(IF(ISBLANK(Datenerfassung!I583),\" \",Datenerfassung!I583 ),\" [IS]\"), CONCATENATE(IF(ISBLANK(Datenerfassung!J583),\" \",Datenerfassung!J583 ),\" [IS]\"), CONCATENATE(IF(ISBLANK(Datenerfassung!K583),\" \",Datenerfassung!K583 ),\" [IS]\"), CONCATENATE(IF(ISBLANK(Datenerfassung!L583),\" \",Datenerfassung!L583 ),\" [IS]\"), CONCATENATE(IF(ISBLANK(Datenerfassung!M583),\" \",Datenerfassung!M583 ),\" [IS]\"), IF(ISBLANK(Datenerfassung!N583),\" \",Datenerfassung!N583 ) ))","v":""},{"$f":"IF(ISBLANK(Datenerfassung!V583),\"\",Datenerfassung!V583)","v":""},{"$f":"IF(ISBLANK(Datenerfassung!Q583),\"\",Datenerfassung!Q583)","v":""}]
[{"$f":"IF(ISBLANK(Datenerfassung!A584),\"\",Datenerfassung!A584)","v":""},{"$f":"IF(ISBLANK(Datenerfassung!B584),\"\",Datenerfassung!B584)","v":""},{"$f":"IF(ISBLANK(Datenerfassung!C584),\"\",Datenerfassung!C584)","v":""},{"$f":"IF(ISBLANK(Datenerfassung!R584),\"\",Datenerfassung!R584)","v":""},{"$f":"IF(ISBLANK(Datenerfassung!S584),\"\",Datenerfassung!S584)","v":""},"",{"$f":"IF(ISBLANK(Datenerfassung!U584),\"\",Datenerfassung!U584)","v":""},{"$f":"IF(ISBLANK(Datenerfassung!O584),\"\",Datenerfassung!O584)","v":""},{"$f":"IF(ISBLANK(Datenerfassung!D584),IF(COUNTBLANK(A574:H574)+COUNTBLANK(J574:O574)=14,\"\",\"- ohne Titel -\"),Datenerfassung!D584)","v":""},{"$f":"IF(ISBLANK(Datenerfassung!G584),\"\",Datenerfassung!G584)","v":""},"",{"$f":"IF(ISBLANK(Datenerfassung!X584),\"\",Datenerfassung!X584)","v":""},{"$f":"IF(COUNTBLANK(Datenerfassung!H584:'Datenerfassung'!N584)=7,\"\",CONCATENATE( CONCATENATE(IF(ISBLANK(Datenerfassung!H584),\" \",Datenerfassung!H584 ),\" [IS]\"), CONCATENATE(IF(ISBLANK(Datenerfassung!I584),\" \",Datenerfassung!I584 ),\" [IS]\"), CONCATENATE(IF(ISBLANK(Datenerfassung!J584),\" \",Datenerfassung!J584 ),\" [IS]\"), CONCATENATE(IF(ISBLANK(Datenerfassung!K584),\" \",Datenerfassung!K584 ),\" [IS]\"), CONCATENATE(IF(ISBLANK(Datenerfassung!L584),\" \",Datenerfassung!L584 ),\" [IS]\"), CONCATENATE(IF(ISBLANK(Datenerfassung!M584),\" \",Datenerfassung!M584 ),\" [IS]\"), IF(ISBLANK(Datenerfassung!N584),\" \",Datenerfassung!N584 ) ))","v":""},{"$f":"IF(ISBLANK(Datenerfassung!V584),\"\",Datenerfassung!V584)","v":""},{"$f":"IF(ISBLANK(Datenerfassung!Q584),\"\",Datenerfassung!Q584)","v":""}]
[{"$f":"IF(ISBLANK(Datenerfassung!A585),\"\",Datenerfassung!A585)","v":""},{"$f":"IF(ISBLANK(Datenerfassung!B585),\"\",Datenerfassung!B585)","v":""},{"$f":"IF(ISBLANK(Datenerfassung!C585),\"\",Datenerfassung!C585)","v":""},{"$f":"IF(ISBLANK(Datenerfassung!R585),\"\",Datenerfassung!R585)","v":""},{"$f":"IF(ISBLANK(Datenerfassung!S585),\"\",Datenerfassung!S585)","v":""},"",{"$f":"IF(ISBLANK(Datenerfassung!U585),\"\",Datenerfassung!U585)","v":""},{"$f":"IF(ISBLANK(Datenerfassung!O585),\"\",Datenerfassung!O585)","v":""},{"$f":"IF(ISBLANK(Datenerfassung!D585),IF(COUNTBLANK(A575:H575)+COUNTBLANK(J575:O575)=14,\"\",\"- ohne Titel -\"),Datenerfassung!D585)","v":""},{"$f":"IF(ISBLANK(Datenerfassung!G585),\"\",Datenerfassung!G585)","v":""},"",{"$f":"IF(ISBLANK(Datenerfassung!X585),\"\",Datenerfassung!X585)","v":""},{"$f":"IF(COUNTBLANK(Datenerfassung!H585:'Datenerfassung'!N585)=7,\"\",CONCATENATE( CONCATENATE(IF(ISBLANK(Datenerfassung!H585),\" \",Datenerfassung!H585 ),\" [IS]\"), CONCATENATE(IF(ISBLANK(Datenerfassung!I585),\" \",Datenerfassung!I585 ),\" [IS]\"), CONCATENATE(IF(ISBLANK(Datenerfassung!J585),\" \",Datenerfassung!J585 ),\" [IS]\"), CONCATENATE(IF(ISBLANK(Datenerfassung!K585),\" \",Datenerfassung!K585 ),\" [IS]\"), CONCATENATE(IF(ISBLANK(Datenerfassung!L585),\" \",Datenerfassung!L585 ),\" [IS]\"), CONCATENATE(IF(ISBLANK(Datenerfassung!M585),\" \",Datenerfassung!M585 ),\" [IS]\"), IF(ISBLANK(Datenerfassung!N585),\" \",Datenerfassung!N585 ) ))","v":""},{"$f":"IF(ISBLANK(Datenerfassung!V585),\"\",Datenerfassung!V585)","v":""},{"$f":"IF(ISBLANK(Datenerfassung!Q585),\"\",Datenerfassung!Q585)","v":""}]
[{"$f":"IF(ISBLANK(Datenerfassung!A586),\"\",Datenerfassung!A586)","v":""},{"$f":"IF(ISBLANK(Datenerfassung!B586),\"\",Datenerfassung!B586)","v":""},{"$f":"IF(ISBLANK(Datenerfassung!C586),\"\",Datenerfassung!C586)","v":""},{"$f":"IF(ISBLANK(Datenerfassung!R586),\"\",Datenerfassung!R586)","v":""},{"$f":"IF(ISBLANK(Datenerfassung!S586),\"\",Datenerfassung!S586)","v":""},"",{"$f":"IF(ISBLANK(Datenerfassung!U586),\"\",Datenerfassung!U586)","v":""},{"$f":"IF(ISBLANK(Datenerfassung!O586),\"\",Datenerfassung!O586)","v":""},{"$f":"IF(ISBLANK(Datenerfassung!D586),IF(COUNTBLANK(A576:H576)+COUNTBLANK(J576:O576)=14,\"\",\"- ohne Titel -\"),Datenerfassung!D586)","v":""},{"$f":"IF(ISBLANK(Datenerfassung!G586),\"\",Datenerfassung!G586)","v":""},"",{"$f":"IF(ISBLANK(Datenerfassung!X586),\"\",Datenerfassung!X586)","v":""},{"$f":"IF(COUNTBLANK(Datenerfassung!H586:'Datenerfassung'!N586)=7,\"\",CONCATENATE( CONCATENATE(IF(ISBLANK(Datenerfassung!H586),\" \",Datenerfassung!H586 ),\" [IS]\"), CONCATENATE(IF(ISBLANK(Datenerfassung!I586),\" \",Datenerfassung!I586 ),\" [IS]\"), CONCATENATE(IF(ISBLANK(Datenerfassung!J586),\" \",Datenerfassung!J586 ),\" [IS]\"), CONCATENATE(IF(ISBLANK(Datenerfassung!K586),\" \",Datenerfassung!K586 ),\" [IS]\"), CONCATENATE(IF(ISBLANK(Datenerfassung!L586),\" \",Datenerfassung!L586 ),\" [IS]\"), CONCATENATE(IF(ISBLANK(Datenerfassung!M586),\" \",Datenerfassung!M586 ),\" [IS]\"), IF(ISBLANK(Datenerfassung!N586),\" \",Datenerfassung!N586 ) ))","v":""},{"$f":"IF(ISBLANK(Datenerfassung!V586),\"\",Datenerfassung!V586)","v":""},{"$f":"IF(ISBLANK(Datenerfassung!Q586),\"\",Datenerfassung!Q586)","v":""}]
[{"$f":"IF(ISBLANK(Datenerfassung!A587),\"\",Datenerfassung!A587)","v":""},{"$f":"IF(ISBLANK(Datenerfassung!B587),\"\",Datenerfassung!B587)","v":""},{"$f":"IF(ISBLANK(Datenerfassung!C587),\"\",Datenerfassung!C587)","v":""},{"$f":"IF(ISBLANK(Datenerfassung!R587),\"\",Datenerfassung!R587)","v":""},{"$f":"IF(ISBLANK(Datenerfassung!S587),\"\",Datenerfassung!S587)","v":""},"",{"$f":"IF(ISBLANK(Datenerfassung!U587),\"\",Datenerfassung!U587)","v":""},{"$f":"IF(ISBLANK(Datenerfassung!O587),\"\",Datenerfassung!O587)","v":""},{"$f":"IF(ISBLANK(Datenerfassung!D587),IF(COUNTBLANK(A577:H577)+COUNTBLANK(J577:O577)=14,\"\",\"- ohne Titel -\"),Datenerfassung!D587)","v":""},{"$f":"IF(ISBLANK(Datenerfassung!G587),\"\",Datenerfassung!G587)","v":""},"",{"$f":"IF(ISBLANK(Datenerfassung!X587),\"\",Datenerfassung!X587)","v":""},{"$f":"IF(COUNTBLANK(Datenerfassung!H587:'Datenerfassung'!N587)=7,\"\",CONCATENATE( CONCATENATE(IF(ISBLANK(Datenerfassung!H587),\" \",Datenerfassung!H587 ),\" [IS]\"), CONCATENATE(IF(ISBLANK(Datenerfassung!I587),\" \",Datenerfassung!I587 ),\" [IS]\"), CONCATENATE(IF(ISBLANK(Datenerfassung!J587),\" \",Datenerfassung!J587 ),\" [IS]\"), CONCATENATE(IF(ISBLANK(Datenerfassung!K587),\" \",Datenerfassung!K587 ),\" [IS]\"), CONCATENATE(IF(ISBLANK(Datenerfassung!L587),\" \",Datenerfassung!L587 ),\" [IS]\"), CONCATENATE(IF(ISBLANK(Datenerfassung!M587),\" \",Datenerfassung!M587 ),\" [IS]\"), IF(ISBLANK(Datenerfassung!N587),\" \",Datenerfassung!N587 ) ))","v":""},{"$f":"IF(ISBLANK(Datenerfassung!V587),\"\",Datenerfassung!V587)","v":""},{"$f":"IF(ISBLANK(Datenerfassung!Q587),\"\",Datenerfassung!Q587)","v":""}]
[{"$f":"IF(ISBLANK(Datenerfassung!A588),\"\",Datenerfassung!A588)","v":""},{"$f":"IF(ISBLANK(Datenerfassung!B588),\"\",Datenerfassung!B588)","v":""},{"$f":"IF(ISBLANK(Datenerfassung!C588),\"\",Datenerfassung!C588)","v":""},{"$f":"IF(ISBLANK(Datenerfassung!R588),\"\",Datenerfassung!R588)","v":""},{"$f":"IF(ISBLANK(Datenerfassung!S588),\"\",Datenerfassung!S588)","v":""},"",{"$f":"IF(ISBLANK(Datenerfassung!U588),\"\",Datenerfassung!U588)","v":""},{"$f":"IF(ISBLANK(Datenerfassung!O588),\"\",Datenerfassung!O588)","v":""},{"$f":"IF(ISBLANK(Datenerfassung!D588),IF(COUNTBLANK(A578:H578)+COUNTBLANK(J578:O578)=14,\"\",\"- ohne Titel -\"),Datenerfassung!D588)","v":""},{"$f":"IF(ISBLANK(Datenerfassung!G588),\"\",Datenerfassung!G588)","v":""},"",{"$f":"IF(ISBLANK(Datenerfassung!X588),\"\",Datenerfassung!X588)","v":""},{"$f":"IF(COUNTBLANK(Datenerfassung!H588:'Datenerfassung'!N588)=7,\"\",CONCATENATE( CONCATENATE(IF(ISBLANK(Datenerfassung!H588),\" \",Datenerfassung!H588 ),\" [IS]\"), CONCATENATE(IF(ISBLANK(Datenerfassung!I588),\" \",Datenerfassung!I588 ),\" [IS]\"), CONCATENATE(IF(ISBLANK(Datenerfassung!J588),\" \",Datenerfassung!J588 ),\" [IS]\"), CONCATENATE(IF(ISBLANK(Datenerfassung!K588),\" \",Datenerfassung!K588 ),\" [IS]\"), CONCATENATE(IF(ISBLANK(Datenerfassung!L588),\" \",Datenerfassung!L588 ),\" [IS]\"), CONCATENATE(IF(ISBLANK(Datenerfassung!M588),\" \",Datenerfassung!M588 ),\" [IS]\"), IF(ISBLANK(Datenerfassung!N588),\" \",Datenerfassung!N588 ) ))","v":""},{"$f":"IF(ISBLANK(Datenerfassung!V588),\"\",Datenerfassung!V588)","v":""},{"$f":"IF(ISBLANK(Datenerfassung!Q588),\"\",Datenerfassung!Q588)","v":""}]
[{"$f":"IF(ISBLANK(Datenerfassung!A589),\"\",Datenerfassung!A589)","v":""},{"$f":"IF(ISBLANK(Datenerfassung!B589),\"\",Datenerfassung!B589)","v":""},{"$f":"IF(ISBLANK(Datenerfassung!C589),\"\",Datenerfassung!C589)","v":""},{"$f":"IF(ISBLANK(Datenerfassung!R589),\"\",Datenerfassung!R589)","v":""},{"$f":"IF(ISBLANK(Datenerfassung!S589),\"\",Datenerfassung!S589)","v":""},{"$f":"IF(D579=\"\",\"\",IF(E579=\"\",D579,D579&\" - \"&E579))","v":""},{"$f":"IF(ISBLANK(Datenerfassung!U589),\"\",Datenerfassung!U589)","v":""},{"$f":"IF(ISBLANK(Datenerfassung!O589),\"\",Datenerfassung!O589)","v":""},{"$f":"IF(ISBLANK(Datenerfassung!D589),IF(COUNTBLANK(A579:H579)+COUNTBLANK(J579:O579)=14,\"\",\"- ohne Titel -\"),Datenerfassung!D589)","v":""},{"$f":"IF(ISBLANK(Datenerfassung!G589),\"\",Datenerfassung!G589)","v":""},{"$f":"IF(OR(E579=\"\",G579=\"\"),\"\",\"01.01.\"&RIGHT(E579,4)+G579+1)","v":""},{"$f":"IF(ISBLANK(Datenerfassung!X589),\"\",Datenerfassung!X589)","v":""},{"$f":"IF(COUNTBLANK(Datenerfassung!H589:'Datenerfassung'!N589)=7,\"\",CONCATENATE( CONCATENATE(IF(ISBLANK(Datenerfassung!H589),\" \",Datenerfassung!H589 ),\" [IS]\"), CONCATENATE(IF(ISBLANK(Datenerfassung!I589),\" \",Datenerfassung!I589 ),\" [IS]\"), CONCATENATE(IF(ISBLANK(Datenerfassung!J589),\" \",Datenerfassung!J589 ),\" [IS]\"), CONCATENATE(IF(ISBLANK(Datenerfassung!K589),\" \",Datenerfassung!K589 ),\" [IS]\"), CONCATENATE(IF(ISBLANK(Datenerfassung!L589),\" \",Datenerfassung!L589 ),\" [IS]\"), CONCATENATE(IF(ISBLANK(Datenerfassung!M589),\" \",Datenerfassung!M589 ),\" [IS]\"), IF(ISBLANK(Datenerfassung!N589),\" \",Datenerfassung!N589 ) ))","v":""},{"$f":"IF(ISBLANK(Datenerfassung!V589),\"\",Datenerfassung!V589)","v":""},{"$f":"IF(ISBLANK(Datenerfassung!Q589),\"\",Datenerfassung!Q589)","v":""}]
[{"$f":"IF(ISBLANK(Datenerfassung!A590),\"\",Datenerfassung!A590)","v":""},{"$f":"IF(ISBLANK(Datenerfassung!B590),\"\",Datenerfassung!B590)","v":""},{"$f":"IF(ISBLANK(Datenerfassung!C590),\"\",Datenerfassung!C590)","v":""},{"$f":"IF(ISBLANK(Datenerfassung!R590),\"\",Datenerfassung!R590)","v":""},{"$f":"IF(ISBLANK(Datenerfassung!S590),\"\",Datenerfassung!S590)","v":""},"",{"$f":"IF(ISBLANK(Datenerfassung!U590),\"\",Datenerfassung!U590)","v":""},{"$f":"IF(ISBLANK(Datenerfassung!O590),\"\",Datenerfassung!O590)","v":""},{"$f":"IF(ISBLANK(Datenerfassung!D590),IF(COUNTBLANK(A580:H580)+COUNTBLANK(J580:O580)=14,\"\",\"- ohne Titel -\"),Datenerfassung!D590)","v":""},{"$f":"IF(ISBLANK(Datenerfassung!G590),\"\",Datenerfassung!G590)","v":""},"",{"$f":"IF(ISBLANK(Datenerfassung!X590),\"\",Datenerfassung!X590)","v":""},{"$f":"IF(COUNTBLANK(Datenerfassung!H590:'Datenerfassung'!N590)=7,\"\",CONCATENATE( CONCATENATE(IF(ISBLANK(Datenerfassung!H590),\" \",Datenerfassung!H590 ),\" [IS]\"), CONCATENATE(IF(ISBLANK(Datenerfassung!I590),\" \",Datenerfassung!I590 ),\" [IS]\"), CONCATENATE(IF(ISBLANK(Datenerfassung!J590),\" \",Datenerfassung!J590 ),\" [IS]\"), CONCATENATE(IF(ISBLANK(Datenerfassung!K590),\" \",Datenerfassung!K590 ),\" [IS]\"), CONCATENATE(IF(ISBLANK(Datenerfassung!L590),\" \",Datenerfassung!L590 ),\" [IS]\"), CONCATENATE(IF(ISBLANK(Datenerfassung!M590),\" \",Datenerfassung!M590 ),\" [IS]\"), IF(ISBLANK(Datenerfassung!N590),\" \",Datenerfassung!N590 ) ))","v":""},{"$f":"IF(ISBLANK(Datenerfassung!V590),\"\",Datenerfassung!V590)","v":""},{"$f":"IF(ISBLANK(Datenerfassung!Q590),\"\",Datenerfassung!Q590)","v":""}]
[{"$f":"IF(ISBLANK(Datenerfassung!A591),\"\",Datenerfassung!A591)","v":""},{"$f":"IF(ISBLANK(Datenerfassung!B591),\"\",Datenerfassung!B591)","v":""},{"$f":"IF(ISBLANK(Datenerfassung!C591),\"\",Datenerfassung!C591)","v":""},{"$f":"IF(ISBLANK(Datenerfassung!R591),\"\",Datenerfassung!R591)","v":""},{"$f":"IF(ISBLANK(Datenerfassung!S591),\"\",Datenerfassung!S591)","v":""},"",{"$f":"IF(ISBLANK(Datenerfassung!U591),\"\",Datenerfassung!U591)","v":""},{"$f":"IF(ISBLANK(Datenerfassung!O591),\"\",Datenerfassung!O591)","v":""},{"$f":"IF(ISBLANK(Datenerfassung!D591),IF(COUNTBLANK(A581:H581)+COUNTBLANK(J581:O581)=14,\"\",\"- ohne Titel -\"),Datenerfassung!D591)","v":""},{"$f":"IF(ISBLANK(Datenerfassung!G591),\"\",Datenerfassung!G591)","v":""},"",{"$f":"IF(ISBLANK(Datenerfassung!X591),\"\",Datenerfassung!X591)","v":""},{"$f":"IF(COUNTBLANK(Datenerfassung!H591:'Datenerfassung'!N591)=7,\"\",CONCATENATE( CONCATENATE(IF(ISBLANK(Datenerfassung!H591),\" \",Datenerfassung!H591 ),\" [IS]\"), CONCATENATE(IF(ISBLANK(Datenerfassung!I591),\" \",Datenerfassung!I591 ),\" [IS]\"), CONCATENATE(IF(ISBLANK(Datenerfassung!J591),\" \",Datenerfassung!J591 ),\" [IS]\"), CONCATENATE(IF(ISBLANK(Datenerfassung!K591),\" \",Datenerfassung!K591 ),\" [IS]\"), CONCATENATE(IF(ISBLANK(Datenerfassung!L591),\" \",Datenerfassung!L591 ),\" [IS]\"), CONCATENATE(IF(ISBLANK(Datenerfassung!M591),\" \",Datenerfassung!M591 ),\" [IS]\"), IF(ISBLANK(Datenerfassung!N591),\" \",Datenerfassung!N591 ) ))","v":""},{"$f":"IF(ISBLANK(Datenerfassung!V591),\"\",Datenerfassung!V591)","v":""},{"$f":"IF(ISBLANK(Datenerfassung!Q591),\"\",Datenerfassung!Q591)","v":""}]
[{"$f":"IF(ISBLANK(Datenerfassung!A592),\"\",Datenerfassung!A592)","v":""},{"$f":"IF(ISBLANK(Datenerfassung!B592),\"\",Datenerfassung!B592)","v":""},{"$f":"IF(ISBLANK(Datenerfassung!C592),\"\",Datenerfassung!C592)","v":""},{"$f":"IF(ISBLANK(Datenerfassung!R592),\"\",Datenerfassung!R592)","v":""},{"$f":"IF(ISBLANK(Datenerfassung!S592),\"\",Datenerfassung!S592)","v":""},"",{"$f":"IF(ISBLANK(Datenerfassung!U592),\"\",Datenerfassung!U592)","v":""},{"$f":"IF(ISBLANK(Datenerfassung!O592),\"\",Datenerfassung!O592)","v":""},{"$f":"IF(ISBLANK(Datenerfassung!D592),IF(COUNTBLANK(A582:H582)+COUNTBLANK(J582:O582)=14,\"\",\"- ohne Titel -\"),Datenerfassung!D592)","v":""},{"$f":"IF(ISBLANK(Datenerfassung!G592),\"\",Datenerfassung!G592)","v":""},"",{"$f":"IF(ISBLANK(Datenerfassung!X592),\"\",Datenerfassung!X592)","v":""},{"$f":"IF(COUNTBLANK(Datenerfassung!H592:'Datenerfassung'!N592)=7,\"\",CONCATENATE( CONCATENATE(IF(ISBLANK(Datenerfassung!H592),\" \",Datenerfassung!H592 ),\" [IS]\"), CONCATENATE(IF(ISBLANK(Datenerfassung!I592),\" \",Datenerfassung!I592 ),\" [IS]\"), CONCATENATE(IF(ISBLANK(Datenerfassung!J592),\" \",Datenerfassung!J592 ),\" [IS]\"), CONCATENATE(IF(ISBLANK(Datenerfassung!K592),\" \",Datenerfassung!K592 ),\" [IS]\"), CONCATENATE(IF(ISBLANK(Datenerfassung!L592),\" \",Datenerfassung!L592 ),\" [IS]\"), CONCATENATE(IF(ISBLANK(Datenerfassung!M592),\" \",Datenerfassung!M592 ),\" [IS]\"), IF(ISBLANK(Datenerfassung!N592),\" \",Datenerfassung!N592 ) ))","v":""},{"$f":"IF(ISBLANK(Datenerfassung!V592),\"\",Datenerfassung!V592)","v":""},{"$f":"IF(ISBLANK(Datenerfassung!Q592),\"\",Datenerfassung!Q592)","v":""}]
[{"$f":"IF(ISBLANK(Datenerfassung!A593),\"\",Datenerfassung!A593)","v":""},{"$f":"IF(ISBLANK(Datenerfassung!B593),\"\",Datenerfassung!B593)","v":""},{"$f":"IF(ISBLANK(Datenerfassung!C593),\"\",Datenerfassung!C593)","v":""},{"$f":"IF(ISBLANK(Datenerfassung!R593),\"\",Datenerfassung!R593)","v":""},{"$f":"IF(ISBLANK(Datenerfassung!S593),\"\",Datenerfassung!S593)","v":""},"",{"$f":"IF(ISBLANK(Datenerfassung!U593),\"\",Datenerfassung!U593)","v":""},{"$f":"IF(ISBLANK(Datenerfassung!O593),\"\",Datenerfassung!O593)","v":""},{"$f":"IF(ISBLANK(Datenerfassung!D593),IF(COUNTBLANK(A583:H583)+COUNTBLANK(J583:O583)=14,\"\",\"- ohne Titel -\"),Datenerfassung!D593)","v":""},{"$f":"IF(ISBLANK(Datenerfassung!G593),\"\",Datenerfassung!G593)","v":""},"",{"$f":"IF(ISBLANK(Datenerfassung!X593),\"\",Datenerfassung!X593)","v":""},{"$f":"IF(COUNTBLANK(Datenerfassung!H593:'Datenerfassung'!N593)=7,\"\",CONCATENATE( CONCATENATE(IF(ISBLANK(Datenerfassung!H593),\" \",Datenerfassung!H593 ),\" [IS]\"), CONCATENATE(IF(ISBLANK(Datenerfassung!I593),\" \",Datenerfassung!I593 ),\" [IS]\"), CONCATENATE(IF(ISBLANK(Datenerfassung!J593),\" \",Datenerfassung!J593 ),\" [IS]\"), CONCATENATE(IF(ISBLANK(Datenerfassung!K593),\" \",Datenerfassung!K593 ),\" [IS]\"), CONCATENATE(IF(ISBLANK(Datenerfassung!L593),\" \",Datenerfassung!L593 ),\" [IS]\"), CONCATENATE(IF(ISBLANK(Datenerfassung!M593),\" \",Datenerfassung!M593 ),\" [IS]\"), IF(ISBLANK(Datenerfassung!N593),\" \",Datenerfassung!N593 ) ))","v":""},{"$f":"IF(ISBLANK(Datenerfassung!V593),\"\",Datenerfassung!V593)","v":""},{"$f":"IF(ISBLANK(Datenerfassung!Q593),\"\",Datenerfassung!Q593)","v":""}]
[{"$f":"IF(ISBLANK(Datenerfassung!A594),\"\",Datenerfassung!A594)","v":""},{"$f":"IF(ISBLANK(Datenerfassung!B594),\"\",Datenerfassung!B594)","v":""},{"$f":"IF(ISBLANK(Datenerfassung!C594),\"\",Datenerfassung!C594)","v":""},{"$f":"IF(ISBLANK(Datenerfassung!R594),\"\",Datenerfassung!R594)","v":""},{"$f":"IF(ISBLANK(Datenerfassung!S594),\"\",Datenerfassung!S594)","v":""},"",{"$f":"IF(ISBLANK(Datenerfassung!U594),\"\",Datenerfassung!U594)","v":""},{"$f":"IF(ISBLANK(Datenerfassung!O594),\"\",Datenerfassung!O594)","v":""},{"$f":"IF(ISBLANK(Datenerfassung!D594),IF(COUNTBLANK(A584:H584)+COUNTBLANK(J584:O584)=14,\"\",\"- ohne Titel -\"),Datenerfassung!D594)","v":""},{"$f":"IF(ISBLANK(Datenerfassung!G594),\"\",Datenerfassung!G594)","v":""},"",{"$f":"IF(ISBLANK(Datenerfassung!X594),\"\",Datenerfassung!X594)","v":""},{"$f":"IF(COUNTBLANK(Datenerfassung!H594:'Datenerfassung'!N594)=7,\"\",CONCATENATE( CONCATENATE(IF(ISBLANK(Datenerfassung!H594),\" \",Datenerfassung!H594 ),\" [IS]\"), CONCATENATE(IF(ISBLANK(Datenerfassung!I594),\" \",Datenerfassung!I594 ),\" [IS]\"), CONCATENATE(IF(ISBLANK(Datenerfassung!J594),\" \",Datenerfassung!J594 ),\" [IS]\"), CONCATENATE(IF(ISBLANK(Datenerfassung!K594),\" \",Datenerfassung!K594 ),\" [IS]\"), CONCATENATE(IF(ISBLANK(Datenerfassung!L594),\" \",Datenerfassung!L594 ),\" [IS]\"), CONCATENATE(IF(ISBLANK(Datenerfassung!M594),\" \",Datenerfassung!M594 ),\" [IS]\"), IF(ISBLANK(Datenerfassung!N594),\" \",Datenerfassung!N594 ) ))","v":""},{"$f":"IF(ISBLANK(Datenerfassung!V594),\"\",Datenerfassung!V594)","v":""},{"$f":"IF(ISBLANK(Datenerfassung!Q594),\"\",Datenerfassung!Q594)","v":""}]
[{"$f":"IF(ISBLANK(Datenerfassung!A595),\"\",Datenerfassung!A595)","v":""},{"$f":"IF(ISBLANK(Datenerfassung!B595),\"\",Datenerfassung!B595)","v":""},{"$f":"IF(ISBLANK(Datenerfassung!C595),\"\",Datenerfassung!C595)","v":""},{"$f":"IF(ISBLANK(Datenerfassung!R595),\"\",Datenerfassung!R595)","v":""},{"$f":"IF(ISBLANK(Datenerfassung!S595),\"\",Datenerfassung!S595)","v":""},"",{"$f":"IF(ISBLANK(Datenerfassung!U595),\"\",Datenerfassung!U595)","v":""},{"$f":"IF(ISBLANK(Datenerfassung!O595),\"\",Datenerfassung!O595)","v":""},{"$f":"IF(ISBLANK(Datenerfassung!D595),IF(COUNTBLANK(A585:H585)+COUNTBLANK(J585:O585)=14,\"\",\"- ohne Titel -\"),Datenerfassung!D595)","v":""},{"$f":"IF(ISBLANK(Datenerfassung!G595),\"\",Datenerfassung!G595)","v":""},"",{"$f":"IF(ISBLANK(Datenerfassung!X595),\"\",Datenerfassung!X595)","v":""},{"$f":"IF(COUNTBLANK(Datenerfassung!H595:'Datenerfassung'!N595)=7,\"\",CONCATENATE( CONCATENATE(IF(ISBLANK(Datenerfassung!H595),\" \",Datenerfassung!H595 ),\" [IS]\"), CONCATENATE(IF(ISBLANK(Datenerfassung!I595),\" \",Datenerfassung!I595 ),\" [IS]\"), CONCATENATE(IF(ISBLANK(Datenerfassung!J595),\" \",Datenerfassung!J595 ),\" [IS]\"), CONCATENATE(IF(ISBLANK(Datenerfassung!K595),\" \",Datenerfassung!K595 ),\" [IS]\"), CONCATENATE(IF(ISBLANK(Datenerfassung!L595),\" \",Datenerfassung!L595 ),\" [IS]\"), CONCATENATE(IF(ISBLANK(Datenerfassung!M595),\" \",Datenerfassung!M595 ),\" [IS]\"), IF(ISBLANK(Datenerfassung!N595),\" \",Datenerfassung!N595 ) ))","v":""},{"$f":"IF(ISBLANK(Datenerfassung!V595),\"\",Datenerfassung!V595)","v":""},{"$f":"IF(ISBLANK(Datenerfassung!Q595),\"\",Datenerfassung!Q595)","v":""}]
[{"$f":"IF(ISBLANK(Datenerfassung!A596),\"\",Datenerfassung!A596)","v":""},{"$f":"IF(ISBLANK(Datenerfassung!B596),\"\",Datenerfassung!B596)","v":""},{"$f":"IF(ISBLANK(Datenerfassung!C596),\"\",Datenerfassung!C596)","v":""},{"$f":"IF(ISBLANK(Datenerfassung!R596),\"\",Datenerfassung!R596)","v":""},{"$f":"IF(ISBLANK(Datenerfassung!S596),\"\",Datenerfassung!S596)","v":""},"",{"$f":"IF(ISBLANK(Datenerfassung!U596),\"\",Datenerfassung!U596)","v":""},{"$f":"IF(ISBLANK(Datenerfassung!O596),\"\",Datenerfassung!O596)","v":""},{"$f":"IF(ISBLANK(Datenerfassung!D596),IF(COUNTBLANK(A586:H586)+COUNTBLANK(J586:O586)=14,\"\",\"- ohne Titel -\"),Datenerfassung!D596)","v":""},{"$f":"IF(ISBLANK(Datenerfassung!G596),\"\",Datenerfassung!G596)","v":""},"",{"$f":"IF(ISBLANK(Datenerfassung!X596),\"\",Datenerfassung!X596)","v":""},{"$f":"IF(COUNTBLANK(Datenerfassung!H596:'Datenerfassung'!N596)=7,\"\",CONCATENATE( CONCATENATE(IF(ISBLANK(Datenerfassung!H596),\" \",Datenerfassung!H596 ),\" [IS]\"), CONCATENATE(IF(ISBLANK(Datenerfassung!I596),\" \",Datenerfassung!I596 ),\" [IS]\"), CONCATENATE(IF(ISBLANK(Datenerfassung!J596),\" \",Datenerfassung!J596 ),\" [IS]\"), CONCATENATE(IF(ISBLANK(Datenerfassung!K596),\" \",Datenerfassung!K596 ),\" [IS]\"), CONCATENATE(IF(ISBLANK(Datenerfassung!L596),\" \",Datenerfassung!L596 ),\" [IS]\"), CONCATENATE(IF(ISBLANK(Datenerfassung!M596),\" \",Datenerfassung!M596 ),\" [IS]\"), IF(ISBLANK(Datenerfassung!N596),\" \",Datenerfassung!N596 ) ))","v":""},{"$f":"IF(ISBLANK(Datenerfassung!V596),\"\",Datenerfassung!V596)","v":""},{"$f":"IF(ISBLANK(Datenerfassung!Q596),\"\",Datenerfassung!Q596)","v":""}]
[{"$f":"IF(ISBLANK(Datenerfassung!A597),\"\",Datenerfassung!A597)","v":""},{"$f":"IF(ISBLANK(Datenerfassung!B597),\"\",Datenerfassung!B597)","v":""},{"$f":"IF(ISBLANK(Datenerfassung!C597),\"\",Datenerfassung!C597)","v":""},{"$f":"IF(ISBLANK(Datenerfassung!R597),\"\",Datenerfassung!R597)","v":""},{"$f":"IF(ISBLANK(Datenerfassung!S597),\"\",Datenerfassung!S597)","v":""},"",{"$f":"IF(ISBLANK(Datenerfassung!U597),\"\",Datenerfassung!U597)","v":""},{"$f":"IF(ISBLANK(Datenerfassung!O597),\"\",Datenerfassung!O597)","v":""},{"$f":"IF(ISBLANK(Datenerfassung!D597),IF(COUNTBLANK(A587:H587)+COUNTBLANK(J587:O587)=14,\"\",\"- ohne Titel -\"),Datenerfassung!D597)","v":""},{"$f":"IF(ISBLANK(Datenerfassung!G597),\"\",Datenerfassung!G597)","v":""},"",{"$f":"IF(ISBLANK(Datenerfassung!X597),\"\",Datenerfassung!X597)","v":""},{"$f":"IF(COUNTBLANK(Datenerfassung!H597:'Datenerfassung'!N597)=7,\"\",CONCATENATE( CONCATENATE(IF(ISBLANK(Datenerfassung!H597),\" \",Datenerfassung!H597 ),\" [IS]\"), CONCATENATE(IF(ISBLANK(Datenerfassung!I597),\" \",Datenerfassung!I597 ),\" [IS]\"), CONCATENATE(IF(ISBLANK(Datenerfassung!J597),\" \",Datenerfassung!J597 ),\" [IS]\"), CONCATENATE(IF(ISBLANK(Datenerfassung!K597),\" \",Datenerfassung!K597 ),\" [IS]\"), CONCATENATE(IF(ISBLANK(Datenerfassung!L597),\" \",Datenerfassung!L597 ),\" [IS]\"), CONCATENATE(IF(ISBLANK(Datenerfassung!M597),\" \",Datenerfassung!M597 ),\" [IS]\"), IF(ISBLANK(Datenerfassung!N597),\" \",Datenerfassung!N597 ) ))","v":""},{"$f":"IF(ISBLANK(Datenerfassung!V597),\"\",Datenerfassung!V597)","v":""},{"$f":"IF(ISBLANK(Datenerfassung!Q597),\"\",Datenerfassung!Q597)","v":""}]
[{"$f":"IF(ISBLANK(Datenerfassung!A598),\"\",Datenerfassung!A598)","v":""},{"$f":"IF(ISBLANK(Datenerfassung!B598),\"\",Datenerfassung!B598)","v":""},{"$f":"IF(ISBLANK(Datenerfassung!C598),\"\",Datenerfassung!C598)","v":""},{"$f":"IF(ISBLANK(Datenerfassung!R598),\"\",Datenerfassung!R598)","v":""},{"$f":"IF(ISBLANK(Datenerfassung!S598),\"\",Datenerfassung!S598)","v":""},"",{"$f":"IF(ISBLANK(Datenerfassung!U598),\"\",Datenerfassung!U598)","v":""},{"$f":"IF(ISBLANK(Datenerfassung!O598),\"\",Datenerfassung!O598)","v":""},{"$f":"IF(ISBLANK(Datenerfassung!D598),IF(COUNTBLANK(A588:H588)+COUNTBLANK(J588:O588)=14,\"\",\"- ohne Titel -\"),Datenerfassung!D598)","v":""},{"$f":"IF(ISBLANK(Datenerfassung!G598),\"\",Datenerfassung!G598)","v":""},"",{"$f":"IF(ISBLANK(Datenerfassung!X598),\"\",Datenerfassung!X598)","v":""},{"$f":"IF(COUNTBLANK(Datenerfassung!H598:'Datenerfassung'!N598)=7,\"\",CONCATENATE( CONCATENATE(IF(ISBLANK(Datenerfassung!H598),\" \",Datenerfassung!H598 ),\" [IS]\"), CONCATENATE(IF(ISBLANK(Datenerfassung!I598),\" \",Datenerfassung!I598 ),\" [IS]\"), CONCATENATE(IF(ISBLANK(Datenerfassung!J598),\" \",Datenerfassung!J598 ),\" [IS]\"), CONCATENATE(IF(ISBLANK(Datenerfassung!K598),\" \",Datenerfassung!K598 ),\" [IS]\"), CONCATENATE(IF(ISBLANK(Datenerfassung!L598),\" \",Datenerfassung!L598 ),\" [IS]\"), CONCATENATE(IF(ISBLANK(Datenerfassung!M598),\" \",Datenerfassung!M598 ),\" [IS]\"), IF(ISBLANK(Datenerfassung!N598),\" \",Datenerfassung!N598 ) ))","v":""},{"$f":"IF(ISBLANK(Datenerfassung!V598),\"\",Datenerfassung!V598)","v":""},{"$f":"IF(ISBLANK(Datenerfassung!Q598),\"\",Datenerfassung!Q598)","v":""}]
[{"$f":"IF(ISBLANK(Datenerfassung!A599),\"\",Datenerfassung!A599)","v":""},{"$f":"IF(ISBLANK(Datenerfassung!B599),\"\",Datenerfassung!B599)","v":""},{"$f":"IF(ISBLANK(Datenerfassung!C599),\"\",Datenerfassung!C599)","v":""},{"$f":"IF(ISBLANK(Datenerfassung!R599),\"\",Datenerfassung!R599)","v":""},{"$f":"IF(ISBLANK(Datenerfassung!S599),\"\",Datenerfassung!S599)","v":""},"",{"$f":"IF(ISBLANK(Datenerfassung!U599),\"\",Datenerfassung!U599)","v":""},{"$f":"IF(ISBLANK(Datenerfassung!O599),\"\",Datenerfassung!O599)","v":""},{"$f":"IF(ISBLANK(Datenerfassung!D599),IF(COUNTBLANK(A589:H589)+COUNTBLANK(J589:O589)=14,\"\",\"- ohne Titel -\"),Datenerfassung!D599)","v":""},{"$f":"IF(ISBLANK(Datenerfassung!G599),\"\",Datenerfassung!G599)","v":""},"",{"$f":"IF(ISBLANK(Datenerfassung!X599),\"\",Datenerfassung!X599)","v":""},{"$f":"IF(COUNTBLANK(Datenerfassung!H599:'Datenerfassung'!N599)=7,\"\",CONCATENATE( CONCATENATE(IF(ISBLANK(Datenerfassung!H599),\" \",Datenerfassung!H599 ),\" [IS]\"), CONCATENATE(IF(ISBLANK(Datenerfassung!I599),\" \",Datenerfassung!I599 ),\" [IS]\"), CONCATENATE(IF(ISBLANK(Datenerfassung!J599),\" \",Datenerfassung!J599 ),\" [IS]\"), CONCATENATE(IF(ISBLANK(Datenerfassung!K599),\" \",Datenerfassung!K599 ),\" [IS]\"), CONCATENATE(IF(ISBLANK(Datenerfassung!L599),\" \",Datenerfassung!L599 ),\" [IS]\"), CONCATENATE(IF(ISBLANK(Datenerfassung!M599),\" \",Datenerfassung!M599 ),\" [IS]\"), IF(ISBLANK(Datenerfassung!N599),\" \",Datenerfassung!N599 ) ))","v":""},{"$f":"IF(ISBLANK(Datenerfassung!V599),\"\",Datenerfassung!V599)","v":""},{"$f":"IF(ISBLANK(Datenerfassung!Q599),\"\",Datenerfassung!Q599)","v":""}]
[{"$f":"IF(ISBLANK(Datenerfassung!A600),\"\",Datenerfassung!A600)","v":""},{"$f":"IF(ISBLANK(Datenerfassung!B600),\"\",Datenerfassung!B600)","v":""},{"$f":"IF(ISBLANK(Datenerfassung!C600),\"\",Datenerfassung!C600)","v":""},{"$f":"IF(ISBLANK(Datenerfassung!R600),\"\",Datenerfassung!R600)","v":""},{"$f":"IF(ISBLANK(Datenerfassung!S600),\"\",Datenerfassung!S600)","v":""},"",{"$f":"IF(ISBLANK(Datenerfassung!U600),\"\",Datenerfassung!U600)","v":""},{"$f":"IF(ISBLANK(Datenerfassung!O600),\"\",Datenerfassung!O600)","v":""},{"$f":"IF(ISBLANK(Datenerfassung!D600),IF(COUNTBLANK(A590:H590)+COUNTBLANK(J590:O590)=14,\"\",\"- ohne Titel -\"),Datenerfassung!D600)","v":""},{"$f":"IF(ISBLANK(Datenerfassung!G600),\"\",Datenerfassung!G600)","v":""},"",{"$f":"IF(ISBLANK(Datenerfassung!X600),\"\",Datenerfassung!X600)","v":""},{"$f":"IF(COUNTBLANK(Datenerfassung!H600:'Datenerfassung'!N600)=7,\"\",CONCATENATE( CONCATENATE(IF(ISBLANK(Datenerfassung!H600),\" \",Datenerfassung!H600 ),\" [IS]\"), CONCATENATE(IF(ISBLANK(Datenerfassung!I600),\" \",Datenerfassung!I600 ),\" [IS]\"), CONCATENATE(IF(ISBLANK(Datenerfassung!J600),\" \",Datenerfassung!J600 ),\" [IS]\"), CONCATENATE(IF(ISBLANK(Datenerfassung!K600),\" \",Datenerfassung!K600 ),\" [IS]\"), CONCATENATE(IF(ISBLANK(Datenerfassung!L600),\" \",Datenerfassung!L600 ),\" [IS]\"), CONCATENATE(IF(ISBLANK(Datenerfassung!M600),\" \",Datenerfassung!M600 ),\" [IS]\"), IF(ISBLANK(Datenerfassung!N600),\" \",Datenerfassung!N600 ) ))","v":""},{"$f":"IF(ISBLANK(Datenerfassung!V600),\"\",Datenerfassung!V600)","v":""},{"$f":"IF(ISBLANK(Datenerfassung!Q600),\"\",Datenerfassung!Q600)","v":""}]
[{"$f":"IF(ISBLANK(Datenerfassung!A601),\"\",Datenerfassung!A601)","v":""},{"$f":"IF(ISBLANK(Datenerfassung!B601),\"\",Datenerfassung!B601)","v":""},{"$f":"IF(ISBLANK(Datenerfassung!C601),\"\",Datenerfassung!C601)","v":""},{"$f":"IF(ISBLANK(Datenerfassung!R601),\"\",Datenerfassung!R601)","v":""},{"$f":"IF(ISBLANK(Datenerfassung!S601),\"\",Datenerfassung!S601)","v":""},"",{"$f":"IF(ISBLANK(Datenerfassung!U601),\"\",Datenerfassung!U601)","v":""},{"$f":"IF(ISBLANK(Datenerfassung!O601),\"\",Datenerfassung!O601)","v":""},{"$f":"IF(ISBLANK(Datenerfassung!D601),IF(COUNTBLANK(A591:H591)+COUNTBLANK(J591:O591)=14,\"\",\"- ohne Titel -\"),Datenerfassung!D601)","v":""},{"$f":"IF(ISBLANK(Datenerfassung!G601),\"\",Datenerfassung!G601)","v":""},"",{"$f":"IF(ISBLANK(Datenerfassung!X601),\"\",Datenerfassung!X601)","v":""},{"$f":"IF(COUNTBLANK(Datenerfassung!H601:'Datenerfassung'!N601)=7,\"\",CONCATENATE( CONCATENATE(IF(ISBLANK(Datenerfassung!H601),\" \",Datenerfassung!H601 ),\" [IS]\"), CONCATENATE(IF(ISBLANK(Datenerfassung!I601),\" \",Datenerfassung!I601 ),\" [IS]\"), CONCATENATE(IF(ISBLANK(Datenerfassung!J601),\" \",Datenerfassung!J601 ),\" [IS]\"), CONCATENATE(IF(ISBLANK(Datenerfassung!K601),\" \",Datenerfassung!K601 ),\" [IS]\"), CONCATENATE(IF(ISBLANK(Datenerfassung!L601),\" \",Datenerfassung!L601 ),\" [IS]\"), CONCATENATE(IF(ISBLANK(Datenerfassung!M601),\" \",Datenerfassung!M601 ),\" [IS]\"), IF(ISBLANK(Datenerfassung!N601),\" \",Datenerfassung!N601 ) ))","v":""},{"$f":"IF(ISBLANK(Datenerfassung!V601),\"\",Datenerfassung!V601)","v":""},{"$f":"IF(ISBLANK(Datenerfassung!Q601),\"\",Datenerfassung!Q601)","v":""}]
[{"$f":"IF(ISBLANK(Datenerfassung!A602),\"\",Datenerfassung!A602)","v":""},{"$f":"IF(ISBLANK(Datenerfassung!B602),\"\",Datenerfassung!B602)","v":""},{"$f":"IF(ISBLANK(Datenerfassung!C602),\"\",Datenerfassung!C602)","v":""},{"$f":"IF(ISBLANK(Datenerfassung!R602),\"\",Datenerfassung!R602)","v":""},{"$f":"IF(ISBLANK(Datenerfassung!S602),\"\",Datenerfassung!S602)","v":""},"",{"$f":"IF(ISBLANK(Datenerfassung!U602),\"\",Datenerfassung!U602)","v":""},{"$f":"IF(ISBLANK(Datenerfassung!O602),\"\",Datenerfassung!O602)","v":""},{"$f":"IF(ISBLANK(Datenerfassung!D602),IF(COUNTBLANK(A592:H592)+COUNTBLANK(J592:O592)=14,\"\",\"- ohne Titel -\"),Datenerfassung!D602)","v":""},{"$f":"IF(ISBLANK(Datenerfassung!G602),\"\",Datenerfassung!G602)","v":""},"",{"$f":"IF(ISBLANK(Datenerfassung!X602),\"\",Datenerfassung!X602)","v":""},{"$f":"IF(COUNTBLANK(Datenerfassung!H602:'Datenerfassung'!N602)=7,\"\",CONCATENATE( CONCATENATE(IF(ISBLANK(Datenerfassung!H602),\" \",Datenerfassung!H602 ),\" [IS]\"), CONCATENATE(IF(ISBLANK(Datenerfassung!I602),\" \",Datenerfassung!I602 ),\" [IS]\"), CONCATENATE(IF(ISBLANK(Datenerfassung!J602),\" \",Datenerfassung!J602 ),\" [IS]\"), CONCATENATE(IF(ISBLANK(Datenerfassung!K602),\" \",Datenerfassung!K602 ),\" [IS]\"), CONCATENATE(IF(ISBLANK(Datenerfassung!L602),\" \",Datenerfassung!L602 ),\" [IS]\"), CONCATENATE(IF(ISBLANK(Datenerfassung!M602),\" \",Datenerfassung!M602 ),\" [IS]\"), IF(ISBLANK(Datenerfassung!N602),\" \",Datenerfassung!N602 ) ))","v":""},{"$f":"IF(ISBLANK(Datenerfassung!V602),\"\",Datenerfassung!V602)","v":""},{"$f":"IF(ISBLANK(Datenerfassung!Q602),\"\",Datenerfassung!Q602)","v":""}]
[{"$f":"IF(ISBLANK(Datenerfassung!A603),\"\",Datenerfassung!A603)","v":""},{"$f":"IF(ISBLANK(Datenerfassung!B603),\"\",Datenerfassung!B603)","v":""},{"$f":"IF(ISBLANK(Datenerfassung!C603),\"\",Datenerfassung!C603)","v":""},{"$f":"IF(ISBLANK(Datenerfassung!R603),\"\",Datenerfassung!R603)","v":""},{"$f":"IF(ISBLANK(Datenerfassung!S603),\"\",Datenerfassung!S603)","v":""},"",{"$f":"IF(ISBLANK(Datenerfassung!U603),\"\",Datenerfassung!U603)","v":""},{"$f":"IF(ISBLANK(Datenerfassung!O603),\"\",Datenerfassung!O603)","v":""},{"$f":"IF(ISBLANK(Datenerfassung!D603),IF(COUNTBLANK(A593:H593)+COUNTBLANK(J593:O593)=14,\"\",\"- ohne Titel -\"),Datenerfassung!D603)","v":""},{"$f":"IF(ISBLANK(Datenerfassung!G603),\"\",Datenerfassung!G603)","v":""},"",{"$f":"IF(ISBLANK(Datenerfassung!X603),\"\",Datenerfassung!X603)","v":""},{"$f":"IF(COUNTBLANK(Datenerfassung!H603:'Datenerfassung'!N603)=7,\"\",CONCATENATE( CONCATENATE(IF(ISBLANK(Datenerfassung!H603),\" \",Datenerfassung!H603 ),\" [IS]\"), CONCATENATE(IF(ISBLANK(Datenerfassung!I603),\" \",Datenerfassung!I603 ),\" [IS]\"), CONCATENATE(IF(ISBLANK(Datenerfassung!J603),\" \",Datenerfassung!J603 ),\" [IS]\"), CONCATENATE(IF(ISBLANK(Datenerfassung!K603),\" \",Datenerfassung!K603 ),\" [IS]\"), CONCATENATE(IF(ISBLANK(Datenerfassung!L603),\" \",Datenerfassung!L603 ),\" [IS]\"), CONCATENATE(IF(ISBLANK(Datenerfassung!M603),\" \",Datenerfassung!M603 ),\" [IS]\"), IF(ISBLANK(Datenerfassung!N603),\" \",Datenerfassung!N603 ) ))","v":""},{"$f":"IF(ISBLANK(Datenerfassung!V603),\"\",Datenerfassung!V603)","v":""},{"$f":"IF(ISBLANK(Datenerfassung!Q603),\"\",Datenerfassung!Q603)","v":""}]
[{"$f":"IF(ISBLANK(Datenerfassung!A604),\"\",Datenerfassung!A604)","v":""},{"$f":"IF(ISBLANK(Datenerfassung!B604),\"\",Datenerfassung!B604)","v":""},{"$f":"IF(ISBLANK(Datenerfassung!C604),\"\",Datenerfassung!C604)","v":""},{"$f":"IF(ISBLANK(Datenerfassung!R604),\"\",Datenerfassung!R604)","v":""},{"$f":"IF(ISBLANK(Datenerfassung!S604),\"\",Datenerfassung!S604)","v":""},"",{"$f":"IF(ISBLANK(Datenerfassung!U604),\"\",Datenerfassung!U604)","v":""},{"$f":"IF(ISBLANK(Datenerfassung!O604),\"\",Datenerfassung!O604)","v":""},{"$f":"IF(ISBLANK(Datenerfassung!D604),IF(COUNTBLANK(A594:H594)+COUNTBLANK(J594:O594)=14,\"\",\"- ohne Titel -\"),Datenerfassung!D604)","v":""},{"$f":"IF(ISBLANK(Datenerfassung!G604),\"\",Datenerfassung!G604)","v":""},"",{"$f":"IF(ISBLANK(Datenerfassung!X604),\"\",Datenerfassung!X604)","v":""},{"$f":"IF(COUNTBLANK(Datenerfassung!H604:'Datenerfassung'!N604)=7,\"\",CONCATENATE( CONCATENATE(IF(ISBLANK(Datenerfassung!H604),\" \",Datenerfassung!H604 ),\" [IS]\"), CONCATENATE(IF(ISBLANK(Datenerfassung!I604),\" \",Datenerfassung!I604 ),\" [IS]\"), CONCATENATE(IF(ISBLANK(Datenerfassung!J604),\" \",Datenerfassung!J604 ),\" [IS]\"), CONCATENATE(IF(ISBLANK(Datenerfassung!K604),\" \",Datenerfassung!K604 ),\" [IS]\"), CONCATENATE(IF(ISBLANK(Datenerfassung!L604),\" \",Datenerfassung!L604 ),\" [IS]\"), CONCATENATE(IF(ISBLANK(Datenerfassung!M604),\" \",Datenerfassung!M604 ),\" [IS]\"), IF(ISBLANK(Datenerfassung!N604),\" \",Datenerfassung!N604 ) ))","v":""},{"$f":"IF(ISBLANK(Datenerfassung!V604),\"\",Datenerfassung!V604)","v":""},{"$f":"IF(ISBLANK(Datenerfassung!Q604),\"\",Datenerfassung!Q604)","v":""}]
[{"$f":"IF(ISBLANK(Datenerfassung!A605),\"\",Datenerfassung!A605)","v":""},{"$f":"IF(ISBLANK(Datenerfassung!B605),\"\",Datenerfassung!B605)","v":""},{"$f":"IF(ISBLANK(Datenerfassung!C605),\"\",Datenerfassung!C605)","v":""},{"$f":"IF(ISBLANK(Datenerfassung!R605),\"\",Datenerfassung!R605)","v":""},{"$f":"IF(ISBLANK(Datenerfassung!S605),\"\",Datenerfassung!S605)","v":""},"",{"$f":"IF(ISBLANK(Datenerfassung!U605),\"\",Datenerfassung!U605)","v":""},{"$f":"IF(ISBLANK(Datenerfassung!O605),\"\",Datenerfassung!O605)","v":""},{"$f":"IF(ISBLANK(Datenerfassung!D605),IF(COUNTBLANK(A595:H595)+COUNTBLANK(J595:O595)=14,\"\",\"- ohne Titel -\"),Datenerfassung!D605)","v":""},{"$f":"IF(ISBLANK(Datenerfassung!G605),\"\",Datenerfassung!G605)","v":""},"",{"$f":"IF(ISBLANK(Datenerfassung!X605),\"\",Datenerfassung!X605)","v":""},{"$f":"IF(COUNTBLANK(Datenerfassung!H605:'Datenerfassung'!N605)=7,\"\",CONCATENATE( CONCATENATE(IF(ISBLANK(Datenerfassung!H605),\" \",Datenerfassung!H605 ),\" [IS]\"), CONCATENATE(IF(ISBLANK(Datenerfassung!I605),\" \",Datenerfassung!I605 ),\" [IS]\"), CONCATENATE(IF(ISBLANK(Datenerfassung!J605),\" \",Datenerfassung!J605 ),\" [IS]\"), CONCATENATE(IF(ISBLANK(Datenerfassung!K605),\" \",Datenerfassung!K605 ),\" [IS]\"), CONCATENATE(IF(ISBLANK(Datenerfassung!L605),\" \",Datenerfassung!L605 ),\" [IS]\"), CONCATENATE(IF(ISBLANK(Datenerfassung!M605),\" \",Datenerfassung!M605 ),\" [IS]\"), IF(ISBLANK(Datenerfassung!N605),\" \",Datenerfassung!N605 ) ))","v":""},{"$f":"IF(ISBLANK(Datenerfassung!V605),\"\",Datenerfassung!V605)","v":""},{"$f":"IF(ISBLANK(Datenerfassung!Q605),\"\",Datenerfassung!Q605)","v":""}]
[{"$f":"IF(ISBLANK(Datenerfassung!A606),\"\",Datenerfassung!A606)","v":""},{"$f":"IF(ISBLANK(Datenerfassung!B606),\"\",Datenerfassung!B606)","v":""},{"$f":"IF(ISBLANK(Datenerfassung!C606),\"\",Datenerfassung!C606)","v":""},{"$f":"IF(ISBLANK(Datenerfassung!R606),\"\",Datenerfassung!R606)","v":""},{"$f":"IF(ISBLANK(Datenerfassung!S606),\"\",Datenerfassung!S606)","v":""},"",{"$f":"IF(ISBLANK(Datenerfassung!U606),\"\",Datenerfassung!U606)","v":""},{"$f":"IF(ISBLANK(Datenerfassung!O606),\"\",Datenerfassung!O606)","v":""},{"$f":"IF(ISBLANK(Datenerfassung!D606),IF(COUNTBLANK(A596:H596)+COUNTBLANK(J596:O596)=14,\"\",\"- ohne Titel -\"),Datenerfassung!D606)","v":""},{"$f":"IF(ISBLANK(Datenerfassung!G606),\"\",Datenerfassung!G606)","v":""},"",{"$f":"IF(ISBLANK(Datenerfassung!X606),\"\",Datenerfassung!X606)","v":""},{"$f":"IF(COUNTBLANK(Datenerfassung!H606:'Datenerfassung'!N606)=7,\"\",CONCATENATE( CONCATENATE(IF(ISBLANK(Datenerfassung!H606),\" \",Datenerfassung!H606 ),\" [IS]\"), CONCATENATE(IF(ISBLANK(Datenerfassung!I606),\" \",Datenerfassung!I606 ),\" [IS]\"), CONCATENATE(IF(ISBLANK(Datenerfassung!J606),\" \",Datenerfassung!J606 ),\" [IS]\"), CONCATENATE(IF(ISBLANK(Datenerfassung!K606),\" \",Datenerfassung!K606 ),\" [IS]\"), CONCATENATE(IF(ISBLANK(Datenerfassung!L606),\" \",Datenerfassung!L606 ),\" [IS]\"), CONCATENATE(IF(ISBLANK(Datenerfassung!M606),\" \",Datenerfassung!M606 ),\" [IS]\"), IF(ISBLANK(Datenerfassung!N606),\" \",Datenerfassung!N606 ) ))","v":""},{"$f":"IF(ISBLANK(Datenerfassung!V606),\"\",Datenerfassung!V606)","v":""},{"$f":"IF(ISBLANK(Datenerfassung!Q606),\"\",Datenerfassung!Q606)","v":""}]
[{"$f":"IF(ISBLANK(Datenerfassung!A607),\"\",Datenerfassung!A607)","v":""},{"$f":"IF(ISBLANK(Datenerfassung!B607),\"\",Datenerfassung!B607)","v":""},{"$f":"IF(ISBLANK(Datenerfassung!C607),\"\",Datenerfassung!C607)","v":""},{"$f":"IF(ISBLANK(Datenerfassung!R607),\"\",Datenerfassung!R607)","v":""},{"$f":"IF(ISBLANK(Datenerfassung!S607),\"\",Datenerfassung!S607)","v":""},"",{"$f":"IF(ISBLANK(Datenerfassung!U607),\"\",Datenerfassung!U607)","v":""},{"$f":"IF(ISBLANK(Datenerfassung!O607),\"\",Datenerfassung!O607)","v":""},{"$f":"IF(ISBLANK(Datenerfassung!D607),IF(COUNTBLANK(A597:H597)+COUNTBLANK(J597:O597)=14,\"\",\"- ohne Titel -\"),Datenerfassung!D607)","v":""},{"$f":"IF(ISBLANK(Datenerfassung!G607),\"\",Datenerfassung!G607)","v":""},"",{"$f":"IF(ISBLANK(Datenerfassung!X607),\"\",Datenerfassung!X607)","v":""},{"$f":"IF(COUNTBLANK(Datenerfassung!H607:'Datenerfassung'!N607)=7,\"\",CONCATENATE( CONCATENATE(IF(ISBLANK(Datenerfassung!H607),\" \",Datenerfassung!H607 ),\" [IS]\"), CONCATENATE(IF(ISBLANK(Datenerfassung!I607),\" \",Datenerfassung!I607 ),\" [IS]\"), CONCATENATE(IF(ISBLANK(Datenerfassung!J607),\" \",Datenerfassung!J607 ),\" [IS]\"), CONCATENATE(IF(ISBLANK(Datenerfassung!K607),\" \",Datenerfassung!K607 ),\" [IS]\"), CONCATENATE(IF(ISBLANK(Datenerfassung!L607),\" \",Datenerfassung!L607 ),\" [IS]\"), CONCATENATE(IF(ISBLANK(Datenerfassung!M607),\" \",Datenerfassung!M607 ),\" [IS]\"), IF(ISBLANK(Datenerfassung!N607),\" \",Datenerfassung!N607 ) ))","v":""},{"$f":"IF(ISBLANK(Datenerfassung!V607),\"\",Datenerfassung!V607)","v":""},{"$f":"IF(ISBLANK(Datenerfassung!Q607),\"\",Datenerfassung!Q607)","v":""}]
[{"$f":"IF(ISBLANK(Datenerfassung!A608),\"\",Datenerfassung!A608)","v":""},{"$f":"IF(ISBLANK(Datenerfassung!B608),\"\",Datenerfassung!B608)","v":""},{"$f":"IF(ISBLANK(Datenerfassung!C608),\"\",Datenerfassung!C608)","v":""},{"$f":"IF(ISBLANK(Datenerfassung!R608),\"\",Datenerfassung!R608)","v":""},{"$f":"IF(ISBLANK(Datenerfassung!S608),\"\",Datenerfassung!S608)","v":""},"",{"$f":"IF(ISBLANK(Datenerfassung!U608),\"\",Datenerfassung!U608)","v":""},{"$f":"IF(ISBLANK(Datenerfassung!O608),\"\",Datenerfassung!O608)","v":""},{"$f":"IF(ISBLANK(Datenerfassung!D608),IF(COUNTBLANK(A598:H598)+COUNTBLANK(J598:O598)=14,\"\",\"- ohne Titel -\"),Datenerfassung!D608)","v":""},{"$f":"IF(ISBLANK(Datenerfassung!G608),\"\",Datenerfassung!G608)","v":""},"",{"$f":"IF(ISBLANK(Datenerfassung!X608),\"\",Datenerfassung!X608)","v":""},{"$f":"IF(COUNTBLANK(Datenerfassung!H608:'Datenerfassung'!N608)=7,\"\",CONCATENATE( CONCATENATE(IF(ISBLANK(Datenerfassung!H608),\" \",Datenerfassung!H608 ),\" [IS]\"), CONCATENATE(IF(ISBLANK(Datenerfassung!I608),\" \",Datenerfassung!I608 ),\" [IS]\"), CONCATENATE(IF(ISBLANK(Datenerfassung!J608),\" \",Datenerfassung!J608 ),\" [IS]\"), CONCATENATE(IF(ISBLANK(Datenerfassung!K608),\" \",Datenerfassung!K608 ),\" [IS]\"), CONCATENATE(IF(ISBLANK(Datenerfassung!L608),\" \",Datenerfassung!L608 ),\" [IS]\"), CONCATENATE(IF(ISBLANK(Datenerfassung!M608),\" \",Datenerfassung!M608 ),\" [IS]\"), IF(ISBLANK(Datenerfassung!N608),\" \",Datenerfassung!N608 ) ))","v":""},{"$f":"IF(ISBLANK(Datenerfassung!V608),\"\",Datenerfassung!V608)","v":""},{"$f":"IF(ISBLANK(Datenerfassung!Q608),\"\",Datenerfassung!Q608)","v":""}]
[{"$f":"IF(ISBLANK(Datenerfassung!A609),\"\",Datenerfassung!A609)","v":""},{"$f":"IF(ISBLANK(Datenerfassung!B609),\"\",Datenerfassung!B609)","v":""},{"$f":"IF(ISBLANK(Datenerfassung!C609),\"\",Datenerfassung!C609)","v":""},{"$f":"IF(ISBLANK(Datenerfassung!R609),\"\",Datenerfassung!R609)","v":""},{"$f":"IF(ISBLANK(Datenerfassung!S609),\"\",Datenerfassung!S609)","v":""},"",{"$f":"IF(ISBLANK(Datenerfassung!U609),\"\",Datenerfassung!U609)","v":""},{"$f":"IF(ISBLANK(Datenerfassung!O609),\"\",Datenerfassung!O609)","v":""},{"$f":"IF(ISBLANK(Datenerfassung!D609),IF(COUNTBLANK(A599:H599)+COUNTBLANK(J599:O599)=14,\"\",\"- ohne Titel -\"),Datenerfassung!D609)","v":""},{"$f":"IF(ISBLANK(Datenerfassung!G609),\"\",Datenerfassung!G609)","v":""},"",{"$f":"IF(ISBLANK(Datenerfassung!X609),\"\",Datenerfassung!X609)","v":""},{"$f":"IF(COUNTBLANK(Datenerfassung!H609:'Datenerfassung'!N609)=7,\"\",CONCATENATE( CONCATENATE(IF(ISBLANK(Datenerfassung!H609),\" \",Datenerfassung!H609 ),\" [IS]\"), CONCATENATE(IF(ISBLANK(Datenerfassung!I609),\" \",Datenerfassung!I609 ),\" [IS]\"), CONCATENATE(IF(ISBLANK(Datenerfassung!J609),\" \",Datenerfassung!J609 ),\" [IS]\"), CONCATENATE(IF(ISBLANK(Datenerfassung!K609),\" \",Datenerfassung!K609 ),\" [IS]\"), CONCATENATE(IF(ISBLANK(Datenerfassung!L609),\" \",Datenerfassung!L609 ),\" [IS]\"), CONCATENATE(IF(ISBLANK(Datenerfassung!M609),\" \",Datenerfassung!M609 ),\" [IS]\"), IF(ISBLANK(Datenerfassung!N609),\" \",Datenerfassung!N609 ) ))","v":""},{"$f":"IF(ISBLANK(Datenerfassung!V609),\"\",Datenerfassung!V609)","v":""},{"$f":"IF(ISBLANK(Datenerfassung!Q609),\"\",Datenerfassung!Q609)","v":""}]
[{"$f":"IF(ISBLANK(Datenerfassung!A610),\"\",Datenerfassung!A610)","v":""},{"$f":"IF(ISBLANK(Datenerfassung!B610),\"\",Datenerfassung!B610)","v":""},{"$f":"IF(ISBLANK(Datenerfassung!C610),\"\",Datenerfassung!C610)","v":""},{"$f":"IF(ISBLANK(Datenerfassung!R610),\"\",Datenerfassung!R610)","v":""},{"$f":"IF(ISBLANK(Datenerfassung!S610),\"\",Datenerfassung!S610)","v":""},"",{"$f":"IF(ISBLANK(Datenerfassung!U610),\"\",Datenerfassung!U610)","v":""},{"$f":"IF(ISBLANK(Datenerfassung!O610),\"\",Datenerfassung!O610)","v":""},{"$f":"IF(ISBLANK(Datenerfassung!D610),IF(COUNTBLANK(A600:H600)+COUNTBLANK(J600:O600)=14,\"\",\"- ohne Titel -\"),Datenerfassung!D610)","v":""},{"$f":"IF(ISBLANK(Datenerfassung!G610),\"\",Datenerfassung!G610)","v":""},"",{"$f":"IF(ISBLANK(Datenerfassung!X610),\"\",Datenerfassung!X610)","v":""},{"$f":"IF(COUNTBLANK(Datenerfassung!H610:'Datenerfassung'!N610)=7,\"\",CONCATENATE( CONCATENATE(IF(ISBLANK(Datenerfassung!H610),\" \",Datenerfassung!H610 ),\" [IS]\"), CONCATENATE(IF(ISBLANK(Datenerfassung!I610),\" \",Datenerfassung!I610 ),\" [IS]\"), CONCATENATE(IF(ISBLANK(Datenerfassung!J610),\" \",Datenerfassung!J610 ),\" [IS]\"), CONCATENATE(IF(ISBLANK(Datenerfassung!K610),\" \",Datenerfassung!K610 ),\" [IS]\"), CONCATENATE(IF(ISBLANK(Datenerfassung!L610),\" \",Datenerfassung!L610 ),\" [IS]\"), CONCATENATE(IF(ISBLANK(Datenerfassung!M610),\" \",Datenerfassung!M610 ),\" [IS]\"), IF(ISBLANK(Datenerfassung!N610),\" \",Datenerfassung!N610 ) ))","v":""},{"$f":"IF(ISBLANK(Datenerfassung!V610),\"\",Datenerfassung!V610)","v":""},{"$f":"IF(ISBLANK(Datenerfassung!Q610),\"\",Datenerfassung!Q610)","v":""}]
[{"$f":"IF(ISBLANK(Datenerfassung!A611),\"\",Datenerfassung!A611)","v":""},{"$f":"IF(ISBLANK(Datenerfassung!B611),\"\",Datenerfassung!B611)","v":""},{"$f":"IF(ISBLANK(Datenerfassung!C611),\"\",Datenerfassung!C611)","v":""},{"$f":"IF(ISBLANK(Datenerfassung!R611),\"\",Datenerfassung!R611)","v":""},{"$f":"IF(ISBLANK(Datenerfassung!S611),\"\",Datenerfassung!S611)","v":""},"",{"$f":"IF(ISBLANK(Datenerfassung!U611),\"\",Datenerfassung!U611)","v":""},{"$f":"IF(ISBLANK(Datenerfassung!O611),\"\",Datenerfassung!O611)","v":""},{"$f":"IF(ISBLANK(Datenerfassung!D611),IF(COUNTBLANK(A601:H601)+COUNTBLANK(J601:O601)=14,\"\",\"- ohne Titel -\"),Datenerfassung!D611)","v":""},{"$f":"IF(ISBLANK(Datenerfassung!G611),\"\",Datenerfassung!G611)","v":""},"",{"$f":"IF(ISBLANK(Datenerfassung!X611),\"\",Datenerfassung!X611)","v":""},{"$f":"IF(COUNTBLANK(Datenerfassung!H611:'Datenerfassung'!N611)=7,\"\",CONCATENATE( CONCATENATE(IF(ISBLANK(Datenerfassung!H611),\" \",Datenerfassung!H611 ),\" [IS]\"), CONCATENATE(IF(ISBLANK(Datenerfassung!I611),\" \",Datenerfassung!I611 ),\" [IS]\"), CONCATENATE(IF(ISBLANK(Datenerfassung!J611),\" \",Datenerfassung!J611 ),\" [IS]\"), CONCATENATE(IF(ISBLANK(Datenerfassung!K611),\" \",Datenerfassung!K611 ),\" [IS]\"), CONCATENATE(IF(ISBLANK(Datenerfassung!L611),\" \",Datenerfassung!L611 ),\" [IS]\"), CONCATENATE(IF(ISBLANK(Datenerfassung!M611),\" \",Datenerfassung!M611 ),\" [IS]\"), IF(ISBLANK(Datenerfassung!N611),\" \",Datenerfassung!N611 ) ))","v":""},{"$f":"IF(ISBLANK(Datenerfassung!V611),\"\",Datenerfassung!V611)","v":""},{"$f":"IF(ISBLANK(Datenerfassung!Q611),\"\",Datenerfassung!Q611)","v":""}]
[{"$f":"IF(ISBLANK(Datenerfassung!A612),\"\",Datenerfassung!A612)","v":""},{"$f":"IF(ISBLANK(Datenerfassung!B612),\"\",Datenerfassung!B612)","v":""},{"$f":"IF(ISBLANK(Datenerfassung!C612),\"\",Datenerfassung!C612)","v":""},{"$f":"IF(ISBLANK(Datenerfassung!R612),\"\",Datenerfassung!R612)","v":""},{"$f":"IF(ISBLANK(Datenerfassung!S612),\"\",Datenerfassung!S612)","v":""},"",{"$f":"IF(ISBLANK(Datenerfassung!U612),\"\",Datenerfassung!U612)","v":""},{"$f":"IF(ISBLANK(Datenerfassung!O612),\"\",Datenerfassung!O612)","v":""},{"$f":"IF(ISBLANK(Datenerfassung!D612),IF(COUNTBLANK(A602:H602)+COUNTBLANK(J602:O602)=14,\"\",\"- ohne Titel -\"),Datenerfassung!D612)","v":""},{"$f":"IF(ISBLANK(Datenerfassung!G612),\"\",Datenerfassung!G612)","v":""},"",{"$f":"IF(ISBLANK(Datenerfassung!X612),\"\",Datenerfassung!X612)","v":""},{"$f":"IF(COUNTBLANK(Datenerfassung!H612:'Datenerfassung'!N612)=7,\"\",CONCATENATE( CONCATENATE(IF(ISBLANK(Datenerfassung!H612),\" \",Datenerfassung!H612 ),\" [IS]\"), CONCATENATE(IF(ISBLANK(Datenerfassung!I612),\" \",Datenerfassung!I612 ),\" [IS]\"), CONCATENATE(IF(ISBLANK(Datenerfassung!J612),\" \",Datenerfassung!J612 ),\" [IS]\"), CONCATENATE(IF(ISBLANK(Datenerfassung!K612),\" \",Datenerfassung!K612 ),\" [IS]\"), CONCATENATE(IF(ISBLANK(Datenerfassung!L612),\" \",Datenerfassung!L612 ),\" [IS]\"), CONCATENATE(IF(ISBLANK(Datenerfassung!M612),\" \",Datenerfassung!M612 ),\" [IS]\"), IF(ISBLANK(Datenerfassung!N612),\" \",Datenerfassung!N612 ) ))","v":""},{"$f":"IF(ISBLANK(Datenerfassung!V612),\"\",Datenerfassung!V612)","v":""},{"$f":"IF(ISBLANK(Datenerfassung!Q612),\"\",Datenerfassung!Q612)","v":""}]
[{"$f":"IF(ISBLANK(Datenerfassung!A613),\"\",Datenerfassung!A613)","v":""},{"$f":"IF(ISBLANK(Datenerfassung!B613),\"\",Datenerfassung!B613)","v":""},{"$f":"IF(ISBLANK(Datenerfassung!C613),\"\",Datenerfassung!C613)","v":""},{"$f":"IF(ISBLANK(Datenerfassung!R613),\"\",Datenerfassung!R613)","v":""},{"$f":"IF(ISBLANK(Datenerfassung!S613),\"\",Datenerfassung!S613)","v":""},"",{"$f":"IF(ISBLANK(Datenerfassung!U613),\"\",Datenerfassung!U613)","v":""},{"$f":"IF(ISBLANK(Datenerfassung!O613),\"\",Datenerfassung!O613)","v":""},{"$f":"IF(ISBLANK(Datenerfassung!D613),IF(COUNTBLANK(A603:H603)+COUNTBLANK(J603:O603)=14,\"\",\"- ohne Titel -\"),Datenerfassung!D613)","v":""},{"$f":"IF(ISBLANK(Datenerfassung!G613),\"\",Datenerfassung!G613)","v":""},"",{"$f":"IF(ISBLANK(Datenerfassung!X613),\"\",Datenerfassung!X613)","v":""},{"$f":"IF(COUNTBLANK(Datenerfassung!H613:'Datenerfassung'!N613)=7,\"\",CONCATENATE( CONCATENATE(IF(ISBLANK(Datenerfassung!H613),\" \",Datenerfassung!H613 ),\" [IS]\"), CONCATENATE(IF(ISBLANK(Datenerfassung!I613),\" \",Datenerfassung!I613 ),\" [IS]\"), CONCATENATE(IF(ISBLANK(Datenerfassung!J613),\" \",Datenerfassung!J613 ),\" [IS]\"), CONCATENATE(IF(ISBLANK(Datenerfassung!K613),\" \",Datenerfassung!K613 ),\" [IS]\"), CONCATENATE(IF(ISBLANK(Datenerfassung!L613),\" \",Datenerfassung!L613 ),\" [IS]\"), CONCATENATE(IF(ISBLANK(Datenerfassung!M613),\" \",Datenerfassung!M613 ),\" [IS]\"), IF(ISBLANK(Datenerfassung!N613),\" \",Datenerfassung!N613 ) ))","v":""},{"$f":"IF(ISBLANK(Datenerfassung!V613),\"\",Datenerfassung!V613)","v":""},{"$f":"IF(ISBLANK(Datenerfassung!Q613),\"\",Datenerfassung!Q613)","v":""}]
[{"$f":"IF(ISBLANK(Datenerfassung!A614),\"\",Datenerfassung!A614)","v":""},{"$f":"IF(ISBLANK(Datenerfassung!B614),\"\",Datenerfassung!B614)","v":""},{"$f":"IF(ISBLANK(Datenerfassung!C614),\"\",Datenerfassung!C614)","v":""},{"$f":"IF(ISBLANK(Datenerfassung!R614),\"\",Datenerfassung!R614)","v":""},{"$f":"IF(ISBLANK(Datenerfassung!S614),\"\",Datenerfassung!S614)","v":""},"",{"$f":"IF(ISBLANK(Datenerfassung!U614),\"\",Datenerfassung!U614)","v":""},{"$f":"IF(ISBLANK(Datenerfassung!O614),\"\",Datenerfassung!O614)","v":""},{"$f":"IF(ISBLANK(Datenerfassung!D614),IF(COUNTBLANK(A604:H604)+COUNTBLANK(J604:O604)=14,\"\",\"- ohne Titel -\"),Datenerfassung!D614)","v":""},{"$f":"IF(ISBLANK(Datenerfassung!G614),\"\",Datenerfassung!G614)","v":""},"",{"$f":"IF(ISBLANK(Datenerfassung!X614),\"\",Datenerfassung!X614)","v":""},{"$f":"IF(COUNTBLANK(Datenerfassung!H614:'Datenerfassung'!N614)=7,\"\",CONCATENATE( CONCATENATE(IF(ISBLANK(Datenerfassung!H614),\" \",Datenerfassung!H614 ),\" [IS]\"), CONCATENATE(IF(ISBLANK(Datenerfassung!I614),\" \",Datenerfassung!I614 ),\" [IS]\"), CONCATENATE(IF(ISBLANK(Datenerfassung!J614),\" \",Datenerfassung!J614 ),\" [IS]\"), CONCATENATE(IF(ISBLANK(Datenerfassung!K614),\" \",Datenerfassung!K614 ),\" [IS]\"), CONCATENATE(IF(ISBLANK(Datenerfassung!L614),\" \",Datenerfassung!L614 ),\" [IS]\"), CONCATENATE(IF(ISBLANK(Datenerfassung!M614),\" \",Datenerfassung!M614 ),\" [IS]\"), IF(ISBLANK(Datenerfassung!N614),\" \",Datenerfassung!N614 ) ))","v":""},{"$f":"IF(ISBLANK(Datenerfassung!V614),\"\",Datenerfassung!V614)","v":""},{"$f":"IF(ISBLANK(Datenerfassung!Q614),\"\",Datenerfassung!Q614)","v":""}]
[{"$f":"IF(ISBLANK(Datenerfassung!A615),\"\",Datenerfassung!A615)","v":""},{"$f":"IF(ISBLANK(Datenerfassung!B615),\"\",Datenerfassung!B615)","v":""},{"$f":"IF(ISBLANK(Datenerfassung!C615),\"\",Datenerfassung!C615)","v":""},{"$f":"IF(ISBLANK(Datenerfassung!R615),\"\",Datenerfassung!R615)","v":""},{"$f":"IF(ISBLANK(Datenerfassung!S615),\"\",Datenerfassung!S615)","v":""},"",{"$f":"IF(ISBLANK(Datenerfassung!U615),\"\",Datenerfassung!U615)","v":""},{"$f":"IF(ISBLANK(Datenerfassung!O615),\"\",Datenerfassung!O615)","v":""},{"$f":"IF(ISBLANK(Datenerfassung!D615),IF(COUNTBLANK(A605:H605)+COUNTBLANK(J605:O605)=14,\"\",\"- ohne Titel -\"),Datenerfassung!D615)","v":""},{"$f":"IF(ISBLANK(Datenerfassung!G615),\"\",Datenerfassung!G615)","v":""},"",{"$f":"IF(ISBLANK(Datenerfassung!X615),\"\",Datenerfassung!X615)","v":""},{"$f":"IF(COUNTBLANK(Datenerfassung!H615:'Datenerfassung'!N615)=7,\"\",CONCATENATE( CONCATENATE(IF(ISBLANK(Datenerfassung!H615),\" \",Datenerfassung!H615 ),\" [IS]\"), CONCATENATE(IF(ISBLANK(Datenerfassung!I615),\" \",Datenerfassung!I615 ),\" [IS]\"), CONCATENATE(IF(ISBLANK(Datenerfassung!J615),\" \",Datenerfassung!J615 ),\" [IS]\"), CONCATENATE(IF(ISBLANK(Datenerfassung!K615),\" \",Datenerfassung!K615 ),\" [IS]\"), CONCATENATE(IF(ISBLANK(Datenerfassung!L615),\" \",Datenerfassung!L615 ),\" [IS]\"), CONCATENATE(IF(ISBLANK(Datenerfassung!M615),\" \",Datenerfassung!M615 ),\" [IS]\"), IF(ISBLANK(Datenerfassung!N615),\" \",Datenerfassung!N615 ) ))","v":""},{"$f":"IF(ISBLANK(Datenerfassung!V615),\"\",Datenerfassung!V615)","v":""},{"$f":"IF(ISBLANK(Datenerfassung!Q615),\"\",Datenerfassung!Q615)","v":""}]
[{"$f":"IF(ISBLANK(Datenerfassung!A616),\"\",Datenerfassung!A616)","v":""},{"$f":"IF(ISBLANK(Datenerfassung!B616),\"\",Datenerfassung!B616)","v":""},{"$f":"IF(ISBLANK(Datenerfassung!C616),\"\",Datenerfassung!C616)","v":""},{"$f":"IF(ISBLANK(Datenerfassung!R616),\"\",Datenerfassung!R616)","v":""},{"$f":"IF(ISBLANK(Datenerfassung!S616),\"\",Datenerfassung!S616)","v":""},"",{"$f":"IF(ISBLANK(Datenerfassung!U616),\"\",Datenerfassung!U616)","v":""},{"$f":"IF(ISBLANK(Datenerfassung!O616),\"\",Datenerfassung!O616)","v":""},{"$f":"IF(ISBLANK(Datenerfassung!D616),IF(COUNTBLANK(A606:H606)+COUNTBLANK(J606:O606)=14,\"\",\"- ohne Titel -\"),Datenerfassung!D616)","v":""},{"$f":"IF(ISBLANK(Datenerfassung!G616),\"\",Datenerfassung!G616)","v":""},"",{"$f":"IF(ISBLANK(Datenerfassung!X616),\"\",Datenerfassung!X616)","v":""},{"$f":"IF(COUNTBLANK(Datenerfassung!H616:'Datenerfassung'!N616)=7,\"\",CONCATENATE( CONCATENATE(IF(ISBLANK(Datenerfassung!H616),\" \",Datenerfassung!H616 ),\" [IS]\"), CONCATENATE(IF(ISBLANK(Datenerfassung!I616),\" \",Datenerfassung!I616 ),\" [IS]\"), CONCATENATE(IF(ISBLANK(Datenerfassung!J616),\" \",Datenerfassung!J616 ),\" [IS]\"), CONCATENATE(IF(ISBLANK(Datenerfassung!K616),\" \",Datenerfassung!K616 ),\" [IS]\"), CONCATENATE(IF(ISBLANK(Datenerfassung!L616),\" \",Datenerfassung!L616 ),\" [IS]\"), CONCATENATE(IF(ISBLANK(Datenerfassung!M616),\" \",Datenerfassung!M616 ),\" [IS]\"), IF(ISBLANK(Datenerfassung!N616),\" \",Datenerfassung!N616 ) ))","v":""},{"$f":"IF(ISBLANK(Datenerfassung!V616),\"\",Datenerfassung!V616)","v":""},{"$f":"IF(ISBLANK(Datenerfassung!Q616),\"\",Datenerfassung!Q616)","v":""}]
[{"$f":"IF(ISBLANK(Datenerfassung!A617),\"\",Datenerfassung!A617)","v":""},{"$f":"IF(ISBLANK(Datenerfassung!B617),\"\",Datenerfassung!B617)","v":""},{"$f":"IF(ISBLANK(Datenerfassung!C617),\"\",Datenerfassung!C617)","v":""},{"$f":"IF(ISBLANK(Datenerfassung!R617),\"\",Datenerfassung!R617)","v":""},{"$f":"IF(ISBLANK(Datenerfassung!S617),\"\",Datenerfassung!S617)","v":""},"",{"$f":"IF(ISBLANK(Datenerfassung!U617),\"\",Datenerfassung!U617)","v":""},{"$f":"IF(ISBLANK(Datenerfassung!O617),\"\",Datenerfassung!O617)","v":""},{"$f":"IF(ISBLANK(Datenerfassung!D617),IF(COUNTBLANK(A607:H607)+COUNTBLANK(J607:O607)=14,\"\",\"- ohne Titel -\"),Datenerfassung!D617)","v":""},{"$f":"IF(ISBLANK(Datenerfassung!G617),\"\",Datenerfassung!G617)","v":""},"",{"$f":"IF(ISBLANK(Datenerfassung!X617),\"\",Datenerfassung!X617)","v":""},{"$f":"IF(COUNTBLANK(Datenerfassung!H617:'Datenerfassung'!N617)=7,\"\",CONCATENATE( CONCATENATE(IF(ISBLANK(Datenerfassung!H617),\" \",Datenerfassung!H617 ),\" [IS]\"), CONCATENATE(IF(ISBLANK(Datenerfassung!I617),\" \",Datenerfassung!I617 ),\" [IS]\"), CONCATENATE(IF(ISBLANK(Datenerfassung!J617),\" \",Datenerfassung!J617 ),\" [IS]\"), CONCATENATE(IF(ISBLANK(Datenerfassung!K617),\" \",Datenerfassung!K617 ),\" [IS]\"), CONCATENATE(IF(ISBLANK(Datenerfassung!L617),\" \",Datenerfassung!L617 ),\" [IS]\"), CONCATENATE(IF(ISBLANK(Datenerfassung!M617),\" \",Datenerfassung!M617 ),\" [IS]\"), IF(ISBLANK(Datenerfassung!N617),\" \",Datenerfassung!N617 ) ))","v":""},{"$f":"IF(ISBLANK(Datenerfassung!V617),\"\",Datenerfassung!V617)","v":""},{"$f":"IF(ISBLANK(Datenerfassung!Q617),\"\",Datenerfassung!Q617)","v":""}]
[{"$f":"IF(ISBLANK(Datenerfassung!A618),\"\",Datenerfassung!A618)","v":""},{"$f":"IF(ISBLANK(Datenerfassung!B618),\"\",Datenerfassung!B618)","v":""},{"$f":"IF(ISBLANK(Datenerfassung!C618),\"\",Datenerfassung!C618)","v":""},{"$f":"IF(ISBLANK(Datenerfassung!R618),\"\",Datenerfassung!R618)","v":""},{"$f":"IF(ISBLANK(Datenerfassung!S618),\"\",Datenerfassung!S618)","v":""},"",{"$f":"IF(ISBLANK(Datenerfassung!U618),\"\",Datenerfassung!U618)","v":""},{"$f":"IF(ISBLANK(Datenerfassung!O618),\"\",Datenerfassung!O618)","v":""},{"$f":"IF(ISBLANK(Datenerfassung!D618),IF(COUNTBLANK(A608:H608)+COUNTBLANK(J608:O608)=14,\"\",\"- ohne Titel -\"),Datenerfassung!D618)","v":""},{"$f":"IF(ISBLANK(Datenerfassung!G618),\"\",Datenerfassung!G618)","v":""},"",{"$f":"IF(ISBLANK(Datenerfassung!X618),\"\",Datenerfassung!X618)","v":""},{"$f":"IF(COUNTBLANK(Datenerfassung!H618:'Datenerfassung'!N618)=7,\"\",CONCATENATE( CONCATENATE(IF(ISBLANK(Datenerfassung!H618),\" \",Datenerfassung!H618 ),\" [IS]\"), CONCATENATE(IF(ISBLANK(Datenerfassung!I618),\" \",Datenerfassung!I618 ),\" [IS]\"), CONCATENATE(IF(ISBLANK(Datenerfassung!J618),\" \",Datenerfassung!J618 ),\" [IS]\"), CONCATENATE(IF(ISBLANK(Datenerfassung!K618),\" \",Datenerfassung!K618 ),\" [IS]\"), CONCATENATE(IF(ISBLANK(Datenerfassung!L618),\" \",Datenerfassung!L618 ),\" [IS]\"), CONCATENATE(IF(ISBLANK(Datenerfassung!M618),\" \",Datenerfassung!M618 ),\" [IS]\"), IF(ISBLANK(Datenerfassung!N618),\" \",Datenerfassung!N618 ) ))","v":""},{"$f":"IF(ISBLANK(Datenerfassung!V618),\"\",Datenerfassung!V618)","v":""},{"$f":"IF(ISBLANK(Datenerfassung!Q618),\"\",Datenerfassung!Q618)","v":""}]
[{"$f":"IF(ISBLANK(Datenerfassung!A619),\"\",Datenerfassung!A619)","v":""},{"$f":"IF(ISBLANK(Datenerfassung!B619),\"\",Datenerfassung!B619)","v":""},{"$f":"IF(ISBLANK(Datenerfassung!C619),\"\",Datenerfassung!C619)","v":""},{"$f":"IF(ISBLANK(Datenerfassung!R619),\"\",Datenerfassung!R619)","v":""},{"$f":"IF(ISBLANK(Datenerfassung!S619),\"\",Datenerfassung!S619)","v":""},"",{"$f":"IF(ISBLANK(Datenerfassung!U619),\"\",Datenerfassung!U619)","v":""},{"$f":"IF(ISBLANK(Datenerfassung!O619),\"\",Datenerfassung!O619)","v":""},{"$f":"IF(ISBLANK(Datenerfassung!D619),IF(COUNTBLANK(A609:H609)+COUNTBLANK(J609:O609)=14,\"\",\"- ohne Titel -\"),Datenerfassung!D619)","v":""},{"$f":"IF(ISBLANK(Datenerfassung!G619),\"\",Datenerfassung!G619)","v":""},"",{"$f":"IF(ISBLANK(Datenerfassung!X619),\"\",Datenerfassung!X619)","v":""},{"$f":"IF(COUNTBLANK(Datenerfassung!H619:'Datenerfassung'!N619)=7,\"\",CONCATENATE( CONCATENATE(IF(ISBLANK(Datenerfassung!H619),\" \",Datenerfassung!H619 ),\" [IS]\"), CONCATENATE(IF(ISBLANK(Datenerfassung!I619),\" \",Datenerfassung!I619 ),\" [IS]\"), CONCATENATE(IF(ISBLANK(Datenerfassung!J619),\" \",Datenerfassung!J619 ),\" [IS]\"), CONCATENATE(IF(ISBLANK(Datenerfassung!K619),\" \",Datenerfassung!K619 ),\" [IS]\"), CONCATENATE(IF(ISBLANK(Datenerfassung!L619),\" \",Datenerfassung!L619 ),\" [IS]\"), CONCATENATE(IF(ISBLANK(Datenerfassung!M619),\" \",Datenerfassung!M619 ),\" [IS]\"), IF(ISBLANK(Datenerfassung!N619),\" \",Datenerfassung!N619 ) ))","v":""},{"$f":"IF(ISBLANK(Datenerfassung!V619),\"\",Datenerfassung!V619)","v":""},{"$f":"IF(ISBLANK(Datenerfassung!Q619),\"\",Datenerfassung!Q619)","v":""}]
[{"$f":"IF(ISBLANK(Datenerfassung!A620),\"\",Datenerfassung!A620)","v":""},{"$f":"IF(ISBLANK(Datenerfassung!B620),\"\",Datenerfassung!B620)","v":""},{"$f":"IF(ISBLANK(Datenerfassung!C620),\"\",Datenerfassung!C620)","v":""},{"$f":"IF(ISBLANK(Datenerfassung!R620),\"\",Datenerfassung!R620)","v":""},{"$f":"IF(ISBLANK(Datenerfassung!S620),\"\",Datenerfassung!S620)","v":""},"",{"$f":"IF(ISBLANK(Datenerfassung!U620),\"\",Datenerfassung!U620)","v":""},{"$f":"IF(ISBLANK(Datenerfassung!O620),\"\",Datenerfassung!O620)","v":""},{"$f":"IF(ISBLANK(Datenerfassung!D620),IF(COUNTBLANK(A610:H610)+COUNTBLANK(J610:O610)=14,\"\",\"- ohne Titel -\"),Datenerfassung!D620)","v":""},{"$f":"IF(ISBLANK(Datenerfassung!G620),\"\",Datenerfassung!G620)","v":""},"",{"$f":"IF(ISBLANK(Datenerfassung!X620),\"\",Datenerfassung!X620)","v":""},{"$f":"IF(COUNTBLANK(Datenerfassung!H620:'Datenerfassung'!N620)=7,\"\",CONCATENATE( CONCATENATE(IF(ISBLANK(Datenerfassung!H620),\" \",Datenerfassung!H620 ),\" [IS]\"), CONCATENATE(IF(ISBLANK(Datenerfassung!I620),\" \",Datenerfassung!I620 ),\" [IS]\"), CONCATENATE(IF(ISBLANK(Datenerfassung!J620),\" \",Datenerfassung!J620 ),\" [IS]\"), CONCATENATE(IF(ISBLANK(Datenerfassung!K620),\" \",Datenerfassung!K620 ),\" [IS]\"), CONCATENATE(IF(ISBLANK(Datenerfassung!L620),\" \",Datenerfassung!L620 ),\" [IS]\"), CONCATENATE(IF(ISBLANK(Datenerfassung!M620),\" \",Datenerfassung!M620 ),\" [IS]\"), IF(ISBLANK(Datenerfassung!N620),\" \",Datenerfassung!N620 ) ))","v":""},{"$f":"IF(ISBLANK(Datenerfassung!V620),\"\",Datenerfassung!V620)","v":""},{"$f":"IF(ISBLANK(Datenerfassung!Q620),\"\",Datenerfassung!Q620)","v":""}]
[{"$f":"IF(ISBLANK(Datenerfassung!A621),\"\",Datenerfassung!A621)","v":""},{"$f":"IF(ISBLANK(Datenerfassung!B621),\"\",Datenerfassung!B621)","v":""},{"$f":"IF(ISBLANK(Datenerfassung!C621),\"\",Datenerfassung!C621)","v":""},{"$f":"IF(ISBLANK(Datenerfassung!R621),\"\",Datenerfassung!R621)","v":""},{"$f":"IF(ISBLANK(Datenerfassung!S621),\"\",Datenerfassung!S621)","v":""},"",{"$f":"IF(ISBLANK(Datenerfassung!U621),\"\",Datenerfassung!U621)","v":""},{"$f":"IF(ISBLANK(Datenerfassung!O621),\"\",Datenerfassung!O621)","v":""},{"$f":"IF(ISBLANK(Datenerfassung!D621),IF(COUNTBLANK(A611:H611)+COUNTBLANK(J611:O611)=14,\"\",\"- ohne Titel -\"),Datenerfassung!D621)","v":""},{"$f":"IF(ISBLANK(Datenerfassung!G621),\"\",Datenerfassung!G621)","v":""},"",{"$f":"IF(ISBLANK(Datenerfassung!X621),\"\",Datenerfassung!X621)","v":""},{"$f":"IF(COUNTBLANK(Datenerfassung!H621:'Datenerfassung'!N621)=7,\"\",CONCATENATE( CONCATENATE(IF(ISBLANK(Datenerfassung!H621),\" \",Datenerfassung!H621 ),\" [IS]\"), CONCATENATE(IF(ISBLANK(Datenerfassung!I621),\" \",Datenerfassung!I621 ),\" [IS]\"), CONCATENATE(IF(ISBLANK(Datenerfassung!J621),\" \",Datenerfassung!J621 ),\" [IS]\"), CONCATENATE(IF(ISBLANK(Datenerfassung!K621),\" \",Datenerfassung!K621 ),\" [IS]\"), CONCATENATE(IF(ISBLANK(Datenerfassung!L621),\" \",Datenerfassung!L621 ),\" [IS]\"), CONCATENATE(IF(ISBLANK(Datenerfassung!M621),\" \",Datenerfassung!M621 ),\" [IS]\"), IF(ISBLANK(Datenerfassung!N621),\" \",Datenerfassung!N621 ) ))","v":""},{"$f":"IF(ISBLANK(Datenerfassung!V621),\"\",Datenerfassung!V621)","v":""},{"$f":"IF(ISBLANK(Datenerfassung!Q621),\"\",Datenerfassung!Q621)","v":""}]
[{"$f":"IF(ISBLANK(Datenerfassung!A622),\"\",Datenerfassung!A622)","v":""},{"$f":"IF(ISBLANK(Datenerfassung!B622),\"\",Datenerfassung!B622)","v":""},{"$f":"IF(ISBLANK(Datenerfassung!C622),\"\",Datenerfassung!C622)","v":""},{"$f":"IF(ISBLANK(Datenerfassung!R622),\"\",Datenerfassung!R622)","v":""},{"$f":"IF(ISBLANK(Datenerfassung!S622),\"\",Datenerfassung!S622)","v":""},"",{"$f":"IF(ISBLANK(Datenerfassung!U622),\"\",Datenerfassung!U622)","v":""},{"$f":"IF(ISBLANK(Datenerfassung!O622),\"\",Datenerfassung!O622)","v":""},{"$f":"IF(ISBLANK(Datenerfassung!D622),IF(COUNTBLANK(A612:H612)+COUNTBLANK(J612:O612)=14,\"\",\"- ohne Titel -\"),Datenerfassung!D622)","v":""},{"$f":"IF(ISBLANK(Datenerfassung!G622),\"\",Datenerfassung!G622)","v":""},"",{"$f":"IF(ISBLANK(Datenerfassung!X622),\"\",Datenerfassung!X622)","v":""},{"$f":"IF(COUNTBLANK(Datenerfassung!H622:'Datenerfassung'!N622)=7,\"\",CONCATENATE( CONCATENATE(IF(ISBLANK(Datenerfassung!H622),\" \",Datenerfassung!H622 ),\" [IS]\"), CONCATENATE(IF(ISBLANK(Datenerfassung!I622),\" \",Datenerfassung!I622 ),\" [IS]\"), CONCATENATE(IF(ISBLANK(Datenerfassung!J622),\" \",Datenerfassung!J622 ),\" [IS]\"), CONCATENATE(IF(ISBLANK(Datenerfassung!K622),\" \",Datenerfassung!K622 ),\" [IS]\"), CONCATENATE(IF(ISBLANK(Datenerfassung!L622),\" \",Datenerfassung!L622 ),\" [IS]\"), CONCATENATE(IF(ISBLANK(Datenerfassung!M622),\" \",Datenerfassung!M622 ),\" [IS]\"), IF(ISBLANK(Datenerfassung!N622),\" \",Datenerfassung!N622 ) ))","v":""},{"$f":"IF(ISBLANK(Datenerfassung!V622),\"\",Datenerfassung!V622)","v":""},{"$f":"IF(ISBLANK(Datenerfassung!Q622),\"\",Datenerfassung!Q622)","v":""}]
[{"$f":"IF(ISBLANK(Datenerfassung!A623),\"\",Datenerfassung!A623)","v":""},{"$f":"IF(ISBLANK(Datenerfassung!B623),\"\",Datenerfassung!B623)","v":""},{"$f":"IF(ISBLANK(Datenerfassung!C623),\"\",Datenerfassung!C623)","v":""},{"$f":"IF(ISBLANK(Datenerfassung!R623),\"\",Datenerfassung!R623)","v":""},{"$f":"IF(ISBLANK(Datenerfassung!S623),\"\",Datenerfassung!S623)","v":""},"",{"$f":"IF(ISBLANK(Datenerfassung!U623),\"\",Datenerfassung!U623)","v":""},{"$f":"IF(ISBLANK(Datenerfassung!O623),\"\",Datenerfassung!O623)","v":""},{"$f":"IF(ISBLANK(Datenerfassung!D623),IF(COUNTBLANK(A613:H613)+COUNTBLANK(J613:O613)=14,\"\",\"- ohne Titel -\"),Datenerfassung!D623)","v":""},{"$f":"IF(ISBLANK(Datenerfassung!G623),\"\",Datenerfassung!G623)","v":""},"",{"$f":"IF(ISBLANK(Datenerfassung!X623),\"\",Datenerfassung!X623)","v":""},{"$f":"IF(COUNTBLANK(Datenerfassung!H623:'Datenerfassung'!N623)=7,\"\",CONCATENATE( CONCATENATE(IF(ISBLANK(Datenerfassung!H623),\" \",Datenerfassung!H623 ),\" [IS]\"), CONCATENATE(IF(ISBLANK(Datenerfassung!I623),\" \",Datenerfassung!I623 ),\" [IS]\"), CONCATENATE(IF(ISBLANK(Datenerfassung!J623),\" \",Datenerfassung!J623 ),\" [IS]\"), CONCATENATE(IF(ISBLANK(Datenerfassung!K623),\" \",Datenerfassung!K623 ),\" [IS]\"), CONCATENATE(IF(ISBLANK(Datenerfassung!L623),\" \",Datenerfassung!L623 ),\" [IS]\"), CONCATENATE(IF(ISBLANK(Datenerfassung!M623),\" \",Datenerfassung!M623 ),\" [IS]\"), IF(ISBLANK(Datenerfassung!N623),\" \",Datenerfassung!N623 ) ))","v":""},{"$f":"IF(ISBLANK(Datenerfassung!V623),\"\",Datenerfassung!V623)","v":""},{"$f":"IF(ISBLANK(Datenerfassung!Q623),\"\",Datenerfassung!Q623)","v":""}]
[{"$f":"IF(ISBLANK(Datenerfassung!A624),\"\",Datenerfassung!A624)","v":""},{"$f":"IF(ISBLANK(Datenerfassung!B624),\"\",Datenerfassung!B624)","v":""},{"$f":"IF(ISBLANK(Datenerfassung!C624),\"\",Datenerfassung!C624)","v":""},{"$f":"IF(ISBLANK(Datenerfassung!R624),\"\",Datenerfassung!R624)","v":""},{"$f":"IF(ISBLANK(Datenerfassung!S624),\"\",Datenerfassung!S624)","v":""},"",{"$f":"IF(ISBLANK(Datenerfassung!U624),\"\",Datenerfassung!U624)","v":""},{"$f":"IF(ISBLANK(Datenerfassung!O624),\"\",Datenerfassung!O624)","v":""},{"$f":"IF(ISBLANK(Datenerfassung!D624),IF(COUNTBLANK(A614:H614)+COUNTBLANK(J614:O614)=14,\"\",\"- ohne Titel -\"),Datenerfassung!D624)","v":""},{"$f":"IF(ISBLANK(Datenerfassung!G624),\"\",Datenerfassung!G624)","v":""},"",{"$f":"IF(ISBLANK(Datenerfassung!X624),\"\",Datenerfassung!X624)","v":""},{"$f":"IF(COUNTBLANK(Datenerfassung!H624:'Datenerfassung'!N624)=7,\"\",CONCATENATE( CONCATENATE(IF(ISBLANK(Datenerfassung!H624),\" \",Datenerfassung!H624 ),\" [IS]\"), CONCATENATE(IF(ISBLANK(Datenerfassung!I624),\" \",Datenerfassung!I624 ),\" [IS]\"), CONCATENATE(IF(ISBLANK(Datenerfassung!J624),\" \",Datenerfassung!J624 ),\" [IS]\"), CONCATENATE(IF(ISBLANK(Datenerfassung!K624),\" \",Datenerfassung!K624 ),\" [IS]\"), CONCATENATE(IF(ISBLANK(Datenerfassung!L624),\" \",Datenerfassung!L624 ),\" [IS]\"), CONCATENATE(IF(ISBLANK(Datenerfassung!M624),\" \",Datenerfassung!M624 ),\" [IS]\"), IF(ISBLANK(Datenerfassung!N624),\" \",Datenerfassung!N624 ) ))","v":""},{"$f":"IF(ISBLANK(Datenerfassung!V624),\"\",Datenerfassung!V624)","v":""},{"$f":"IF(ISBLANK(Datenerfassung!Q624),\"\",Datenerfassung!Q624)","v":""}]
[{"$f":"IF(ISBLANK(Datenerfassung!A625),\"\",Datenerfassung!A625)","v":""},{"$f":"IF(ISBLANK(Datenerfassung!B625),\"\",Datenerfassung!B625)","v":""},{"$f":"IF(ISBLANK(Datenerfassung!C625),\"\",Datenerfassung!C625)","v":""},{"$f":"IF(ISBLANK(Datenerfassung!R625),\"\",Datenerfassung!R625)","v":""},{"$f":"IF(ISBLANK(Datenerfassung!S625),\"\",Datenerfassung!S625)","v":""},"",{"$f":"IF(ISBLANK(Datenerfassung!U625),\"\",Datenerfassung!U625)","v":""},{"$f":"IF(ISBLANK(Datenerfassung!O625),\"\",Datenerfassung!O625)","v":""},{"$f":"IF(ISBLANK(Datenerfassung!D625),IF(COUNTBLANK(A615:H615)+COUNTBLANK(J615:O615)=14,\"\",\"- ohne Titel -\"),Datenerfassung!D625)","v":""},{"$f":"IF(ISBLANK(Datenerfassung!G625),\"\",Datenerfassung!G625)","v":""},"",{"$f":"IF(ISBLANK(Datenerfassung!X625),\"\",Datenerfassung!X625)","v":""},{"$f":"IF(COUNTBLANK(Datenerfassung!H625:'Datenerfassung'!N625)=7,\"\",CONCATENATE( CONCATENATE(IF(ISBLANK(Datenerfassung!H625),\" \",Datenerfassung!H625 ),\" [IS]\"), CONCATENATE(IF(ISBLANK(Datenerfassung!I625),\" \",Datenerfassung!I625 ),\" [IS]\"), CONCATENATE(IF(ISBLANK(Datenerfassung!J625),\" \",Datenerfassung!J625 ),\" [IS]\"), CONCATENATE(IF(ISBLANK(Datenerfassung!K625),\" \",Datenerfassung!K625 ),\" [IS]\"), CONCATENATE(IF(ISBLANK(Datenerfassung!L625),\" \",Datenerfassung!L625 ),\" [IS]\"), CONCATENATE(IF(ISBLANK(Datenerfassung!M625),\" \",Datenerfassung!M625 ),\" [IS]\"), IF(ISBLANK(Datenerfassung!N625),\" \",Datenerfassung!N625 ) ))","v":""},{"$f":"IF(ISBLANK(Datenerfassung!V625),\"\",Datenerfassung!V625)","v":""},{"$f":"IF(ISBLANK(Datenerfassung!Q625),\"\",Datenerfassung!Q625)","v":""}]
[{"$f":"IF(ISBLANK(Datenerfassung!A626),\"\",Datenerfassung!A626)","v":""},{"$f":"IF(ISBLANK(Datenerfassung!B626),\"\",Datenerfassung!B626)","v":""},{"$f":"IF(ISBLANK(Datenerfassung!C626),\"\",Datenerfassung!C626)","v":""},{"$f":"IF(ISBLANK(Datenerfassung!R626),\"\",Datenerfassung!R626)","v":""},{"$f":"IF(ISBLANK(Datenerfassung!S626),\"\",Datenerfassung!S626)","v":""},"",{"$f":"IF(ISBLANK(Datenerfassung!U626),\"\",Datenerfassung!U626)","v":""},{"$f":"IF(ISBLANK(Datenerfassung!O626),\"\",Datenerfassung!O626)","v":""},{"$f":"IF(ISBLANK(Datenerfassung!D626),IF(COUNTBLANK(A616:H616)+COUNTBLANK(J616:O616)=14,\"\",\"- ohne Titel -\"),Datenerfassung!D626)","v":""},{"$f":"IF(ISBLANK(Datenerfassung!G626),\"\",Datenerfassung!G626)","v":""},"",{"$f":"IF(ISBLANK(Datenerfassung!X626),\"\",Datenerfassung!X626)","v":""},{"$f":"IF(COUNTBLANK(Datenerfassung!H626:'Datenerfassung'!N626)=7,\"\",CONCATENATE( CONCATENATE(IF(ISBLANK(Datenerfassung!H626),\" \",Datenerfassung!H626 ),\" [IS]\"), CONCATENATE(IF(ISBLANK(Datenerfassung!I626),\" \",Datenerfassung!I626 ),\" [IS]\"), CONCATENATE(IF(ISBLANK(Datenerfassung!J626),\" \",Datenerfassung!J626 ),\" [IS]\"), CONCATENATE(IF(ISBLANK(Datenerfassung!K626),\" \",Datenerfassung!K626 ),\" [IS]\"), CONCATENATE(IF(ISBLANK(Datenerfassung!L626),\" \",Datenerfassung!L626 ),\" [IS]\"), CONCATENATE(IF(ISBLANK(Datenerfassung!M626),\" \",Datenerfassung!M626 ),\" [IS]\"), IF(ISBLANK(Datenerfassung!N626),\" \",Datenerfassung!N626 ) ))","v":""},{"$f":"IF(ISBLANK(Datenerfassung!V626),\"\",Datenerfassung!V626)","v":""},{"$f":"IF(ISBLANK(Datenerfassung!Q626),\"\",Datenerfassung!Q626)","v":""}]
[{"$f":"IF(ISBLANK(Datenerfassung!A627),\"\",Datenerfassung!A627)","v":""},{"$f":"IF(ISBLANK(Datenerfassung!B627),\"\",Datenerfassung!B627)","v":""},{"$f":"IF(ISBLANK(Datenerfassung!C627),\"\",Datenerfassung!C627)","v":""},{"$f":"IF(ISBLANK(Datenerfassung!R627),\"\",Datenerfassung!R627)","v":""},{"$f":"IF(ISBLANK(Datenerfassung!S627),\"\",Datenerfassung!S627)","v":""},"",{"$f":"IF(ISBLANK(Datenerfassung!U627),\"\",Datenerfassung!U627)","v":""},{"$f":"IF(ISBLANK(Datenerfassung!O627),\"\",Datenerfassung!O627)","v":""},{"$f":"IF(ISBLANK(Datenerfassung!D627),IF(COUNTBLANK(A617:H617)+COUNTBLANK(J617:O617)=14,\"\",\"- ohne Titel -\"),Datenerfassung!D627)","v":""},{"$f":"IF(ISBLANK(Datenerfassung!G627),\"\",Datenerfassung!G627)","v":""},"",{"$f":"IF(ISBLANK(Datenerfassung!X627),\"\",Datenerfassung!X627)","v":""},{"$f":"IF(COUNTBLANK(Datenerfassung!H627:'Datenerfassung'!N627)=7,\"\",CONCATENATE( CONCATENATE(IF(ISBLANK(Datenerfassung!H627),\" \",Datenerfassung!H627 ),\" [IS]\"), CONCATENATE(IF(ISBLANK(Datenerfassung!I627),\" \",Datenerfassung!I627 ),\" [IS]\"), CONCATENATE(IF(ISBLANK(Datenerfassung!J627),\" \",Datenerfassung!J627 ),\" [IS]\"), CONCATENATE(IF(ISBLANK(Datenerfassung!K627),\" \",Datenerfassung!K627 ),\" [IS]\"), CONCATENATE(IF(ISBLANK(Datenerfassung!L627),\" \",Datenerfassung!L627 ),\" [IS]\"), CONCATENATE(IF(ISBLANK(Datenerfassung!M627),\" \",Datenerfassung!M627 ),\" [IS]\"), IF(ISBLANK(Datenerfassung!N627),\" \",Datenerfassung!N627 ) ))","v":""},{"$f":"IF(ISBLANK(Datenerfassung!V627),\"\",Datenerfassung!V627)","v":""},{"$f":"IF(ISBLANK(Datenerfassung!Q627),\"\",Datenerfassung!Q627)","v":""}]
[{"$f":"IF(ISBLANK(Datenerfassung!A628),\"\",Datenerfassung!A628)","v":""},{"$f":"IF(ISBLANK(Datenerfassung!B628),\"\",Datenerfassung!B628)","v":""},{"$f":"IF(ISBLANK(Datenerfassung!C628),\"\",Datenerfassung!C628)","v":""},{"$f":"IF(ISBLANK(Datenerfassung!R628),\"\",Datenerfassung!R628)","v":""},{"$f":"IF(ISBLANK(Datenerfassung!S628),\"\",Datenerfassung!S628)","v":""},"",{"$f":"IF(ISBLANK(Datenerfassung!U628),\"\",Datenerfassung!U628)","v":""},{"$f":"IF(ISBLANK(Datenerfassung!O628),\"\",Datenerfassung!O628)","v":""},{"$f":"IF(ISBLANK(Datenerfassung!D628),IF(COUNTBLANK(A618:H618)+COUNTBLANK(J618:O618)=14,\"\",\"- ohne Titel -\"),Datenerfassung!D628)","v":""},{"$f":"IF(ISBLANK(Datenerfassung!G628),\"\",Datenerfassung!G628)","v":""},"",{"$f":"IF(ISBLANK(Datenerfassung!X628),\"\",Datenerfassung!X628)","v":""},{"$f":"IF(COUNTBLANK(Datenerfassung!H628:'Datenerfassung'!N628)=7,\"\",CONCATENATE( CONCATENATE(IF(ISBLANK(Datenerfassung!H628),\" \",Datenerfassung!H628 ),\" [IS]\"), CONCATENATE(IF(ISBLANK(Datenerfassung!I628),\" \",Datenerfassung!I628 ),\" [IS]\"), CONCATENATE(IF(ISBLANK(Datenerfassung!J628),\" \",Datenerfassung!J628 ),\" [IS]\"), CONCATENATE(IF(ISBLANK(Datenerfassung!K628),\" \",Datenerfassung!K628 ),\" [IS]\"), CONCATENATE(IF(ISBLANK(Datenerfassung!L628),\" \",Datenerfassung!L628 ),\" [IS]\"), CONCATENATE(IF(ISBLANK(Datenerfassung!M628),\" \",Datenerfassung!M628 ),\" [IS]\"), IF(ISBLANK(Datenerfassung!N628),\" \",Datenerfassung!N628 ) ))","v":""},{"$f":"IF(ISBLANK(Datenerfassung!V628),\"\",Datenerfassung!V628)","v":""},{"$f":"IF(ISBLANK(Datenerfassung!Q628),\"\",Datenerfassung!Q628)","v":""}]
[{"$f":"IF(ISBLANK(Datenerfassung!A629),\"\",Datenerfassung!A629)","v":""},{"$f":"IF(ISBLANK(Datenerfassung!B629),\"\",Datenerfassung!B629)","v":""},{"$f":"IF(ISBLANK(Datenerfassung!C629),\"\",Datenerfassung!C629)","v":""},{"$f":"IF(ISBLANK(Datenerfassung!R629),\"\",Datenerfassung!R629)","v":""},{"$f":"IF(ISBLANK(Datenerfassung!S629),\"\",Datenerfassung!S629)","v":""},"",{"$f":"IF(ISBLANK(Datenerfassung!U629),\"\",Datenerfassung!U629)","v":""},{"$f":"IF(ISBLANK(Datenerfassung!O629),\"\",Datenerfassung!O629)","v":""},{"$f":"IF(ISBLANK(Datenerfassung!D629),IF(COUNTBLANK(A619:H619)+COUNTBLANK(J619:O619)=14,\"\",\"- ohne Titel -\"),Datenerfassung!D629)","v":""},{"$f":"IF(ISBLANK(Datenerfassung!G629),\"\",Datenerfassung!G629)","v":""},"",{"$f":"IF(ISBLANK(Datenerfassung!X629),\"\",Datenerfassung!X629)","v":""},{"$f":"IF(COUNTBLANK(Datenerfassung!H629:'Datenerfassung'!N629)=7,\"\",CONCATENATE( CONCATENATE(IF(ISBLANK(Datenerfassung!H629),\" \",Datenerfassung!H629 ),\" [IS]\"), CONCATENATE(IF(ISBLANK(Datenerfassung!I629),\" \",Datenerfassung!I629 ),\" [IS]\"), CONCATENATE(IF(ISBLANK(Datenerfassung!J629),\" \",Datenerfassung!J629 ),\" [IS]\"), CONCATENATE(IF(ISBLANK(Datenerfassung!K629),\" \",Datenerfassung!K629 ),\" [IS]\"), CONCATENATE(IF(ISBLANK(Datenerfassung!L629),\" \",Datenerfassung!L629 ),\" [IS]\"), CONCATENATE(IF(ISBLANK(Datenerfassung!M629),\" \",Datenerfassung!M629 ),\" [IS]\"), IF(ISBLANK(Datenerfassung!N629),\" \",Datenerfassung!N629 ) ))","v":""},{"$f":"IF(ISBLANK(Datenerfassung!V629),\"\",Datenerfassung!V629)","v":""},{"$f":"IF(ISBLANK(Datenerfassung!Q629),\"\",Datenerfassung!Q629)","v":""}]
[{"$f":"IF(ISBLANK(Datenerfassung!A630),\"\",Datenerfassung!A630)","v":""},{"$f":"IF(ISBLANK(Datenerfassung!B630),\"\",Datenerfassung!B630)","v":""},{"$f":"IF(ISBLANK(Datenerfassung!C630),\"\",Datenerfassung!C630)","v":""},{"$f":"IF(ISBLANK(Datenerfassung!R630),\"\",Datenerfassung!R630)","v":""},{"$f":"IF(ISBLANK(Datenerfassung!S630),\"\",Datenerfassung!S630)","v":""},"",{"$f":"IF(ISBLANK(Datenerfassung!U630),\"\",Datenerfassung!U630)","v":""},{"$f":"IF(ISBLANK(Datenerfassung!O630),\"\",Datenerfassung!O630)","v":""},{"$f":"IF(ISBLANK(Datenerfassung!D630),IF(COUNTBLANK(A620:H620)+COUNTBLANK(J620:O620)=14,\"\",\"- ohne Titel -\"),Datenerfassung!D630)","v":""},{"$f":"IF(ISBLANK(Datenerfassung!G630),\"\",Datenerfassung!G630)","v":""},"",{"$f":"IF(ISBLANK(Datenerfassung!X630),\"\",Datenerfassung!X630)","v":""},{"$f":"IF(COUNTBLANK(Datenerfassung!H630:'Datenerfassung'!N630)=7,\"\",CONCATENATE( CONCATENATE(IF(ISBLANK(Datenerfassung!H630),\" \",Datenerfassung!H630 ),\" [IS]\"), CONCATENATE(IF(ISBLANK(Datenerfassung!I630),\" \",Datenerfassung!I630 ),\" [IS]\"), CONCATENATE(IF(ISBLANK(Datenerfassung!J630),\" \",Datenerfassung!J630 ),\" [IS]\"), CONCATENATE(IF(ISBLANK(Datenerfassung!K630),\" \",Datenerfassung!K630 ),\" [IS]\"), CONCATENATE(IF(ISBLANK(Datenerfassung!L630),\" \",Datenerfassung!L630 ),\" [IS]\"), CONCATENATE(IF(ISBLANK(Datenerfassung!M630),\" \",Datenerfassung!M630 ),\" [IS]\"), IF(ISBLANK(Datenerfassung!N630),\" \",Datenerfassung!N630 ) ))","v":""},{"$f":"IF(ISBLANK(Datenerfassung!V630),\"\",Datenerfassung!V630)","v":""},{"$f":"IF(ISBLANK(Datenerfassung!Q630),\"\",Datenerfassung!Q630)","v":""}]
[{"$f":"IF(ISBLANK(Datenerfassung!A631),\"\",Datenerfassung!A631)","v":""},{"$f":"IF(ISBLANK(Datenerfassung!B631),\"\",Datenerfassung!B631)","v":""},{"$f":"IF(ISBLANK(Datenerfassung!C631),\"\",Datenerfassung!C631)","v":""},{"$f":"IF(ISBLANK(Datenerfassung!R631),\"\",Datenerfassung!R631)","v":""},{"$f":"IF(ISBLANK(Datenerfassung!S631),\"\",Datenerfassung!S631)","v":""},"",{"$f":"IF(ISBLANK(Datenerfassung!U631),\"\",Datenerfassung!U631)","v":""},{"$f":"IF(ISBLANK(Datenerfassung!O631),\"\",Datenerfassung!O631)","v":""},{"$f":"IF(ISBLANK(Datenerfassung!D631),IF(COUNTBLANK(A621:H621)+COUNTBLANK(J621:O621)=14,\"\",\"- ohne Titel -\"),Datenerfassung!D631)","v":""},{"$f":"IF(ISBLANK(Datenerfassung!G631),\"\",Datenerfassung!G631)","v":""},"",{"$f":"IF(ISBLANK(Datenerfassung!X631),\"\",Datenerfassung!X631)","v":""},{"$f":"IF(COUNTBLANK(Datenerfassung!H631:'Datenerfassung'!N631)=7,\"\",CONCATENATE( CONCATENATE(IF(ISBLANK(Datenerfassung!H631),\" \",Datenerfassung!H631 ),\" [IS]\"), CONCATENATE(IF(ISBLANK(Datenerfassung!I631),\" \",Datenerfassung!I631 ),\" [IS]\"), CONCATENATE(IF(ISBLANK(Datenerfassung!J631),\" \",Datenerfassung!J631 ),\" [IS]\"), CONCATENATE(IF(ISBLANK(Datenerfassung!K631),\" \",Datenerfassung!K631 ),\" [IS]\"), CONCATENATE(IF(ISBLANK(Datenerfassung!L631),\" \",Datenerfassung!L631 ),\" [IS]\"), CONCATENATE(IF(ISBLANK(Datenerfassung!M631),\" \",Datenerfassung!M631 ),\" [IS]\"), IF(ISBLANK(Datenerfassung!N631),\" \",Datenerfassung!N631 ) ))","v":""},{"$f":"IF(ISBLANK(Datenerfassung!V631),\"\",Datenerfassung!V631)","v":""},{"$f":"IF(ISBLANK(Datenerfassung!Q631),\"\",Datenerfassung!Q631)","v":""}]
[{"$f":"IF(ISBLANK(Datenerfassung!A632),\"\",Datenerfassung!A632)","v":""},{"$f":"IF(ISBLANK(Datenerfassung!B632),\"\",Datenerfassung!B632)","v":""},{"$f":"IF(ISBLANK(Datenerfassung!C632),\"\",Datenerfassung!C632)","v":""},{"$f":"IF(ISBLANK(Datenerfassung!R632),\"\",Datenerfassung!R632)","v":""},{"$f":"IF(ISBLANK(Datenerfassung!S632),\"\",Datenerfassung!S632)","v":""},"",{"$f":"IF(ISBLANK(Datenerfassung!U632),\"\",Datenerfassung!U632)","v":""},{"$f":"IF(ISBLANK(Datenerfassung!O632),\"\",Datenerfassung!O632)","v":""},{"$f":"IF(ISBLANK(Datenerfassung!D632),IF(COUNTBLANK(A622:H622)+COUNTBLANK(J622:O622)=14,\"\",\"- ohne Titel -\"),Datenerfassung!D632)","v":""},{"$f":"IF(ISBLANK(Datenerfassung!G632),\"\",Datenerfassung!G632)","v":""},"",{"$f":"IF(ISBLANK(Datenerfassung!X632),\"\",Datenerfassung!X632)","v":""},{"$f":"IF(COUNTBLANK(Datenerfassung!H632:'Datenerfassung'!N632)=7,\"\",CONCATENATE( CONCATENATE(IF(ISBLANK(Datenerfassung!H632),\" \",Datenerfassung!H632 ),\" [IS]\"), CONCATENATE(IF(ISBLANK(Datenerfassung!I632),\" \",Datenerfassung!I632 ),\" [IS]\"), CONCATENATE(IF(ISBLANK(Datenerfassung!J632),\" \",Datenerfassung!J632 ),\" [IS]\"), CONCATENATE(IF(ISBLANK(Datenerfassung!K632),\" \",Datenerfassung!K632 ),\" [IS]\"), CONCATENATE(IF(ISBLANK(Datenerfassung!L632),\" \",Datenerfassung!L632 ),\" [IS]\"), CONCATENATE(IF(ISBLANK(Datenerfassung!M632),\" \",Datenerfassung!M632 ),\" [IS]\"), IF(ISBLANK(Datenerfassung!N632),\" \",Datenerfassung!N632 ) ))","v":""},{"$f":"IF(ISBLANK(Datenerfassung!V632),\"\",Datenerfassung!V632)","v":""},{"$f":"IF(ISBLANK(Datenerfassung!Q632),\"\",Datenerfassung!Q632)","v":""}]
[{"$f":"IF(ISBLANK(Datenerfassung!A633),\"\",Datenerfassung!A633)","v":""},{"$f":"IF(ISBLANK(Datenerfassung!B633),\"\",Datenerfassung!B633)","v":""},{"$f":"IF(ISBLANK(Datenerfassung!C633),\"\",Datenerfassung!C633)","v":""},{"$f":"IF(ISBLANK(Datenerfassung!R633),\"\",Datenerfassung!R633)","v":""},{"$f":"IF(ISBLANK(Datenerfassung!S633),\"\",Datenerfassung!S633)","v":""},"",{"$f":"IF(ISBLANK(Datenerfassung!U633),\"\",Datenerfassung!U633)","v":""},{"$f":"IF(ISBLANK(Datenerfassung!O633),\"\",Datenerfassung!O633)","v":""},{"$f":"IF(ISBLANK(Datenerfassung!D633),IF(COUNTBLANK(A623:H623)+COUNTBLANK(J623:O623)=14,\"\",\"- ohne Titel -\"),Datenerfassung!D633)","v":""},{"$f":"IF(ISBLANK(Datenerfassung!G633),\"\",Datenerfassung!G633)","v":""},"",{"$f":"IF(ISBLANK(Datenerfassung!X633),\"\",Datenerfassung!X633)","v":""},{"$f":"IF(COUNTBLANK(Datenerfassung!H633:'Datenerfassung'!N633)=7,\"\",CONCATENATE( CONCATENATE(IF(ISBLANK(Datenerfassung!H633),\" \",Datenerfassung!H633 ),\" [IS]\"), CONCATENATE(IF(ISBLANK(Datenerfassung!I633),\" \",Datenerfassung!I633 ),\" [IS]\"), CONCATENATE(IF(ISBLANK(Datenerfassung!J633),\" \",Datenerfassung!J633 ),\" [IS]\"), CONCATENATE(IF(ISBLANK(Datenerfassung!K633),\" \",Datenerfassung!K633 ),\" [IS]\"), CONCATENATE(IF(ISBLANK(Datenerfassung!L633),\" \",Datenerfassung!L633 ),\" [IS]\"), CONCATENATE(IF(ISBLANK(Datenerfassung!M633),\" \",Datenerfassung!M633 ),\" [IS]\"), IF(ISBLANK(Datenerfassung!N633),\" \",Datenerfassung!N633 ) ))","v":""},{"$f":"IF(ISBLANK(Datenerfassung!V633),\"\",Datenerfassung!V633)","v":""},{"$f":"IF(ISBLANK(Datenerfassung!Q633),\"\",Datenerfassung!Q633)","v":""}]
[{"$f":"IF(ISBLANK(Datenerfassung!A634),\"\",Datenerfassung!A634)","v":""},{"$f":"IF(ISBLANK(Datenerfassung!B634),\"\",Datenerfassung!B634)","v":""},{"$f":"IF(ISBLANK(Datenerfassung!C634),\"\",Datenerfassung!C634)","v":""},{"$f":"IF(ISBLANK(Datenerfassung!R634),\"\",Datenerfassung!R634)","v":""},{"$f":"IF(ISBLANK(Datenerfassung!S634),\"\",Datenerfassung!S634)","v":""},"",{"$f":"IF(ISBLANK(Datenerfassung!U634),\"\",Datenerfassung!U634)","v":""},{"$f":"IF(ISBLANK(Datenerfassung!O634),\"\",Datenerfassung!O634)","v":""},{"$f":"IF(ISBLANK(Datenerfassung!D634),IF(COUNTBLANK(A624:H624)+COUNTBLANK(J624:O624)=14,\"\",\"- ohne Titel -\"),Datenerfassung!D634)","v":""},{"$f":"IF(ISBLANK(Datenerfassung!G634),\"\",Datenerfassung!G634)","v":""},"",{"$f":"IF(ISBLANK(Datenerfassung!X634),\"\",Datenerfassung!X634)","v":""},{"$f":"IF(COUNTBLANK(Datenerfassung!H634:'Datenerfassung'!N634)=7,\"\",CONCATENATE( CONCATENATE(IF(ISBLANK(Datenerfassung!H634),\" \",Datenerfassung!H634 ),\" [IS]\"), CONCATENATE(IF(ISBLANK(Datenerfassung!I634),\" \",Datenerfassung!I634 ),\" [IS]\"), CONCATENATE(IF(ISBLANK(Datenerfassung!J634),\" \",Datenerfassung!J634 ),\" [IS]\"), CONCATENATE(IF(ISBLANK(Datenerfassung!K634),\" \",Datenerfassung!K634 ),\" [IS]\"), CONCATENATE(IF(ISBLANK(Datenerfassung!L634),\" \",Datenerfassung!L634 ),\" [IS]\"), CONCATENATE(IF(ISBLANK(Datenerfassung!M634),\" \",Datenerfassung!M634 ),\" [IS]\"), IF(ISBLANK(Datenerfassung!N634),\" \",Datenerfassung!N634 ) ))","v":""},{"$f":"IF(ISBLANK(Datenerfassung!V634),\"\",Datenerfassung!V634)","v":""},{"$f":"IF(ISBLANK(Datenerfassung!Q634),\"\",Datenerfassung!Q634)","v":""}]
[{"$f":"IF(ISBLANK(Datenerfassung!A635),\"\",Datenerfassung!A635)","v":""},{"$f":"IF(ISBLANK(Datenerfassung!B635),\"\",Datenerfassung!B635)","v":""},{"$f":"IF(ISBLANK(Datenerfassung!C635),\"\",Datenerfassung!C635)","v":""},{"$f":"IF(ISBLANK(Datenerfassung!R635),\"\",Datenerfassung!R635)","v":""},{"$f":"IF(ISBLANK(Datenerfassung!S635),\"\",Datenerfassung!S635)","v":""},"",{"$f":"IF(ISBLANK(Datenerfassung!U635),\"\",Datenerfassung!U635)","v":""},{"$f":"IF(ISBLANK(Datenerfassung!O635),\"\",Datenerfassung!O635)","v":""},{"$f":"IF(ISBLANK(Datenerfassung!D635),IF(COUNTBLANK(A625:H625)+COUNTBLANK(J625:O625)=14,\"\",\"- ohne Titel -\"),Datenerfassung!D635)","v":""},{"$f":"IF(ISBLANK(Datenerfassung!G635),\"\",Datenerfassung!G635)","v":""},"",{"$f":"IF(ISBLANK(Datenerfassung!X635),\"\",Datenerfassung!X635)","v":""},{"$f":"IF(COUNTBLANK(Datenerfassung!H635:'Datenerfassung'!N635)=7,\"\",CONCATENATE( CONCATENATE(IF(ISBLANK(Datenerfassung!H635),\" \",Datenerfassung!H635 ),\" [IS]\"), CONCATENATE(IF(ISBLANK(Datenerfassung!I635),\" \",Datenerfassung!I635 ),\" [IS]\"), CONCATENATE(IF(ISBLANK(Datenerfassung!J635),\" \",Datenerfassung!J635 ),\" [IS]\"), CONCATENATE(IF(ISBLANK(Datenerfassung!K635),\" \",Datenerfassung!K635 ),\" [IS]\"), CONCATENATE(IF(ISBLANK(Datenerfassung!L635),\" \",Datenerfassung!L635 ),\" [IS]\"), CONCATENATE(IF(ISBLANK(Datenerfassung!M635),\" \",Datenerfassung!M635 ),\" [IS]\"), IF(ISBLANK(Datenerfassung!N635),\" \",Datenerfassung!N635 ) ))","v":""},{"$f":"IF(ISBLANK(Datenerfassung!V635),\"\",Datenerfassung!V635)","v":""},{"$f":"IF(ISBLANK(Datenerfassung!Q635),\"\",Datenerfassung!Q635)","v":""}]
[{"$f":"IF(ISBLANK(Datenerfassung!A636),\"\",Datenerfassung!A636)","v":""},{"$f":"IF(ISBLANK(Datenerfassung!B636),\"\",Datenerfassung!B636)","v":""},{"$f":"IF(ISBLANK(Datenerfassung!C636),\"\",Datenerfassung!C636)","v":""},{"$f":"IF(ISBLANK(Datenerfassung!R636),\"\",Datenerfassung!R636)","v":""},{"$f":"IF(ISBLANK(Datenerfassung!S636),\"\",Datenerfassung!S636)","v":""},"",{"$f":"IF(ISBLANK(Datenerfassung!U636),\"\",Datenerfassung!U636)","v":""},{"$f":"IF(ISBLANK(Datenerfassung!O636),\"\",Datenerfassung!O636)","v":""},{"$f":"IF(ISBLANK(Datenerfassung!D636),IF(COUNTBLANK(A626:H626)+COUNTBLANK(J626:O626)=14,\"\",\"- ohne Titel -\"),Datenerfassung!D636)","v":""},{"$f":"IF(ISBLANK(Datenerfassung!G636),\"\",Datenerfassung!G636)","v":""},"",{"$f":"IF(ISBLANK(Datenerfassung!X636),\"\",Datenerfassung!X636)","v":""},{"$f":"IF(COUNTBLANK(Datenerfassung!H636:'Datenerfassung'!N636)=7,\"\",CONCATENATE( CONCATENATE(IF(ISBLANK(Datenerfassung!H636),\" \",Datenerfassung!H636 ),\" [IS]\"), CONCATENATE(IF(ISBLANK(Datenerfassung!I636),\" \",Datenerfassung!I636 ),\" [IS]\"), CONCATENATE(IF(ISBLANK(Datenerfassung!J636),\" \",Datenerfassung!J636 ),\" [IS]\"), CONCATENATE(IF(ISBLANK(Datenerfassung!K636),\" \",Datenerfassung!K636 ),\" [IS]\"), CONCATENATE(IF(ISBLANK(Datenerfassung!L636),\" \",Datenerfassung!L636 ),\" [IS]\"), CONCATENATE(IF(ISBLANK(Datenerfassung!M636),\" \",Datenerfassung!M636 ),\" [IS]\"), IF(ISBLANK(Datenerfassung!N636),\" \",Datenerfassung!N636 ) ))","v":""},{"$f":"IF(ISBLANK(Datenerfassung!V636),\"\",Datenerfassung!V636)","v":""},{"$f":"IF(ISBLANK(Datenerfassung!Q636),\"\",Datenerfassung!Q636)","v":""}]
[{"$f":"IF(ISBLANK(Datenerfassung!A637),\"\",Datenerfassung!A637)","v":""},{"$f":"IF(ISBLANK(Datenerfassung!B637),\"\",Datenerfassung!B637)","v":""},{"$f":"IF(ISBLANK(Datenerfassung!C637),\"\",Datenerfassung!C637)","v":""},{"$f":"IF(ISBLANK(Datenerfassung!R637),\"\",Datenerfassung!R637)","v":""},{"$f":"IF(ISBLANK(Datenerfassung!S637),\"\",Datenerfassung!S637)","v":""},"",{"$f":"IF(ISBLANK(Datenerfassung!U637),\"\",Datenerfassung!U637)","v":""},{"$f":"IF(ISBLANK(Datenerfassung!O637),\"\",Datenerfassung!O637)","v":""},{"$f":"IF(ISBLANK(Datenerfassung!D637),IF(COUNTBLANK(A627:H627)+COUNTBLANK(J627:O627)=14,\"\",\"- ohne Titel -\"),Datenerfassung!D637)","v":""},{"$f":"IF(ISBLANK(Datenerfassung!G637),\"\",Datenerfassung!G637)","v":""},"",{"$f":"IF(ISBLANK(Datenerfassung!X637),\"\",Datenerfassung!X637)","v":""},{"$f":"IF(COUNTBLANK(Datenerfassung!H637:'Datenerfassung'!N637)=7,\"\",CONCATENATE( CONCATENATE(IF(ISBLANK(Datenerfassung!H637),\" \",Datenerfassung!H637 ),\" [IS]\"), CONCATENATE(IF(ISBLANK(Datenerfassung!I637),\" \",Datenerfassung!I637 ),\" [IS]\"), CONCATENATE(IF(ISBLANK(Datenerfassung!J637),\" \",Datenerfassung!J637 ),\" [IS]\"), CONCATENATE(IF(ISBLANK(Datenerfassung!K637),\" \",Datenerfassung!K637 ),\" [IS]\"), CONCATENATE(IF(ISBLANK(Datenerfassung!L637),\" \",Datenerfassung!L637 ),\" [IS]\"), CONCATENATE(IF(ISBLANK(Datenerfassung!M637),\" \",Datenerfassung!M637 ),\" [IS]\"), IF(ISBLANK(Datenerfassung!N637),\" \",Datenerfassung!N637 ) ))","v":""},{"$f":"IF(ISBLANK(Datenerfassung!V637),\"\",Datenerfassung!V637)","v":""},{"$f":"IF(ISBLANK(Datenerfassung!Q637),\"\",Datenerfassung!Q637)","v":""}]
[{"$f":"IF(ISBLANK(Datenerfassung!A638),\"\",Datenerfassung!A638)","v":""},{"$f":"IF(ISBLANK(Datenerfassung!B638),\"\",Datenerfassung!B638)","v":""},{"$f":"IF(ISBLANK(Datenerfassung!C638),\"\",Datenerfassung!C638)","v":""},{"$f":"IF(ISBLANK(Datenerfassung!R638),\"\",Datenerfassung!R638)","v":""},{"$f":"IF(ISBLANK(Datenerfassung!S638),\"\",Datenerfassung!S638)","v":""},"",{"$f":"IF(ISBLANK(Datenerfassung!U638),\"\",Datenerfassung!U638)","v":""},{"$f":"IF(ISBLANK(Datenerfassung!O638),\"\",Datenerfassung!O638)","v":""},{"$f":"IF(ISBLANK(Datenerfassung!D638),IF(COUNTBLANK(A628:H628)+COUNTBLANK(J628:O628)=14,\"\",\"- ohne Titel -\"),Datenerfassung!D638)","v":""},{"$f":"IF(ISBLANK(Datenerfassung!G638),\"\",Datenerfassung!G638)","v":""},"",{"$f":"IF(ISBLANK(Datenerfassung!X638),\"\",Datenerfassung!X638)","v":""},{"$f":"IF(COUNTBLANK(Datenerfassung!H638:'Datenerfassung'!N638)=7,\"\",CONCATENATE( CONCATENATE(IF(ISBLANK(Datenerfassung!H638),\" \",Datenerfassung!H638 ),\" [IS]\"), CONCATENATE(IF(ISBLANK(Datenerfassung!I638),\" \",Datenerfassung!I638 ),\" [IS]\"), CONCATENATE(IF(ISBLANK(Datenerfassung!J638),\" \",Datenerfassung!J638 ),\" [IS]\"), CONCATENATE(IF(ISBLANK(Datenerfassung!K638),\" \",Datenerfassung!K638 ),\" [IS]\"), CONCATENATE(IF(ISBLANK(Datenerfassung!L638),\" \",Datenerfassung!L638 ),\" [IS]\"), CONCATENATE(IF(ISBLANK(Datenerfassung!M638),\" \",Datenerfassung!M638 ),\" [IS]\"), IF(ISBLANK(Datenerfassung!N638),\" \",Datenerfassung!N638 ) ))","v":""},{"$f":"IF(ISBLANK(Datenerfassung!V638),\"\",Datenerfassung!V638)","v":""},{"$f":"IF(ISBLANK(Datenerfassung!Q638),\"\",Datenerfassung!Q638)","v":""}]
[{"$f":"IF(ISBLANK(Datenerfassung!A639),\"\",Datenerfassung!A639)","v":""},{"$f":"IF(ISBLANK(Datenerfassung!B639),\"\",Datenerfassung!B639)","v":""},{"$f":"IF(ISBLANK(Datenerfassung!C639),\"\",Datenerfassung!C639)","v":""},{"$f":"IF(ISBLANK(Datenerfassung!R639),\"\",Datenerfassung!R639)","v":""},{"$f":"IF(ISBLANK(Datenerfassung!S639),\"\",Datenerfassung!S639)","v":""},"",{"$f":"IF(ISBLANK(Datenerfassung!U639),\"\",Datenerfassung!U639)","v":""},{"$f":"IF(ISBLANK(Datenerfassung!O639),\"\",Datenerfassung!O639)","v":""},{"$f":"IF(ISBLANK(Datenerfassung!D639),IF(COUNTBLANK(A629:H629)+COUNTBLANK(J629:O629)=14,\"\",\"- ohne Titel -\"),Datenerfassung!D639)","v":""},{"$f":"IF(ISBLANK(Datenerfassung!G639),\"\",Datenerfassung!G639)","v":""},"",{"$f":"IF(ISBLANK(Datenerfassung!X639),\"\",Datenerfassung!X639)","v":""},{"$f":"IF(COUNTBLANK(Datenerfassung!H639:'Datenerfassung'!N639)=7,\"\",CONCATENATE( CONCATENATE(IF(ISBLANK(Datenerfassung!H639),\" \",Datenerfassung!H639 ),\" [IS]\"), CONCATENATE(IF(ISBLANK(Datenerfassung!I639),\" \",Datenerfassung!I639 ),\" [IS]\"), CONCATENATE(IF(ISBLANK(Datenerfassung!J639),\" \",Datenerfassung!J639 ),\" [IS]\"), CONCATENATE(IF(ISBLANK(Datenerfassung!K639),\" \",Datenerfassung!K639 ),\" [IS]\"), CONCATENATE(IF(ISBLANK(Datenerfassung!L639),\" \",Datenerfassung!L639 ),\" [IS]\"), CONCATENATE(IF(ISBLANK(Datenerfassung!M639),\" \",Datenerfassung!M639 ),\" [IS]\"), IF(ISBLANK(Datenerfassung!N639),\" \",Datenerfassung!N639 ) ))","v":""},{"$f":"IF(ISBLANK(Datenerfassung!V639),\"\",Datenerfassung!V639)","v":""},{"$f":"IF(ISBLANK(Datenerfassung!Q639),\"\",Datenerfassung!Q639)","v":""}]
[{"$f":"IF(ISBLANK(Datenerfassung!A640),\"\",Datenerfassung!A640)","v":""},{"$f":"IF(ISBLANK(Datenerfassung!B640),\"\",Datenerfassung!B640)","v":""},{"$f":"IF(ISBLANK(Datenerfassung!C640),\"\",Datenerfassung!C640)","v":""},{"$f":"IF(ISBLANK(Datenerfassung!R640),\"\",Datenerfassung!R640)","v":""},{"$f":"IF(ISBLANK(Datenerfassung!S640),\"\",Datenerfassung!S640)","v":""},"",{"$f":"IF(ISBLANK(Datenerfassung!U640),\"\",Datenerfassung!U640)","v":""},{"$f":"IF(ISBLANK(Datenerfassung!O640),\"\",Datenerfassung!O640)","v":""},{"$f":"IF(ISBLANK(Datenerfassung!D640),IF(COUNTBLANK(A630:H630)+COUNTBLANK(J630:O630)=14,\"\",\"- ohne Titel -\"),Datenerfassung!D640)","v":""},{"$f":"IF(ISBLANK(Datenerfassung!G640),\"\",Datenerfassung!G640)","v":""},"",{"$f":"IF(ISBLANK(Datenerfassung!X640),\"\",Datenerfassung!X640)","v":""},{"$f":"IF(COUNTBLANK(Datenerfassung!H640:'Datenerfassung'!N640)=7,\"\",CONCATENATE( CONCATENATE(IF(ISBLANK(Datenerfassung!H640),\" \",Datenerfassung!H640 ),\" [IS]\"), CONCATENATE(IF(ISBLANK(Datenerfassung!I640),\" \",Datenerfassung!I640 ),\" [IS]\"), CONCATENATE(IF(ISBLANK(Datenerfassung!J640),\" \",Datenerfassung!J640 ),\" [IS]\"), CONCATENATE(IF(ISBLANK(Datenerfassung!K640),\" \",Datenerfassung!K640 ),\" [IS]\"), CONCATENATE(IF(ISBLANK(Datenerfassung!L640),\" \",Datenerfassung!L640 ),\" [IS]\"), CONCATENATE(IF(ISBLANK(Datenerfassung!M640),\" \",Datenerfassung!M640 ),\" [IS]\"), IF(ISBLANK(Datenerfassung!N640),\" \",Datenerfassung!N640 ) ))","v":""},{"$f":"IF(ISBLANK(Datenerfassung!V640),\"\",Datenerfassung!V640)","v":""},{"$f":"IF(ISBLANK(Datenerfassung!Q640),\"\",Datenerfassung!Q640)","v":""}]
[{"$f":"IF(ISBLANK(Datenerfassung!A641),\"\",Datenerfassung!A641)","v":""},{"$f":"IF(ISBLANK(Datenerfassung!B641),\"\",Datenerfassung!B641)","v":""},{"$f":"IF(ISBLANK(Datenerfassung!C641),\"\",Datenerfassung!C641)","v":""},{"$f":"IF(ISBLANK(Datenerfassung!R641),\"\",Datenerfassung!R641)","v":""},{"$f":"IF(ISBLANK(Datenerfassung!S641),\"\",Datenerfassung!S641)","v":""},"",{"$f":"IF(ISBLANK(Datenerfassung!U641),\"\",Datenerfassung!U641)","v":""},{"$f":"IF(ISBLANK(Datenerfassung!O641),\"\",Datenerfassung!O641)","v":""},{"$f":"IF(ISBLANK(Datenerfassung!D641),IF(COUNTBLANK(A631:H631)+COUNTBLANK(J631:O631)=14,\"\",\"- ohne Titel -\"),Datenerfassung!D641)","v":""},{"$f":"IF(ISBLANK(Datenerfassung!G641),\"\",Datenerfassung!G641)","v":""},"",{"$f":"IF(ISBLANK(Datenerfassung!X641),\"\",Datenerfassung!X641)","v":""},{"$f":"IF(COUNTBLANK(Datenerfassung!H641:'Datenerfassung'!N641)=7,\"\",CONCATENATE( CONCATENATE(IF(ISBLANK(Datenerfassung!H641),\" \",Datenerfassung!H641 ),\" [IS]\"), CONCATENATE(IF(ISBLANK(Datenerfassung!I641),\" \",Datenerfassung!I641 ),\" [IS]\"), CONCATENATE(IF(ISBLANK(Datenerfassung!J641),\" \",Datenerfassung!J641 ),\" [IS]\"), CONCATENATE(IF(ISBLANK(Datenerfassung!K641),\" \",Datenerfassung!K641 ),\" [IS]\"), CONCATENATE(IF(ISBLANK(Datenerfassung!L641),\" \",Datenerfassung!L641 ),\" [IS]\"), CONCATENATE(IF(ISBLANK(Datenerfassung!M641),\" \",Datenerfassung!M641 ),\" [IS]\"), IF(ISBLANK(Datenerfassung!N641),\" \",Datenerfassung!N641 ) ))","v":""},{"$f":"IF(ISBLANK(Datenerfassung!V641),\"\",Datenerfassung!V641)","v":""},{"$f":"IF(ISBLANK(Datenerfassung!Q641),\"\",Datenerfassung!Q641)","v":""}]
[{"$f":"IF(ISBLANK(Datenerfassung!A642),\"\",Datenerfassung!A642)","v":""},{"$f":"IF(ISBLANK(Datenerfassung!B642),\"\",Datenerfassung!B642)","v":""},{"$f":"IF(ISBLANK(Datenerfassung!C642),\"\",Datenerfassung!C642)","v":""},{"$f":"IF(ISBLANK(Datenerfassung!R642),\"\",Datenerfassung!R642)","v":""},{"$f":"IF(ISBLANK(Datenerfassung!S642),\"\",Datenerfassung!S642)","v":""},"",{"$f":"IF(ISBLANK(Datenerfassung!U642),\"\",Datenerfassung!U642)","v":""},{"$f":"IF(ISBLANK(Datenerfassung!O642),\"\",Datenerfassung!O642)","v":""},{"$f":"IF(ISBLANK(Datenerfassung!D642),IF(COUNTBLANK(A632:H632)+COUNTBLANK(J632:O632)=14,\"\",\"- ohne Titel -\"),Datenerfassung!D642)","v":""},{"$f":"IF(ISBLANK(Datenerfassung!G642),\"\",Datenerfassung!G642)","v":""},"",{"$f":"IF(ISBLANK(Datenerfassung!X642),\"\",Datenerfassung!X642)","v":""},{"$f":"IF(COUNTBLANK(Datenerfassung!H642:'Datenerfassung'!N642)=7,\"\",CONCATENATE( CONCATENATE(IF(ISBLANK(Datenerfassung!H642),\" \",Datenerfassung!H642 ),\" [IS]\"), CONCATENATE(IF(ISBLANK(Datenerfassung!I642),\" \",Datenerfassung!I642 ),\" [IS]\"), CONCATENATE(IF(ISBLANK(Datenerfassung!J642),\" \",Datenerfassung!J642 ),\" [IS]\"), CONCATENATE(IF(ISBLANK(Datenerfassung!K642),\" \",Datenerfassung!K642 ),\" [IS]\"), CONCATENATE(IF(ISBLANK(Datenerfassung!L642),\" \",Datenerfassung!L642 ),\" [IS]\"), CONCATENATE(IF(ISBLANK(Datenerfassung!M642),\" \",Datenerfassung!M642 ),\" [IS]\"), IF(ISBLANK(Datenerfassung!N642),\" \",Datenerfassung!N642 ) ))","v":""},{"$f":"IF(ISBLANK(Datenerfassung!V642),\"\",Datenerfassung!V642)","v":""},{"$f":"IF(ISBLANK(Datenerfassung!Q642),\"\",Datenerfassung!Q642)","v":""}]
[{"$f":"IF(ISBLANK(Datenerfassung!A643),\"\",Datenerfassung!A643)","v":""},{"$f":"IF(ISBLANK(Datenerfassung!B643),\"\",Datenerfassung!B643)","v":""},{"$f":"IF(ISBLANK(Datenerfassung!C643),\"\",Datenerfassung!C643)","v":""},{"$f":"IF(ISBLANK(Datenerfassung!R643),\"\",Datenerfassung!R643)","v":""},{"$f":"IF(ISBLANK(Datenerfassung!S643),\"\",Datenerfassung!S643)","v":""},"",{"$f":"IF(ISBLANK(Datenerfassung!U643),\"\",Datenerfassung!U643)","v":""},{"$f":"IF(ISBLANK(Datenerfassung!O643),\"\",Datenerfassung!O643)","v":""},{"$f":"IF(ISBLANK(Datenerfassung!D643),IF(COUNTBLANK(A633:H633)+COUNTBLANK(J633:O633)=14,\"\",\"- ohne Titel -\"),Datenerfassung!D643)","v":""},{"$f":"IF(ISBLANK(Datenerfassung!G643),\"\",Datenerfassung!G643)","v":""},"",{"$f":"IF(ISBLANK(Datenerfassung!X643),\"\",Datenerfassung!X643)","v":""},{"$f":"IF(COUNTBLANK(Datenerfassung!H643:'Datenerfassung'!N643)=7,\"\",CONCATENATE( CONCATENATE(IF(ISBLANK(Datenerfassung!H643),\" \",Datenerfassung!H643 ),\" [IS]\"), CONCATENATE(IF(ISBLANK(Datenerfassung!I643),\" \",Datenerfassung!I643 ),\" [IS]\"), CONCATENATE(IF(ISBLANK(Datenerfassung!J643),\" \",Datenerfassung!J643 ),\" [IS]\"), CONCATENATE(IF(ISBLANK(Datenerfassung!K643),\" \",Datenerfassung!K643 ),\" [IS]\"), CONCATENATE(IF(ISBLANK(Datenerfassung!L643),\" \",Datenerfassung!L643 ),\" [IS]\"), CONCATENATE(IF(ISBLANK(Datenerfassung!M643),\" \",Datenerfassung!M643 ),\" [IS]\"), IF(ISBLANK(Datenerfassung!N643),\" \",Datenerfassung!N643 ) ))","v":""},{"$f":"IF(ISBLANK(Datenerfassung!V643),\"\",Datenerfassung!V643)","v":""},{"$f":"IF(ISBLANK(Datenerfassung!Q643),\"\",Datenerfassung!Q643)","v":""}]
[{"$f":"IF(ISBLANK(Datenerfassung!A644),\"\",Datenerfassung!A644)","v":""},{"$f":"IF(ISBLANK(Datenerfassung!B644),\"\",Datenerfassung!B644)","v":""},{"$f":"IF(ISBLANK(Datenerfassung!C644),\"\",Datenerfassung!C644)","v":""},{"$f":"IF(ISBLANK(Datenerfassung!R644),\"\",Datenerfassung!R644)","v":""},{"$f":"IF(ISBLANK(Datenerfassung!S644),\"\",Datenerfassung!S644)","v":""},"",{"$f":"IF(ISBLANK(Datenerfassung!U644),\"\",Datenerfassung!U644)","v":""},{"$f":"IF(ISBLANK(Datenerfassung!O644),\"\",Datenerfassung!O644)","v":""},{"$f":"IF(ISBLANK(Datenerfassung!D644),IF(COUNTBLANK(A634:H634)+COUNTBLANK(J634:O634)=14,\"\",\"- ohne Titel -\"),Datenerfassung!D644)","v":""},{"$f":"IF(ISBLANK(Datenerfassung!G644),\"\",Datenerfassung!G644)","v":""},"",{"$f":"IF(ISBLANK(Datenerfassung!X644),\"\",Datenerfassung!X644)","v":""},{"$f":"IF(COUNTBLANK(Datenerfassung!H644:'Datenerfassung'!N644)=7,\"\",CONCATENATE( CONCATENATE(IF(ISBLANK(Datenerfassung!H644),\" \",Datenerfassung!H644 ),\" [IS]\"), CONCATENATE(IF(ISBLANK(Datenerfassung!I644),\" \",Datenerfassung!I644 ),\" [IS]\"), CONCATENATE(IF(ISBLANK(Datenerfassung!J644),\" \",Datenerfassung!J644 ),\" [IS]\"), CONCATENATE(IF(ISBLANK(Datenerfassung!K644),\" \",Datenerfassung!K644 ),\" [IS]\"), CONCATENATE(IF(ISBLANK(Datenerfassung!L644),\" \",Datenerfassung!L644 ),\" [IS]\"), CONCATENATE(IF(ISBLANK(Datenerfassung!M644),\" \",Datenerfassung!M644 ),\" [IS]\"), IF(ISBLANK(Datenerfassung!N644),\" \",Datenerfassung!N644 ) ))","v":""},{"$f":"IF(ISBLANK(Datenerfassung!V644),\"\",Datenerfassung!V644)","v":""},{"$f":"IF(ISBLANK(Datenerfassung!Q644),\"\",Datenerfassung!Q644)","v":""}]
[{"$f":"IF(ISBLANK(Datenerfassung!A645),\"\",Datenerfassung!A645)","v":""},{"$f":"IF(ISBLANK(Datenerfassung!B645),\"\",Datenerfassung!B645)","v":""},{"$f":"IF(ISBLANK(Datenerfassung!C645),\"\",Datenerfassung!C645)","v":""},{"$f":"IF(ISBLANK(Datenerfassung!R645),\"\",Datenerfassung!R645)","v":""},{"$f":"IF(ISBLANK(Datenerfassung!S645),\"\",Datenerfassung!S645)","v":""},"",{"$f":"IF(ISBLANK(Datenerfassung!U645),\"\",Datenerfassung!U645)","v":""},{"$f":"IF(ISBLANK(Datenerfassung!O645),\"\",Datenerfassung!O645)","v":""},{"$f":"IF(ISBLANK(Datenerfassung!D645),IF(COUNTBLANK(A635:H635)+COUNTBLANK(J635:O635)=14,\"\",\"- ohne Titel -\"),Datenerfassung!D645)","v":""},{"$f":"IF(ISBLANK(Datenerfassung!G645),\"\",Datenerfassung!G645)","v":""},"",{"$f":"IF(ISBLANK(Datenerfassung!X645),\"\",Datenerfassung!X645)","v":""},{"$f":"IF(COUNTBLANK(Datenerfassung!H645:'Datenerfassung'!N645)=7,\"\",CONCATENATE( CONCATENATE(IF(ISBLANK(Datenerfassung!H645),\" \",Datenerfassung!H645 ),\" [IS]\"), CONCATENATE(IF(ISBLANK(Datenerfassung!I645),\" \",Datenerfassung!I645 ),\" [IS]\"), CONCATENATE(IF(ISBLANK(Datenerfassung!J645),\" \",Datenerfassung!J645 ),\" [IS]\"), CONCATENATE(IF(ISBLANK(Datenerfassung!K645),\" \",Datenerfassung!K645 ),\" [IS]\"), CONCATENATE(IF(ISBLANK(Datenerfassung!L645),\" \",Datenerfassung!L645 ),\" [IS]\"), CONCATENATE(IF(ISBLANK(Datenerfassung!M645),\" \",Datenerfassung!M645 ),\" [IS]\"), IF(ISBLANK(Datenerfassung!N645),\" \",Datenerfassung!N645 ) ))","v":""},{"$f":"IF(ISBLANK(Datenerfassung!V645),\"\",Datenerfassung!V645)","v":""},{"$f":"IF(ISBLANK(Datenerfassung!Q645),\"\",Datenerfassung!Q645)","v":""}]
[{"$f":"IF(ISBLANK(Datenerfassung!A646),\"\",Datenerfassung!A646)","v":""},{"$f":"IF(ISBLANK(Datenerfassung!B646),\"\",Datenerfassung!B646)","v":""},{"$f":"IF(ISBLANK(Datenerfassung!C646),\"\",Datenerfassung!C646)","v":""},{"$f":"IF(ISBLANK(Datenerfassung!R646),\"\",Datenerfassung!R646)","v":""},{"$f":"IF(ISBLANK(Datenerfassung!S646),\"\",Datenerfassung!S646)","v":""},"",{"$f":"IF(ISBLANK(Datenerfassung!U646),\"\",Datenerfassung!U646)","v":""},{"$f":"IF(ISBLANK(Datenerfassung!O646),\"\",Datenerfassung!O646)","v":""},{"$f":"IF(ISBLANK(Datenerfassung!D646),IF(COUNTBLANK(A636:H636)+COUNTBLANK(J636:O636)=14,\"\",\"- ohne Titel -\"),Datenerfassung!D646)","v":""},{"$f":"IF(ISBLANK(Datenerfassung!G646),\"\",Datenerfassung!G646)","v":""},"",{"$f":"IF(ISBLANK(Datenerfassung!X646),\"\",Datenerfassung!X646)","v":""},{"$f":"IF(COUNTBLANK(Datenerfassung!H646:'Datenerfassung'!N646)=7,\"\",CONCATENATE( CONCATENATE(IF(ISBLANK(Datenerfassung!H646),\" \",Datenerfassung!H646 ),\" [IS]\"), CONCATENATE(IF(ISBLANK(Datenerfassung!I646),\" \",Datenerfassung!I646 ),\" [IS]\"), CONCATENATE(IF(ISBLANK(Datenerfassung!J646),\" \",Datenerfassung!J646 ),\" [IS]\"), CONCATENATE(IF(ISBLANK(Datenerfassung!K646),\" \",Datenerfassung!K646 ),\" [IS]\"), CONCATENATE(IF(ISBLANK(Datenerfassung!L646),\" \",Datenerfassung!L646 ),\" [IS]\"), CONCATENATE(IF(ISBLANK(Datenerfassung!M646),\" \",Datenerfassung!M646 ),\" [IS]\"), IF(ISBLANK(Datenerfassung!N646),\" \",Datenerfassung!N646 ) ))","v":""},{"$f":"IF(ISBLANK(Datenerfassung!V646),\"\",Datenerfassung!V646)","v":""},{"$f":"IF(ISBLANK(Datenerfassung!Q646),\"\",Datenerfassung!Q646)","v":""}]
[{"$f":"IF(ISBLANK(Datenerfassung!A647),\"\",Datenerfassung!A647)","v":""},{"$f":"IF(ISBLANK(Datenerfassung!B647),\"\",Datenerfassung!B647)","v":""},{"$f":"IF(ISBLANK(Datenerfassung!C647),\"\",Datenerfassung!C647)","v":""},{"$f":"IF(ISBLANK(Datenerfassung!R647),\"\",Datenerfassung!R647)","v":""},{"$f":"IF(ISBLANK(Datenerfassung!S647),\"\",Datenerfassung!S647)","v":""},"",{"$f":"IF(ISBLANK(Datenerfassung!U647),\"\",Datenerfassung!U647)","v":""},{"$f":"IF(ISBLANK(Datenerfassung!O647),\"\",Datenerfassung!O647)","v":""},{"$f":"IF(ISBLANK(Datenerfassung!D647),IF(COUNTBLANK(A637:H637)+COUNTBLANK(J637:O637)=14,\"\",\"- ohne Titel -\"),Datenerfassung!D647)","v":""},{"$f":"IF(ISBLANK(Datenerfassung!G647),\"\",Datenerfassung!G647)","v":""},"",{"$f":"IF(ISBLANK(Datenerfassung!X647),\"\",Datenerfassung!X647)","v":""},{"$f":"IF(COUNTBLANK(Datenerfassung!H647:'Datenerfassung'!N647)=7,\"\",CONCATENATE( CONCATENATE(IF(ISBLANK(Datenerfassung!H647),\" \",Datenerfassung!H647 ),\" [IS]\"), CONCATENATE(IF(ISBLANK(Datenerfassung!I647),\" \",Datenerfassung!I647 ),\" [IS]\"), CONCATENATE(IF(ISBLANK(Datenerfassung!J647),\" \",Datenerfassung!J647 ),\" [IS]\"), CONCATENATE(IF(ISBLANK(Datenerfassung!K647),\" \",Datenerfassung!K647 ),\" [IS]\"), CONCATENATE(IF(ISBLANK(Datenerfassung!L647),\" \",Datenerfassung!L647 ),\" [IS]\"), CONCATENATE(IF(ISBLANK(Datenerfassung!M647),\" \",Datenerfassung!M647 ),\" [IS]\"), IF(ISBLANK(Datenerfassung!N647),\" \",Datenerfassung!N647 ) ))","v":""},{"$f":"IF(ISBLANK(Datenerfassung!V647),\"\",Datenerfassung!V647)","v":""},{"$f":"IF(ISBLANK(Datenerfassung!Q647),\"\",Datenerfassung!Q647)","v":""}]
[{"$f":"IF(ISBLANK(Datenerfassung!A648),\"\",Datenerfassung!A648)","v":""},{"$f":"IF(ISBLANK(Datenerfassung!B648),\"\",Datenerfassung!B648)","v":""},{"$f":"IF(ISBLANK(Datenerfassung!C648),\"\",Datenerfassung!C648)","v":""},{"$f":"IF(ISBLANK(Datenerfassung!R648),\"\",Datenerfassung!R648)","v":""},{"$f":"IF(ISBLANK(Datenerfassung!S648),\"\",Datenerfassung!S648)","v":""},"",{"$f":"IF(ISBLANK(Datenerfassung!U648),\"\",Datenerfassung!U648)","v":""},{"$f":"IF(ISBLANK(Datenerfassung!O648),\"\",Datenerfassung!O648)","v":""},{"$f":"IF(ISBLANK(Datenerfassung!D648),IF(COUNTBLANK(A638:H638)+COUNTBLANK(J638:O638)=14,\"\",\"- ohne Titel -\"),Datenerfassung!D648)","v":""},{"$f":"IF(ISBLANK(Datenerfassung!G648),\"\",Datenerfassung!G648)","v":""},"",{"$f":"IF(ISBLANK(Datenerfassung!X648),\"\",Datenerfassung!X648)","v":""},{"$f":"IF(COUNTBLANK(Datenerfassung!H648:'Datenerfassung'!N648)=7,\"\",CONCATENATE( CONCATENATE(IF(ISBLANK(Datenerfassung!H648),\" \",Datenerfassung!H648 ),\" [IS]\"), CONCATENATE(IF(ISBLANK(Datenerfassung!I648),\" \",Datenerfassung!I648 ),\" [IS]\"), CONCATENATE(IF(ISBLANK(Datenerfassung!J648),\" \",Datenerfassung!J648 ),\" [IS]\"), CONCATENATE(IF(ISBLANK(Datenerfassung!K648),\" \",Datenerfassung!K648 ),\" [IS]\"), CONCATENATE(IF(ISBLANK(Datenerfassung!L648),\" \",Datenerfassung!L648 ),\" [IS]\"), CONCATENATE(IF(ISBLANK(Datenerfassung!M648),\" \",Datenerfassung!M648 ),\" [IS]\"), IF(ISBLANK(Datenerfassung!N648),\" \",Datenerfassung!N648 ) ))","v":""},{"$f":"IF(ISBLANK(Datenerfassung!V648),\"\",Datenerfassung!V648)","v":""},{"$f":"IF(ISBLANK(Datenerfassung!Q648),\"\",Datenerfassung!Q648)","v":""}]
[{"$f":"IF(ISBLANK(Datenerfassung!A649),\"\",Datenerfassung!A649)","v":""},{"$f":"IF(ISBLANK(Datenerfassung!B649),\"\",Datenerfassung!B649)","v":""},{"$f":"IF(ISBLANK(Datenerfassung!C649),\"\",Datenerfassung!C649)","v":""},{"$f":"IF(ISBLANK(Datenerfassung!R649),\"\",Datenerfassung!R649)","v":""},{"$f":"IF(ISBLANK(Datenerfassung!S649),\"\",Datenerfassung!S649)","v":""},"",{"$f":"IF(ISBLANK(Datenerfassung!U649),\"\",Datenerfassung!U649)","v":""},{"$f":"IF(ISBLANK(Datenerfassung!O649),\"\",Datenerfassung!O649)","v":""},{"$f":"IF(ISBLANK(Datenerfassung!D649),IF(COUNTBLANK(A639:H639)+COUNTBLANK(J639:O639)=14,\"\",\"- ohne Titel -\"),Datenerfassung!D649)","v":""},{"$f":"IF(ISBLANK(Datenerfassung!G649),\"\",Datenerfassung!G649)","v":""},"",{"$f":"IF(ISBLANK(Datenerfassung!X649),\"\",Datenerfassung!X649)","v":""},{"$f":"IF(COUNTBLANK(Datenerfassung!H649:'Datenerfassung'!N649)=7,\"\",CONCATENATE( CONCATENATE(IF(ISBLANK(Datenerfassung!H649),\" \",Datenerfassung!H649 ),\" [IS]\"), CONCATENATE(IF(ISBLANK(Datenerfassung!I649),\" \",Datenerfassung!I649 ),\" [IS]\"), CONCATENATE(IF(ISBLANK(Datenerfassung!J649),\" \",Datenerfassung!J649 ),\" [IS]\"), CONCATENATE(IF(ISBLANK(Datenerfassung!K649),\" \",Datenerfassung!K649 ),\" [IS]\"), CONCATENATE(IF(ISBLANK(Datenerfassung!L649),\" \",Datenerfassung!L649 ),\" [IS]\"), CONCATENATE(IF(ISBLANK(Datenerfassung!M649),\" \",Datenerfassung!M649 ),\" [IS]\"), IF(ISBLANK(Datenerfassung!N649),\" \",Datenerfassung!N649 ) ))","v":""},{"$f":"IF(ISBLANK(Datenerfassung!V649),\"\",Datenerfassung!V649)","v":""},{"$f":"IF(ISBLANK(Datenerfassung!Q649),\"\",Datenerfassung!Q649)","v":""}]
[{"$f":"IF(ISBLANK(Datenerfassung!A650),\"\",Datenerfassung!A650)","v":""},{"$f":"IF(ISBLANK(Datenerfassung!B650),\"\",Datenerfassung!B650)","v":""},{"$f":"IF(ISBLANK(Datenerfassung!C650),\"\",Datenerfassung!C650)","v":""},{"$f":"IF(ISBLANK(Datenerfassung!R650),\"\",Datenerfassung!R650)","v":""},{"$f":"IF(ISBLANK(Datenerfassung!S650),\"\",Datenerfassung!S650)","v":""},"",{"$f":"IF(ISBLANK(Datenerfassung!U650),\"\",Datenerfassung!U650)","v":""},{"$f":"IF(ISBLANK(Datenerfassung!O650),\"\",Datenerfassung!O650)","v":""},{"$f":"IF(ISBLANK(Datenerfassung!D650),IF(COUNTBLANK(A640:H640)+COUNTBLANK(J640:O640)=14,\"\",\"- ohne Titel -\"),Datenerfassung!D650)","v":""},{"$f":"IF(ISBLANK(Datenerfassung!G650),\"\",Datenerfassung!G650)","v":""},"",{"$f":"IF(ISBLANK(Datenerfassung!X650),\"\",Datenerfassung!X650)","v":""},{"$f":"IF(COUNTBLANK(Datenerfassung!H650:'Datenerfassung'!N650)=7,\"\",CONCATENATE( CONCATENATE(IF(ISBLANK(Datenerfassung!H650),\" \",Datenerfassung!H650 ),\" [IS]\"), CONCATENATE(IF(ISBLANK(Datenerfassung!I650),\" \",Datenerfassung!I650 ),\" [IS]\"), CONCATENATE(IF(ISBLANK(Datenerfassung!J650),\" \",Datenerfassung!J650 ),\" [IS]\"), CONCATENATE(IF(ISBLANK(Datenerfassung!K650),\" \",Datenerfassung!K650 ),\" [IS]\"), CONCATENATE(IF(ISBLANK(Datenerfassung!L650),\" \",Datenerfassung!L650 ),\" [IS]\"), CONCATENATE(IF(ISBLANK(Datenerfassung!M650),\" \",Datenerfassung!M650 ),\" [IS]\"), IF(ISBLANK(Datenerfassung!N650),\" \",Datenerfassung!N650 ) ))","v":""},{"$f":"IF(ISBLANK(Datenerfassung!V650),\"\",Datenerfassung!V650)","v":""},{"$f":"IF(ISBLANK(Datenerfassung!Q650),\"\",Datenerfassung!Q650)","v":""}]
[{"$f":"IF(ISBLANK(Datenerfassung!A651),\"\",Datenerfassung!A651)","v":""},{"$f":"IF(ISBLANK(Datenerfassung!B651),\"\",Datenerfassung!B651)","v":""},{"$f":"IF(ISBLANK(Datenerfassung!C651),\"\",Datenerfassung!C651)","v":""},{"$f":"IF(ISBLANK(Datenerfassung!R651),\"\",Datenerfassung!R651)","v":""},{"$f":"IF(ISBLANK(Datenerfassung!S651),\"\",Datenerfassung!S651)","v":""},"",{"$f":"IF(ISBLANK(Datenerfassung!U651),\"\",Datenerfassung!U651)","v":""},{"$f":"IF(ISBLANK(Datenerfassung!O651),\"\",Datenerfassung!O651)","v":""},{"$f":"IF(ISBLANK(Datenerfassung!D651),IF(COUNTBLANK(A641:H641)+COUNTBLANK(J641:O641)=14,\"\",\"- ohne Titel -\"),Datenerfassung!D651)","v":""},{"$f":"IF(ISBLANK(Datenerfassung!G651),\"\",Datenerfassung!G651)","v":""},"",{"$f":"IF(ISBLANK(Datenerfassung!X651),\"\",Datenerfassung!X651)","v":""},{"$f":"IF(COUNTBLANK(Datenerfassung!H651:'Datenerfassung'!N651)=7,\"\",CONCATENATE( CONCATENATE(IF(ISBLANK(Datenerfassung!H651),\" \",Datenerfassung!H651 ),\" [IS]\"), CONCATENATE(IF(ISBLANK(Datenerfassung!I651),\" \",Datenerfassung!I651 ),\" [IS]\"), CONCATENATE(IF(ISBLANK(Datenerfassung!J651),\" \",Datenerfassung!J651 ),\" [IS]\"), CONCATENATE(IF(ISBLANK(Datenerfassung!K651),\" \",Datenerfassung!K651 ),\" [IS]\"), CONCATENATE(IF(ISBLANK(Datenerfassung!L651),\" \",Datenerfassung!L651 ),\" [IS]\"), CONCATENATE(IF(ISBLANK(Datenerfassung!M651),\" \",Datenerfassung!M651 ),\" [IS]\"), IF(ISBLANK(Datenerfassung!N651),\" \",Datenerfassung!N651 ) ))","v":""},{"$f":"IF(ISBLANK(Datenerfassung!V651),\"\",Datenerfassung!V651)","v":""},{"$f":"IF(ISBLANK(Datenerfassung!Q651),\"\",Datenerfassung!Q651)","v":""}]
[{"$f":"IF(ISBLANK(Datenerfassung!A652),\"\",Datenerfassung!A652)","v":""},{"$f":"IF(ISBLANK(Datenerfassung!B652),\"\",Datenerfassung!B652)","v":""},{"$f":"IF(ISBLANK(Datenerfassung!C652),\"\",Datenerfassung!C652)","v":""},{"$f":"IF(ISBLANK(Datenerfassung!R652),\"\",Datenerfassung!R652)","v":""},{"$f":"IF(ISBLANK(Datenerfassung!S652),\"\",Datenerfassung!S652)","v":""},"",{"$f":"IF(ISBLANK(Datenerfassung!U652),\"\",Datenerfassung!U652)","v":""},{"$f":"IF(ISBLANK(Datenerfassung!O652),\"\",Datenerfassung!O652)","v":""},{"$f":"IF(ISBLANK(Datenerfassung!D652),IF(COUNTBLANK(A642:H642)+COUNTBLANK(J642:O642)=14,\"\",\"- ohne Titel -\"),Datenerfassung!D652)","v":""},{"$f":"IF(ISBLANK(Datenerfassung!G652),\"\",Datenerfassung!G652)","v":""},"",{"$f":"IF(ISBLANK(Datenerfassung!X652),\"\",Datenerfassung!X652)","v":""},{"$f":"IF(COUNTBLANK(Datenerfassung!H652:'Datenerfassung'!N652)=7,\"\",CONCATENATE( CONCATENATE(IF(ISBLANK(Datenerfassung!H652),\" \",Datenerfassung!H652 ),\" [IS]\"), CONCATENATE(IF(ISBLANK(Datenerfassung!I652),\" \",Datenerfassung!I652 ),\" [IS]\"), CONCATENATE(IF(ISBLANK(Datenerfassung!J652),\" \",Datenerfassung!J652 ),\" [IS]\"), CONCATENATE(IF(ISBLANK(Datenerfassung!K652),\" \",Datenerfassung!K652 ),\" [IS]\"), CONCATENATE(IF(ISBLANK(Datenerfassung!L652),\" \",Datenerfassung!L652 ),\" [IS]\"), CONCATENATE(IF(ISBLANK(Datenerfassung!M652),\" \",Datenerfassung!M652 ),\" [IS]\"), IF(ISBLANK(Datenerfassung!N652),\" \",Datenerfassung!N652 ) ))","v":""},{"$f":"IF(ISBLANK(Datenerfassung!V652),\"\",Datenerfassung!V652)","v":""},{"$f":"IF(ISBLANK(Datenerfassung!Q652),\"\",Datenerfassung!Q652)","v":""}]
[{"$f":"IF(ISBLANK(Datenerfassung!A653),\"\",Datenerfassung!A653)","v":""},{"$f":"IF(ISBLANK(Datenerfassung!B653),\"\",Datenerfassung!B653)","v":""},{"$f":"IF(ISBLANK(Datenerfassung!C653),\"\",Datenerfassung!C653)","v":""},{"$f":"IF(ISBLANK(Datenerfassung!R653),\"\",Datenerfassung!R653)","v":""},{"$f":"IF(ISBLANK(Datenerfassung!S653),\"\",Datenerfassung!S653)","v":""},{"$f":"IF(D643=\"\",\"\",IF(E643=\"\",D643,D643&\" - \"&E643))","v":""},{"$f":"IF(ISBLANK(Datenerfassung!U653),\"\",Datenerfassung!U653)","v":""},{"$f":"IF(ISBLANK(Datenerfassung!O653),\"\",Datenerfassung!O653)","v":""},{"$f":"IF(ISBLANK(Datenerfassung!D653),IF(COUNTBLANK(A643:H643)+COUNTBLANK(J643:O643)=14,\"\",\"- ohne Titel -\"),Datenerfassung!D653)","v":""},{"$f":"IF(ISBLANK(Datenerfassung!G653),\"\",Datenerfassung!G653)","v":""},{"$f":"IF(OR(E643=\"\",G643=\"\"),\"\",\"01.01.\"&RIGHT(E643,4)+G643+1)","v":""},{"$f":"IF(ISBLANK(Datenerfassung!X653),\"\",Datenerfassung!X653)","v":""},{"$f":"IF(COUNTBLANK(Datenerfassung!H653:'Datenerfassung'!N653)=7,\"\",CONCATENATE( CONCATENATE(IF(ISBLANK(Datenerfassung!H653),\" \",Datenerfassung!H653 ),\" [IS]\"), CONCATENATE(IF(ISBLANK(Datenerfassung!I653),\" \",Datenerfassung!I653 ),\" [IS]\"), CONCATENATE(IF(ISBLANK(Datenerfassung!J653),\" \",Datenerfassung!J653 ),\" [IS]\"), CONCATENATE(IF(ISBLANK(Datenerfassung!K653),\" \",Datenerfassung!K653 ),\" [IS]\"), CONCATENATE(IF(ISBLANK(Datenerfassung!L653),\" \",Datenerfassung!L653 ),\" [IS]\"), CONCATENATE(IF(ISBLANK(Datenerfassung!M653),\" \",Datenerfassung!M653 ),\" [IS]\"), IF(ISBLANK(Datenerfassung!N653),\" \",Datenerfassung!N653 ) ))","v":""},{"$f":"IF(ISBLANK(Datenerfassung!V653),\"\",Datenerfassung!V653)","v":""},{"$f":"IF(ISBLANK(Datenerfassung!Q653),\"\",Datenerfassung!Q653)","v":""}]
[{"$f":"IF(ISBLANK(Datenerfassung!A654),\"\",Datenerfassung!A654)","v":""},{"$f":"IF(ISBLANK(Datenerfassung!B654),\"\",Datenerfassung!B654)","v":""},{"$f":"IF(ISBLANK(Datenerfassung!C654),\"\",Datenerfassung!C654)","v":""},{"$f":"IF(ISBLANK(Datenerfassung!R654),\"\",Datenerfassung!R654)","v":""},{"$f":"IF(ISBLANK(Datenerfassung!S654),\"\",Datenerfassung!S654)","v":""},"",{"$f":"IF(ISBLANK(Datenerfassung!U654),\"\",Datenerfassung!U654)","v":""},{"$f":"IF(ISBLANK(Datenerfassung!O654),\"\",Datenerfassung!O654)","v":""},{"$f":"IF(ISBLANK(Datenerfassung!D654),IF(COUNTBLANK(A644:H644)+COUNTBLANK(J644:O644)=14,\"\",\"- ohne Titel -\"),Datenerfassung!D654)","v":""},{"$f":"IF(ISBLANK(Datenerfassung!G654),\"\",Datenerfassung!G654)","v":""},"",{"$f":"IF(ISBLANK(Datenerfassung!X654),\"\",Datenerfassung!X654)","v":""},{"$f":"IF(COUNTBLANK(Datenerfassung!H654:'Datenerfassung'!N654)=7,\"\",CONCATENATE( CONCATENATE(IF(ISBLANK(Datenerfassung!H654),\" \",Datenerfassung!H654 ),\" [IS]\"), CONCATENATE(IF(ISBLANK(Datenerfassung!I654),\" \",Datenerfassung!I654 ),\" [IS]\"), CONCATENATE(IF(ISBLANK(Datenerfassung!J654),\" \",Datenerfassung!J654 ),\" [IS]\"), CONCATENATE(IF(ISBLANK(Datenerfassung!K654),\" \",Datenerfassung!K654 ),\" [IS]\"), CONCATENATE(IF(ISBLANK(Datenerfassung!L654),\" \",Datenerfassung!L654 ),\" [IS]\"), CONCATENATE(IF(ISBLANK(Datenerfassung!M654),\" \",Datenerfassung!M654 ),\" [IS]\"), IF(ISBLANK(Datenerfassung!N654),\" \",Datenerfassung!N654 ) ))","v":""},{"$f":"IF(ISBLANK(Datenerfassung!V654),\"\",Datenerfassung!V654)","v":""},{"$f":"IF(ISBLANK(Datenerfassung!Q654),\"\",Datenerfassung!Q654)","v":""}]
[{"$f":"IF(ISBLANK(Datenerfassung!A655),\"\",Datenerfassung!A655)","v":""},{"$f":"IF(ISBLANK(Datenerfassung!B655),\"\",Datenerfassung!B655)","v":""},{"$f":"IF(ISBLANK(Datenerfassung!C655),\"\",Datenerfassung!C655)","v":""},{"$f":"IF(ISBLANK(Datenerfassung!R655),\"\",Datenerfassung!R655)","v":""},{"$f":"IF(ISBLANK(Datenerfassung!S655),\"\",Datenerfassung!S655)","v":""},"",{"$f":"IF(ISBLANK(Datenerfassung!U655),\"\",Datenerfassung!U655)","v":""},{"$f":"IF(ISBLANK(Datenerfassung!O655),\"\",Datenerfassung!O655)","v":""},{"$f":"IF(ISBLANK(Datenerfassung!D655),IF(COUNTBLANK(A645:H645)+COUNTBLANK(J645:O645)=14,\"\",\"- ohne Titel -\"),Datenerfassung!D655)","v":""},{"$f":"IF(ISBLANK(Datenerfassung!G655),\"\",Datenerfassung!G655)","v":""},"",{"$f":"IF(ISBLANK(Datenerfassung!X655),\"\",Datenerfassung!X655)","v":""},{"$f":"IF(COUNTBLANK(Datenerfassung!H655:'Datenerfassung'!N655)=7,\"\",CONCATENATE( CONCATENATE(IF(ISBLANK(Datenerfassung!H655),\" \",Datenerfassung!H655 ),\" [IS]\"), CONCATENATE(IF(ISBLANK(Datenerfassung!I655),\" \",Datenerfassung!I655 ),\" [IS]\"), CONCATENATE(IF(ISBLANK(Datenerfassung!J655),\" \",Datenerfassung!J655 ),\" [IS]\"), CONCATENATE(IF(ISBLANK(Datenerfassung!K655),\" \",Datenerfassung!K655 ),\" [IS]\"), CONCATENATE(IF(ISBLANK(Datenerfassung!L655),\" \",Datenerfassung!L655 ),\" [IS]\"), CONCATENATE(IF(ISBLANK(Datenerfassung!M655),\" \",Datenerfassung!M655 ),\" [IS]\"), IF(ISBLANK(Datenerfassung!N655),\" \",Datenerfassung!N655 ) ))","v":""},{"$f":"IF(ISBLANK(Datenerfassung!V655),\"\",Datenerfassung!V655)","v":""},{"$f":"IF(ISBLANK(Datenerfassung!Q655),\"\",Datenerfassung!Q655)","v":""}]
[{"$f":"IF(ISBLANK(Datenerfassung!A656),\"\",Datenerfassung!A656)","v":""},{"$f":"IF(ISBLANK(Datenerfassung!B656),\"\",Datenerfassung!B656)","v":""},{"$f":"IF(ISBLANK(Datenerfassung!C656),\"\",Datenerfassung!C656)","v":""},{"$f":"IF(ISBLANK(Datenerfassung!R656),\"\",Datenerfassung!R656)","v":""},{"$f":"IF(ISBLANK(Datenerfassung!S656),\"\",Datenerfassung!S656)","v":""},"",{"$f":"IF(ISBLANK(Datenerfassung!U656),\"\",Datenerfassung!U656)","v":""},{"$f":"IF(ISBLANK(Datenerfassung!O656),\"\",Datenerfassung!O656)","v":""},{"$f":"IF(ISBLANK(Datenerfassung!D656),IF(COUNTBLANK(A646:H646)+COUNTBLANK(J646:O646)=14,\"\",\"- ohne Titel -\"),Datenerfassung!D656)","v":""},{"$f":"IF(ISBLANK(Datenerfassung!G656),\"\",Datenerfassung!G656)","v":""},"",{"$f":"IF(ISBLANK(Datenerfassung!X656),\"\",Datenerfassung!X656)","v":""},{"$f":"IF(COUNTBLANK(Datenerfassung!H656:'Datenerfassung'!N656)=7,\"\",CONCATENATE( CONCATENATE(IF(ISBLANK(Datenerfassung!H656),\" \",Datenerfassung!H656 ),\" [IS]\"), CONCATENATE(IF(ISBLANK(Datenerfassung!I656),\" \",Datenerfassung!I656 ),\" [IS]\"), CONCATENATE(IF(ISBLANK(Datenerfassung!J656),\" \",Datenerfassung!J656 ),\" [IS]\"), CONCATENATE(IF(ISBLANK(Datenerfassung!K656),\" \",Datenerfassung!K656 ),\" [IS]\"), CONCATENATE(IF(ISBLANK(Datenerfassung!L656),\" \",Datenerfassung!L656 ),\" [IS]\"), CONCATENATE(IF(ISBLANK(Datenerfassung!M656),\" \",Datenerfassung!M656 ),\" [IS]\"), IF(ISBLANK(Datenerfassung!N656),\" \",Datenerfassung!N656 ) ))","v":""},{"$f":"IF(ISBLANK(Datenerfassung!V656),\"\",Datenerfassung!V656)","v":""},{"$f":"IF(ISBLANK(Datenerfassung!Q656),\"\",Datenerfassung!Q656)","v":""}]
[{"$f":"IF(ISBLANK(Datenerfassung!A657),\"\",Datenerfassung!A657)","v":""},{"$f":"IF(ISBLANK(Datenerfassung!B657),\"\",Datenerfassung!B657)","v":""},{"$f":"IF(ISBLANK(Datenerfassung!C657),\"\",Datenerfassung!C657)","v":""},{"$f":"IF(ISBLANK(Datenerfassung!R657),\"\",Datenerfassung!R657)","v":""},{"$f":"IF(ISBLANK(Datenerfassung!S657),\"\",Datenerfassung!S657)","v":""},"",{"$f":"IF(ISBLANK(Datenerfassung!U657),\"\",Datenerfassung!U657)","v":""},{"$f":"IF(ISBLANK(Datenerfassung!O657),\"\",Datenerfassung!O657)","v":""},{"$f":"IF(ISBLANK(Datenerfassung!D657),IF(COUNTBLANK(A647:H647)+COUNTBLANK(J647:O647)=14,\"\",\"- ohne Titel -\"),Datenerfassung!D657)","v":""},{"$f":"IF(ISBLANK(Datenerfassung!G657),\"\",Datenerfassung!G657)","v":""},"",{"$f":"IF(ISBLANK(Datenerfassung!X657),\"\",Datenerfassung!X657)","v":""},{"$f":"IF(COUNTBLANK(Datenerfassung!H657:'Datenerfassung'!N657)=7,\"\",CONCATENATE( CONCATENATE(IF(ISBLANK(Datenerfassung!H657),\" \",Datenerfassung!H657 ),\" [IS]\"), CONCATENATE(IF(ISBLANK(Datenerfassung!I657),\" \",Datenerfassung!I657 ),\" [IS]\"), CONCATENATE(IF(ISBLANK(Datenerfassung!J657),\" \",Datenerfassung!J657 ),\" [IS]\"), CONCATENATE(IF(ISBLANK(Datenerfassung!K657),\" \",Datenerfassung!K657 ),\" [IS]\"), CONCATENATE(IF(ISBLANK(Datenerfassung!L657),\" \",Datenerfassung!L657 ),\" [IS]\"), CONCATENATE(IF(ISBLANK(Datenerfassung!M657),\" \",Datenerfassung!M657 ),\" [IS]\"), IF(ISBLANK(Datenerfassung!N657),\" \",Datenerfassung!N657 ) ))","v":""},{"$f":"IF(ISBLANK(Datenerfassung!V657),\"\",Datenerfassung!V657)","v":""},{"$f":"IF(ISBLANK(Datenerfassung!Q657),\"\",Datenerfassung!Q657)","v":""}]
[{"$f":"IF(ISBLANK(Datenerfassung!A658),\"\",Datenerfassung!A658)","v":""},{"$f":"IF(ISBLANK(Datenerfassung!B658),\"\",Datenerfassung!B658)","v":""},{"$f":"IF(ISBLANK(Datenerfassung!C658),\"\",Datenerfassung!C658)","v":""},{"$f":"IF(ISBLANK(Datenerfassung!R658),\"\",Datenerfassung!R658)","v":""},{"$f":"IF(ISBLANK(Datenerfassung!S658),\"\",Datenerfassung!S658)","v":""},"",{"$f":"IF(ISBLANK(Datenerfassung!U658),\"\",Datenerfassung!U658)","v":""},{"$f":"IF(ISBLANK(Datenerfassung!O658),\"\",Datenerfassung!O658)","v":""},{"$f":"IF(ISBLANK(Datenerfassung!D658),IF(COUNTBLANK(A648:H648)+COUNTBLANK(J648:O648)=14,\"\",\"- ohne Titel -\"),Datenerfassung!D658)","v":""},{"$f":"IF(ISBLANK(Datenerfassung!G658),\"\",Datenerfassung!G658)","v":""},"",{"$f":"IF(ISBLANK(Datenerfassung!X658),\"\",Datenerfassung!X658)","v":""},{"$f":"IF(COUNTBLANK(Datenerfassung!H658:'Datenerfassung'!N658)=7,\"\",CONCATENATE( CONCATENATE(IF(ISBLANK(Datenerfassung!H658),\" \",Datenerfassung!H658 ),\" [IS]\"), CONCATENATE(IF(ISBLANK(Datenerfassung!I658),\" \",Datenerfassung!I658 ),\" [IS]\"), CONCATENATE(IF(ISBLANK(Datenerfassung!J658),\" \",Datenerfassung!J658 ),\" [IS]\"), CONCATENATE(IF(ISBLANK(Datenerfassung!K658),\" \",Datenerfassung!K658 ),\" [IS]\"), CONCATENATE(IF(ISBLANK(Datenerfassung!L658),\" \",Datenerfassung!L658 ),\" [IS]\"), CONCATENATE(IF(ISBLANK(Datenerfassung!M658),\" \",Datenerfassung!M658 ),\" [IS]\"), IF(ISBLANK(Datenerfassung!N658),\" \",Datenerfassung!N658 ) ))","v":""},{"$f":"IF(ISBLANK(Datenerfassung!V658),\"\",Datenerfassung!V658)","v":""},{"$f":"IF(ISBLANK(Datenerfassung!Q658),\"\",Datenerfassung!Q658)","v":""}]
[{"$f":"IF(ISBLANK(Datenerfassung!A659),\"\",Datenerfassung!A659)","v":""},{"$f":"IF(ISBLANK(Datenerfassung!B659),\"\",Datenerfassung!B659)","v":""},{"$f":"IF(ISBLANK(Datenerfassung!C659),\"\",Datenerfassung!C659)","v":""},{"$f":"IF(ISBLANK(Datenerfassung!R659),\"\",Datenerfassung!R659)","v":""},{"$f":"IF(ISBLANK(Datenerfassung!S659),\"\",Datenerfassung!S659)","v":""},"",{"$f":"IF(ISBLANK(Datenerfassung!U659),\"\",Datenerfassung!U659)","v":""},{"$f":"IF(ISBLANK(Datenerfassung!O659),\"\",Datenerfassung!O659)","v":""},{"$f":"IF(ISBLANK(Datenerfassung!D659),IF(COUNTBLANK(A649:H649)+COUNTBLANK(J649:O649)=14,\"\",\"- ohne Titel -\"),Datenerfassung!D659)","v":""},{"$f":"IF(ISBLANK(Datenerfassung!G659),\"\",Datenerfassung!G659)","v":""},"",{"$f":"IF(ISBLANK(Datenerfassung!X659),\"\",Datenerfassung!X659)","v":""},{"$f":"IF(COUNTBLANK(Datenerfassung!H659:'Datenerfassung'!N659)=7,\"\",CONCATENATE( CONCATENATE(IF(ISBLANK(Datenerfassung!H659),\" \",Datenerfassung!H659 ),\" [IS]\"), CONCATENATE(IF(ISBLANK(Datenerfassung!I659),\" \",Datenerfassung!I659 ),\" [IS]\"), CONCATENATE(IF(ISBLANK(Datenerfassung!J659),\" \",Datenerfassung!J659 ),\" [IS]\"), CONCATENATE(IF(ISBLANK(Datenerfassung!K659),\" \",Datenerfassung!K659 ),\" [IS]\"), CONCATENATE(IF(ISBLANK(Datenerfassung!L659),\" \",Datenerfassung!L659 ),\" [IS]\"), CONCATENATE(IF(ISBLANK(Datenerfassung!M659),\" \",Datenerfassung!M659 ),\" [IS]\"), IF(ISBLANK(Datenerfassung!N659),\" \",Datenerfassung!N659 ) ))","v":""},{"$f":"IF(ISBLANK(Datenerfassung!V659),\"\",Datenerfassung!V659)","v":""},{"$f":"IF(ISBLANK(Datenerfassung!Q659),\"\",Datenerfassung!Q659)","v":""}]
[{"$f":"IF(ISBLANK(Datenerfassung!A660),\"\",Datenerfassung!A660)","v":""},{"$f":"IF(ISBLANK(Datenerfassung!B660),\"\",Datenerfassung!B660)","v":""},{"$f":"IF(ISBLANK(Datenerfassung!C660),\"\",Datenerfassung!C660)","v":""},{"$f":"IF(ISBLANK(Datenerfassung!R660),\"\",Datenerfassung!R660)","v":""},{"$f":"IF(ISBLANK(Datenerfassung!S660),\"\",Datenerfassung!S660)","v":""},"",{"$f":"IF(ISBLANK(Datenerfassung!U660),\"\",Datenerfassung!U660)","v":""},{"$f":"IF(ISBLANK(Datenerfassung!O660),\"\",Datenerfassung!O660)","v":""},{"$f":"IF(ISBLANK(Datenerfassung!D660),IF(COUNTBLANK(A650:H650)+COUNTBLANK(J650:O650)=14,\"\",\"- ohne Titel -\"),Datenerfassung!D660)","v":""},{"$f":"IF(ISBLANK(Datenerfassung!G660),\"\",Datenerfassung!G660)","v":""},"",{"$f":"IF(ISBLANK(Datenerfassung!X660),\"\",Datenerfassung!X660)","v":""},{"$f":"IF(COUNTBLANK(Datenerfassung!H660:'Datenerfassung'!N660)=7,\"\",CONCATENATE( CONCATENATE(IF(ISBLANK(Datenerfassung!H660),\" \",Datenerfassung!H660 ),\" [IS]\"), CONCATENATE(IF(ISBLANK(Datenerfassung!I660),\" \",Datenerfassung!I660 ),\" [IS]\"), CONCATENATE(IF(ISBLANK(Datenerfassung!J660),\" \",Datenerfassung!J660 ),\" [IS]\"), CONCATENATE(IF(ISBLANK(Datenerfassung!K660),\" \",Datenerfassung!K660 ),\" [IS]\"), CONCATENATE(IF(ISBLANK(Datenerfassung!L660),\" \",Datenerfassung!L660 ),\" [IS]\"), CONCATENATE(IF(ISBLANK(Datenerfassung!M660),\" \",Datenerfassung!M660 ),\" [IS]\"), IF(ISBLANK(Datenerfassung!N660),\" \",Datenerfassung!N660 ) ))","v":""},{"$f":"IF(ISBLANK(Datenerfassung!V660),\"\",Datenerfassung!V660)","v":""},{"$f":"IF(ISBLANK(Datenerfassung!Q660),\"\",Datenerfassung!Q660)","v":""}]
[{"$f":"IF(ISBLANK(Datenerfassung!A661),\"\",Datenerfassung!A661)","v":""},{"$f":"IF(ISBLANK(Datenerfassung!B661),\"\",Datenerfassung!B661)","v":""},{"$f":"IF(ISBLANK(Datenerfassung!C661),\"\",Datenerfassung!C661)","v":""},{"$f":"IF(ISBLANK(Datenerfassung!R661),\"\",Datenerfassung!R661)","v":""},{"$f":"IF(ISBLANK(Datenerfassung!S661),\"\",Datenerfassung!S661)","v":""},"",{"$f":"IF(ISBLANK(Datenerfassung!U661),\"\",Datenerfassung!U661)","v":""},{"$f":"IF(ISBLANK(Datenerfassung!O661),\"\",Datenerfassung!O661)","v":""},{"$f":"IF(ISBLANK(Datenerfassung!D661),IF(COUNTBLANK(A651:H651)+COUNTBLANK(J651:O651)=14,\"\",\"- ohne Titel -\"),Datenerfassung!D661)","v":""},{"$f":"IF(ISBLANK(Datenerfassung!G661),\"\",Datenerfassung!G661)","v":""},"",{"$f":"IF(ISBLANK(Datenerfassung!X661),\"\",Datenerfassung!X661)","v":""},{"$f":"IF(COUNTBLANK(Datenerfassung!H661:'Datenerfassung'!N661)=7,\"\",CONCATENATE( CONCATENATE(IF(ISBLANK(Datenerfassung!H661),\" \",Datenerfassung!H661 ),\" [IS]\"), CONCATENATE(IF(ISBLANK(Datenerfassung!I661),\" \",Datenerfassung!I661 ),\" [IS]\"), CONCATENATE(IF(ISBLANK(Datenerfassung!J661),\" \",Datenerfassung!J661 ),\" [IS]\"), CONCATENATE(IF(ISBLANK(Datenerfassung!K661),\" \",Datenerfassung!K661 ),\" [IS]\"), CONCATENATE(IF(ISBLANK(Datenerfassung!L661),\" \",Datenerfassung!L661 ),\" [IS]\"), CONCATENATE(IF(ISBLANK(Datenerfassung!M661),\" \",Datenerfassung!M661 ),\" [IS]\"), IF(ISBLANK(Datenerfassung!N661),\" \",Datenerfassung!N661 ) ))","v":""},{"$f":"IF(ISBLANK(Datenerfassung!V661),\"\",Datenerfassung!V661)","v":""},{"$f":"IF(ISBLANK(Datenerfassung!Q661),\"\",Datenerfassung!Q661)","v":""}]
[{"$f":"IF(ISBLANK(Datenerfassung!A662),\"\",Datenerfassung!A662)","v":""},{"$f":"IF(ISBLANK(Datenerfassung!B662),\"\",Datenerfassung!B662)","v":""},{"$f":"IF(ISBLANK(Datenerfassung!C662),\"\",Datenerfassung!C662)","v":""},{"$f":"IF(ISBLANK(Datenerfassung!R662),\"\",Datenerfassung!R662)","v":""},{"$f":"IF(ISBLANK(Datenerfassung!S662),\"\",Datenerfassung!S662)","v":""},"",{"$f":"IF(ISBLANK(Datenerfassung!U662),\"\",Datenerfassung!U662)","v":""},{"$f":"IF(ISBLANK(Datenerfassung!O662),\"\",Datenerfassung!O662)","v":""},{"$f":"IF(ISBLANK(Datenerfassung!D662),IF(COUNTBLANK(A652:H652)+COUNTBLANK(J652:O652)=14,\"\",\"- ohne Titel -\"),Datenerfassung!D662)","v":""},{"$f":"IF(ISBLANK(Datenerfassung!G662),\"\",Datenerfassung!G662)","v":""},"",{"$f":"IF(ISBLANK(Datenerfassung!X662),\"\",Datenerfassung!X662)","v":""},{"$f":"IF(COUNTBLANK(Datenerfassung!H662:'Datenerfassung'!N662)=7,\"\",CONCATENATE( CONCATENATE(IF(ISBLANK(Datenerfassung!H662),\" \",Datenerfassung!H662 ),\" [IS]\"), CONCATENATE(IF(ISBLANK(Datenerfassung!I662),\" \",Datenerfassung!I662 ),\" [IS]\"), CONCATENATE(IF(ISBLANK(Datenerfassung!J662),\" \",Datenerfassung!J662 ),\" [IS]\"), CONCATENATE(IF(ISBLANK(Datenerfassung!K662),\" \",Datenerfassung!K662 ),\" [IS]\"), CONCATENATE(IF(ISBLANK(Datenerfassung!L662),\" \",Datenerfassung!L662 ),\" [IS]\"), CONCATENATE(IF(ISBLANK(Datenerfassung!M662),\" \",Datenerfassung!M662 ),\" [IS]\"), IF(ISBLANK(Datenerfassung!N662),\" \",Datenerfassung!N662 ) ))","v":""},{"$f":"IF(ISBLANK(Datenerfassung!V662),\"\",Datenerfassung!V662)","v":""},{"$f":"IF(ISBLANK(Datenerfassung!Q662),\"\",Datenerfassung!Q662)","v":""}]
[{"$f":"IF(ISBLANK(Datenerfassung!A663),\"\",Datenerfassung!A663)","v":""},{"$f":"IF(ISBLANK(Datenerfassung!B663),\"\",Datenerfassung!B663)","v":""},{"$f":"IF(ISBLANK(Datenerfassung!C663),\"\",Datenerfassung!C663)","v":""},{"$f":"IF(ISBLANK(Datenerfassung!R663),\"\",Datenerfassung!R663)","v":""},{"$f":"IF(ISBLANK(Datenerfassung!S663),\"\",Datenerfassung!S663)","v":""},"",{"$f":"IF(ISBLANK(Datenerfassung!U663),\"\",Datenerfassung!U663)","v":""},{"$f":"IF(ISBLANK(Datenerfassung!O663),\"\",Datenerfassung!O663)","v":""},{"$f":"IF(ISBLANK(Datenerfassung!D663),IF(COUNTBLANK(A653:H653)+COUNTBLANK(J653:O653)=14,\"\",\"- ohne Titel -\"),Datenerfassung!D663)","v":""},{"$f":"IF(ISBLANK(Datenerfassung!G663),\"\",Datenerfassung!G663)","v":""},"",{"$f":"IF(ISBLANK(Datenerfassung!X663),\"\",Datenerfassung!X663)","v":""},{"$f":"IF(COUNTBLANK(Datenerfassung!H663:'Datenerfassung'!N663)=7,\"\",CONCATENATE( CONCATENATE(IF(ISBLANK(Datenerfassung!H663),\" \",Datenerfassung!H663 ),\" [IS]\"), CONCATENATE(IF(ISBLANK(Datenerfassung!I663),\" \",Datenerfassung!I663 ),\" [IS]\"), CONCATENATE(IF(ISBLANK(Datenerfassung!J663),\" \",Datenerfassung!J663 ),\" [IS]\"), CONCATENATE(IF(ISBLANK(Datenerfassung!K663),\" \",Datenerfassung!K663 ),\" [IS]\"), CONCATENATE(IF(ISBLANK(Datenerfassung!L663),\" \",Datenerfassung!L663 ),\" [IS]\"), CONCATENATE(IF(ISBLANK(Datenerfassung!M663),\" \",Datenerfassung!M663 ),\" [IS]\"), IF(ISBLANK(Datenerfassung!N663),\" \",Datenerfassung!N663 ) ))","v":""},{"$f":"IF(ISBLANK(Datenerfassung!V663),\"\",Datenerfassung!V663)","v":""},{"$f":"IF(ISBLANK(Datenerfassung!Q663),\"\",Datenerfassung!Q663)","v":""}]
[{"$f":"IF(ISBLANK(Datenerfassung!A664),\"\",Datenerfassung!A664)","v":""},{"$f":"IF(ISBLANK(Datenerfassung!B664),\"\",Datenerfassung!B664)","v":""},{"$f":"IF(ISBLANK(Datenerfassung!C664),\"\",Datenerfassung!C664)","v":""},{"$f":"IF(ISBLANK(Datenerfassung!R664),\"\",Datenerfassung!R664)","v":""},{"$f":"IF(ISBLANK(Datenerfassung!S664),\"\",Datenerfassung!S664)","v":""},"",{"$f":"IF(ISBLANK(Datenerfassung!U664),\"\",Datenerfassung!U664)","v":""},{"$f":"IF(ISBLANK(Datenerfassung!O664),\"\",Datenerfassung!O664)","v":""},{"$f":"IF(ISBLANK(Datenerfassung!D664),IF(COUNTBLANK(A654:H654)+COUNTBLANK(J654:O654)=14,\"\",\"- ohne Titel -\"),Datenerfassung!D664)","v":""},{"$f":"IF(ISBLANK(Datenerfassung!G664),\"\",Datenerfassung!G664)","v":""},"",{"$f":"IF(ISBLANK(Datenerfassung!X664),\"\",Datenerfassung!X664)","v":""},{"$f":"IF(COUNTBLANK(Datenerfassung!H664:'Datenerfassung'!N664)=7,\"\",CONCATENATE( CONCATENATE(IF(ISBLANK(Datenerfassung!H664),\" \",Datenerfassung!H664 ),\" [IS]\"), CONCATENATE(IF(ISBLANK(Datenerfassung!I664),\" \",Datenerfassung!I664 ),\" [IS]\"), CONCATENATE(IF(ISBLANK(Datenerfassung!J664),\" \",Datenerfassung!J664 ),\" [IS]\"), CONCATENATE(IF(ISBLANK(Datenerfassung!K664),\" \",Datenerfassung!K664 ),\" [IS]\"), CONCATENATE(IF(ISBLANK(Datenerfassung!L664),\" \",Datenerfassung!L664 ),\" [IS]\"), CONCATENATE(IF(ISBLANK(Datenerfassung!M664),\" \",Datenerfassung!M664 ),\" [IS]\"), IF(ISBLANK(Datenerfassung!N664),\" \",Datenerfassung!N664 ) ))","v":""},{"$f":"IF(ISBLANK(Datenerfassung!V664),\"\",Datenerfassung!V664)","v":""},{"$f":"IF(ISBLANK(Datenerfassung!Q664),\"\",Datenerfassung!Q664)","v":""}]
[{"$f":"IF(ISBLANK(Datenerfassung!A665),\"\",Datenerfassung!A665)","v":""},{"$f":"IF(ISBLANK(Datenerfassung!B665),\"\",Datenerfassung!B665)","v":""},{"$f":"IF(ISBLANK(Datenerfassung!C665),\"\",Datenerfassung!C665)","v":""},{"$f":"IF(ISBLANK(Datenerfassung!R665),\"\",Datenerfassung!R665)","v":""},{"$f":"IF(ISBLANK(Datenerfassung!S665),\"\",Datenerfassung!S665)","v":""},"",{"$f":"IF(ISBLANK(Datenerfassung!U665),\"\",Datenerfassung!U665)","v":""},{"$f":"IF(ISBLANK(Datenerfassung!O665),\"\",Datenerfassung!O665)","v":""},{"$f":"IF(ISBLANK(Datenerfassung!D665),IF(COUNTBLANK(A655:H655)+COUNTBLANK(J655:O655)=14,\"\",\"- ohne Titel -\"),Datenerfassung!D665)","v":""},{"$f":"IF(ISBLANK(Datenerfassung!G665),\"\",Datenerfassung!G665)","v":""},"",{"$f":"IF(ISBLANK(Datenerfassung!X665),\"\",Datenerfassung!X665)","v":""},{"$f":"IF(COUNTBLANK(Datenerfassung!H665:'Datenerfassung'!N665)=7,\"\",CONCATENATE( CONCATENATE(IF(ISBLANK(Datenerfassung!H665),\" \",Datenerfassung!H665 ),\" [IS]\"), CONCATENATE(IF(ISBLANK(Datenerfassung!I665),\" \",Datenerfassung!I665 ),\" [IS]\"), CONCATENATE(IF(ISBLANK(Datenerfassung!J665),\" \",Datenerfassung!J665 ),\" [IS]\"), CONCATENATE(IF(ISBLANK(Datenerfassung!K665),\" \",Datenerfassung!K665 ),\" [IS]\"), CONCATENATE(IF(ISBLANK(Datenerfassung!L665),\" \",Datenerfassung!L665 ),\" [IS]\"), CONCATENATE(IF(ISBLANK(Datenerfassung!M665),\" \",Datenerfassung!M665 ),\" [IS]\"), IF(ISBLANK(Datenerfassung!N665),\" \",Datenerfassung!N665 ) ))","v":""},{"$f":"IF(ISBLANK(Datenerfassung!V665),\"\",Datenerfassung!V665)","v":""},{"$f":"IF(ISBLANK(Datenerfassung!Q665),\"\",Datenerfassung!Q665)","v":""}]
[{"$f":"IF(ISBLANK(Datenerfassung!A666),\"\",Datenerfassung!A666)","v":""},{"$f":"IF(ISBLANK(Datenerfassung!B666),\"\",Datenerfassung!B666)","v":""},{"$f":"IF(ISBLANK(Datenerfassung!C666),\"\",Datenerfassung!C666)","v":""},{"$f":"IF(ISBLANK(Datenerfassung!R666),\"\",Datenerfassung!R666)","v":""},{"$f":"IF(ISBLANK(Datenerfassung!S666),\"\",Datenerfassung!S666)","v":""},"",{"$f":"IF(ISBLANK(Datenerfassung!U666),\"\",Datenerfassung!U666)","v":""},{"$f":"IF(ISBLANK(Datenerfassung!O666),\"\",Datenerfassung!O666)","v":""},{"$f":"IF(ISBLANK(Datenerfassung!D666),IF(COUNTBLANK(A656:H656)+COUNTBLANK(J656:O656)=14,\"\",\"- ohne Titel -\"),Datenerfassung!D666)","v":""},{"$f":"IF(ISBLANK(Datenerfassung!G666),\"\",Datenerfassung!G666)","v":""},"",{"$f":"IF(ISBLANK(Datenerfassung!X666),\"\",Datenerfassung!X666)","v":""},{"$f":"IF(COUNTBLANK(Datenerfassung!H666:'Datenerfassung'!N666)=7,\"\",CONCATENATE( CONCATENATE(IF(ISBLANK(Datenerfassung!H666),\" \",Datenerfassung!H666 ),\" [IS]\"), CONCATENATE(IF(ISBLANK(Datenerfassung!I666),\" \",Datenerfassung!I666 ),\" [IS]\"), CONCATENATE(IF(ISBLANK(Datenerfassung!J666),\" \",Datenerfassung!J666 ),\" [IS]\"), CONCATENATE(IF(ISBLANK(Datenerfassung!K666),\" \",Datenerfassung!K666 ),\" [IS]\"), CONCATENATE(IF(ISBLANK(Datenerfassung!L666),\" \",Datenerfassung!L666 ),\" [IS]\"), CONCATENATE(IF(ISBLANK(Datenerfassung!M666),\" \",Datenerfassung!M666 ),\" [IS]\"), IF(ISBLANK(Datenerfassung!N666),\" \",Datenerfassung!N666 ) ))","v":""},{"$f":"IF(ISBLANK(Datenerfassung!V666),\"\",Datenerfassung!V666)","v":""},{"$f":"IF(ISBLANK(Datenerfassung!Q666),\"\",Datenerfassung!Q666)","v":""}]
[{"$f":"IF(ISBLANK(Datenerfassung!A667),\"\",Datenerfassung!A667)","v":""},{"$f":"IF(ISBLANK(Datenerfassung!B667),\"\",Datenerfassung!B667)","v":""},{"$f":"IF(ISBLANK(Datenerfassung!C667),\"\",Datenerfassung!C667)","v":""},{"$f":"IF(ISBLANK(Datenerfassung!R667),\"\",Datenerfassung!R667)","v":""},{"$f":"IF(ISBLANK(Datenerfassung!S667),\"\",Datenerfassung!S667)","v":""},"",{"$f":"IF(ISBLANK(Datenerfassung!U667),\"\",Datenerfassung!U667)","v":""},{"$f":"IF(ISBLANK(Datenerfassung!O667),\"\",Datenerfassung!O667)","v":""},{"$f":"IF(ISBLANK(Datenerfassung!D667),IF(COUNTBLANK(A657:H657)+COUNTBLANK(J657:O657)=14,\"\",\"- ohne Titel -\"),Datenerfassung!D667)","v":""},{"$f":"IF(ISBLANK(Datenerfassung!G667),\"\",Datenerfassung!G667)","v":""},"",{"$f":"IF(ISBLANK(Datenerfassung!X667),\"\",Datenerfassung!X667)","v":""},{"$f":"IF(COUNTBLANK(Datenerfassung!H667:'Datenerfassung'!N667)=7,\"\",CONCATENATE( CONCATENATE(IF(ISBLANK(Datenerfassung!H667),\" \",Datenerfassung!H667 ),\" [IS]\"), CONCATENATE(IF(ISBLANK(Datenerfassung!I667),\" \",Datenerfassung!I667 ),\" [IS]\"), CONCATENATE(IF(ISBLANK(Datenerfassung!J667),\" \",Datenerfassung!J667 ),\" [IS]\"), CONCATENATE(IF(ISBLANK(Datenerfassung!K667),\" \",Datenerfassung!K667 ),\" [IS]\"), CONCATENATE(IF(ISBLANK(Datenerfassung!L667),\" \",Datenerfassung!L667 ),\" [IS]\"), CONCATENATE(IF(ISBLANK(Datenerfassung!M667),\" \",Datenerfassung!M667 ),\" [IS]\"), IF(ISBLANK(Datenerfassung!N667),\" \",Datenerfassung!N667 ) ))","v":""},{"$f":"IF(ISBLANK(Datenerfassung!V667),\"\",Datenerfassung!V667)","v":""},{"$f":"IF(ISBLANK(Datenerfassung!Q667),\"\",Datenerfassung!Q667)","v":""}]
[{"$f":"IF(ISBLANK(Datenerfassung!A668),\"\",Datenerfassung!A668)","v":""},{"$f":"IF(ISBLANK(Datenerfassung!B668),\"\",Datenerfassung!B668)","v":""},{"$f":"IF(ISBLANK(Datenerfassung!C668),\"\",Datenerfassung!C668)","v":""},{"$f":"IF(ISBLANK(Datenerfassung!R668),\"\",Datenerfassung!R668)","v":""},{"$f":"IF(ISBLANK(Datenerfassung!S668),\"\",Datenerfassung!S668)","v":""},"",{"$f":"IF(ISBLANK(Datenerfassung!U668),\"\",Datenerfassung!U668)","v":""},{"$f":"IF(ISBLANK(Datenerfassung!O668),\"\",Datenerfassung!O668)","v":""},{"$f":"IF(ISBLANK(Datenerfassung!D668),IF(COUNTBLANK(A658:H658)+COUNTBLANK(J658:O658)=14,\"\",\"- ohne Titel -\"),Datenerfassung!D668)","v":""},{"$f":"IF(ISBLANK(Datenerfassung!G668),\"\",Datenerfassung!G668)","v":""},"",{"$f":"IF(ISBLANK(Datenerfassung!X668),\"\",Datenerfassung!X668)","v":""},{"$f":"IF(COUNTBLANK(Datenerfassung!H668:'Datenerfassung'!N668)=7,\"\",CONCATENATE( CONCATENATE(IF(ISBLANK(Datenerfassung!H668),\" \",Datenerfassung!H668 ),\" [IS]\"), CONCATENATE(IF(ISBLANK(Datenerfassung!I668),\" \",Datenerfassung!I668 ),\" [IS]\"), CONCATENATE(IF(ISBLANK(Datenerfassung!J668),\" \",Datenerfassung!J668 ),\" [IS]\"), CONCATENATE(IF(ISBLANK(Datenerfassung!K668),\" \",Datenerfassung!K668 ),\" [IS]\"), CONCATENATE(IF(ISBLANK(Datenerfassung!L668),\" \",Datenerfassung!L668 ),\" [IS]\"), CONCATENATE(IF(ISBLANK(Datenerfassung!M668),\" \",Datenerfassung!M668 ),\" [IS]\"), IF(ISBLANK(Datenerfassung!N668),\" \",Datenerfassung!N668 ) ))","v":""},{"$f":"IF(ISBLANK(Datenerfassung!V668),\"\",Datenerfassung!V668)","v":""},{"$f":"IF(ISBLANK(Datenerfassung!Q668),\"\",Datenerfassung!Q668)","v":""}]
[{"$f":"IF(ISBLANK(Datenerfassung!A669),\"\",Datenerfassung!A669)","v":""},{"$f":"IF(ISBLANK(Datenerfassung!B669),\"\",Datenerfassung!B669)","v":""},{"$f":"IF(ISBLANK(Datenerfassung!C669),\"\",Datenerfassung!C669)","v":""},{"$f":"IF(ISBLANK(Datenerfassung!R669),\"\",Datenerfassung!R669)","v":""},{"$f":"IF(ISBLANK(Datenerfassung!S669),\"\",Datenerfassung!S669)","v":""},"",{"$f":"IF(ISBLANK(Datenerfassung!U669),\"\",Datenerfassung!U669)","v":""},{"$f":"IF(ISBLANK(Datenerfassung!O669),\"\",Datenerfassung!O669)","v":""},{"$f":"IF(ISBLANK(Datenerfassung!D669),IF(COUNTBLANK(A659:H659)+COUNTBLANK(J659:O659)=14,\"\",\"- ohne Titel -\"),Datenerfassung!D669)","v":""},{"$f":"IF(ISBLANK(Datenerfassung!G669),\"\",Datenerfassung!G669)","v":""},"",{"$f":"IF(ISBLANK(Datenerfassung!X669),\"\",Datenerfassung!X669)","v":""},{"$f":"IF(COUNTBLANK(Datenerfassung!H669:'Datenerfassung'!N669)=7,\"\",CONCATENATE( CONCATENATE(IF(ISBLANK(Datenerfassung!H669),\" \",Datenerfassung!H669 ),\" [IS]\"), CONCATENATE(IF(ISBLANK(Datenerfassung!I669),\" \",Datenerfassung!I669 ),\" [IS]\"), CONCATENATE(IF(ISBLANK(Datenerfassung!J669),\" \",Datenerfassung!J669 ),\" [IS]\"), CONCATENATE(IF(ISBLANK(Datenerfassung!K669),\" \",Datenerfassung!K669 ),\" [IS]\"), CONCATENATE(IF(ISBLANK(Datenerfassung!L669),\" \",Datenerfassung!L669 ),\" [IS]\"), CONCATENATE(IF(ISBLANK(Datenerfassung!M669),\" \",Datenerfassung!M669 ),\" [IS]\"), IF(ISBLANK(Datenerfassung!N669),\" \",Datenerfassung!N669 ) ))","v":""},{"$f":"IF(ISBLANK(Datenerfassung!V669),\"\",Datenerfassung!V669)","v":""},{"$f":"IF(ISBLANK(Datenerfassung!Q669),\"\",Datenerfassung!Q669)","v":""}]
[{"$f":"IF(ISBLANK(Datenerfassung!A670),\"\",Datenerfassung!A670)","v":""},{"$f":"IF(ISBLANK(Datenerfassung!B670),\"\",Datenerfassung!B670)","v":""},{"$f":"IF(ISBLANK(Datenerfassung!C670),\"\",Datenerfassung!C670)","v":""},{"$f":"IF(ISBLANK(Datenerfassung!R670),\"\",Datenerfassung!R670)","v":""},{"$f":"IF(ISBLANK(Datenerfassung!S670),\"\",Datenerfassung!S670)","v":""},"",{"$f":"IF(ISBLANK(Datenerfassung!U670),\"\",Datenerfassung!U670)","v":""},{"$f":"IF(ISBLANK(Datenerfassung!O670),\"\",Datenerfassung!O670)","v":""},{"$f":"IF(ISBLANK(Datenerfassung!D670),IF(COUNTBLANK(A660:H660)+COUNTBLANK(J660:O660)=14,\"\",\"- ohne Titel -\"),Datenerfassung!D670)","v":""},{"$f":"IF(ISBLANK(Datenerfassung!G670),\"\",Datenerfassung!G670)","v":""},"",{"$f":"IF(ISBLANK(Datenerfassung!X670),\"\",Datenerfassung!X670)","v":""},{"$f":"IF(COUNTBLANK(Datenerfassung!H670:'Datenerfassung'!N670)=7,\"\",CONCATENATE( CONCATENATE(IF(ISBLANK(Datenerfassung!H670),\" \",Datenerfassung!H670 ),\" [IS]\"), CONCATENATE(IF(ISBLANK(Datenerfassung!I670),\" \",Datenerfassung!I670 ),\" [IS]\"), CONCATENATE(IF(ISBLANK(Datenerfassung!J670),\" \",Datenerfassung!J670 ),\" [IS]\"), CONCATENATE(IF(ISBLANK(Datenerfassung!K670),\" \",Datenerfassung!K670 ),\" [IS]\"), CONCATENATE(IF(ISBLANK(Datenerfassung!L670),\" \",Datenerfassung!L670 ),\" [IS]\"), CONCATENATE(IF(ISBLANK(Datenerfassung!M670),\" \",Datenerfassung!M670 ),\" [IS]\"), IF(ISBLANK(Datenerfassung!N670),\" \",Datenerfassung!N670 ) ))","v":""},{"$f":"IF(ISBLANK(Datenerfassung!V670),\"\",Datenerfassung!V670)","v":""},{"$f":"IF(ISBLANK(Datenerfassung!Q670),\"\",Datenerfassung!Q670)","v":""}]
[{"$f":"IF(ISBLANK(Datenerfassung!A671),\"\",Datenerfassung!A671)","v":""},{"$f":"IF(ISBLANK(Datenerfassung!B671),\"\",Datenerfassung!B671)","v":""},{"$f":"IF(ISBLANK(Datenerfassung!C671),\"\",Datenerfassung!C671)","v":""},{"$f":"IF(ISBLANK(Datenerfassung!R671),\"\",Datenerfassung!R671)","v":""},{"$f":"IF(ISBLANK(Datenerfassung!S671),\"\",Datenerfassung!S671)","v":""},"",{"$f":"IF(ISBLANK(Datenerfassung!U671),\"\",Datenerfassung!U671)","v":""},{"$f":"IF(ISBLANK(Datenerfassung!O671),\"\",Datenerfassung!O671)","v":""},{"$f":"IF(ISBLANK(Datenerfassung!D671),IF(COUNTBLANK(A661:H661)+COUNTBLANK(J661:O661)=14,\"\",\"- ohne Titel -\"),Datenerfassung!D671)","v":""},{"$f":"IF(ISBLANK(Datenerfassung!G671),\"\",Datenerfassung!G671)","v":""},"",{"$f":"IF(ISBLANK(Datenerfassung!X671),\"\",Datenerfassung!X671)","v":""},{"$f":"IF(COUNTBLANK(Datenerfassung!H671:'Datenerfassung'!N671)=7,\"\",CONCATENATE( CONCATENATE(IF(ISBLANK(Datenerfassung!H671),\" \",Datenerfassung!H671 ),\" [IS]\"), CONCATENATE(IF(ISBLANK(Datenerfassung!I671),\" \",Datenerfassung!I671 ),\" [IS]\"), CONCATENATE(IF(ISBLANK(Datenerfassung!J671),\" \",Datenerfassung!J671 ),\" [IS]\"), CONCATENATE(IF(ISBLANK(Datenerfassung!K671),\" \",Datenerfassung!K671 ),\" [IS]\"), CONCATENATE(IF(ISBLANK(Datenerfassung!L671),\" \",Datenerfassung!L671 ),\" [IS]\"), CONCATENATE(IF(ISBLANK(Datenerfassung!M671),\" \",Datenerfassung!M671 ),\" [IS]\"), IF(ISBLANK(Datenerfassung!N671),\" \",Datenerfassung!N671 ) ))","v":""},{"$f":"IF(ISBLANK(Datenerfassung!V671),\"\",Datenerfassung!V671)","v":""},{"$f":"IF(ISBLANK(Datenerfassung!Q671),\"\",Datenerfassung!Q671)","v":""}]
[{"$f":"IF(ISBLANK(Datenerfassung!A672),\"\",Datenerfassung!A672)","v":""},{"$f":"IF(ISBLANK(Datenerfassung!B672),\"\",Datenerfassung!B672)","v":""},{"$f":"IF(ISBLANK(Datenerfassung!C672),\"\",Datenerfassung!C672)","v":""},{"$f":"IF(ISBLANK(Datenerfassung!R672),\"\",Datenerfassung!R672)","v":""},{"$f":"IF(ISBLANK(Datenerfassung!S672),\"\",Datenerfassung!S672)","v":""},"",{"$f":"IF(ISBLANK(Datenerfassung!U672),\"\",Datenerfassung!U672)","v":""},{"$f":"IF(ISBLANK(Datenerfassung!O672),\"\",Datenerfassung!O672)","v":""},{"$f":"IF(ISBLANK(Datenerfassung!D672),IF(COUNTBLANK(A662:H662)+COUNTBLANK(J662:O662)=14,\"\",\"- ohne Titel -\"),Datenerfassung!D672)","v":""},{"$f":"IF(ISBLANK(Datenerfassung!G672),\"\",Datenerfassung!G672)","v":""},"",{"$f":"IF(ISBLANK(Datenerfassung!X672),\"\",Datenerfassung!X672)","v":""},{"$f":"IF(COUNTBLANK(Datenerfassung!H672:'Datenerfassung'!N672)=7,\"\",CONCATENATE( CONCATENATE(IF(ISBLANK(Datenerfassung!H672),\" \",Datenerfassung!H672 ),\" [IS]\"), CONCATENATE(IF(ISBLANK(Datenerfassung!I672),\" \",Datenerfassung!I672 ),\" [IS]\"), CONCATENATE(IF(ISBLANK(Datenerfassung!J672),\" \",Datenerfassung!J672 ),\" [IS]\"), CONCATENATE(IF(ISBLANK(Datenerfassung!K672),\" \",Datenerfassung!K672 ),\" [IS]\"), CONCATENATE(IF(ISBLANK(Datenerfassung!L672),\" \",Datenerfassung!L672 ),\" [IS]\"), CONCATENATE(IF(ISBLANK(Datenerfassung!M672),\" \",Datenerfassung!M672 ),\" [IS]\"), IF(ISBLANK(Datenerfassung!N672),\" \",Datenerfassung!N672 ) ))","v":""},{"$f":"IF(ISBLANK(Datenerfassung!V672),\"\",Datenerfassung!V672)","v":""},{"$f":"IF(ISBLANK(Datenerfassung!Q672),\"\",Datenerfassung!Q672)","v":""}]
[{"$f":"IF(ISBLANK(Datenerfassung!A673),\"\",Datenerfassung!A673)","v":""},{"$f":"IF(ISBLANK(Datenerfassung!B673),\"\",Datenerfassung!B673)","v":""},{"$f":"IF(ISBLANK(Datenerfassung!C673),\"\",Datenerfassung!C673)","v":""},{"$f":"IF(ISBLANK(Datenerfassung!R673),\"\",Datenerfassung!R673)","v":""},{"$f":"IF(ISBLANK(Datenerfassung!S673),\"\",Datenerfassung!S673)","v":""},"",{"$f":"IF(ISBLANK(Datenerfassung!U673),\"\",Datenerfassung!U673)","v":""},{"$f":"IF(ISBLANK(Datenerfassung!O673),\"\",Datenerfassung!O673)","v":""},{"$f":"IF(ISBLANK(Datenerfassung!D673),IF(COUNTBLANK(A663:H663)+COUNTBLANK(J663:O663)=14,\"\",\"- ohne Titel -\"),Datenerfassung!D673)","v":""},{"$f":"IF(ISBLANK(Datenerfassung!G673),\"\",Datenerfassung!G673)","v":""},"",{"$f":"IF(ISBLANK(Datenerfassung!X673),\"\",Datenerfassung!X673)","v":""},{"$f":"IF(COUNTBLANK(Datenerfassung!H673:'Datenerfassung'!N673)=7,\"\",CONCATENATE( CONCATENATE(IF(ISBLANK(Datenerfassung!H673),\" \",Datenerfassung!H673 ),\" [IS]\"), CONCATENATE(IF(ISBLANK(Datenerfassung!I673),\" \",Datenerfassung!I673 ),\" [IS]\"), CONCATENATE(IF(ISBLANK(Datenerfassung!J673),\" \",Datenerfassung!J673 ),\" [IS]\"), CONCATENATE(IF(ISBLANK(Datenerfassung!K673),\" \",Datenerfassung!K673 ),\" [IS]\"), CONCATENATE(IF(ISBLANK(Datenerfassung!L673),\" \",Datenerfassung!L673 ),\" [IS]\"), CONCATENATE(IF(ISBLANK(Datenerfassung!M673),\" \",Datenerfassung!M673 ),\" [IS]\"), IF(ISBLANK(Datenerfassung!N673),\" \",Datenerfassung!N673 ) ))","v":""},{"$f":"IF(ISBLANK(Datenerfassung!V673),\"\",Datenerfassung!V673)","v":""},{"$f":"IF(ISBLANK(Datenerfassung!Q673),\"\",Datenerfassung!Q673)","v":""}]
[{"$f":"IF(ISBLANK(Datenerfassung!A674),\"\",Datenerfassung!A674)","v":""},{"$f":"IF(ISBLANK(Datenerfassung!B674),\"\",Datenerfassung!B674)","v":""},{"$f":"IF(ISBLANK(Datenerfassung!C674),\"\",Datenerfassung!C674)","v":""},{"$f":"IF(ISBLANK(Datenerfassung!R674),\"\",Datenerfassung!R674)","v":""},{"$f":"IF(ISBLANK(Datenerfassung!S674),\"\",Datenerfassung!S674)","v":""},"",{"$f":"IF(ISBLANK(Datenerfassung!U674),\"\",Datenerfassung!U674)","v":""},{"$f":"IF(ISBLANK(Datenerfassung!O674),\"\",Datenerfassung!O674)","v":""},{"$f":"IF(ISBLANK(Datenerfassung!D674),IF(COUNTBLANK(A664:H664)+COUNTBLANK(J664:O664)=14,\"\",\"- ohne Titel -\"),Datenerfassung!D674)","v":""},{"$f":"IF(ISBLANK(Datenerfassung!G674),\"\",Datenerfassung!G674)","v":""},"",{"$f":"IF(ISBLANK(Datenerfassung!X674),\"\",Datenerfassung!X674)","v":""},{"$f":"IF(COUNTBLANK(Datenerfassung!H674:'Datenerfassung'!N674)=7,\"\",CONCATENATE( CONCATENATE(IF(ISBLANK(Datenerfassung!H674),\" \",Datenerfassung!H674 ),\" [IS]\"), CONCATENATE(IF(ISBLANK(Datenerfassung!I674),\" \",Datenerfassung!I674 ),\" [IS]\"), CONCATENATE(IF(ISBLANK(Datenerfassung!J674),\" \",Datenerfassung!J674 ),\" [IS]\"), CONCATENATE(IF(ISBLANK(Datenerfassung!K674),\" \",Datenerfassung!K674 ),\" [IS]\"), CONCATENATE(IF(ISBLANK(Datenerfassung!L674),\" \",Datenerfassung!L674 ),\" [IS]\"), CONCATENATE(IF(ISBLANK(Datenerfassung!M674),\" \",Datenerfassung!M674 ),\" [IS]\"), IF(ISBLANK(Datenerfassung!N674),\" \",Datenerfassung!N674 ) ))","v":""},{"$f":"IF(ISBLANK(Datenerfassung!V674),\"\",Datenerfassung!V674)","v":""},{"$f":"IF(ISBLANK(Datenerfassung!Q674),\"\",Datenerfassung!Q674)","v":""}]
[{"$f":"IF(ISBLANK(Datenerfassung!A675),\"\",Datenerfassung!A675)","v":""},{"$f":"IF(ISBLANK(Datenerfassung!B675),\"\",Datenerfassung!B675)","v":""},{"$f":"IF(ISBLANK(Datenerfassung!C675),\"\",Datenerfassung!C675)","v":""},{"$f":"IF(ISBLANK(Datenerfassung!R675),\"\",Datenerfassung!R675)","v":""},{"$f":"IF(ISBLANK(Datenerfassung!S675),\"\",Datenerfassung!S675)","v":""},"",{"$f":"IF(ISBLANK(Datenerfassung!U675),\"\",Datenerfassung!U675)","v":""},{"$f":"IF(ISBLANK(Datenerfassung!O675),\"\",Datenerfassung!O675)","v":""},{"$f":"IF(ISBLANK(Datenerfassung!D675),IF(COUNTBLANK(A665:H665)+COUNTBLANK(J665:O665)=14,\"\",\"- ohne Titel -\"),Datenerfassung!D675)","v":""},{"$f":"IF(ISBLANK(Datenerfassung!G675),\"\",Datenerfassung!G675)","v":""},"",{"$f":"IF(ISBLANK(Datenerfassung!X675),\"\",Datenerfassung!X675)","v":""},{"$f":"IF(COUNTBLANK(Datenerfassung!H675:'Datenerfassung'!N675)=7,\"\",CONCATENATE( CONCATENATE(IF(ISBLANK(Datenerfassung!H675),\" \",Datenerfassung!H675 ),\" [IS]\"), CONCATENATE(IF(ISBLANK(Datenerfassung!I675),\" \",Datenerfassung!I675 ),\" [IS]\"), CONCATENATE(IF(ISBLANK(Datenerfassung!J675),\" \",Datenerfassung!J675 ),\" [IS]\"), CONCATENATE(IF(ISBLANK(Datenerfassung!K675),\" \",Datenerfassung!K675 ),\" [IS]\"), CONCATENATE(IF(ISBLANK(Datenerfassung!L675),\" \",Datenerfassung!L675 ),\" [IS]\"), CONCATENATE(IF(ISBLANK(Datenerfassung!M675),\" \",Datenerfassung!M675 ),\" [IS]\"), IF(ISBLANK(Datenerfassung!N675),\" \",Datenerfassung!N675 ) ))","v":""},{"$f":"IF(ISBLANK(Datenerfassung!V675),\"\",Datenerfassung!V675)","v":""},{"$f":"IF(ISBLANK(Datenerfassung!Q675),\"\",Datenerfassung!Q675)","v":""}]
[{"$f":"IF(ISBLANK(Datenerfassung!A676),\"\",Datenerfassung!A676)","v":""},{"$f":"IF(ISBLANK(Datenerfassung!B676),\"\",Datenerfassung!B676)","v":""},{"$f":"IF(ISBLANK(Datenerfassung!C676),\"\",Datenerfassung!C676)","v":""},{"$f":"IF(ISBLANK(Datenerfassung!R676),\"\",Datenerfassung!R676)","v":""},{"$f":"IF(ISBLANK(Datenerfassung!S676),\"\",Datenerfassung!S676)","v":""},"",{"$f":"IF(ISBLANK(Datenerfassung!U676),\"\",Datenerfassung!U676)","v":""},{"$f":"IF(ISBLANK(Datenerfassung!O676),\"\",Datenerfassung!O676)","v":""},{"$f":"IF(ISBLANK(Datenerfassung!D676),IF(COUNTBLANK(A666:H666)+COUNTBLANK(J666:O666)=14,\"\",\"- ohne Titel -\"),Datenerfassung!D676)","v":""},{"$f":"IF(ISBLANK(Datenerfassung!G676),\"\",Datenerfassung!G676)","v":""},"",{"$f":"IF(ISBLANK(Datenerfassung!X676),\"\",Datenerfassung!X676)","v":""},{"$f":"IF(COUNTBLANK(Datenerfassung!H676:'Datenerfassung'!N676)=7,\"\",CONCATENATE( CONCATENATE(IF(ISBLANK(Datenerfassung!H676),\" \",Datenerfassung!H676 ),\" [IS]\"), CONCATENATE(IF(ISBLANK(Datenerfassung!I676),\" \",Datenerfassung!I676 ),\" [IS]\"), CONCATENATE(IF(ISBLANK(Datenerfassung!J676),\" \",Datenerfassung!J676 ),\" [IS]\"), CONCATENATE(IF(ISBLANK(Datenerfassung!K676),\" \",Datenerfassung!K676 ),\" [IS]\"), CONCATENATE(IF(ISBLANK(Datenerfassung!L676),\" \",Datenerfassung!L676 ),\" [IS]\"), CONCATENATE(IF(ISBLANK(Datenerfassung!M676),\" \",Datenerfassung!M676 ),\" [IS]\"), IF(ISBLANK(Datenerfassung!N676),\" \",Datenerfassung!N676 ) ))","v":""},{"$f":"IF(ISBLANK(Datenerfassung!V676),\"\",Datenerfassung!V676)","v":""},{"$f":"IF(ISBLANK(Datenerfassung!Q676),\"\",Datenerfassung!Q676)","v":""}]
[{"$f":"IF(ISBLANK(Datenerfassung!A677),\"\",Datenerfassung!A677)","v":""},{"$f":"IF(ISBLANK(Datenerfassung!B677),\"\",Datenerfassung!B677)","v":""},{"$f":"IF(ISBLANK(Datenerfassung!C677),\"\",Datenerfassung!C677)","v":""},{"$f":"IF(ISBLANK(Datenerfassung!R677),\"\",Datenerfassung!R677)","v":""},{"$f":"IF(ISBLANK(Datenerfassung!S677),\"\",Datenerfassung!S677)","v":""},"",{"$f":"IF(ISBLANK(Datenerfassung!U677),\"\",Datenerfassung!U677)","v":""},{"$f":"IF(ISBLANK(Datenerfassung!O677),\"\",Datenerfassung!O677)","v":""},{"$f":"IF(ISBLANK(Datenerfassung!D677),IF(COUNTBLANK(A667:H667)+COUNTBLANK(J667:O667)=14,\"\",\"- ohne Titel -\"),Datenerfassung!D677)","v":""},{"$f":"IF(ISBLANK(Datenerfassung!G677),\"\",Datenerfassung!G677)","v":""},"",{"$f":"IF(ISBLANK(Datenerfassung!X677),\"\",Datenerfassung!X677)","v":""},{"$f":"IF(COUNTBLANK(Datenerfassung!H677:'Datenerfassung'!N677)=7,\"\",CONCATENATE( CONCATENATE(IF(ISBLANK(Datenerfassung!H677),\" \",Datenerfassung!H677 ),\" [IS]\"), CONCATENATE(IF(ISBLANK(Datenerfassung!I677),\" \",Datenerfassung!I677 ),\" [IS]\"), CONCATENATE(IF(ISBLANK(Datenerfassung!J677),\" \",Datenerfassung!J677 ),\" [IS]\"), CONCATENATE(IF(ISBLANK(Datenerfassung!K677),\" \",Datenerfassung!K677 ),\" [IS]\"), CONCATENATE(IF(ISBLANK(Datenerfassung!L677),\" \",Datenerfassung!L677 ),\" [IS]\"), CONCATENATE(IF(ISBLANK(Datenerfassung!M677),\" \",Datenerfassung!M677 ),\" [IS]\"), IF(ISBLANK(Datenerfassung!N677),\" \",Datenerfassung!N677 ) ))","v":""},{"$f":"IF(ISBLANK(Datenerfassung!V677),\"\",Datenerfassung!V677)","v":""},{"$f":"IF(ISBLANK(Datenerfassung!Q677),\"\",Datenerfassung!Q677)","v":""}]
[{"$f":"IF(ISBLANK(Datenerfassung!A678),\"\",Datenerfassung!A678)","v":""},{"$f":"IF(ISBLANK(Datenerfassung!B678),\"\",Datenerfassung!B678)","v":""},{"$f":"IF(ISBLANK(Datenerfassung!C678),\"\",Datenerfassung!C678)","v":""},{"$f":"IF(ISBLANK(Datenerfassung!R678),\"\",Datenerfassung!R678)","v":""},{"$f":"IF(ISBLANK(Datenerfassung!S678),\"\",Datenerfassung!S678)","v":""},"",{"$f":"IF(ISBLANK(Datenerfassung!U678),\"\",Datenerfassung!U678)","v":""},{"$f":"IF(ISBLANK(Datenerfassung!O678),\"\",Datenerfassung!O678)","v":""},{"$f":"IF(ISBLANK(Datenerfassung!D678),IF(COUNTBLANK(A668:H668)+COUNTBLANK(J668:O668)=14,\"\",\"- ohne Titel -\"),Datenerfassung!D678)","v":""},{"$f":"IF(ISBLANK(Datenerfassung!G678),\"\",Datenerfassung!G678)","v":""},"",{"$f":"IF(ISBLANK(Datenerfassung!X678),\"\",Datenerfassung!X678)","v":""},{"$f":"IF(COUNTBLANK(Datenerfassung!H678:'Datenerfassung'!N678)=7,\"\",CONCATENATE( CONCATENATE(IF(ISBLANK(Datenerfassung!H678),\" \",Datenerfassung!H678 ),\" [IS]\"), CONCATENATE(IF(ISBLANK(Datenerfassung!I678),\" \",Datenerfassung!I678 ),\" [IS]\"), CONCATENATE(IF(ISBLANK(Datenerfassung!J678),\" \",Datenerfassung!J678 ),\" [IS]\"), CONCATENATE(IF(ISBLANK(Datenerfassung!K678),\" \",Datenerfassung!K678 ),\" [IS]\"), CONCATENATE(IF(ISBLANK(Datenerfassung!L678),\" \",Datenerfassung!L678 ),\" [IS]\"), CONCATENATE(IF(ISBLANK(Datenerfassung!M678),\" \",Datenerfassung!M678 ),\" [IS]\"), IF(ISBLANK(Datenerfassung!N678),\" \",Datenerfassung!N678 ) ))","v":""},{"$f":"IF(ISBLANK(Datenerfassung!V678),\"\",Datenerfassung!V678)","v":""},{"$f":"IF(ISBLANK(Datenerfassung!Q678),\"\",Datenerfassung!Q678)","v":""}]
[{"$f":"IF(ISBLANK(Datenerfassung!A679),\"\",Datenerfassung!A679)","v":""},{"$f":"IF(ISBLANK(Datenerfassung!B679),\"\",Datenerfassung!B679)","v":""},{"$f":"IF(ISBLANK(Datenerfassung!C679),\"\",Datenerfassung!C679)","v":""},{"$f":"IF(ISBLANK(Datenerfassung!R679),\"\",Datenerfassung!R679)","v":""},{"$f":"IF(ISBLANK(Datenerfassung!S679),\"\",Datenerfassung!S679)","v":""},"",{"$f":"IF(ISBLANK(Datenerfassung!U679),\"\",Datenerfassung!U679)","v":""},{"$f":"IF(ISBLANK(Datenerfassung!O679),\"\",Datenerfassung!O679)","v":""},{"$f":"IF(ISBLANK(Datenerfassung!D679),IF(COUNTBLANK(A669:H669)+COUNTBLANK(J669:O669)=14,\"\",\"- ohne Titel -\"),Datenerfassung!D679)","v":""},{"$f":"IF(ISBLANK(Datenerfassung!G679),\"\",Datenerfassung!G679)","v":""},"",{"$f":"IF(ISBLANK(Datenerfassung!X679),\"\",Datenerfassung!X679)","v":""},{"$f":"IF(COUNTBLANK(Datenerfassung!H679:'Datenerfassung'!N679)=7,\"\",CONCATENATE( CONCATENATE(IF(ISBLANK(Datenerfassung!H679),\" \",Datenerfassung!H679 ),\" [IS]\"), CONCATENATE(IF(ISBLANK(Datenerfassung!I679),\" \",Datenerfassung!I679 ),\" [IS]\"), CONCATENATE(IF(ISBLANK(Datenerfassung!J679),\" \",Datenerfassung!J679 ),\" [IS]\"), CONCATENATE(IF(ISBLANK(Datenerfassung!K679),\" \",Datenerfassung!K679 ),\" [IS]\"), CONCATENATE(IF(ISBLANK(Datenerfassung!L679),\" \",Datenerfassung!L679 ),\" [IS]\"), CONCATENATE(IF(ISBLANK(Datenerfassung!M679),\" \",Datenerfassung!M679 ),\" [IS]\"), IF(ISBLANK(Datenerfassung!N679),\" \",Datenerfassung!N679 ) ))","v":""},{"$f":"IF(ISBLANK(Datenerfassung!V679),\"\",Datenerfassung!V679)","v":""},{"$f":"IF(ISBLANK(Datenerfassung!Q679),\"\",Datenerfassung!Q679)","v":""}]
[{"$f":"IF(ISBLANK(Datenerfassung!A680),\"\",Datenerfassung!A680)","v":""},{"$f":"IF(ISBLANK(Datenerfassung!B680),\"\",Datenerfassung!B680)","v":""},{"$f":"IF(ISBLANK(Datenerfassung!C680),\"\",Datenerfassung!C680)","v":""},{"$f":"IF(ISBLANK(Datenerfassung!R680),\"\",Datenerfassung!R680)","v":""},{"$f":"IF(ISBLANK(Datenerfassung!S680),\"\",Datenerfassung!S680)","v":""},"",{"$f":"IF(ISBLANK(Datenerfassung!U680),\"\",Datenerfassung!U680)","v":""},{"$f":"IF(ISBLANK(Datenerfassung!O680),\"\",Datenerfassung!O680)","v":""},{"$f":"IF(ISBLANK(Datenerfassung!D680),IF(COUNTBLANK(A670:H670)+COUNTBLANK(J670:O670)=14,\"\",\"- ohne Titel -\"),Datenerfassung!D680)","v":""},{"$f":"IF(ISBLANK(Datenerfassung!G680),\"\",Datenerfassung!G680)","v":""},"",{"$f":"IF(ISBLANK(Datenerfassung!X680),\"\",Datenerfassung!X680)","v":""},{"$f":"IF(COUNTBLANK(Datenerfassung!H680:'Datenerfassung'!N680)=7,\"\",CONCATENATE( CONCATENATE(IF(ISBLANK(Datenerfassung!H680),\" \",Datenerfassung!H680 ),\" [IS]\"), CONCATENATE(IF(ISBLANK(Datenerfassung!I680),\" \",Datenerfassung!I680 ),\" [IS]\"), CONCATENATE(IF(ISBLANK(Datenerfassung!J680),\" \",Datenerfassung!J680 ),\" [IS]\"), CONCATENATE(IF(ISBLANK(Datenerfassung!K680),\" \",Datenerfassung!K680 ),\" [IS]\"), CONCATENATE(IF(ISBLANK(Datenerfassung!L680),\" \",Datenerfassung!L680 ),\" [IS]\"), CONCATENATE(IF(ISBLANK(Datenerfassung!M680),\" \",Datenerfassung!M680 ),\" [IS]\"), IF(ISBLANK(Datenerfassung!N680),\" \",Datenerfassung!N680 ) ))","v":""},{"$f":"IF(ISBLANK(Datenerfassung!V680),\"\",Datenerfassung!V680)","v":""},{"$f":"IF(ISBLANK(Datenerfassung!Q680),\"\",Datenerfassung!Q680)","v":""}]
[{"$f":"IF(ISBLANK(Datenerfassung!A681),\"\",Datenerfassung!A681)","v":""},{"$f":"IF(ISBLANK(Datenerfassung!B681),\"\",Datenerfassung!B681)","v":""},{"$f":"IF(ISBLANK(Datenerfassung!C681),\"\",Datenerfassung!C681)","v":""},{"$f":"IF(ISBLANK(Datenerfassung!R681),\"\",Datenerfassung!R681)","v":""},{"$f":"IF(ISBLANK(Datenerfassung!S681),\"\",Datenerfassung!S681)","v":""},"",{"$f":"IF(ISBLANK(Datenerfassung!U681),\"\",Datenerfassung!U681)","v":""},{"$f":"IF(ISBLANK(Datenerfassung!O681),\"\",Datenerfassung!O681)","v":""},{"$f":"IF(ISBLANK(Datenerfassung!D681),IF(COUNTBLANK(A671:H671)+COUNTBLANK(J671:O671)=14,\"\",\"- ohne Titel -\"),Datenerfassung!D681)","v":""},{"$f":"IF(ISBLANK(Datenerfassung!G681),\"\",Datenerfassung!G681)","v":""},"",{"$f":"IF(ISBLANK(Datenerfassung!X681),\"\",Datenerfassung!X681)","v":""},{"$f":"IF(COUNTBLANK(Datenerfassung!H681:'Datenerfassung'!N681)=7,\"\",CONCATENATE( CONCATENATE(IF(ISBLANK(Datenerfassung!H681),\" \",Datenerfassung!H681 ),\" [IS]\"), CONCATENATE(IF(ISBLANK(Datenerfassung!I681),\" \",Datenerfassung!I681 ),\" [IS]\"), CONCATENATE(IF(ISBLANK(Datenerfassung!J681),\" \",Datenerfassung!J681 ),\" [IS]\"), CONCATENATE(IF(ISBLANK(Datenerfassung!K681),\" \",Datenerfassung!K681 ),\" [IS]\"), CONCATENATE(IF(ISBLANK(Datenerfassung!L681),\" \",Datenerfassung!L681 ),\" [IS]\"), CONCATENATE(IF(ISBLANK(Datenerfassung!M681),\" \",Datenerfassung!M681 ),\" [IS]\"), IF(ISBLANK(Datenerfassung!N681),\" \",Datenerfassung!N681 ) ))","v":""},{"$f":"IF(ISBLANK(Datenerfassung!V681),\"\",Datenerfassung!V681)","v":""},{"$f":"IF(ISBLANK(Datenerfassung!Q681),\"\",Datenerfassung!Q681)","v":""}]
[{"$f":"IF(ISBLANK(Datenerfassung!A682),\"\",Datenerfassung!A682)","v":""},{"$f":"IF(ISBLANK(Datenerfassung!B682),\"\",Datenerfassung!B682)","v":""},{"$f":"IF(ISBLANK(Datenerfassung!C682),\"\",Datenerfassung!C682)","v":""},{"$f":"IF(ISBLANK(Datenerfassung!R682),\"\",Datenerfassung!R682)","v":""},{"$f":"IF(ISBLANK(Datenerfassung!S682),\"\",Datenerfassung!S682)","v":""},"",{"$f":"IF(ISBLANK(Datenerfassung!U682),\"\",Datenerfassung!U682)","v":""},{"$f":"IF(ISBLANK(Datenerfassung!O682),\"\",Datenerfassung!O682)","v":""},{"$f":"IF(ISBLANK(Datenerfassung!D682),IF(COUNTBLANK(A672:H672)+COUNTBLANK(J672:O672)=14,\"\",\"- ohne Titel -\"),Datenerfassung!D682)","v":""},{"$f":"IF(ISBLANK(Datenerfassung!G682),\"\",Datenerfassung!G682)","v":""},"",{"$f":"IF(ISBLANK(Datenerfassung!X682),\"\",Datenerfassung!X682)","v":""},{"$f":"IF(COUNTBLANK(Datenerfassung!H682:'Datenerfassung'!N682)=7,\"\",CONCATENATE( CONCATENATE(IF(ISBLANK(Datenerfassung!H682),\" \",Datenerfassung!H682 ),\" [IS]\"), CONCATENATE(IF(ISBLANK(Datenerfassung!I682),\" \",Datenerfassung!I682 ),\" [IS]\"), CONCATENATE(IF(ISBLANK(Datenerfassung!J682),\" \",Datenerfassung!J682 ),\" [IS]\"), CONCATENATE(IF(ISBLANK(Datenerfassung!K682),\" \",Datenerfassung!K682 ),\" [IS]\"), CONCATENATE(IF(ISBLANK(Datenerfassung!L682),\" \",Datenerfassung!L682 ),\" [IS]\"), CONCATENATE(IF(ISBLANK(Datenerfassung!M682),\" \",Datenerfassung!M682 ),\" [IS]\"), IF(ISBLANK(Datenerfassung!N682),\" \",Datenerfassung!N682 ) ))","v":""},{"$f":"IF(ISBLANK(Datenerfassung!V682),\"\",Datenerfassung!V682)","v":""},{"$f":"IF(ISBLANK(Datenerfassung!Q682),\"\",Datenerfassung!Q682)","v":""}]
[{"$f":"IF(ISBLANK(Datenerfassung!A683),\"\",Datenerfassung!A683)","v":""},{"$f":"IF(ISBLANK(Datenerfassung!B683),\"\",Datenerfassung!B683)","v":""},{"$f":"IF(ISBLANK(Datenerfassung!C683),\"\",Datenerfassung!C683)","v":""},{"$f":"IF(ISBLANK(Datenerfassung!R683),\"\",Datenerfassung!R683)","v":""},{"$f":"IF(ISBLANK(Datenerfassung!S683),\"\",Datenerfassung!S683)","v":""},"",{"$f":"IF(ISBLANK(Datenerfassung!U683),\"\",Datenerfassung!U683)","v":""},{"$f":"IF(ISBLANK(Datenerfassung!O683),\"\",Datenerfassung!O683)","v":""},{"$f":"IF(ISBLANK(Datenerfassung!D683),IF(COUNTBLANK(A673:H673)+COUNTBLANK(J673:O673)=14,\"\",\"- ohne Titel -\"),Datenerfassung!D683)","v":""},{"$f":"IF(ISBLANK(Datenerfassung!G683),\"\",Datenerfassung!G683)","v":""},"",{"$f":"IF(ISBLANK(Datenerfassung!X683),\"\",Datenerfassung!X683)","v":""},{"$f":"IF(COUNTBLANK(Datenerfassung!H683:'Datenerfassung'!N683)=7,\"\",CONCATENATE( CONCATENATE(IF(ISBLANK(Datenerfassung!H683),\" \",Datenerfassung!H683 ),\" [IS]\"), CONCATENATE(IF(ISBLANK(Datenerfassung!I683),\" \",Datenerfassung!I683 ),\" [IS]\"), CONCATENATE(IF(ISBLANK(Datenerfassung!J683),\" \",Datenerfassung!J683 ),\" [IS]\"), CONCATENATE(IF(ISBLANK(Datenerfassung!K683),\" \",Datenerfassung!K683 ),\" [IS]\"), CONCATENATE(IF(ISBLANK(Datenerfassung!L683),\" \",Datenerfassung!L683 ),\" [IS]\"), CONCATENATE(IF(ISBLANK(Datenerfassung!M683),\" \",Datenerfassung!M683 ),\" [IS]\"), IF(ISBLANK(Datenerfassung!N683),\" \",Datenerfassung!N683 ) ))","v":""},{"$f":"IF(ISBLANK(Datenerfassung!V683),\"\",Datenerfassung!V683)","v":""},{"$f":"IF(ISBLANK(Datenerfassung!Q683),\"\",Datenerfassung!Q683)","v":""}]
[{"$f":"IF(ISBLANK(Datenerfassung!A684),\"\",Datenerfassung!A684)","v":""},{"$f":"IF(ISBLANK(Datenerfassung!B684),\"\",Datenerfassung!B684)","v":""},{"$f":"IF(ISBLANK(Datenerfassung!C684),\"\",Datenerfassung!C684)","v":""},{"$f":"IF(ISBLANK(Datenerfassung!R684),\"\",Datenerfassung!R684)","v":""},{"$f":"IF(ISBLANK(Datenerfassung!S684),\"\",Datenerfassung!S684)","v":""},"",{"$f":"IF(ISBLANK(Datenerfassung!U684),\"\",Datenerfassung!U684)","v":""},{"$f":"IF(ISBLANK(Datenerfassung!O684),\"\",Datenerfassung!O684)","v":""},{"$f":"IF(ISBLANK(Datenerfassung!D684),IF(COUNTBLANK(A674:H674)+COUNTBLANK(J674:O674)=14,\"\",\"- ohne Titel -\"),Datenerfassung!D684)","v":""},{"$f":"IF(ISBLANK(Datenerfassung!G684),\"\",Datenerfassung!G684)","v":""},"",{"$f":"IF(ISBLANK(Datenerfassung!X684),\"\",Datenerfassung!X684)","v":""},{"$f":"IF(COUNTBLANK(Datenerfassung!H684:'Datenerfassung'!N684)=7,\"\",CONCATENATE( CONCATENATE(IF(ISBLANK(Datenerfassung!H684),\" \",Datenerfassung!H684 ),\" [IS]\"), CONCATENATE(IF(ISBLANK(Datenerfassung!I684),\" \",Datenerfassung!I684 ),\" [IS]\"), CONCATENATE(IF(ISBLANK(Datenerfassung!J684),\" \",Datenerfassung!J684 ),\" [IS]\"), CONCATENATE(IF(ISBLANK(Datenerfassung!K684),\" \",Datenerfassung!K684 ),\" [IS]\"), CONCATENATE(IF(ISBLANK(Datenerfassung!L684),\" \",Datenerfassung!L684 ),\" [IS]\"), CONCATENATE(IF(ISBLANK(Datenerfassung!M684),\" \",Datenerfassung!M684 ),\" [IS]\"), IF(ISBLANK(Datenerfassung!N684),\" \",Datenerfassung!N684 ) ))","v":""},{"$f":"IF(ISBLANK(Datenerfassung!V684),\"\",Datenerfassung!V684)","v":""},{"$f":"IF(ISBLANK(Datenerfassung!Q684),\"\",Datenerfassung!Q684)","v":""}]
[{"$f":"IF(ISBLANK(Datenerfassung!A685),\"\",Datenerfassung!A685)","v":""},{"$f":"IF(ISBLANK(Datenerfassung!B685),\"\",Datenerfassung!B685)","v":""},{"$f":"IF(ISBLANK(Datenerfassung!C685),\"\",Datenerfassung!C685)","v":""},{"$f":"IF(ISBLANK(Datenerfassung!R685),\"\",Datenerfassung!R685)","v":""},{"$f":"IF(ISBLANK(Datenerfassung!S685),\"\",Datenerfassung!S685)","v":""},"",{"$f":"IF(ISBLANK(Datenerfassung!U685),\"\",Datenerfassung!U685)","v":""},{"$f":"IF(ISBLANK(Datenerfassung!O685),\"\",Datenerfassung!O685)","v":""},{"$f":"IF(ISBLANK(Datenerfassung!D685),IF(COUNTBLANK(A675:H675)+COUNTBLANK(J675:O675)=14,\"\",\"- ohne Titel -\"),Datenerfassung!D685)","v":""},{"$f":"IF(ISBLANK(Datenerfassung!G685),\"\",Datenerfassung!G685)","v":""},"",{"$f":"IF(ISBLANK(Datenerfassung!X685),\"\",Datenerfassung!X685)","v":""},{"$f":"IF(COUNTBLANK(Datenerfassung!H685:'Datenerfassung'!N685)=7,\"\",CONCATENATE( CONCATENATE(IF(ISBLANK(Datenerfassung!H685),\" \",Datenerfassung!H685 ),\" [IS]\"), CONCATENATE(IF(ISBLANK(Datenerfassung!I685),\" \",Datenerfassung!I685 ),\" [IS]\"), CONCATENATE(IF(ISBLANK(Datenerfassung!J685),\" \",Datenerfassung!J685 ),\" [IS]\"), CONCATENATE(IF(ISBLANK(Datenerfassung!K685),\" \",Datenerfassung!K685 ),\" [IS]\"), CONCATENATE(IF(ISBLANK(Datenerfassung!L685),\" \",Datenerfassung!L685 ),\" [IS]\"), CONCATENATE(IF(ISBLANK(Datenerfassung!M685),\" \",Datenerfassung!M685 ),\" [IS]\"), IF(ISBLANK(Datenerfassung!N685),\" \",Datenerfassung!N685 ) ))","v":""},{"$f":"IF(ISBLANK(Datenerfassung!V685),\"\",Datenerfassung!V685)","v":""},{"$f":"IF(ISBLANK(Datenerfassung!Q685),\"\",Datenerfassung!Q685)","v":""}]
[{"$f":"IF(ISBLANK(Datenerfassung!A686),\"\",Datenerfassung!A686)","v":""},{"$f":"IF(ISBLANK(Datenerfassung!B686),\"\",Datenerfassung!B686)","v":""},{"$f":"IF(ISBLANK(Datenerfassung!C686),\"\",Datenerfassung!C686)","v":""},{"$f":"IF(ISBLANK(Datenerfassung!R686),\"\",Datenerfassung!R686)","v":""},{"$f":"IF(ISBLANK(Datenerfassung!S686),\"\",Datenerfassung!S686)","v":""},"",{"$f":"IF(ISBLANK(Datenerfassung!U686),\"\",Datenerfassung!U686)","v":""},{"$f":"IF(ISBLANK(Datenerfassung!O686),\"\",Datenerfassung!O686)","v":""},{"$f":"IF(ISBLANK(Datenerfassung!D686),IF(COUNTBLANK(A676:H676)+COUNTBLANK(J676:O676)=14,\"\",\"- ohne Titel -\"),Datenerfassung!D686)","v":""},{"$f":"IF(ISBLANK(Datenerfassung!G686),\"\",Datenerfassung!G686)","v":""},"",{"$f":"IF(ISBLANK(Datenerfassung!X686),\"\",Datenerfassung!X686)","v":""},{"$f":"IF(COUNTBLANK(Datenerfassung!H686:'Datenerfassung'!N686)=7,\"\",CONCATENATE( CONCATENATE(IF(ISBLANK(Datenerfassung!H686),\" \",Datenerfassung!H686 ),\" [IS]\"), CONCATENATE(IF(ISBLANK(Datenerfassung!I686),\" \",Datenerfassung!I686 ),\" [IS]\"), CONCATENATE(IF(ISBLANK(Datenerfassung!J686),\" \",Datenerfassung!J686 ),\" [IS]\"), CONCATENATE(IF(ISBLANK(Datenerfassung!K686),\" \",Datenerfassung!K686 ),\" [IS]\"), CONCATENATE(IF(ISBLANK(Datenerfassung!L686),\" \",Datenerfassung!L686 ),\" [IS]\"), CONCATENATE(IF(ISBLANK(Datenerfassung!M686),\" \",Datenerfassung!M686 ),\" [IS]\"), IF(ISBLANK(Datenerfassung!N686),\" \",Datenerfassung!N686 ) ))","v":""},{"$f":"IF(ISBLANK(Datenerfassung!V686),\"\",Datenerfassung!V686)","v":""},{"$f":"IF(ISBLANK(Datenerfassung!Q686),\"\",Datenerfassung!Q686)","v":""}]
[{"$f":"IF(ISBLANK(Datenerfassung!A687),\"\",Datenerfassung!A687)","v":""},{"$f":"IF(ISBLANK(Datenerfassung!B687),\"\",Datenerfassung!B687)","v":""},{"$f":"IF(ISBLANK(Datenerfassung!C687),\"\",Datenerfassung!C687)","v":""},{"$f":"IF(ISBLANK(Datenerfassung!R687),\"\",Datenerfassung!R687)","v":""},{"$f":"IF(ISBLANK(Datenerfassung!S687),\"\",Datenerfassung!S687)","v":""},"",{"$f":"IF(ISBLANK(Datenerfassung!U687),\"\",Datenerfassung!U687)","v":""},{"$f":"IF(ISBLANK(Datenerfassung!O687),\"\",Datenerfassung!O687)","v":""},{"$f":"IF(ISBLANK(Datenerfassung!D687),IF(COUNTBLANK(A677:H677)+COUNTBLANK(J677:O677)=14,\"\",\"- ohne Titel -\"),Datenerfassung!D687)","v":""},{"$f":"IF(ISBLANK(Datenerfassung!G687),\"\",Datenerfassung!G687)","v":""},"",{"$f":"IF(ISBLANK(Datenerfassung!X687),\"\",Datenerfassung!X687)","v":""},{"$f":"IF(COUNTBLANK(Datenerfassung!H687:'Datenerfassung'!N687)=7,\"\",CONCATENATE( CONCATENATE(IF(ISBLANK(Datenerfassung!H687),\" \",Datenerfassung!H687 ),\" [IS]\"), CONCATENATE(IF(ISBLANK(Datenerfassung!I687),\" \",Datenerfassung!I687 ),\" [IS]\"), CONCATENATE(IF(ISBLANK(Datenerfassung!J687),\" \",Datenerfassung!J687 ),\" [IS]\"), CONCATENATE(IF(ISBLANK(Datenerfassung!K687),\" \",Datenerfassung!K687 ),\" [IS]\"), CONCATENATE(IF(ISBLANK(Datenerfassung!L687),\" \",Datenerfassung!L687 ),\" [IS]\"), CONCATENATE(IF(ISBLANK(Datenerfassung!M687),\" \",Datenerfassung!M687 ),\" [IS]\"), IF(ISBLANK(Datenerfassung!N687),\" \",Datenerfassung!N687 ) ))","v":""},{"$f":"IF(ISBLANK(Datenerfassung!V687),\"\",Datenerfassung!V687)","v":""},{"$f":"IF(ISBLANK(Datenerfassung!Q687),\"\",Datenerfassung!Q687)","v":""}]
[{"$f":"IF(ISBLANK(Datenerfassung!A688),\"\",Datenerfassung!A688)","v":""},{"$f":"IF(ISBLANK(Datenerfassung!B688),\"\",Datenerfassung!B688)","v":""},{"$f":"IF(ISBLANK(Datenerfassung!C688),\"\",Datenerfassung!C688)","v":""},{"$f":"IF(ISBLANK(Datenerfassung!R688),\"\",Datenerfassung!R688)","v":""},{"$f":"IF(ISBLANK(Datenerfassung!S688),\"\",Datenerfassung!S688)","v":""},"",{"$f":"IF(ISBLANK(Datenerfassung!U688),\"\",Datenerfassung!U688)","v":""},{"$f":"IF(ISBLANK(Datenerfassung!O688),\"\",Datenerfassung!O688)","v":""},{"$f":"IF(ISBLANK(Datenerfassung!D688),IF(COUNTBLANK(A678:H678)+COUNTBLANK(J678:O678)=14,\"\",\"- ohne Titel -\"),Datenerfassung!D688)","v":""},{"$f":"IF(ISBLANK(Datenerfassung!G688),\"\",Datenerfassung!G688)","v":""},"",{"$f":"IF(ISBLANK(Datenerfassung!X688),\"\",Datenerfassung!X688)","v":""},{"$f":"IF(COUNTBLANK(Datenerfassung!H688:'Datenerfassung'!N688)=7,\"\",CONCATENATE( CONCATENATE(IF(ISBLANK(Datenerfassung!H688),\" \",Datenerfassung!H688 ),\" [IS]\"), CONCATENATE(IF(ISBLANK(Datenerfassung!I688),\" \",Datenerfassung!I688 ),\" [IS]\"), CONCATENATE(IF(ISBLANK(Datenerfassung!J688),\" \",Datenerfassung!J688 ),\" [IS]\"), CONCATENATE(IF(ISBLANK(Datenerfassung!K688),\" \",Datenerfassung!K688 ),\" [IS]\"), CONCATENATE(IF(ISBLANK(Datenerfassung!L688),\" \",Datenerfassung!L688 ),\" [IS]\"), CONCATENATE(IF(ISBLANK(Datenerfassung!M688),\" \",Datenerfassung!M688 ),\" [IS]\"), IF(ISBLANK(Datenerfassung!N688),\" \",Datenerfassung!N688 ) ))","v":""},{"$f":"IF(ISBLANK(Datenerfassung!V688),\"\",Datenerfassung!V688)","v":""},{"$f":"IF(ISBLANK(Datenerfassung!Q688),\"\",Datenerfassung!Q688)","v":""}]
[{"$f":"IF(ISBLANK(Datenerfassung!A689),\"\",Datenerfassung!A689)","v":""},{"$f":"IF(ISBLANK(Datenerfassung!B689),\"\",Datenerfassung!B689)","v":""},{"$f":"IF(ISBLANK(Datenerfassung!C689),\"\",Datenerfassung!C689)","v":""},{"$f":"IF(ISBLANK(Datenerfassung!R689),\"\",Datenerfassung!R689)","v":""},{"$f":"IF(ISBLANK(Datenerfassung!S689),\"\",Datenerfassung!S689)","v":""},"",{"$f":"IF(ISBLANK(Datenerfassung!U689),\"\",Datenerfassung!U689)","v":""},{"$f":"IF(ISBLANK(Datenerfassung!O689),\"\",Datenerfassung!O689)","v":""},{"$f":"IF(ISBLANK(Datenerfassung!D689),IF(COUNTBLANK(A679:H679)+COUNTBLANK(J679:O679)=14,\"\",\"- ohne Titel -\"),Datenerfassung!D689)","v":""},{"$f":"IF(ISBLANK(Datenerfassung!G689),\"\",Datenerfassung!G689)","v":""},"",{"$f":"IF(ISBLANK(Datenerfassung!X689),\"\",Datenerfassung!X689)","v":""},{"$f":"IF(COUNTBLANK(Datenerfassung!H689:'Datenerfassung'!N689)=7,\"\",CONCATENATE( CONCATENATE(IF(ISBLANK(Datenerfassung!H689),\" \",Datenerfassung!H689 ),\" [IS]\"), CONCATENATE(IF(ISBLANK(Datenerfassung!I689),\" \",Datenerfassung!I689 ),\" [IS]\"), CONCATENATE(IF(ISBLANK(Datenerfassung!J689),\" \",Datenerfassung!J689 ),\" [IS]\"), CONCATENATE(IF(ISBLANK(Datenerfassung!K689),\" \",Datenerfassung!K689 ),\" [IS]\"), CONCATENATE(IF(ISBLANK(Datenerfassung!L689),\" \",Datenerfassung!L689 ),\" [IS]\"), CONCATENATE(IF(ISBLANK(Datenerfassung!M689),\" \",Datenerfassung!M689 ),\" [IS]\"), IF(ISBLANK(Datenerfassung!N689),\" \",Datenerfassung!N689 ) ))","v":""},{"$f":"IF(ISBLANK(Datenerfassung!V689),\"\",Datenerfassung!V689)","v":""},{"$f":"IF(ISBLANK(Datenerfassung!Q689),\"\",Datenerfassung!Q689)","v":""}]
[{"$f":"IF(ISBLANK(Datenerfassung!A690),\"\",Datenerfassung!A690)","v":""},{"$f":"IF(ISBLANK(Datenerfassung!B690),\"\",Datenerfassung!B690)","v":""},{"$f":"IF(ISBLANK(Datenerfassung!C690),\"\",Datenerfassung!C690)","v":""},{"$f":"IF(ISBLANK(Datenerfassung!R690),\"\",Datenerfassung!R690)","v":""},{"$f":"IF(ISBLANK(Datenerfassung!S690),\"\",Datenerfassung!S690)","v":""},"",{"$f":"IF(ISBLANK(Datenerfassung!U690),\"\",Datenerfassung!U690)","v":""},{"$f":"IF(ISBLANK(Datenerfassung!O690),\"\",Datenerfassung!O690)","v":""},{"$f":"IF(ISBLANK(Datenerfassung!D690),IF(COUNTBLANK(A680:H680)+COUNTBLANK(J680:O680)=14,\"\",\"- ohne Titel -\"),Datenerfassung!D690)","v":""},{"$f":"IF(ISBLANK(Datenerfassung!G690),\"\",Datenerfassung!G690)","v":""},"",{"$f":"IF(ISBLANK(Datenerfassung!X690),\"\",Datenerfassung!X690)","v":""},{"$f":"IF(COUNTBLANK(Datenerfassung!H690:'Datenerfassung'!N690)=7,\"\",CONCATENATE( CONCATENATE(IF(ISBLANK(Datenerfassung!H690),\" \",Datenerfassung!H690 ),\" [IS]\"), CONCATENATE(IF(ISBLANK(Datenerfassung!I690),\" \",Datenerfassung!I690 ),\" [IS]\"), CONCATENATE(IF(ISBLANK(Datenerfassung!J690),\" \",Datenerfassung!J690 ),\" [IS]\"), CONCATENATE(IF(ISBLANK(Datenerfassung!K690),\" \",Datenerfassung!K690 ),\" [IS]\"), CONCATENATE(IF(ISBLANK(Datenerfassung!L690),\" \",Datenerfassung!L690 ),\" [IS]\"), CONCATENATE(IF(ISBLANK(Datenerfassung!M690),\" \",Datenerfassung!M690 ),\" [IS]\"), IF(ISBLANK(Datenerfassung!N690),\" \",Datenerfassung!N690 ) ))","v":""},{"$f":"IF(ISBLANK(Datenerfassung!V690),\"\",Datenerfassung!V690)","v":""},{"$f":"IF(ISBLANK(Datenerfassung!Q690),\"\",Datenerfassung!Q690)","v":""}]
[{"$f":"IF(ISBLANK(Datenerfassung!A691),\"\",Datenerfassung!A691)","v":""},{"$f":"IF(ISBLANK(Datenerfassung!B691),\"\",Datenerfassung!B691)","v":""},{"$f":"IF(ISBLANK(Datenerfassung!C691),\"\",Datenerfassung!C691)","v":""},{"$f":"IF(ISBLANK(Datenerfassung!R691),\"\",Datenerfassung!R691)","v":""},{"$f":"IF(ISBLANK(Datenerfassung!S691),\"\",Datenerfassung!S691)","v":""},"",{"$f":"IF(ISBLANK(Datenerfassung!U691),\"\",Datenerfassung!U691)","v":""},{"$f":"IF(ISBLANK(Datenerfassung!O691),\"\",Datenerfassung!O691)","v":""},{"$f":"IF(ISBLANK(Datenerfassung!D691),IF(COUNTBLANK(A681:H681)+COUNTBLANK(J681:O681)=14,\"\",\"- ohne Titel -\"),Datenerfassung!D691)","v":""},{"$f":"IF(ISBLANK(Datenerfassung!G691),\"\",Datenerfassung!G691)","v":""},"",{"$f":"IF(ISBLANK(Datenerfassung!X691),\"\",Datenerfassung!X691)","v":""},{"$f":"IF(COUNTBLANK(Datenerfassung!H691:'Datenerfassung'!N691)=7,\"\",CONCATENATE( CONCATENATE(IF(ISBLANK(Datenerfassung!H691),\" \",Datenerfassung!H691 ),\" [IS]\"), CONCATENATE(IF(ISBLANK(Datenerfassung!I691),\" \",Datenerfassung!I691 ),\" [IS]\"), CONCATENATE(IF(ISBLANK(Datenerfassung!J691),\" \",Datenerfassung!J691 ),\" [IS]\"), CONCATENATE(IF(ISBLANK(Datenerfassung!K691),\" \",Datenerfassung!K691 ),\" [IS]\"), CONCATENATE(IF(ISBLANK(Datenerfassung!L691),\" \",Datenerfassung!L691 ),\" [IS]\"), CONCATENATE(IF(ISBLANK(Datenerfassung!M691),\" \",Datenerfassung!M691 ),\" [IS]\"), IF(ISBLANK(Datenerfassung!N691),\" \",Datenerfassung!N691 ) ))","v":""},{"$f":"IF(ISBLANK(Datenerfassung!V691),\"\",Datenerfassung!V691)","v":""},{"$f":"IF(ISBLANK(Datenerfassung!Q691),\"\",Datenerfassung!Q691)","v":""}]
[{"$f":"IF(ISBLANK(Datenerfassung!A692),\"\",Datenerfassung!A692)","v":""},{"$f":"IF(ISBLANK(Datenerfassung!B692),\"\",Datenerfassung!B692)","v":""},{"$f":"IF(ISBLANK(Datenerfassung!C692),\"\",Datenerfassung!C692)","v":""},{"$f":"IF(ISBLANK(Datenerfassung!R692),\"\",Datenerfassung!R692)","v":""},{"$f":"IF(ISBLANK(Datenerfassung!S692),\"\",Datenerfassung!S692)","v":""},"",{"$f":"IF(ISBLANK(Datenerfassung!U692),\"\",Datenerfassung!U692)","v":""},{"$f":"IF(ISBLANK(Datenerfassung!O692),\"\",Datenerfassung!O692)","v":""},{"$f":"IF(ISBLANK(Datenerfassung!D692),IF(COUNTBLANK(A682:H682)+COUNTBLANK(J682:O682)=14,\"\",\"- ohne Titel -\"),Datenerfassung!D692)","v":""},{"$f":"IF(ISBLANK(Datenerfassung!G692),\"\",Datenerfassung!G692)","v":""},"",{"$f":"IF(ISBLANK(Datenerfassung!X692),\"\",Datenerfassung!X692)","v":""},{"$f":"IF(COUNTBLANK(Datenerfassung!H692:'Datenerfassung'!N692)=7,\"\",CONCATENATE( CONCATENATE(IF(ISBLANK(Datenerfassung!H692),\" \",Datenerfassung!H692 ),\" [IS]\"), CONCATENATE(IF(ISBLANK(Datenerfassung!I692),\" \",Datenerfassung!I692 ),\" [IS]\"), CONCATENATE(IF(ISBLANK(Datenerfassung!J692),\" \",Datenerfassung!J692 ),\" [IS]\"), CONCATENATE(IF(ISBLANK(Datenerfassung!K692),\" \",Datenerfassung!K692 ),\" [IS]\"), CONCATENATE(IF(ISBLANK(Datenerfassung!L692),\" \",Datenerfassung!L692 ),\" [IS]\"), CONCATENATE(IF(ISBLANK(Datenerfassung!M692),\" \",Datenerfassung!M692 ),\" [IS]\"), IF(ISBLANK(Datenerfassung!N692),\" \",Datenerfassung!N692 ) ))","v":""},{"$f":"IF(ISBLANK(Datenerfassung!V692),\"\",Datenerfassung!V692)","v":""},{"$f":"IF(ISBLANK(Datenerfassung!Q692),\"\",Datenerfassung!Q692)","v":""}]
[{"$f":"IF(ISBLANK(Datenerfassung!A693),\"\",Datenerfassung!A693)","v":""},{"$f":"IF(ISBLANK(Datenerfassung!B693),\"\",Datenerfassung!B693)","v":""},{"$f":"IF(ISBLANK(Datenerfassung!C693),\"\",Datenerfassung!C693)","v":""},{"$f":"IF(ISBLANK(Datenerfassung!R693),\"\",Datenerfassung!R693)","v":""},{"$f":"IF(ISBLANK(Datenerfassung!S693),\"\",Datenerfassung!S693)","v":""},"",{"$f":"IF(ISBLANK(Datenerfassung!U693),\"\",Datenerfassung!U693)","v":""},{"$f":"IF(ISBLANK(Datenerfassung!O693),\"\",Datenerfassung!O693)","v":""},{"$f":"IF(ISBLANK(Datenerfassung!D693),IF(COUNTBLANK(A683:H683)+COUNTBLANK(J683:O683)=14,\"\",\"- ohne Titel -\"),Datenerfassung!D693)","v":""},{"$f":"IF(ISBLANK(Datenerfassung!G693),\"\",Datenerfassung!G693)","v":""},"",{"$f":"IF(ISBLANK(Datenerfassung!X693),\"\",Datenerfassung!X693)","v":""},{"$f":"IF(COUNTBLANK(Datenerfassung!H693:'Datenerfassung'!N693)=7,\"\",CONCATENATE( CONCATENATE(IF(ISBLANK(Datenerfassung!H693),\" \",Datenerfassung!H693 ),\" [IS]\"), CONCATENATE(IF(ISBLANK(Datenerfassung!I693),\" \",Datenerfassung!I693 ),\" [IS]\"), CONCATENATE(IF(ISBLANK(Datenerfassung!J693),\" \",Datenerfassung!J693 ),\" [IS]\"), CONCATENATE(IF(ISBLANK(Datenerfassung!K693),\" \",Datenerfassung!K693 ),\" [IS]\"), CONCATENATE(IF(ISBLANK(Datenerfassung!L693),\" \",Datenerfassung!L693 ),\" [IS]\"), CONCATENATE(IF(ISBLANK(Datenerfassung!M693),\" \",Datenerfassung!M693 ),\" [IS]\"), IF(ISBLANK(Datenerfassung!N693),\" \",Datenerfassung!N693 ) ))","v":""},{"$f":"IF(ISBLANK(Datenerfassung!V693),\"\",Datenerfassung!V693)","v":""},{"$f":"IF(ISBLANK(Datenerfassung!Q693),\"\",Datenerfassung!Q693)","v":""}]
[{"$f":"IF(ISBLANK(Datenerfassung!A694),\"\",Datenerfassung!A694)","v":""},{"$f":"IF(ISBLANK(Datenerfassung!B694),\"\",Datenerfassung!B694)","v":""},{"$f":"IF(ISBLANK(Datenerfassung!C694),\"\",Datenerfassung!C694)","v":""},{"$f":"IF(ISBLANK(Datenerfassung!R694),\"\",Datenerfassung!R694)","v":""},{"$f":"IF(ISBLANK(Datenerfassung!S694),\"\",Datenerfassung!S694)","v":""},"",{"$f":"IF(ISBLANK(Datenerfassung!U694),\"\",Datenerfassung!U694)","v":""},{"$f":"IF(ISBLANK(Datenerfassung!O694),\"\",Datenerfassung!O694)","v":""},{"$f":"IF(ISBLANK(Datenerfassung!D694),IF(COUNTBLANK(A684:H684)+COUNTBLANK(J684:O684)=14,\"\",\"- ohne Titel -\"),Datenerfassung!D694)","v":""},{"$f":"IF(ISBLANK(Datenerfassung!G694),\"\",Datenerfassung!G694)","v":""},"",{"$f":"IF(ISBLANK(Datenerfassung!X694),\"\",Datenerfassung!X694)","v":""},{"$f":"IF(COUNTBLANK(Datenerfassung!H694:'Datenerfassung'!N694)=7,\"\",CONCATENATE( CONCATENATE(IF(ISBLANK(Datenerfassung!H694),\" \",Datenerfassung!H694 ),\" [IS]\"), CONCATENATE(IF(ISBLANK(Datenerfassung!I694),\" \",Datenerfassung!I694 ),\" [IS]\"), CONCATENATE(IF(ISBLANK(Datenerfassung!J694),\" \",Datenerfassung!J694 ),\" [IS]\"), CONCATENATE(IF(ISBLANK(Datenerfassung!K694),\" \",Datenerfassung!K694 ),\" [IS]\"), CONCATENATE(IF(ISBLANK(Datenerfassung!L694),\" \",Datenerfassung!L694 ),\" [IS]\"), CONCATENATE(IF(ISBLANK(Datenerfassung!M694),\" \",Datenerfassung!M694 ),\" [IS]\"), IF(ISBLANK(Datenerfassung!N694),\" \",Datenerfassung!N694 ) ))","v":""},{"$f":"IF(ISBLANK(Datenerfassung!V694),\"\",Datenerfassung!V694)","v":""},{"$f":"IF(ISBLANK(Datenerfassung!Q694),\"\",Datenerfassung!Q694)","v":""}]
[{"$f":"IF(ISBLANK(Datenerfassung!A695),\"\",Datenerfassung!A695)","v":""},{"$f":"IF(ISBLANK(Datenerfassung!B695),\"\",Datenerfassung!B695)","v":""},{"$f":"IF(ISBLANK(Datenerfassung!C695),\"\",Datenerfassung!C695)","v":""},{"$f":"IF(ISBLANK(Datenerfassung!R695),\"\",Datenerfassung!R695)","v":""},{"$f":"IF(ISBLANK(Datenerfassung!S695),\"\",Datenerfassung!S695)","v":""},"",{"$f":"IF(ISBLANK(Datenerfassung!U695),\"\",Datenerfassung!U695)","v":""},{"$f":"IF(ISBLANK(Datenerfassung!O695),\"\",Datenerfassung!O695)","v":""},{"$f":"IF(ISBLANK(Datenerfassung!D695),IF(COUNTBLANK(A685:H685)+COUNTBLANK(J685:O685)=14,\"\",\"- ohne Titel -\"),Datenerfassung!D695)","v":""},{"$f":"IF(ISBLANK(Datenerfassung!G695),\"\",Datenerfassung!G695)","v":""},"",{"$f":"IF(ISBLANK(Datenerfassung!X695),\"\",Datenerfassung!X695)","v":""},{"$f":"IF(COUNTBLANK(Datenerfassung!H695:'Datenerfassung'!N695)=7,\"\",CONCATENATE( CONCATENATE(IF(ISBLANK(Datenerfassung!H695),\" \",Datenerfassung!H695 ),\" [IS]\"), CONCATENATE(IF(ISBLANK(Datenerfassung!I695),\" \",Datenerfassung!I695 ),\" [IS]\"), CONCATENATE(IF(ISBLANK(Datenerfassung!J695),\" \",Datenerfassung!J695 ),\" [IS]\"), CONCATENATE(IF(ISBLANK(Datenerfassung!K695),\" \",Datenerfassung!K695 ),\" [IS]\"), CONCATENATE(IF(ISBLANK(Datenerfassung!L695),\" \",Datenerfassung!L695 ),\" [IS]\"), CONCATENATE(IF(ISBLANK(Datenerfassung!M695),\" \",Datenerfassung!M695 ),\" [IS]\"), IF(ISBLANK(Datenerfassung!N695),\" \",Datenerfassung!N695 ) ))","v":""},{"$f":"IF(ISBLANK(Datenerfassung!V695),\"\",Datenerfassung!V695)","v":""},{"$f":"IF(ISBLANK(Datenerfassung!Q695),\"\",Datenerfassung!Q695)","v":""}]
[{"$f":"IF(ISBLANK(Datenerfassung!A696),\"\",Datenerfassung!A696)","v":""},{"$f":"IF(ISBLANK(Datenerfassung!B696),\"\",Datenerfassung!B696)","v":""},{"$f":"IF(ISBLANK(Datenerfassung!C696),\"\",Datenerfassung!C696)","v":""},{"$f":"IF(ISBLANK(Datenerfassung!R696),\"\",Datenerfassung!R696)","v":""},{"$f":"IF(ISBLANK(Datenerfassung!S696),\"\",Datenerfassung!S696)","v":""},"",{"$f":"IF(ISBLANK(Datenerfassung!U696),\"\",Datenerfassung!U696)","v":""},{"$f":"IF(ISBLANK(Datenerfassung!O696),\"\",Datenerfassung!O696)","v":""},{"$f":"IF(ISBLANK(Datenerfassung!D696),IF(COUNTBLANK(A686:H686)+COUNTBLANK(J686:O686)=14,\"\",\"- ohne Titel -\"),Datenerfassung!D696)","v":""},{"$f":"IF(ISBLANK(Datenerfassung!G696),\"\",Datenerfassung!G696)","v":""},"",{"$f":"IF(ISBLANK(Datenerfassung!X696),\"\",Datenerfassung!X696)","v":""},{"$f":"IF(COUNTBLANK(Datenerfassung!H696:'Datenerfassung'!N696)=7,\"\",CONCATENATE( CONCATENATE(IF(ISBLANK(Datenerfassung!H696),\" \",Datenerfassung!H696 ),\" [IS]\"), CONCATENATE(IF(ISBLANK(Datenerfassung!I696),\" \",Datenerfassung!I696 ),\" [IS]\"), CONCATENATE(IF(ISBLANK(Datenerfassung!J696),\" \",Datenerfassung!J696 ),\" [IS]\"), CONCATENATE(IF(ISBLANK(Datenerfassung!K696),\" \",Datenerfassung!K696 ),\" [IS]\"), CONCATENATE(IF(ISBLANK(Datenerfassung!L696),\" \",Datenerfassung!L696 ),\" [IS]\"), CONCATENATE(IF(ISBLANK(Datenerfassung!M696),\" \",Datenerfassung!M696 ),\" [IS]\"), IF(ISBLANK(Datenerfassung!N696),\" \",Datenerfassung!N696 ) ))","v":""},{"$f":"IF(ISBLANK(Datenerfassung!V696),\"\",Datenerfassung!V696)","v":""},{"$f":"IF(ISBLANK(Datenerfassung!Q696),\"\",Datenerfassung!Q696)","v":""}]
[{"$f":"IF(ISBLANK(Datenerfassung!A697),\"\",Datenerfassung!A697)","v":""},{"$f":"IF(ISBLANK(Datenerfassung!B697),\"\",Datenerfassung!B697)","v":""},{"$f":"IF(ISBLANK(Datenerfassung!C697),\"\",Datenerfassung!C697)","v":""},{"$f":"IF(ISBLANK(Datenerfassung!R697),\"\",Datenerfassung!R697)","v":""},{"$f":"IF(ISBLANK(Datenerfassung!S697),\"\",Datenerfassung!S697)","v":""},"",{"$f":"IF(ISBLANK(Datenerfassung!U697),\"\",Datenerfassung!U697)","v":""},{"$f":"IF(ISBLANK(Datenerfassung!O697),\"\",Datenerfassung!O697)","v":""},{"$f":"IF(ISBLANK(Datenerfassung!D697),IF(COUNTBLANK(A687:H687)+COUNTBLANK(J687:O687)=14,\"\",\"- ohne Titel -\"),Datenerfassung!D697)","v":""},{"$f":"IF(ISBLANK(Datenerfassung!G697),\"\",Datenerfassung!G697)","v":""},"",{"$f":"IF(ISBLANK(Datenerfassung!X697),\"\",Datenerfassung!X697)","v":""},{"$f":"IF(COUNTBLANK(Datenerfassung!H697:'Datenerfassung'!N697)=7,\"\",CONCATENATE( CONCATENATE(IF(ISBLANK(Datenerfassung!H697),\" \",Datenerfassung!H697 ),\" [IS]\"), CONCATENATE(IF(ISBLANK(Datenerfassung!I697),\" \",Datenerfassung!I697 ),\" [IS]\"), CONCATENATE(IF(ISBLANK(Datenerfassung!J697),\" \",Datenerfassung!J697 ),\" [IS]\"), CONCATENATE(IF(ISBLANK(Datenerfassung!K697),\" \",Datenerfassung!K697 ),\" [IS]\"), CONCATENATE(IF(ISBLANK(Datenerfassung!L697),\" \",Datenerfassung!L697 ),\" [IS]\"), CONCATENATE(IF(ISBLANK(Datenerfassung!M697),\" \",Datenerfassung!M697 ),\" [IS]\"), IF(ISBLANK(Datenerfassung!N697),\" \",Datenerfassung!N697 ) ))","v":""},{"$f":"IF(ISBLANK(Datenerfassung!V697),\"\",Datenerfassung!V697)","v":""},{"$f":"IF(ISBLANK(Datenerfassung!Q697),\"\",Datenerfassung!Q697)","v":""}]
[{"$f":"IF(ISBLANK(Datenerfassung!A698),\"\",Datenerfassung!A698)","v":""},{"$f":"IF(ISBLANK(Datenerfassung!B698),\"\",Datenerfassung!B698)","v":""},{"$f":"IF(ISBLANK(Datenerfassung!C698),\"\",Datenerfassung!C698)","v":""},{"$f":"IF(ISBLANK(Datenerfassung!R698),\"\",Datenerfassung!R698)","v":""},{"$f":"IF(ISBLANK(Datenerfassung!S698),\"\",Datenerfassung!S698)","v":""},"",{"$f":"IF(ISBLANK(Datenerfassung!U698),\"\",Datenerfassung!U698)","v":""},{"$f":"IF(ISBLANK(Datenerfassung!O698),\"\",Datenerfassung!O698)","v":""},{"$f":"IF(ISBLANK(Datenerfassung!D698),IF(COUNTBLANK(A688:H688)+COUNTBLANK(J688:O688)=14,\"\",\"- ohne Titel -\"),Datenerfassung!D698)","v":""},{"$f":"IF(ISBLANK(Datenerfassung!G698),\"\",Datenerfassung!G698)","v":""},"",{"$f":"IF(ISBLANK(Datenerfassung!X698),\"\",Datenerfassung!X698)","v":""},{"$f":"IF(COUNTBLANK(Datenerfassung!H698:'Datenerfassung'!N698)=7,\"\",CONCATENATE( CONCATENATE(IF(ISBLANK(Datenerfassung!H698),\" \",Datenerfassung!H698 ),\" [IS]\"), CONCATENATE(IF(ISBLANK(Datenerfassung!I698),\" \",Datenerfassung!I698 ),\" [IS]\"), CONCATENATE(IF(ISBLANK(Datenerfassung!J698),\" \",Datenerfassung!J698 ),\" [IS]\"), CONCATENATE(IF(ISBLANK(Datenerfassung!K698),\" \",Datenerfassung!K698 ),\" [IS]\"), CONCATENATE(IF(ISBLANK(Datenerfassung!L698),\" \",Datenerfassung!L698 ),\" [IS]\"), CONCATENATE(IF(ISBLANK(Datenerfassung!M698),\" \",Datenerfassung!M698 ),\" [IS]\"), IF(ISBLANK(Datenerfassung!N698),\" \",Datenerfassung!N698 ) ))","v":""},{"$f":"IF(ISBLANK(Datenerfassung!V698),\"\",Datenerfassung!V698)","v":""},{"$f":"IF(ISBLANK(Datenerfassung!Q698),\"\",Datenerfassung!Q698)","v":""}]
[{"$f":"IF(ISBLANK(Datenerfassung!A699),\"\",Datenerfassung!A699)","v":""},{"$f":"IF(ISBLANK(Datenerfassung!B699),\"\",Datenerfassung!B699)","v":""},{"$f":"IF(ISBLANK(Datenerfassung!C699),\"\",Datenerfassung!C699)","v":""},{"$f":"IF(ISBLANK(Datenerfassung!R699),\"\",Datenerfassung!R699)","v":""},{"$f":"IF(ISBLANK(Datenerfassung!S699),\"\",Datenerfassung!S699)","v":""},"",{"$f":"IF(ISBLANK(Datenerfassung!U699),\"\",Datenerfassung!U699)","v":""},{"$f":"IF(ISBLANK(Datenerfassung!O699),\"\",Datenerfassung!O699)","v":""},{"$f":"IF(ISBLANK(Datenerfassung!D699),IF(COUNTBLANK(A689:H689)+COUNTBLANK(J689:O689)=14,\"\",\"- ohne Titel -\"),Datenerfassung!D699)","v":""},{"$f":"IF(ISBLANK(Datenerfassung!G699),\"\",Datenerfassung!G699)","v":""},"",{"$f":"IF(ISBLANK(Datenerfassung!X699),\"\",Datenerfassung!X699)","v":""},{"$f":"IF(COUNTBLANK(Datenerfassung!H699:'Datenerfassung'!N699)=7,\"\",CONCATENATE( CONCATENATE(IF(ISBLANK(Datenerfassung!H699),\" \",Datenerfassung!H699 ),\" [IS]\"), CONCATENATE(IF(ISBLANK(Datenerfassung!I699),\" \",Datenerfassung!I699 ),\" [IS]\"), CONCATENATE(IF(ISBLANK(Datenerfassung!J699),\" \",Datenerfassung!J699 ),\" [IS]\"), CONCATENATE(IF(ISBLANK(Datenerfassung!K699),\" \",Datenerfassung!K699 ),\" [IS]\"), CONCATENATE(IF(ISBLANK(Datenerfassung!L699),\" \",Datenerfassung!L699 ),\" [IS]\"), CONCATENATE(IF(ISBLANK(Datenerfassung!M699),\" \",Datenerfassung!M699 ),\" [IS]\"), IF(ISBLANK(Datenerfassung!N699),\" \",Datenerfassung!N699 ) ))","v":""},{"$f":"IF(ISBLANK(Datenerfassung!V699),\"\",Datenerfassung!V699)","v":""},{"$f":"IF(ISBLANK(Datenerfassung!Q699),\"\",Datenerfassung!Q699)","v":""}]
[{"$f":"IF(ISBLANK(Datenerfassung!A700),\"\",Datenerfassung!A700)","v":""},{"$f":"IF(ISBLANK(Datenerfassung!B700),\"\",Datenerfassung!B700)","v":""},{"$f":"IF(ISBLANK(Datenerfassung!C700),\"\",Datenerfassung!C700)","v":""},{"$f":"IF(ISBLANK(Datenerfassung!R700),\"\",Datenerfassung!R700)","v":""},{"$f":"IF(ISBLANK(Datenerfassung!S700),\"\",Datenerfassung!S700)","v":""},"",{"$f":"IF(ISBLANK(Datenerfassung!U700),\"\",Datenerfassung!U700)","v":""},{"$f":"IF(ISBLANK(Datenerfassung!O700),\"\",Datenerfassung!O700)","v":""},{"$f":"IF(ISBLANK(Datenerfassung!D700),IF(COUNTBLANK(A690:H690)+COUNTBLANK(J690:O690)=14,\"\",\"- ohne Titel -\"),Datenerfassung!D700)","v":""},{"$f":"IF(ISBLANK(Datenerfassung!G700),\"\",Datenerfassung!G700)","v":""},"",{"$f":"IF(ISBLANK(Datenerfassung!X700),\"\",Datenerfassung!X700)","v":""},{"$f":"IF(COUNTBLANK(Datenerfassung!H700:'Datenerfassung'!N700)=7,\"\",CONCATENATE( CONCATENATE(IF(ISBLANK(Datenerfassung!H700),\" \",Datenerfassung!H700 ),\" [IS]\"), CONCATENATE(IF(ISBLANK(Datenerfassung!I700),\" \",Datenerfassung!I700 ),\" [IS]\"), CONCATENATE(IF(ISBLANK(Datenerfassung!J700),\" \",Datenerfassung!J700 ),\" [IS]\"), CONCATENATE(IF(ISBLANK(Datenerfassung!K700),\" \",Datenerfassung!K700 ),\" [IS]\"), CONCATENATE(IF(ISBLANK(Datenerfassung!L700),\" \",Datenerfassung!L700 ),\" [IS]\"), CONCATENATE(IF(ISBLANK(Datenerfassung!M700),\" \",Datenerfassung!M700 ),\" [IS]\"), IF(ISBLANK(Datenerfassung!N700),\" \",Datenerfassung!N700 ) ))","v":""},{"$f":"IF(ISBLANK(Datenerfassung!V700),\"\",Datenerfassung!V700)","v":""},{"$f":"IF(ISBLANK(Datenerfassung!Q700),\"\",Datenerfassung!Q700)","v":""}]
[{"$f":"IF(ISBLANK(Datenerfassung!A701),\"\",Datenerfassung!A701)","v":""},{"$f":"IF(ISBLANK(Datenerfassung!B701),\"\",Datenerfassung!B701)","v":""},{"$f":"IF(ISBLANK(Datenerfassung!C701),\"\",Datenerfassung!C701)","v":""},{"$f":"IF(ISBLANK(Datenerfassung!R701),\"\",Datenerfassung!R701)","v":""},{"$f":"IF(ISBLANK(Datenerfassung!S701),\"\",Datenerfassung!S701)","v":""},"",{"$f":"IF(ISBLANK(Datenerfassung!U701),\"\",Datenerfassung!U701)","v":""},{"$f":"IF(ISBLANK(Datenerfassung!O701),\"\",Datenerfassung!O701)","v":""},{"$f":"IF(ISBLANK(Datenerfassung!D701),IF(COUNTBLANK(A691:H691)+COUNTBLANK(J691:O691)=14,\"\",\"- ohne Titel -\"),Datenerfassung!D701)","v":""},{"$f":"IF(ISBLANK(Datenerfassung!G701),\"\",Datenerfassung!G701)","v":""},"",{"$f":"IF(ISBLANK(Datenerfassung!X701),\"\",Datenerfassung!X701)","v":""},{"$f":"IF(COUNTBLANK(Datenerfassung!H701:'Datenerfassung'!N701)=7,\"\",CONCATENATE( CONCATENATE(IF(ISBLANK(Datenerfassung!H701),\" \",Datenerfassung!H701 ),\" [IS]\"), CONCATENATE(IF(ISBLANK(Datenerfassung!I701),\" \",Datenerfassung!I701 ),\" [IS]\"), CONCATENATE(IF(ISBLANK(Datenerfassung!J701),\" \",Datenerfassung!J701 ),\" [IS]\"), CONCATENATE(IF(ISBLANK(Datenerfassung!K701),\" \",Datenerfassung!K701 ),\" [IS]\"), CONCATENATE(IF(ISBLANK(Datenerfassung!L701),\" \",Datenerfassung!L701 ),\" [IS]\"), CONCATENATE(IF(ISBLANK(Datenerfassung!M701),\" \",Datenerfassung!M701 ),\" [IS]\"), IF(ISBLANK(Datenerfassung!N701),\" \",Datenerfassung!N701 ) ))","v":""},{"$f":"IF(ISBLANK(Datenerfassung!V701),\"\",Datenerfassung!V701)","v":""},{"$f":"IF(ISBLANK(Datenerfassung!Q701),\"\",Datenerfassung!Q701)","v":""}]
[{"$f":"IF(ISBLANK(Datenerfassung!A702),\"\",Datenerfassung!A702)","v":""},{"$f":"IF(ISBLANK(Datenerfassung!B702),\"\",Datenerfassung!B702)","v":""},{"$f":"IF(ISBLANK(Datenerfassung!C702),\"\",Datenerfassung!C702)","v":""},{"$f":"IF(ISBLANK(Datenerfassung!R702),\"\",Datenerfassung!R702)","v":""},{"$f":"IF(ISBLANK(Datenerfassung!S702),\"\",Datenerfassung!S702)","v":""},"",{"$f":"IF(ISBLANK(Datenerfassung!U702),\"\",Datenerfassung!U702)","v":""},{"$f":"IF(ISBLANK(Datenerfassung!O702),\"\",Datenerfassung!O702)","v":""},{"$f":"IF(ISBLANK(Datenerfassung!D702),IF(COUNTBLANK(A692:H692)+COUNTBLANK(J692:O692)=14,\"\",\"- ohne Titel -\"),Datenerfassung!D702)","v":""},{"$f":"IF(ISBLANK(Datenerfassung!G702),\"\",Datenerfassung!G702)","v":""},"",{"$f":"IF(ISBLANK(Datenerfassung!X702),\"\",Datenerfassung!X702)","v":""},{"$f":"IF(COUNTBLANK(Datenerfassung!H702:'Datenerfassung'!N702)=7,\"\",CONCATENATE( CONCATENATE(IF(ISBLANK(Datenerfassung!H702),\" \",Datenerfassung!H702 ),\" [IS]\"), CONCATENATE(IF(ISBLANK(Datenerfassung!I702),\" \",Datenerfassung!I702 ),\" [IS]\"), CONCATENATE(IF(ISBLANK(Datenerfassung!J702),\" \",Datenerfassung!J702 ),\" [IS]\"), CONCATENATE(IF(ISBLANK(Datenerfassung!K702),\" \",Datenerfassung!K702 ),\" [IS]\"), CONCATENATE(IF(ISBLANK(Datenerfassung!L702),\" \",Datenerfassung!L702 ),\" [IS]\"), CONCATENATE(IF(ISBLANK(Datenerfassung!M702),\" \",Datenerfassung!M702 ),\" [IS]\"), IF(ISBLANK(Datenerfassung!N702),\" \",Datenerfassung!N702 ) ))","v":""},{"$f":"IF(ISBLANK(Datenerfassung!V702),\"\",Datenerfassung!V702)","v":""},{"$f":"IF(ISBLANK(Datenerfassung!Q702),\"\",Datenerfassung!Q702)","v":""}]
[{"$f":"IF(ISBLANK(Datenerfassung!A703),\"\",Datenerfassung!A703)","v":""},{"$f":"IF(ISBLANK(Datenerfassung!B703),\"\",Datenerfassung!B703)","v":""},{"$f":"IF(ISBLANK(Datenerfassung!C703),\"\",Datenerfassung!C703)","v":""},{"$f":"IF(ISBLANK(Datenerfassung!R703),\"\",Datenerfassung!R703)","v":""},{"$f":"IF(ISBLANK(Datenerfassung!S703),\"\",Datenerfassung!S703)","v":""},"",{"$f":"IF(ISBLANK(Datenerfassung!U703),\"\",Datenerfassung!U703)","v":""},{"$f":"IF(ISBLANK(Datenerfassung!O703),\"\",Datenerfassung!O703)","v":""},{"$f":"IF(ISBLANK(Datenerfassung!D703),IF(COUNTBLANK(A693:H693)+COUNTBLANK(J693:O693)=14,\"\",\"- ohne Titel -\"),Datenerfassung!D703)","v":""},{"$f":"IF(ISBLANK(Datenerfassung!G703),\"\",Datenerfassung!G703)","v":""},"",{"$f":"IF(ISBLANK(Datenerfassung!X703),\"\",Datenerfassung!X703)","v":""},{"$f":"IF(COUNTBLANK(Datenerfassung!H703:'Datenerfassung'!N703)=7,\"\",CONCATENATE( CONCATENATE(IF(ISBLANK(Datenerfassung!H703),\" \",Datenerfassung!H703 ),\" [IS]\"), CONCATENATE(IF(ISBLANK(Datenerfassung!I703),\" \",Datenerfassung!I703 ),\" [IS]\"), CONCATENATE(IF(ISBLANK(Datenerfassung!J703),\" \",Datenerfassung!J703 ),\" [IS]\"), CONCATENATE(IF(ISBLANK(Datenerfassung!K703),\" \",Datenerfassung!K703 ),\" [IS]\"), CONCATENATE(IF(ISBLANK(Datenerfassung!L703),\" \",Datenerfassung!L703 ),\" [IS]\"), CONCATENATE(IF(ISBLANK(Datenerfassung!M703),\" \",Datenerfassung!M703 ),\" [IS]\"), IF(ISBLANK(Datenerfassung!N703),\" \",Datenerfassung!N703 ) ))","v":""},{"$f":"IF(ISBLANK(Datenerfassung!V703),\"\",Datenerfassung!V703)","v":""},{"$f":"IF(ISBLANK(Datenerfassung!Q703),\"\",Datenerfassung!Q703)","v":""}]
[{"$f":"IF(ISBLANK(Datenerfassung!A704),\"\",Datenerfassung!A704)","v":""},{"$f":"IF(ISBLANK(Datenerfassung!B704),\"\",Datenerfassung!B704)","v":""},{"$f":"IF(ISBLANK(Datenerfassung!C704),\"\",Datenerfassung!C704)","v":""},{"$f":"IF(ISBLANK(Datenerfassung!R704),\"\",Datenerfassung!R704)","v":""},{"$f":"IF(ISBLANK(Datenerfassung!S704),\"\",Datenerfassung!S704)","v":""},"",{"$f":"IF(ISBLANK(Datenerfassung!U704),\"\",Datenerfassung!U704)","v":""},{"$f":"IF(ISBLANK(Datenerfassung!O704),\"\",Datenerfassung!O704)","v":""},{"$f":"IF(ISBLANK(Datenerfassung!D704),IF(COUNTBLANK(A694:H694)+COUNTBLANK(J694:O694)=14,\"\",\"- ohne Titel -\"),Datenerfassung!D704)","v":""},{"$f":"IF(ISBLANK(Datenerfassung!G704),\"\",Datenerfassung!G704)","v":""},"",{"$f":"IF(ISBLANK(Datenerfassung!X704),\"\",Datenerfassung!X704)","v":""},{"$f":"IF(COUNTBLANK(Datenerfassung!H704:'Datenerfassung'!N704)=7,\"\",CONCATENATE( CONCATENATE(IF(ISBLANK(Datenerfassung!H704),\" \",Datenerfassung!H704 ),\" [IS]\"), CONCATENATE(IF(ISBLANK(Datenerfassung!I704),\" \",Datenerfassung!I704 ),\" [IS]\"), CONCATENATE(IF(ISBLANK(Datenerfassung!J704),\" \",Datenerfassung!J704 ),\" [IS]\"), CONCATENATE(IF(ISBLANK(Datenerfassung!K704),\" \",Datenerfassung!K704 ),\" [IS]\"), CONCATENATE(IF(ISBLANK(Datenerfassung!L704),\" \",Datenerfassung!L704 ),\" [IS]\"), CONCATENATE(IF(ISBLANK(Datenerfassung!M704),\" \",Datenerfassung!M704 ),\" [IS]\"), IF(ISBLANK(Datenerfassung!N704),\" \",Datenerfassung!N704 ) ))","v":""},{"$f":"IF(ISBLANK(Datenerfassung!V704),\"\",Datenerfassung!V704)","v":""},{"$f":"IF(ISBLANK(Datenerfassung!Q704),\"\",Datenerfassung!Q704)","v":""}]
[{"$f":"IF(ISBLANK(Datenerfassung!A705),\"\",Datenerfassung!A705)","v":""},{"$f":"IF(ISBLANK(Datenerfassung!B705),\"\",Datenerfassung!B705)","v":""},{"$f":"IF(ISBLANK(Datenerfassung!C705),\"\",Datenerfassung!C705)","v":""},{"$f":"IF(ISBLANK(Datenerfassung!R705),\"\",Datenerfassung!R705)","v":""},{"$f":"IF(ISBLANK(Datenerfassung!S705),\"\",Datenerfassung!S705)","v":""},"",{"$f":"IF(ISBLANK(Datenerfassung!U705),\"\",Datenerfassung!U705)","v":""},{"$f":"IF(ISBLANK(Datenerfassung!O705),\"\",Datenerfassung!O705)","v":""},{"$f":"IF(ISBLANK(Datenerfassung!D705),IF(COUNTBLANK(A695:H695)+COUNTBLANK(J695:O695)=14,\"\",\"- ohne Titel -\"),Datenerfassung!D705)","v":""},{"$f":"IF(ISBLANK(Datenerfassung!G705),\"\",Datenerfassung!G705)","v":""},"",{"$f":"IF(ISBLANK(Datenerfassung!X705),\"\",Datenerfassung!X705)","v":""},{"$f":"IF(COUNTBLANK(Datenerfassung!H705:'Datenerfassung'!N705)=7,\"\",CONCATENATE( CONCATENATE(IF(ISBLANK(Datenerfassung!H705),\" \",Datenerfassung!H705 ),\" [IS]\"), CONCATENATE(IF(ISBLANK(Datenerfassung!I705),\" \",Datenerfassung!I705 ),\" [IS]\"), CONCATENATE(IF(ISBLANK(Datenerfassung!J705),\" \",Datenerfassung!J705 ),\" [IS]\"), CONCATENATE(IF(ISBLANK(Datenerfassung!K705),\" \",Datenerfassung!K705 ),\" [IS]\"), CONCATENATE(IF(ISBLANK(Datenerfassung!L705),\" \",Datenerfassung!L705 ),\" [IS]\"), CONCATENATE(IF(ISBLANK(Datenerfassung!M705),\" \",Datenerfassung!M705 ),\" [IS]\"), IF(ISBLANK(Datenerfassung!N705),\" \",Datenerfassung!N705 ) ))","v":""},{"$f":"IF(ISBLANK(Datenerfassung!V705),\"\",Datenerfassung!V705)","v":""},{"$f":"IF(ISBLANK(Datenerfassung!Q705),\"\",Datenerfassung!Q705)","v":""}]
[{"$f":"IF(ISBLANK(Datenerfassung!A706),\"\",Datenerfassung!A706)","v":""},{"$f":"IF(ISBLANK(Datenerfassung!B706),\"\",Datenerfassung!B706)","v":""},{"$f":"IF(ISBLANK(Datenerfassung!C706),\"\",Datenerfassung!C706)","v":""},{"$f":"IF(ISBLANK(Datenerfassung!R706),\"\",Datenerfassung!R706)","v":""},{"$f":"IF(ISBLANK(Datenerfassung!S706),\"\",Datenerfassung!S706)","v":""},"",{"$f":"IF(ISBLANK(Datenerfassung!U706),\"\",Datenerfassung!U706)","v":""},{"$f":"IF(ISBLANK(Datenerfassung!O706),\"\",Datenerfassung!O706)","v":""},{"$f":"IF(ISBLANK(Datenerfassung!D706),IF(COUNTBLANK(A696:H696)+COUNTBLANK(J696:O696)=14,\"\",\"- ohne Titel -\"),Datenerfassung!D706)","v":""},{"$f":"IF(ISBLANK(Datenerfassung!G706),\"\",Datenerfassung!G706)","v":""},"",{"$f":"IF(ISBLANK(Datenerfassung!X706),\"\",Datenerfassung!X706)","v":""},{"$f":"IF(COUNTBLANK(Datenerfassung!H706:'Datenerfassung'!N706)=7,\"\",CONCATENATE( CONCATENATE(IF(ISBLANK(Datenerfassung!H706),\" \",Datenerfassung!H706 ),\" [IS]\"), CONCATENATE(IF(ISBLANK(Datenerfassung!I706),\" \",Datenerfassung!I706 ),\" [IS]\"), CONCATENATE(IF(ISBLANK(Datenerfassung!J706),\" \",Datenerfassung!J706 ),\" [IS]\"), CONCATENATE(IF(ISBLANK(Datenerfassung!K706),\" \",Datenerfassung!K706 ),\" [IS]\"), CONCATENATE(IF(ISBLANK(Datenerfassung!L706),\" \",Datenerfassung!L706 ),\" [IS]\"), CONCATENATE(IF(ISBLANK(Datenerfassung!M706),\" \",Datenerfassung!M706 ),\" [IS]\"), IF(ISBLANK(Datenerfassung!N706),\" \",Datenerfassung!N706 ) ))","v":""},{"$f":"IF(ISBLANK(Datenerfassung!V706),\"\",Datenerfassung!V706)","v":""},{"$f":"IF(ISBLANK(Datenerfassung!Q706),\"\",Datenerfassung!Q706)","v":""}]
[{"$f":"IF(ISBLANK(Datenerfassung!A707),\"\",Datenerfassung!A707)","v":""},{"$f":"IF(ISBLANK(Datenerfassung!B707),\"\",Datenerfassung!B707)","v":""},{"$f":"IF(ISBLANK(Datenerfassung!C707),\"\",Datenerfassung!C707)","v":""},{"$f":"IF(ISBLANK(Datenerfassung!R707),\"\",Datenerfassung!R707)","v":""},{"$f":"IF(ISBLANK(Datenerfassung!S707),\"\",Datenerfassung!S707)","v":""},"",{"$f":"IF(ISBLANK(Datenerfassung!U707),\"\",Datenerfassung!U707)","v":""},{"$f":"IF(ISBLANK(Datenerfassung!O707),\"\",Datenerfassung!O707)","v":""},{"$f":"IF(ISBLANK(Datenerfassung!D707),IF(COUNTBLANK(A697:H697)+COUNTBLANK(J697:O697)=14,\"\",\"- ohne Titel -\"),Datenerfassung!D707)","v":""},{"$f":"IF(ISBLANK(Datenerfassung!G707),\"\",Datenerfassung!G707)","v":""},"",{"$f":"IF(ISBLANK(Datenerfassung!X707),\"\",Datenerfassung!X707)","v":""},{"$f":"IF(COUNTBLANK(Datenerfassung!H707:'Datenerfassung'!N707)=7,\"\",CONCATENATE( CONCATENATE(IF(ISBLANK(Datenerfassung!H707),\" \",Datenerfassung!H707 ),\" [IS]\"), CONCATENATE(IF(ISBLANK(Datenerfassung!I707),\" \",Datenerfassung!I707 ),\" [IS]\"), CONCATENATE(IF(ISBLANK(Datenerfassung!J707),\" \",Datenerfassung!J707 ),\" [IS]\"), CONCATENATE(IF(ISBLANK(Datenerfassung!K707),\" \",Datenerfassung!K707 ),\" [IS]\"), CONCATENATE(IF(ISBLANK(Datenerfassung!L707),\" \",Datenerfassung!L707 ),\" [IS]\"), CONCATENATE(IF(ISBLANK(Datenerfassung!M707),\" \",Datenerfassung!M707 ),\" [IS]\"), IF(ISBLANK(Datenerfassung!N707),\" \",Datenerfassung!N707 ) ))","v":""},{"$f":"IF(ISBLANK(Datenerfassung!V707),\"\",Datenerfassung!V707)","v":""},{"$f":"IF(ISBLANK(Datenerfassung!Q707),\"\",Datenerfassung!Q707)","v":""}]
[{"$f":"IF(ISBLANK(Datenerfassung!A708),\"\",Datenerfassung!A708)","v":""},{"$f":"IF(ISBLANK(Datenerfassung!B708),\"\",Datenerfassung!B708)","v":""},{"$f":"IF(ISBLANK(Datenerfassung!C708),\"\",Datenerfassung!C708)","v":""},{"$f":"IF(ISBLANK(Datenerfassung!R708),\"\",Datenerfassung!R708)","v":""},{"$f":"IF(ISBLANK(Datenerfassung!S708),\"\",Datenerfassung!S708)","v":""},"",{"$f":"IF(ISBLANK(Datenerfassung!U708),\"\",Datenerfassung!U708)","v":""},{"$f":"IF(ISBLANK(Datenerfassung!O708),\"\",Datenerfassung!O708)","v":""},{"$f":"IF(ISBLANK(Datenerfassung!D708),IF(COUNTBLANK(A698:H698)+COUNTBLANK(J698:O698)=14,\"\",\"- ohne Titel -\"),Datenerfassung!D708)","v":""},{"$f":"IF(ISBLANK(Datenerfassung!G708),\"\",Datenerfassung!G708)","v":""},"",{"$f":"IF(ISBLANK(Datenerfassung!X708),\"\",Datenerfassung!X708)","v":""},{"$f":"IF(COUNTBLANK(Datenerfassung!H708:'Datenerfassung'!N708)=7,\"\",CONCATENATE( CONCATENATE(IF(ISBLANK(Datenerfassung!H708),\" \",Datenerfassung!H708 ),\" [IS]\"), CONCATENATE(IF(ISBLANK(Datenerfassung!I708),\" \",Datenerfassung!I708 ),\" [IS]\"), CONCATENATE(IF(ISBLANK(Datenerfassung!J708),\" \",Datenerfassung!J708 ),\" [IS]\"), CONCATENATE(IF(ISBLANK(Datenerfassung!K708),\" \",Datenerfassung!K708 ),\" [IS]\"), CONCATENATE(IF(ISBLANK(Datenerfassung!L708),\" \",Datenerfassung!L708 ),\" [IS]\"), CONCATENATE(IF(ISBLANK(Datenerfassung!M708),\" \",Datenerfassung!M708 ),\" [IS]\"), IF(ISBLANK(Datenerfassung!N708),\" \",Datenerfassung!N708 ) ))","v":""},{"$f":"IF(ISBLANK(Datenerfassung!V708),\"\",Datenerfassung!V708)","v":""},{"$f":"IF(ISBLANK(Datenerfassung!Q708),\"\",Datenerfassung!Q708)","v":""}]
[{"$f":"IF(ISBLANK(Datenerfassung!A709),\"\",Datenerfassung!A709)","v":""},{"$f":"IF(ISBLANK(Datenerfassung!B709),\"\",Datenerfassung!B709)","v":""},{"$f":"IF(ISBLANK(Datenerfassung!C709),\"\",Datenerfassung!C709)","v":""},{"$f":"IF(ISBLANK(Datenerfassung!R709),\"\",Datenerfassung!R709)","v":""},{"$f":"IF(ISBLANK(Datenerfassung!S709),\"\",Datenerfassung!S709)","v":""},"",{"$f":"IF(ISBLANK(Datenerfassung!U709),\"\",Datenerfassung!U709)","v":""},{"$f":"IF(ISBLANK(Datenerfassung!O709),\"\",Datenerfassung!O709)","v":""},{"$f":"IF(ISBLANK(Datenerfassung!D709),IF(COUNTBLANK(A699:H699)+COUNTBLANK(J699:O699)=14,\"\",\"- ohne Titel -\"),Datenerfassung!D709)","v":""},{"$f":"IF(ISBLANK(Datenerfassung!G709),\"\",Datenerfassung!G709)","v":""},"",{"$f":"IF(ISBLANK(Datenerfassung!X709),\"\",Datenerfassung!X709)","v":""},{"$f":"IF(COUNTBLANK(Datenerfassung!H709:'Datenerfassung'!N709)=7,\"\",CONCATENATE( CONCATENATE(IF(ISBLANK(Datenerfassung!H709),\" \",Datenerfassung!H709 ),\" [IS]\"), CONCATENATE(IF(ISBLANK(Datenerfassung!I709),\" \",Datenerfassung!I709 ),\" [IS]\"), CONCATENATE(IF(ISBLANK(Datenerfassung!J709),\" \",Datenerfassung!J709 ),\" [IS]\"), CONCATENATE(IF(ISBLANK(Datenerfassung!K709),\" \",Datenerfassung!K709 ),\" [IS]\"), CONCATENATE(IF(ISBLANK(Datenerfassung!L709),\" \",Datenerfassung!L709 ),\" [IS]\"), CONCATENATE(IF(ISBLANK(Datenerfassung!M709),\" \",Datenerfassung!M709 ),\" [IS]\"), IF(ISBLANK(Datenerfassung!N709),\" \",Datenerfassung!N709 ) ))","v":""},{"$f":"IF(ISBLANK(Datenerfassung!V709),\"\",Datenerfassung!V709)","v":""},{"$f":"IF(ISBLANK(Datenerfassung!Q709),\"\",Datenerfassung!Q709)","v":""}]
[{"$f":"IF(ISBLANK(Datenerfassung!A710),\"\",Datenerfassung!A710)","v":""},{"$f":"IF(ISBLANK(Datenerfassung!B710),\"\",Datenerfassung!B710)","v":""},{"$f":"IF(ISBLANK(Datenerfassung!C710),\"\",Datenerfassung!C710)","v":""},{"$f":"IF(ISBLANK(Datenerfassung!R710),\"\",Datenerfassung!R710)","v":""},{"$f":"IF(ISBLANK(Datenerfassung!S710),\"\",Datenerfassung!S710)","v":""},"",{"$f":"IF(ISBLANK(Datenerfassung!U710),\"\",Datenerfassung!U710)","v":""},{"$f":"IF(ISBLANK(Datenerfassung!O710),\"\",Datenerfassung!O710)","v":""},{"$f":"IF(ISBLANK(Datenerfassung!D710),IF(COUNTBLANK(A700:H700)+COUNTBLANK(J700:O700)=14,\"\",\"- ohne Titel -\"),Datenerfassung!D710)","v":""},{"$f":"IF(ISBLANK(Datenerfassung!G710),\"\",Datenerfassung!G710)","v":""},"",{"$f":"IF(ISBLANK(Datenerfassung!X710),\"\",Datenerfassung!X710)","v":""},{"$f":"IF(COUNTBLANK(Datenerfassung!H710:'Datenerfassung'!N710)=7,\"\",CONCATENATE( CONCATENATE(IF(ISBLANK(Datenerfassung!H710),\" \",Datenerfassung!H710 ),\" [IS]\"), CONCATENATE(IF(ISBLANK(Datenerfassung!I710),\" \",Datenerfassung!I710 ),\" [IS]\"), CONCATENATE(IF(ISBLANK(Datenerfassung!J710),\" \",Datenerfassung!J710 ),\" [IS]\"), CONCATENATE(IF(ISBLANK(Datenerfassung!K710),\" \",Datenerfassung!K710 ),\" [IS]\"), CONCATENATE(IF(ISBLANK(Datenerfassung!L710),\" \",Datenerfassung!L710 ),\" [IS]\"), CONCATENATE(IF(ISBLANK(Datenerfassung!M710),\" \",Datenerfassung!M710 ),\" [IS]\"), IF(ISBLANK(Datenerfassung!N710),\" \",Datenerfassung!N710 ) ))","v":""},{"$f":"IF(ISBLANK(Datenerfassung!V710),\"\",Datenerfassung!V710)","v":""},{"$f":"IF(ISBLANK(Datenerfassung!Q710),\"\",Datenerfassung!Q710)","v":""}]
[{"$f":"IF(ISBLANK(Datenerfassung!A711),\"\",Datenerfassung!A711)","v":""},{"$f":"IF(ISBLANK(Datenerfassung!B711),\"\",Datenerfassung!B711)","v":""},{"$f":"IF(ISBLANK(Datenerfassung!C711),\"\",Datenerfassung!C711)","v":""},{"$f":"IF(ISBLANK(Datenerfassung!R711),\"\",Datenerfassung!R711)","v":""},{"$f":"IF(ISBLANK(Datenerfassung!S711),\"\",Datenerfassung!S711)","v":""},"",{"$f":"IF(ISBLANK(Datenerfassung!U711),\"\",Datenerfassung!U711)","v":""},{"$f":"IF(ISBLANK(Datenerfassung!O711),\"\",Datenerfassung!O711)","v":""},{"$f":"IF(ISBLANK(Datenerfassung!D711),IF(COUNTBLANK(A701:H701)+COUNTBLANK(J701:O701)=14,\"\",\"- ohne Titel -\"),Datenerfassung!D711)","v":""},{"$f":"IF(ISBLANK(Datenerfassung!G711),\"\",Datenerfassung!G711)","v":""},"",{"$f":"IF(ISBLANK(Datenerfassung!X711),\"\",Datenerfassung!X711)","v":""},{"$f":"IF(COUNTBLANK(Datenerfassung!H711:'Datenerfassung'!N711)=7,\"\",CONCATENATE( CONCATENATE(IF(ISBLANK(Datenerfassung!H711),\" \",Datenerfassung!H711 ),\" [IS]\"), CONCATENATE(IF(ISBLANK(Datenerfassung!I711),\" \",Datenerfassung!I711 ),\" [IS]\"), CONCATENATE(IF(ISBLANK(Datenerfassung!J711),\" \",Datenerfassung!J711 ),\" [IS]\"), CONCATENATE(IF(ISBLANK(Datenerfassung!K711),\" \",Datenerfassung!K711 ),\" [IS]\"), CONCATENATE(IF(ISBLANK(Datenerfassung!L711),\" \",Datenerfassung!L711 ),\" [IS]\"), CONCATENATE(IF(ISBLANK(Datenerfassung!M711),\" \",Datenerfassung!M711 ),\" [IS]\"), IF(ISBLANK(Datenerfassung!N711),\" \",Datenerfassung!N711 ) ))","v":""},{"$f":"IF(ISBLANK(Datenerfassung!V711),\"\",Datenerfassung!V711)","v":""},{"$f":"IF(ISBLANK(Datenerfassung!Q711),\"\",Datenerfassung!Q711)","v":""}]
[{"$f":"IF(ISBLANK(Datenerfassung!A712),\"\",Datenerfassung!A712)","v":""},{"$f":"IF(ISBLANK(Datenerfassung!B712),\"\",Datenerfassung!B712)","v":""},{"$f":"IF(ISBLANK(Datenerfassung!C712),\"\",Datenerfassung!C712)","v":""},{"$f":"IF(ISBLANK(Datenerfassung!R712),\"\",Datenerfassung!R712)","v":""},{"$f":"IF(ISBLANK(Datenerfassung!S712),\"\",Datenerfassung!S712)","v":""},"",{"$f":"IF(ISBLANK(Datenerfassung!U712),\"\",Datenerfassung!U712)","v":""},{"$f":"IF(ISBLANK(Datenerfassung!O712),\"\",Datenerfassung!O712)","v":""},{"$f":"IF(ISBLANK(Datenerfassung!D712),IF(COUNTBLANK(A702:H702)+COUNTBLANK(J702:O702)=14,\"\",\"- ohne Titel -\"),Datenerfassung!D712)","v":""},{"$f":"IF(ISBLANK(Datenerfassung!G712),\"\",Datenerfassung!G712)","v":""},"",{"$f":"IF(ISBLANK(Datenerfassung!X712),\"\",Datenerfassung!X712)","v":""},{"$f":"IF(COUNTBLANK(Datenerfassung!H712:'Datenerfassung'!N712)=7,\"\",CONCATENATE( CONCATENATE(IF(ISBLANK(Datenerfassung!H712),\" \",Datenerfassung!H712 ),\" [IS]\"), CONCATENATE(IF(ISBLANK(Datenerfassung!I712),\" \",Datenerfassung!I712 ),\" [IS]\"), CONCATENATE(IF(ISBLANK(Datenerfassung!J712),\" \",Datenerfassung!J712 ),\" [IS]\"), CONCATENATE(IF(ISBLANK(Datenerfassung!K712),\" \",Datenerfassung!K712 ),\" [IS]\"), CONCATENATE(IF(ISBLANK(Datenerfassung!L712),\" \",Datenerfassung!L712 ),\" [IS]\"), CONCATENATE(IF(ISBLANK(Datenerfassung!M712),\" \",Datenerfassung!M712 ),\" [IS]\"), IF(ISBLANK(Datenerfassung!N712),\" \",Datenerfassung!N712 ) ))","v":""},{"$f":"IF(ISBLANK(Datenerfassung!V712),\"\",Datenerfassung!V712)","v":""},{"$f":"IF(ISBLANK(Datenerfassung!Q712),\"\",Datenerfassung!Q712)","v":""}]
[{"$f":"IF(ISBLANK(Datenerfassung!A713),\"\",Datenerfassung!A713)","v":""},{"$f":"IF(ISBLANK(Datenerfassung!B713),\"\",Datenerfassung!B713)","v":""},{"$f":"IF(ISBLANK(Datenerfassung!C713),\"\",Datenerfassung!C713)","v":""},{"$f":"IF(ISBLANK(Datenerfassung!R713),\"\",Datenerfassung!R713)","v":""},{"$f":"IF(ISBLANK(Datenerfassung!S713),\"\",Datenerfassung!S713)","v":""},"",{"$f":"IF(ISBLANK(Datenerfassung!U713),\"\",Datenerfassung!U713)","v":""},{"$f":"IF(ISBLANK(Datenerfassung!O713),\"\",Datenerfassung!O713)","v":""},{"$f":"IF(ISBLANK(Datenerfassung!D713),IF(COUNTBLANK(A703:H703)+COUNTBLANK(J703:O703)=14,\"\",\"- ohne Titel -\"),Datenerfassung!D713)","v":""},{"$f":"IF(ISBLANK(Datenerfassung!G713),\"\",Datenerfassung!G713)","v":""},"",{"$f":"IF(ISBLANK(Datenerfassung!X713),\"\",Datenerfassung!X713)","v":""},{"$f":"IF(COUNTBLANK(Datenerfassung!H713:'Datenerfassung'!N713)=7,\"\",CONCATENATE( CONCATENATE(IF(ISBLANK(Datenerfassung!H713),\" \",Datenerfassung!H713 ),\" [IS]\"), CONCATENATE(IF(ISBLANK(Datenerfassung!I713),\" \",Datenerfassung!I713 ),\" [IS]\"), CONCATENATE(IF(ISBLANK(Datenerfassung!J713),\" \",Datenerfassung!J713 ),\" [IS]\"), CONCATENATE(IF(ISBLANK(Datenerfassung!K713),\" \",Datenerfassung!K713 ),\" [IS]\"), CONCATENATE(IF(ISBLANK(Datenerfassung!L713),\" \",Datenerfassung!L713 ),\" [IS]\"), CONCATENATE(IF(ISBLANK(Datenerfassung!M713),\" \",Datenerfassung!M713 ),\" [IS]\"), IF(ISBLANK(Datenerfassung!N713),\" \",Datenerfassung!N713 ) ))","v":""},{"$f":"IF(ISBLANK(Datenerfassung!V713),\"\",Datenerfassung!V713)","v":""},{"$f":"IF(ISBLANK(Datenerfassung!Q713),\"\",Datenerfassung!Q713)","v":""}]
[{"$f":"IF(ISBLANK(Datenerfassung!A714),\"\",Datenerfassung!A714)","v":""},{"$f":"IF(ISBLANK(Datenerfassung!B714),\"\",Datenerfassung!B714)","v":""},{"$f":"IF(ISBLANK(Datenerfassung!C714),\"\",Datenerfassung!C714)","v":""},{"$f":"IF(ISBLANK(Datenerfassung!R714),\"\",Datenerfassung!R714)","v":""},{"$f":"IF(ISBLANK(Datenerfassung!S714),\"\",Datenerfassung!S714)","v":""},"",{"$f":"IF(ISBLANK(Datenerfassung!U714),\"\",Datenerfassung!U714)","v":""},{"$f":"IF(ISBLANK(Datenerfassung!O714),\"\",Datenerfassung!O714)","v":""},{"$f":"IF(ISBLANK(Datenerfassung!D714),IF(COUNTBLANK(A704:H704)+COUNTBLANK(J704:O704)=14,\"\",\"- ohne Titel -\"),Datenerfassung!D714)","v":""},{"$f":"IF(ISBLANK(Datenerfassung!G714),\"\",Datenerfassung!G714)","v":""},"",{"$f":"IF(ISBLANK(Datenerfassung!X714),\"\",Datenerfassung!X714)","v":""},{"$f":"IF(COUNTBLANK(Datenerfassung!H714:'Datenerfassung'!N714)=7,\"\",CONCATENATE( CONCATENATE(IF(ISBLANK(Datenerfassung!H714),\" \",Datenerfassung!H714 ),\" [IS]\"), CONCATENATE(IF(ISBLANK(Datenerfassung!I714),\" \",Datenerfassung!I714 ),\" [IS]\"), CONCATENATE(IF(ISBLANK(Datenerfassung!J714),\" \",Datenerfassung!J714 ),\" [IS]\"), CONCATENATE(IF(ISBLANK(Datenerfassung!K714),\" \",Datenerfassung!K714 ),\" [IS]\"), CONCATENATE(IF(ISBLANK(Datenerfassung!L714),\" \",Datenerfassung!L714 ),\" [IS]\"), CONCATENATE(IF(ISBLANK(Datenerfassung!M714),\" \",Datenerfassung!M714 ),\" [IS]\"), IF(ISBLANK(Datenerfassung!N714),\" \",Datenerfassung!N714 ) ))","v":""},{"$f":"IF(ISBLANK(Datenerfassung!V714),\"\",Datenerfassung!V714)","v":""},{"$f":"IF(ISBLANK(Datenerfassung!Q714),\"\",Datenerfassung!Q714)","v":""}]
[{"$f":"IF(ISBLANK(Datenerfassung!A715),\"\",Datenerfassung!A715)","v":""},{"$f":"IF(ISBLANK(Datenerfassung!B715),\"\",Datenerfassung!B715)","v":""},{"$f":"IF(ISBLANK(Datenerfassung!C715),\"\",Datenerfassung!C715)","v":""},{"$f":"IF(ISBLANK(Datenerfassung!R715),\"\",Datenerfassung!R715)","v":""},{"$f":"IF(ISBLANK(Datenerfassung!S715),\"\",Datenerfassung!S715)","v":""},"",{"$f":"IF(ISBLANK(Datenerfassung!U715),\"\",Datenerfassung!U715)","v":""},{"$f":"IF(ISBLANK(Datenerfassung!O715),\"\",Datenerfassung!O715)","v":""},{"$f":"IF(ISBLANK(Datenerfassung!D715),IF(COUNTBLANK(A705:H705)+COUNTBLANK(J705:O705)=14,\"\",\"- ohne Titel -\"),Datenerfassung!D715)","v":""},{"$f":"IF(ISBLANK(Datenerfassung!G715),\"\",Datenerfassung!G715)","v":""},"",{"$f":"IF(ISBLANK(Datenerfassung!X715),\"\",Datenerfassung!X715)","v":""},{"$f":"IF(COUNTBLANK(Datenerfassung!H715:'Datenerfassung'!N715)=7,\"\",CONCATENATE( CONCATENATE(IF(ISBLANK(Datenerfassung!H715),\" \",Datenerfassung!H715 ),\" [IS]\"), CONCATENATE(IF(ISBLANK(Datenerfassung!I715),\" \",Datenerfassung!I715 ),\" [IS]\"), CONCATENATE(IF(ISBLANK(Datenerfassung!J715),\" \",Datenerfassung!J715 ),\" [IS]\"), CONCATENATE(IF(ISBLANK(Datenerfassung!K715),\" \",Datenerfassung!K715 ),\" [IS]\"), CONCATENATE(IF(ISBLANK(Datenerfassung!L715),\" \",Datenerfassung!L715 ),\" [IS]\"), CONCATENATE(IF(ISBLANK(Datenerfassung!M715),\" \",Datenerfassung!M715 ),\" [IS]\"), IF(ISBLANK(Datenerfassung!N715),\" \",Datenerfassung!N715 ) ))","v":""},{"$f":"IF(ISBLANK(Datenerfassung!V715),\"\",Datenerfassung!V715)","v":""},{"$f":"IF(ISBLANK(Datenerfassung!Q715),\"\",Datenerfassung!Q715)","v":""}]
[{"$f":"IF(ISBLANK(Datenerfassung!A716),\"\",Datenerfassung!A716)","v":""},{"$f":"IF(ISBLANK(Datenerfassung!B716),\"\",Datenerfassung!B716)","v":""},{"$f":"IF(ISBLANK(Datenerfassung!C716),\"\",Datenerfassung!C716)","v":""},{"$f":"IF(ISBLANK(Datenerfassung!R716),\"\",Datenerfassung!R716)","v":""},{"$f":"IF(ISBLANK(Datenerfassung!S716),\"\",Datenerfassung!S716)","v":""},"",{"$f":"IF(ISBLANK(Datenerfassung!U716),\"\",Datenerfassung!U716)","v":""},{"$f":"IF(ISBLANK(Datenerfassung!O716),\"\",Datenerfassung!O716)","v":""},{"$f":"IF(ISBLANK(Datenerfassung!D716),IF(COUNTBLANK(A706:H706)+COUNTBLANK(J706:O706)=14,\"\",\"- ohne Titel -\"),Datenerfassung!D716)","v":""},{"$f":"IF(ISBLANK(Datenerfassung!G716),\"\",Datenerfassung!G716)","v":""},"",{"$f":"IF(ISBLANK(Datenerfassung!X716),\"\",Datenerfassung!X716)","v":""},{"$f":"IF(COUNTBLANK(Datenerfassung!H716:'Datenerfassung'!N716)=7,\"\",CONCATENATE( CONCATENATE(IF(ISBLANK(Datenerfassung!H716),\" \",Datenerfassung!H716 ),\" [IS]\"), CONCATENATE(IF(ISBLANK(Datenerfassung!I716),\" \",Datenerfassung!I716 ),\" [IS]\"), CONCATENATE(IF(ISBLANK(Datenerfassung!J716),\" \",Datenerfassung!J716 ),\" [IS]\"), CONCATENATE(IF(ISBLANK(Datenerfassung!K716),\" \",Datenerfassung!K716 ),\" [IS]\"), CONCATENATE(IF(ISBLANK(Datenerfassung!L716),\" \",Datenerfassung!L716 ),\" [IS]\"), CONCATENATE(IF(ISBLANK(Datenerfassung!M716),\" \",Datenerfassung!M716 ),\" [IS]\"), IF(ISBLANK(Datenerfassung!N716),\" \",Datenerfassung!N716 ) ))","v":""},{"$f":"IF(ISBLANK(Datenerfassung!V716),\"\",Datenerfassung!V716)","v":""},{"$f":"IF(ISBLANK(Datenerfassung!Q716),\"\",Datenerfassung!Q716)","v":""}]
[{"$f":"IF(ISBLANK(Datenerfassung!A717),\"\",Datenerfassung!A717)","v":""},{"$f":"IF(ISBLANK(Datenerfassung!B717),\"\",Datenerfassung!B717)","v":""},{"$f":"IF(ISBLANK(Datenerfassung!C717),\"\",Datenerfassung!C717)","v":""},{"$f":"IF(ISBLANK(Datenerfassung!R717),\"\",Datenerfassung!R717)","v":""},{"$f":"IF(ISBLANK(Datenerfassung!S717),\"\",Datenerfassung!S717)","v":""},{"$f":"IF(D707=\"\",\"\",IF(E707=\"\",D707,D707&\" - \"&E707))","v":""},{"$f":"IF(ISBLANK(Datenerfassung!U717),\"\",Datenerfassung!U717)","v":""},{"$f":"IF(ISBLANK(Datenerfassung!O717),\"\",Datenerfassung!O717)","v":""},{"$f":"IF(ISBLANK(Datenerfassung!D717),IF(COUNTBLANK(A707:H707)+COUNTBLANK(J707:O707)=14,\"\",\"- ohne Titel -\"),Datenerfassung!D717)","v":""},{"$f":"IF(ISBLANK(Datenerfassung!G717),\"\",Datenerfassung!G717)","v":""},{"$f":"IF(OR(E707=\"\",G707=\"\"),\"\",\"01.01.\"&RIGHT(E707,4)+G707+1)","v":""},{"$f":"IF(ISBLANK(Datenerfassung!X717),\"\",Datenerfassung!X717)","v":""},{"$f":"IF(COUNTBLANK(Datenerfassung!H717:'Datenerfassung'!N717)=7,\"\",CONCATENATE( CONCATENATE(IF(ISBLANK(Datenerfassung!H717),\" \",Datenerfassung!H717 ),\" [IS]\"), CONCATENATE(IF(ISBLANK(Datenerfassung!I717),\" \",Datenerfassung!I717 ),\" [IS]\"), CONCATENATE(IF(ISBLANK(Datenerfassung!J717),\" \",Datenerfassung!J717 ),\" [IS]\"), CONCATENATE(IF(ISBLANK(Datenerfassung!K717),\" \",Datenerfassung!K717 ),\" [IS]\"), CONCATENATE(IF(ISBLANK(Datenerfassung!L717),\" \",Datenerfassung!L717 ),\" [IS]\"), CONCATENATE(IF(ISBLANK(Datenerfassung!M717),\" \",Datenerfassung!M717 ),\" [IS]\"), IF(ISBLANK(Datenerfassung!N717),\" \",Datenerfassung!N717 ) ))","v":""},{"$f":"IF(ISBLANK(Datenerfassung!V717),\"\",Datenerfassung!V717)","v":""},{"$f":"IF(ISBLANK(Datenerfassung!Q717),\"\",Datenerfassung!Q717)","v":""}]
[{"$f":"IF(ISBLANK(Datenerfassung!A718),\"\",Datenerfassung!A718)","v":""},{"$f":"IF(ISBLANK(Datenerfassung!B718),\"\",Datenerfassung!B718)","v":""},{"$f":"IF(ISBLANK(Datenerfassung!C718),\"\",Datenerfassung!C718)","v":""},{"$f":"IF(ISBLANK(Datenerfassung!R718),\"\",Datenerfassung!R718)","v":""},{"$f":"IF(ISBLANK(Datenerfassung!S718),\"\",Datenerfassung!S718)","v":""},"",{"$f":"IF(ISBLANK(Datenerfassung!U718),\"\",Datenerfassung!U718)","v":""},{"$f":"IF(ISBLANK(Datenerfassung!O718),\"\",Datenerfassung!O718)","v":""},{"$f":"IF(ISBLANK(Datenerfassung!D718),IF(COUNTBLANK(A708:H708)+COUNTBLANK(J708:O708)=14,\"\",\"- ohne Titel -\"),Datenerfassung!D718)","v":""},{"$f":"IF(ISBLANK(Datenerfassung!G718),\"\",Datenerfassung!G718)","v":""},"",{"$f":"IF(ISBLANK(Datenerfassung!X718),\"\",Datenerfassung!X718)","v":""},{"$f":"IF(COUNTBLANK(Datenerfassung!H718:'Datenerfassung'!N718)=7,\"\",CONCATENATE( CONCATENATE(IF(ISBLANK(Datenerfassung!H718),\" \",Datenerfassung!H718 ),\" [IS]\"), CONCATENATE(IF(ISBLANK(Datenerfassung!I718),\" \",Datenerfassung!I718 ),\" [IS]\"), CONCATENATE(IF(ISBLANK(Datenerfassung!J718),\" \",Datenerfassung!J718 ),\" [IS]\"), CONCATENATE(IF(ISBLANK(Datenerfassung!K718),\" \",Datenerfassung!K718 ),\" [IS]\"), CONCATENATE(IF(ISBLANK(Datenerfassung!L718),\" \",Datenerfassung!L718 ),\" [IS]\"), CONCATENATE(IF(ISBLANK(Datenerfassung!M718),\" \",Datenerfassung!M718 ),\" [IS]\"), IF(ISBLANK(Datenerfassung!N718),\" \",Datenerfassung!N718 ) ))","v":""},{"$f":"IF(ISBLANK(Datenerfassung!V718),\"\",Datenerfassung!V718)","v":""},{"$f":"IF(ISBLANK(Datenerfassung!Q718),\"\",Datenerfassung!Q718)","v":""}]
[{"$f":"IF(ISBLANK(Datenerfassung!A719),\"\",Datenerfassung!A719)","v":""},{"$f":"IF(ISBLANK(Datenerfassung!B719),\"\",Datenerfassung!B719)","v":""},{"$f":"IF(ISBLANK(Datenerfassung!C719),\"\",Datenerfassung!C719)","v":""},{"$f":"IF(ISBLANK(Datenerfassung!R719),\"\",Datenerfassung!R719)","v":""},{"$f":"IF(ISBLANK(Datenerfassung!S719),\"\",Datenerfassung!S719)","v":""},"",{"$f":"IF(ISBLANK(Datenerfassung!U719),\"\",Datenerfassung!U719)","v":""},{"$f":"IF(ISBLANK(Datenerfassung!O719),\"\",Datenerfassung!O719)","v":""},{"$f":"IF(ISBLANK(Datenerfassung!D719),IF(COUNTBLANK(A709:H709)+COUNTBLANK(J709:O709)=14,\"\",\"- ohne Titel -\"),Datenerfassung!D719)","v":""},{"$f":"IF(ISBLANK(Datenerfassung!G719),\"\",Datenerfassung!G719)","v":""},"",{"$f":"IF(ISBLANK(Datenerfassung!X719),\"\",Datenerfassung!X719)","v":""},{"$f":"IF(COUNTBLANK(Datenerfassung!H719:'Datenerfassung'!N719)=7,\"\",CONCATENATE( CONCATENATE(IF(ISBLANK(Datenerfassung!H719),\" \",Datenerfassung!H719 ),\" [IS]\"), CONCATENATE(IF(ISBLANK(Datenerfassung!I719),\" \",Datenerfassung!I719 ),\" [IS]\"), CONCATENATE(IF(ISBLANK(Datenerfassung!J719),\" \",Datenerfassung!J719 ),\" [IS]\"), CONCATENATE(IF(ISBLANK(Datenerfassung!K719),\" \",Datenerfassung!K719 ),\" [IS]\"), CONCATENATE(IF(ISBLANK(Datenerfassung!L719),\" \",Datenerfassung!L719 ),\" [IS]\"), CONCATENATE(IF(ISBLANK(Datenerfassung!M719),\" \",Datenerfassung!M719 ),\" [IS]\"), IF(ISBLANK(Datenerfassung!N719),\" \",Datenerfassung!N719 ) ))","v":""},{"$f":"IF(ISBLANK(Datenerfassung!V719),\"\",Datenerfassung!V719)","v":""},{"$f":"IF(ISBLANK(Datenerfassung!Q719),\"\",Datenerfassung!Q719)","v":""}]
[{"$f":"IF(ISBLANK(Datenerfassung!A720),\"\",Datenerfassung!A720)","v":""},{"$f":"IF(ISBLANK(Datenerfassung!B720),\"\",Datenerfassung!B720)","v":""},{"$f":"IF(ISBLANK(Datenerfassung!C720),\"\",Datenerfassung!C720)","v":""},{"$f":"IF(ISBLANK(Datenerfassung!R720),\"\",Datenerfassung!R720)","v":""},{"$f":"IF(ISBLANK(Datenerfassung!S720),\"\",Datenerfassung!S720)","v":""},"",{"$f":"IF(ISBLANK(Datenerfassung!U720),\"\",Datenerfassung!U720)","v":""},{"$f":"IF(ISBLANK(Datenerfassung!O720),\"\",Datenerfassung!O720)","v":""},{"$f":"IF(ISBLANK(Datenerfassung!D720),IF(COUNTBLANK(A710:H710)+COUNTBLANK(J710:O710)=14,\"\",\"- ohne Titel -\"),Datenerfassung!D720)","v":""},{"$f":"IF(ISBLANK(Datenerfassung!G720),\"\",Datenerfassung!G720)","v":""},"",{"$f":"IF(ISBLANK(Datenerfassung!X720),\"\",Datenerfassung!X720)","v":""},{"$f":"IF(COUNTBLANK(Datenerfassung!H720:'Datenerfassung'!N720)=7,\"\",CONCATENATE( CONCATENATE(IF(ISBLANK(Datenerfassung!H720),\" \",Datenerfassung!H720 ),\" [IS]\"), CONCATENATE(IF(ISBLANK(Datenerfassung!I720),\" \",Datenerfassung!I720 ),\" [IS]\"), CONCATENATE(IF(ISBLANK(Datenerfassung!J720),\" \",Datenerfassung!J720 ),\" [IS]\"), CONCATENATE(IF(ISBLANK(Datenerfassung!K720),\" \",Datenerfassung!K720 ),\" [IS]\"), CONCATENATE(IF(ISBLANK(Datenerfassung!L720),\" \",Datenerfassung!L720 ),\" [IS]\"), CONCATENATE(IF(ISBLANK(Datenerfassung!M720),\" \",Datenerfassung!M720 ),\" [IS]\"), IF(ISBLANK(Datenerfassung!N720),\" \",Datenerfassung!N720 ) ))","v":""},{"$f":"IF(ISBLANK(Datenerfassung!V720),\"\",Datenerfassung!V720)","v":""},{"$f":"IF(ISBLANK(Datenerfassung!Q720),\"\",Datenerfassung!Q720)","v":""}]
[{"$f":"IF(ISBLANK(Datenerfassung!A721),\"\",Datenerfassung!A721)","v":""},{"$f":"IF(ISBLANK(Datenerfassung!B721),\"\",Datenerfassung!B721)","v":""},{"$f":"IF(ISBLANK(Datenerfassung!C721),\"\",Datenerfassung!C721)","v":""},{"$f":"IF(ISBLANK(Datenerfassung!R721),\"\",Datenerfassung!R721)","v":""},{"$f":"IF(ISBLANK(Datenerfassung!S721),\"\",Datenerfassung!S721)","v":""},"",{"$f":"IF(ISBLANK(Datenerfassung!U721),\"\",Datenerfassung!U721)","v":""},{"$f":"IF(ISBLANK(Datenerfassung!O721),\"\",Datenerfassung!O721)","v":""},{"$f":"IF(ISBLANK(Datenerfassung!D721),IF(COUNTBLANK(A711:H711)+COUNTBLANK(J711:O711)=14,\"\",\"- ohne Titel -\"),Datenerfassung!D721)","v":""},{"$f":"IF(ISBLANK(Datenerfassung!G721),\"\",Datenerfassung!G721)","v":""},"",{"$f":"IF(ISBLANK(Datenerfassung!X721),\"\",Datenerfassung!X721)","v":""},{"$f":"IF(COUNTBLANK(Datenerfassung!H721:'Datenerfassung'!N721)=7,\"\",CONCATENATE( CONCATENATE(IF(ISBLANK(Datenerfassung!H721),\" \",Datenerfassung!H721 ),\" [IS]\"), CONCATENATE(IF(ISBLANK(Datenerfassung!I721),\" \",Datenerfassung!I721 ),\" [IS]\"), CONCATENATE(IF(ISBLANK(Datenerfassung!J721),\" \",Datenerfassung!J721 ),\" [IS]\"), CONCATENATE(IF(ISBLANK(Datenerfassung!K721),\" \",Datenerfassung!K721 ),\" [IS]\"), CONCATENATE(IF(ISBLANK(Datenerfassung!L721),\" \",Datenerfassung!L721 ),\" [IS]\"), CONCATENATE(IF(ISBLANK(Datenerfassung!M721),\" \",Datenerfassung!M721 ),\" [IS]\"), IF(ISBLANK(Datenerfassung!N721),\" \",Datenerfassung!N721 ) ))","v":""},{"$f":"IF(ISBLANK(Datenerfassung!V721),\"\",Datenerfassung!V721)","v":""},{"$f":"IF(ISBLANK(Datenerfassung!Q721),\"\",Datenerfassung!Q721)","v":""}]
[{"$f":"IF(ISBLANK(Datenerfassung!A722),\"\",Datenerfassung!A722)","v":""},{"$f":"IF(ISBLANK(Datenerfassung!B722),\"\",Datenerfassung!B722)","v":""},{"$f":"IF(ISBLANK(Datenerfassung!C722),\"\",Datenerfassung!C722)","v":""},{"$f":"IF(ISBLANK(Datenerfassung!R722),\"\",Datenerfassung!R722)","v":""},{"$f":"IF(ISBLANK(Datenerfassung!S722),\"\",Datenerfassung!S722)","v":""},"",{"$f":"IF(ISBLANK(Datenerfassung!U722),\"\",Datenerfassung!U722)","v":""},{"$f":"IF(ISBLANK(Datenerfassung!O722),\"\",Datenerfassung!O722)","v":""},{"$f":"IF(ISBLANK(Datenerfassung!D722),IF(COUNTBLANK(A712:H712)+COUNTBLANK(J712:O712)=14,\"\",\"- ohne Titel -\"),Datenerfassung!D722)","v":""},{"$f":"IF(ISBLANK(Datenerfassung!G722),\"\",Datenerfassung!G722)","v":""},"",{"$f":"IF(ISBLANK(Datenerfassung!X722),\"\",Datenerfassung!X722)","v":""},{"$f":"IF(COUNTBLANK(Datenerfassung!H722:'Datenerfassung'!N722)=7,\"\",CONCATENATE( CONCATENATE(IF(ISBLANK(Datenerfassung!H722),\" \",Datenerfassung!H722 ),\" [IS]\"), CONCATENATE(IF(ISBLANK(Datenerfassung!I722),\" \",Datenerfassung!I722 ),\" [IS]\"), CONCATENATE(IF(ISBLANK(Datenerfassung!J722),\" \",Datenerfassung!J722 ),\" [IS]\"), CONCATENATE(IF(ISBLANK(Datenerfassung!K722),\" \",Datenerfassung!K722 ),\" [IS]\"), CONCATENATE(IF(ISBLANK(Datenerfassung!L722),\" \",Datenerfassung!L722 ),\" [IS]\"), CONCATENATE(IF(ISBLANK(Datenerfassung!M722),\" \",Datenerfassung!M722 ),\" [IS]\"), IF(ISBLANK(Datenerfassung!N722),\" \",Datenerfassung!N722 ) ))","v":""},{"$f":"IF(ISBLANK(Datenerfassung!V722),\"\",Datenerfassung!V722)","v":""},{"$f":"IF(ISBLANK(Datenerfassung!Q722),\"\",Datenerfassung!Q722)","v":""}]
[{"$f":"IF(ISBLANK(Datenerfassung!A723),\"\",Datenerfassung!A723)","v":""},{"$f":"IF(ISBLANK(Datenerfassung!B723),\"\",Datenerfassung!B723)","v":""},{"$f":"IF(ISBLANK(Datenerfassung!C723),\"\",Datenerfassung!C723)","v":""},{"$f":"IF(ISBLANK(Datenerfassung!R723),\"\",Datenerfassung!R723)","v":""},{"$f":"IF(ISBLANK(Datenerfassung!S723),\"\",Datenerfassung!S723)","v":""},"",{"$f":"IF(ISBLANK(Datenerfassung!U723),\"\",Datenerfassung!U723)","v":""},{"$f":"IF(ISBLANK(Datenerfassung!O723),\"\",Datenerfassung!O723)","v":""},{"$f":"IF(ISBLANK(Datenerfassung!D723),IF(COUNTBLANK(A713:H713)+COUNTBLANK(J713:O713)=14,\"\",\"- ohne Titel -\"),Datenerfassung!D723)","v":""},{"$f":"IF(ISBLANK(Datenerfassung!G723),\"\",Datenerfassung!G723)","v":""},"",{"$f":"IF(ISBLANK(Datenerfassung!X723),\"\",Datenerfassung!X723)","v":""},{"$f":"IF(COUNTBLANK(Datenerfassung!H723:'Datenerfassung'!N723)=7,\"\",CONCATENATE( CONCATENATE(IF(ISBLANK(Datenerfassung!H723),\" \",Datenerfassung!H723 ),\" [IS]\"), CONCATENATE(IF(ISBLANK(Datenerfassung!I723),\" \",Datenerfassung!I723 ),\" [IS]\"), CONCATENATE(IF(ISBLANK(Datenerfassung!J723),\" \",Datenerfassung!J723 ),\" [IS]\"), CONCATENATE(IF(ISBLANK(Datenerfassung!K723),\" \",Datenerfassung!K723 ),\" [IS]\"), CONCATENATE(IF(ISBLANK(Datenerfassung!L723),\" \",Datenerfassung!L723 ),\" [IS]\"), CONCATENATE(IF(ISBLANK(Datenerfassung!M723),\" \",Datenerfassung!M723 ),\" [IS]\"), IF(ISBLANK(Datenerfassung!N723),\" \",Datenerfassung!N723 ) ))","v":""},{"$f":"IF(ISBLANK(Datenerfassung!V723),\"\",Datenerfassung!V723)","v":""},{"$f":"IF(ISBLANK(Datenerfassung!Q723),\"\",Datenerfassung!Q723)","v":""}]
[{"$f":"IF(ISBLANK(Datenerfassung!A724),\"\",Datenerfassung!A724)","v":""},{"$f":"IF(ISBLANK(Datenerfassung!B724),\"\",Datenerfassung!B724)","v":""},{"$f":"IF(ISBLANK(Datenerfassung!C724),\"\",Datenerfassung!C724)","v":""},{"$f":"IF(ISBLANK(Datenerfassung!R724),\"\",Datenerfassung!R724)","v":""},{"$f":"IF(ISBLANK(Datenerfassung!S724),\"\",Datenerfassung!S724)","v":""},"",{"$f":"IF(ISBLANK(Datenerfassung!U724),\"\",Datenerfassung!U724)","v":""},{"$f":"IF(ISBLANK(Datenerfassung!O724),\"\",Datenerfassung!O724)","v":""},{"$f":"IF(ISBLANK(Datenerfassung!D724),IF(COUNTBLANK(A714:H714)+COUNTBLANK(J714:O714)=14,\"\",\"- ohne Titel -\"),Datenerfassung!D724)","v":""},{"$f":"IF(ISBLANK(Datenerfassung!G724),\"\",Datenerfassung!G724)","v":""},"",{"$f":"IF(ISBLANK(Datenerfassung!X724),\"\",Datenerfassung!X724)","v":""},{"$f":"IF(COUNTBLANK(Datenerfassung!H724:'Datenerfassung'!N724)=7,\"\",CONCATENATE( CONCATENATE(IF(ISBLANK(Datenerfassung!H724),\" \",Datenerfassung!H724 ),\" [IS]\"), CONCATENATE(IF(ISBLANK(Datenerfassung!I724),\" \",Datenerfassung!I724 ),\" [IS]\"), CONCATENATE(IF(ISBLANK(Datenerfassung!J724),\" \",Datenerfassung!J724 ),\" [IS]\"), CONCATENATE(IF(ISBLANK(Datenerfassung!K724),\" \",Datenerfassung!K724 ),\" [IS]\"), CONCATENATE(IF(ISBLANK(Datenerfassung!L724),\" \",Datenerfassung!L724 ),\" [IS]\"), CONCATENATE(IF(ISBLANK(Datenerfassung!M724),\" \",Datenerfassung!M724 ),\" [IS]\"), IF(ISBLANK(Datenerfassung!N724),\" \",Datenerfassung!N724 ) ))","v":""},{"$f":"IF(ISBLANK(Datenerfassung!V724),\"\",Datenerfassung!V724)","v":""},{"$f":"IF(ISBLANK(Datenerfassung!Q724),\"\",Datenerfassung!Q724)","v":""}]
[{"$f":"IF(ISBLANK(Datenerfassung!A725),\"\",Datenerfassung!A725)","v":""},{"$f":"IF(ISBLANK(Datenerfassung!B725),\"\",Datenerfassung!B725)","v":""},{"$f":"IF(ISBLANK(Datenerfassung!C725),\"\",Datenerfassung!C725)","v":""},{"$f":"IF(ISBLANK(Datenerfassung!R725),\"\",Datenerfassung!R725)","v":""},{"$f":"IF(ISBLANK(Datenerfassung!S725),\"\",Datenerfassung!S725)","v":""},"",{"$f":"IF(ISBLANK(Datenerfassung!U725),\"\",Datenerfassung!U725)","v":""},{"$f":"IF(ISBLANK(Datenerfassung!O725),\"\",Datenerfassung!O725)","v":""},{"$f":"IF(ISBLANK(Datenerfassung!D725),IF(COUNTBLANK(A715:H715)+COUNTBLANK(J715:O715)=14,\"\",\"- ohne Titel -\"),Datenerfassung!D725)","v":""},{"$f":"IF(ISBLANK(Datenerfassung!G725),\"\",Datenerfassung!G725)","v":""},"",{"$f":"IF(ISBLANK(Datenerfassung!X725),\"\",Datenerfassung!X725)","v":""},{"$f":"IF(COUNTBLANK(Datenerfassung!H725:'Datenerfassung'!N725)=7,\"\",CONCATENATE( CONCATENATE(IF(ISBLANK(Datenerfassung!H725),\" \",Datenerfassung!H725 ),\" [IS]\"), CONCATENATE(IF(ISBLANK(Datenerfassung!I725),\" \",Datenerfassung!I725 ),\" [IS]\"), CONCATENATE(IF(ISBLANK(Datenerfassung!J725),\" \",Datenerfassung!J725 ),\" [IS]\"), CONCATENATE(IF(ISBLANK(Datenerfassung!K725),\" \",Datenerfassung!K725 ),\" [IS]\"), CONCATENATE(IF(ISBLANK(Datenerfassung!L725),\" \",Datenerfassung!L725 ),\" [IS]\"), CONCATENATE(IF(ISBLANK(Datenerfassung!M725),\" \",Datenerfassung!M725 ),\" [IS]\"), IF(ISBLANK(Datenerfassung!N725),\" \",Datenerfassung!N725 ) ))","v":""},{"$f":"IF(ISBLANK(Datenerfassung!V725),\"\",Datenerfassung!V725)","v":""},{"$f":"IF(ISBLANK(Datenerfassung!Q725),\"\",Datenerfassung!Q725)","v":""}]
[{"$f":"IF(ISBLANK(Datenerfassung!A726),\"\",Datenerfassung!A726)","v":""},{"$f":"IF(ISBLANK(Datenerfassung!B726),\"\",Datenerfassung!B726)","v":""},{"$f":"IF(ISBLANK(Datenerfassung!C726),\"\",Datenerfassung!C726)","v":""},{"$f":"IF(ISBLANK(Datenerfassung!R726),\"\",Datenerfassung!R726)","v":""},{"$f":"IF(ISBLANK(Datenerfassung!S726),\"\",Datenerfassung!S726)","v":""},"",{"$f":"IF(ISBLANK(Datenerfassung!U726),\"\",Datenerfassung!U726)","v":""},{"$f":"IF(ISBLANK(Datenerfassung!O726),\"\",Datenerfassung!O726)","v":""},{"$f":"IF(ISBLANK(Datenerfassung!D726),IF(COUNTBLANK(A716:H716)+COUNTBLANK(J716:O716)=14,\"\",\"- ohne Titel -\"),Datenerfassung!D726)","v":""},{"$f":"IF(ISBLANK(Datenerfassung!G726),\"\",Datenerfassung!G726)","v":""},"",{"$f":"IF(ISBLANK(Datenerfassung!X726),\"\",Datenerfassung!X726)","v":""},{"$f":"IF(COUNTBLANK(Datenerfassung!H726:'Datenerfassung'!N726)=7,\"\",CONCATENATE( CONCATENATE(IF(ISBLANK(Datenerfassung!H726),\" \",Datenerfassung!H726 ),\" [IS]\"), CONCATENATE(IF(ISBLANK(Datenerfassung!I726),\" \",Datenerfassung!I726 ),\" [IS]\"), CONCATENATE(IF(ISBLANK(Datenerfassung!J726),\" \",Datenerfassung!J726 ),\" [IS]\"), CONCATENATE(IF(ISBLANK(Datenerfassung!K726),\" \",Datenerfassung!K726 ),\" [IS]\"), CONCATENATE(IF(ISBLANK(Datenerfassung!L726),\" \",Datenerfassung!L726 ),\" [IS]\"), CONCATENATE(IF(ISBLANK(Datenerfassung!M726),\" \",Datenerfassung!M726 ),\" [IS]\"), IF(ISBLANK(Datenerfassung!N726),\" \",Datenerfassung!N726 ) ))","v":""},{"$f":"IF(ISBLANK(Datenerfassung!V726),\"\",Datenerfassung!V726)","v":""},{"$f":"IF(ISBLANK(Datenerfassung!Q726),\"\",Datenerfassung!Q726)","v":""}]
[{"$f":"IF(ISBLANK(Datenerfassung!A727),\"\",Datenerfassung!A727)","v":""},{"$f":"IF(ISBLANK(Datenerfassung!B727),\"\",Datenerfassung!B727)","v":""},{"$f":"IF(ISBLANK(Datenerfassung!C727),\"\",Datenerfassung!C727)","v":""},{"$f":"IF(ISBLANK(Datenerfassung!R727),\"\",Datenerfassung!R727)","v":""},{"$f":"IF(ISBLANK(Datenerfassung!S727),\"\",Datenerfassung!S727)","v":""},"",{"$f":"IF(ISBLANK(Datenerfassung!U727),\"\",Datenerfassung!U727)","v":""},{"$f":"IF(ISBLANK(Datenerfassung!O727),\"\",Datenerfassung!O727)","v":""},{"$f":"IF(ISBLANK(Datenerfassung!D727),IF(COUNTBLANK(A717:H717)+COUNTBLANK(J717:O717)=14,\"\",\"- ohne Titel -\"),Datenerfassung!D727)","v":""},{"$f":"IF(ISBLANK(Datenerfassung!G727),\"\",Datenerfassung!G727)","v":""},"",{"$f":"IF(ISBLANK(Datenerfassung!X727),\"\",Datenerfassung!X727)","v":""},{"$f":"IF(COUNTBLANK(Datenerfassung!H727:'Datenerfassung'!N727)=7,\"\",CONCATENATE( CONCATENATE(IF(ISBLANK(Datenerfassung!H727),\" \",Datenerfassung!H727 ),\" [IS]\"), CONCATENATE(IF(ISBLANK(Datenerfassung!I727),\" \",Datenerfassung!I727 ),\" [IS]\"), CONCATENATE(IF(ISBLANK(Datenerfassung!J727),\" \",Datenerfassung!J727 ),\" [IS]\"), CONCATENATE(IF(ISBLANK(Datenerfassung!K727),\" \",Datenerfassung!K727 ),\" [IS]\"), CONCATENATE(IF(ISBLANK(Datenerfassung!L727),\" \",Datenerfassung!L727 ),\" [IS]\"), CONCATENATE(IF(ISBLANK(Datenerfassung!M727),\" \",Datenerfassung!M727 ),\" [IS]\"), IF(ISBLANK(Datenerfassung!N727),\" \",Datenerfassung!N727 ) ))","v":""},{"$f":"IF(ISBLANK(Datenerfassung!V727),\"\",Datenerfassung!V727)","v":""},{"$f":"IF(ISBLANK(Datenerfassung!Q727),\"\",Datenerfassung!Q727)","v":""}]
[{"$f":"IF(ISBLANK(Datenerfassung!A728),\"\",Datenerfassung!A728)","v":""},{"$f":"IF(ISBLANK(Datenerfassung!B728),\"\",Datenerfassung!B728)","v":""},{"$f":"IF(ISBLANK(Datenerfassung!C728),\"\",Datenerfassung!C728)","v":""},{"$f":"IF(ISBLANK(Datenerfassung!R728),\"\",Datenerfassung!R728)","v":""},{"$f":"IF(ISBLANK(Datenerfassung!S728),\"\",Datenerfassung!S728)","v":""},"",{"$f":"IF(ISBLANK(Datenerfassung!U728),\"\",Datenerfassung!U728)","v":""},{"$f":"IF(ISBLANK(Datenerfassung!O728),\"\",Datenerfassung!O728)","v":""},{"$f":"IF(ISBLANK(Datenerfassung!D728),IF(COUNTBLANK(A718:H718)+COUNTBLANK(J718:O718)=14,\"\",\"- ohne Titel -\"),Datenerfassung!D728)","v":""},{"$f":"IF(ISBLANK(Datenerfassung!G728),\"\",Datenerfassung!G728)","v":""},"",{"$f":"IF(ISBLANK(Datenerfassung!X728),\"\",Datenerfassung!X728)","v":""},{"$f":"IF(COUNTBLANK(Datenerfassung!H728:'Datenerfassung'!N728)=7,\"\",CONCATENATE( CONCATENATE(IF(ISBLANK(Datenerfassung!H728),\" \",Datenerfassung!H728 ),\" [IS]\"), CONCATENATE(IF(ISBLANK(Datenerfassung!I728),\" \",Datenerfassung!I728 ),\" [IS]\"), CONCATENATE(IF(ISBLANK(Datenerfassung!J728),\" \",Datenerfassung!J728 ),\" [IS]\"), CONCATENATE(IF(ISBLANK(Datenerfassung!K728),\" \",Datenerfassung!K728 ),\" [IS]\"), CONCATENATE(IF(ISBLANK(Datenerfassung!L728),\" \",Datenerfassung!L728 ),\" [IS]\"), CONCATENATE(IF(ISBLANK(Datenerfassung!M728),\" \",Datenerfassung!M728 ),\" [IS]\"), IF(ISBLANK(Datenerfassung!N728),\" \",Datenerfassung!N728 ) ))","v":""},{"$f":"IF(ISBLANK(Datenerfassung!V728),\"\",Datenerfassung!V728)","v":""},{"$f":"IF(ISBLANK(Datenerfassung!Q728),\"\",Datenerfassung!Q728)","v":""}]
[{"$f":"IF(ISBLANK(Datenerfassung!A729),\"\",Datenerfassung!A729)","v":""},{"$f":"IF(ISBLANK(Datenerfassung!B729),\"\",Datenerfassung!B729)","v":""},{"$f":"IF(ISBLANK(Datenerfassung!C729),\"\",Datenerfassung!C729)","v":""},{"$f":"IF(ISBLANK(Datenerfassung!R729),\"\",Datenerfassung!R729)","v":""},{"$f":"IF(ISBLANK(Datenerfassung!S729),\"\",Datenerfassung!S729)","v":""},"",{"$f":"IF(ISBLANK(Datenerfassung!U729),\"\",Datenerfassung!U729)","v":""},{"$f":"IF(ISBLANK(Datenerfassung!O729),\"\",Datenerfassung!O729)","v":""},{"$f":"IF(ISBLANK(Datenerfassung!D729),IF(COUNTBLANK(A719:H719)+COUNTBLANK(J719:O719)=14,\"\",\"- ohne Titel -\"),Datenerfassung!D729)","v":""},{"$f":"IF(ISBLANK(Datenerfassung!G729),\"\",Datenerfassung!G729)","v":""},"",{"$f":"IF(ISBLANK(Datenerfassung!X729),\"\",Datenerfassung!X729)","v":""},{"$f":"IF(COUNTBLANK(Datenerfassung!H729:'Datenerfassung'!N729)=7,\"\",CONCATENATE( CONCATENATE(IF(ISBLANK(Datenerfassung!H729),\" \",Datenerfassung!H729 ),\" [IS]\"), CONCATENATE(IF(ISBLANK(Datenerfassung!I729),\" \",Datenerfassung!I729 ),\" [IS]\"), CONCATENATE(IF(ISBLANK(Datenerfassung!J729),\" \",Datenerfassung!J729 ),\" [IS]\"), CONCATENATE(IF(ISBLANK(Datenerfassung!K729),\" \",Datenerfassung!K729 ),\" [IS]\"), CONCATENATE(IF(ISBLANK(Datenerfassung!L729),\" \",Datenerfassung!L729 ),\" [IS]\"), CONCATENATE(IF(ISBLANK(Datenerfassung!M729),\" \",Datenerfassung!M729 ),\" [IS]\"), IF(ISBLANK(Datenerfassung!N729),\" \",Datenerfassung!N729 ) ))","v":""},{"$f":"IF(ISBLANK(Datenerfassung!V729),\"\",Datenerfassung!V729)","v":""},{"$f":"IF(ISBLANK(Datenerfassung!Q729),\"\",Datenerfassung!Q729)","v":""}]
[{"$f":"IF(ISBLANK(Datenerfassung!A730),\"\",Datenerfassung!A730)","v":""},{"$f":"IF(ISBLANK(Datenerfassung!B730),\"\",Datenerfassung!B730)","v":""},{"$f":"IF(ISBLANK(Datenerfassung!C730),\"\",Datenerfassung!C730)","v":""},{"$f":"IF(ISBLANK(Datenerfassung!R730),\"\",Datenerfassung!R730)","v":""},{"$f":"IF(ISBLANK(Datenerfassung!S730),\"\",Datenerfassung!S730)","v":""},"",{"$f":"IF(ISBLANK(Datenerfassung!U730),\"\",Datenerfassung!U730)","v":""},{"$f":"IF(ISBLANK(Datenerfassung!O730),\"\",Datenerfassung!O730)","v":""},{"$f":"IF(ISBLANK(Datenerfassung!D730),IF(COUNTBLANK(A720:H720)+COUNTBLANK(J720:O720)=14,\"\",\"- ohne Titel -\"),Datenerfassung!D730)","v":""},{"$f":"IF(ISBLANK(Datenerfassung!G730),\"\",Datenerfassung!G730)","v":""},"",{"$f":"IF(ISBLANK(Datenerfassung!X730),\"\",Datenerfassung!X730)","v":""},{"$f":"IF(COUNTBLANK(Datenerfassung!H730:'Datenerfassung'!N730)=7,\"\",CONCATENATE( CONCATENATE(IF(ISBLANK(Datenerfassung!H730),\" \",Datenerfassung!H730 ),\" [IS]\"), CONCATENATE(IF(ISBLANK(Datenerfassung!I730),\" \",Datenerfassung!I730 ),\" [IS]\"), CONCATENATE(IF(ISBLANK(Datenerfassung!J730),\" \",Datenerfassung!J730 ),\" [IS]\"), CONCATENATE(IF(ISBLANK(Datenerfassung!K730),\" \",Datenerfassung!K730 ),\" [IS]\"), CONCATENATE(IF(ISBLANK(Datenerfassung!L730),\" \",Datenerfassung!L730 ),\" [IS]\"), CONCATENATE(IF(ISBLANK(Datenerfassung!M730),\" \",Datenerfassung!M730 ),\" [IS]\"), IF(ISBLANK(Datenerfassung!N730),\" \",Datenerfassung!N730 ) ))","v":""},{"$f":"IF(ISBLANK(Datenerfassung!V730),\"\",Datenerfassung!V730)","v":""},{"$f":"IF(ISBLANK(Datenerfassung!Q730),\"\",Datenerfassung!Q730)","v":""}]
[{"$f":"IF(ISBLANK(Datenerfassung!A731),\"\",Datenerfassung!A731)","v":""},{"$f":"IF(ISBLANK(Datenerfassung!B731),\"\",Datenerfassung!B731)","v":""},{"$f":"IF(ISBLANK(Datenerfassung!C731),\"\",Datenerfassung!C731)","v":""},{"$f":"IF(ISBLANK(Datenerfassung!R731),\"\",Datenerfassung!R731)","v":""},{"$f":"IF(ISBLANK(Datenerfassung!S731),\"\",Datenerfassung!S731)","v":""},"",{"$f":"IF(ISBLANK(Datenerfassung!U731),\"\",Datenerfassung!U731)","v":""},{"$f":"IF(ISBLANK(Datenerfassung!O731),\"\",Datenerfassung!O731)","v":""},{"$f":"IF(ISBLANK(Datenerfassung!D731),IF(COUNTBLANK(A721:H721)+COUNTBLANK(J721:O721)=14,\"\",\"- ohne Titel -\"),Datenerfassung!D731)","v":""},{"$f":"IF(ISBLANK(Datenerfassung!G731),\"\",Datenerfassung!G731)","v":""},"",{"$f":"IF(ISBLANK(Datenerfassung!X731),\"\",Datenerfassung!X731)","v":""},{"$f":"IF(COUNTBLANK(Datenerfassung!H731:'Datenerfassung'!N731)=7,\"\",CONCATENATE( CONCATENATE(IF(ISBLANK(Datenerfassung!H731),\" \",Datenerfassung!H731 ),\" [IS]\"), CONCATENATE(IF(ISBLANK(Datenerfassung!I731),\" \",Datenerfassung!I731 ),\" [IS]\"), CONCATENATE(IF(ISBLANK(Datenerfassung!J731),\" \",Datenerfassung!J731 ),\" [IS]\"), CONCATENATE(IF(ISBLANK(Datenerfassung!K731),\" \",Datenerfassung!K731 ),\" [IS]\"), CONCATENATE(IF(ISBLANK(Datenerfassung!L731),\" \",Datenerfassung!L731 ),\" [IS]\"), CONCATENATE(IF(ISBLANK(Datenerfassung!M731),\" \",Datenerfassung!M731 ),\" [IS]\"), IF(ISBLANK(Datenerfassung!N731),\" \",Datenerfassung!N731 ) ))","v":""},{"$f":"IF(ISBLANK(Datenerfassung!V731),\"\",Datenerfassung!V731)","v":""},{"$f":"IF(ISBLANK(Datenerfassung!Q731),\"\",Datenerfassung!Q731)","v":""}]
[{"$f":"IF(ISBLANK(Datenerfassung!A732),\"\",Datenerfassung!A732)","v":""},{"$f":"IF(ISBLANK(Datenerfassung!B732),\"\",Datenerfassung!B732)","v":""},{"$f":"IF(ISBLANK(Datenerfassung!C732),\"\",Datenerfassung!C732)","v":""},{"$f":"IF(ISBLANK(Datenerfassung!R732),\"\",Datenerfassung!R732)","v":""},{"$f":"IF(ISBLANK(Datenerfassung!S732),\"\",Datenerfassung!S732)","v":""},"",{"$f":"IF(ISBLANK(Datenerfassung!U732),\"\",Datenerfassung!U732)","v":""},{"$f":"IF(ISBLANK(Datenerfassung!O732),\"\",Datenerfassung!O732)","v":""},{"$f":"IF(ISBLANK(Datenerfassung!D732),IF(COUNTBLANK(A722:H722)+COUNTBLANK(J722:O722)=14,\"\",\"- ohne Titel -\"),Datenerfassung!D732)","v":""},{"$f":"IF(ISBLANK(Datenerfassung!G732),\"\",Datenerfassung!G732)","v":""},"",{"$f":"IF(ISBLANK(Datenerfassung!X732),\"\",Datenerfassung!X732)","v":""},{"$f":"IF(COUNTBLANK(Datenerfassung!H732:'Datenerfassung'!N732)=7,\"\",CONCATENATE( CONCATENATE(IF(ISBLANK(Datenerfassung!H732),\" \",Datenerfassung!H732 ),\" [IS]\"), CONCATENATE(IF(ISBLANK(Datenerfassung!I732),\" \",Datenerfassung!I732 ),\" [IS]\"), CONCATENATE(IF(ISBLANK(Datenerfassung!J732),\" \",Datenerfassung!J732 ),\" [IS]\"), CONCATENATE(IF(ISBLANK(Datenerfassung!K732),\" \",Datenerfassung!K732 ),\" [IS]\"), CONCATENATE(IF(ISBLANK(Datenerfassung!L732),\" \",Datenerfassung!L732 ),\" [IS]\"), CONCATENATE(IF(ISBLANK(Datenerfassung!M732),\" \",Datenerfassung!M732 ),\" [IS]\"), IF(ISBLANK(Datenerfassung!N732),\" \",Datenerfassung!N732 ) ))","v":""},{"$f":"IF(ISBLANK(Datenerfassung!V732),\"\",Datenerfassung!V732)","v":""},{"$f":"IF(ISBLANK(Datenerfassung!Q732),\"\",Datenerfassung!Q732)","v":""}]
[{"$f":"IF(ISBLANK(Datenerfassung!A733),\"\",Datenerfassung!A733)","v":""},{"$f":"IF(ISBLANK(Datenerfassung!B733),\"\",Datenerfassung!B733)","v":""},{"$f":"IF(ISBLANK(Datenerfassung!C733),\"\",Datenerfassung!C733)","v":""},{"$f":"IF(ISBLANK(Datenerfassung!R733),\"\",Datenerfassung!R733)","v":""},{"$f":"IF(ISBLANK(Datenerfassung!S733),\"\",Datenerfassung!S733)","v":""},"",{"$f":"IF(ISBLANK(Datenerfassung!U733),\"\",Datenerfassung!U733)","v":""},{"$f":"IF(ISBLANK(Datenerfassung!O733),\"\",Datenerfassung!O733)","v":""},{"$f":"IF(ISBLANK(Datenerfassung!D733),IF(COUNTBLANK(A723:H723)+COUNTBLANK(J723:O723)=14,\"\",\"- ohne Titel -\"),Datenerfassung!D733)","v":""},{"$f":"IF(ISBLANK(Datenerfassung!G733),\"\",Datenerfassung!G733)","v":""},"",{"$f":"IF(ISBLANK(Datenerfassung!X733),\"\",Datenerfassung!X733)","v":""},{"$f":"IF(COUNTBLANK(Datenerfassung!H733:'Datenerfassung'!N733)=7,\"\",CONCATENATE( CONCATENATE(IF(ISBLANK(Datenerfassung!H733),\" \",Datenerfassung!H733 ),\" [IS]\"), CONCATENATE(IF(ISBLANK(Datenerfassung!I733),\" \",Datenerfassung!I733 ),\" [IS]\"), CONCATENATE(IF(ISBLANK(Datenerfassung!J733),\" \",Datenerfassung!J733 ),\" [IS]\"), CONCATENATE(IF(ISBLANK(Datenerfassung!K733),\" \",Datenerfassung!K733 ),\" [IS]\"), CONCATENATE(IF(ISBLANK(Datenerfassung!L733),\" \",Datenerfassung!L733 ),\" [IS]\"), CONCATENATE(IF(ISBLANK(Datenerfassung!M733),\" \",Datenerfassung!M733 ),\" [IS]\"), IF(ISBLANK(Datenerfassung!N733),\" \",Datenerfassung!N733 ) ))","v":""},{"$f":"IF(ISBLANK(Datenerfassung!V733),\"\",Datenerfassung!V733)","v":""},{"$f":"IF(ISBLANK(Datenerfassung!Q733),\"\",Datenerfassung!Q733)","v":""}]
[{"$f":"IF(ISBLANK(Datenerfassung!A734),\"\",Datenerfassung!A734)","v":""},{"$f":"IF(ISBLANK(Datenerfassung!B734),\"\",Datenerfassung!B734)","v":""},{"$f":"IF(ISBLANK(Datenerfassung!C734),\"\",Datenerfassung!C734)","v":""},{"$f":"IF(ISBLANK(Datenerfassung!R734),\"\",Datenerfassung!R734)","v":""},{"$f":"IF(ISBLANK(Datenerfassung!S734),\"\",Datenerfassung!S734)","v":""},"",{"$f":"IF(ISBLANK(Datenerfassung!U734),\"\",Datenerfassung!U734)","v":""},{"$f":"IF(ISBLANK(Datenerfassung!O734),\"\",Datenerfassung!O734)","v":""},{"$f":"IF(ISBLANK(Datenerfassung!D734),IF(COUNTBLANK(A724:H724)+COUNTBLANK(J724:O724)=14,\"\",\"- ohne Titel -\"),Datenerfassung!D734)","v":""},{"$f":"IF(ISBLANK(Datenerfassung!G734),\"\",Datenerfassung!G734)","v":""},"",{"$f":"IF(ISBLANK(Datenerfassung!X734),\"\",Datenerfassung!X734)","v":""},{"$f":"IF(COUNTBLANK(Datenerfassung!H734:'Datenerfassung'!N734)=7,\"\",CONCATENATE( CONCATENATE(IF(ISBLANK(Datenerfassung!H734),\" \",Datenerfassung!H734 ),\" [IS]\"), CONCATENATE(IF(ISBLANK(Datenerfassung!I734),\" \",Datenerfassung!I734 ),\" [IS]\"), CONCATENATE(IF(ISBLANK(Datenerfassung!J734),\" \",Datenerfassung!J734 ),\" [IS]\"), CONCATENATE(IF(ISBLANK(Datenerfassung!K734),\" \",Datenerfassung!K734 ),\" [IS]\"), CONCATENATE(IF(ISBLANK(Datenerfassung!L734),\" \",Datenerfassung!L734 ),\" [IS]\"), CONCATENATE(IF(ISBLANK(Datenerfassung!M734),\" \",Datenerfassung!M734 ),\" [IS]\"), IF(ISBLANK(Datenerfassung!N734),\" \",Datenerfassung!N734 ) ))","v":""},{"$f":"IF(ISBLANK(Datenerfassung!V734),\"\",Datenerfassung!V734)","v":""},{"$f":"IF(ISBLANK(Datenerfassung!Q734),\"\",Datenerfassung!Q734)","v":""}]
[{"$f":"IF(ISBLANK(Datenerfassung!A735),\"\",Datenerfassung!A735)","v":""},{"$f":"IF(ISBLANK(Datenerfassung!B735),\"\",Datenerfassung!B735)","v":""},{"$f":"IF(ISBLANK(Datenerfassung!C735),\"\",Datenerfassung!C735)","v":""},{"$f":"IF(ISBLANK(Datenerfassung!R735),\"\",Datenerfassung!R735)","v":""},{"$f":"IF(ISBLANK(Datenerfassung!S735),\"\",Datenerfassung!S735)","v":""},"",{"$f":"IF(ISBLANK(Datenerfassung!U735),\"\",Datenerfassung!U735)","v":""},{"$f":"IF(ISBLANK(Datenerfassung!O735),\"\",Datenerfassung!O735)","v":""},{"$f":"IF(ISBLANK(Datenerfassung!D735),IF(COUNTBLANK(A725:H725)+COUNTBLANK(J725:O725)=14,\"\",\"- ohne Titel -\"),Datenerfassung!D735)","v":""},{"$f":"IF(ISBLANK(Datenerfassung!G735),\"\",Datenerfassung!G735)","v":""},"",{"$f":"IF(ISBLANK(Datenerfassung!X735),\"\",Datenerfassung!X735)","v":""},{"$f":"IF(COUNTBLANK(Datenerfassung!H735:'Datenerfassung'!N735)=7,\"\",CONCATENATE( CONCATENATE(IF(ISBLANK(Datenerfassung!H735),\" \",Datenerfassung!H735 ),\" [IS]\"), CONCATENATE(IF(ISBLANK(Datenerfassung!I735),\" \",Datenerfassung!I735 ),\" [IS]\"), CONCATENATE(IF(ISBLANK(Datenerfassung!J735),\" \",Datenerfassung!J735 ),\" [IS]\"), CONCATENATE(IF(ISBLANK(Datenerfassung!K735),\" \",Datenerfassung!K735 ),\" [IS]\"), CONCATENATE(IF(ISBLANK(Datenerfassung!L735),\" \",Datenerfassung!L735 ),\" [IS]\"), CONCATENATE(IF(ISBLANK(Datenerfassung!M735),\" \",Datenerfassung!M735 ),\" [IS]\"), IF(ISBLANK(Datenerfassung!N735),\" \",Datenerfassung!N735 ) ))","v":""},{"$f":"IF(ISBLANK(Datenerfassung!V735),\"\",Datenerfassung!V735)","v":""},{"$f":"IF(ISBLANK(Datenerfassung!Q735),\"\",Datenerfassung!Q735)","v":""}]
[{"$f":"IF(ISBLANK(Datenerfassung!A736),\"\",Datenerfassung!A736)","v":""},{"$f":"IF(ISBLANK(Datenerfassung!B736),\"\",Datenerfassung!B736)","v":""},{"$f":"IF(ISBLANK(Datenerfassung!C736),\"\",Datenerfassung!C736)","v":""},{"$f":"IF(ISBLANK(Datenerfassung!R736),\"\",Datenerfassung!R736)","v":""},{"$f":"IF(ISBLANK(Datenerfassung!S736),\"\",Datenerfassung!S736)","v":""},"",{"$f":"IF(ISBLANK(Datenerfassung!U736),\"\",Datenerfassung!U736)","v":""},{"$f":"IF(ISBLANK(Datenerfassung!O736),\"\",Datenerfassung!O736)","v":""},{"$f":"IF(ISBLANK(Datenerfassung!D736),IF(COUNTBLANK(A726:H726)+COUNTBLANK(J726:O726)=14,\"\",\"- ohne Titel -\"),Datenerfassung!D736)","v":""},{"$f":"IF(ISBLANK(Datenerfassung!G736),\"\",Datenerfassung!G736)","v":""},"",{"$f":"IF(ISBLANK(Datenerfassung!X736),\"\",Datenerfassung!X736)","v":""},{"$f":"IF(COUNTBLANK(Datenerfassung!H736:'Datenerfassung'!N736)=7,\"\",CONCATENATE( CONCATENATE(IF(ISBLANK(Datenerfassung!H736),\" \",Datenerfassung!H736 ),\" [IS]\"), CONCATENATE(IF(ISBLANK(Datenerfassung!I736),\" \",Datenerfassung!I736 ),\" [IS]\"), CONCATENATE(IF(ISBLANK(Datenerfassung!J736),\" \",Datenerfassung!J736 ),\" [IS]\"), CONCATENATE(IF(ISBLANK(Datenerfassung!K736),\" \",Datenerfassung!K736 ),\" [IS]\"), CONCATENATE(IF(ISBLANK(Datenerfassung!L736),\" \",Datenerfassung!L736 ),\" [IS]\"), CONCATENATE(IF(ISBLANK(Datenerfassung!M736),\" \",Datenerfassung!M736 ),\" [IS]\"), IF(ISBLANK(Datenerfassung!N736),\" \",Datenerfassung!N736 ) ))","v":""},{"$f":"IF(ISBLANK(Datenerfassung!V736),\"\",Datenerfassung!V736)","v":""},{"$f":"IF(ISBLANK(Datenerfassung!Q736),\"\",Datenerfassung!Q736)","v":""}]
[{"$f":"IF(ISBLANK(Datenerfassung!A737),\"\",Datenerfassung!A737)","v":""},{"$f":"IF(ISBLANK(Datenerfassung!B737),\"\",Datenerfassung!B737)","v":""},{"$f":"IF(ISBLANK(Datenerfassung!C737),\"\",Datenerfassung!C737)","v":""},{"$f":"IF(ISBLANK(Datenerfassung!R737),\"\",Datenerfassung!R737)","v":""},{"$f":"IF(ISBLANK(Datenerfassung!S737),\"\",Datenerfassung!S737)","v":""},"",{"$f":"IF(ISBLANK(Datenerfassung!U737),\"\",Datenerfassung!U737)","v":""},{"$f":"IF(ISBLANK(Datenerfassung!O737),\"\",Datenerfassung!O737)","v":""},{"$f":"IF(ISBLANK(Datenerfassung!D737),IF(COUNTBLANK(A727:H727)+COUNTBLANK(J727:O727)=14,\"\",\"- ohne Titel -\"),Datenerfassung!D737)","v":""},{"$f":"IF(ISBLANK(Datenerfassung!G737),\"\",Datenerfassung!G737)","v":""},"",{"$f":"IF(ISBLANK(Datenerfassung!X737),\"\",Datenerfassung!X737)","v":""},{"$f":"IF(COUNTBLANK(Datenerfassung!H737:'Datenerfassung'!N737)=7,\"\",CONCATENATE( CONCATENATE(IF(ISBLANK(Datenerfassung!H737),\" \",Datenerfassung!H737 ),\" [IS]\"), CONCATENATE(IF(ISBLANK(Datenerfassung!I737),\" \",Datenerfassung!I737 ),\" [IS]\"), CONCATENATE(IF(ISBLANK(Datenerfassung!J737),\" \",Datenerfassung!J737 ),\" [IS]\"), CONCATENATE(IF(ISBLANK(Datenerfassung!K737),\" \",Datenerfassung!K737 ),\" [IS]\"), CONCATENATE(IF(ISBLANK(Datenerfassung!L737),\" \",Datenerfassung!L737 ),\" [IS]\"), CONCATENATE(IF(ISBLANK(Datenerfassung!M737),\" \",Datenerfassung!M737 ),\" [IS]\"), IF(ISBLANK(Datenerfassung!N737),\" \",Datenerfassung!N737 ) ))","v":""},{"$f":"IF(ISBLANK(Datenerfassung!V737),\"\",Datenerfassung!V737)","v":""},{"$f":"IF(ISBLANK(Datenerfassung!Q737),\"\",Datenerfassung!Q737)","v":""}]
[{"$f":"IF(ISBLANK(Datenerfassung!A738),\"\",Datenerfassung!A738)","v":""},{"$f":"IF(ISBLANK(Datenerfassung!B738),\"\",Datenerfassung!B738)","v":""},{"$f":"IF(ISBLANK(Datenerfassung!C738),\"\",Datenerfassung!C738)","v":""},{"$f":"IF(ISBLANK(Datenerfassung!R738),\"\",Datenerfassung!R738)","v":""},{"$f":"IF(ISBLANK(Datenerfassung!S738),\"\",Datenerfassung!S738)","v":""},"",{"$f":"IF(ISBLANK(Datenerfassung!U738),\"\",Datenerfassung!U738)","v":""},{"$f":"IF(ISBLANK(Datenerfassung!O738),\"\",Datenerfassung!O738)","v":""},{"$f":"IF(ISBLANK(Datenerfassung!D738),IF(COUNTBLANK(A728:H728)+COUNTBLANK(J728:O728)=14,\"\",\"- ohne Titel -\"),Datenerfassung!D738)","v":""},{"$f":"IF(ISBLANK(Datenerfassung!G738),\"\",Datenerfassung!G738)","v":""},"",{"$f":"IF(ISBLANK(Datenerfassung!X738),\"\",Datenerfassung!X738)","v":""},{"$f":"IF(COUNTBLANK(Datenerfassung!H738:'Datenerfassung'!N738)=7,\"\",CONCATENATE( CONCATENATE(IF(ISBLANK(Datenerfassung!H738),\" \",Datenerfassung!H738 ),\" [IS]\"), CONCATENATE(IF(ISBLANK(Datenerfassung!I738),\" \",Datenerfassung!I738 ),\" [IS]\"), CONCATENATE(IF(ISBLANK(Datenerfassung!J738),\" \",Datenerfassung!J738 ),\" [IS]\"), CONCATENATE(IF(ISBLANK(Datenerfassung!K738),\" \",Datenerfassung!K738 ),\" [IS]\"), CONCATENATE(IF(ISBLANK(Datenerfassung!L738),\" \",Datenerfassung!L738 ),\" [IS]\"), CONCATENATE(IF(ISBLANK(Datenerfassung!M738),\" \",Datenerfassung!M738 ),\" [IS]\"), IF(ISBLANK(Datenerfassung!N738),\" \",Datenerfassung!N738 ) ))","v":""},{"$f":"IF(ISBLANK(Datenerfassung!V738),\"\",Datenerfassung!V738)","v":""},{"$f":"IF(ISBLANK(Datenerfassung!Q738),\"\",Datenerfassung!Q738)","v":""}]
[{"$f":"IF(ISBLANK(Datenerfassung!A739),\"\",Datenerfassung!A739)","v":""},{"$f":"IF(ISBLANK(Datenerfassung!B739),\"\",Datenerfassung!B739)","v":""},{"$f":"IF(ISBLANK(Datenerfassung!C739),\"\",Datenerfassung!C739)","v":""},{"$f":"IF(ISBLANK(Datenerfassung!R739),\"\",Datenerfassung!R739)","v":""},{"$f":"IF(ISBLANK(Datenerfassung!S739),\"\",Datenerfassung!S739)","v":""},"",{"$f":"IF(ISBLANK(Datenerfassung!U739),\"\",Datenerfassung!U739)","v":""},{"$f":"IF(ISBLANK(Datenerfassung!O739),\"\",Datenerfassung!O739)","v":""},{"$f":"IF(ISBLANK(Datenerfassung!D739),IF(COUNTBLANK(A729:H729)+COUNTBLANK(J729:O729)=14,\"\",\"- ohne Titel -\"),Datenerfassung!D739)","v":""},{"$f":"IF(ISBLANK(Datenerfassung!G739),\"\",Datenerfassung!G739)","v":""},"",{"$f":"IF(ISBLANK(Datenerfassung!X739),\"\",Datenerfassung!X739)","v":""},{"$f":"IF(COUNTBLANK(Datenerfassung!H739:'Datenerfassung'!N739)=7,\"\",CONCATENATE( CONCATENATE(IF(ISBLANK(Datenerfassung!H739),\" \",Datenerfassung!H739 ),\" [IS]\"), CONCATENATE(IF(ISBLANK(Datenerfassung!I739),\" \",Datenerfassung!I739 ),\" [IS]\"), CONCATENATE(IF(ISBLANK(Datenerfassung!J739),\" \",Datenerfassung!J739 ),\" [IS]\"), CONCATENATE(IF(ISBLANK(Datenerfassung!K739),\" \",Datenerfassung!K739 ),\" [IS]\"), CONCATENATE(IF(ISBLANK(Datenerfassung!L739),\" \",Datenerfassung!L739 ),\" [IS]\"), CONCATENATE(IF(ISBLANK(Datenerfassung!M739),\" \",Datenerfassung!M739 ),\" [IS]\"), IF(ISBLANK(Datenerfassung!N739),\" \",Datenerfassung!N739 ) ))","v":""},{"$f":"IF(ISBLANK(Datenerfassung!V739),\"\",Datenerfassung!V739)","v":""},{"$f":"IF(ISBLANK(Datenerfassung!Q739),\"\",Datenerfassung!Q739)","v":""}]
[{"$f":"IF(ISBLANK(Datenerfassung!A740),\"\",Datenerfassung!A740)","v":""},{"$f":"IF(ISBLANK(Datenerfassung!B740),\"\",Datenerfassung!B740)","v":""},{"$f":"IF(ISBLANK(Datenerfassung!C740),\"\",Datenerfassung!C740)","v":""},{"$f":"IF(ISBLANK(Datenerfassung!R740),\"\",Datenerfassung!R740)","v":""},{"$f":"IF(ISBLANK(Datenerfassung!S740),\"\",Datenerfassung!S740)","v":""},"",{"$f":"IF(ISBLANK(Datenerfassung!U740),\"\",Datenerfassung!U740)","v":""},{"$f":"IF(ISBLANK(Datenerfassung!O740),\"\",Datenerfassung!O740)","v":""},{"$f":"IF(ISBLANK(Datenerfassung!D740),IF(COUNTBLANK(A730:H730)+COUNTBLANK(J730:O730)=14,\"\",\"- ohne Titel -\"),Datenerfassung!D740)","v":""},{"$f":"IF(ISBLANK(Datenerfassung!G740),\"\",Datenerfassung!G740)","v":""},"",{"$f":"IF(ISBLANK(Datenerfassung!X740),\"\",Datenerfassung!X740)","v":""},{"$f":"IF(COUNTBLANK(Datenerfassung!H740:'Datenerfassung'!N740)=7,\"\",CONCATENATE( CONCATENATE(IF(ISBLANK(Datenerfassung!H740),\" \",Datenerfassung!H740 ),\" [IS]\"), CONCATENATE(IF(ISBLANK(Datenerfassung!I740),\" \",Datenerfassung!I740 ),\" [IS]\"), CONCATENATE(IF(ISBLANK(Datenerfassung!J740),\" \",Datenerfassung!J740 ),\" [IS]\"), CONCATENATE(IF(ISBLANK(Datenerfassung!K740),\" \",Datenerfassung!K740 ),\" [IS]\"), CONCATENATE(IF(ISBLANK(Datenerfassung!L740),\" \",Datenerfassung!L740 ),\" [IS]\"), CONCATENATE(IF(ISBLANK(Datenerfassung!M740),\" \",Datenerfassung!M740 ),\" [IS]\"), IF(ISBLANK(Datenerfassung!N740),\" \",Datenerfassung!N740 ) ))","v":""},{"$f":"IF(ISBLANK(Datenerfassung!V740),\"\",Datenerfassung!V740)","v":""},{"$f":"IF(ISBLANK(Datenerfassung!Q740),\"\",Datenerfassung!Q740)","v":""}]
[{"$f":"IF(ISBLANK(Datenerfassung!A741),\"\",Datenerfassung!A741)","v":""},{"$f":"IF(ISBLANK(Datenerfassung!B741),\"\",Datenerfassung!B741)","v":""},{"$f":"IF(ISBLANK(Datenerfassung!C741),\"\",Datenerfassung!C741)","v":""},{"$f":"IF(ISBLANK(Datenerfassung!R741),\"\",Datenerfassung!R741)","v":""},{"$f":"IF(ISBLANK(Datenerfassung!S741),\"\",Datenerfassung!S741)","v":""},"",{"$f":"IF(ISBLANK(Datenerfassung!U741),\"\",Datenerfassung!U741)","v":""},{"$f":"IF(ISBLANK(Datenerfassung!O741),\"\",Datenerfassung!O741)","v":""},{"$f":"IF(ISBLANK(Datenerfassung!D741),IF(COUNTBLANK(A731:H731)+COUNTBLANK(J731:O731)=14,\"\",\"- ohne Titel -\"),Datenerfassung!D741)","v":""},{"$f":"IF(ISBLANK(Datenerfassung!G741),\"\",Datenerfassung!G741)","v":""},"",{"$f":"IF(ISBLANK(Datenerfassung!X741),\"\",Datenerfassung!X741)","v":""},{"$f":"IF(COUNTBLANK(Datenerfassung!H741:'Datenerfassung'!N741)=7,\"\",CONCATENATE( CONCATENATE(IF(ISBLANK(Datenerfassung!H741),\" \",Datenerfassung!H741 ),\" [IS]\"), CONCATENATE(IF(ISBLANK(Datenerfassung!I741),\" \",Datenerfassung!I741 ),\" [IS]\"), CONCATENATE(IF(ISBLANK(Datenerfassung!J741),\" \",Datenerfassung!J741 ),\" [IS]\"), CONCATENATE(IF(ISBLANK(Datenerfassung!K741),\" \",Datenerfassung!K741 ),\" [IS]\"), CONCATENATE(IF(ISBLANK(Datenerfassung!L741),\" \",Datenerfassung!L741 ),\" [IS]\"), CONCATENATE(IF(ISBLANK(Datenerfassung!M741),\" \",Datenerfassung!M741 ),\" [IS]\"), IF(ISBLANK(Datenerfassung!N741),\" \",Datenerfassung!N741 ) ))","v":""},{"$f":"IF(ISBLANK(Datenerfassung!V741),\"\",Datenerfassung!V741)","v":""},{"$f":"IF(ISBLANK(Datenerfassung!Q741),\"\",Datenerfassung!Q741)","v":""}]
[{"$f":"IF(ISBLANK(Datenerfassung!A742),\"\",Datenerfassung!A742)","v":""},{"$f":"IF(ISBLANK(Datenerfassung!B742),\"\",Datenerfassung!B742)","v":""},{"$f":"IF(ISBLANK(Datenerfassung!C742),\"\",Datenerfassung!C742)","v":""},{"$f":"IF(ISBLANK(Datenerfassung!R742),\"\",Datenerfassung!R742)","v":""},{"$f":"IF(ISBLANK(Datenerfassung!S742),\"\",Datenerfassung!S742)","v":""},"",{"$f":"IF(ISBLANK(Datenerfassung!U742),\"\",Datenerfassung!U742)","v":""},{"$f":"IF(ISBLANK(Datenerfassung!O742),\"\",Datenerfassung!O742)","v":""},{"$f":"IF(ISBLANK(Datenerfassung!D742),IF(COUNTBLANK(A732:H732)+COUNTBLANK(J732:O732)=14,\"\",\"- ohne Titel -\"),Datenerfassung!D742)","v":""},{"$f":"IF(ISBLANK(Datenerfassung!G742),\"\",Datenerfassung!G742)","v":""},"",{"$f":"IF(ISBLANK(Datenerfassung!X742),\"\",Datenerfassung!X742)","v":""},{"$f":"IF(COUNTBLANK(Datenerfassung!H742:'Datenerfassung'!N742)=7,\"\",CONCATENATE( CONCATENATE(IF(ISBLANK(Datenerfassung!H742),\" \",Datenerfassung!H742 ),\" [IS]\"), CONCATENATE(IF(ISBLANK(Datenerfassung!I742),\" \",Datenerfassung!I742 ),\" [IS]\"), CONCATENATE(IF(ISBLANK(Datenerfassung!J742),\" \",Datenerfassung!J742 ),\" [IS]\"), CONCATENATE(IF(ISBLANK(Datenerfassung!K742),\" \",Datenerfassung!K742 ),\" [IS]\"), CONCATENATE(IF(ISBLANK(Datenerfassung!L742),\" \",Datenerfassung!L742 ),\" [IS]\"), CONCATENATE(IF(ISBLANK(Datenerfassung!M742),\" \",Datenerfassung!M742 ),\" [IS]\"), IF(ISBLANK(Datenerfassung!N742),\" \",Datenerfassung!N742 ) ))","v":""},{"$f":"IF(ISBLANK(Datenerfassung!V742),\"\",Datenerfassung!V742)","v":""},{"$f":"IF(ISBLANK(Datenerfassung!Q742),\"\",Datenerfassung!Q742)","v":""}]
[{"$f":"IF(ISBLANK(Datenerfassung!A743),\"\",Datenerfassung!A743)","v":""},{"$f":"IF(ISBLANK(Datenerfassung!B743),\"\",Datenerfassung!B743)","v":""},{"$f":"IF(ISBLANK(Datenerfassung!C743),\"\",Datenerfassung!C743)","v":""},{"$f":"IF(ISBLANK(Datenerfassung!R743),\"\",Datenerfassung!R743)","v":""},{"$f":"IF(ISBLANK(Datenerfassung!S743),\"\",Datenerfassung!S743)","v":""},"",{"$f":"IF(ISBLANK(Datenerfassung!U743),\"\",Datenerfassung!U743)","v":""},{"$f":"IF(ISBLANK(Datenerfassung!O743),\"\",Datenerfassung!O743)","v":""},{"$f":"IF(ISBLANK(Datenerfassung!D743),IF(COUNTBLANK(A733:H733)+COUNTBLANK(J733:O733)=14,\"\",\"- ohne Titel -\"),Datenerfassung!D743)","v":""},{"$f":"IF(ISBLANK(Datenerfassung!G743),\"\",Datenerfassung!G743)","v":""},"",{"$f":"IF(ISBLANK(Datenerfassung!X743),\"\",Datenerfassung!X743)","v":""},{"$f":"IF(COUNTBLANK(Datenerfassung!H743:'Datenerfassung'!N743)=7,\"\",CONCATENATE( CONCATENATE(IF(ISBLANK(Datenerfassung!H743),\" \",Datenerfassung!H743 ),\" [IS]\"), CONCATENATE(IF(ISBLANK(Datenerfassung!I743),\" \",Datenerfassung!I743 ),\" [IS]\"), CONCATENATE(IF(ISBLANK(Datenerfassung!J743),\" \",Datenerfassung!J743 ),\" [IS]\"), CONCATENATE(IF(ISBLANK(Datenerfassung!K743),\" \",Datenerfassung!K743 ),\" [IS]\"), CONCATENATE(IF(ISBLANK(Datenerfassung!L743),\" \",Datenerfassung!L743 ),\" [IS]\"), CONCATENATE(IF(ISBLANK(Datenerfassung!M743),\" \",Datenerfassung!M743 ),\" [IS]\"), IF(ISBLANK(Datenerfassung!N743),\" \",Datenerfassung!N743 ) ))","v":""},{"$f":"IF(ISBLANK(Datenerfassung!V743),\"\",Datenerfassung!V743)","v":""},{"$f":"IF(ISBLANK(Datenerfassung!Q743),\"\",Datenerfassung!Q743)","v":""}]
[{"$f":"IF(ISBLANK(Datenerfassung!A744),\"\",Datenerfassung!A744)","v":""},{"$f":"IF(ISBLANK(Datenerfassung!B744),\"\",Datenerfassung!B744)","v":""},{"$f":"IF(ISBLANK(Datenerfassung!C744),\"\",Datenerfassung!C744)","v":""},{"$f":"IF(ISBLANK(Datenerfassung!R744),\"\",Datenerfassung!R744)","v":""},{"$f":"IF(ISBLANK(Datenerfassung!S744),\"\",Datenerfassung!S744)","v":""},"",{"$f":"IF(ISBLANK(Datenerfassung!U744),\"\",Datenerfassung!U744)","v":""},{"$f":"IF(ISBLANK(Datenerfassung!O744),\"\",Datenerfassung!O744)","v":""},{"$f":"IF(ISBLANK(Datenerfassung!D744),IF(COUNTBLANK(A734:H734)+COUNTBLANK(J734:O734)=14,\"\",\"- ohne Titel -\"),Datenerfassung!D744)","v":""},{"$f":"IF(ISBLANK(Datenerfassung!G744),\"\",Datenerfassung!G744)","v":""},"",{"$f":"IF(ISBLANK(Datenerfassung!X744),\"\",Datenerfassung!X744)","v":""},{"$f":"IF(COUNTBLANK(Datenerfassung!H744:'Datenerfassung'!N744)=7,\"\",CONCATENATE( CONCATENATE(IF(ISBLANK(Datenerfassung!H744),\" \",Datenerfassung!H744 ),\" [IS]\"), CONCATENATE(IF(ISBLANK(Datenerfassung!I744),\" \",Datenerfassung!I744 ),\" [IS]\"), CONCATENATE(IF(ISBLANK(Datenerfassung!J744),\" \",Datenerfassung!J744 ),\" [IS]\"), CONCATENATE(IF(ISBLANK(Datenerfassung!K744),\" \",Datenerfassung!K744 ),\" [IS]\"), CONCATENATE(IF(ISBLANK(Datenerfassung!L744),\" \",Datenerfassung!L744 ),\" [IS]\"), CONCATENATE(IF(ISBLANK(Datenerfassung!M744),\" \",Datenerfassung!M744 ),\" [IS]\"), IF(ISBLANK(Datenerfassung!N744),\" \",Datenerfassung!N744 ) ))","v":""},{"$f":"IF(ISBLANK(Datenerfassung!V744),\"\",Datenerfassung!V744)","v":""},{"$f":"IF(ISBLANK(Datenerfassung!Q744),\"\",Datenerfassung!Q744)","v":""}]
[{"$f":"IF(ISBLANK(Datenerfassung!A745),\"\",Datenerfassung!A745)","v":""},{"$f":"IF(ISBLANK(Datenerfassung!B745),\"\",Datenerfassung!B745)","v":""},{"$f":"IF(ISBLANK(Datenerfassung!C745),\"\",Datenerfassung!C745)","v":""},{"$f":"IF(ISBLANK(Datenerfassung!R745),\"\",Datenerfassung!R745)","v":""},{"$f":"IF(ISBLANK(Datenerfassung!S745),\"\",Datenerfassung!S745)","v":""},"",{"$f":"IF(ISBLANK(Datenerfassung!U745),\"\",Datenerfassung!U745)","v":""},{"$f":"IF(ISBLANK(Datenerfassung!O745),\"\",Datenerfassung!O745)","v":""},{"$f":"IF(ISBLANK(Datenerfassung!D745),IF(COUNTBLANK(A735:H735)+COUNTBLANK(J735:O735)=14,\"\",\"- ohne Titel -\"),Datenerfassung!D745)","v":""},{"$f":"IF(ISBLANK(Datenerfassung!G745),\"\",Datenerfassung!G745)","v":""},"",{"$f":"IF(ISBLANK(Datenerfassung!X745),\"\",Datenerfassung!X745)","v":""},{"$f":"IF(COUNTBLANK(Datenerfassung!H745:'Datenerfassung'!N745)=7,\"\",CONCATENATE( CONCATENATE(IF(ISBLANK(Datenerfassung!H745),\" \",Datenerfassung!H745 ),\" [IS]\"), CONCATENATE(IF(ISBLANK(Datenerfassung!I745),\" \",Datenerfassung!I745 ),\" [IS]\"), CONCATENATE(IF(ISBLANK(Datenerfassung!J745),\" \",Datenerfassung!J745 ),\" [IS]\"), CONCATENATE(IF(ISBLANK(Datenerfassung!K745),\" \",Datenerfassung!K745 ),\" [IS]\"), CONCATENATE(IF(ISBLANK(Datenerfassung!L745),\" \",Datenerfassung!L745 ),\" [IS]\"), CONCATENATE(IF(ISBLANK(Datenerfassung!M745),\" \",Datenerfassung!M745 ),\" [IS]\"), IF(ISBLANK(Datenerfassung!N745),\" \",Datenerfassung!N745 ) ))","v":""},{"$f":"IF(ISBLANK(Datenerfassung!V745),\"\",Datenerfassung!V745)","v":""},{"$f":"IF(ISBLANK(Datenerfassung!Q745),\"\",Datenerfassung!Q745)","v":""}]
[{"$f":"IF(ISBLANK(Datenerfassung!A746),\"\",Datenerfassung!A746)","v":""},{"$f":"IF(ISBLANK(Datenerfassung!B746),\"\",Datenerfassung!B746)","v":""},{"$f":"IF(ISBLANK(Datenerfassung!C746),\"\",Datenerfassung!C746)","v":""},{"$f":"IF(ISBLANK(Datenerfassung!R746),\"\",Datenerfassung!R746)","v":""},{"$f":"IF(ISBLANK(Datenerfassung!S746),\"\",Datenerfassung!S746)","v":""},"",{"$f":"IF(ISBLANK(Datenerfassung!U746),\"\",Datenerfassung!U746)","v":""},{"$f":"IF(ISBLANK(Datenerfassung!O746),\"\",Datenerfassung!O746)","v":""},{"$f":"IF(ISBLANK(Datenerfassung!D746),IF(COUNTBLANK(A736:H736)+COUNTBLANK(J736:O736)=14,\"\",\"- ohne Titel -\"),Datenerfassung!D746)","v":""},{"$f":"IF(ISBLANK(Datenerfassung!G746),\"\",Datenerfassung!G746)","v":""},"",{"$f":"IF(ISBLANK(Datenerfassung!X746),\"\",Datenerfassung!X746)","v":""},{"$f":"IF(COUNTBLANK(Datenerfassung!H746:'Datenerfassung'!N746)=7,\"\",CONCATENATE( CONCATENATE(IF(ISBLANK(Datenerfassung!H746),\" \",Datenerfassung!H746 ),\" [IS]\"), CONCATENATE(IF(ISBLANK(Datenerfassung!I746),\" \",Datenerfassung!I746 ),\" [IS]\"), CONCATENATE(IF(ISBLANK(Datenerfassung!J746),\" \",Datenerfassung!J746 ),\" [IS]\"), CONCATENATE(IF(ISBLANK(Datenerfassung!K746),\" \",Datenerfassung!K746 ),\" [IS]\"), CONCATENATE(IF(ISBLANK(Datenerfassung!L746),\" \",Datenerfassung!L746 ),\" [IS]\"), CONCATENATE(IF(ISBLANK(Datenerfassung!M746),\" \",Datenerfassung!M746 ),\" [IS]\"), IF(ISBLANK(Datenerfassung!N746),\" \",Datenerfassung!N746 ) ))","v":""},{"$f":"IF(ISBLANK(Datenerfassung!V746),\"\",Datenerfassung!V746)","v":""},{"$f":"IF(ISBLANK(Datenerfassung!Q746),\"\",Datenerfassung!Q746)","v":""}]
[{"$f":"IF(ISBLANK(Datenerfassung!A747),\"\",Datenerfassung!A747)","v":""},{"$f":"IF(ISBLANK(Datenerfassung!B747),\"\",Datenerfassung!B747)","v":""},{"$f":"IF(ISBLANK(Datenerfassung!C747),\"\",Datenerfassung!C747)","v":""},{"$f":"IF(ISBLANK(Datenerfassung!R747),\"\",Datenerfassung!R747)","v":""},{"$f":"IF(ISBLANK(Datenerfassung!S747),\"\",Datenerfassung!S747)","v":""},"",{"$f":"IF(ISBLANK(Datenerfassung!U747),\"\",Datenerfassung!U747)","v":""},{"$f":"IF(ISBLANK(Datenerfassung!O747),\"\",Datenerfassung!O747)","v":""},{"$f":"IF(ISBLANK(Datenerfassung!D747),IF(COUNTBLANK(A737:H737)+COUNTBLANK(J737:O737)=14,\"\",\"- ohne Titel -\"),Datenerfassung!D747)","v":""},{"$f":"IF(ISBLANK(Datenerfassung!G747),\"\",Datenerfassung!G747)","v":""},"",{"$f":"IF(ISBLANK(Datenerfassung!X747),\"\",Datenerfassung!X747)","v":""},{"$f":"IF(COUNTBLANK(Datenerfassung!H747:'Datenerfassung'!N747)=7,\"\",CONCATENATE( CONCATENATE(IF(ISBLANK(Datenerfassung!H747),\" \",Datenerfassung!H747 ),\" [IS]\"), CONCATENATE(IF(ISBLANK(Datenerfassung!I747),\" \",Datenerfassung!I747 ),\" [IS]\"), CONCATENATE(IF(ISBLANK(Datenerfassung!J747),\" \",Datenerfassung!J747 ),\" [IS]\"), CONCATENATE(IF(ISBLANK(Datenerfassung!K747),\" \",Datenerfassung!K747 ),\" [IS]\"), CONCATENATE(IF(ISBLANK(Datenerfassung!L747),\" \",Datenerfassung!L747 ),\" [IS]\"), CONCATENATE(IF(ISBLANK(Datenerfassung!M747),\" \",Datenerfassung!M747 ),\" [IS]\"), IF(ISBLANK(Datenerfassung!N747),\" \",Datenerfassung!N747 ) ))","v":""},{"$f":"IF(ISBLANK(Datenerfassung!V747),\"\",Datenerfassung!V747)","v":""},{"$f":"IF(ISBLANK(Datenerfassung!Q747),\"\",Datenerfassung!Q747)","v":""}]
[{"$f":"IF(ISBLANK(Datenerfassung!A748),\"\",Datenerfassung!A748)","v":""},{"$f":"IF(ISBLANK(Datenerfassung!B748),\"\",Datenerfassung!B748)","v":""},{"$f":"IF(ISBLANK(Datenerfassung!C748),\"\",Datenerfassung!C748)","v":""},{"$f":"IF(ISBLANK(Datenerfassung!R748),\"\",Datenerfassung!R748)","v":""},{"$f":"IF(ISBLANK(Datenerfassung!S748),\"\",Datenerfassung!S748)","v":""},"",{"$f":"IF(ISBLANK(Datenerfassung!U748),\"\",Datenerfassung!U748)","v":""},{"$f":"IF(ISBLANK(Datenerfassung!O748),\"\",Datenerfassung!O748)","v":""},{"$f":"IF(ISBLANK(Datenerfassung!D748),IF(COUNTBLANK(A738:H738)+COUNTBLANK(J738:O738)=14,\"\",\"- ohne Titel -\"),Datenerfassung!D748)","v":""},{"$f":"IF(ISBLANK(Datenerfassung!G748),\"\",Datenerfassung!G748)","v":""},"",{"$f":"IF(ISBLANK(Datenerfassung!X748),\"\",Datenerfassung!X748)","v":""},{"$f":"IF(COUNTBLANK(Datenerfassung!H748:'Datenerfassung'!N748)=7,\"\",CONCATENATE( CONCATENATE(IF(ISBLANK(Datenerfassung!H748),\" \",Datenerfassung!H748 ),\" [IS]\"), CONCATENATE(IF(ISBLANK(Datenerfassung!I748),\" \",Datenerfassung!I748 ),\" [IS]\"), CONCATENATE(IF(ISBLANK(Datenerfassung!J748),\" \",Datenerfassung!J748 ),\" [IS]\"), CONCATENATE(IF(ISBLANK(Datenerfassung!K748),\" \",Datenerfassung!K748 ),\" [IS]\"), CONCATENATE(IF(ISBLANK(Datenerfassung!L748),\" \",Datenerfassung!L748 ),\" [IS]\"), CONCATENATE(IF(ISBLANK(Datenerfassung!M748),\" \",Datenerfassung!M748 ),\" [IS]\"), IF(ISBLANK(Datenerfassung!N748),\" \",Datenerfassung!N748 ) ))","v":""},{"$f":"IF(ISBLANK(Datenerfassung!V748),\"\",Datenerfassung!V748)","v":""},{"$f":"IF(ISBLANK(Datenerfassung!Q748),\"\",Datenerfassung!Q748)","v":""}]
[{"$f":"IF(ISBLANK(Datenerfassung!A749),\"\",Datenerfassung!A749)","v":""},{"$f":"IF(ISBLANK(Datenerfassung!B749),\"\",Datenerfassung!B749)","v":""},{"$f":"IF(ISBLANK(Datenerfassung!C749),\"\",Datenerfassung!C749)","v":""},{"$f":"IF(ISBLANK(Datenerfassung!R749),\"\",Datenerfassung!R749)","v":""},{"$f":"IF(ISBLANK(Datenerfassung!S749),\"\",Datenerfassung!S749)","v":""},"",{"$f":"IF(ISBLANK(Datenerfassung!U749),\"\",Datenerfassung!U749)","v":""},{"$f":"IF(ISBLANK(Datenerfassung!O749),\"\",Datenerfassung!O749)","v":""},{"$f":"IF(ISBLANK(Datenerfassung!D749),IF(COUNTBLANK(A739:H739)+COUNTBLANK(J739:O739)=14,\"\",\"- ohne Titel -\"),Datenerfassung!D749)","v":""},{"$f":"IF(ISBLANK(Datenerfassung!G749),\"\",Datenerfassung!G749)","v":""},"",{"$f":"IF(ISBLANK(Datenerfassung!X749),\"\",Datenerfassung!X749)","v":""},{"$f":"IF(COUNTBLANK(Datenerfassung!H749:'Datenerfassung'!N749)=7,\"\",CONCATENATE( CONCATENATE(IF(ISBLANK(Datenerfassung!H749),\" \",Datenerfassung!H749 ),\" [IS]\"), CONCATENATE(IF(ISBLANK(Datenerfassung!I749),\" \",Datenerfassung!I749 ),\" [IS]\"), CONCATENATE(IF(ISBLANK(Datenerfassung!J749),\" \",Datenerfassung!J749 ),\" [IS]\"), CONCATENATE(IF(ISBLANK(Datenerfassung!K749),\" \",Datenerfassung!K749 ),\" [IS]\"), CONCATENATE(IF(ISBLANK(Datenerfassung!L749),\" \",Datenerfassung!L749 ),\" [IS]\"), CONCATENATE(IF(ISBLANK(Datenerfassung!M749),\" \",Datenerfassung!M749 ),\" [IS]\"), IF(ISBLANK(Datenerfassung!N749),\" \",Datenerfassung!N749 ) ))","v":""},{"$f":"IF(ISBLANK(Datenerfassung!V749),\"\",Datenerfassung!V749)","v":""},{"$f":"IF(ISBLANK(Datenerfassung!Q749),\"\",Datenerfassung!Q749)","v":""}]
[{"$f":"IF(ISBLANK(Datenerfassung!A750),\"\",Datenerfassung!A750)","v":""},{"$f":"IF(ISBLANK(Datenerfassung!B750),\"\",Datenerfassung!B750)","v":""},{"$f":"IF(ISBLANK(Datenerfassung!C750),\"\",Datenerfassung!C750)","v":""},{"$f":"IF(ISBLANK(Datenerfassung!R750),\"\",Datenerfassung!R750)","v":""},{"$f":"IF(ISBLANK(Datenerfassung!S750),\"\",Datenerfassung!S750)","v":""},"",{"$f":"IF(ISBLANK(Datenerfassung!U750),\"\",Datenerfassung!U750)","v":""},{"$f":"IF(ISBLANK(Datenerfassung!O750),\"\",Datenerfassung!O750)","v":""},{"$f":"IF(ISBLANK(Datenerfassung!D750),IF(COUNTBLANK(A740:H740)+COUNTBLANK(J740:O740)=14,\"\",\"- ohne Titel -\"),Datenerfassung!D750)","v":""},{"$f":"IF(ISBLANK(Datenerfassung!G750),\"\",Datenerfassung!G750)","v":""},"",{"$f":"IF(ISBLANK(Datenerfassung!X750),\"\",Datenerfassung!X750)","v":""},{"$f":"IF(COUNTBLANK(Datenerfassung!H750:'Datenerfassung'!N750)=7,\"\",CONCATENATE( CONCATENATE(IF(ISBLANK(Datenerfassung!H750),\" \",Datenerfassung!H750 ),\" [IS]\"), CONCATENATE(IF(ISBLANK(Datenerfassung!I750),\" \",Datenerfassung!I750 ),\" [IS]\"), CONCATENATE(IF(ISBLANK(Datenerfassung!J750),\" \",Datenerfassung!J750 ),\" [IS]\"), CONCATENATE(IF(ISBLANK(Datenerfassung!K750),\" \",Datenerfassung!K750 ),\" [IS]\"), CONCATENATE(IF(ISBLANK(Datenerfassung!L750),\" \",Datenerfassung!L750 ),\" [IS]\"), CONCATENATE(IF(ISBLANK(Datenerfassung!M750),\" \",Datenerfassung!M750 ),\" [IS]\"), IF(ISBLANK(Datenerfassung!N750),\" \",Datenerfassung!N750 ) ))","v":""},{"$f":"IF(ISBLANK(Datenerfassung!V750),\"\",Datenerfassung!V750)","v":""},{"$f":"IF(ISBLANK(Datenerfassung!Q750),\"\",Datenerfassung!Q750)","v":""}]
[{"$f":"IF(ISBLANK(Datenerfassung!A751),\"\",Datenerfassung!A751)","v":""},{"$f":"IF(ISBLANK(Datenerfassung!B751),\"\",Datenerfassung!B751)","v":""},{"$f":"IF(ISBLANK(Datenerfassung!C751),\"\",Datenerfassung!C751)","v":""},{"$f":"IF(ISBLANK(Datenerfassung!R751),\"\",Datenerfassung!R751)","v":""},{"$f":"IF(ISBLANK(Datenerfassung!S751),\"\",Datenerfassung!S751)","v":""},"",{"$f":"IF(ISBLANK(Datenerfassung!U751),\"\",Datenerfassung!U751)","v":""},{"$f":"IF(ISBLANK(Datenerfassung!O751),\"\",Datenerfassung!O751)","v":""},{"$f":"IF(ISBLANK(Datenerfassung!D751),IF(COUNTBLANK(A741:H741)+COUNTBLANK(J741:O741)=14,\"\",\"- ohne Titel -\"),Datenerfassung!D751)","v":""},{"$f":"IF(ISBLANK(Datenerfassung!G751),\"\",Datenerfassung!G751)","v":""},"",{"$f":"IF(ISBLANK(Datenerfassung!X751),\"\",Datenerfassung!X751)","v":""},{"$f":"IF(COUNTBLANK(Datenerfassung!H751:'Datenerfassung'!N751)=7,\"\",CONCATENATE( CONCATENATE(IF(ISBLANK(Datenerfassung!H751),\" \",Datenerfassung!H751 ),\" [IS]\"), CONCATENATE(IF(ISBLANK(Datenerfassung!I751),\" \",Datenerfassung!I751 ),\" [IS]\"), CONCATENATE(IF(ISBLANK(Datenerfassung!J751),\" \",Datenerfassung!J751 ),\" [IS]\"), CONCATENATE(IF(ISBLANK(Datenerfassung!K751),\" \",Datenerfassung!K751 ),\" [IS]\"), CONCATENATE(IF(ISBLANK(Datenerfassung!L751),\" \",Datenerfassung!L751 ),\" [IS]\"), CONCATENATE(IF(ISBLANK(Datenerfassung!M751),\" \",Datenerfassung!M751 ),\" [IS]\"), IF(ISBLANK(Datenerfassung!N751),\" \",Datenerfassung!N751 ) ))","v":""},{"$f":"IF(ISBLANK(Datenerfassung!V751),\"\",Datenerfassung!V751)","v":""},{"$f":"IF(ISBLANK(Datenerfassung!Q751),\"\",Datenerfassung!Q751)","v":""}]
[{"$f":"IF(ISBLANK(Datenerfassung!A752),\"\",Datenerfassung!A752)","v":""},{"$f":"IF(ISBLANK(Datenerfassung!B752),\"\",Datenerfassung!B752)","v":""},{"$f":"IF(ISBLANK(Datenerfassung!C752),\"\",Datenerfassung!C752)","v":""},{"$f":"IF(ISBLANK(Datenerfassung!R752),\"\",Datenerfassung!R752)","v":""},{"$f":"IF(ISBLANK(Datenerfassung!S752),\"\",Datenerfassung!S752)","v":""},"",{"$f":"IF(ISBLANK(Datenerfassung!U752),\"\",Datenerfassung!U752)","v":""},{"$f":"IF(ISBLANK(Datenerfassung!O752),\"\",Datenerfassung!O752)","v":""},{"$f":"IF(ISBLANK(Datenerfassung!D752),IF(COUNTBLANK(A742:H742)+COUNTBLANK(J742:O742)=14,\"\",\"- ohne Titel -\"),Datenerfassung!D752)","v":""},{"$f":"IF(ISBLANK(Datenerfassung!G752),\"\",Datenerfassung!G752)","v":""},"",{"$f":"IF(ISBLANK(Datenerfassung!X752),\"\",Datenerfassung!X752)","v":""},{"$f":"IF(COUNTBLANK(Datenerfassung!H752:'Datenerfassung'!N752)=7,\"\",CONCATENATE( CONCATENATE(IF(ISBLANK(Datenerfassung!H752),\" \",Datenerfassung!H752 ),\" [IS]\"), CONCATENATE(IF(ISBLANK(Datenerfassung!I752),\" \",Datenerfassung!I752 ),\" [IS]\"), CONCATENATE(IF(ISBLANK(Datenerfassung!J752),\" \",Datenerfassung!J752 ),\" [IS]\"), CONCATENATE(IF(ISBLANK(Datenerfassung!K752),\" \",Datenerfassung!K752 ),\" [IS]\"), CONCATENATE(IF(ISBLANK(Datenerfassung!L752),\" \",Datenerfassung!L752 ),\" [IS]\"), CONCATENATE(IF(ISBLANK(Datenerfassung!M752),\" \",Datenerfassung!M752 ),\" [IS]\"), IF(ISBLANK(Datenerfassung!N752),\" \",Datenerfassung!N752 ) ))","v":""},{"$f":"IF(ISBLANK(Datenerfassung!V752),\"\",Datenerfassung!V752)","v":""},{"$f":"IF(ISBLANK(Datenerfassung!Q752),\"\",Datenerfassung!Q752)","v":""}]
[{"$f":"IF(ISBLANK(Datenerfassung!A753),\"\",Datenerfassung!A753)","v":""},{"$f":"IF(ISBLANK(Datenerfassung!B753),\"\",Datenerfassung!B753)","v":""},{"$f":"IF(ISBLANK(Datenerfassung!C753),\"\",Datenerfassung!C753)","v":""},{"$f":"IF(ISBLANK(Datenerfassung!R753),\"\",Datenerfassung!R753)","v":""},{"$f":"IF(ISBLANK(Datenerfassung!S753),\"\",Datenerfassung!S753)","v":""},"",{"$f":"IF(ISBLANK(Datenerfassung!U753),\"\",Datenerfassung!U753)","v":""},{"$f":"IF(ISBLANK(Datenerfassung!O753),\"\",Datenerfassung!O753)","v":""},{"$f":"IF(ISBLANK(Datenerfassung!D753),IF(COUNTBLANK(A743:H743)+COUNTBLANK(J743:O743)=14,\"\",\"- ohne Titel -\"),Datenerfassung!D753)","v":""},{"$f":"IF(ISBLANK(Datenerfassung!G753),\"\",Datenerfassung!G753)","v":""},"",{"$f":"IF(ISBLANK(Datenerfassung!X753),\"\",Datenerfassung!X753)","v":""},{"$f":"IF(COUNTBLANK(Datenerfassung!H753:'Datenerfassung'!N753)=7,\"\",CONCATENATE( CONCATENATE(IF(ISBLANK(Datenerfassung!H753),\" \",Datenerfassung!H753 ),\" [IS]\"), CONCATENATE(IF(ISBLANK(Datenerfassung!I753),\" \",Datenerfassung!I753 ),\" [IS]\"), CONCATENATE(IF(ISBLANK(Datenerfassung!J753),\" \",Datenerfassung!J753 ),\" [IS]\"), CONCATENATE(IF(ISBLANK(Datenerfassung!K753),\" \",Datenerfassung!K753 ),\" [IS]\"), CONCATENATE(IF(ISBLANK(Datenerfassung!L753),\" \",Datenerfassung!L753 ),\" [IS]\"), CONCATENATE(IF(ISBLANK(Datenerfassung!M753),\" \",Datenerfassung!M753 ),\" [IS]\"), IF(ISBLANK(Datenerfassung!N753),\" \",Datenerfassung!N753 ) ))","v":""},{"$f":"IF(ISBLANK(Datenerfassung!V753),\"\",Datenerfassung!V753)","v":""},{"$f":"IF(ISBLANK(Datenerfassung!Q753),\"\",Datenerfassung!Q753)","v":""}]
[{"$f":"IF(ISBLANK(Datenerfassung!A754),\"\",Datenerfassung!A754)","v":""},{"$f":"IF(ISBLANK(Datenerfassung!B754),\"\",Datenerfassung!B754)","v":""},{"$f":"IF(ISBLANK(Datenerfassung!C754),\"\",Datenerfassung!C754)","v":""},{"$f":"IF(ISBLANK(Datenerfassung!R754),\"\",Datenerfassung!R754)","v":""},{"$f":"IF(ISBLANK(Datenerfassung!S754),\"\",Datenerfassung!S754)","v":""},"",{"$f":"IF(ISBLANK(Datenerfassung!U754),\"\",Datenerfassung!U754)","v":""},{"$f":"IF(ISBLANK(Datenerfassung!O754),\"\",Datenerfassung!O754)","v":""},{"$f":"IF(ISBLANK(Datenerfassung!D754),IF(COUNTBLANK(A744:H744)+COUNTBLANK(J744:O744)=14,\"\",\"- ohne Titel -\"),Datenerfassung!D754)","v":""},{"$f":"IF(ISBLANK(Datenerfassung!G754),\"\",Datenerfassung!G754)","v":""},"",{"$f":"IF(ISBLANK(Datenerfassung!X754),\"\",Datenerfassung!X754)","v":""},{"$f":"IF(COUNTBLANK(Datenerfassung!H754:'Datenerfassung'!N754)=7,\"\",CONCATENATE( CONCATENATE(IF(ISBLANK(Datenerfassung!H754),\" \",Datenerfassung!H754 ),\" [IS]\"), CONCATENATE(IF(ISBLANK(Datenerfassung!I754),\" \",Datenerfassung!I754 ),\" [IS]\"), CONCATENATE(IF(ISBLANK(Datenerfassung!J754),\" \",Datenerfassung!J754 ),\" [IS]\"), CONCATENATE(IF(ISBLANK(Datenerfassung!K754),\" \",Datenerfassung!K754 ),\" [IS]\"), CONCATENATE(IF(ISBLANK(Datenerfassung!L754),\" \",Datenerfassung!L754 ),\" [IS]\"), CONCATENATE(IF(ISBLANK(Datenerfassung!M754),\" \",Datenerfassung!M754 ),\" [IS]\"), IF(ISBLANK(Datenerfassung!N754),\" \",Datenerfassung!N754 ) ))","v":""},{"$f":"IF(ISBLANK(Datenerfassung!V754),\"\",Datenerfassung!V754)","v":""},{"$f":"IF(ISBLANK(Datenerfassung!Q754),\"\",Datenerfassung!Q754)","v":""}]
[{"$f":"IF(ISBLANK(Datenerfassung!A755),\"\",Datenerfassung!A755)","v":""},{"$f":"IF(ISBLANK(Datenerfassung!B755),\"\",Datenerfassung!B755)","v":""},{"$f":"IF(ISBLANK(Datenerfassung!C755),\"\",Datenerfassung!C755)","v":""},{"$f":"IF(ISBLANK(Datenerfassung!R755),\"\",Datenerfassung!R755)","v":""},{"$f":"IF(ISBLANK(Datenerfassung!S755),\"\",Datenerfassung!S755)","v":""},"",{"$f":"IF(ISBLANK(Datenerfassung!U755),\"\",Datenerfassung!U755)","v":""},{"$f":"IF(ISBLANK(Datenerfassung!O755),\"\",Datenerfassung!O755)","v":""},{"$f":"IF(ISBLANK(Datenerfassung!D755),IF(COUNTBLANK(A745:H745)+COUNTBLANK(J745:O745)=14,\"\",\"- ohne Titel -\"),Datenerfassung!D755)","v":""},{"$f":"IF(ISBLANK(Datenerfassung!G755),\"\",Datenerfassung!G755)","v":""},"",{"$f":"IF(ISBLANK(Datenerfassung!X755),\"\",Datenerfassung!X755)","v":""},{"$f":"IF(COUNTBLANK(Datenerfassung!H755:'Datenerfassung'!N755)=7,\"\",CONCATENATE( CONCATENATE(IF(ISBLANK(Datenerfassung!H755),\" \",Datenerfassung!H755 ),\" [IS]\"), CONCATENATE(IF(ISBLANK(Datenerfassung!I755),\" \",Datenerfassung!I755 ),\" [IS]\"), CONCATENATE(IF(ISBLANK(Datenerfassung!J755),\" \",Datenerfassung!J755 ),\" [IS]\"), CONCATENATE(IF(ISBLANK(Datenerfassung!K755),\" \",Datenerfassung!K755 ),\" [IS]\"), CONCATENATE(IF(ISBLANK(Datenerfassung!L755),\" \",Datenerfassung!L755 ),\" [IS]\"), CONCATENATE(IF(ISBLANK(Datenerfassung!M755),\" \",Datenerfassung!M755 ),\" [IS]\"), IF(ISBLANK(Datenerfassung!N755),\" \",Datenerfassung!N755 ) ))","v":""},{"$f":"IF(ISBLANK(Datenerfassung!V755),\"\",Datenerfassung!V755)","v":""},{"$f":"IF(ISBLANK(Datenerfassung!Q755),\"\",Datenerfassung!Q755)","v":""}]
[{"$f":"IF(ISBLANK(Datenerfassung!A756),\"\",Datenerfassung!A756)","v":""},{"$f":"IF(ISBLANK(Datenerfassung!B756),\"\",Datenerfassung!B756)","v":""},{"$f":"IF(ISBLANK(Datenerfassung!C756),\"\",Datenerfassung!C756)","v":""},{"$f":"IF(ISBLANK(Datenerfassung!R756),\"\",Datenerfassung!R756)","v":""},{"$f":"IF(ISBLANK(Datenerfassung!S756),\"\",Datenerfassung!S756)","v":""},"",{"$f":"IF(ISBLANK(Datenerfassung!U756),\"\",Datenerfassung!U756)","v":""},{"$f":"IF(ISBLANK(Datenerfassung!O756),\"\",Datenerfassung!O756)","v":""},{"$f":"IF(ISBLANK(Datenerfassung!D756),IF(COUNTBLANK(A746:H746)+COUNTBLANK(J746:O746)=14,\"\",\"- ohne Titel -\"),Datenerfassung!D756)","v":""},{"$f":"IF(ISBLANK(Datenerfassung!G756),\"\",Datenerfassung!G756)","v":""},"",{"$f":"IF(ISBLANK(Datenerfassung!X756),\"\",Datenerfassung!X756)","v":""},{"$f":"IF(COUNTBLANK(Datenerfassung!H756:'Datenerfassung'!N756)=7,\"\",CONCATENATE( CONCATENATE(IF(ISBLANK(Datenerfassung!H756),\" \",Datenerfassung!H756 ),\" [IS]\"), CONCATENATE(IF(ISBLANK(Datenerfassung!I756),\" \",Datenerfassung!I756 ),\" [IS]\"), CONCATENATE(IF(ISBLANK(Datenerfassung!J756),\" \",Datenerfassung!J756 ),\" [IS]\"), CONCATENATE(IF(ISBLANK(Datenerfassung!K756),\" \",Datenerfassung!K756 ),\" [IS]\"), CONCATENATE(IF(ISBLANK(Datenerfassung!L756),\" \",Datenerfassung!L756 ),\" [IS]\"), CONCATENATE(IF(ISBLANK(Datenerfassung!M756),\" \",Datenerfassung!M756 ),\" [IS]\"), IF(ISBLANK(Datenerfassung!N756),\" \",Datenerfassung!N756 ) ))","v":""},{"$f":"IF(ISBLANK(Datenerfassung!V756),\"\",Datenerfassung!V756)","v":""},{"$f":"IF(ISBLANK(Datenerfassung!Q756),\"\",Datenerfassung!Q756)","v":""}]
[{"$f":"IF(ISBLANK(Datenerfassung!A757),\"\",Datenerfassung!A757)","v":""},{"$f":"IF(ISBLANK(Datenerfassung!B757),\"\",Datenerfassung!B757)","v":""},{"$f":"IF(ISBLANK(Datenerfassung!C757),\"\",Datenerfassung!C757)","v":""},{"$f":"IF(ISBLANK(Datenerfassung!R757),\"\",Datenerfassung!R757)","v":""},{"$f":"IF(ISBLANK(Datenerfassung!S757),\"\",Datenerfassung!S757)","v":""},"",{"$f":"IF(ISBLANK(Datenerfassung!U757),\"\",Datenerfassung!U757)","v":""},{"$f":"IF(ISBLANK(Datenerfassung!O757),\"\",Datenerfassung!O757)","v":""},{"$f":"IF(ISBLANK(Datenerfassung!D757),IF(COUNTBLANK(A747:H747)+COUNTBLANK(J747:O747)=14,\"\",\"- ohne Titel -\"),Datenerfassung!D757)","v":""},{"$f":"IF(ISBLANK(Datenerfassung!G757),\"\",Datenerfassung!G757)","v":""},"",{"$f":"IF(ISBLANK(Datenerfassung!X757),\"\",Datenerfassung!X757)","v":""},{"$f":"IF(COUNTBLANK(Datenerfassung!H757:'Datenerfassung'!N757)=7,\"\",CONCATENATE( CONCATENATE(IF(ISBLANK(Datenerfassung!H757),\" \",Datenerfassung!H757 ),\" [IS]\"), CONCATENATE(IF(ISBLANK(Datenerfassung!I757),\" \",Datenerfassung!I757 ),\" [IS]\"), CONCATENATE(IF(ISBLANK(Datenerfassung!J757),\" \",Datenerfassung!J757 ),\" [IS]\"), CONCATENATE(IF(ISBLANK(Datenerfassung!K757),\" \",Datenerfassung!K757 ),\" [IS]\"), CONCATENATE(IF(ISBLANK(Datenerfassung!L757),\" \",Datenerfassung!L757 ),\" [IS]\"), CONCATENATE(IF(ISBLANK(Datenerfassung!M757),\" \",Datenerfassung!M757 ),\" [IS]\"), IF(ISBLANK(Datenerfassung!N757),\" \",Datenerfassung!N757 ) ))","v":""},{"$f":"IF(ISBLANK(Datenerfassung!V757),\"\",Datenerfassung!V757)","v":""},{"$f":"IF(ISBLANK(Datenerfassung!Q757),\"\",Datenerfassung!Q757)","v":""}]
[{"$f":"IF(ISBLANK(Datenerfassung!A758),\"\",Datenerfassung!A758)","v":""},{"$f":"IF(ISBLANK(Datenerfassung!B758),\"\",Datenerfassung!B758)","v":""},{"$f":"IF(ISBLANK(Datenerfassung!C758),\"\",Datenerfassung!C758)","v":""},{"$f":"IF(ISBLANK(Datenerfassung!R758),\"\",Datenerfassung!R758)","v":""},{"$f":"IF(ISBLANK(Datenerfassung!S758),\"\",Datenerfassung!S758)","v":""},"",{"$f":"IF(ISBLANK(Datenerfassung!U758),\"\",Datenerfassung!U758)","v":""},{"$f":"IF(ISBLANK(Datenerfassung!O758),\"\",Datenerfassung!O758)","v":""},{"$f":"IF(ISBLANK(Datenerfassung!D758),IF(COUNTBLANK(A748:H748)+COUNTBLANK(J748:O748)=14,\"\",\"- ohne Titel -\"),Datenerfassung!D758)","v":""},{"$f":"IF(ISBLANK(Datenerfassung!G758),\"\",Datenerfassung!G758)","v":""},"",{"$f":"IF(ISBLANK(Datenerfassung!X758),\"\",Datenerfassung!X758)","v":""},{"$f":"IF(COUNTBLANK(Datenerfassung!H758:'Datenerfassung'!N758)=7,\"\",CONCATENATE( CONCATENATE(IF(ISBLANK(Datenerfassung!H758),\" \",Datenerfassung!H758 ),\" [IS]\"), CONCATENATE(IF(ISBLANK(Datenerfassung!I758),\" \",Datenerfassung!I758 ),\" [IS]\"), CONCATENATE(IF(ISBLANK(Datenerfassung!J758),\" \",Datenerfassung!J758 ),\" [IS]\"), CONCATENATE(IF(ISBLANK(Datenerfassung!K758),\" \",Datenerfassung!K758 ),\" [IS]\"), CONCATENATE(IF(ISBLANK(Datenerfassung!L758),\" \",Datenerfassung!L758 ),\" [IS]\"), CONCATENATE(IF(ISBLANK(Datenerfassung!M758),\" \",Datenerfassung!M758 ),\" [IS]\"), IF(ISBLANK(Datenerfassung!N758),\" \",Datenerfassung!N758 ) ))","v":""},{"$f":"IF(ISBLANK(Datenerfassung!V758),\"\",Datenerfassung!V758)","v":""},{"$f":"IF(ISBLANK(Datenerfassung!Q758),\"\",Datenerfassung!Q758)","v":""}]
[{"$f":"IF(ISBLANK(Datenerfassung!A759),\"\",Datenerfassung!A759)","v":""},{"$f":"IF(ISBLANK(Datenerfassung!B759),\"\",Datenerfassung!B759)","v":""},{"$f":"IF(ISBLANK(Datenerfassung!C759),\"\",Datenerfassung!C759)","v":""},{"$f":"IF(ISBLANK(Datenerfassung!R759),\"\",Datenerfassung!R759)","v":""},{"$f":"IF(ISBLANK(Datenerfassung!S759),\"\",Datenerfassung!S759)","v":""},"",{"$f":"IF(ISBLANK(Datenerfassung!U759),\"\",Datenerfassung!U759)","v":""},{"$f":"IF(ISBLANK(Datenerfassung!O759),\"\",Datenerfassung!O759)","v":""},{"$f":"IF(ISBLANK(Datenerfassung!D759),IF(COUNTBLANK(A749:H749)+COUNTBLANK(J749:O749)=14,\"\",\"- ohne Titel -\"),Datenerfassung!D759)","v":""},{"$f":"IF(ISBLANK(Datenerfassung!G759),\"\",Datenerfassung!G759)","v":""},"",{"$f":"IF(ISBLANK(Datenerfassung!X759),\"\",Datenerfassung!X759)","v":""},{"$f":"IF(COUNTBLANK(Datenerfassung!H759:'Datenerfassung'!N759)=7,\"\",CONCATENATE( CONCATENATE(IF(ISBLANK(Datenerfassung!H759),\" \",Datenerfassung!H759 ),\" [IS]\"), CONCATENATE(IF(ISBLANK(Datenerfassung!I759),\" \",Datenerfassung!I759 ),\" [IS]\"), CONCATENATE(IF(ISBLANK(Datenerfassung!J759),\" \",Datenerfassung!J759 ),\" [IS]\"), CONCATENATE(IF(ISBLANK(Datenerfassung!K759),\" \",Datenerfassung!K759 ),\" [IS]\"), CONCATENATE(IF(ISBLANK(Datenerfassung!L759),\" \",Datenerfassung!L759 ),\" [IS]\"), CONCATENATE(IF(ISBLANK(Datenerfassung!M759),\" \",Datenerfassung!M759 ),\" [IS]\"), IF(ISBLANK(Datenerfassung!N759),\" \",Datenerfassung!N759 ) ))","v":""},{"$f":"IF(ISBLANK(Datenerfassung!V759),\"\",Datenerfassung!V759)","v":""},{"$f":"IF(ISBLANK(Datenerfassung!Q759),\"\",Datenerfassung!Q759)","v":""}]
[{"$f":"IF(ISBLANK(Datenerfassung!A760),\"\",Datenerfassung!A760)","v":""},{"$f":"IF(ISBLANK(Datenerfassung!B760),\"\",Datenerfassung!B760)","v":""},{"$f":"IF(ISBLANK(Datenerfassung!C760),\"\",Datenerfassung!C760)","v":""},{"$f":"IF(ISBLANK(Datenerfassung!R760),\"\",Datenerfassung!R760)","v":""},{"$f":"IF(ISBLANK(Datenerfassung!S760),\"\",Datenerfassung!S760)","v":""},"",{"$f":"IF(ISBLANK(Datenerfassung!U760),\"\",Datenerfassung!U760)","v":""},{"$f":"IF(ISBLANK(Datenerfassung!O760),\"\",Datenerfassung!O760)","v":""},{"$f":"IF(ISBLANK(Datenerfassung!D760),IF(COUNTBLANK(A750:H750)+COUNTBLANK(J750:O750)=14,\"\",\"- ohne Titel -\"),Datenerfassung!D760)","v":""},{"$f":"IF(ISBLANK(Datenerfassung!G760),\"\",Datenerfassung!G760)","v":""},"",{"$f":"IF(ISBLANK(Datenerfassung!X760),\"\",Datenerfassung!X760)","v":""},{"$f":"IF(COUNTBLANK(Datenerfassung!H760:'Datenerfassung'!N760)=7,\"\",CONCATENATE( CONCATENATE(IF(ISBLANK(Datenerfassung!H760),\" \",Datenerfassung!H760 ),\" [IS]\"), CONCATENATE(IF(ISBLANK(Datenerfassung!I760),\" \",Datenerfassung!I760 ),\" [IS]\"), CONCATENATE(IF(ISBLANK(Datenerfassung!J760),\" \",Datenerfassung!J760 ),\" [IS]\"), CONCATENATE(IF(ISBLANK(Datenerfassung!K760),\" \",Datenerfassung!K760 ),\" [IS]\"), CONCATENATE(IF(ISBLANK(Datenerfassung!L760),\" \",Datenerfassung!L760 ),\" [IS]\"), CONCATENATE(IF(ISBLANK(Datenerfassung!M760),\" \",Datenerfassung!M760 ),\" [IS]\"), IF(ISBLANK(Datenerfassung!N760),\" \",Datenerfassung!N760 ) ))","v":""},{"$f":"IF(ISBLANK(Datenerfassung!V760),\"\",Datenerfassung!V760)","v":""},{"$f":"IF(ISBLANK(Datenerfassung!Q760),\"\",Datenerfassung!Q760)","v":""}]
[{"$f":"IF(ISBLANK(Datenerfassung!A761),\"\",Datenerfassung!A761)","v":""},{"$f":"IF(ISBLANK(Datenerfassung!B761),\"\",Datenerfassung!B761)","v":""},{"$f":"IF(ISBLANK(Datenerfassung!C761),\"\",Datenerfassung!C761)","v":""},{"$f":"IF(ISBLANK(Datenerfassung!R761),\"\",Datenerfassung!R761)","v":""},{"$f":"IF(ISBLANK(Datenerfassung!S761),\"\",Datenerfassung!S761)","v":""},"",{"$f":"IF(ISBLANK(Datenerfassung!U761),\"\",Datenerfassung!U761)","v":""},{"$f":"IF(ISBLANK(Datenerfassung!O761),\"\",Datenerfassung!O761)","v":""},{"$f":"IF(ISBLANK(Datenerfassung!D761),IF(COUNTBLANK(A751:H751)+COUNTBLANK(J751:O751)=14,\"\",\"- ohne Titel -\"),Datenerfassung!D761)","v":""},{"$f":"IF(ISBLANK(Datenerfassung!G761),\"\",Datenerfassung!G761)","v":""},"",{"$f":"IF(ISBLANK(Datenerfassung!X761),\"\",Datenerfassung!X761)","v":""},{"$f":"IF(COUNTBLANK(Datenerfassung!H761:'Datenerfassung'!N761)=7,\"\",CONCATENATE( CONCATENATE(IF(ISBLANK(Datenerfassung!H761),\" \",Datenerfassung!H761 ),\" [IS]\"), CONCATENATE(IF(ISBLANK(Datenerfassung!I761),\" \",Datenerfassung!I761 ),\" [IS]\"), CONCATENATE(IF(ISBLANK(Datenerfassung!J761),\" \",Datenerfassung!J761 ),\" [IS]\"), CONCATENATE(IF(ISBLANK(Datenerfassung!K761),\" \",Datenerfassung!K761 ),\" [IS]\"), CONCATENATE(IF(ISBLANK(Datenerfassung!L761),\" \",Datenerfassung!L761 ),\" [IS]\"), CONCATENATE(IF(ISBLANK(Datenerfassung!M761),\" \",Datenerfassung!M761 ),\" [IS]\"), IF(ISBLANK(Datenerfassung!N761),\" \",Datenerfassung!N761 ) ))","v":""},{"$f":"IF(ISBLANK(Datenerfassung!V761),\"\",Datenerfassung!V761)","v":""},{"$f":"IF(ISBLANK(Datenerfassung!Q761),\"\",Datenerfassung!Q761)","v":""}]
[{"$f":"IF(ISBLANK(Datenerfassung!A762),\"\",Datenerfassung!A762)","v":""},{"$f":"IF(ISBLANK(Datenerfassung!B762),\"\",Datenerfassung!B762)","v":""},{"$f":"IF(ISBLANK(Datenerfassung!C762),\"\",Datenerfassung!C762)","v":""},{"$f":"IF(ISBLANK(Datenerfassung!R762),\"\",Datenerfassung!R762)","v":""},{"$f":"IF(ISBLANK(Datenerfassung!S762),\"\",Datenerfassung!S762)","v":""},"",{"$f":"IF(ISBLANK(Datenerfassung!U762),\"\",Datenerfassung!U762)","v":""},{"$f":"IF(ISBLANK(Datenerfassung!O762),\"\",Datenerfassung!O762)","v":""},{"$f":"IF(ISBLANK(Datenerfassung!D762),IF(COUNTBLANK(A752:H752)+COUNTBLANK(J752:O752)=14,\"\",\"- ohne Titel -\"),Datenerfassung!D762)","v":""},{"$f":"IF(ISBLANK(Datenerfassung!G762),\"\",Datenerfassung!G762)","v":""},"",{"$f":"IF(ISBLANK(Datenerfassung!X762),\"\",Datenerfassung!X762)","v":""},{"$f":"IF(COUNTBLANK(Datenerfassung!H762:'Datenerfassung'!N762)=7,\"\",CONCATENATE( CONCATENATE(IF(ISBLANK(Datenerfassung!H762),\" \",Datenerfassung!H762 ),\" [IS]\"), CONCATENATE(IF(ISBLANK(Datenerfassung!I762),\" \",Datenerfassung!I762 ),\" [IS]\"), CONCATENATE(IF(ISBLANK(Datenerfassung!J762),\" \",Datenerfassung!J762 ),\" [IS]\"), CONCATENATE(IF(ISBLANK(Datenerfassung!K762),\" \",Datenerfassung!K762 ),\" [IS]\"), CONCATENATE(IF(ISBLANK(Datenerfassung!L762),\" \",Datenerfassung!L762 ),\" [IS]\"), CONCATENATE(IF(ISBLANK(Datenerfassung!M762),\" \",Datenerfassung!M762 ),\" [IS]\"), IF(ISBLANK(Datenerfassung!N762),\" \",Datenerfassung!N762 ) ))","v":""},{"$f":"IF(ISBLANK(Datenerfassung!V762),\"\",Datenerfassung!V762)","v":""},{"$f":"IF(ISBLANK(Datenerfassung!Q762),\"\",Datenerfassung!Q762)","v":""}]
[{"$f":"IF(ISBLANK(Datenerfassung!A763),\"\",Datenerfassung!A763)","v":""},{"$f":"IF(ISBLANK(Datenerfassung!B763),\"\",Datenerfassung!B763)","v":""},{"$f":"IF(ISBLANK(Datenerfassung!C763),\"\",Datenerfassung!C763)","v":""},{"$f":"IF(ISBLANK(Datenerfassung!R763),\"\",Datenerfassung!R763)","v":""},{"$f":"IF(ISBLANK(Datenerfassung!S763),\"\",Datenerfassung!S763)","v":""},"",{"$f":"IF(ISBLANK(Datenerfassung!U763),\"\",Datenerfassung!U763)","v":""},{"$f":"IF(ISBLANK(Datenerfassung!O763),\"\",Datenerfassung!O763)","v":""},{"$f":"IF(ISBLANK(Datenerfassung!D763),IF(COUNTBLANK(A753:H753)+COUNTBLANK(J753:O753)=14,\"\",\"- ohne Titel -\"),Datenerfassung!D763)","v":""},{"$f":"IF(ISBLANK(Datenerfassung!G763),\"\",Datenerfassung!G763)","v":""},"",{"$f":"IF(ISBLANK(Datenerfassung!X763),\"\",Datenerfassung!X763)","v":""},{"$f":"IF(COUNTBLANK(Datenerfassung!H763:'Datenerfassung'!N763)=7,\"\",CONCATENATE( CONCATENATE(IF(ISBLANK(Datenerfassung!H763),\" \",Datenerfassung!H763 ),\" [IS]\"), CONCATENATE(IF(ISBLANK(Datenerfassung!I763),\" \",Datenerfassung!I763 ),\" [IS]\"), CONCATENATE(IF(ISBLANK(Datenerfassung!J763),\" \",Datenerfassung!J763 ),\" [IS]\"), CONCATENATE(IF(ISBLANK(Datenerfassung!K763),\" \",Datenerfassung!K763 ),\" [IS]\"), CONCATENATE(IF(ISBLANK(Datenerfassung!L763),\" \",Datenerfassung!L763 ),\" [IS]\"), CONCATENATE(IF(ISBLANK(Datenerfassung!M763),\" \",Datenerfassung!M763 ),\" [IS]\"), IF(ISBLANK(Datenerfassung!N763),\" \",Datenerfassung!N763 ) ))","v":""},{"$f":"IF(ISBLANK(Datenerfassung!V763),\"\",Datenerfassung!V763)","v":""},{"$f":"IF(ISBLANK(Datenerfassung!Q763),\"\",Datenerfassung!Q763)","v":""}]
[{"$f":"IF(ISBLANK(Datenerfassung!A764),\"\",Datenerfassung!A764)","v":""},{"$f":"IF(ISBLANK(Datenerfassung!B764),\"\",Datenerfassung!B764)","v":""},{"$f":"IF(ISBLANK(Datenerfassung!C764),\"\",Datenerfassung!C764)","v":""},{"$f":"IF(ISBLANK(Datenerfassung!R764),\"\",Datenerfassung!R764)","v":""},{"$f":"IF(ISBLANK(Datenerfassung!S764),\"\",Datenerfassung!S764)","v":""},"",{"$f":"IF(ISBLANK(Datenerfassung!U764),\"\",Datenerfassung!U764)","v":""},{"$f":"IF(ISBLANK(Datenerfassung!O764),\"\",Datenerfassung!O764)","v":""},{"$f":"IF(ISBLANK(Datenerfassung!D764),IF(COUNTBLANK(A754:H754)+COUNTBLANK(J754:O754)=14,\"\",\"- ohne Titel -\"),Datenerfassung!D764)","v":""},{"$f":"IF(ISBLANK(Datenerfassung!G764),\"\",Datenerfassung!G764)","v":""},"",{"$f":"IF(ISBLANK(Datenerfassung!X764),\"\",Datenerfassung!X764)","v":""},{"$f":"IF(COUNTBLANK(Datenerfassung!H764:'Datenerfassung'!N764)=7,\"\",CONCATENATE( CONCATENATE(IF(ISBLANK(Datenerfassung!H764),\" \",Datenerfassung!H764 ),\" [IS]\"), CONCATENATE(IF(ISBLANK(Datenerfassung!I764),\" \",Datenerfassung!I764 ),\" [IS]\"), CONCATENATE(IF(ISBLANK(Datenerfassung!J764),\" \",Datenerfassung!J764 ),\" [IS]\"), CONCATENATE(IF(ISBLANK(Datenerfassung!K764),\" \",Datenerfassung!K764 ),\" [IS]\"), CONCATENATE(IF(ISBLANK(Datenerfassung!L764),\" \",Datenerfassung!L764 ),\" [IS]\"), CONCATENATE(IF(ISBLANK(Datenerfassung!M764),\" \",Datenerfassung!M764 ),\" [IS]\"), IF(ISBLANK(Datenerfassung!N764),\" \",Datenerfassung!N764 ) ))","v":""},{"$f":"IF(ISBLANK(Datenerfassung!V764),\"\",Datenerfassung!V764)","v":""},{"$f":"IF(ISBLANK(Datenerfassung!Q764),\"\",Datenerfassung!Q764)","v":""}]
[{"$f":"IF(ISBLANK(Datenerfassung!A765),\"\",Datenerfassung!A765)","v":""},{"$f":"IF(ISBLANK(Datenerfassung!B765),\"\",Datenerfassung!B765)","v":""},{"$f":"IF(ISBLANK(Datenerfassung!C765),\"\",Datenerfassung!C765)","v":""},{"$f":"IF(ISBLANK(Datenerfassung!R765),\"\",Datenerfassung!R765)","v":""},{"$f":"IF(ISBLANK(Datenerfassung!S765),\"\",Datenerfassung!S765)","v":""},"",{"$f":"IF(ISBLANK(Datenerfassung!U765),\"\",Datenerfassung!U765)","v":""},{"$f":"IF(ISBLANK(Datenerfassung!O765),\"\",Datenerfassung!O765)","v":""},{"$f":"IF(ISBLANK(Datenerfassung!D765),IF(COUNTBLANK(A755:H755)+COUNTBLANK(J755:O755)=14,\"\",\"- ohne Titel -\"),Datenerfassung!D765)","v":""},{"$f":"IF(ISBLANK(Datenerfassung!G765),\"\",Datenerfassung!G765)","v":""},"",{"$f":"IF(ISBLANK(Datenerfassung!X765),\"\",Datenerfassung!X765)","v":""},{"$f":"IF(COUNTBLANK(Datenerfassung!H765:'Datenerfassung'!N765)=7,\"\",CONCATENATE( CONCATENATE(IF(ISBLANK(Datenerfassung!H765),\" \",Datenerfassung!H765 ),\" [IS]\"), CONCATENATE(IF(ISBLANK(Datenerfassung!I765),\" \",Datenerfassung!I765 ),\" [IS]\"), CONCATENATE(IF(ISBLANK(Datenerfassung!J765),\" \",Datenerfassung!J765 ),\" [IS]\"), CONCATENATE(IF(ISBLANK(Datenerfassung!K765),\" \",Datenerfassung!K765 ),\" [IS]\"), CONCATENATE(IF(ISBLANK(Datenerfassung!L765),\" \",Datenerfassung!L765 ),\" [IS]\"), CONCATENATE(IF(ISBLANK(Datenerfassung!M765),\" \",Datenerfassung!M765 ),\" [IS]\"), IF(ISBLANK(Datenerfassung!N765),\" \",Datenerfassung!N765 ) ))","v":""},{"$f":"IF(ISBLANK(Datenerfassung!V765),\"\",Datenerfassung!V765)","v":""},{"$f":"IF(ISBLANK(Datenerfassung!Q765),\"\",Datenerfassung!Q765)","v":""}]
[{"$f":"IF(ISBLANK(Datenerfassung!A766),\"\",Datenerfassung!A766)","v":""},{"$f":"IF(ISBLANK(Datenerfassung!B766),\"\",Datenerfassung!B766)","v":""},{"$f":"IF(ISBLANK(Datenerfassung!C766),\"\",Datenerfassung!C766)","v":""},{"$f":"IF(ISBLANK(Datenerfassung!R766),\"\",Datenerfassung!R766)","v":""},{"$f":"IF(ISBLANK(Datenerfassung!S766),\"\",Datenerfassung!S766)","v":""},"",{"$f":"IF(ISBLANK(Datenerfassung!U766),\"\",Datenerfassung!U766)","v":""},{"$f":"IF(ISBLANK(Datenerfassung!O766),\"\",Datenerfassung!O766)","v":""},{"$f":"IF(ISBLANK(Datenerfassung!D766),IF(COUNTBLANK(A756:H756)+COUNTBLANK(J756:O756)=14,\"\",\"- ohne Titel -\"),Datenerfassung!D766)","v":""},{"$f":"IF(ISBLANK(Datenerfassung!G766),\"\",Datenerfassung!G766)","v":""},"",{"$f":"IF(ISBLANK(Datenerfassung!X766),\"\",Datenerfassung!X766)","v":""},{"$f":"IF(COUNTBLANK(Datenerfassung!H766:'Datenerfassung'!N766)=7,\"\",CONCATENATE( CONCATENATE(IF(ISBLANK(Datenerfassung!H766),\" \",Datenerfassung!H766 ),\" [IS]\"), CONCATENATE(IF(ISBLANK(Datenerfassung!I766),\" \",Datenerfassung!I766 ),\" [IS]\"), CONCATENATE(IF(ISBLANK(Datenerfassung!J766),\" \",Datenerfassung!J766 ),\" [IS]\"), CONCATENATE(IF(ISBLANK(Datenerfassung!K766),\" \",Datenerfassung!K766 ),\" [IS]\"), CONCATENATE(IF(ISBLANK(Datenerfassung!L766),\" \",Datenerfassung!L766 ),\" [IS]\"), CONCATENATE(IF(ISBLANK(Datenerfassung!M766),\" \",Datenerfassung!M766 ),\" [IS]\"), IF(ISBLANK(Datenerfassung!N766),\" \",Datenerfassung!N766 ) ))","v":""},{"$f":"IF(ISBLANK(Datenerfassung!V766),\"\",Datenerfassung!V766)","v":""},{"$f":"IF(ISBLANK(Datenerfassung!Q766),\"\",Datenerfassung!Q766)","v":""}]
[{"$f":"IF(ISBLANK(Datenerfassung!A767),\"\",Datenerfassung!A767)","v":""},{"$f":"IF(ISBLANK(Datenerfassung!B767),\"\",Datenerfassung!B767)","v":""},{"$f":"IF(ISBLANK(Datenerfassung!C767),\"\",Datenerfassung!C767)","v":""},{"$f":"IF(ISBLANK(Datenerfassung!R767),\"\",Datenerfassung!R767)","v":""},{"$f":"IF(ISBLANK(Datenerfassung!S767),\"\",Datenerfassung!S767)","v":""},"",{"$f":"IF(ISBLANK(Datenerfassung!U767),\"\",Datenerfassung!U767)","v":""},{"$f":"IF(ISBLANK(Datenerfassung!O767),\"\",Datenerfassung!O767)","v":""},{"$f":"IF(ISBLANK(Datenerfassung!D767),IF(COUNTBLANK(A757:H757)+COUNTBLANK(J757:O757)=14,\"\",\"- ohne Titel -\"),Datenerfassung!D767)","v":""},{"$f":"IF(ISBLANK(Datenerfassung!G767),\"\",Datenerfassung!G767)","v":""},"",{"$f":"IF(ISBLANK(Datenerfassung!X767),\"\",Datenerfassung!X767)","v":""},{"$f":"IF(COUNTBLANK(Datenerfassung!H767:'Datenerfassung'!N767)=7,\"\",CONCATENATE( CONCATENATE(IF(ISBLANK(Datenerfassung!H767),\" \",Datenerfassung!H767 ),\" [IS]\"), CONCATENATE(IF(ISBLANK(Datenerfassung!I767),\" \",Datenerfassung!I767 ),\" [IS]\"), CONCATENATE(IF(ISBLANK(Datenerfassung!J767),\" \",Datenerfassung!J767 ),\" [IS]\"), CONCATENATE(IF(ISBLANK(Datenerfassung!K767),\" \",Datenerfassung!K767 ),\" [IS]\"), CONCATENATE(IF(ISBLANK(Datenerfassung!L767),\" \",Datenerfassung!L767 ),\" [IS]\"), CONCATENATE(IF(ISBLANK(Datenerfassung!M767),\" \",Datenerfassung!M767 ),\" [IS]\"), IF(ISBLANK(Datenerfassung!N767),\" \",Datenerfassung!N767 ) ))","v":""},{"$f":"IF(ISBLANK(Datenerfassung!V767),\"\",Datenerfassung!V767)","v":""},{"$f":"IF(ISBLANK(Datenerfassung!Q767),\"\",Datenerfassung!Q767)","v":""}]
[{"$f":"IF(ISBLANK(Datenerfassung!A768),\"\",Datenerfassung!A768)","v":""},{"$f":"IF(ISBLANK(Datenerfassung!B768),\"\",Datenerfassung!B768)","v":""},{"$f":"IF(ISBLANK(Datenerfassung!C768),\"\",Datenerfassung!C768)","v":""},{"$f":"IF(ISBLANK(Datenerfassung!R768),\"\",Datenerfassung!R768)","v":""},{"$f":"IF(ISBLANK(Datenerfassung!S768),\"\",Datenerfassung!S768)","v":""},"",{"$f":"IF(ISBLANK(Datenerfassung!U768),\"\",Datenerfassung!U768)","v":""},{"$f":"IF(ISBLANK(Datenerfassung!O768),\"\",Datenerfassung!O768)","v":""},{"$f":"IF(ISBLANK(Datenerfassung!D768),IF(COUNTBLANK(A758:H758)+COUNTBLANK(J758:O758)=14,\"\",\"- ohne Titel -\"),Datenerfassung!D768)","v":""},{"$f":"IF(ISBLANK(Datenerfassung!G768),\"\",Datenerfassung!G768)","v":""},"",{"$f":"IF(ISBLANK(Datenerfassung!X768),\"\",Datenerfassung!X768)","v":""},{"$f":"IF(COUNTBLANK(Datenerfassung!H768:'Datenerfassung'!N768)=7,\"\",CONCATENATE( CONCATENATE(IF(ISBLANK(Datenerfassung!H768),\" \",Datenerfassung!H768 ),\" [IS]\"), CONCATENATE(IF(ISBLANK(Datenerfassung!I768),\" \",Datenerfassung!I768 ),\" [IS]\"), CONCATENATE(IF(ISBLANK(Datenerfassung!J768),\" \",Datenerfassung!J768 ),\" [IS]\"), CONCATENATE(IF(ISBLANK(Datenerfassung!K768),\" \",Datenerfassung!K768 ),\" [IS]\"), CONCATENATE(IF(ISBLANK(Datenerfassung!L768),\" \",Datenerfassung!L768 ),\" [IS]\"), CONCATENATE(IF(ISBLANK(Datenerfassung!M768),\" \",Datenerfassung!M768 ),\" [IS]\"), IF(ISBLANK(Datenerfassung!N768),\" \",Datenerfassung!N768 ) ))","v":""},{"$f":"IF(ISBLANK(Datenerfassung!V768),\"\",Datenerfassung!V768)","v":""},{"$f":"IF(ISBLANK(Datenerfassung!Q768),\"\",Datenerfassung!Q768)","v":""}]
[{"$f":"IF(ISBLANK(Datenerfassung!A769),\"\",Datenerfassung!A769)","v":""},{"$f":"IF(ISBLANK(Datenerfassung!B769),\"\",Datenerfassung!B769)","v":""},{"$f":"IF(ISBLANK(Datenerfassung!C769),\"\",Datenerfassung!C769)","v":""},{"$f":"IF(ISBLANK(Datenerfassung!R769),\"\",Datenerfassung!R769)","v":""},{"$f":"IF(ISBLANK(Datenerfassung!S769),\"\",Datenerfassung!S769)","v":""},"",{"$f":"IF(ISBLANK(Datenerfassung!U769),\"\",Datenerfassung!U769)","v":""},{"$f":"IF(ISBLANK(Datenerfassung!O769),\"\",Datenerfassung!O769)","v":""},{"$f":"IF(ISBLANK(Datenerfassung!D769),IF(COUNTBLANK(A759:H759)+COUNTBLANK(J759:O759)=14,\"\",\"- ohne Titel -\"),Datenerfassung!D769)","v":""},{"$f":"IF(ISBLANK(Datenerfassung!G769),\"\",Datenerfassung!G769)","v":""},"",{"$f":"IF(ISBLANK(Datenerfassung!X769),\"\",Datenerfassung!X769)","v":""},{"$f":"IF(COUNTBLANK(Datenerfassung!H769:'Datenerfassung'!N769)=7,\"\",CONCATENATE( CONCATENATE(IF(ISBLANK(Datenerfassung!H769),\" \",Datenerfassung!H769 ),\" [IS]\"), CONCATENATE(IF(ISBLANK(Datenerfassung!I769),\" \",Datenerfassung!I769 ),\" [IS]\"), CONCATENATE(IF(ISBLANK(Datenerfassung!J769),\" \",Datenerfassung!J769 ),\" [IS]\"), CONCATENATE(IF(ISBLANK(Datenerfassung!K769),\" \",Datenerfassung!K769 ),\" [IS]\"), CONCATENATE(IF(ISBLANK(Datenerfassung!L769),\" \",Datenerfassung!L769 ),\" [IS]\"), CONCATENATE(IF(ISBLANK(Datenerfassung!M769),\" \",Datenerfassung!M769 ),\" [IS]\"), IF(ISBLANK(Datenerfassung!N769),\" \",Datenerfassung!N769 ) ))","v":""},{"$f":"IF(ISBLANK(Datenerfassung!V769),\"\",Datenerfassung!V769)","v":""},{"$f":"IF(ISBLANK(Datenerfassung!Q769),\"\",Datenerfassung!Q769)","v":""}]
[{"$f":"IF(ISBLANK(Datenerfassung!A770),\"\",Datenerfassung!A770)","v":""},{"$f":"IF(ISBLANK(Datenerfassung!B770),\"\",Datenerfassung!B770)","v":""},{"$f":"IF(ISBLANK(Datenerfassung!C770),\"\",Datenerfassung!C770)","v":""},{"$f":"IF(ISBLANK(Datenerfassung!R770),\"\",Datenerfassung!R770)","v":""},{"$f":"IF(ISBLANK(Datenerfassung!S770),\"\",Datenerfassung!S770)","v":""},"",{"$f":"IF(ISBLANK(Datenerfassung!U770),\"\",Datenerfassung!U770)","v":""},{"$f":"IF(ISBLANK(Datenerfassung!O770),\"\",Datenerfassung!O770)","v":""},{"$f":"IF(ISBLANK(Datenerfassung!D770),IF(COUNTBLANK(A760:H760)+COUNTBLANK(J760:O760)=14,\"\",\"- ohne Titel -\"),Datenerfassung!D770)","v":""},{"$f":"IF(ISBLANK(Datenerfassung!G770),\"\",Datenerfassung!G770)","v":""},"",{"$f":"IF(ISBLANK(Datenerfassung!X770),\"\",Datenerfassung!X770)","v":""},{"$f":"IF(COUNTBLANK(Datenerfassung!H770:'Datenerfassung'!N770)=7,\"\",CONCATENATE( CONCATENATE(IF(ISBLANK(Datenerfassung!H770),\" \",Datenerfassung!H770 ),\" [IS]\"), CONCATENATE(IF(ISBLANK(Datenerfassung!I770),\" \",Datenerfassung!I770 ),\" [IS]\"), CONCATENATE(IF(ISBLANK(Datenerfassung!J770),\" \",Datenerfassung!J770 ),\" [IS]\"), CONCATENATE(IF(ISBLANK(Datenerfassung!K770),\" \",Datenerfassung!K770 ),\" [IS]\"), CONCATENATE(IF(ISBLANK(Datenerfassung!L770),\" \",Datenerfassung!L770 ),\" [IS]\"), CONCATENATE(IF(ISBLANK(Datenerfassung!M770),\" \",Datenerfassung!M770 ),\" [IS]\"), IF(ISBLANK(Datenerfassung!N770),\" \",Datenerfassung!N770 ) ))","v":""},{"$f":"IF(ISBLANK(Datenerfassung!V770),\"\",Datenerfassung!V770)","v":""},{"$f":"IF(ISBLANK(Datenerfassung!Q770),\"\",Datenerfassung!Q770)","v":""}]
[{"$f":"IF(ISBLANK(Datenerfassung!A771),\"\",Datenerfassung!A771)","v":""},{"$f":"IF(ISBLANK(Datenerfassung!B771),\"\",Datenerfassung!B771)","v":""},{"$f":"IF(ISBLANK(Datenerfassung!C771),\"\",Datenerfassung!C771)","v":""},{"$f":"IF(ISBLANK(Datenerfassung!R771),\"\",Datenerfassung!R771)","v":""},{"$f":"IF(ISBLANK(Datenerfassung!S771),\"\",Datenerfassung!S771)","v":""},"",{"$f":"IF(ISBLANK(Datenerfassung!U771),\"\",Datenerfassung!U771)","v":""},{"$f":"IF(ISBLANK(Datenerfassung!O771),\"\",Datenerfassung!O771)","v":""},{"$f":"IF(ISBLANK(Datenerfassung!D771),IF(COUNTBLANK(A761:H761)+COUNTBLANK(J761:O761)=14,\"\",\"- ohne Titel -\"),Datenerfassung!D771)","v":""},{"$f":"IF(ISBLANK(Datenerfassung!G771),\"\",Datenerfassung!G771)","v":""},"",{"$f":"IF(ISBLANK(Datenerfassung!X771),\"\",Datenerfassung!X771)","v":""},{"$f":"IF(COUNTBLANK(Datenerfassung!H771:'Datenerfassung'!N771)=7,\"\",CONCATENATE( CONCATENATE(IF(ISBLANK(Datenerfassung!H771),\" \",Datenerfassung!H771 ),\" [IS]\"), CONCATENATE(IF(ISBLANK(Datenerfassung!I771),\" \",Datenerfassung!I771 ),\" [IS]\"), CONCATENATE(IF(ISBLANK(Datenerfassung!J771),\" \",Datenerfassung!J771 ),\" [IS]\"), CONCATENATE(IF(ISBLANK(Datenerfassung!K771),\" \",Datenerfassung!K771 ),\" [IS]\"), CONCATENATE(IF(ISBLANK(Datenerfassung!L771),\" \",Datenerfassung!L771 ),\" [IS]\"), CONCATENATE(IF(ISBLANK(Datenerfassung!M771),\" \",Datenerfassung!M771 ),\" [IS]\"), IF(ISBLANK(Datenerfassung!N771),\" \",Datenerfassung!N771 ) ))","v":""},{"$f":"IF(ISBLANK(Datenerfassung!V771),\"\",Datenerfassung!V771)","v":""},{"$f":"IF(ISBLANK(Datenerfassung!Q771),\"\",Datenerfassung!Q771)","v":""}]
[{"$f":"IF(ISBLANK(Datenerfassung!A772),\"\",Datenerfassung!A772)","v":""},{"$f":"IF(ISBLANK(Datenerfassung!B772),\"\",Datenerfassung!B772)","v":""},{"$f":"IF(ISBLANK(Datenerfassung!C772),\"\",Datenerfassung!C772)","v":""},{"$f":"IF(ISBLANK(Datenerfassung!R772),\"\",Datenerfassung!R772)","v":""},{"$f":"IF(ISBLANK(Datenerfassung!S772),\"\",Datenerfassung!S772)","v":""},"",{"$f":"IF(ISBLANK(Datenerfassung!U772),\"\",Datenerfassung!U772)","v":""},{"$f":"IF(ISBLANK(Datenerfassung!O772),\"\",Datenerfassung!O772)","v":""},{"$f":"IF(ISBLANK(Datenerfassung!D772),IF(COUNTBLANK(A762:H762)+COUNTBLANK(J762:O762)=14,\"\",\"- ohne Titel -\"),Datenerfassung!D772)","v":""},{"$f":"IF(ISBLANK(Datenerfassung!G772),\"\",Datenerfassung!G772)","v":""},"",{"$f":"IF(ISBLANK(Datenerfassung!X772),\"\",Datenerfassung!X772)","v":""},{"$f":"IF(COUNTBLANK(Datenerfassung!H772:'Datenerfassung'!N772)=7,\"\",CONCATENATE( CONCATENATE(IF(ISBLANK(Datenerfassung!H772),\" \",Datenerfassung!H772 ),\" [IS]\"), CONCATENATE(IF(ISBLANK(Datenerfassung!I772),\" \",Datenerfassung!I772 ),\" [IS]\"), CONCATENATE(IF(ISBLANK(Datenerfassung!J772),\" \",Datenerfassung!J772 ),\" [IS]\"), CONCATENATE(IF(ISBLANK(Datenerfassung!K772),\" \",Datenerfassung!K772 ),\" [IS]\"), CONCATENATE(IF(ISBLANK(Datenerfassung!L772),\" \",Datenerfassung!L772 ),\" [IS]\"), CONCATENATE(IF(ISBLANK(Datenerfassung!M772),\" \",Datenerfassung!M772 ),\" [IS]\"), IF(ISBLANK(Datenerfassung!N772),\" \",Datenerfassung!N772 ) ))","v":""},{"$f":"IF(ISBLANK(Datenerfassung!V772),\"\",Datenerfassung!V772)","v":""},{"$f":"IF(ISBLANK(Datenerfassung!Q772),\"\",Datenerfassung!Q772)","v":""}]
[{"$f":"IF(ISBLANK(Datenerfassung!A773),\"\",Datenerfassung!A773)","v":""},{"$f":"IF(ISBLANK(Datenerfassung!B773),\"\",Datenerfassung!B773)","v":""},{"$f":"IF(ISBLANK(Datenerfassung!C773),\"\",Datenerfassung!C773)","v":""},{"$f":"IF(ISBLANK(Datenerfassung!R773),\"\",Datenerfassung!R773)","v":""},{"$f":"IF(ISBLANK(Datenerfassung!S773),\"\",Datenerfassung!S773)","v":""},"",{"$f":"IF(ISBLANK(Datenerfassung!U773),\"\",Datenerfassung!U773)","v":""},{"$f":"IF(ISBLANK(Datenerfassung!O773),\"\",Datenerfassung!O773)","v":""},{"$f":"IF(ISBLANK(Datenerfassung!D773),IF(COUNTBLANK(A763:H763)+COUNTBLANK(J763:O763)=14,\"\",\"- ohne Titel -\"),Datenerfassung!D773)","v":""},{"$f":"IF(ISBLANK(Datenerfassung!G773),\"\",Datenerfassung!G773)","v":""},"",{"$f":"IF(ISBLANK(Datenerfassung!X773),\"\",Datenerfassung!X773)","v":""},{"$f":"IF(COUNTBLANK(Datenerfassung!H773:'Datenerfassung'!N773)=7,\"\",CONCATENATE( CONCATENATE(IF(ISBLANK(Datenerfassung!H773),\" \",Datenerfassung!H773 ),\" [IS]\"), CONCATENATE(IF(ISBLANK(Datenerfassung!I773),\" \",Datenerfassung!I773 ),\" [IS]\"), CONCATENATE(IF(ISBLANK(Datenerfassung!J773),\" \",Datenerfassung!J773 ),\" [IS]\"), CONCATENATE(IF(ISBLANK(Datenerfassung!K773),\" \",Datenerfassung!K773 ),\" [IS]\"), CONCATENATE(IF(ISBLANK(Datenerfassung!L773),\" \",Datenerfassung!L773 ),\" [IS]\"), CONCATENATE(IF(ISBLANK(Datenerfassung!M773),\" \",Datenerfassung!M773 ),\" [IS]\"), IF(ISBLANK(Datenerfassung!N773),\" \",Datenerfassung!N773 ) ))","v":""},{"$f":"IF(ISBLANK(Datenerfassung!V773),\"\",Datenerfassung!V773)","v":""},{"$f":"IF(ISBLANK(Datenerfassung!Q773),\"\",Datenerfassung!Q773)","v":""}]
[{"$f":"IF(ISBLANK(Datenerfassung!A774),\"\",Datenerfassung!A774)","v":""},{"$f":"IF(ISBLANK(Datenerfassung!B774),\"\",Datenerfassung!B774)","v":""},{"$f":"IF(ISBLANK(Datenerfassung!C774),\"\",Datenerfassung!C774)","v":""},{"$f":"IF(ISBLANK(Datenerfassung!R774),\"\",Datenerfassung!R774)","v":""},{"$f":"IF(ISBLANK(Datenerfassung!S774),\"\",Datenerfassung!S774)","v":""},"",{"$f":"IF(ISBLANK(Datenerfassung!U774),\"\",Datenerfassung!U774)","v":""},{"$f":"IF(ISBLANK(Datenerfassung!O774),\"\",Datenerfassung!O774)","v":""},{"$f":"IF(ISBLANK(Datenerfassung!D774),IF(COUNTBLANK(A764:H764)+COUNTBLANK(J764:O764)=14,\"\",\"- ohne Titel -\"),Datenerfassung!D774)","v":""},{"$f":"IF(ISBLANK(Datenerfassung!G774),\"\",Datenerfassung!G774)","v":""},"",{"$f":"IF(ISBLANK(Datenerfassung!X774),\"\",Datenerfassung!X774)","v":""},{"$f":"IF(COUNTBLANK(Datenerfassung!H774:'Datenerfassung'!N774)=7,\"\",CONCATENATE( CONCATENATE(IF(ISBLANK(Datenerfassung!H774),\" \",Datenerfassung!H774 ),\" [IS]\"), CONCATENATE(IF(ISBLANK(Datenerfassung!I774),\" \",Datenerfassung!I774 ),\" [IS]\"), CONCATENATE(IF(ISBLANK(Datenerfassung!J774),\" \",Datenerfassung!J774 ),\" [IS]\"), CONCATENATE(IF(ISBLANK(Datenerfassung!K774),\" \",Datenerfassung!K774 ),\" [IS]\"), CONCATENATE(IF(ISBLANK(Datenerfassung!L774),\" \",Datenerfassung!L774 ),\" [IS]\"), CONCATENATE(IF(ISBLANK(Datenerfassung!M774),\" \",Datenerfassung!M774 ),\" [IS]\"), IF(ISBLANK(Datenerfassung!N774),\" \",Datenerfassung!N774 ) ))","v":""},{"$f":"IF(ISBLANK(Datenerfassung!V774),\"\",Datenerfassung!V774)","v":""},{"$f":"IF(ISBLANK(Datenerfassung!Q774),\"\",Datenerfassung!Q774)","v":""}]
[{"$f":"IF(ISBLANK(Datenerfassung!A775),\"\",Datenerfassung!A775)","v":""},{"$f":"IF(ISBLANK(Datenerfassung!B775),\"\",Datenerfassung!B775)","v":""},{"$f":"IF(ISBLANK(Datenerfassung!C775),\"\",Datenerfassung!C775)","v":""},{"$f":"IF(ISBLANK(Datenerfassung!R775),\"\",Datenerfassung!R775)","v":""},{"$f":"IF(ISBLANK(Datenerfassung!S775),\"\",Datenerfassung!S775)","v":""},"",{"$f":"IF(ISBLANK(Datenerfassung!U775),\"\",Datenerfassung!U775)","v":""},{"$f":"IF(ISBLANK(Datenerfassung!O775),\"\",Datenerfassung!O775)","v":""},{"$f":"IF(ISBLANK(Datenerfassung!D775),IF(COUNTBLANK(A765:H765)+COUNTBLANK(J765:O765)=14,\"\",\"- ohne Titel -\"),Datenerfassung!D775)","v":""},{"$f":"IF(ISBLANK(Datenerfassung!G775),\"\",Datenerfassung!G775)","v":""},"",{"$f":"IF(ISBLANK(Datenerfassung!X775),\"\",Datenerfassung!X775)","v":""},{"$f":"IF(COUNTBLANK(Datenerfassung!H775:'Datenerfassung'!N775)=7,\"\",CONCATENATE( CONCATENATE(IF(ISBLANK(Datenerfassung!H775),\" \",Datenerfassung!H775 ),\" [IS]\"), CONCATENATE(IF(ISBLANK(Datenerfassung!I775),\" \",Datenerfassung!I775 ),\" [IS]\"), CONCATENATE(IF(ISBLANK(Datenerfassung!J775),\" \",Datenerfassung!J775 ),\" [IS]\"), CONCATENATE(IF(ISBLANK(Datenerfassung!K775),\" \",Datenerfassung!K775 ),\" [IS]\"), CONCATENATE(IF(ISBLANK(Datenerfassung!L775),\" \",Datenerfassung!L775 ),\" [IS]\"), CONCATENATE(IF(ISBLANK(Datenerfassung!M775),\" \",Datenerfassung!M775 ),\" [IS]\"), IF(ISBLANK(Datenerfassung!N775),\" \",Datenerfassung!N775 ) ))","v":""},{"$f":"IF(ISBLANK(Datenerfassung!V775),\"\",Datenerfassung!V775)","v":""},{"$f":"IF(ISBLANK(Datenerfassung!Q775),\"\",Datenerfassung!Q775)","v":""}]
[{"$f":"IF(ISBLANK(Datenerfassung!A776),\"\",Datenerfassung!A776)","v":""},{"$f":"IF(ISBLANK(Datenerfassung!B776),\"\",Datenerfassung!B776)","v":""},{"$f":"IF(ISBLANK(Datenerfassung!C776),\"\",Datenerfassung!C776)","v":""},{"$f":"IF(ISBLANK(Datenerfassung!R776),\"\",Datenerfassung!R776)","v":""},{"$f":"IF(ISBLANK(Datenerfassung!S776),\"\",Datenerfassung!S776)","v":""},"",{"$f":"IF(ISBLANK(Datenerfassung!U776),\"\",Datenerfassung!U776)","v":""},{"$f":"IF(ISBLANK(Datenerfassung!O776),\"\",Datenerfassung!O776)","v":""},{"$f":"IF(ISBLANK(Datenerfassung!D776),IF(COUNTBLANK(A766:H766)+COUNTBLANK(J766:O766)=14,\"\",\"- ohne Titel -\"),Datenerfassung!D776)","v":""},{"$f":"IF(ISBLANK(Datenerfassung!G776),\"\",Datenerfassung!G776)","v":""},"",{"$f":"IF(ISBLANK(Datenerfassung!X776),\"\",Datenerfassung!X776)","v":""},{"$f":"IF(COUNTBLANK(Datenerfassung!H776:'Datenerfassung'!N776)=7,\"\",CONCATENATE( CONCATENATE(IF(ISBLANK(Datenerfassung!H776),\" \",Datenerfassung!H776 ),\" [IS]\"), CONCATENATE(IF(ISBLANK(Datenerfassung!I776),\" \",Datenerfassung!I776 ),\" [IS]\"), CONCATENATE(IF(ISBLANK(Datenerfassung!J776),\" \",Datenerfassung!J776 ),\" [IS]\"), CONCATENATE(IF(ISBLANK(Datenerfassung!K776),\" \",Datenerfassung!K776 ),\" [IS]\"), CONCATENATE(IF(ISBLANK(Datenerfassung!L776),\" \",Datenerfassung!L776 ),\" [IS]\"), CONCATENATE(IF(ISBLANK(Datenerfassung!M776),\" \",Datenerfassung!M776 ),\" [IS]\"), IF(ISBLANK(Datenerfassung!N776),\" \",Datenerfassung!N776 ) ))","v":""},{"$f":"IF(ISBLANK(Datenerfassung!V776),\"\",Datenerfassung!V776)","v":""},{"$f":"IF(ISBLANK(Datenerfassung!Q776),\"\",Datenerfassung!Q776)","v":""}]
[{"$f":"IF(ISBLANK(Datenerfassung!A777),\"\",Datenerfassung!A777)","v":""},{"$f":"IF(ISBLANK(Datenerfassung!B777),\"\",Datenerfassung!B777)","v":""},{"$f":"IF(ISBLANK(Datenerfassung!C777),\"\",Datenerfassung!C777)","v":""},{"$f":"IF(ISBLANK(Datenerfassung!R777),\"\",Datenerfassung!R777)","v":""},{"$f":"IF(ISBLANK(Datenerfassung!S777),\"\",Datenerfassung!S777)","v":""},"",{"$f":"IF(ISBLANK(Datenerfassung!U777),\"\",Datenerfassung!U777)","v":""},{"$f":"IF(ISBLANK(Datenerfassung!O777),\"\",Datenerfassung!O777)","v":""},{"$f":"IF(ISBLANK(Datenerfassung!D777),IF(COUNTBLANK(A767:H767)+COUNTBLANK(J767:O767)=14,\"\",\"- ohne Titel -\"),Datenerfassung!D777)","v":""},{"$f":"IF(ISBLANK(Datenerfassung!G777),\"\",Datenerfassung!G777)","v":""},"",{"$f":"IF(ISBLANK(Datenerfassung!X777),\"\",Datenerfassung!X777)","v":""},{"$f":"IF(COUNTBLANK(Datenerfassung!H777:'Datenerfassung'!N777)=7,\"\",CONCATENATE( CONCATENATE(IF(ISBLANK(Datenerfassung!H777),\" \",Datenerfassung!H777 ),\" [IS]\"), CONCATENATE(IF(ISBLANK(Datenerfassung!I777),\" \",Datenerfassung!I777 ),\" [IS]\"), CONCATENATE(IF(ISBLANK(Datenerfassung!J777),\" \",Datenerfassung!J777 ),\" [IS]\"), CONCATENATE(IF(ISBLANK(Datenerfassung!K777),\" \",Datenerfassung!K777 ),\" [IS]\"), CONCATENATE(IF(ISBLANK(Datenerfassung!L777),\" \",Datenerfassung!L777 ),\" [IS]\"), CONCATENATE(IF(ISBLANK(Datenerfassung!M777),\" \",Datenerfassung!M777 ),\" [IS]\"), IF(ISBLANK(Datenerfassung!N777),\" \",Datenerfassung!N777 ) ))","v":""},{"$f":"IF(ISBLANK(Datenerfassung!V777),\"\",Datenerfassung!V777)","v":""},{"$f":"IF(ISBLANK(Datenerfassung!Q777),\"\",Datenerfassung!Q777)","v":""}]
[{"$f":"IF(ISBLANK(Datenerfassung!A778),\"\",Datenerfassung!A778)","v":""},{"$f":"IF(ISBLANK(Datenerfassung!B778),\"\",Datenerfassung!B778)","v":""},{"$f":"IF(ISBLANK(Datenerfassung!C778),\"\",Datenerfassung!C778)","v":""},{"$f":"IF(ISBLANK(Datenerfassung!R778),\"\",Datenerfassung!R778)","v":""},{"$f":"IF(ISBLANK(Datenerfassung!S778),\"\",Datenerfassung!S778)","v":""},"",{"$f":"IF(ISBLANK(Datenerfassung!U778),\"\",Datenerfassung!U778)","v":""},{"$f":"IF(ISBLANK(Datenerfassung!O778),\"\",Datenerfassung!O778)","v":""},{"$f":"IF(ISBLANK(Datenerfassung!D778),IF(COUNTBLANK(A768:H768)+COUNTBLANK(J768:O768)=14,\"\",\"- ohne Titel -\"),Datenerfassung!D778)","v":""},{"$f":"IF(ISBLANK(Datenerfassung!G778),\"\",Datenerfassung!G778)","v":""},"",{"$f":"IF(ISBLANK(Datenerfassung!X778),\"\",Datenerfassung!X778)","v":""},{"$f":"IF(COUNTBLANK(Datenerfassung!H778:'Datenerfassung'!N778)=7,\"\",CONCATENATE( CONCATENATE(IF(ISBLANK(Datenerfassung!H778),\" \",Datenerfassung!H778 ),\" [IS]\"), CONCATENATE(IF(ISBLANK(Datenerfassung!I778),\" \",Datenerfassung!I778 ),\" [IS]\"), CONCATENATE(IF(ISBLANK(Datenerfassung!J778),\" \",Datenerfassung!J778 ),\" [IS]\"), CONCATENATE(IF(ISBLANK(Datenerfassung!K778),\" \",Datenerfassung!K778 ),\" [IS]\"), CONCATENATE(IF(ISBLANK(Datenerfassung!L778),\" \",Datenerfassung!L778 ),\" [IS]\"), CONCATENATE(IF(ISBLANK(Datenerfassung!M778),\" \",Datenerfassung!M778 ),\" [IS]\"), IF(ISBLANK(Datenerfassung!N778),\" \",Datenerfassung!N778 ) ))","v":""},{"$f":"IF(ISBLANK(Datenerfassung!V778),\"\",Datenerfassung!V778)","v":""},{"$f":"IF(ISBLANK(Datenerfassung!Q778),\"\",Datenerfassung!Q778)","v":""}]
[{"$f":"IF(ISBLANK(Datenerfassung!A779),\"\",Datenerfassung!A779)","v":""},{"$f":"IF(ISBLANK(Datenerfassung!B779),\"\",Datenerfassung!B779)","v":""},{"$f":"IF(ISBLANK(Datenerfassung!C779),\"\",Datenerfassung!C779)","v":""},{"$f":"IF(ISBLANK(Datenerfassung!R779),\"\",Datenerfassung!R779)","v":""},{"$f":"IF(ISBLANK(Datenerfassung!S779),\"\",Datenerfassung!S779)","v":""},"",{"$f":"IF(ISBLANK(Datenerfassung!U779),\"\",Datenerfassung!U779)","v":""},{"$f":"IF(ISBLANK(Datenerfassung!O779),\"\",Datenerfassung!O779)","v":""},{"$f":"IF(ISBLANK(Datenerfassung!D779),IF(COUNTBLANK(A769:H769)+COUNTBLANK(J769:O769)=14,\"\",\"- ohne Titel -\"),Datenerfassung!D779)","v":""},{"$f":"IF(ISBLANK(Datenerfassung!G779),\"\",Datenerfassung!G779)","v":""},"",{"$f":"IF(ISBLANK(Datenerfassung!X779),\"\",Datenerfassung!X779)","v":""},{"$f":"IF(COUNTBLANK(Datenerfassung!H779:'Datenerfassung'!N779)=7,\"\",CONCATENATE( CONCATENATE(IF(ISBLANK(Datenerfassung!H779),\" \",Datenerfassung!H779 ),\" [IS]\"), CONCATENATE(IF(ISBLANK(Datenerfassung!I779),\" \",Datenerfassung!I779 ),\" [IS]\"), CONCATENATE(IF(ISBLANK(Datenerfassung!J779),\" \",Datenerfassung!J779 ),\" [IS]\"), CONCATENATE(IF(ISBLANK(Datenerfassung!K779),\" \",Datenerfassung!K779 ),\" [IS]\"), CONCATENATE(IF(ISBLANK(Datenerfassung!L779),\" \",Datenerfassung!L779 ),\" [IS]\"), CONCATENATE(IF(ISBLANK(Datenerfassung!M779),\" \",Datenerfassung!M779 ),\" [IS]\"), IF(ISBLANK(Datenerfassung!N779),\" \",Datenerfassung!N779 ) ))","v":""},{"$f":"IF(ISBLANK(Datenerfassung!V779),\"\",Datenerfassung!V779)","v":""},{"$f":"IF(ISBLANK(Datenerfassung!Q779),\"\",Datenerfassung!Q779)","v":""}]
[{"$f":"IF(ISBLANK(Datenerfassung!A780),\"\",Datenerfassung!A780)","v":""},{"$f":"IF(ISBLANK(Datenerfassung!B780),\"\",Datenerfassung!B780)","v":""},{"$f":"IF(ISBLANK(Datenerfassung!C780),\"\",Datenerfassung!C780)","v":""},{"$f":"IF(ISBLANK(Datenerfassung!R780),\"\",Datenerfassung!R780)","v":""},{"$f":"IF(ISBLANK(Datenerfassung!S780),\"\",Datenerfassung!S780)","v":""},"",{"$f":"IF(ISBLANK(Datenerfassung!U780),\"\",Datenerfassung!U780)","v":""},{"$f":"IF(ISBLANK(Datenerfassung!O780),\"\",Datenerfassung!O780)","v":""},{"$f":"IF(ISBLANK(Datenerfassung!D780),IF(COUNTBLANK(A770:H770)+COUNTBLANK(J770:O770)=14,\"\",\"- ohne Titel -\"),Datenerfassung!D780)","v":""},{"$f":"IF(ISBLANK(Datenerfassung!G780),\"\",Datenerfassung!G780)","v":""},"",{"$f":"IF(ISBLANK(Datenerfassung!X780),\"\",Datenerfassung!X780)","v":""},{"$f":"IF(COUNTBLANK(Datenerfassung!H780:'Datenerfassung'!N780)=7,\"\",CONCATENATE( CONCATENATE(IF(ISBLANK(Datenerfassung!H780),\" \",Datenerfassung!H780 ),\" [IS]\"), CONCATENATE(IF(ISBLANK(Datenerfassung!I780),\" \",Datenerfassung!I780 ),\" [IS]\"), CONCATENATE(IF(ISBLANK(Datenerfassung!J780),\" \",Datenerfassung!J780 ),\" [IS]\"), CONCATENATE(IF(ISBLANK(Datenerfassung!K780),\" \",Datenerfassung!K780 ),\" [IS]\"), CONCATENATE(IF(ISBLANK(Datenerfassung!L780),\" \",Datenerfassung!L780 ),\" [IS]\"), CONCATENATE(IF(ISBLANK(Datenerfassung!M780),\" \",Datenerfassung!M780 ),\" [IS]\"), IF(ISBLANK(Datenerfassung!N780),\" \",Datenerfassung!N780 ) ))","v":""},{"$f":"IF(ISBLANK(Datenerfassung!V780),\"\",Datenerfassung!V780)","v":""},{"$f":"IF(ISBLANK(Datenerfassung!Q780),\"\",Datenerfassung!Q780)","v":""}]
[{"$f":"IF(ISBLANK(Datenerfassung!A781),\"\",Datenerfassung!A781)","v":""},{"$f":"IF(ISBLANK(Datenerfassung!B781),\"\",Datenerfassung!B781)","v":""},{"$f":"IF(ISBLANK(Datenerfassung!C781),\"\",Datenerfassung!C781)","v":""},{"$f":"IF(ISBLANK(Datenerfassung!R781),\"\",Datenerfassung!R781)","v":""},{"$f":"IF(ISBLANK(Datenerfassung!S781),\"\",Datenerfassung!S781)","v":""},{"$f":"IF(D771=\"\",\"\",IF(E771=\"\",D771,D771&\" - \"&E771))","v":""},{"$f":"IF(ISBLANK(Datenerfassung!U781),\"\",Datenerfassung!U781)","v":""},{"$f":"IF(ISBLANK(Datenerfassung!O781),\"\",Datenerfassung!O781)","v":""},{"$f":"IF(ISBLANK(Datenerfassung!D781),IF(COUNTBLANK(A771:H771)+COUNTBLANK(J771:O771)=14,\"\",\"- ohne Titel -\"),Datenerfassung!D781)","v":""},{"$f":"IF(ISBLANK(Datenerfassung!G781),\"\",Datenerfassung!G781)","v":""},{"$f":"IF(OR(E771=\"\",G771=\"\"),\"\",\"01.01.\"&RIGHT(E771,4)+G771+1)","v":""},{"$f":"IF(ISBLANK(Datenerfassung!X781),\"\",Datenerfassung!X781)","v":""},{"$f":"IF(COUNTBLANK(Datenerfassung!H781:'Datenerfassung'!N781)=7,\"\",CONCATENATE( CONCATENATE(IF(ISBLANK(Datenerfassung!H781),\" \",Datenerfassung!H781 ),\" [IS]\"), CONCATENATE(IF(ISBLANK(Datenerfassung!I781),\" \",Datenerfassung!I781 ),\" [IS]\"), CONCATENATE(IF(ISBLANK(Datenerfassung!J781),\" \",Datenerfassung!J781 ),\" [IS]\"), CONCATENATE(IF(ISBLANK(Datenerfassung!K781),\" \",Datenerfassung!K781 ),\" [IS]\"), CONCATENATE(IF(ISBLANK(Datenerfassung!L781),\" \",Datenerfassung!L781 ),\" [IS]\"), CONCATENATE(IF(ISBLANK(Datenerfassung!M781),\" \",Datenerfassung!M781 ),\" [IS]\"), IF(ISBLANK(Datenerfassung!N781),\" \",Datenerfassung!N781 ) ))","v":""},{"$f":"IF(ISBLANK(Datenerfassung!V781),\"\",Datenerfassung!V781)","v":""},{"$f":"IF(ISBLANK(Datenerfassung!Q781),\"\",Datenerfassung!Q781)","v":""}]
[{"$f":"IF(ISBLANK(Datenerfassung!A782),\"\",Datenerfassung!A782)","v":""},{"$f":"IF(ISBLANK(Datenerfassung!B782),\"\",Datenerfassung!B782)","v":""},{"$f":"IF(ISBLANK(Datenerfassung!C782),\"\",Datenerfassung!C782)","v":""},{"$f":"IF(ISBLANK(Datenerfassung!R782),\"\",Datenerfassung!R782)","v":""},{"$f":"IF(ISBLANK(Datenerfassung!S782),\"\",Datenerfassung!S782)","v":""},"",{"$f":"IF(ISBLANK(Datenerfassung!U782),\"\",Datenerfassung!U782)","v":""},{"$f":"IF(ISBLANK(Datenerfassung!O782),\"\",Datenerfassung!O782)","v":""},{"$f":"IF(ISBLANK(Datenerfassung!D782),IF(COUNTBLANK(A772:H772)+COUNTBLANK(J772:O772)=14,\"\",\"- ohne Titel -\"),Datenerfassung!D782)","v":""},{"$f":"IF(ISBLANK(Datenerfassung!G782),\"\",Datenerfassung!G782)","v":""},"",{"$f":"IF(ISBLANK(Datenerfassung!X782),\"\",Datenerfassung!X782)","v":""},{"$f":"IF(COUNTBLANK(Datenerfassung!H782:'Datenerfassung'!N782)=7,\"\",CONCATENATE( CONCATENATE(IF(ISBLANK(Datenerfassung!H782),\" \",Datenerfassung!H782 ),\" [IS]\"), CONCATENATE(IF(ISBLANK(Datenerfassung!I782),\" \",Datenerfassung!I782 ),\" [IS]\"), CONCATENATE(IF(ISBLANK(Datenerfassung!J782),\" \",Datenerfassung!J782 ),\" [IS]\"), CONCATENATE(IF(ISBLANK(Datenerfassung!K782),\" \",Datenerfassung!K782 ),\" [IS]\"), CONCATENATE(IF(ISBLANK(Datenerfassung!L782),\" \",Datenerfassung!L782 ),\" [IS]\"), CONCATENATE(IF(ISBLANK(Datenerfassung!M782),\" \",Datenerfassung!M782 ),\" [IS]\"), IF(ISBLANK(Datenerfassung!N782),\" \",Datenerfassung!N782 ) ))","v":""},{"$f":"IF(ISBLANK(Datenerfassung!V782),\"\",Datenerfassung!V782)","v":""},{"$f":"IF(ISBLANK(Datenerfassung!Q782),\"\",Datenerfassung!Q782)","v":""}]
[{"$f":"IF(ISBLANK(Datenerfassung!A783),\"\",Datenerfassung!A783)","v":""},{"$f":"IF(ISBLANK(Datenerfassung!B783),\"\",Datenerfassung!B783)","v":""},{"$f":"IF(ISBLANK(Datenerfassung!C783),\"\",Datenerfassung!C783)","v":""},{"$f":"IF(ISBLANK(Datenerfassung!R783),\"\",Datenerfassung!R783)","v":""},{"$f":"IF(ISBLANK(Datenerfassung!S783),\"\",Datenerfassung!S783)","v":""},"",{"$f":"IF(ISBLANK(Datenerfassung!U783),\"\",Datenerfassung!U783)","v":""},{"$f":"IF(ISBLANK(Datenerfassung!O783),\"\",Datenerfassung!O783)","v":""},{"$f":"IF(ISBLANK(Datenerfassung!D783),IF(COUNTBLANK(A773:H773)+COUNTBLANK(J773:O773)=14,\"\",\"- ohne Titel -\"),Datenerfassung!D783)","v":""},{"$f":"IF(ISBLANK(Datenerfassung!G783),\"\",Datenerfassung!G783)","v":""},"",{"$f":"IF(ISBLANK(Datenerfassung!X783),\"\",Datenerfassung!X783)","v":""},{"$f":"IF(COUNTBLANK(Datenerfassung!H783:'Datenerfassung'!N783)=7,\"\",CONCATENATE( CONCATENATE(IF(ISBLANK(Datenerfassung!H783),\" \",Datenerfassung!H783 ),\" [IS]\"), CONCATENATE(IF(ISBLANK(Datenerfassung!I783),\" \",Datenerfassung!I783 ),\" [IS]\"), CONCATENATE(IF(ISBLANK(Datenerfassung!J783),\" \",Datenerfassung!J783 ),\" [IS]\"), CONCATENATE(IF(ISBLANK(Datenerfassung!K783),\" \",Datenerfassung!K783 ),\" [IS]\"), CONCATENATE(IF(ISBLANK(Datenerfassung!L783),\" \",Datenerfassung!L783 ),\" [IS]\"), CONCATENATE(IF(ISBLANK(Datenerfassung!M783),\" \",Datenerfassung!M783 ),\" [IS]\"), IF(ISBLANK(Datenerfassung!N783),\" \",Datenerfassung!N783 ) ))","v":""},{"$f":"IF(ISBLANK(Datenerfassung!V783),\"\",Datenerfassung!V783)","v":""},{"$f":"IF(ISBLANK(Datenerfassung!Q783),\"\",Datenerfassung!Q783)","v":""}]
[{"$f":"IF(ISBLANK(Datenerfassung!A784),\"\",Datenerfassung!A784)","v":""},{"$f":"IF(ISBLANK(Datenerfassung!B784),\"\",Datenerfassung!B784)","v":""},{"$f":"IF(ISBLANK(Datenerfassung!C784),\"\",Datenerfassung!C784)","v":""},{"$f":"IF(ISBLANK(Datenerfassung!R784),\"\",Datenerfassung!R784)","v":""},{"$f":"IF(ISBLANK(Datenerfassung!S784),\"\",Datenerfassung!S784)","v":""},"",{"$f":"IF(ISBLANK(Datenerfassung!U784),\"\",Datenerfassung!U784)","v":""},{"$f":"IF(ISBLANK(Datenerfassung!O784),\"\",Datenerfassung!O784)","v":""},{"$f":"IF(ISBLANK(Datenerfassung!D784),IF(COUNTBLANK(A774:H774)+COUNTBLANK(J774:O774)=14,\"\",\"- ohne Titel -\"),Datenerfassung!D784)","v":""},{"$f":"IF(ISBLANK(Datenerfassung!G784),\"\",Datenerfassung!G784)","v":""},"",{"$f":"IF(ISBLANK(Datenerfassung!X784),\"\",Datenerfassung!X784)","v":""},{"$f":"IF(COUNTBLANK(Datenerfassung!H784:'Datenerfassung'!N784)=7,\"\",CONCATENATE( CONCATENATE(IF(ISBLANK(Datenerfassung!H784),\" \",Datenerfassung!H784 ),\" [IS]\"), CONCATENATE(IF(ISBLANK(Datenerfassung!I784),\" \",Datenerfassung!I784 ),\" [IS]\"), CONCATENATE(IF(ISBLANK(Datenerfassung!J784),\" \",Datenerfassung!J784 ),\" [IS]\"), CONCATENATE(IF(ISBLANK(Datenerfassung!K784),\" \",Datenerfassung!K784 ),\" [IS]\"), CONCATENATE(IF(ISBLANK(Datenerfassung!L784),\" \",Datenerfassung!L784 ),\" [IS]\"), CONCATENATE(IF(ISBLANK(Datenerfassung!M784),\" \",Datenerfassung!M784 ),\" [IS]\"), IF(ISBLANK(Datenerfassung!N784),\" \",Datenerfassung!N784 ) ))","v":""},{"$f":"IF(ISBLANK(Datenerfassung!V784),\"\",Datenerfassung!V784)","v":""},{"$f":"IF(ISBLANK(Datenerfassung!Q784),\"\",Datenerfassung!Q784)","v":""}]
[{"$f":"IF(ISBLANK(Datenerfassung!A785),\"\",Datenerfassung!A785)","v":""},{"$f":"IF(ISBLANK(Datenerfassung!B785),\"\",Datenerfassung!B785)","v":""},{"$f":"IF(ISBLANK(Datenerfassung!C785),\"\",Datenerfassung!C785)","v":""},{"$f":"IF(ISBLANK(Datenerfassung!R785),\"\",Datenerfassung!R785)","v":""},{"$f":"IF(ISBLANK(Datenerfassung!S785),\"\",Datenerfassung!S785)","v":""},"",{"$f":"IF(ISBLANK(Datenerfassung!U785),\"\",Datenerfassung!U785)","v":""},{"$f":"IF(ISBLANK(Datenerfassung!O785),\"\",Datenerfassung!O785)","v":""},{"$f":"IF(ISBLANK(Datenerfassung!D785),IF(COUNTBLANK(A775:H775)+COUNTBLANK(J775:O775)=14,\"\",\"- ohne Titel -\"),Datenerfassung!D785)","v":""},{"$f":"IF(ISBLANK(Datenerfassung!G785),\"\",Datenerfassung!G785)","v":""},"",{"$f":"IF(ISBLANK(Datenerfassung!X785),\"\",Datenerfassung!X785)","v":""},{"$f":"IF(COUNTBLANK(Datenerfassung!H785:'Datenerfassung'!N785)=7,\"\",CONCATENATE( CONCATENATE(IF(ISBLANK(Datenerfassung!H785),\" \",Datenerfassung!H785 ),\" [IS]\"), CONCATENATE(IF(ISBLANK(Datenerfassung!I785),\" \",Datenerfassung!I785 ),\" [IS]\"), CONCATENATE(IF(ISBLANK(Datenerfassung!J785),\" \",Datenerfassung!J785 ),\" [IS]\"), CONCATENATE(IF(ISBLANK(Datenerfassung!K785),\" \",Datenerfassung!K785 ),\" [IS]\"), CONCATENATE(IF(ISBLANK(Datenerfassung!L785),\" \",Datenerfassung!L785 ),\" [IS]\"), CONCATENATE(IF(ISBLANK(Datenerfassung!M785),\" \",Datenerfassung!M785 ),\" [IS]\"), IF(ISBLANK(Datenerfassung!N785),\" \",Datenerfassung!N785 ) ))","v":""},{"$f":"IF(ISBLANK(Datenerfassung!V785),\"\",Datenerfassung!V785)","v":""},{"$f":"IF(ISBLANK(Datenerfassung!Q785),\"\",Datenerfassung!Q785)","v":""}]
[{"$f":"IF(ISBLANK(Datenerfassung!A786),\"\",Datenerfassung!A786)","v":""},{"$f":"IF(ISBLANK(Datenerfassung!B786),\"\",Datenerfassung!B786)","v":""},{"$f":"IF(ISBLANK(Datenerfassung!C786),\"\",Datenerfassung!C786)","v":""},{"$f":"IF(ISBLANK(Datenerfassung!R786),\"\",Datenerfassung!R786)","v":""},{"$f":"IF(ISBLANK(Datenerfassung!S786),\"\",Datenerfassung!S786)","v":""},"",{"$f":"IF(ISBLANK(Datenerfassung!U786),\"\",Datenerfassung!U786)","v":""},{"$f":"IF(ISBLANK(Datenerfassung!O786),\"\",Datenerfassung!O786)","v":""},{"$f":"IF(ISBLANK(Datenerfassung!D786),IF(COUNTBLANK(A776:H776)+COUNTBLANK(J776:O776)=14,\"\",\"- ohne Titel -\"),Datenerfassung!D786)","v":""},{"$f":"IF(ISBLANK(Datenerfassung!G786),\"\",Datenerfassung!G786)","v":""},"",{"$f":"IF(ISBLANK(Datenerfassung!X786),\"\",Datenerfassung!X786)","v":""},{"$f":"IF(COUNTBLANK(Datenerfassung!H786:'Datenerfassung'!N786)=7,\"\",CONCATENATE( CONCATENATE(IF(ISBLANK(Datenerfassung!H786),\" \",Datenerfassung!H786 ),\" [IS]\"), CONCATENATE(IF(ISBLANK(Datenerfassung!I786),\" \",Datenerfassung!I786 ),\" [IS]\"), CONCATENATE(IF(ISBLANK(Datenerfassung!J786),\" \",Datenerfassung!J786 ),\" [IS]\"), CONCATENATE(IF(ISBLANK(Datenerfassung!K786),\" \",Datenerfassung!K786 ),\" [IS]\"), CONCATENATE(IF(ISBLANK(Datenerfassung!L786),\" \",Datenerfassung!L786 ),\" [IS]\"), CONCATENATE(IF(ISBLANK(Datenerfassung!M786),\" \",Datenerfassung!M786 ),\" [IS]\"), IF(ISBLANK(Datenerfassung!N786),\" \",Datenerfassung!N786 ) ))","v":""},{"$f":"IF(ISBLANK(Datenerfassung!V786),\"\",Datenerfassung!V786)","v":""},{"$f":"IF(ISBLANK(Datenerfassung!Q786),\"\",Datenerfassung!Q786)","v":""}]
[{"$f":"IF(ISBLANK(Datenerfassung!A787),\"\",Datenerfassung!A787)","v":""},{"$f":"IF(ISBLANK(Datenerfassung!B787),\"\",Datenerfassung!B787)","v":""},{"$f":"IF(ISBLANK(Datenerfassung!C787),\"\",Datenerfassung!C787)","v":""},{"$f":"IF(ISBLANK(Datenerfassung!R787),\"\",Datenerfassung!R787)","v":""},{"$f":"IF(ISBLANK(Datenerfassung!S787),\"\",Datenerfassung!S787)","v":""},"",{"$f":"IF(ISBLANK(Datenerfassung!U787),\"\",Datenerfassung!U787)","v":""},{"$f":"IF(ISBLANK(Datenerfassung!O787),\"\",Datenerfassung!O787)","v":""},{"$f":"IF(ISBLANK(Datenerfassung!D787),IF(COUNTBLANK(A777:H777)+COUNTBLANK(J777:O777)=14,\"\",\"- ohne Titel -\"),Datenerfassung!D787)","v":""},{"$f":"IF(ISBLANK(Datenerfassung!G787),\"\",Datenerfassung!G787)","v":""},"",{"$f":"IF(ISBLANK(Datenerfassung!X787),\"\",Datenerfassung!X787)","v":""},{"$f":"IF(COUNTBLANK(Datenerfassung!H787:'Datenerfassung'!N787)=7,\"\",CONCATENATE( CONCATENATE(IF(ISBLANK(Datenerfassung!H787),\" \",Datenerfassung!H787 ),\" [IS]\"), CONCATENATE(IF(ISBLANK(Datenerfassung!I787),\" \",Datenerfassung!I787 ),\" [IS]\"), CONCATENATE(IF(ISBLANK(Datenerfassung!J787),\" \",Datenerfassung!J787 ),\" [IS]\"), CONCATENATE(IF(ISBLANK(Datenerfassung!K787),\" \",Datenerfassung!K787 ),\" [IS]\"), CONCATENATE(IF(ISBLANK(Datenerfassung!L787),\" \",Datenerfassung!L787 ),\" [IS]\"), CONCATENATE(IF(ISBLANK(Datenerfassung!M787),\" \",Datenerfassung!M787 ),\" [IS]\"), IF(ISBLANK(Datenerfassung!N787),\" \",Datenerfassung!N787 ) ))","v":""},{"$f":"IF(ISBLANK(Datenerfassung!V787),\"\",Datenerfassung!V787)","v":""},{"$f":"IF(ISBLANK(Datenerfassung!Q787),\"\",Datenerfassung!Q787)","v":""}]
[{"$f":"IF(ISBLANK(Datenerfassung!A788),\"\",Datenerfassung!A788)","v":""},{"$f":"IF(ISBLANK(Datenerfassung!B788),\"\",Datenerfassung!B788)","v":""},{"$f":"IF(ISBLANK(Datenerfassung!C788),\"\",Datenerfassung!C788)","v":""},{"$f":"IF(ISBLANK(Datenerfassung!R788),\"\",Datenerfassung!R788)","v":""},{"$f":"IF(ISBLANK(Datenerfassung!S788),\"\",Datenerfassung!S788)","v":""},"",{"$f":"IF(ISBLANK(Datenerfassung!U788),\"\",Datenerfassung!U788)","v":""},{"$f":"IF(ISBLANK(Datenerfassung!O788),\"\",Datenerfassung!O788)","v":""},{"$f":"IF(ISBLANK(Datenerfassung!D788),IF(COUNTBLANK(A778:H778)+COUNTBLANK(J778:O778)=14,\"\",\"- ohne Titel -\"),Datenerfassung!D788)","v":""},{"$f":"IF(ISBLANK(Datenerfassung!G788),\"\",Datenerfassung!G788)","v":""},"",{"$f":"IF(ISBLANK(Datenerfassung!X788),\"\",Datenerfassung!X788)","v":""},{"$f":"IF(COUNTBLANK(Datenerfassung!H788:'Datenerfassung'!N788)=7,\"\",CONCATENATE( CONCATENATE(IF(ISBLANK(Datenerfassung!H788),\" \",Datenerfassung!H788 ),\" [IS]\"), CONCATENATE(IF(ISBLANK(Datenerfassung!I788),\" \",Datenerfassung!I788 ),\" [IS]\"), CONCATENATE(IF(ISBLANK(Datenerfassung!J788),\" \",Datenerfassung!J788 ),\" [IS]\"), CONCATENATE(IF(ISBLANK(Datenerfassung!K788),\" \",Datenerfassung!K788 ),\" [IS]\"), CONCATENATE(IF(ISBLANK(Datenerfassung!L788),\" \",Datenerfassung!L788 ),\" [IS]\"), CONCATENATE(IF(ISBLANK(Datenerfassung!M788),\" \",Datenerfassung!M788 ),\" [IS]\"), IF(ISBLANK(Datenerfassung!N788),\" \",Datenerfassung!N788 ) ))","v":""},{"$f":"IF(ISBLANK(Datenerfassung!V788),\"\",Datenerfassung!V788)","v":""},{"$f":"IF(ISBLANK(Datenerfassung!Q788),\"\",Datenerfassung!Q788)","v":""}]
[{"$f":"IF(ISBLANK(Datenerfassung!A789),\"\",Datenerfassung!A789)","v":""},{"$f":"IF(ISBLANK(Datenerfassung!B789),\"\",Datenerfassung!B789)","v":""},{"$f":"IF(ISBLANK(Datenerfassung!C789),\"\",Datenerfassung!C789)","v":""},{"$f":"IF(ISBLANK(Datenerfassung!R789),\"\",Datenerfassung!R789)","v":""},{"$f":"IF(ISBLANK(Datenerfassung!S789),\"\",Datenerfassung!S789)","v":""},"",{"$f":"IF(ISBLANK(Datenerfassung!U789),\"\",Datenerfassung!U789)","v":""},{"$f":"IF(ISBLANK(Datenerfassung!O789),\"\",Datenerfassung!O789)","v":""},{"$f":"IF(ISBLANK(Datenerfassung!D789),IF(COUNTBLANK(A779:H779)+COUNTBLANK(J779:O779)=14,\"\",\"- ohne Titel -\"),Datenerfassung!D789)","v":""},{"$f":"IF(ISBLANK(Datenerfassung!G789),\"\",Datenerfassung!G789)","v":""},"",{"$f":"IF(ISBLANK(Datenerfassung!X789),\"\",Datenerfassung!X789)","v":""},{"$f":"IF(COUNTBLANK(Datenerfassung!H789:'Datenerfassung'!N789)=7,\"\",CONCATENATE( CONCATENATE(IF(ISBLANK(Datenerfassung!H789),\" \",Datenerfassung!H789 ),\" [IS]\"), CONCATENATE(IF(ISBLANK(Datenerfassung!I789),\" \",Datenerfassung!I789 ),\" [IS]\"), CONCATENATE(IF(ISBLANK(Datenerfassung!J789),\" \",Datenerfassung!J789 ),\" [IS]\"), CONCATENATE(IF(ISBLANK(Datenerfassung!K789),\" \",Datenerfassung!K789 ),\" [IS]\"), CONCATENATE(IF(ISBLANK(Datenerfassung!L789),\" \",Datenerfassung!L789 ),\" [IS]\"), CONCATENATE(IF(ISBLANK(Datenerfassung!M789),\" \",Datenerfassung!M789 ),\" [IS]\"), IF(ISBLANK(Datenerfassung!N789),\" \",Datenerfassung!N789 ) ))","v":""},{"$f":"IF(ISBLANK(Datenerfassung!V789),\"\",Datenerfassung!V789)","v":""},{"$f":"IF(ISBLANK(Datenerfassung!Q789),\"\",Datenerfassung!Q789)","v":""}]
[{"$f":"IF(ISBLANK(Datenerfassung!A790),\"\",Datenerfassung!A790)","v":""},{"$f":"IF(ISBLANK(Datenerfassung!B790),\"\",Datenerfassung!B790)","v":""},{"$f":"IF(ISBLANK(Datenerfassung!C790),\"\",Datenerfassung!C790)","v":""},{"$f":"IF(ISBLANK(Datenerfassung!R790),\"\",Datenerfassung!R790)","v":""},{"$f":"IF(ISBLANK(Datenerfassung!S790),\"\",Datenerfassung!S790)","v":""},"",{"$f":"IF(ISBLANK(Datenerfassung!U790),\"\",Datenerfassung!U790)","v":""},{"$f":"IF(ISBLANK(Datenerfassung!O790),\"\",Datenerfassung!O790)","v":""},{"$f":"IF(ISBLANK(Datenerfassung!D790),IF(COUNTBLANK(A780:H780)+COUNTBLANK(J780:O780)=14,\"\",\"- ohne Titel -\"),Datenerfassung!D790)","v":""},{"$f":"IF(ISBLANK(Datenerfassung!G790),\"\",Datenerfassung!G790)","v":""},"",{"$f":"IF(ISBLANK(Datenerfassung!X790),\"\",Datenerfassung!X790)","v":""},{"$f":"IF(COUNTBLANK(Datenerfassung!H790:'Datenerfassung'!N790)=7,\"\",CONCATENATE( CONCATENATE(IF(ISBLANK(Datenerfassung!H790),\" \",Datenerfassung!H790 ),\" [IS]\"), CONCATENATE(IF(ISBLANK(Datenerfassung!I790),\" \",Datenerfassung!I790 ),\" [IS]\"), CONCATENATE(IF(ISBLANK(Datenerfassung!J790),\" \",Datenerfassung!J790 ),\" [IS]\"), CONCATENATE(IF(ISBLANK(Datenerfassung!K790),\" \",Datenerfassung!K790 ),\" [IS]\"), CONCATENATE(IF(ISBLANK(Datenerfassung!L790),\" \",Datenerfassung!L790 ),\" [IS]\"), CONCATENATE(IF(ISBLANK(Datenerfassung!M790),\" \",Datenerfassung!M790 ),\" [IS]\"), IF(ISBLANK(Datenerfassung!N790),\" \",Datenerfassung!N790 ) ))","v":""},{"$f":"IF(ISBLANK(Datenerfassung!V790),\"\",Datenerfassung!V790)","v":""},{"$f":"IF(ISBLANK(Datenerfassung!Q790),\"\",Datenerfassung!Q790)","v":""}]
[{"$f":"IF(ISBLANK(Datenerfassung!A791),\"\",Datenerfassung!A791)","v":""},{"$f":"IF(ISBLANK(Datenerfassung!B791),\"\",Datenerfassung!B791)","v":""},{"$f":"IF(ISBLANK(Datenerfassung!C791),\"\",Datenerfassung!C791)","v":""},{"$f":"IF(ISBLANK(Datenerfassung!R791),\"\",Datenerfassung!R791)","v":""},{"$f":"IF(ISBLANK(Datenerfassung!S791),\"\",Datenerfassung!S791)","v":""},"",{"$f":"IF(ISBLANK(Datenerfassung!U791),\"\",Datenerfassung!U791)","v":""},{"$f":"IF(ISBLANK(Datenerfassung!O791),\"\",Datenerfassung!O791)","v":""},{"$f":"IF(ISBLANK(Datenerfassung!D791),IF(COUNTBLANK(A781:H781)+COUNTBLANK(J781:O781)=14,\"\",\"- ohne Titel -\"),Datenerfassung!D791)","v":""},{"$f":"IF(ISBLANK(Datenerfassung!G791),\"\",Datenerfassung!G791)","v":""},"",{"$f":"IF(ISBLANK(Datenerfassung!X791),\"\",Datenerfassung!X791)","v":""},{"$f":"IF(COUNTBLANK(Datenerfassung!H791:'Datenerfassung'!N791)=7,\"\",CONCATENATE( CONCATENATE(IF(ISBLANK(Datenerfassung!H791),\" \",Datenerfassung!H791 ),\" [IS]\"), CONCATENATE(IF(ISBLANK(Datenerfassung!I791),\" \",Datenerfassung!I791 ),\" [IS]\"), CONCATENATE(IF(ISBLANK(Datenerfassung!J791),\" \",Datenerfassung!J791 ),\" [IS]\"), CONCATENATE(IF(ISBLANK(Datenerfassung!K791),\" \",Datenerfassung!K791 ),\" [IS]\"), CONCATENATE(IF(ISBLANK(Datenerfassung!L791),\" \",Datenerfassung!L791 ),\" [IS]\"), CONCATENATE(IF(ISBLANK(Datenerfassung!M791),\" \",Datenerfassung!M791 ),\" [IS]\"), IF(ISBLANK(Datenerfassung!N791),\" \",Datenerfassung!N791 ) ))","v":""},{"$f":"IF(ISBLANK(Datenerfassung!V791),\"\",Datenerfassung!V791)","v":""},{"$f":"IF(ISBLANK(Datenerfassung!Q791),\"\",Datenerfassung!Q791)","v":""}]
[{"$f":"IF(ISBLANK(Datenerfassung!A792),\"\",Datenerfassung!A792)","v":""},{"$f":"IF(ISBLANK(Datenerfassung!B792),\"\",Datenerfassung!B792)","v":""},{"$f":"IF(ISBLANK(Datenerfassung!C792),\"\",Datenerfassung!C792)","v":""},{"$f":"IF(ISBLANK(Datenerfassung!R792),\"\",Datenerfassung!R792)","v":""},{"$f":"IF(ISBLANK(Datenerfassung!S792),\"\",Datenerfassung!S792)","v":""},"",{"$f":"IF(ISBLANK(Datenerfassung!U792),\"\",Datenerfassung!U792)","v":""},{"$f":"IF(ISBLANK(Datenerfassung!O792),\"\",Datenerfassung!O792)","v":""},{"$f":"IF(ISBLANK(Datenerfassung!D792),IF(COUNTBLANK(A782:H782)+COUNTBLANK(J782:O782)=14,\"\",\"- ohne Titel -\"),Datenerfassung!D792)","v":""},{"$f":"IF(ISBLANK(Datenerfassung!G792),\"\",Datenerfassung!G792)","v":""},"",{"$f":"IF(ISBLANK(Datenerfassung!X792),\"\",Datenerfassung!X792)","v":""},{"$f":"IF(COUNTBLANK(Datenerfassung!H792:'Datenerfassung'!N792)=7,\"\",CONCATENATE( CONCATENATE(IF(ISBLANK(Datenerfassung!H792),\" \",Datenerfassung!H792 ),\" [IS]\"), CONCATENATE(IF(ISBLANK(Datenerfassung!I792),\" \",Datenerfassung!I792 ),\" [IS]\"), CONCATENATE(IF(ISBLANK(Datenerfassung!J792),\" \",Datenerfassung!J792 ),\" [IS]\"), CONCATENATE(IF(ISBLANK(Datenerfassung!K792),\" \",Datenerfassung!K792 ),\" [IS]\"), CONCATENATE(IF(ISBLANK(Datenerfassung!L792),\" \",Datenerfassung!L792 ),\" [IS]\"), CONCATENATE(IF(ISBLANK(Datenerfassung!M792),\" \",Datenerfassung!M792 ),\" [IS]\"), IF(ISBLANK(Datenerfassung!N792),\" \",Datenerfassung!N792 ) ))","v":""},{"$f":"IF(ISBLANK(Datenerfassung!V792),\"\",Datenerfassung!V792)","v":""},{"$f":"IF(ISBLANK(Datenerfassung!Q792),\"\",Datenerfassung!Q792)","v":""}]
[{"$f":"IF(ISBLANK(Datenerfassung!A793),\"\",Datenerfassung!A793)","v":""},{"$f":"IF(ISBLANK(Datenerfassung!B793),\"\",Datenerfassung!B793)","v":""},{"$f":"IF(ISBLANK(Datenerfassung!C793),\"\",Datenerfassung!C793)","v":""},{"$f":"IF(ISBLANK(Datenerfassung!R793),\"\",Datenerfassung!R793)","v":""},{"$f":"IF(ISBLANK(Datenerfassung!S793),\"\",Datenerfassung!S793)","v":""},"",{"$f":"IF(ISBLANK(Datenerfassung!U793),\"\",Datenerfassung!U793)","v":""},{"$f":"IF(ISBLANK(Datenerfassung!O793),\"\",Datenerfassung!O793)","v":""},{"$f":"IF(ISBLANK(Datenerfassung!D793),IF(COUNTBLANK(A783:H783)+COUNTBLANK(J783:O783)=14,\"\",\"- ohne Titel -\"),Datenerfassung!D793)","v":""},{"$f":"IF(ISBLANK(Datenerfassung!G793),\"\",Datenerfassung!G793)","v":""},"",{"$f":"IF(ISBLANK(Datenerfassung!X793),\"\",Datenerfassung!X793)","v":""},{"$f":"IF(COUNTBLANK(Datenerfassung!H793:'Datenerfassung'!N793)=7,\"\",CONCATENATE( CONCATENATE(IF(ISBLANK(Datenerfassung!H793),\" \",Datenerfassung!H793 ),\" [IS]\"), CONCATENATE(IF(ISBLANK(Datenerfassung!I793),\" \",Datenerfassung!I793 ),\" [IS]\"), CONCATENATE(IF(ISBLANK(Datenerfassung!J793),\" \",Datenerfassung!J793 ),\" [IS]\"), CONCATENATE(IF(ISBLANK(Datenerfassung!K793),\" \",Datenerfassung!K793 ),\" [IS]\"), CONCATENATE(IF(ISBLANK(Datenerfassung!L793),\" \",Datenerfassung!L793 ),\" [IS]\"), CONCATENATE(IF(ISBLANK(Datenerfassung!M793),\" \",Datenerfassung!M793 ),\" [IS]\"), IF(ISBLANK(Datenerfassung!N793),\" \",Datenerfassung!N793 ) ))","v":""},{"$f":"IF(ISBLANK(Datenerfassung!V793),\"\",Datenerfassung!V793)","v":""},{"$f":"IF(ISBLANK(Datenerfassung!Q793),\"\",Datenerfassung!Q793)","v":""}]
[{"$f":"IF(ISBLANK(Datenerfassung!A794),\"\",Datenerfassung!A794)","v":""},{"$f":"IF(ISBLANK(Datenerfassung!B794),\"\",Datenerfassung!B794)","v":""},{"$f":"IF(ISBLANK(Datenerfassung!C794),\"\",Datenerfassung!C794)","v":""},{"$f":"IF(ISBLANK(Datenerfassung!R794),\"\",Datenerfassung!R794)","v":""},{"$f":"IF(ISBLANK(Datenerfassung!S794),\"\",Datenerfassung!S794)","v":""},"",{"$f":"IF(ISBLANK(Datenerfassung!U794),\"\",Datenerfassung!U794)","v":""},{"$f":"IF(ISBLANK(Datenerfassung!O794),\"\",Datenerfassung!O794)","v":""},{"$f":"IF(ISBLANK(Datenerfassung!D794),IF(COUNTBLANK(A784:H784)+COUNTBLANK(J784:O784)=14,\"\",\"- ohne Titel -\"),Datenerfassung!D794)","v":""},{"$f":"IF(ISBLANK(Datenerfassung!G794),\"\",Datenerfassung!G794)","v":""},"",{"$f":"IF(ISBLANK(Datenerfassung!X794),\"\",Datenerfassung!X794)","v":""},{"$f":"IF(COUNTBLANK(Datenerfassung!H794:'Datenerfassung'!N794)=7,\"\",CONCATENATE( CONCATENATE(IF(ISBLANK(Datenerfassung!H794),\" \",Datenerfassung!H794 ),\" [IS]\"), CONCATENATE(IF(ISBLANK(Datenerfassung!I794),\" \",Datenerfassung!I794 ),\" [IS]\"), CONCATENATE(IF(ISBLANK(Datenerfassung!J794),\" \",Datenerfassung!J794 ),\" [IS]\"), CONCATENATE(IF(ISBLANK(Datenerfassung!K794),\" \",Datenerfassung!K794 ),\" [IS]\"), CONCATENATE(IF(ISBLANK(Datenerfassung!L794),\" \",Datenerfassung!L794 ),\" [IS]\"), CONCATENATE(IF(ISBLANK(Datenerfassung!M794),\" \",Datenerfassung!M794 ),\" [IS]\"), IF(ISBLANK(Datenerfassung!N794),\" \",Datenerfassung!N794 ) ))","v":""},{"$f":"IF(ISBLANK(Datenerfassung!V794),\"\",Datenerfassung!V794)","v":""},{"$f":"IF(ISBLANK(Datenerfassung!Q794),\"\",Datenerfassung!Q794)","v":""}]
[{"$f":"IF(ISBLANK(Datenerfassung!A795),\"\",Datenerfassung!A795)","v":""},{"$f":"IF(ISBLANK(Datenerfassung!B795),\"\",Datenerfassung!B795)","v":""},{"$f":"IF(ISBLANK(Datenerfassung!C795),\"\",Datenerfassung!C795)","v":""},{"$f":"IF(ISBLANK(Datenerfassung!R795),\"\",Datenerfassung!R795)","v":""},{"$f":"IF(ISBLANK(Datenerfassung!S795),\"\",Datenerfassung!S795)","v":""},"",{"$f":"IF(ISBLANK(Datenerfassung!U795),\"\",Datenerfassung!U795)","v":""},{"$f":"IF(ISBLANK(Datenerfassung!O795),\"\",Datenerfassung!O795)","v":""},{"$f":"IF(ISBLANK(Datenerfassung!D795),IF(COUNTBLANK(A785:H785)+COUNTBLANK(J785:O785)=14,\"\",\"- ohne Titel -\"),Datenerfassung!D795)","v":""},{"$f":"IF(ISBLANK(Datenerfassung!G795),\"\",Datenerfassung!G795)","v":""},"",{"$f":"IF(ISBLANK(Datenerfassung!X795),\"\",Datenerfassung!X795)","v":""},{"$f":"IF(COUNTBLANK(Datenerfassung!H795:'Datenerfassung'!N795)=7,\"\",CONCATENATE( CONCATENATE(IF(ISBLANK(Datenerfassung!H795),\" \",Datenerfassung!H795 ),\" [IS]\"), CONCATENATE(IF(ISBLANK(Datenerfassung!I795),\" \",Datenerfassung!I795 ),\" [IS]\"), CONCATENATE(IF(ISBLANK(Datenerfassung!J795),\" \",Datenerfassung!J795 ),\" [IS]\"), CONCATENATE(IF(ISBLANK(Datenerfassung!K795),\" \",Datenerfassung!K795 ),\" [IS]\"), CONCATENATE(IF(ISBLANK(Datenerfassung!L795),\" \",Datenerfassung!L795 ),\" [IS]\"), CONCATENATE(IF(ISBLANK(Datenerfassung!M795),\" \",Datenerfassung!M795 ),\" [IS]\"), IF(ISBLANK(Datenerfassung!N795),\" \",Datenerfassung!N795 ) ))","v":""},{"$f":"IF(ISBLANK(Datenerfassung!V795),\"\",Datenerfassung!V795)","v":""},{"$f":"IF(ISBLANK(Datenerfassung!Q795),\"\",Datenerfassung!Q795)","v":""}]
[{"$f":"IF(ISBLANK(Datenerfassung!A796),\"\",Datenerfassung!A796)","v":""},{"$f":"IF(ISBLANK(Datenerfassung!B796),\"\",Datenerfassung!B796)","v":""},{"$f":"IF(ISBLANK(Datenerfassung!C796),\"\",Datenerfassung!C796)","v":""},{"$f":"IF(ISBLANK(Datenerfassung!R796),\"\",Datenerfassung!R796)","v":""},{"$f":"IF(ISBLANK(Datenerfassung!S796),\"\",Datenerfassung!S796)","v":""},"",{"$f":"IF(ISBLANK(Datenerfassung!U796),\"\",Datenerfassung!U796)","v":""},{"$f":"IF(ISBLANK(Datenerfassung!O796),\"\",Datenerfassung!O796)","v":""},{"$f":"IF(ISBLANK(Datenerfassung!D796),IF(COUNTBLANK(A786:H786)+COUNTBLANK(J786:O786)=14,\"\",\"- ohne Titel -\"),Datenerfassung!D796)","v":""},{"$f":"IF(ISBLANK(Datenerfassung!G796),\"\",Datenerfassung!G796)","v":""},"",{"$f":"IF(ISBLANK(Datenerfassung!X796),\"\",Datenerfassung!X796)","v":""},{"$f":"IF(COUNTBLANK(Datenerfassung!H796:'Datenerfassung'!N796)=7,\"\",CONCATENATE( CONCATENATE(IF(ISBLANK(Datenerfassung!H796),\" \",Datenerfassung!H796 ),\" [IS]\"), CONCATENATE(IF(ISBLANK(Datenerfassung!I796),\" \",Datenerfassung!I796 ),\" [IS]\"), CONCATENATE(IF(ISBLANK(Datenerfassung!J796),\" \",Datenerfassung!J796 ),\" [IS]\"), CONCATENATE(IF(ISBLANK(Datenerfassung!K796),\" \",Datenerfassung!K796 ),\" [IS]\"), CONCATENATE(IF(ISBLANK(Datenerfassung!L796),\" \",Datenerfassung!L796 ),\" [IS]\"), CONCATENATE(IF(ISBLANK(Datenerfassung!M796),\" \",Datenerfassung!M796 ),\" [IS]\"), IF(ISBLANK(Datenerfassung!N796),\" \",Datenerfassung!N796 ) ))","v":""},{"$f":"IF(ISBLANK(Datenerfassung!V796),\"\",Datenerfassung!V796)","v":""},{"$f":"IF(ISBLANK(Datenerfassung!Q796),\"\",Datenerfassung!Q796)","v":""}]
[{"$f":"IF(ISBLANK(Datenerfassung!A797),\"\",Datenerfassung!A797)","v":""},{"$f":"IF(ISBLANK(Datenerfassung!B797),\"\",Datenerfassung!B797)","v":""},{"$f":"IF(ISBLANK(Datenerfassung!C797),\"\",Datenerfassung!C797)","v":""},{"$f":"IF(ISBLANK(Datenerfassung!R797),\"\",Datenerfassung!R797)","v":""},{"$f":"IF(ISBLANK(Datenerfassung!S797),\"\",Datenerfassung!S797)","v":""},"",{"$f":"IF(ISBLANK(Datenerfassung!U797),\"\",Datenerfassung!U797)","v":""},{"$f":"IF(ISBLANK(Datenerfassung!O797),\"\",Datenerfassung!O797)","v":""},{"$f":"IF(ISBLANK(Datenerfassung!D797),IF(COUNTBLANK(A787:H787)+COUNTBLANK(J787:O787)=14,\"\",\"- ohne Titel -\"),Datenerfassung!D797)","v":""},{"$f":"IF(ISBLANK(Datenerfassung!G797),\"\",Datenerfassung!G797)","v":""},"",{"$f":"IF(ISBLANK(Datenerfassung!X797),\"\",Datenerfassung!X797)","v":""},{"$f":"IF(COUNTBLANK(Datenerfassung!H797:'Datenerfassung'!N797)=7,\"\",CONCATENATE( CONCATENATE(IF(ISBLANK(Datenerfassung!H797),\" \",Datenerfassung!H797 ),\" [IS]\"), CONCATENATE(IF(ISBLANK(Datenerfassung!I797),\" \",Datenerfassung!I797 ),\" [IS]\"), CONCATENATE(IF(ISBLANK(Datenerfassung!J797),\" \",Datenerfassung!J797 ),\" [IS]\"), CONCATENATE(IF(ISBLANK(Datenerfassung!K797),\" \",Datenerfassung!K797 ),\" [IS]\"), CONCATENATE(IF(ISBLANK(Datenerfassung!L797),\" \",Datenerfassung!L797 ),\" [IS]\"), CONCATENATE(IF(ISBLANK(Datenerfassung!M797),\" \",Datenerfassung!M797 ),\" [IS]\"), IF(ISBLANK(Datenerfassung!N797),\" \",Datenerfassung!N797 ) ))","v":""},{"$f":"IF(ISBLANK(Datenerfassung!V797),\"\",Datenerfassung!V797)","v":""},{"$f":"IF(ISBLANK(Datenerfassung!Q797),\"\",Datenerfassung!Q797)","v":""}]
[{"$f":"IF(ISBLANK(Datenerfassung!A798),\"\",Datenerfassung!A798)","v":""},{"$f":"IF(ISBLANK(Datenerfassung!B798),\"\",Datenerfassung!B798)","v":""},{"$f":"IF(ISBLANK(Datenerfassung!C798),\"\",Datenerfassung!C798)","v":""},{"$f":"IF(ISBLANK(Datenerfassung!R798),\"\",Datenerfassung!R798)","v":""},{"$f":"IF(ISBLANK(Datenerfassung!S798),\"\",Datenerfassung!S798)","v":""},"",{"$f":"IF(ISBLANK(Datenerfassung!U798),\"\",Datenerfassung!U798)","v":""},{"$f":"IF(ISBLANK(Datenerfassung!O798),\"\",Datenerfassung!O798)","v":""},{"$f":"IF(ISBLANK(Datenerfassung!D798),IF(COUNTBLANK(A788:H788)+COUNTBLANK(J788:O788)=14,\"\",\"- ohne Titel -\"),Datenerfassung!D798)","v":""},{"$f":"IF(ISBLANK(Datenerfassung!G798),\"\",Datenerfassung!G798)","v":""},"",{"$f":"IF(ISBLANK(Datenerfassung!X798),\"\",Datenerfassung!X798)","v":""},{"$f":"IF(COUNTBLANK(Datenerfassung!H798:'Datenerfassung'!N798)=7,\"\",CONCATENATE( CONCATENATE(IF(ISBLANK(Datenerfassung!H798),\" \",Datenerfassung!H798 ),\" [IS]\"), CONCATENATE(IF(ISBLANK(Datenerfassung!I798),\" \",Datenerfassung!I798 ),\" [IS]\"), CONCATENATE(IF(ISBLANK(Datenerfassung!J798),\" \",Datenerfassung!J798 ),\" [IS]\"), CONCATENATE(IF(ISBLANK(Datenerfassung!K798),\" \",Datenerfassung!K798 ),\" [IS]\"), CONCATENATE(IF(ISBLANK(Datenerfassung!L798),\" \",Datenerfassung!L798 ),\" [IS]\"), CONCATENATE(IF(ISBLANK(Datenerfassung!M798),\" \",Datenerfassung!M798 ),\" [IS]\"), IF(ISBLANK(Datenerfassung!N798),\" \",Datenerfassung!N798 ) ))","v":""},{"$f":"IF(ISBLANK(Datenerfassung!V798),\"\",Datenerfassung!V798)","v":""},{"$f":"IF(ISBLANK(Datenerfassung!Q798),\"\",Datenerfassung!Q798)","v":""}]
[{"$f":"IF(ISBLANK(Datenerfassung!A799),\"\",Datenerfassung!A799)","v":""},{"$f":"IF(ISBLANK(Datenerfassung!B799),\"\",Datenerfassung!B799)","v":""},{"$f":"IF(ISBLANK(Datenerfassung!C799),\"\",Datenerfassung!C799)","v":""},{"$f":"IF(ISBLANK(Datenerfassung!R799),\"\",Datenerfassung!R799)","v":""},{"$f":"IF(ISBLANK(Datenerfassung!S799),\"\",Datenerfassung!S799)","v":""},"",{"$f":"IF(ISBLANK(Datenerfassung!U799),\"\",Datenerfassung!U799)","v":""},{"$f":"IF(ISBLANK(Datenerfassung!O799),\"\",Datenerfassung!O799)","v":""},{"$f":"IF(ISBLANK(Datenerfassung!D799),IF(COUNTBLANK(A789:H789)+COUNTBLANK(J789:O789)=14,\"\",\"- ohne Titel -\"),Datenerfassung!D799)","v":""},{"$f":"IF(ISBLANK(Datenerfassung!G799),\"\",Datenerfassung!G799)","v":""},"",{"$f":"IF(ISBLANK(Datenerfassung!X799),\"\",Datenerfassung!X799)","v":""},{"$f":"IF(COUNTBLANK(Datenerfassung!H799:'Datenerfassung'!N799)=7,\"\",CONCATENATE( CONCATENATE(IF(ISBLANK(Datenerfassung!H799),\" \",Datenerfassung!H799 ),\" [IS]\"), CONCATENATE(IF(ISBLANK(Datenerfassung!I799),\" \",Datenerfassung!I799 ),\" [IS]\"), CONCATENATE(IF(ISBLANK(Datenerfassung!J799),\" \",Datenerfassung!J799 ),\" [IS]\"), CONCATENATE(IF(ISBLANK(Datenerfassung!K799),\" \",Datenerfassung!K799 ),\" [IS]\"), CONCATENATE(IF(ISBLANK(Datenerfassung!L799),\" \",Datenerfassung!L799 ),\" [IS]\"), CONCATENATE(IF(ISBLANK(Datenerfassung!M799),\" \",Datenerfassung!M799 ),\" [IS]\"), IF(ISBLANK(Datenerfassung!N799),\" \",Datenerfassung!N799 ) ))","v":""},{"$f":"IF(ISBLANK(Datenerfassung!V799),\"\",Datenerfassung!V799)","v":""},{"$f":"IF(ISBLANK(Datenerfassung!Q799),\"\",Datenerfassung!Q799)","v":""}]
[{"$f":"IF(ISBLANK(Datenerfassung!A800),\"\",Datenerfassung!A800)","v":""},{"$f":"IF(ISBLANK(Datenerfassung!B800),\"\",Datenerfassung!B800)","v":""},{"$f":"IF(ISBLANK(Datenerfassung!C800),\"\",Datenerfassung!C800)","v":""},{"$f":"IF(ISBLANK(Datenerfassung!R800),\"\",Datenerfassung!R800)","v":""},{"$f":"IF(ISBLANK(Datenerfassung!S800),\"\",Datenerfassung!S800)","v":""},"",{"$f":"IF(ISBLANK(Datenerfassung!U800),\"\",Datenerfassung!U800)","v":""},{"$f":"IF(ISBLANK(Datenerfassung!O800),\"\",Datenerfassung!O800)","v":""},{"$f":"IF(ISBLANK(Datenerfassung!D800),IF(COUNTBLANK(A790:H790)+COUNTBLANK(J790:O790)=14,\"\",\"- ohne Titel -\"),Datenerfassung!D800)","v":""},{"$f":"IF(ISBLANK(Datenerfassung!G800),\"\",Datenerfassung!G800)","v":""},"",{"$f":"IF(ISBLANK(Datenerfassung!X800),\"\",Datenerfassung!X800)","v":""},{"$f":"IF(COUNTBLANK(Datenerfassung!H800:'Datenerfassung'!N800)=7,\"\",CONCATENATE( CONCATENATE(IF(ISBLANK(Datenerfassung!H800),\" \",Datenerfassung!H800 ),\" [IS]\"), CONCATENATE(IF(ISBLANK(Datenerfassung!I800),\" \",Datenerfassung!I800 ),\" [IS]\"), CONCATENATE(IF(ISBLANK(Datenerfassung!J800),\" \",Datenerfassung!J800 ),\" [IS]\"), CONCATENATE(IF(ISBLANK(Datenerfassung!K800),\" \",Datenerfassung!K800 ),\" [IS]\"), CONCATENATE(IF(ISBLANK(Datenerfassung!L800),\" \",Datenerfassung!L800 ),\" [IS]\"), CONCATENATE(IF(ISBLANK(Datenerfassung!M800),\" \",Datenerfassung!M800 ),\" [IS]\"), IF(ISBLANK(Datenerfassung!N800),\" \",Datenerfassung!N800 ) ))","v":""},{"$f":"IF(ISBLANK(Datenerfassung!V800),\"\",Datenerfassung!V800)","v":""},{"$f":"IF(ISBLANK(Datenerfassung!Q800),\"\",Datenerfassung!Q800)","v":""}]
[{"$f":"IF(ISBLANK(Datenerfassung!A801),\"\",Datenerfassung!A801)","v":""},{"$f":"IF(ISBLANK(Datenerfassung!B801),\"\",Datenerfassung!B801)","v":""},{"$f":"IF(ISBLANK(Datenerfassung!C801),\"\",Datenerfassung!C801)","v":""},{"$f":"IF(ISBLANK(Datenerfassung!R801),\"\",Datenerfassung!R801)","v":""},{"$f":"IF(ISBLANK(Datenerfassung!S801),\"\",Datenerfassung!S801)","v":""},"",{"$f":"IF(ISBLANK(Datenerfassung!U801),\"\",Datenerfassung!U801)","v":""},{"$f":"IF(ISBLANK(Datenerfassung!O801),\"\",Datenerfassung!O801)","v":""},{"$f":"IF(ISBLANK(Datenerfassung!D801),IF(COUNTBLANK(A791:H791)+COUNTBLANK(J791:O791)=14,\"\",\"- ohne Titel -\"),Datenerfassung!D801)","v":""},{"$f":"IF(ISBLANK(Datenerfassung!G801),\"\",Datenerfassung!G801)","v":""},"",{"$f":"IF(ISBLANK(Datenerfassung!X801),\"\",Datenerfassung!X801)","v":""},{"$f":"IF(COUNTBLANK(Datenerfassung!H801:'Datenerfassung'!N801)=7,\"\",CONCATENATE( CONCATENATE(IF(ISBLANK(Datenerfassung!H801),\" \",Datenerfassung!H801 ),\" [IS]\"), CONCATENATE(IF(ISBLANK(Datenerfassung!I801),\" \",Datenerfassung!I801 ),\" [IS]\"), CONCATENATE(IF(ISBLANK(Datenerfassung!J801),\" \",Datenerfassung!J801 ),\" [IS]\"), CONCATENATE(IF(ISBLANK(Datenerfassung!K801),\" \",Datenerfassung!K801 ),\" [IS]\"), CONCATENATE(IF(ISBLANK(Datenerfassung!L801),\" \",Datenerfassung!L801 ),\" [IS]\"), CONCATENATE(IF(ISBLANK(Datenerfassung!M801),\" \",Datenerfassung!M801 ),\" [IS]\"), IF(ISBLANK(Datenerfassung!N801),\" \",Datenerfassung!N801 ) ))","v":""},{"$f":"IF(ISBLANK(Datenerfassung!V801),\"\",Datenerfassung!V801)","v":""},{"$f":"IF(ISBLANK(Datenerfassung!Q801),\"\",Datenerfassung!Q801)","v":""}]
[{"$f":"IF(ISBLANK(Datenerfassung!A802),\"\",Datenerfassung!A802)","v":""},{"$f":"IF(ISBLANK(Datenerfassung!B802),\"\",Datenerfassung!B802)","v":""},{"$f":"IF(ISBLANK(Datenerfassung!C802),\"\",Datenerfassung!C802)","v":""},{"$f":"IF(ISBLANK(Datenerfassung!R802),\"\",Datenerfassung!R802)","v":""},{"$f":"IF(ISBLANK(Datenerfassung!S802),\"\",Datenerfassung!S802)","v":""},"",{"$f":"IF(ISBLANK(Datenerfassung!U802),\"\",Datenerfassung!U802)","v":""},{"$f":"IF(ISBLANK(Datenerfassung!O802),\"\",Datenerfassung!O802)","v":""},{"$f":"IF(ISBLANK(Datenerfassung!D802),IF(COUNTBLANK(A792:H792)+COUNTBLANK(J792:O792)=14,\"\",\"- ohne Titel -\"),Datenerfassung!D802)","v":""},{"$f":"IF(ISBLANK(Datenerfassung!G802),\"\",Datenerfassung!G802)","v":""},"",{"$f":"IF(ISBLANK(Datenerfassung!X802),\"\",Datenerfassung!X802)","v":""},{"$f":"IF(COUNTBLANK(Datenerfassung!H802:'Datenerfassung'!N802)=7,\"\",CONCATENATE( CONCATENATE(IF(ISBLANK(Datenerfassung!H802),\" \",Datenerfassung!H802 ),\" [IS]\"), CONCATENATE(IF(ISBLANK(Datenerfassung!I802),\" \",Datenerfassung!I802 ),\" [IS]\"), CONCATENATE(IF(ISBLANK(Datenerfassung!J802),\" \",Datenerfassung!J802 ),\" [IS]\"), CONCATENATE(IF(ISBLANK(Datenerfassung!K802),\" \",Datenerfassung!K802 ),\" [IS]\"), CONCATENATE(IF(ISBLANK(Datenerfassung!L802),\" \",Datenerfassung!L802 ),\" [IS]\"), CONCATENATE(IF(ISBLANK(Datenerfassung!M802),\" \",Datenerfassung!M802 ),\" [IS]\"), IF(ISBLANK(Datenerfassung!N802),\" \",Datenerfassung!N802 ) ))","v":""},{"$f":"IF(ISBLANK(Datenerfassung!V802),\"\",Datenerfassung!V802)","v":""},{"$f":"IF(ISBLANK(Datenerfassung!Q802),\"\",Datenerfassung!Q802)","v":""}]
[{"$f":"IF(ISBLANK(Datenerfassung!A803),\"\",Datenerfassung!A803)","v":""},{"$f":"IF(ISBLANK(Datenerfassung!B803),\"\",Datenerfassung!B803)","v":""},{"$f":"IF(ISBLANK(Datenerfassung!C803),\"\",Datenerfassung!C803)","v":""},{"$f":"IF(ISBLANK(Datenerfassung!R803),\"\",Datenerfassung!R803)","v":""},{"$f":"IF(ISBLANK(Datenerfassung!S803),\"\",Datenerfassung!S803)","v":""},"",{"$f":"IF(ISBLANK(Datenerfassung!U803),\"\",Datenerfassung!U803)","v":""},{"$f":"IF(ISBLANK(Datenerfassung!O803),\"\",Datenerfassung!O803)","v":""},{"$f":"IF(ISBLANK(Datenerfassung!D803),IF(COUNTBLANK(A793:H793)+COUNTBLANK(J793:O793)=14,\"\",\"- ohne Titel -\"),Datenerfassung!D803)","v":""},{"$f":"IF(ISBLANK(Datenerfassung!G803),\"\",Datenerfassung!G803)","v":""},"",{"$f":"IF(ISBLANK(Datenerfassung!X803),\"\",Datenerfassung!X803)","v":""},{"$f":"IF(COUNTBLANK(Datenerfassung!H803:'Datenerfassung'!N803)=7,\"\",CONCATENATE( CONCATENATE(IF(ISBLANK(Datenerfassung!H803),\" \",Datenerfassung!H803 ),\" [IS]\"), CONCATENATE(IF(ISBLANK(Datenerfassung!I803),\" \",Datenerfassung!I803 ),\" [IS]\"), CONCATENATE(IF(ISBLANK(Datenerfassung!J803),\" \",Datenerfassung!J803 ),\" [IS]\"), CONCATENATE(IF(ISBLANK(Datenerfassung!K803),\" \",Datenerfassung!K803 ),\" [IS]\"), CONCATENATE(IF(ISBLANK(Datenerfassung!L803),\" \",Datenerfassung!L803 ),\" [IS]\"), CONCATENATE(IF(ISBLANK(Datenerfassung!M803),\" \",Datenerfassung!M803 ),\" [IS]\"), IF(ISBLANK(Datenerfassung!N803),\" \",Datenerfassung!N803 ) ))","v":""},{"$f":"IF(ISBLANK(Datenerfassung!V803),\"\",Datenerfassung!V803)","v":""},{"$f":"IF(ISBLANK(Datenerfassung!Q803),\"\",Datenerfassung!Q803)","v":""}]
[{"$f":"IF(ISBLANK(Datenerfassung!A804),\"\",Datenerfassung!A804)","v":""},{"$f":"IF(ISBLANK(Datenerfassung!B804),\"\",Datenerfassung!B804)","v":""},{"$f":"IF(ISBLANK(Datenerfassung!C804),\"\",Datenerfassung!C804)","v":""},{"$f":"IF(ISBLANK(Datenerfassung!R804),\"\",Datenerfassung!R804)","v":""},{"$f":"IF(ISBLANK(Datenerfassung!S804),\"\",Datenerfassung!S804)","v":""},"",{"$f":"IF(ISBLANK(Datenerfassung!U804),\"\",Datenerfassung!U804)","v":""},{"$f":"IF(ISBLANK(Datenerfassung!O804),\"\",Datenerfassung!O804)","v":""},{"$f":"IF(ISBLANK(Datenerfassung!D804),IF(COUNTBLANK(A794:H794)+COUNTBLANK(J794:O794)=14,\"\",\"- ohne Titel -\"),Datenerfassung!D804)","v":""},{"$f":"IF(ISBLANK(Datenerfassung!G804),\"\",Datenerfassung!G804)","v":""},"",{"$f":"IF(ISBLANK(Datenerfassung!X804),\"\",Datenerfassung!X804)","v":""},{"$f":"IF(COUNTBLANK(Datenerfassung!H804:'Datenerfassung'!N804)=7,\"\",CONCATENATE( CONCATENATE(IF(ISBLANK(Datenerfassung!H804),\" \",Datenerfassung!H804 ),\" [IS]\"), CONCATENATE(IF(ISBLANK(Datenerfassung!I804),\" \",Datenerfassung!I804 ),\" [IS]\"), CONCATENATE(IF(ISBLANK(Datenerfassung!J804),\" \",Datenerfassung!J804 ),\" [IS]\"), CONCATENATE(IF(ISBLANK(Datenerfassung!K804),\" \",Datenerfassung!K804 ),\" [IS]\"), CONCATENATE(IF(ISBLANK(Datenerfassung!L804),\" \",Datenerfassung!L804 ),\" [IS]\"), CONCATENATE(IF(ISBLANK(Datenerfassung!M804),\" \",Datenerfassung!M804 ),\" [IS]\"), IF(ISBLANK(Datenerfassung!N804),\" \",Datenerfassung!N804 ) ))","v":""},{"$f":"IF(ISBLANK(Datenerfassung!V804),\"\",Datenerfassung!V804)","v":""},{"$f":"IF(ISBLANK(Datenerfassung!Q804),\"\",Datenerfassung!Q804)","v":""}]
[{"$f":"IF(ISBLANK(Datenerfassung!A805),\"\",Datenerfassung!A805)","v":""},{"$f":"IF(ISBLANK(Datenerfassung!B805),\"\",Datenerfassung!B805)","v":""},{"$f":"IF(ISBLANK(Datenerfassung!C805),\"\",Datenerfassung!C805)","v":""},{"$f":"IF(ISBLANK(Datenerfassung!R805),\"\",Datenerfassung!R805)","v":""},{"$f":"IF(ISBLANK(Datenerfassung!S805),\"\",Datenerfassung!S805)","v":""},"",{"$f":"IF(ISBLANK(Datenerfassung!U805),\"\",Datenerfassung!U805)","v":""},{"$f":"IF(ISBLANK(Datenerfassung!O805),\"\",Datenerfassung!O805)","v":""},{"$f":"IF(ISBLANK(Datenerfassung!D805),IF(COUNTBLANK(A795:H795)+COUNTBLANK(J795:O795)=14,\"\",\"- ohne Titel -\"),Datenerfassung!D805)","v":""},{"$f":"IF(ISBLANK(Datenerfassung!G805),\"\",Datenerfassung!G805)","v":""},"",{"$f":"IF(ISBLANK(Datenerfassung!X805),\"\",Datenerfassung!X805)","v":""},{"$f":"IF(COUNTBLANK(Datenerfassung!H805:'Datenerfassung'!N805)=7,\"\",CONCATENATE( CONCATENATE(IF(ISBLANK(Datenerfassung!H805),\" \",Datenerfassung!H805 ),\" [IS]\"), CONCATENATE(IF(ISBLANK(Datenerfassung!I805),\" \",Datenerfassung!I805 ),\" [IS]\"), CONCATENATE(IF(ISBLANK(Datenerfassung!J805),\" \",Datenerfassung!J805 ),\" [IS]\"), CONCATENATE(IF(ISBLANK(Datenerfassung!K805),\" \",Datenerfassung!K805 ),\" [IS]\"), CONCATENATE(IF(ISBLANK(Datenerfassung!L805),\" \",Datenerfassung!L805 ),\" [IS]\"), CONCATENATE(IF(ISBLANK(Datenerfassung!M805),\" \",Datenerfassung!M805 ),\" [IS]\"), IF(ISBLANK(Datenerfassung!N805),\" \",Datenerfassung!N805 ) ))","v":""},{"$f":"IF(ISBLANK(Datenerfassung!V805),\"\",Datenerfassung!V805)","v":""},{"$f":"IF(ISBLANK(Datenerfassung!Q805),\"\",Datenerfassung!Q805)","v":""}]
[{"$f":"IF(ISBLANK(Datenerfassung!A806),\"\",Datenerfassung!A806)","v":""},{"$f":"IF(ISBLANK(Datenerfassung!B806),\"\",Datenerfassung!B806)","v":""},{"$f":"IF(ISBLANK(Datenerfassung!C806),\"\",Datenerfassung!C806)","v":""},{"$f":"IF(ISBLANK(Datenerfassung!R806),\"\",Datenerfassung!R806)","v":""},{"$f":"IF(ISBLANK(Datenerfassung!S806),\"\",Datenerfassung!S806)","v":""},"",{"$f":"IF(ISBLANK(Datenerfassung!U806),\"\",Datenerfassung!U806)","v":""},{"$f":"IF(ISBLANK(Datenerfassung!O806),\"\",Datenerfassung!O806)","v":""},{"$f":"IF(ISBLANK(Datenerfassung!D806),IF(COUNTBLANK(A796:H796)+COUNTBLANK(J796:O796)=14,\"\",\"- ohne Titel -\"),Datenerfassung!D806)","v":""},{"$f":"IF(ISBLANK(Datenerfassung!G806),\"\",Datenerfassung!G806)","v":""},"",{"$f":"IF(ISBLANK(Datenerfassung!X806),\"\",Datenerfassung!X806)","v":""},{"$f":"IF(COUNTBLANK(Datenerfassung!H806:'Datenerfassung'!N806)=7,\"\",CONCATENATE( CONCATENATE(IF(ISBLANK(Datenerfassung!H806),\" \",Datenerfassung!H806 ),\" [IS]\"), CONCATENATE(IF(ISBLANK(Datenerfassung!I806),\" \",Datenerfassung!I806 ),\" [IS]\"), CONCATENATE(IF(ISBLANK(Datenerfassung!J806),\" \",Datenerfassung!J806 ),\" [IS]\"), CONCATENATE(IF(ISBLANK(Datenerfassung!K806),\" \",Datenerfassung!K806 ),\" [IS]\"), CONCATENATE(IF(ISBLANK(Datenerfassung!L806),\" \",Datenerfassung!L806 ),\" [IS]\"), CONCATENATE(IF(ISBLANK(Datenerfassung!M806),\" \",Datenerfassung!M806 ),\" [IS]\"), IF(ISBLANK(Datenerfassung!N806),\" \",Datenerfassung!N806 ) ))","v":""},{"$f":"IF(ISBLANK(Datenerfassung!V806),\"\",Datenerfassung!V806)","v":""},{"$f":"IF(ISBLANK(Datenerfassung!Q806),\"\",Datenerfassung!Q806)","v":""}]
[{"$f":"IF(ISBLANK(Datenerfassung!A807),\"\",Datenerfassung!A807)","v":""},{"$f":"IF(ISBLANK(Datenerfassung!B807),\"\",Datenerfassung!B807)","v":""},{"$f":"IF(ISBLANK(Datenerfassung!C807),\"\",Datenerfassung!C807)","v":""},{"$f":"IF(ISBLANK(Datenerfassung!R807),\"\",Datenerfassung!R807)","v":""},{"$f":"IF(ISBLANK(Datenerfassung!S807),\"\",Datenerfassung!S807)","v":""},"",{"$f":"IF(ISBLANK(Datenerfassung!U807),\"\",Datenerfassung!U807)","v":""},{"$f":"IF(ISBLANK(Datenerfassung!O807),\"\",Datenerfassung!O807)","v":""},{"$f":"IF(ISBLANK(Datenerfassung!D807),IF(COUNTBLANK(A797:H797)+COUNTBLANK(J797:O797)=14,\"\",\"- ohne Titel -\"),Datenerfassung!D807)","v":""},{"$f":"IF(ISBLANK(Datenerfassung!G807),\"\",Datenerfassung!G807)","v":""},"",{"$f":"IF(ISBLANK(Datenerfassung!X807),\"\",Datenerfassung!X807)","v":""},{"$f":"IF(COUNTBLANK(Datenerfassung!H807:'Datenerfassung'!N807)=7,\"\",CONCATENATE( CONCATENATE(IF(ISBLANK(Datenerfassung!H807),\" \",Datenerfassung!H807 ),\" [IS]\"), CONCATENATE(IF(ISBLANK(Datenerfassung!I807),\" \",Datenerfassung!I807 ),\" [IS]\"), CONCATENATE(IF(ISBLANK(Datenerfassung!J807),\" \",Datenerfassung!J807 ),\" [IS]\"), CONCATENATE(IF(ISBLANK(Datenerfassung!K807),\" \",Datenerfassung!K807 ),\" [IS]\"), CONCATENATE(IF(ISBLANK(Datenerfassung!L807),\" \",Datenerfassung!L807 ),\" [IS]\"), CONCATENATE(IF(ISBLANK(Datenerfassung!M807),\" \",Datenerfassung!M807 ),\" [IS]\"), IF(ISBLANK(Datenerfassung!N807),\" \",Datenerfassung!N807 ) ))","v":""},{"$f":"IF(ISBLANK(Datenerfassung!V807),\"\",Datenerfassung!V807)","v":""},{"$f":"IF(ISBLANK(Datenerfassung!Q807),\"\",Datenerfassung!Q807)","v":""}]
[{"$f":"IF(ISBLANK(Datenerfassung!A808),\"\",Datenerfassung!A808)","v":""},{"$f":"IF(ISBLANK(Datenerfassung!B808),\"\",Datenerfassung!B808)","v":""},{"$f":"IF(ISBLANK(Datenerfassung!C808),\"\",Datenerfassung!C808)","v":""},{"$f":"IF(ISBLANK(Datenerfassung!R808),\"\",Datenerfassung!R808)","v":""},{"$f":"IF(ISBLANK(Datenerfassung!S808),\"\",Datenerfassung!S808)","v":""},"",{"$f":"IF(ISBLANK(Datenerfassung!U808),\"\",Datenerfassung!U808)","v":""},{"$f":"IF(ISBLANK(Datenerfassung!O808),\"\",Datenerfassung!O808)","v":""},{"$f":"IF(ISBLANK(Datenerfassung!D808),IF(COUNTBLANK(A798:H798)+COUNTBLANK(J798:O798)=14,\"\",\"- ohne Titel -\"),Datenerfassung!D808)","v":""},{"$f":"IF(ISBLANK(Datenerfassung!G808),\"\",Datenerfassung!G808)","v":""},"",{"$f":"IF(ISBLANK(Datenerfassung!X808),\"\",Datenerfassung!X808)","v":""},{"$f":"IF(COUNTBLANK(Datenerfassung!H808:'Datenerfassung'!N808)=7,\"\",CONCATENATE( CONCATENATE(IF(ISBLANK(Datenerfassung!H808),\" \",Datenerfassung!H808 ),\" [IS]\"), CONCATENATE(IF(ISBLANK(Datenerfassung!I808),\" \",Datenerfassung!I808 ),\" [IS]\"), CONCATENATE(IF(ISBLANK(Datenerfassung!J808),\" \",Datenerfassung!J808 ),\" [IS]\"), CONCATENATE(IF(ISBLANK(Datenerfassung!K808),\" \",Datenerfassung!K808 ),\" [IS]\"), CONCATENATE(IF(ISBLANK(Datenerfassung!L808),\" \",Datenerfassung!L808 ),\" [IS]\"), CONCATENATE(IF(ISBLANK(Datenerfassung!M808),\" \",Datenerfassung!M808 ),\" [IS]\"), IF(ISBLANK(Datenerfassung!N808),\" \",Datenerfassung!N808 ) ))","v":""},{"$f":"IF(ISBLANK(Datenerfassung!V808),\"\",Datenerfassung!V808)","v":""},{"$f":"IF(ISBLANK(Datenerfassung!Q808),\"\",Datenerfassung!Q808)","v":""}]
[{"$f":"IF(ISBLANK(Datenerfassung!A809),\"\",Datenerfassung!A809)","v":""},{"$f":"IF(ISBLANK(Datenerfassung!B809),\"\",Datenerfassung!B809)","v":""},{"$f":"IF(ISBLANK(Datenerfassung!C809),\"\",Datenerfassung!C809)","v":""},{"$f":"IF(ISBLANK(Datenerfassung!R809),\"\",Datenerfassung!R809)","v":""},{"$f":"IF(ISBLANK(Datenerfassung!S809),\"\",Datenerfassung!S809)","v":""},"",{"$f":"IF(ISBLANK(Datenerfassung!U809),\"\",Datenerfassung!U809)","v":""},{"$f":"IF(ISBLANK(Datenerfassung!O809),\"\",Datenerfassung!O809)","v":""},{"$f":"IF(ISBLANK(Datenerfassung!D809),IF(COUNTBLANK(A799:H799)+COUNTBLANK(J799:O799)=14,\"\",\"- ohne Titel -\"),Datenerfassung!D809)","v":""},{"$f":"IF(ISBLANK(Datenerfassung!G809),\"\",Datenerfassung!G809)","v":""},"",{"$f":"IF(ISBLANK(Datenerfassung!X809),\"\",Datenerfassung!X809)","v":""},{"$f":"IF(COUNTBLANK(Datenerfassung!H809:'Datenerfassung'!N809)=7,\"\",CONCATENATE( CONCATENATE(IF(ISBLANK(Datenerfassung!H809),\" \",Datenerfassung!H809 ),\" [IS]\"), CONCATENATE(IF(ISBLANK(Datenerfassung!I809),\" \",Datenerfassung!I809 ),\" [IS]\"), CONCATENATE(IF(ISBLANK(Datenerfassung!J809),\" \",Datenerfassung!J809 ),\" [IS]\"), CONCATENATE(IF(ISBLANK(Datenerfassung!K809),\" \",Datenerfassung!K809 ),\" [IS]\"), CONCATENATE(IF(ISBLANK(Datenerfassung!L809),\" \",Datenerfassung!L809 ),\" [IS]\"), CONCATENATE(IF(ISBLANK(Datenerfassung!M809),\" \",Datenerfassung!M809 ),\" [IS]\"), IF(ISBLANK(Datenerfassung!N809),\" \",Datenerfassung!N809 ) ))","v":""},{"$f":"IF(ISBLANK(Datenerfassung!V809),\"\",Datenerfassung!V809)","v":""},{"$f":"IF(ISBLANK(Datenerfassung!Q809),\"\",Datenerfassung!Q809)","v":""}]
[{"$f":"IF(ISBLANK(Datenerfassung!A810),\"\",Datenerfassung!A810)","v":""},{"$f":"IF(ISBLANK(Datenerfassung!B810),\"\",Datenerfassung!B810)","v":""},{"$f":"IF(ISBLANK(Datenerfassung!C810),\"\",Datenerfassung!C810)","v":""},{"$f":"IF(ISBLANK(Datenerfassung!R810),\"\",Datenerfassung!R810)","v":""},{"$f":"IF(ISBLANK(Datenerfassung!S810),\"\",Datenerfassung!S810)","v":""},"",{"$f":"IF(ISBLANK(Datenerfassung!U810),\"\",Datenerfassung!U810)","v":""},{"$f":"IF(ISBLANK(Datenerfassung!O810),\"\",Datenerfassung!O810)","v":""},{"$f":"IF(ISBLANK(Datenerfassung!D810),IF(COUNTBLANK(A800:H800)+COUNTBLANK(J800:O800)=14,\"\",\"- ohne Titel -\"),Datenerfassung!D810)","v":""},{"$f":"IF(ISBLANK(Datenerfassung!G810),\"\",Datenerfassung!G810)","v":""},"",{"$f":"IF(ISBLANK(Datenerfassung!X810),\"\",Datenerfassung!X810)","v":""},{"$f":"IF(COUNTBLANK(Datenerfassung!H810:'Datenerfassung'!N810)=7,\"\",CONCATENATE( CONCATENATE(IF(ISBLANK(Datenerfassung!H810),\" \",Datenerfassung!H810 ),\" [IS]\"), CONCATENATE(IF(ISBLANK(Datenerfassung!I810),\" \",Datenerfassung!I810 ),\" [IS]\"), CONCATENATE(IF(ISBLANK(Datenerfassung!J810),\" \",Datenerfassung!J810 ),\" [IS]\"), CONCATENATE(IF(ISBLANK(Datenerfassung!K810),\" \",Datenerfassung!K810 ),\" [IS]\"), CONCATENATE(IF(ISBLANK(Datenerfassung!L810),\" \",Datenerfassung!L810 ),\" [IS]\"), CONCATENATE(IF(ISBLANK(Datenerfassung!M810),\" \",Datenerfassung!M810 ),\" [IS]\"), IF(ISBLANK(Datenerfassung!N810),\" \",Datenerfassung!N810 ) ))","v":""},{"$f":"IF(ISBLANK(Datenerfassung!V810),\"\",Datenerfassung!V810)","v":""},{"$f":"IF(ISBLANK(Datenerfassung!Q810),\"\",Datenerfassung!Q810)","v":""}]
[{"$f":"IF(ISBLANK(Datenerfassung!A811),\"\",Datenerfassung!A811)","v":""},{"$f":"IF(ISBLANK(Datenerfassung!B811),\"\",Datenerfassung!B811)","v":""},{"$f":"IF(ISBLANK(Datenerfassung!C811),\"\",Datenerfassung!C811)","v":""},{"$f":"IF(ISBLANK(Datenerfassung!R811),\"\",Datenerfassung!R811)","v":""},{"$f":"IF(ISBLANK(Datenerfassung!S811),\"\",Datenerfassung!S811)","v":""},"",{"$f":"IF(ISBLANK(Datenerfassung!U811),\"\",Datenerfassung!U811)","v":""},{"$f":"IF(ISBLANK(Datenerfassung!O811),\"\",Datenerfassung!O811)","v":""},{"$f":"IF(ISBLANK(Datenerfassung!D811),IF(COUNTBLANK(A801:H801)+COUNTBLANK(J801:O801)=14,\"\",\"- ohne Titel -\"),Datenerfassung!D811)","v":""},{"$f":"IF(ISBLANK(Datenerfassung!G811),\"\",Datenerfassung!G811)","v":""},"",{"$f":"IF(ISBLANK(Datenerfassung!X811),\"\",Datenerfassung!X811)","v":""},{"$f":"IF(COUNTBLANK(Datenerfassung!H811:'Datenerfassung'!N811)=7,\"\",CONCATENATE( CONCATENATE(IF(ISBLANK(Datenerfassung!H811),\" \",Datenerfassung!H811 ),\" [IS]\"), CONCATENATE(IF(ISBLANK(Datenerfassung!I811),\" \",Datenerfassung!I811 ),\" [IS]\"), CONCATENATE(IF(ISBLANK(Datenerfassung!J811),\" \",Datenerfassung!J811 ),\" [IS]\"), CONCATENATE(IF(ISBLANK(Datenerfassung!K811),\" \",Datenerfassung!K811 ),\" [IS]\"), CONCATENATE(IF(ISBLANK(Datenerfassung!L811),\" \",Datenerfassung!L811 ),\" [IS]\"), CONCATENATE(IF(ISBLANK(Datenerfassung!M811),\" \",Datenerfassung!M811 ),\" [IS]\"), IF(ISBLANK(Datenerfassung!N811),\" \",Datenerfassung!N811 ) ))","v":""},{"$f":"IF(ISBLANK(Datenerfassung!V811),\"\",Datenerfassung!V811)","v":""},{"$f":"IF(ISBLANK(Datenerfassung!Q811),\"\",Datenerfassung!Q811)","v":""}]
[{"$f":"IF(ISBLANK(Datenerfassung!A812),\"\",Datenerfassung!A812)","v":""},{"$f":"IF(ISBLANK(Datenerfassung!B812),\"\",Datenerfassung!B812)","v":""},{"$f":"IF(ISBLANK(Datenerfassung!C812),\"\",Datenerfassung!C812)","v":""},{"$f":"IF(ISBLANK(Datenerfassung!R812),\"\",Datenerfassung!R812)","v":""},{"$f":"IF(ISBLANK(Datenerfassung!S812),\"\",Datenerfassung!S812)","v":""},"",{"$f":"IF(ISBLANK(Datenerfassung!U812),\"\",Datenerfassung!U812)","v":""},{"$f":"IF(ISBLANK(Datenerfassung!O812),\"\",Datenerfassung!O812)","v":""},{"$f":"IF(ISBLANK(Datenerfassung!D812),IF(COUNTBLANK(A802:H802)+COUNTBLANK(J802:O802)=14,\"\",\"- ohne Titel -\"),Datenerfassung!D812)","v":""},{"$f":"IF(ISBLANK(Datenerfassung!G812),\"\",Datenerfassung!G812)","v":""},"",{"$f":"IF(ISBLANK(Datenerfassung!X812),\"\",Datenerfassung!X812)","v":""},{"$f":"IF(COUNTBLANK(Datenerfassung!H812:'Datenerfassung'!N812)=7,\"\",CONCATENATE( CONCATENATE(IF(ISBLANK(Datenerfassung!H812),\" \",Datenerfassung!H812 ),\" [IS]\"), CONCATENATE(IF(ISBLANK(Datenerfassung!I812),\" \",Datenerfassung!I812 ),\" [IS]\"), CONCATENATE(IF(ISBLANK(Datenerfassung!J812),\" \",Datenerfassung!J812 ),\" [IS]\"), CONCATENATE(IF(ISBLANK(Datenerfassung!K812),\" \",Datenerfassung!K812 ),\" [IS]\"), CONCATENATE(IF(ISBLANK(Datenerfassung!L812),\" \",Datenerfassung!L812 ),\" [IS]\"), CONCATENATE(IF(ISBLANK(Datenerfassung!M812),\" \",Datenerfassung!M812 ),\" [IS]\"), IF(ISBLANK(Datenerfassung!N812),\" \",Datenerfassung!N812 ) ))","v":""},{"$f":"IF(ISBLANK(Datenerfassung!V812),\"\",Datenerfassung!V812)","v":""},{"$f":"IF(ISBLANK(Datenerfassung!Q812),\"\",Datenerfassung!Q812)","v":""}]
[{"$f":"IF(ISBLANK(Datenerfassung!A813),\"\",Datenerfassung!A813)","v":""},{"$f":"IF(ISBLANK(Datenerfassung!B813),\"\",Datenerfassung!B813)","v":""},{"$f":"IF(ISBLANK(Datenerfassung!C813),\"\",Datenerfassung!C813)","v":""},{"$f":"IF(ISBLANK(Datenerfassung!R813),\"\",Datenerfassung!R813)","v":""},{"$f":"IF(ISBLANK(Datenerfassung!S813),\"\",Datenerfassung!S813)","v":""},"",{"$f":"IF(ISBLANK(Datenerfassung!U813),\"\",Datenerfassung!U813)","v":""},{"$f":"IF(ISBLANK(Datenerfassung!O813),\"\",Datenerfassung!O813)","v":""},{"$f":"IF(ISBLANK(Datenerfassung!D813),IF(COUNTBLANK(A803:H803)+COUNTBLANK(J803:O803)=14,\"\",\"- ohne Titel -\"),Datenerfassung!D813)","v":""},{"$f":"IF(ISBLANK(Datenerfassung!G813),\"\",Datenerfassung!G813)","v":""},"",{"$f":"IF(ISBLANK(Datenerfassung!X813),\"\",Datenerfassung!X813)","v":""},{"$f":"IF(COUNTBLANK(Datenerfassung!H813:'Datenerfassung'!N813)=7,\"\",CONCATENATE( CONCATENATE(IF(ISBLANK(Datenerfassung!H813),\" \",Datenerfassung!H813 ),\" [IS]\"), CONCATENATE(IF(ISBLANK(Datenerfassung!I813),\" \",Datenerfassung!I813 ),\" [IS]\"), CONCATENATE(IF(ISBLANK(Datenerfassung!J813),\" \",Datenerfassung!J813 ),\" [IS]\"), CONCATENATE(IF(ISBLANK(Datenerfassung!K813),\" \",Datenerfassung!K813 ),\" [IS]\"), CONCATENATE(IF(ISBLANK(Datenerfassung!L813),\" \",Datenerfassung!L813 ),\" [IS]\"), CONCATENATE(IF(ISBLANK(Datenerfassung!M813),\" \",Datenerfassung!M813 ),\" [IS]\"), IF(ISBLANK(Datenerfassung!N813),\" \",Datenerfassung!N813 ) ))","v":""},{"$f":"IF(ISBLANK(Datenerfassung!V813),\"\",Datenerfassung!V813)","v":""},{"$f":"IF(ISBLANK(Datenerfassung!Q813),\"\",Datenerfassung!Q813)","v":""}]
[{"$f":"IF(ISBLANK(Datenerfassung!A814),\"\",Datenerfassung!A814)","v":""},{"$f":"IF(ISBLANK(Datenerfassung!B814),\"\",Datenerfassung!B814)","v":""},{"$f":"IF(ISBLANK(Datenerfassung!C814),\"\",Datenerfassung!C814)","v":""},{"$f":"IF(ISBLANK(Datenerfassung!R814),\"\",Datenerfassung!R814)","v":""},{"$f":"IF(ISBLANK(Datenerfassung!S814),\"\",Datenerfassung!S814)","v":""},"",{"$f":"IF(ISBLANK(Datenerfassung!U814),\"\",Datenerfassung!U814)","v":""},{"$f":"IF(ISBLANK(Datenerfassung!O814),\"\",Datenerfassung!O814)","v":""},{"$f":"IF(ISBLANK(Datenerfassung!D814),IF(COUNTBLANK(A804:H804)+COUNTBLANK(J804:O804)=14,\"\",\"- ohne Titel -\"),Datenerfassung!D814)","v":""},{"$f":"IF(ISBLANK(Datenerfassung!G814),\"\",Datenerfassung!G814)","v":""},"",{"$f":"IF(ISBLANK(Datenerfassung!X814),\"\",Datenerfassung!X814)","v":""},{"$f":"IF(COUNTBLANK(Datenerfassung!H814:'Datenerfassung'!N814)=7,\"\",CONCATENATE( CONCATENATE(IF(ISBLANK(Datenerfassung!H814),\" \",Datenerfassung!H814 ),\" [IS]\"), CONCATENATE(IF(ISBLANK(Datenerfassung!I814),\" \",Datenerfassung!I814 ),\" [IS]\"), CONCATENATE(IF(ISBLANK(Datenerfassung!J814),\" \",Datenerfassung!J814 ),\" [IS]\"), CONCATENATE(IF(ISBLANK(Datenerfassung!K814),\" \",Datenerfassung!K814 ),\" [IS]\"), CONCATENATE(IF(ISBLANK(Datenerfassung!L814),\" \",Datenerfassung!L814 ),\" [IS]\"), CONCATENATE(IF(ISBLANK(Datenerfassung!M814),\" \",Datenerfassung!M814 ),\" [IS]\"), IF(ISBLANK(Datenerfassung!N814),\" \",Datenerfassung!N814 ) ))","v":""},{"$f":"IF(ISBLANK(Datenerfassung!V814),\"\",Datenerfassung!V814)","v":""},{"$f":"IF(ISBLANK(Datenerfassung!Q814),\"\",Datenerfassung!Q814)","v":""}]
[{"$f":"IF(ISBLANK(Datenerfassung!A815),\"\",Datenerfassung!A815)","v":""},{"$f":"IF(ISBLANK(Datenerfassung!B815),\"\",Datenerfassung!B815)","v":""},{"$f":"IF(ISBLANK(Datenerfassung!C815),\"\",Datenerfassung!C815)","v":""},{"$f":"IF(ISBLANK(Datenerfassung!R815),\"\",Datenerfassung!R815)","v":""},{"$f":"IF(ISBLANK(Datenerfassung!S815),\"\",Datenerfassung!S815)","v":""},"",{"$f":"IF(ISBLANK(Datenerfassung!U815),\"\",Datenerfassung!U815)","v":""},{"$f":"IF(ISBLANK(Datenerfassung!O815),\"\",Datenerfassung!O815)","v":""},{"$f":"IF(ISBLANK(Datenerfassung!D815),IF(COUNTBLANK(A805:H805)+COUNTBLANK(J805:O805)=14,\"\",\"- ohne Titel -\"),Datenerfassung!D815)","v":""},{"$f":"IF(ISBLANK(Datenerfassung!G815),\"\",Datenerfassung!G815)","v":""},"",{"$f":"IF(ISBLANK(Datenerfassung!X815),\"\",Datenerfassung!X815)","v":""},{"$f":"IF(COUNTBLANK(Datenerfassung!H815:'Datenerfassung'!N815)=7,\"\",CONCATENATE( CONCATENATE(IF(ISBLANK(Datenerfassung!H815),\" \",Datenerfassung!H815 ),\" [IS]\"), CONCATENATE(IF(ISBLANK(Datenerfassung!I815),\" \",Datenerfassung!I815 ),\" [IS]\"), CONCATENATE(IF(ISBLANK(Datenerfassung!J815),\" \",Datenerfassung!J815 ),\" [IS]\"), CONCATENATE(IF(ISBLANK(Datenerfassung!K815),\" \",Datenerfassung!K815 ),\" [IS]\"), CONCATENATE(IF(ISBLANK(Datenerfassung!L815),\" \",Datenerfassung!L815 ),\" [IS]\"), CONCATENATE(IF(ISBLANK(Datenerfassung!M815),\" \",Datenerfassung!M815 ),\" [IS]\"), IF(ISBLANK(Datenerfassung!N815),\" \",Datenerfassung!N815 ) ))","v":""},{"$f":"IF(ISBLANK(Datenerfassung!V815),\"\",Datenerfassung!V815)","v":""},{"$f":"IF(ISBLANK(Datenerfassung!Q815),\"\",Datenerfassung!Q815)","v":""}]
[{"$f":"IF(ISBLANK(Datenerfassung!A816),\"\",Datenerfassung!A816)","v":""},{"$f":"IF(ISBLANK(Datenerfassung!B816),\"\",Datenerfassung!B816)","v":""},{"$f":"IF(ISBLANK(Datenerfassung!C816),\"\",Datenerfassung!C816)","v":""},{"$f":"IF(ISBLANK(Datenerfassung!R816),\"\",Datenerfassung!R816)","v":""},{"$f":"IF(ISBLANK(Datenerfassung!S816),\"\",Datenerfassung!S816)","v":""},"",{"$f":"IF(ISBLANK(Datenerfassung!U816),\"\",Datenerfassung!U816)","v":""},{"$f":"IF(ISBLANK(Datenerfassung!O816),\"\",Datenerfassung!O816)","v":""},{"$f":"IF(ISBLANK(Datenerfassung!D816),IF(COUNTBLANK(A806:H806)+COUNTBLANK(J806:O806)=14,\"\",\"- ohne Titel -\"),Datenerfassung!D816)","v":""},{"$f":"IF(ISBLANK(Datenerfassung!G816),\"\",Datenerfassung!G816)","v":""},"",{"$f":"IF(ISBLANK(Datenerfassung!X816),\"\",Datenerfassung!X816)","v":""},{"$f":"IF(COUNTBLANK(Datenerfassung!H816:'Datenerfassung'!N816)=7,\"\",CONCATENATE( CONCATENATE(IF(ISBLANK(Datenerfassung!H816),\" \",Datenerfassung!H816 ),\" [IS]\"), CONCATENATE(IF(ISBLANK(Datenerfassung!I816),\" \",Datenerfassung!I816 ),\" [IS]\"), CONCATENATE(IF(ISBLANK(Datenerfassung!J816),\" \",Datenerfassung!J816 ),\" [IS]\"), CONCATENATE(IF(ISBLANK(Datenerfassung!K816),\" \",Datenerfassung!K816 ),\" [IS]\"), CONCATENATE(IF(ISBLANK(Datenerfassung!L816),\" \",Datenerfassung!L816 ),\" [IS]\"), CONCATENATE(IF(ISBLANK(Datenerfassung!M816),\" \",Datenerfassung!M816 ),\" [IS]\"), IF(ISBLANK(Datenerfassung!N816),\" \",Datenerfassung!N816 ) ))","v":""},{"$f":"IF(ISBLANK(Datenerfassung!V816),\"\",Datenerfassung!V816)","v":""},{"$f":"IF(ISBLANK(Datenerfassung!Q816),\"\",Datenerfassung!Q816)","v":""}]
[{"$f":"IF(ISBLANK(Datenerfassung!A817),\"\",Datenerfassung!A817)","v":""},{"$f":"IF(ISBLANK(Datenerfassung!B817),\"\",Datenerfassung!B817)","v":""},{"$f":"IF(ISBLANK(Datenerfassung!C817),\"\",Datenerfassung!C817)","v":""},{"$f":"IF(ISBLANK(Datenerfassung!R817),\"\",Datenerfassung!R817)","v":""},{"$f":"IF(ISBLANK(Datenerfassung!S817),\"\",Datenerfassung!S817)","v":""},"",{"$f":"IF(ISBLANK(Datenerfassung!U817),\"\",Datenerfassung!U817)","v":""},{"$f":"IF(ISBLANK(Datenerfassung!O817),\"\",Datenerfassung!O817)","v":""},{"$f":"IF(ISBLANK(Datenerfassung!D817),IF(COUNTBLANK(A807:H807)+COUNTBLANK(J807:O807)=14,\"\",\"- ohne Titel -\"),Datenerfassung!D817)","v":""},{"$f":"IF(ISBLANK(Datenerfassung!G817),\"\",Datenerfassung!G817)","v":""},"",{"$f":"IF(ISBLANK(Datenerfassung!X817),\"\",Datenerfassung!X817)","v":""},{"$f":"IF(COUNTBLANK(Datenerfassung!H817:'Datenerfassung'!N817)=7,\"\",CONCATENATE( CONCATENATE(IF(ISBLANK(Datenerfassung!H817),\" \",Datenerfassung!H817 ),\" [IS]\"), CONCATENATE(IF(ISBLANK(Datenerfassung!I817),\" \",Datenerfassung!I817 ),\" [IS]\"), CONCATENATE(IF(ISBLANK(Datenerfassung!J817),\" \",Datenerfassung!J817 ),\" [IS]\"), CONCATENATE(IF(ISBLANK(Datenerfassung!K817),\" \",Datenerfassung!K817 ),\" [IS]\"), CONCATENATE(IF(ISBLANK(Datenerfassung!L817),\" \",Datenerfassung!L817 ),\" [IS]\"), CONCATENATE(IF(ISBLANK(Datenerfassung!M817),\" \",Datenerfassung!M817 ),\" [IS]\"), IF(ISBLANK(Datenerfassung!N817),\" \",Datenerfassung!N817 ) ))","v":""},{"$f":"IF(ISBLANK(Datenerfassung!V817),\"\",Datenerfassung!V817)","v":""},{"$f":"IF(ISBLANK(Datenerfassung!Q817),\"\",Datenerfassung!Q817)","v":""}]
[{"$f":"IF(ISBLANK(Datenerfassung!A818),\"\",Datenerfassung!A818)","v":""},{"$f":"IF(ISBLANK(Datenerfassung!B818),\"\",Datenerfassung!B818)","v":""},{"$f":"IF(ISBLANK(Datenerfassung!C818),\"\",Datenerfassung!C818)","v":""},{"$f":"IF(ISBLANK(Datenerfassung!R818),\"\",Datenerfassung!R818)","v":""},{"$f":"IF(ISBLANK(Datenerfassung!S818),\"\",Datenerfassung!S818)","v":""},"",{"$f":"IF(ISBLANK(Datenerfassung!U818),\"\",Datenerfassung!U818)","v":""},{"$f":"IF(ISBLANK(Datenerfassung!O818),\"\",Datenerfassung!O818)","v":""},{"$f":"IF(ISBLANK(Datenerfassung!D818),IF(COUNTBLANK(A808:H808)+COUNTBLANK(J808:O808)=14,\"\",\"- ohne Titel -\"),Datenerfassung!D818)","v":""},{"$f":"IF(ISBLANK(Datenerfassung!G818),\"\",Datenerfassung!G818)","v":""},"",{"$f":"IF(ISBLANK(Datenerfassung!X818),\"\",Datenerfassung!X818)","v":""},{"$f":"IF(COUNTBLANK(Datenerfassung!H818:'Datenerfassung'!N818)=7,\"\",CONCATENATE( CONCATENATE(IF(ISBLANK(Datenerfassung!H818),\" \",Datenerfassung!H818 ),\" [IS]\"), CONCATENATE(IF(ISBLANK(Datenerfassung!I818),\" \",Datenerfassung!I818 ),\" [IS]\"), CONCATENATE(IF(ISBLANK(Datenerfassung!J818),\" \",Datenerfassung!J818 ),\" [IS]\"), CONCATENATE(IF(ISBLANK(Datenerfassung!K818),\" \",Datenerfassung!K818 ),\" [IS]\"), CONCATENATE(IF(ISBLANK(Datenerfassung!L818),\" \",Datenerfassung!L818 ),\" [IS]\"), CONCATENATE(IF(ISBLANK(Datenerfassung!M818),\" \",Datenerfassung!M818 ),\" [IS]\"), IF(ISBLANK(Datenerfassung!N818),\" \",Datenerfassung!N818 ) ))","v":""},{"$f":"IF(ISBLANK(Datenerfassung!V818),\"\",Datenerfassung!V818)","v":""},{"$f":"IF(ISBLANK(Datenerfassung!Q818),\"\",Datenerfassung!Q818)","v":""}]
[{"$f":"IF(ISBLANK(Datenerfassung!A819),\"\",Datenerfassung!A819)","v":""},{"$f":"IF(ISBLANK(Datenerfassung!B819),\"\",Datenerfassung!B819)","v":""},{"$f":"IF(ISBLANK(Datenerfassung!C819),\"\",Datenerfassung!C819)","v":""},{"$f":"IF(ISBLANK(Datenerfassung!R819),\"\",Datenerfassung!R819)","v":""},{"$f":"IF(ISBLANK(Datenerfassung!S819),\"\",Datenerfassung!S819)","v":""},"",{"$f":"IF(ISBLANK(Datenerfassung!U819),\"\",Datenerfassung!U819)","v":""},{"$f":"IF(ISBLANK(Datenerfassung!O819),\"\",Datenerfassung!O819)","v":""},{"$f":"IF(ISBLANK(Datenerfassung!D819),IF(COUNTBLANK(A809:H809)+COUNTBLANK(J809:O809)=14,\"\",\"- ohne Titel -\"),Datenerfassung!D819)","v":""},{"$f":"IF(ISBLANK(Datenerfassung!G819),\"\",Datenerfassung!G819)","v":""},"",{"$f":"IF(ISBLANK(Datenerfassung!X819),\"\",Datenerfassung!X819)","v":""},{"$f":"IF(COUNTBLANK(Datenerfassung!H819:'Datenerfassung'!N819)=7,\"\",CONCATENATE( CONCATENATE(IF(ISBLANK(Datenerfassung!H819),\" \",Datenerfassung!H819 ),\" [IS]\"), CONCATENATE(IF(ISBLANK(Datenerfassung!I819),\" \",Datenerfassung!I819 ),\" [IS]\"), CONCATENATE(IF(ISBLANK(Datenerfassung!J819),\" \",Datenerfassung!J819 ),\" [IS]\"), CONCATENATE(IF(ISBLANK(Datenerfassung!K819),\" \",Datenerfassung!K819 ),\" [IS]\"), CONCATENATE(IF(ISBLANK(Datenerfassung!L819),\" \",Datenerfassung!L819 ),\" [IS]\"), CONCATENATE(IF(ISBLANK(Datenerfassung!M819),\" \",Datenerfassung!M819 ),\" [IS]\"), IF(ISBLANK(Datenerfassung!N819),\" \",Datenerfassung!N819 ) ))","v":""},{"$f":"IF(ISBLANK(Datenerfassung!V819),\"\",Datenerfassung!V819)","v":""},{"$f":"IF(ISBLANK(Datenerfassung!Q819),\"\",Datenerfassung!Q819)","v":""}]
[{"$f":"IF(ISBLANK(Datenerfassung!A820),\"\",Datenerfassung!A820)","v":""},{"$f":"IF(ISBLANK(Datenerfassung!B820),\"\",Datenerfassung!B820)","v":""},{"$f":"IF(ISBLANK(Datenerfassung!C820),\"\",Datenerfassung!C820)","v":""},{"$f":"IF(ISBLANK(Datenerfassung!R820),\"\",Datenerfassung!R820)","v":""},{"$f":"IF(ISBLANK(Datenerfassung!S820),\"\",Datenerfassung!S820)","v":""},"",{"$f":"IF(ISBLANK(Datenerfassung!U820),\"\",Datenerfassung!U820)","v":""},{"$f":"IF(ISBLANK(Datenerfassung!O820),\"\",Datenerfassung!O820)","v":""},{"$f":"IF(ISBLANK(Datenerfassung!D820),IF(COUNTBLANK(A810:H810)+COUNTBLANK(J810:O810)=14,\"\",\"- ohne Titel -\"),Datenerfassung!D820)","v":""},{"$f":"IF(ISBLANK(Datenerfassung!G820),\"\",Datenerfassung!G820)","v":""},"",{"$f":"IF(ISBLANK(Datenerfassung!X820),\"\",Datenerfassung!X820)","v":""},{"$f":"IF(COUNTBLANK(Datenerfassung!H820:'Datenerfassung'!N820)=7,\"\",CONCATENATE( CONCATENATE(IF(ISBLANK(Datenerfassung!H820),\" \",Datenerfassung!H820 ),\" [IS]\"), CONCATENATE(IF(ISBLANK(Datenerfassung!I820),\" \",Datenerfassung!I820 ),\" [IS]\"), CONCATENATE(IF(ISBLANK(Datenerfassung!J820),\" \",Datenerfassung!J820 ),\" [IS]\"), CONCATENATE(IF(ISBLANK(Datenerfassung!K820),\" \",Datenerfassung!K820 ),\" [IS]\"), CONCATENATE(IF(ISBLANK(Datenerfassung!L820),\" \",Datenerfassung!L820 ),\" [IS]\"), CONCATENATE(IF(ISBLANK(Datenerfassung!M820),\" \",Datenerfassung!M820 ),\" [IS]\"), IF(ISBLANK(Datenerfassung!N820),\" \",Datenerfassung!N820 ) ))","v":""},{"$f":"IF(ISBLANK(Datenerfassung!V820),\"\",Datenerfassung!V820)","v":""},{"$f":"IF(ISBLANK(Datenerfassung!Q820),\"\",Datenerfassung!Q820)","v":""}]
[{"$f":"IF(ISBLANK(Datenerfassung!A821),\"\",Datenerfassung!A821)","v":""},{"$f":"IF(ISBLANK(Datenerfassung!B821),\"\",Datenerfassung!B821)","v":""},{"$f":"IF(ISBLANK(Datenerfassung!C821),\"\",Datenerfassung!C821)","v":""},{"$f":"IF(ISBLANK(Datenerfassung!R821),\"\",Datenerfassung!R821)","v":""},{"$f":"IF(ISBLANK(Datenerfassung!S821),\"\",Datenerfassung!S821)","v":""},"",{"$f":"IF(ISBLANK(Datenerfassung!U821),\"\",Datenerfassung!U821)","v":""},{"$f":"IF(ISBLANK(Datenerfassung!O821),\"\",Datenerfassung!O821)","v":""},{"$f":"IF(ISBLANK(Datenerfassung!D821),IF(COUNTBLANK(A811:H811)+COUNTBLANK(J811:O811)=14,\"\",\"- ohne Titel -\"),Datenerfassung!D821)","v":""},{"$f":"IF(ISBLANK(Datenerfassung!G821),\"\",Datenerfassung!G821)","v":""},"",{"$f":"IF(ISBLANK(Datenerfassung!X821),\"\",Datenerfassung!X821)","v":""},{"$f":"IF(COUNTBLANK(Datenerfassung!H821:'Datenerfassung'!N821)=7,\"\",CONCATENATE( CONCATENATE(IF(ISBLANK(Datenerfassung!H821),\" \",Datenerfassung!H821 ),\" [IS]\"), CONCATENATE(IF(ISBLANK(Datenerfassung!I821),\" \",Datenerfassung!I821 ),\" [IS]\"), CONCATENATE(IF(ISBLANK(Datenerfassung!J821),\" \",Datenerfassung!J821 ),\" [IS]\"), CONCATENATE(IF(ISBLANK(Datenerfassung!K821),\" \",Datenerfassung!K821 ),\" [IS]\"), CONCATENATE(IF(ISBLANK(Datenerfassung!L821),\" \",Datenerfassung!L821 ),\" [IS]\"), CONCATENATE(IF(ISBLANK(Datenerfassung!M821),\" \",Datenerfassung!M821 ),\" [IS]\"), IF(ISBLANK(Datenerfassung!N821),\" \",Datenerfassung!N821 ) ))","v":""},{"$f":"IF(ISBLANK(Datenerfassung!V821),\"\",Datenerfassung!V821)","v":""},{"$f":"IF(ISBLANK(Datenerfassung!Q821),\"\",Datenerfassung!Q821)","v":""}]
[{"$f":"IF(ISBLANK(Datenerfassung!A822),\"\",Datenerfassung!A822)","v":""},{"$f":"IF(ISBLANK(Datenerfassung!B822),\"\",Datenerfassung!B822)","v":""},{"$f":"IF(ISBLANK(Datenerfassung!C822),\"\",Datenerfassung!C822)","v":""},{"$f":"IF(ISBLANK(Datenerfassung!R822),\"\",Datenerfassung!R822)","v":""},{"$f":"IF(ISBLANK(Datenerfassung!S822),\"\",Datenerfassung!S822)","v":""},"",{"$f":"IF(ISBLANK(Datenerfassung!U822),\"\",Datenerfassung!U822)","v":""},{"$f":"IF(ISBLANK(Datenerfassung!O822),\"\",Datenerfassung!O822)","v":""},{"$f":"IF(ISBLANK(Datenerfassung!D822),IF(COUNTBLANK(A812:H812)+COUNTBLANK(J812:O812)=14,\"\",\"- ohne Titel -\"),Datenerfassung!D822)","v":""},{"$f":"IF(ISBLANK(Datenerfassung!G822),\"\",Datenerfassung!G822)","v":""},"",{"$f":"IF(ISBLANK(Datenerfassung!X822),\"\",Datenerfassung!X822)","v":""},{"$f":"IF(COUNTBLANK(Datenerfassung!H822:'Datenerfassung'!N822)=7,\"\",CONCATENATE( CONCATENATE(IF(ISBLANK(Datenerfassung!H822),\" \",Datenerfassung!H822 ),\" [IS]\"), CONCATENATE(IF(ISBLANK(Datenerfassung!I822),\" \",Datenerfassung!I822 ),\" [IS]\"), CONCATENATE(IF(ISBLANK(Datenerfassung!J822),\" \",Datenerfassung!J822 ),\" [IS]\"), CONCATENATE(IF(ISBLANK(Datenerfassung!K822),\" \",Datenerfassung!K822 ),\" [IS]\"), CONCATENATE(IF(ISBLANK(Datenerfassung!L822),\" \",Datenerfassung!L822 ),\" [IS]\"), CONCATENATE(IF(ISBLANK(Datenerfassung!M822),\" \",Datenerfassung!M822 ),\" [IS]\"), IF(ISBLANK(Datenerfassung!N822),\" \",Datenerfassung!N822 ) ))","v":""},{"$f":"IF(ISBLANK(Datenerfassung!V822),\"\",Datenerfassung!V822)","v":""},{"$f":"IF(ISBLANK(Datenerfassung!Q822),\"\",Datenerfassung!Q822)","v":""}]
[{"$f":"IF(ISBLANK(Datenerfassung!A823),\"\",Datenerfassung!A823)","v":""},{"$f":"IF(ISBLANK(Datenerfassung!B823),\"\",Datenerfassung!B823)","v":""},{"$f":"IF(ISBLANK(Datenerfassung!C823),\"\",Datenerfassung!C823)","v":""},{"$f":"IF(ISBLANK(Datenerfassung!R823),\"\",Datenerfassung!R823)","v":""},{"$f":"IF(ISBLANK(Datenerfassung!S823),\"\",Datenerfassung!S823)","v":""},"",{"$f":"IF(ISBLANK(Datenerfassung!U823),\"\",Datenerfassung!U823)","v":""},{"$f":"IF(ISBLANK(Datenerfassung!O823),\"\",Datenerfassung!O823)","v":""},{"$f":"IF(ISBLANK(Datenerfassung!D823),IF(COUNTBLANK(A813:H813)+COUNTBLANK(J813:O813)=14,\"\",\"- ohne Titel -\"),Datenerfassung!D823)","v":""},{"$f":"IF(ISBLANK(Datenerfassung!G823),\"\",Datenerfassung!G823)","v":""},"",{"$f":"IF(ISBLANK(Datenerfassung!X823),\"\",Datenerfassung!X823)","v":""},{"$f":"IF(COUNTBLANK(Datenerfassung!H823:'Datenerfassung'!N823)=7,\"\",CONCATENATE( CONCATENATE(IF(ISBLANK(Datenerfassung!H823),\" \",Datenerfassung!H823 ),\" [IS]\"), CONCATENATE(IF(ISBLANK(Datenerfassung!I823),\" \",Datenerfassung!I823 ),\" [IS]\"), CONCATENATE(IF(ISBLANK(Datenerfassung!J823),\" \",Datenerfassung!J823 ),\" [IS]\"), CONCATENATE(IF(ISBLANK(Datenerfassung!K823),\" \",Datenerfassung!K823 ),\" [IS]\"), CONCATENATE(IF(ISBLANK(Datenerfassung!L823),\" \",Datenerfassung!L823 ),\" [IS]\"), CONCATENATE(IF(ISBLANK(Datenerfassung!M823),\" \",Datenerfassung!M823 ),\" [IS]\"), IF(ISBLANK(Datenerfassung!N823),\" \",Datenerfassung!N823 ) ))","v":""},{"$f":"IF(ISBLANK(Datenerfassung!V823),\"\",Datenerfassung!V823)","v":""},{"$f":"IF(ISBLANK(Datenerfassung!Q823),\"\",Datenerfassung!Q823)","v":""}]
[{"$f":"IF(ISBLANK(Datenerfassung!A824),\"\",Datenerfassung!A824)","v":""},{"$f":"IF(ISBLANK(Datenerfassung!B824),\"\",Datenerfassung!B824)","v":""},{"$f":"IF(ISBLANK(Datenerfassung!C824),\"\",Datenerfassung!C824)","v":""},{"$f":"IF(ISBLANK(Datenerfassung!R824),\"\",Datenerfassung!R824)","v":""},{"$f":"IF(ISBLANK(Datenerfassung!S824),\"\",Datenerfassung!S824)","v":""},"",{"$f":"IF(ISBLANK(Datenerfassung!U824),\"\",Datenerfassung!U824)","v":""},{"$f":"IF(ISBLANK(Datenerfassung!O824),\"\",Datenerfassung!O824)","v":""},{"$f":"IF(ISBLANK(Datenerfassung!D824),IF(COUNTBLANK(A814:H814)+COUNTBLANK(J814:O814)=14,\"\",\"- ohne Titel -\"),Datenerfassung!D824)","v":""},{"$f":"IF(ISBLANK(Datenerfassung!G824),\"\",Datenerfassung!G824)","v":""},"",{"$f":"IF(ISBLANK(Datenerfassung!X824),\"\",Datenerfassung!X824)","v":""},{"$f":"IF(COUNTBLANK(Datenerfassung!H824:'Datenerfassung'!N824)=7,\"\",CONCATENATE( CONCATENATE(IF(ISBLANK(Datenerfassung!H824),\" \",Datenerfassung!H824 ),\" [IS]\"), CONCATENATE(IF(ISBLANK(Datenerfassung!I824),\" \",Datenerfassung!I824 ),\" [IS]\"), CONCATENATE(IF(ISBLANK(Datenerfassung!J824),\" \",Datenerfassung!J824 ),\" [IS]\"), CONCATENATE(IF(ISBLANK(Datenerfassung!K824),\" \",Datenerfassung!K824 ),\" [IS]\"), CONCATENATE(IF(ISBLANK(Datenerfassung!L824),\" \",Datenerfassung!L824 ),\" [IS]\"), CONCATENATE(IF(ISBLANK(Datenerfassung!M824),\" \",Datenerfassung!M824 ),\" [IS]\"), IF(ISBLANK(Datenerfassung!N824),\" \",Datenerfassung!N824 ) ))","v":""},{"$f":"IF(ISBLANK(Datenerfassung!V824),\"\",Datenerfassung!V824)","v":""},{"$f":"IF(ISBLANK(Datenerfassung!Q824),\"\",Datenerfassung!Q824)","v":""}]
[{"$f":"IF(ISBLANK(Datenerfassung!A825),\"\",Datenerfassung!A825)","v":""},{"$f":"IF(ISBLANK(Datenerfassung!B825),\"\",Datenerfassung!B825)","v":""},{"$f":"IF(ISBLANK(Datenerfassung!C825),\"\",Datenerfassung!C825)","v":""},{"$f":"IF(ISBLANK(Datenerfassung!R825),\"\",Datenerfassung!R825)","v":""},{"$f":"IF(ISBLANK(Datenerfassung!S825),\"\",Datenerfassung!S825)","v":""},"",{"$f":"IF(ISBLANK(Datenerfassung!U825),\"\",Datenerfassung!U825)","v":""},{"$f":"IF(ISBLANK(Datenerfassung!O825),\"\",Datenerfassung!O825)","v":""},{"$f":"IF(ISBLANK(Datenerfassung!D825),IF(COUNTBLANK(A815:H815)+COUNTBLANK(J815:O815)=14,\"\",\"- ohne Titel -\"),Datenerfassung!D825)","v":""},{"$f":"IF(ISBLANK(Datenerfassung!G825),\"\",Datenerfassung!G825)","v":""},"",{"$f":"IF(ISBLANK(Datenerfassung!X825),\"\",Datenerfassung!X825)","v":""},{"$f":"IF(COUNTBLANK(Datenerfassung!H825:'Datenerfassung'!N825)=7,\"\",CONCATENATE( CONCATENATE(IF(ISBLANK(Datenerfassung!H825),\" \",Datenerfassung!H825 ),\" [IS]\"), CONCATENATE(IF(ISBLANK(Datenerfassung!I825),\" \",Datenerfassung!I825 ),\" [IS]\"), CONCATENATE(IF(ISBLANK(Datenerfassung!J825),\" \",Datenerfassung!J825 ),\" [IS]\"), CONCATENATE(IF(ISBLANK(Datenerfassung!K825),\" \",Datenerfassung!K825 ),\" [IS]\"), CONCATENATE(IF(ISBLANK(Datenerfassung!L825),\" \",Datenerfassung!L825 ),\" [IS]\"), CONCATENATE(IF(ISBLANK(Datenerfassung!M825),\" \",Datenerfassung!M825 ),\" [IS]\"), IF(ISBLANK(Datenerfassung!N825),\" \",Datenerfassung!N825 ) ))","v":""},{"$f":"IF(ISBLANK(Datenerfassung!V825),\"\",Datenerfassung!V825)","v":""},{"$f":"IF(ISBLANK(Datenerfassung!Q825),\"\",Datenerfassung!Q825)","v":""}]
[{"$f":"IF(ISBLANK(Datenerfassung!A826),\"\",Datenerfassung!A826)","v":""},{"$f":"IF(ISBLANK(Datenerfassung!B826),\"\",Datenerfassung!B826)","v":""},{"$f":"IF(ISBLANK(Datenerfassung!C826),\"\",Datenerfassung!C826)","v":""},{"$f":"IF(ISBLANK(Datenerfassung!R826),\"\",Datenerfassung!R826)","v":""},{"$f":"IF(ISBLANK(Datenerfassung!S826),\"\",Datenerfassung!S826)","v":""},"",{"$f":"IF(ISBLANK(Datenerfassung!U826),\"\",Datenerfassung!U826)","v":""},{"$f":"IF(ISBLANK(Datenerfassung!O826),\"\",Datenerfassung!O826)","v":""},{"$f":"IF(ISBLANK(Datenerfassung!D826),IF(COUNTBLANK(A816:H816)+COUNTBLANK(J816:O816)=14,\"\",\"- ohne Titel -\"),Datenerfassung!D826)","v":""},{"$f":"IF(ISBLANK(Datenerfassung!G826),\"\",Datenerfassung!G826)","v":""},"",{"$f":"IF(ISBLANK(Datenerfassung!X826),\"\",Datenerfassung!X826)","v":""},{"$f":"IF(COUNTBLANK(Datenerfassung!H826:'Datenerfassung'!N826)=7,\"\",CONCATENATE( CONCATENATE(IF(ISBLANK(Datenerfassung!H826),\" \",Datenerfassung!H826 ),\" [IS]\"), CONCATENATE(IF(ISBLANK(Datenerfassung!I826),\" \",Datenerfassung!I826 ),\" [IS]\"), CONCATENATE(IF(ISBLANK(Datenerfassung!J826),\" \",Datenerfassung!J826 ),\" [IS]\"), CONCATENATE(IF(ISBLANK(Datenerfassung!K826),\" \",Datenerfassung!K826 ),\" [IS]\"), CONCATENATE(IF(ISBLANK(Datenerfassung!L826),\" \",Datenerfassung!L826 ),\" [IS]\"), CONCATENATE(IF(ISBLANK(Datenerfassung!M826),\" \",Datenerfassung!M826 ),\" [IS]\"), IF(ISBLANK(Datenerfassung!N826),\" \",Datenerfassung!N826 ) ))","v":""},{"$f":"IF(ISBLANK(Datenerfassung!V826),\"\",Datenerfassung!V826)","v":""},{"$f":"IF(ISBLANK(Datenerfassung!Q826),\"\",Datenerfassung!Q826)","v":""}]
[{"$f":"IF(ISBLANK(Datenerfassung!A827),\"\",Datenerfassung!A827)","v":""},{"$f":"IF(ISBLANK(Datenerfassung!B827),\"\",Datenerfassung!B827)","v":""},{"$f":"IF(ISBLANK(Datenerfassung!C827),\"\",Datenerfassung!C827)","v":""},{"$f":"IF(ISBLANK(Datenerfassung!R827),\"\",Datenerfassung!R827)","v":""},{"$f":"IF(ISBLANK(Datenerfassung!S827),\"\",Datenerfassung!S827)","v":""},"",{"$f":"IF(ISBLANK(Datenerfassung!U827),\"\",Datenerfassung!U827)","v":""},{"$f":"IF(ISBLANK(Datenerfassung!O827),\"\",Datenerfassung!O827)","v":""},{"$f":"IF(ISBLANK(Datenerfassung!D827),IF(COUNTBLANK(A817:H817)+COUNTBLANK(J817:O817)=14,\"\",\"- ohne Titel -\"),Datenerfassung!D827)","v":""},{"$f":"IF(ISBLANK(Datenerfassung!G827),\"\",Datenerfassung!G827)","v":""},"",{"$f":"IF(ISBLANK(Datenerfassung!X827),\"\",Datenerfassung!X827)","v":""},{"$f":"IF(COUNTBLANK(Datenerfassung!H827:'Datenerfassung'!N827)=7,\"\",CONCATENATE( CONCATENATE(IF(ISBLANK(Datenerfassung!H827),\" \",Datenerfassung!H827 ),\" [IS]\"), CONCATENATE(IF(ISBLANK(Datenerfassung!I827),\" \",Datenerfassung!I827 ),\" [IS]\"), CONCATENATE(IF(ISBLANK(Datenerfassung!J827),\" \",Datenerfassung!J827 ),\" [IS]\"), CONCATENATE(IF(ISBLANK(Datenerfassung!K827),\" \",Datenerfassung!K827 ),\" [IS]\"), CONCATENATE(IF(ISBLANK(Datenerfassung!L827),\" \",Datenerfassung!L827 ),\" [IS]\"), CONCATENATE(IF(ISBLANK(Datenerfassung!M827),\" \",Datenerfassung!M827 ),\" [IS]\"), IF(ISBLANK(Datenerfassung!N827),\" \",Datenerfassung!N827 ) ))","v":""},{"$f":"IF(ISBLANK(Datenerfassung!V827),\"\",Datenerfassung!V827)","v":""},{"$f":"IF(ISBLANK(Datenerfassung!Q827),\"\",Datenerfassung!Q827)","v":""}]
[{"$f":"IF(ISBLANK(Datenerfassung!A828),\"\",Datenerfassung!A828)","v":""},{"$f":"IF(ISBLANK(Datenerfassung!B828),\"\",Datenerfassung!B828)","v":""},{"$f":"IF(ISBLANK(Datenerfassung!C828),\"\",Datenerfassung!C828)","v":""},{"$f":"IF(ISBLANK(Datenerfassung!R828),\"\",Datenerfassung!R828)","v":""},{"$f":"IF(ISBLANK(Datenerfassung!S828),\"\",Datenerfassung!S828)","v":""},"",{"$f":"IF(ISBLANK(Datenerfassung!U828),\"\",Datenerfassung!U828)","v":""},{"$f":"IF(ISBLANK(Datenerfassung!O828),\"\",Datenerfassung!O828)","v":""},{"$f":"IF(ISBLANK(Datenerfassung!D828),IF(COUNTBLANK(A818:H818)+COUNTBLANK(J818:O818)=14,\"\",\"- ohne Titel -\"),Datenerfassung!D828)","v":""},{"$f":"IF(ISBLANK(Datenerfassung!G828),\"\",Datenerfassung!G828)","v":""},"",{"$f":"IF(ISBLANK(Datenerfassung!X828),\"\",Datenerfassung!X828)","v":""},{"$f":"IF(COUNTBLANK(Datenerfassung!H828:'Datenerfassung'!N828)=7,\"\",CONCATENATE( CONCATENATE(IF(ISBLANK(Datenerfassung!H828),\" \",Datenerfassung!H828 ),\" [IS]\"), CONCATENATE(IF(ISBLANK(Datenerfassung!I828),\" \",Datenerfassung!I828 ),\" [IS]\"), CONCATENATE(IF(ISBLANK(Datenerfassung!J828),\" \",Datenerfassung!J828 ),\" [IS]\"), CONCATENATE(IF(ISBLANK(Datenerfassung!K828),\" \",Datenerfassung!K828 ),\" [IS]\"), CONCATENATE(IF(ISBLANK(Datenerfassung!L828),\" \",Datenerfassung!L828 ),\" [IS]\"), CONCATENATE(IF(ISBLANK(Datenerfassung!M828),\" \",Datenerfassung!M828 ),\" [IS]\"), IF(ISBLANK(Datenerfassung!N828),\" \",Datenerfassung!N828 ) ))","v":""},{"$f":"IF(ISBLANK(Datenerfassung!V828),\"\",Datenerfassung!V828)","v":""},{"$f":"IF(ISBLANK(Datenerfassung!Q828),\"\",Datenerfassung!Q828)","v":""}]
[{"$f":"IF(ISBLANK(Datenerfassung!A829),\"\",Datenerfassung!A829)","v":""},{"$f":"IF(ISBLANK(Datenerfassung!B829),\"\",Datenerfassung!B829)","v":""},{"$f":"IF(ISBLANK(Datenerfassung!C829),\"\",Datenerfassung!C829)","v":""},{"$f":"IF(ISBLANK(Datenerfassung!R829),\"\",Datenerfassung!R829)","v":""},{"$f":"IF(ISBLANK(Datenerfassung!S829),\"\",Datenerfassung!S829)","v":""},"",{"$f":"IF(ISBLANK(Datenerfassung!U829),\"\",Datenerfassung!U829)","v":""},{"$f":"IF(ISBLANK(Datenerfassung!O829),\"\",Datenerfassung!O829)","v":""},{"$f":"IF(ISBLANK(Datenerfassung!D829),IF(COUNTBLANK(A819:H819)+COUNTBLANK(J819:O819)=14,\"\",\"- ohne Titel -\"),Datenerfassung!D829)","v":""},{"$f":"IF(ISBLANK(Datenerfassung!G829),\"\",Datenerfassung!G829)","v":""},"",{"$f":"IF(ISBLANK(Datenerfassung!X829),\"\",Datenerfassung!X829)","v":""},{"$f":"IF(COUNTBLANK(Datenerfassung!H829:'Datenerfassung'!N829)=7,\"\",CONCATENATE( CONCATENATE(IF(ISBLANK(Datenerfassung!H829),\" \",Datenerfassung!H829 ),\" [IS]\"), CONCATENATE(IF(ISBLANK(Datenerfassung!I829),\" \",Datenerfassung!I829 ),\" [IS]\"), CONCATENATE(IF(ISBLANK(Datenerfassung!J829),\" \",Datenerfassung!J829 ),\" [IS]\"), CONCATENATE(IF(ISBLANK(Datenerfassung!K829),\" \",Datenerfassung!K829 ),\" [IS]\"), CONCATENATE(IF(ISBLANK(Datenerfassung!L829),\" \",Datenerfassung!L829 ),\" [IS]\"), CONCATENATE(IF(ISBLANK(Datenerfassung!M829),\" \",Datenerfassung!M829 ),\" [IS]\"), IF(ISBLANK(Datenerfassung!N829),\" \",Datenerfassung!N829 ) ))","v":""},{"$f":"IF(ISBLANK(Datenerfassung!V829),\"\",Datenerfassung!V829)","v":""},{"$f":"IF(ISBLANK(Datenerfassung!Q829),\"\",Datenerfassung!Q829)","v":""}]
[{"$f":"IF(ISBLANK(Datenerfassung!A830),\"\",Datenerfassung!A830)","v":""},{"$f":"IF(ISBLANK(Datenerfassung!B830),\"\",Datenerfassung!B830)","v":""},{"$f":"IF(ISBLANK(Datenerfassung!C830),\"\",Datenerfassung!C830)","v":""},{"$f":"IF(ISBLANK(Datenerfassung!R830),\"\",Datenerfassung!R830)","v":""},{"$f":"IF(ISBLANK(Datenerfassung!S830),\"\",Datenerfassung!S830)","v":""},"",{"$f":"IF(ISBLANK(Datenerfassung!U830),\"\",Datenerfassung!U830)","v":""},{"$f":"IF(ISBLANK(Datenerfassung!O830),\"\",Datenerfassung!O830)","v":""},{"$f":"IF(ISBLANK(Datenerfassung!D830),IF(COUNTBLANK(A820:H820)+COUNTBLANK(J820:O820)=14,\"\",\"- ohne Titel -\"),Datenerfassung!D830)","v":""},{"$f":"IF(ISBLANK(Datenerfassung!G830),\"\",Datenerfassung!G830)","v":""},"",{"$f":"IF(ISBLANK(Datenerfassung!X830),\"\",Datenerfassung!X830)","v":""},{"$f":"IF(COUNTBLANK(Datenerfassung!H830:'Datenerfassung'!N830)=7,\"\",CONCATENATE( CONCATENATE(IF(ISBLANK(Datenerfassung!H830),\" \",Datenerfassung!H830 ),\" [IS]\"), CONCATENATE(IF(ISBLANK(Datenerfassung!I830),\" \",Datenerfassung!I830 ),\" [IS]\"), CONCATENATE(IF(ISBLANK(Datenerfassung!J830),\" \",Datenerfassung!J830 ),\" [IS]\"), CONCATENATE(IF(ISBLANK(Datenerfassung!K830),\" \",Datenerfassung!K830 ),\" [IS]\"), CONCATENATE(IF(ISBLANK(Datenerfassung!L830),\" \",Datenerfassung!L830 ),\" [IS]\"), CONCATENATE(IF(ISBLANK(Datenerfassung!M830),\" \",Datenerfassung!M830 ),\" [IS]\"), IF(ISBLANK(Datenerfassung!N830),\" \",Datenerfassung!N830 ) ))","v":""},{"$f":"IF(ISBLANK(Datenerfassung!V830),\"\",Datenerfassung!V830)","v":""},{"$f":"IF(ISBLANK(Datenerfassung!Q830),\"\",Datenerfassung!Q830)","v":""}]
[{"$f":"IF(ISBLANK(Datenerfassung!A831),\"\",Datenerfassung!A831)","v":""},{"$f":"IF(ISBLANK(Datenerfassung!B831),\"\",Datenerfassung!B831)","v":""},{"$f":"IF(ISBLANK(Datenerfassung!C831),\"\",Datenerfassung!C831)","v":""},{"$f":"IF(ISBLANK(Datenerfassung!R831),\"\",Datenerfassung!R831)","v":""},{"$f":"IF(ISBLANK(Datenerfassung!S831),\"\",Datenerfassung!S831)","v":""},"",{"$f":"IF(ISBLANK(Datenerfassung!U831),\"\",Datenerfassung!U831)","v":""},{"$f":"IF(ISBLANK(Datenerfassung!O831),\"\",Datenerfassung!O831)","v":""},{"$f":"IF(ISBLANK(Datenerfassung!D831),IF(COUNTBLANK(A821:H821)+COUNTBLANK(J821:O821)=14,\"\",\"- ohne Titel -\"),Datenerfassung!D831)","v":""},{"$f":"IF(ISBLANK(Datenerfassung!G831),\"\",Datenerfassung!G831)","v":""},"",{"$f":"IF(ISBLANK(Datenerfassung!X831),\"\",Datenerfassung!X831)","v":""},{"$f":"IF(COUNTBLANK(Datenerfassung!H831:'Datenerfassung'!N831)=7,\"\",CONCATENATE( CONCATENATE(IF(ISBLANK(Datenerfassung!H831),\" \",Datenerfassung!H831 ),\" [IS]\"), CONCATENATE(IF(ISBLANK(Datenerfassung!I831),\" \",Datenerfassung!I831 ),\" [IS]\"), CONCATENATE(IF(ISBLANK(Datenerfassung!J831),\" \",Datenerfassung!J831 ),\" [IS]\"), CONCATENATE(IF(ISBLANK(Datenerfassung!K831),\" \",Datenerfassung!K831 ),\" [IS]\"), CONCATENATE(IF(ISBLANK(Datenerfassung!L831),\" \",Datenerfassung!L831 ),\" [IS]\"), CONCATENATE(IF(ISBLANK(Datenerfassung!M831),\" \",Datenerfassung!M831 ),\" [IS]\"), IF(ISBLANK(Datenerfassung!N831),\" \",Datenerfassung!N831 ) ))","v":""},{"$f":"IF(ISBLANK(Datenerfassung!V831),\"\",Datenerfassung!V831)","v":""},{"$f":"IF(ISBLANK(Datenerfassung!Q831),\"\",Datenerfassung!Q831)","v":""}]
[{"$f":"IF(ISBLANK(Datenerfassung!A832),\"\",Datenerfassung!A832)","v":""},{"$f":"IF(ISBLANK(Datenerfassung!B832),\"\",Datenerfassung!B832)","v":""},{"$f":"IF(ISBLANK(Datenerfassung!C832),\"\",Datenerfassung!C832)","v":""},{"$f":"IF(ISBLANK(Datenerfassung!R832),\"\",Datenerfassung!R832)","v":""},{"$f":"IF(ISBLANK(Datenerfassung!S832),\"\",Datenerfassung!S832)","v":""},"",{"$f":"IF(ISBLANK(Datenerfassung!U832),\"\",Datenerfassung!U832)","v":""},{"$f":"IF(ISBLANK(Datenerfassung!O832),\"\",Datenerfassung!O832)","v":""},{"$f":"IF(ISBLANK(Datenerfassung!D832),IF(COUNTBLANK(A822:H822)+COUNTBLANK(J822:O822)=14,\"\",\"- ohne Titel -\"),Datenerfassung!D832)","v":""},{"$f":"IF(ISBLANK(Datenerfassung!G832),\"\",Datenerfassung!G832)","v":""},"",{"$f":"IF(ISBLANK(Datenerfassung!X832),\"\",Datenerfassung!X832)","v":""},{"$f":"IF(COUNTBLANK(Datenerfassung!H832:'Datenerfassung'!N832)=7,\"\",CONCATENATE( CONCATENATE(IF(ISBLANK(Datenerfassung!H832),\" \",Datenerfassung!H832 ),\" [IS]\"), CONCATENATE(IF(ISBLANK(Datenerfassung!I832),\" \",Datenerfassung!I832 ),\" [IS]\"), CONCATENATE(IF(ISBLANK(Datenerfassung!J832),\" \",Datenerfassung!J832 ),\" [IS]\"), CONCATENATE(IF(ISBLANK(Datenerfassung!K832),\" \",Datenerfassung!K832 ),\" [IS]\"), CONCATENATE(IF(ISBLANK(Datenerfassung!L832),\" \",Datenerfassung!L832 ),\" [IS]\"), CONCATENATE(IF(ISBLANK(Datenerfassung!M832),\" \",Datenerfassung!M832 ),\" [IS]\"), IF(ISBLANK(Datenerfassung!N832),\" \",Datenerfassung!N832 ) ))","v":""},{"$f":"IF(ISBLANK(Datenerfassung!V832),\"\",Datenerfassung!V832)","v":""},{"$f":"IF(ISBLANK(Datenerfassung!Q832),\"\",Datenerfassung!Q832)","v":""}]
[{"$f":"IF(ISBLANK(Datenerfassung!A833),\"\",Datenerfassung!A833)","v":""},{"$f":"IF(ISBLANK(Datenerfassung!B833),\"\",Datenerfassung!B833)","v":""},{"$f":"IF(ISBLANK(Datenerfassung!C833),\"\",Datenerfassung!C833)","v":""},{"$f":"IF(ISBLANK(Datenerfassung!R833),\"\",Datenerfassung!R833)","v":""},{"$f":"IF(ISBLANK(Datenerfassung!S833),\"\",Datenerfassung!S833)","v":""},"",{"$f":"IF(ISBLANK(Datenerfassung!U833),\"\",Datenerfassung!U833)","v":""},{"$f":"IF(ISBLANK(Datenerfassung!O833),\"\",Datenerfassung!O833)","v":""},{"$f":"IF(ISBLANK(Datenerfassung!D833),IF(COUNTBLANK(A823:H823)+COUNTBLANK(J823:O823)=14,\"\",\"- ohne Titel -\"),Datenerfassung!D833)","v":""},{"$f":"IF(ISBLANK(Datenerfassung!G833),\"\",Datenerfassung!G833)","v":""},"",{"$f":"IF(ISBLANK(Datenerfassung!X833),\"\",Datenerfassung!X833)","v":""},{"$f":"IF(COUNTBLANK(Datenerfassung!H833:'Datenerfassung'!N833)=7,\"\",CONCATENATE( CONCATENATE(IF(ISBLANK(Datenerfassung!H833),\" \",Datenerfassung!H833 ),\" [IS]\"), CONCATENATE(IF(ISBLANK(Datenerfassung!I833),\" \",Datenerfassung!I833 ),\" [IS]\"), CONCATENATE(IF(ISBLANK(Datenerfassung!J833),\" \",Datenerfassung!J833 ),\" [IS]\"), CONCATENATE(IF(ISBLANK(Datenerfassung!K833),\" \",Datenerfassung!K833 ),\" [IS]\"), CONCATENATE(IF(ISBLANK(Datenerfassung!L833),\" \",Datenerfassung!L833 ),\" [IS]\"), CONCATENATE(IF(ISBLANK(Datenerfassung!M833),\" \",Datenerfassung!M833 ),\" [IS]\"), IF(ISBLANK(Datenerfassung!N833),\" \",Datenerfassung!N833 ) ))","v":""},{"$f":"IF(ISBLANK(Datenerfassung!V833),\"\",Datenerfassung!V833)","v":""},{"$f":"IF(ISBLANK(Datenerfassung!Q833),\"\",Datenerfassung!Q833)","v":""}]
[{"$f":"IF(ISBLANK(Datenerfassung!A834),\"\",Datenerfassung!A834)","v":""},{"$f":"IF(ISBLANK(Datenerfassung!B834),\"\",Datenerfassung!B834)","v":""},{"$f":"IF(ISBLANK(Datenerfassung!C834),\"\",Datenerfassung!C834)","v":""},{"$f":"IF(ISBLANK(Datenerfassung!R834),\"\",Datenerfassung!R834)","v":""},{"$f":"IF(ISBLANK(Datenerfassung!S834),\"\",Datenerfassung!S834)","v":""},"",{"$f":"IF(ISBLANK(Datenerfassung!U834),\"\",Datenerfassung!U834)","v":""},{"$f":"IF(ISBLANK(Datenerfassung!O834),\"\",Datenerfassung!O834)","v":""},{"$f":"IF(ISBLANK(Datenerfassung!D834),IF(COUNTBLANK(A824:H824)+COUNTBLANK(J824:O824)=14,\"\",\"- ohne Titel -\"),Datenerfassung!D834)","v":""},{"$f":"IF(ISBLANK(Datenerfassung!G834),\"\",Datenerfassung!G834)","v":""},"",{"$f":"IF(ISBLANK(Datenerfassung!X834),\"\",Datenerfassung!X834)","v":""},{"$f":"IF(COUNTBLANK(Datenerfassung!H834:'Datenerfassung'!N834)=7,\"\",CONCATENATE( CONCATENATE(IF(ISBLANK(Datenerfassung!H834),\" \",Datenerfassung!H834 ),\" [IS]\"), CONCATENATE(IF(ISBLANK(Datenerfassung!I834),\" \",Datenerfassung!I834 ),\" [IS]\"), CONCATENATE(IF(ISBLANK(Datenerfassung!J834),\" \",Datenerfassung!J834 ),\" [IS]\"), CONCATENATE(IF(ISBLANK(Datenerfassung!K834),\" \",Datenerfassung!K834 ),\" [IS]\"), CONCATENATE(IF(ISBLANK(Datenerfassung!L834),\" \",Datenerfassung!L834 ),\" [IS]\"), CONCATENATE(IF(ISBLANK(Datenerfassung!M834),\" \",Datenerfassung!M834 ),\" [IS]\"), IF(ISBLANK(Datenerfassung!N834),\" \",Datenerfassung!N834 ) ))","v":""},{"$f":"IF(ISBLANK(Datenerfassung!V834),\"\",Datenerfassung!V834)","v":""},{"$f":"IF(ISBLANK(Datenerfassung!Q834),\"\",Datenerfassung!Q834)","v":""}]
[{"$f":"IF(ISBLANK(Datenerfassung!A835),\"\",Datenerfassung!A835)","v":""},{"$f":"IF(ISBLANK(Datenerfassung!B835),\"\",Datenerfassung!B835)","v":""},{"$f":"IF(ISBLANK(Datenerfassung!C835),\"\",Datenerfassung!C835)","v":""},{"$f":"IF(ISBLANK(Datenerfassung!R835),\"\",Datenerfassung!R835)","v":""},{"$f":"IF(ISBLANK(Datenerfassung!S835),\"\",Datenerfassung!S835)","v":""},"",{"$f":"IF(ISBLANK(Datenerfassung!U835),\"\",Datenerfassung!U835)","v":""},{"$f":"IF(ISBLANK(Datenerfassung!O835),\"\",Datenerfassung!O835)","v":""},{"$f":"IF(ISBLANK(Datenerfassung!D835),IF(COUNTBLANK(A825:H825)+COUNTBLANK(J825:O825)=14,\"\",\"- ohne Titel -\"),Datenerfassung!D835)","v":""},{"$f":"IF(ISBLANK(Datenerfassung!G835),\"\",Datenerfassung!G835)","v":""},"",{"$f":"IF(ISBLANK(Datenerfassung!X835),\"\",Datenerfassung!X835)","v":""},{"$f":"IF(COUNTBLANK(Datenerfassung!H835:'Datenerfassung'!N835)=7,\"\",CONCATENATE( CONCATENATE(IF(ISBLANK(Datenerfassung!H835),\" \",Datenerfassung!H835 ),\" [IS]\"), CONCATENATE(IF(ISBLANK(Datenerfassung!I835),\" \",Datenerfassung!I835 ),\" [IS]\"), CONCATENATE(IF(ISBLANK(Datenerfassung!J835),\" \",Datenerfassung!J835 ),\" [IS]\"), CONCATENATE(IF(ISBLANK(Datenerfassung!K835),\" \",Datenerfassung!K835 ),\" [IS]\"), CONCATENATE(IF(ISBLANK(Datenerfassung!L835),\" \",Datenerfassung!L835 ),\" [IS]\"), CONCATENATE(IF(ISBLANK(Datenerfassung!M835),\" \",Datenerfassung!M835 ),\" [IS]\"), IF(ISBLANK(Datenerfassung!N835),\" \",Datenerfassung!N835 ) ))","v":""},{"$f":"IF(ISBLANK(Datenerfassung!V835),\"\",Datenerfassung!V835)","v":""},{"$f":"IF(ISBLANK(Datenerfassung!Q835),\"\",Datenerfassung!Q835)","v":""}]
[{"$f":"IF(ISBLANK(Datenerfassung!A836),\"\",Datenerfassung!A836)","v":""},{"$f":"IF(ISBLANK(Datenerfassung!B836),\"\",Datenerfassung!B836)","v":""},{"$f":"IF(ISBLANK(Datenerfassung!C836),\"\",Datenerfassung!C836)","v":""},{"$f":"IF(ISBLANK(Datenerfassung!R836),\"\",Datenerfassung!R836)","v":""},{"$f":"IF(ISBLANK(Datenerfassung!S836),\"\",Datenerfassung!S836)","v":""},"",{"$f":"IF(ISBLANK(Datenerfassung!U836),\"\",Datenerfassung!U836)","v":""},{"$f":"IF(ISBLANK(Datenerfassung!O836),\"\",Datenerfassung!O836)","v":""},{"$f":"IF(ISBLANK(Datenerfassung!D836),IF(COUNTBLANK(A826:H826)+COUNTBLANK(J826:O826)=14,\"\",\"- ohne Titel -\"),Datenerfassung!D836)","v":""},{"$f":"IF(ISBLANK(Datenerfassung!G836),\"\",Datenerfassung!G836)","v":""},"",{"$f":"IF(ISBLANK(Datenerfassung!X836),\"\",Datenerfassung!X836)","v":""},{"$f":"IF(COUNTBLANK(Datenerfassung!H836:'Datenerfassung'!N836)=7,\"\",CONCATENATE( CONCATENATE(IF(ISBLANK(Datenerfassung!H836),\" \",Datenerfassung!H836 ),\" [IS]\"), CONCATENATE(IF(ISBLANK(Datenerfassung!I836),\" \",Datenerfassung!I836 ),\" [IS]\"), CONCATENATE(IF(ISBLANK(Datenerfassung!J836),\" \",Datenerfassung!J836 ),\" [IS]\"), CONCATENATE(IF(ISBLANK(Datenerfassung!K836),\" \",Datenerfassung!K836 ),\" [IS]\"), CONCATENATE(IF(ISBLANK(Datenerfassung!L836),\" \",Datenerfassung!L836 ),\" [IS]\"), CONCATENATE(IF(ISBLANK(Datenerfassung!M836),\" \",Datenerfassung!M836 ),\" [IS]\"), IF(ISBLANK(Datenerfassung!N836),\" \",Datenerfassung!N836 ) ))","v":""},{"$f":"IF(ISBLANK(Datenerfassung!V836),\"\",Datenerfassung!V836)","v":""},{"$f":"IF(ISBLANK(Datenerfassung!Q836),\"\",Datenerfassung!Q836)","v":""}]
[{"$f":"IF(ISBLANK(Datenerfassung!A837),\"\",Datenerfassung!A837)","v":""},{"$f":"IF(ISBLANK(Datenerfassung!B837),\"\",Datenerfassung!B837)","v":""},{"$f":"IF(ISBLANK(Datenerfassung!C837),\"\",Datenerfassung!C837)","v":""},{"$f":"IF(ISBLANK(Datenerfassung!R837),\"\",Datenerfassung!R837)","v":""},{"$f":"IF(ISBLANK(Datenerfassung!S837),\"\",Datenerfassung!S837)","v":""},"",{"$f":"IF(ISBLANK(Datenerfassung!U837),\"\",Datenerfassung!U837)","v":""},{"$f":"IF(ISBLANK(Datenerfassung!O837),\"\",Datenerfassung!O837)","v":""},{"$f":"IF(ISBLANK(Datenerfassung!D837),IF(COUNTBLANK(A827:H827)+COUNTBLANK(J827:O827)=14,\"\",\"- ohne Titel -\"),Datenerfassung!D837)","v":""},{"$f":"IF(ISBLANK(Datenerfassung!G837),\"\",Datenerfassung!G837)","v":""},"",{"$f":"IF(ISBLANK(Datenerfassung!X837),\"\",Datenerfassung!X837)","v":""},{"$f":"IF(COUNTBLANK(Datenerfassung!H837:'Datenerfassung'!N837)=7,\"\",CONCATENATE( CONCATENATE(IF(ISBLANK(Datenerfassung!H837),\" \",Datenerfassung!H837 ),\" [IS]\"), CONCATENATE(IF(ISBLANK(Datenerfassung!I837),\" \",Datenerfassung!I837 ),\" [IS]\"), CONCATENATE(IF(ISBLANK(Datenerfassung!J837),\" \",Datenerfassung!J837 ),\" [IS]\"), CONCATENATE(IF(ISBLANK(Datenerfassung!K837),\" \",Datenerfassung!K837 ),\" [IS]\"), CONCATENATE(IF(ISBLANK(Datenerfassung!L837),\" \",Datenerfassung!L837 ),\" [IS]\"), CONCATENATE(IF(ISBLANK(Datenerfassung!M837),\" \",Datenerfassung!M837 ),\" [IS]\"), IF(ISBLANK(Datenerfassung!N837),\" \",Datenerfassung!N837 ) ))","v":""},{"$f":"IF(ISBLANK(Datenerfassung!V837),\"\",Datenerfassung!V837)","v":""},{"$f":"IF(ISBLANK(Datenerfassung!Q837),\"\",Datenerfassung!Q837)","v":""}]
[{"$f":"IF(ISBLANK(Datenerfassung!A838),\"\",Datenerfassung!A838)","v":""},{"$f":"IF(ISBLANK(Datenerfassung!B838),\"\",Datenerfassung!B838)","v":""},{"$f":"IF(ISBLANK(Datenerfassung!C838),\"\",Datenerfassung!C838)","v":""},{"$f":"IF(ISBLANK(Datenerfassung!R838),\"\",Datenerfassung!R838)","v":""},{"$f":"IF(ISBLANK(Datenerfassung!S838),\"\",Datenerfassung!S838)","v":""},"",{"$f":"IF(ISBLANK(Datenerfassung!U838),\"\",Datenerfassung!U838)","v":""},{"$f":"IF(ISBLANK(Datenerfassung!O838),\"\",Datenerfassung!O838)","v":""},{"$f":"IF(ISBLANK(Datenerfassung!D838),IF(COUNTBLANK(A828:H828)+COUNTBLANK(J828:O828)=14,\"\",\"- ohne Titel -\"),Datenerfassung!D838)","v":""},{"$f":"IF(ISBLANK(Datenerfassung!G838),\"\",Datenerfassung!G838)","v":""},"",{"$f":"IF(ISBLANK(Datenerfassung!X838),\"\",Datenerfassung!X838)","v":""},{"$f":"IF(COUNTBLANK(Datenerfassung!H838:'Datenerfassung'!N838)=7,\"\",CONCATENATE( CONCATENATE(IF(ISBLANK(Datenerfassung!H838),\" \",Datenerfassung!H838 ),\" [IS]\"), CONCATENATE(IF(ISBLANK(Datenerfassung!I838),\" \",Datenerfassung!I838 ),\" [IS]\"), CONCATENATE(IF(ISBLANK(Datenerfassung!J838),\" \",Datenerfassung!J838 ),\" [IS]\"), CONCATENATE(IF(ISBLANK(Datenerfassung!K838),\" \",Datenerfassung!K838 ),\" [IS]\"), CONCATENATE(IF(ISBLANK(Datenerfassung!L838),\" \",Datenerfassung!L838 ),\" [IS]\"), CONCATENATE(IF(ISBLANK(Datenerfassung!M838),\" \",Datenerfassung!M838 ),\" [IS]\"), IF(ISBLANK(Datenerfassung!N838),\" \",Datenerfassung!N838 ) ))","v":""},{"$f":"IF(ISBLANK(Datenerfassung!V838),\"\",Datenerfassung!V838)","v":""},{"$f":"IF(ISBLANK(Datenerfassung!Q838),\"\",Datenerfassung!Q838)","v":""}]
[{"$f":"IF(ISBLANK(Datenerfassung!A839),\"\",Datenerfassung!A839)","v":""},{"$f":"IF(ISBLANK(Datenerfassung!B839),\"\",Datenerfassung!B839)","v":""},{"$f":"IF(ISBLANK(Datenerfassung!C839),\"\",Datenerfassung!C839)","v":""},{"$f":"IF(ISBLANK(Datenerfassung!R839),\"\",Datenerfassung!R839)","v":""},{"$f":"IF(ISBLANK(Datenerfassung!S839),\"\",Datenerfassung!S839)","v":""},"",{"$f":"IF(ISBLANK(Datenerfassung!U839),\"\",Datenerfassung!U839)","v":""},{"$f":"IF(ISBLANK(Datenerfassung!O839),\"\",Datenerfassung!O839)","v":""},{"$f":"IF(ISBLANK(Datenerfassung!D839),IF(COUNTBLANK(A829:H829)+COUNTBLANK(J829:O829)=14,\"\",\"- ohne Titel -\"),Datenerfassung!D839)","v":""},{"$f":"IF(ISBLANK(Datenerfassung!G839),\"\",Datenerfassung!G839)","v":""},"",{"$f":"IF(ISBLANK(Datenerfassung!X839),\"\",Datenerfassung!X839)","v":""},{"$f":"IF(COUNTBLANK(Datenerfassung!H839:'Datenerfassung'!N839)=7,\"\",CONCATENATE( CONCATENATE(IF(ISBLANK(Datenerfassung!H839),\" \",Datenerfassung!H839 ),\" [IS]\"), CONCATENATE(IF(ISBLANK(Datenerfassung!I839),\" \",Datenerfassung!I839 ),\" [IS]\"), CONCATENATE(IF(ISBLANK(Datenerfassung!J839),\" \",Datenerfassung!J839 ),\" [IS]\"), CONCATENATE(IF(ISBLANK(Datenerfassung!K839),\" \",Datenerfassung!K839 ),\" [IS]\"), CONCATENATE(IF(ISBLANK(Datenerfassung!L839),\" \",Datenerfassung!L839 ),\" [IS]\"), CONCATENATE(IF(ISBLANK(Datenerfassung!M839),\" \",Datenerfassung!M839 ),\" [IS]\"), IF(ISBLANK(Datenerfassung!N839),\" \",Datenerfassung!N839 ) ))","v":""},{"$f":"IF(ISBLANK(Datenerfassung!V839),\"\",Datenerfassung!V839)","v":""},{"$f":"IF(ISBLANK(Datenerfassung!Q839),\"\",Datenerfassung!Q839)","v":""}]
[{"$f":"IF(ISBLANK(Datenerfassung!A840),\"\",Datenerfassung!A840)","v":""},{"$f":"IF(ISBLANK(Datenerfassung!B840),\"\",Datenerfassung!B840)","v":""},{"$f":"IF(ISBLANK(Datenerfassung!C840),\"\",Datenerfassung!C840)","v":""},{"$f":"IF(ISBLANK(Datenerfassung!R840),\"\",Datenerfassung!R840)","v":""},{"$f":"IF(ISBLANK(Datenerfassung!S840),\"\",Datenerfassung!S840)","v":""},"",{"$f":"IF(ISBLANK(Datenerfassung!U840),\"\",Datenerfassung!U840)","v":""},{"$f":"IF(ISBLANK(Datenerfassung!O840),\"\",Datenerfassung!O840)","v":""},{"$f":"IF(ISBLANK(Datenerfassung!D840),IF(COUNTBLANK(A830:H830)+COUNTBLANK(J830:O830)=14,\"\",\"- ohne Titel -\"),Datenerfassung!D840)","v":""},{"$f":"IF(ISBLANK(Datenerfassung!G840),\"\",Datenerfassung!G840)","v":""},"",{"$f":"IF(ISBLANK(Datenerfassung!X840),\"\",Datenerfassung!X840)","v":""},{"$f":"IF(COUNTBLANK(Datenerfassung!H840:'Datenerfassung'!N840)=7,\"\",CONCATENATE( CONCATENATE(IF(ISBLANK(Datenerfassung!H840),\" \",Datenerfassung!H840 ),\" [IS]\"), CONCATENATE(IF(ISBLANK(Datenerfassung!I840),\" \",Datenerfassung!I840 ),\" [IS]\"), CONCATENATE(IF(ISBLANK(Datenerfassung!J840),\" \",Datenerfassung!J840 ),\" [IS]\"), CONCATENATE(IF(ISBLANK(Datenerfassung!K840),\" \",Datenerfassung!K840 ),\" [IS]\"), CONCATENATE(IF(ISBLANK(Datenerfassung!L840),\" \",Datenerfassung!L840 ),\" [IS]\"), CONCATENATE(IF(ISBLANK(Datenerfassung!M840),\" \",Datenerfassung!M840 ),\" [IS]\"), IF(ISBLANK(Datenerfassung!N840),\" \",Datenerfassung!N840 ) ))","v":""},{"$f":"IF(ISBLANK(Datenerfassung!V840),\"\",Datenerfassung!V840)","v":""},{"$f":"IF(ISBLANK(Datenerfassung!Q840),\"\",Datenerfassung!Q840)","v":""}]
[{"$f":"IF(ISBLANK(Datenerfassung!A841),\"\",Datenerfassung!A841)","v":""},{"$f":"IF(ISBLANK(Datenerfassung!B841),\"\",Datenerfassung!B841)","v":""},{"$f":"IF(ISBLANK(Datenerfassung!C841),\"\",Datenerfassung!C841)","v":""},{"$f":"IF(ISBLANK(Datenerfassung!R841),\"\",Datenerfassung!R841)","v":""},{"$f":"IF(ISBLANK(Datenerfassung!S841),\"\",Datenerfassung!S841)","v":""},"",{"$f":"IF(ISBLANK(Datenerfassung!U841),\"\",Datenerfassung!U841)","v":""},{"$f":"IF(ISBLANK(Datenerfassung!O841),\"\",Datenerfassung!O841)","v":""},{"$f":"IF(ISBLANK(Datenerfassung!D841),IF(COUNTBLANK(A831:H831)+COUNTBLANK(J831:O831)=14,\"\",\"- ohne Titel -\"),Datenerfassung!D841)","v":""},{"$f":"IF(ISBLANK(Datenerfassung!G841),\"\",Datenerfassung!G841)","v":""},"",{"$f":"IF(ISBLANK(Datenerfassung!X841),\"\",Datenerfassung!X841)","v":""},{"$f":"IF(COUNTBLANK(Datenerfassung!H841:'Datenerfassung'!N841)=7,\"\",CONCATENATE( CONCATENATE(IF(ISBLANK(Datenerfassung!H841),\" \",Datenerfassung!H841 ),\" [IS]\"), CONCATENATE(IF(ISBLANK(Datenerfassung!I841),\" \",Datenerfassung!I841 ),\" [IS]\"), CONCATENATE(IF(ISBLANK(Datenerfassung!J841),\" \",Datenerfassung!J841 ),\" [IS]\"), CONCATENATE(IF(ISBLANK(Datenerfassung!K841),\" \",Datenerfassung!K841 ),\" [IS]\"), CONCATENATE(IF(ISBLANK(Datenerfassung!L841),\" \",Datenerfassung!L841 ),\" [IS]\"), CONCATENATE(IF(ISBLANK(Datenerfassung!M841),\" \",Datenerfassung!M841 ),\" [IS]\"), IF(ISBLANK(Datenerfassung!N841),\" \",Datenerfassung!N841 ) ))","v":""},{"$f":"IF(ISBLANK(Datenerfassung!V841),\"\",Datenerfassung!V841)","v":""},{"$f":"IF(ISBLANK(Datenerfassung!Q841),\"\",Datenerfassung!Q841)","v":""}]
[{"$f":"IF(ISBLANK(Datenerfassung!A842),\"\",Datenerfassung!A842)","v":""},{"$f":"IF(ISBLANK(Datenerfassung!B842),\"\",Datenerfassung!B842)","v":""},{"$f":"IF(ISBLANK(Datenerfassung!C842),\"\",Datenerfassung!C842)","v":""},{"$f":"IF(ISBLANK(Datenerfassung!R842),\"\",Datenerfassung!R842)","v":""},{"$f":"IF(ISBLANK(Datenerfassung!S842),\"\",Datenerfassung!S842)","v":""},"",{"$f":"IF(ISBLANK(Datenerfassung!U842),\"\",Datenerfassung!U842)","v":""},{"$f":"IF(ISBLANK(Datenerfassung!O842),\"\",Datenerfassung!O842)","v":""},{"$f":"IF(ISBLANK(Datenerfassung!D842),IF(COUNTBLANK(A832:H832)+COUNTBLANK(J832:O832)=14,\"\",\"- ohne Titel -\"),Datenerfassung!D842)","v":""},{"$f":"IF(ISBLANK(Datenerfassung!G842),\"\",Datenerfassung!G842)","v":""},"",{"$f":"IF(ISBLANK(Datenerfassung!X842),\"\",Datenerfassung!X842)","v":""},{"$f":"IF(COUNTBLANK(Datenerfassung!H842:'Datenerfassung'!N842)=7,\"\",CONCATENATE( CONCATENATE(IF(ISBLANK(Datenerfassung!H842),\" \",Datenerfassung!H842 ),\" [IS]\"), CONCATENATE(IF(ISBLANK(Datenerfassung!I842),\" \",Datenerfassung!I842 ),\" [IS]\"), CONCATENATE(IF(ISBLANK(Datenerfassung!J842),\" \",Datenerfassung!J842 ),\" [IS]\"), CONCATENATE(IF(ISBLANK(Datenerfassung!K842),\" \",Datenerfassung!K842 ),\" [IS]\"), CONCATENATE(IF(ISBLANK(Datenerfassung!L842),\" \",Datenerfassung!L842 ),\" [IS]\"), CONCATENATE(IF(ISBLANK(Datenerfassung!M842),\" \",Datenerfassung!M842 ),\" [IS]\"), IF(ISBLANK(Datenerfassung!N842),\" \",Datenerfassung!N842 ) ))","v":""},{"$f":"IF(ISBLANK(Datenerfassung!V842),\"\",Datenerfassung!V842)","v":""},{"$f":"IF(ISBLANK(Datenerfassung!Q842),\"\",Datenerfassung!Q842)","v":""}]
[{"$f":"IF(ISBLANK(Datenerfassung!A843),\"\",Datenerfassung!A843)","v":""},{"$f":"IF(ISBLANK(Datenerfassung!B843),\"\",Datenerfassung!B843)","v":""},{"$f":"IF(ISBLANK(Datenerfassung!C843),\"\",Datenerfassung!C843)","v":""},{"$f":"IF(ISBLANK(Datenerfassung!R843),\"\",Datenerfassung!R843)","v":""},{"$f":"IF(ISBLANK(Datenerfassung!S843),\"\",Datenerfassung!S843)","v":""},"",{"$f":"IF(ISBLANK(Datenerfassung!U843),\"\",Datenerfassung!U843)","v":""},{"$f":"IF(ISBLANK(Datenerfassung!O843),\"\",Datenerfassung!O843)","v":""},{"$f":"IF(ISBLANK(Datenerfassung!D843),IF(COUNTBLANK(A833:H833)+COUNTBLANK(J833:O833)=14,\"\",\"- ohne Titel -\"),Datenerfassung!D843)","v":""},{"$f":"IF(ISBLANK(Datenerfassung!G843),\"\",Datenerfassung!G843)","v":""},"",{"$f":"IF(ISBLANK(Datenerfassung!X843),\"\",Datenerfassung!X843)","v":""},{"$f":"IF(COUNTBLANK(Datenerfassung!H843:'Datenerfassung'!N843)=7,\"\",CONCATENATE( CONCATENATE(IF(ISBLANK(Datenerfassung!H843),\" \",Datenerfassung!H843 ),\" [IS]\"), CONCATENATE(IF(ISBLANK(Datenerfassung!I843),\" \",Datenerfassung!I843 ),\" [IS]\"), CONCATENATE(IF(ISBLANK(Datenerfassung!J843),\" \",Datenerfassung!J843 ),\" [IS]\"), CONCATENATE(IF(ISBLANK(Datenerfassung!K843),\" \",Datenerfassung!K843 ),\" [IS]\"), CONCATENATE(IF(ISBLANK(Datenerfassung!L843),\" \",Datenerfassung!L843 ),\" [IS]\"), CONCATENATE(IF(ISBLANK(Datenerfassung!M843),\" \",Datenerfassung!M843 ),\" [IS]\"), IF(ISBLANK(Datenerfassung!N843),\" \",Datenerfassung!N843 ) ))","v":""},{"$f":"IF(ISBLANK(Datenerfassung!V843),\"\",Datenerfassung!V843)","v":""},{"$f":"IF(ISBLANK(Datenerfassung!Q843),\"\",Datenerfassung!Q843)","v":""}]
[{"$f":"IF(ISBLANK(Datenerfassung!A844),\"\",Datenerfassung!A844)","v":""},{"$f":"IF(ISBLANK(Datenerfassung!B844),\"\",Datenerfassung!B844)","v":""},{"$f":"IF(ISBLANK(Datenerfassung!C844),\"\",Datenerfassung!C844)","v":""},{"$f":"IF(ISBLANK(Datenerfassung!R844),\"\",Datenerfassung!R844)","v":""},{"$f":"IF(ISBLANK(Datenerfassung!S844),\"\",Datenerfassung!S844)","v":""},"",{"$f":"IF(ISBLANK(Datenerfassung!U844),\"\",Datenerfassung!U844)","v":""},{"$f":"IF(ISBLANK(Datenerfassung!O844),\"\",Datenerfassung!O844)","v":""},{"$f":"IF(ISBLANK(Datenerfassung!D844),IF(COUNTBLANK(A834:H834)+COUNTBLANK(J834:O834)=14,\"\",\"- ohne Titel -\"),Datenerfassung!D844)","v":""},{"$f":"IF(ISBLANK(Datenerfassung!G844),\"\",Datenerfassung!G844)","v":""},"",{"$f":"IF(ISBLANK(Datenerfassung!X844),\"\",Datenerfassung!X844)","v":""},{"$f":"IF(COUNTBLANK(Datenerfassung!H844:'Datenerfassung'!N844)=7,\"\",CONCATENATE( CONCATENATE(IF(ISBLANK(Datenerfassung!H844),\" \",Datenerfassung!H844 ),\" [IS]\"), CONCATENATE(IF(ISBLANK(Datenerfassung!I844),\" \",Datenerfassung!I844 ),\" [IS]\"), CONCATENATE(IF(ISBLANK(Datenerfassung!J844),\" \",Datenerfassung!J844 ),\" [IS]\"), CONCATENATE(IF(ISBLANK(Datenerfassung!K844),\" \",Datenerfassung!K844 ),\" [IS]\"), CONCATENATE(IF(ISBLANK(Datenerfassung!L844),\" \",Datenerfassung!L844 ),\" [IS]\"), CONCATENATE(IF(ISBLANK(Datenerfassung!M844),\" \",Datenerfassung!M844 ),\" [IS]\"), IF(ISBLANK(Datenerfassung!N844),\" \",Datenerfassung!N844 ) ))","v":""},{"$f":"IF(ISBLANK(Datenerfassung!V844),\"\",Datenerfassung!V844)","v":""},{"$f":"IF(ISBLANK(Datenerfassung!Q844),\"\",Datenerfassung!Q844)","v":""}]
[{"$f":"IF(ISBLANK(Datenerfassung!A845),\"\",Datenerfassung!A845)","v":""},{"$f":"IF(ISBLANK(Datenerfassung!B845),\"\",Datenerfassung!B845)","v":""},{"$f":"IF(ISBLANK(Datenerfassung!C845),\"\",Datenerfassung!C845)","v":""},{"$f":"IF(ISBLANK(Datenerfassung!R845),\"\",Datenerfassung!R845)","v":""},{"$f":"IF(ISBLANK(Datenerfassung!S845),\"\",Datenerfassung!S845)","v":""},{"$f":"IF(D835=\"\",\"\",IF(E835=\"\",D835,D835&\" - \"&E835))","v":""},{"$f":"IF(ISBLANK(Datenerfassung!U845),\"\",Datenerfassung!U845)","v":""},{"$f":"IF(ISBLANK(Datenerfassung!O845),\"\",Datenerfassung!O845)","v":""},{"$f":"IF(ISBLANK(Datenerfassung!D845),IF(COUNTBLANK(A835:H835)+COUNTBLANK(J835:O835)=14,\"\",\"- ohne Titel -\"),Datenerfassung!D845)","v":""},{"$f":"IF(ISBLANK(Datenerfassung!G845),\"\",Datenerfassung!G845)","v":""},{"$f":"IF(OR(E835=\"\",G835=\"\"),\"\",\"01.01.\"&RIGHT(E835,4)+G835+1)","v":""},{"$f":"IF(ISBLANK(Datenerfassung!X845),\"\",Datenerfassung!X845)","v":""},{"$f":"IF(COUNTBLANK(Datenerfassung!H845:'Datenerfassung'!N845)=7,\"\",CONCATENATE( CONCATENATE(IF(ISBLANK(Datenerfassung!H845),\" \",Datenerfassung!H845 ),\" [IS]\"), CONCATENATE(IF(ISBLANK(Datenerfassung!I845),\" \",Datenerfassung!I845 ),\" [IS]\"), CONCATENATE(IF(ISBLANK(Datenerfassung!J845),\" \",Datenerfassung!J845 ),\" [IS]\"), CONCATENATE(IF(ISBLANK(Datenerfassung!K845),\" \",Datenerfassung!K845 ),\" [IS]\"), CONCATENATE(IF(ISBLANK(Datenerfassung!L845),\" \",Datenerfassung!L845 ),\" [IS]\"), CONCATENATE(IF(ISBLANK(Datenerfassung!M845),\" \",Datenerfassung!M845 ),\" [IS]\"), IF(ISBLANK(Datenerfassung!N845),\" \",Datenerfassung!N845 ) ))","v":""},{"$f":"IF(ISBLANK(Datenerfassung!V845),\"\",Datenerfassung!V845)","v":""},{"$f":"IF(ISBLANK(Datenerfassung!Q845),\"\",Datenerfassung!Q845)","v":""}]
[{"$f":"IF(ISBLANK(Datenerfassung!A846),\"\",Datenerfassung!A846)","v":""},{"$f":"IF(ISBLANK(Datenerfassung!B846),\"\",Datenerfassung!B846)","v":""},{"$f":"IF(ISBLANK(Datenerfassung!C846),\"\",Datenerfassung!C846)","v":""},{"$f":"IF(ISBLANK(Datenerfassung!R846),\"\",Datenerfassung!R846)","v":""},{"$f":"IF(ISBLANK(Datenerfassung!S846),\"\",Datenerfassung!S846)","v":""},"",{"$f":"IF(ISBLANK(Datenerfassung!U846),\"\",Datenerfassung!U846)","v":""},{"$f":"IF(ISBLANK(Datenerfassung!O846),\"\",Datenerfassung!O846)","v":""},{"$f":"IF(ISBLANK(Datenerfassung!D846),IF(COUNTBLANK(A836:H836)+COUNTBLANK(J836:O836)=14,\"\",\"- ohne Titel -\"),Datenerfassung!D846)","v":""},{"$f":"IF(ISBLANK(Datenerfassung!G846),\"\",Datenerfassung!G846)","v":""},"",{"$f":"IF(ISBLANK(Datenerfassung!X846),\"\",Datenerfassung!X846)","v":""},{"$f":"IF(COUNTBLANK(Datenerfassung!H846:'Datenerfassung'!N846)=7,\"\",CONCATENATE( CONCATENATE(IF(ISBLANK(Datenerfassung!H846),\" \",Datenerfassung!H846 ),\" [IS]\"), CONCATENATE(IF(ISBLANK(Datenerfassung!I846),\" \",Datenerfassung!I846 ),\" [IS]\"), CONCATENATE(IF(ISBLANK(Datenerfassung!J846),\" \",Datenerfassung!J846 ),\" [IS]\"), CONCATENATE(IF(ISBLANK(Datenerfassung!K846),\" \",Datenerfassung!K846 ),\" [IS]\"), CONCATENATE(IF(ISBLANK(Datenerfassung!L846),\" \",Datenerfassung!L846 ),\" [IS]\"), CONCATENATE(IF(ISBLANK(Datenerfassung!M846),\" \",Datenerfassung!M846 ),\" [IS]\"), IF(ISBLANK(Datenerfassung!N846),\" \",Datenerfassung!N846 ) ))","v":""},{"$f":"IF(ISBLANK(Datenerfassung!V846),\"\",Datenerfassung!V846)","v":""},{"$f":"IF(ISBLANK(Datenerfassung!Q846),\"\",Datenerfassung!Q846)","v":""}]
[{"$f":"IF(ISBLANK(Datenerfassung!A847),\"\",Datenerfassung!A847)","v":""},{"$f":"IF(ISBLANK(Datenerfassung!B847),\"\",Datenerfassung!B847)","v":""},{"$f":"IF(ISBLANK(Datenerfassung!C847),\"\",Datenerfassung!C847)","v":""},{"$f":"IF(ISBLANK(Datenerfassung!R847),\"\",Datenerfassung!R847)","v":""},{"$f":"IF(ISBLANK(Datenerfassung!S847),\"\",Datenerfassung!S847)","v":""},"",{"$f":"IF(ISBLANK(Datenerfassung!U847),\"\",Datenerfassung!U847)","v":""},{"$f":"IF(ISBLANK(Datenerfassung!O847),\"\",Datenerfassung!O847)","v":""},{"$f":"IF(ISBLANK(Datenerfassung!D847),IF(COUNTBLANK(A837:H837)+COUNTBLANK(J837:O837)=14,\"\",\"- ohne Titel -\"),Datenerfassung!D847)","v":""},{"$f":"IF(ISBLANK(Datenerfassung!G847),\"\",Datenerfassung!G847)","v":""},"",{"$f":"IF(ISBLANK(Datenerfassung!X847),\"\",Datenerfassung!X847)","v":""},{"$f":"IF(COUNTBLANK(Datenerfassung!H847:'Datenerfassung'!N847)=7,\"\",CONCATENATE( CONCATENATE(IF(ISBLANK(Datenerfassung!H847),\" \",Datenerfassung!H847 ),\" [IS]\"), CONCATENATE(IF(ISBLANK(Datenerfassung!I847),\" \",Datenerfassung!I847 ),\" [IS]\"), CONCATENATE(IF(ISBLANK(Datenerfassung!J847),\" \",Datenerfassung!J847 ),\" [IS]\"), CONCATENATE(IF(ISBLANK(Datenerfassung!K847),\" \",Datenerfassung!K847 ),\" [IS]\"), CONCATENATE(IF(ISBLANK(Datenerfassung!L847),\" \",Datenerfassung!L847 ),\" [IS]\"), CONCATENATE(IF(ISBLANK(Datenerfassung!M847),\" \",Datenerfassung!M847 ),\" [IS]\"), IF(ISBLANK(Datenerfassung!N847),\" \",Datenerfassung!N847 ) ))","v":""},{"$f":"IF(ISBLANK(Datenerfassung!V847),\"\",Datenerfassung!V847)","v":""},{"$f":"IF(ISBLANK(Datenerfassung!Q847),\"\",Datenerfassung!Q847)","v":""}]
[{"$f":"IF(ISBLANK(Datenerfassung!A848),\"\",Datenerfassung!A848)","v":""},{"$f":"IF(ISBLANK(Datenerfassung!B848),\"\",Datenerfassung!B848)","v":""},{"$f":"IF(ISBLANK(Datenerfassung!C848),\"\",Datenerfassung!C848)","v":""},{"$f":"IF(ISBLANK(Datenerfassung!R848),\"\",Datenerfassung!R848)","v":""},{"$f":"IF(ISBLANK(Datenerfassung!S848),\"\",Datenerfassung!S848)","v":""},"",{"$f":"IF(ISBLANK(Datenerfassung!U848),\"\",Datenerfassung!U848)","v":""},{"$f":"IF(ISBLANK(Datenerfassung!O848),\"\",Datenerfassung!O848)","v":""},{"$f":"IF(ISBLANK(Datenerfassung!D848),IF(COUNTBLANK(A838:H838)+COUNTBLANK(J838:O838)=14,\"\",\"- ohne Titel -\"),Datenerfassung!D848)","v":""},{"$f":"IF(ISBLANK(Datenerfassung!G848),\"\",Datenerfassung!G848)","v":""},"",{"$f":"IF(ISBLANK(Datenerfassung!X848),\"\",Datenerfassung!X848)","v":""},{"$f":"IF(COUNTBLANK(Datenerfassung!H848:'Datenerfassung'!N848)=7,\"\",CONCATENATE( CONCATENATE(IF(ISBLANK(Datenerfassung!H848),\" \",Datenerfassung!H848 ),\" [IS]\"), CONCATENATE(IF(ISBLANK(Datenerfassung!I848),\" \",Datenerfassung!I848 ),\" [IS]\"), CONCATENATE(IF(ISBLANK(Datenerfassung!J848),\" \",Datenerfassung!J848 ),\" [IS]\"), CONCATENATE(IF(ISBLANK(Datenerfassung!K848),\" \",Datenerfassung!K848 ),\" [IS]\"), CONCATENATE(IF(ISBLANK(Datenerfassung!L848),\" \",Datenerfassung!L848 ),\" [IS]\"), CONCATENATE(IF(ISBLANK(Datenerfassung!M848),\" \",Datenerfassung!M848 ),\" [IS]\"), IF(ISBLANK(Datenerfassung!N848),\" \",Datenerfassung!N848 ) ))","v":""},{"$f":"IF(ISBLANK(Datenerfassung!V848),\"\",Datenerfassung!V848)","v":""},{"$f":"IF(ISBLANK(Datenerfassung!Q848),\"\",Datenerfassung!Q848)","v":""}]
[{"$f":"IF(ISBLANK(Datenerfassung!A849),\"\",Datenerfassung!A849)","v":""},{"$f":"IF(ISBLANK(Datenerfassung!B849),\"\",Datenerfassung!B849)","v":""},{"$f":"IF(ISBLANK(Datenerfassung!C849),\"\",Datenerfassung!C849)","v":""},{"$f":"IF(ISBLANK(Datenerfassung!R849),\"\",Datenerfassung!R849)","v":""},{"$f":"IF(ISBLANK(Datenerfassung!S849),\"\",Datenerfassung!S849)","v":""},"",{"$f":"IF(ISBLANK(Datenerfassung!U849),\"\",Datenerfassung!U849)","v":""},{"$f":"IF(ISBLANK(Datenerfassung!O849),\"\",Datenerfassung!O849)","v":""},{"$f":"IF(ISBLANK(Datenerfassung!D849),IF(COUNTBLANK(A839:H839)+COUNTBLANK(J839:O839)=14,\"\",\"- ohne Titel -\"),Datenerfassung!D849)","v":""},{"$f":"IF(ISBLANK(Datenerfassung!G849),\"\",Datenerfassung!G849)","v":""},"",{"$f":"IF(ISBLANK(Datenerfassung!X849),\"\",Datenerfassung!X849)","v":""},{"$f":"IF(COUNTBLANK(Datenerfassung!H849:'Datenerfassung'!N849)=7,\"\",CONCATENATE( CONCATENATE(IF(ISBLANK(Datenerfassung!H849),\" \",Datenerfassung!H849 ),\" [IS]\"), CONCATENATE(IF(ISBLANK(Datenerfassung!I849),\" \",Datenerfassung!I849 ),\" [IS]\"), CONCATENATE(IF(ISBLANK(Datenerfassung!J849),\" \",Datenerfassung!J849 ),\" [IS]\"), CONCATENATE(IF(ISBLANK(Datenerfassung!K849),\" \",Datenerfassung!K849 ),\" [IS]\"), CONCATENATE(IF(ISBLANK(Datenerfassung!L849),\" \",Datenerfassung!L849 ),\" [IS]\"), CONCATENATE(IF(ISBLANK(Datenerfassung!M849),\" \",Datenerfassung!M849 ),\" [IS]\"), IF(ISBLANK(Datenerfassung!N849),\" \",Datenerfassung!N849 ) ))","v":""},{"$f":"IF(ISBLANK(Datenerfassung!V849),\"\",Datenerfassung!V849)","v":""},{"$f":"IF(ISBLANK(Datenerfassung!Q849),\"\",Datenerfassung!Q849)","v":""}]
[{"$f":"IF(ISBLANK(Datenerfassung!A850),\"\",Datenerfassung!A850)","v":""},{"$f":"IF(ISBLANK(Datenerfassung!B850),\"\",Datenerfassung!B850)","v":""},{"$f":"IF(ISBLANK(Datenerfassung!C850),\"\",Datenerfassung!C850)","v":""},{"$f":"IF(ISBLANK(Datenerfassung!R850),\"\",Datenerfassung!R850)","v":""},{"$f":"IF(ISBLANK(Datenerfassung!S850),\"\",Datenerfassung!S850)","v":""},"",{"$f":"IF(ISBLANK(Datenerfassung!U850),\"\",Datenerfassung!U850)","v":""},{"$f":"IF(ISBLANK(Datenerfassung!O850),\"\",Datenerfassung!O850)","v":""},{"$f":"IF(ISBLANK(Datenerfassung!D850),IF(COUNTBLANK(A840:H840)+COUNTBLANK(J840:O840)=14,\"\",\"- ohne Titel -\"),Datenerfassung!D850)","v":""},{"$f":"IF(ISBLANK(Datenerfassung!G850),\"\",Datenerfassung!G850)","v":""},"",{"$f":"IF(ISBLANK(Datenerfassung!X850),\"\",Datenerfassung!X850)","v":""},{"$f":"IF(COUNTBLANK(Datenerfassung!H850:'Datenerfassung'!N850)=7,\"\",CONCATENATE( CONCATENATE(IF(ISBLANK(Datenerfassung!H850),\" \",Datenerfassung!H850 ),\" [IS]\"), CONCATENATE(IF(ISBLANK(Datenerfassung!I850),\" \",Datenerfassung!I850 ),\" [IS]\"), CONCATENATE(IF(ISBLANK(Datenerfassung!J850),\" \",Datenerfassung!J850 ),\" [IS]\"), CONCATENATE(IF(ISBLANK(Datenerfassung!K850),\" \",Datenerfassung!K850 ),\" [IS]\"), CONCATENATE(IF(ISBLANK(Datenerfassung!L850),\" \",Datenerfassung!L850 ),\" [IS]\"), CONCATENATE(IF(ISBLANK(Datenerfassung!M850),\" \",Datenerfassung!M850 ),\" [IS]\"), IF(ISBLANK(Datenerfassung!N850),\" \",Datenerfassung!N850 ) ))","v":""},{"$f":"IF(ISBLANK(Datenerfassung!V850),\"\",Datenerfassung!V850)","v":""},{"$f":"IF(ISBLANK(Datenerfassung!Q850),\"\",Datenerfassung!Q850)","v":""}]
[{"$f":"IF(ISBLANK(Datenerfassung!A851),\"\",Datenerfassung!A851)","v":""},{"$f":"IF(ISBLANK(Datenerfassung!B851),\"\",Datenerfassung!B851)","v":""},{"$f":"IF(ISBLANK(Datenerfassung!C851),\"\",Datenerfassung!C851)","v":""},{"$f":"IF(ISBLANK(Datenerfassung!R851),\"\",Datenerfassung!R851)","v":""},{"$f":"IF(ISBLANK(Datenerfassung!S851),\"\",Datenerfassung!S851)","v":""},"",{"$f":"IF(ISBLANK(Datenerfassung!U851),\"\",Datenerfassung!U851)","v":""},{"$f":"IF(ISBLANK(Datenerfassung!O851),\"\",Datenerfassung!O851)","v":""},{"$f":"IF(ISBLANK(Datenerfassung!D851),IF(COUNTBLANK(A841:H841)+COUNTBLANK(J841:O841)=14,\"\",\"- ohne Titel -\"),Datenerfassung!D851)","v":""},{"$f":"IF(ISBLANK(Datenerfassung!G851),\"\",Datenerfassung!G851)","v":""},"",{"$f":"IF(ISBLANK(Datenerfassung!X851),\"\",Datenerfassung!X851)","v":""},{"$f":"IF(COUNTBLANK(Datenerfassung!H851:'Datenerfassung'!N851)=7,\"\",CONCATENATE( CONCATENATE(IF(ISBLANK(Datenerfassung!H851),\" \",Datenerfassung!H851 ),\" [IS]\"), CONCATENATE(IF(ISBLANK(Datenerfassung!I851),\" \",Datenerfassung!I851 ),\" [IS]\"), CONCATENATE(IF(ISBLANK(Datenerfassung!J851),\" \",Datenerfassung!J851 ),\" [IS]\"), CONCATENATE(IF(ISBLANK(Datenerfassung!K851),\" \",Datenerfassung!K851 ),\" [IS]\"), CONCATENATE(IF(ISBLANK(Datenerfassung!L851),\" \",Datenerfassung!L851 ),\" [IS]\"), CONCATENATE(IF(ISBLANK(Datenerfassung!M851),\" \",Datenerfassung!M851 ),\" [IS]\"), IF(ISBLANK(Datenerfassung!N851),\" \",Datenerfassung!N851 ) ))","v":""},{"$f":"IF(ISBLANK(Datenerfassung!V851),\"\",Datenerfassung!V851)","v":""},{"$f":"IF(ISBLANK(Datenerfassung!Q851),\"\",Datenerfassung!Q851)","v":""}]
[{"$f":"IF(ISBLANK(Datenerfassung!A852),\"\",Datenerfassung!A852)","v":""},{"$f":"IF(ISBLANK(Datenerfassung!B852),\"\",Datenerfassung!B852)","v":""},{"$f":"IF(ISBLANK(Datenerfassung!C852),\"\",Datenerfassung!C852)","v":""},{"$f":"IF(ISBLANK(Datenerfassung!R852),\"\",Datenerfassung!R852)","v":""},{"$f":"IF(ISBLANK(Datenerfassung!S852),\"\",Datenerfassung!S852)","v":""},"",{"$f":"IF(ISBLANK(Datenerfassung!U852),\"\",Datenerfassung!U852)","v":""},{"$f":"IF(ISBLANK(Datenerfassung!O852),\"\",Datenerfassung!O852)","v":""},{"$f":"IF(ISBLANK(Datenerfassung!D852),IF(COUNTBLANK(A842:H842)+COUNTBLANK(J842:O842)=14,\"\",\"- ohne Titel -\"),Datenerfassung!D852)","v":""},{"$f":"IF(ISBLANK(Datenerfassung!G852),\"\",Datenerfassung!G852)","v":""},"",{"$f":"IF(ISBLANK(Datenerfassung!X852),\"\",Datenerfassung!X852)","v":""},{"$f":"IF(COUNTBLANK(Datenerfassung!H852:'Datenerfassung'!N852)=7,\"\",CONCATENATE( CONCATENATE(IF(ISBLANK(Datenerfassung!H852),\" \",Datenerfassung!H852 ),\" [IS]\"), CONCATENATE(IF(ISBLANK(Datenerfassung!I852),\" \",Datenerfassung!I852 ),\" [IS]\"), CONCATENATE(IF(ISBLANK(Datenerfassung!J852),\" \",Datenerfassung!J852 ),\" [IS]\"), CONCATENATE(IF(ISBLANK(Datenerfassung!K852),\" \",Datenerfassung!K852 ),\" [IS]\"), CONCATENATE(IF(ISBLANK(Datenerfassung!L852),\" \",Datenerfassung!L852 ),\" [IS]\"), CONCATENATE(IF(ISBLANK(Datenerfassung!M852),\" \",Datenerfassung!M852 ),\" [IS]\"), IF(ISBLANK(Datenerfassung!N852),\" \",Datenerfassung!N852 ) ))","v":""},{"$f":"IF(ISBLANK(Datenerfassung!V852),\"\",Datenerfassung!V852)","v":""},{"$f":"IF(ISBLANK(Datenerfassung!Q852),\"\",Datenerfassung!Q852)","v":""}]
[{"$f":"IF(ISBLANK(Datenerfassung!A853),\"\",Datenerfassung!A853)","v":""},{"$f":"IF(ISBLANK(Datenerfassung!B853),\"\",Datenerfassung!B853)","v":""},{"$f":"IF(ISBLANK(Datenerfassung!C853),\"\",Datenerfassung!C853)","v":""},{"$f":"IF(ISBLANK(Datenerfassung!R853),\"\",Datenerfassung!R853)","v":""},{"$f":"IF(ISBLANK(Datenerfassung!S853),\"\",Datenerfassung!S853)","v":""},"",{"$f":"IF(ISBLANK(Datenerfassung!U853),\"\",Datenerfassung!U853)","v":""},{"$f":"IF(ISBLANK(Datenerfassung!O853),\"\",Datenerfassung!O853)","v":""},{"$f":"IF(ISBLANK(Datenerfassung!D853),IF(COUNTBLANK(A843:H843)+COUNTBLANK(J843:O843)=14,\"\",\"- ohne Titel -\"),Datenerfassung!D853)","v":""},{"$f":"IF(ISBLANK(Datenerfassung!G853),\"\",Datenerfassung!G853)","v":""},"",{"$f":"IF(ISBLANK(Datenerfassung!X853),\"\",Datenerfassung!X853)","v":""},{"$f":"IF(COUNTBLANK(Datenerfassung!H853:'Datenerfassung'!N853)=7,\"\",CONCATENATE( CONCATENATE(IF(ISBLANK(Datenerfassung!H853),\" \",Datenerfassung!H853 ),\" [IS]\"), CONCATENATE(IF(ISBLANK(Datenerfassung!I853),\" \",Datenerfassung!I853 ),\" [IS]\"), CONCATENATE(IF(ISBLANK(Datenerfassung!J853),\" \",Datenerfassung!J853 ),\" [IS]\"), CONCATENATE(IF(ISBLANK(Datenerfassung!K853),\" \",Datenerfassung!K853 ),\" [IS]\"), CONCATENATE(IF(ISBLANK(Datenerfassung!L853),\" \",Datenerfassung!L853 ),\" [IS]\"), CONCATENATE(IF(ISBLANK(Datenerfassung!M853),\" \",Datenerfassung!M853 ),\" [IS]\"), IF(ISBLANK(Datenerfassung!N853),\" \",Datenerfassung!N853 ) ))","v":""},{"$f":"IF(ISBLANK(Datenerfassung!V853),\"\",Datenerfassung!V853)","v":""},{"$f":"IF(ISBLANK(Datenerfassung!Q853),\"\",Datenerfassung!Q853)","v":""}]
[{"$f":"IF(ISBLANK(Datenerfassung!A854),\"\",Datenerfassung!A854)","v":""},{"$f":"IF(ISBLANK(Datenerfassung!B854),\"\",Datenerfassung!B854)","v":""},{"$f":"IF(ISBLANK(Datenerfassung!C854),\"\",Datenerfassung!C854)","v":""},{"$f":"IF(ISBLANK(Datenerfassung!R854),\"\",Datenerfassung!R854)","v":""},{"$f":"IF(ISBLANK(Datenerfassung!S854),\"\",Datenerfassung!S854)","v":""},"",{"$f":"IF(ISBLANK(Datenerfassung!U854),\"\",Datenerfassung!U854)","v":""},{"$f":"IF(ISBLANK(Datenerfassung!O854),\"\",Datenerfassung!O854)","v":""},{"$f":"IF(ISBLANK(Datenerfassung!D854),IF(COUNTBLANK(A844:H844)+COUNTBLANK(J844:O844)=14,\"\",\"- ohne Titel -\"),Datenerfassung!D854)","v":""},{"$f":"IF(ISBLANK(Datenerfassung!G854),\"\",Datenerfassung!G854)","v":""},"",{"$f":"IF(ISBLANK(Datenerfassung!X854),\"\",Datenerfassung!X854)","v":""},{"$f":"IF(COUNTBLANK(Datenerfassung!H854:'Datenerfassung'!N854)=7,\"\",CONCATENATE( CONCATENATE(IF(ISBLANK(Datenerfassung!H854),\" \",Datenerfassung!H854 ),\" [IS]\"), CONCATENATE(IF(ISBLANK(Datenerfassung!I854),\" \",Datenerfassung!I854 ),\" [IS]\"), CONCATENATE(IF(ISBLANK(Datenerfassung!J854),\" \",Datenerfassung!J854 ),\" [IS]\"), CONCATENATE(IF(ISBLANK(Datenerfassung!K854),\" \",Datenerfassung!K854 ),\" [IS]\"), CONCATENATE(IF(ISBLANK(Datenerfassung!L854),\" \",Datenerfassung!L854 ),\" [IS]\"), CONCATENATE(IF(ISBLANK(Datenerfassung!M854),\" \",Datenerfassung!M854 ),\" [IS]\"), IF(ISBLANK(Datenerfassung!N854),\" \",Datenerfassung!N854 ) ))","v":""},{"$f":"IF(ISBLANK(Datenerfassung!V854),\"\",Datenerfassung!V854)","v":""},{"$f":"IF(ISBLANK(Datenerfassung!Q854),\"\",Datenerfassung!Q854)","v":""}]
[{"$f":"IF(ISBLANK(Datenerfassung!A855),\"\",Datenerfassung!A855)","v":""},{"$f":"IF(ISBLANK(Datenerfassung!B855),\"\",Datenerfassung!B855)","v":""},{"$f":"IF(ISBLANK(Datenerfassung!C855),\"\",Datenerfassung!C855)","v":""},{"$f":"IF(ISBLANK(Datenerfassung!R855),\"\",Datenerfassung!R855)","v":""},{"$f":"IF(ISBLANK(Datenerfassung!S855),\"\",Datenerfassung!S855)","v":""},"",{"$f":"IF(ISBLANK(Datenerfassung!U855),\"\",Datenerfassung!U855)","v":""},{"$f":"IF(ISBLANK(Datenerfassung!O855),\"\",Datenerfassung!O855)","v":""},{"$f":"IF(ISBLANK(Datenerfassung!D855),IF(COUNTBLANK(A845:H845)+COUNTBLANK(J845:O845)=14,\"\",\"- ohne Titel -\"),Datenerfassung!D855)","v":""},{"$f":"IF(ISBLANK(Datenerfassung!G855),\"\",Datenerfassung!G855)","v":""},"",{"$f":"IF(ISBLANK(Datenerfassung!X855),\"\",Datenerfassung!X855)","v":""},{"$f":"IF(COUNTBLANK(Datenerfassung!H855:'Datenerfassung'!N855)=7,\"\",CONCATENATE( CONCATENATE(IF(ISBLANK(Datenerfassung!H855),\" \",Datenerfassung!H855 ),\" [IS]\"), CONCATENATE(IF(ISBLANK(Datenerfassung!I855),\" \",Datenerfassung!I855 ),\" [IS]\"), CONCATENATE(IF(ISBLANK(Datenerfassung!J855),\" \",Datenerfassung!J855 ),\" [IS]\"), CONCATENATE(IF(ISBLANK(Datenerfassung!K855),\" \",Datenerfassung!K855 ),\" [IS]\"), CONCATENATE(IF(ISBLANK(Datenerfassung!L855),\" \",Datenerfassung!L855 ),\" [IS]\"), CONCATENATE(IF(ISBLANK(Datenerfassung!M855),\" \",Datenerfassung!M855 ),\" [IS]\"), IF(ISBLANK(Datenerfassung!N855),\" \",Datenerfassung!N855 ) ))","v":""},{"$f":"IF(ISBLANK(Datenerfassung!V855),\"\",Datenerfassung!V855)","v":""},{"$f":"IF(ISBLANK(Datenerfassung!Q855),\"\",Datenerfassung!Q855)","v":""}]
[{"$f":"IF(ISBLANK(Datenerfassung!A856),\"\",Datenerfassung!A856)","v":""},{"$f":"IF(ISBLANK(Datenerfassung!B856),\"\",Datenerfassung!B856)","v":""},{"$f":"IF(ISBLANK(Datenerfassung!C856),\"\",Datenerfassung!C856)","v":""},{"$f":"IF(ISBLANK(Datenerfassung!R856),\"\",Datenerfassung!R856)","v":""},{"$f":"IF(ISBLANK(Datenerfassung!S856),\"\",Datenerfassung!S856)","v":""},"",{"$f":"IF(ISBLANK(Datenerfassung!U856),\"\",Datenerfassung!U856)","v":""},{"$f":"IF(ISBLANK(Datenerfassung!O856),\"\",Datenerfassung!O856)","v":""},{"$f":"IF(ISBLANK(Datenerfassung!D856),IF(COUNTBLANK(A846:H846)+COUNTBLANK(J846:O846)=14,\"\",\"- ohne Titel -\"),Datenerfassung!D856)","v":""},{"$f":"IF(ISBLANK(Datenerfassung!G856),\"\",Datenerfassung!G856)","v":""},"",{"$f":"IF(ISBLANK(Datenerfassung!X856),\"\",Datenerfassung!X856)","v":""},{"$f":"IF(COUNTBLANK(Datenerfassung!H856:'Datenerfassung'!N856)=7,\"\",CONCATENATE( CONCATENATE(IF(ISBLANK(Datenerfassung!H856),\" \",Datenerfassung!H856 ),\" [IS]\"), CONCATENATE(IF(ISBLANK(Datenerfassung!I856),\" \",Datenerfassung!I856 ),\" [IS]\"), CONCATENATE(IF(ISBLANK(Datenerfassung!J856),\" \",Datenerfassung!J856 ),\" [IS]\"), CONCATENATE(IF(ISBLANK(Datenerfassung!K856),\" \",Datenerfassung!K856 ),\" [IS]\"), CONCATENATE(IF(ISBLANK(Datenerfassung!L856),\" \",Datenerfassung!L856 ),\" [IS]\"), CONCATENATE(IF(ISBLANK(Datenerfassung!M856),\" \",Datenerfassung!M856 ),\" [IS]\"), IF(ISBLANK(Datenerfassung!N856),\" \",Datenerfassung!N856 ) ))","v":""},{"$f":"IF(ISBLANK(Datenerfassung!V856),\"\",Datenerfassung!V856)","v":""},{"$f":"IF(ISBLANK(Datenerfassung!Q856),\"\",Datenerfassung!Q856)","v":""}]
[{"$f":"IF(ISBLANK(Datenerfassung!A857),\"\",Datenerfassung!A857)","v":""},{"$f":"IF(ISBLANK(Datenerfassung!B857),\"\",Datenerfassung!B857)","v":""},{"$f":"IF(ISBLANK(Datenerfassung!C857),\"\",Datenerfassung!C857)","v":""},{"$f":"IF(ISBLANK(Datenerfassung!R857),\"\",Datenerfassung!R857)","v":""},{"$f":"IF(ISBLANK(Datenerfassung!S857),\"\",Datenerfassung!S857)","v":""},"",{"$f":"IF(ISBLANK(Datenerfassung!U857),\"\",Datenerfassung!U857)","v":""},{"$f":"IF(ISBLANK(Datenerfassung!O857),\"\",Datenerfassung!O857)","v":""},{"$f":"IF(ISBLANK(Datenerfassung!D857),IF(COUNTBLANK(A847:H847)+COUNTBLANK(J847:O847)=14,\"\",\"- ohne Titel -\"),Datenerfassung!D857)","v":""},{"$f":"IF(ISBLANK(Datenerfassung!G857),\"\",Datenerfassung!G857)","v":""},"",{"$f":"IF(ISBLANK(Datenerfassung!X857),\"\",Datenerfassung!X857)","v":""},{"$f":"IF(COUNTBLANK(Datenerfassung!H857:'Datenerfassung'!N857)=7,\"\",CONCATENATE( CONCATENATE(IF(ISBLANK(Datenerfassung!H857),\" \",Datenerfassung!H857 ),\" [IS]\"), CONCATENATE(IF(ISBLANK(Datenerfassung!I857),\" \",Datenerfassung!I857 ),\" [IS]\"), CONCATENATE(IF(ISBLANK(Datenerfassung!J857),\" \",Datenerfassung!J857 ),\" [IS]\"), CONCATENATE(IF(ISBLANK(Datenerfassung!K857),\" \",Datenerfassung!K857 ),\" [IS]\"), CONCATENATE(IF(ISBLANK(Datenerfassung!L857),\" \",Datenerfassung!L857 ),\" [IS]\"), CONCATENATE(IF(ISBLANK(Datenerfassung!M857),\" \",Datenerfassung!M857 ),\" [IS]\"), IF(ISBLANK(Datenerfassung!N857),\" \",Datenerfassung!N857 ) ))","v":""},{"$f":"IF(ISBLANK(Datenerfassung!V857),\"\",Datenerfassung!V857)","v":""},{"$f":"IF(ISBLANK(Datenerfassung!Q857),\"\",Datenerfassung!Q857)","v":""}]
[{"$f":"IF(ISBLANK(Datenerfassung!A858),\"\",Datenerfassung!A858)","v":""},{"$f":"IF(ISBLANK(Datenerfassung!B858),\"\",Datenerfassung!B858)","v":""},{"$f":"IF(ISBLANK(Datenerfassung!C858),\"\",Datenerfassung!C858)","v":""},{"$f":"IF(ISBLANK(Datenerfassung!R858),\"\",Datenerfassung!R858)","v":""},{"$f":"IF(ISBLANK(Datenerfassung!S858),\"\",Datenerfassung!S858)","v":""},"",{"$f":"IF(ISBLANK(Datenerfassung!U858),\"\",Datenerfassung!U858)","v":""},{"$f":"IF(ISBLANK(Datenerfassung!O858),\"\",Datenerfassung!O858)","v":""},{"$f":"IF(ISBLANK(Datenerfassung!D858),IF(COUNTBLANK(A848:H848)+COUNTBLANK(J848:O848)=14,\"\",\"- ohne Titel -\"),Datenerfassung!D858)","v":""},{"$f":"IF(ISBLANK(Datenerfassung!G858),\"\",Datenerfassung!G858)","v":""},"",{"$f":"IF(ISBLANK(Datenerfassung!X858),\"\",Datenerfassung!X858)","v":""},{"$f":"IF(COUNTBLANK(Datenerfassung!H858:'Datenerfassung'!N858)=7,\"\",CONCATENATE( CONCATENATE(IF(ISBLANK(Datenerfassung!H858),\" \",Datenerfassung!H858 ),\" [IS]\"), CONCATENATE(IF(ISBLANK(Datenerfassung!I858),\" \",Datenerfassung!I858 ),\" [IS]\"), CONCATENATE(IF(ISBLANK(Datenerfassung!J858),\" \",Datenerfassung!J858 ),\" [IS]\"), CONCATENATE(IF(ISBLANK(Datenerfassung!K858),\" \",Datenerfassung!K858 ),\" [IS]\"), CONCATENATE(IF(ISBLANK(Datenerfassung!L858),\" \",Datenerfassung!L858 ),\" [IS]\"), CONCATENATE(IF(ISBLANK(Datenerfassung!M858),\" \",Datenerfassung!M858 ),\" [IS]\"), IF(ISBLANK(Datenerfassung!N858),\" \",Datenerfassung!N858 ) ))","v":""},{"$f":"IF(ISBLANK(Datenerfassung!V858),\"\",Datenerfassung!V858)","v":""},{"$f":"IF(ISBLANK(Datenerfassung!Q858),\"\",Datenerfassung!Q858)","v":""}]
[{"$f":"IF(ISBLANK(Datenerfassung!A859),\"\",Datenerfassung!A859)","v":""},{"$f":"IF(ISBLANK(Datenerfassung!B859),\"\",Datenerfassung!B859)","v":""},{"$f":"IF(ISBLANK(Datenerfassung!C859),\"\",Datenerfassung!C859)","v":""},{"$f":"IF(ISBLANK(Datenerfassung!R859),\"\",Datenerfassung!R859)","v":""},{"$f":"IF(ISBLANK(Datenerfassung!S859),\"\",Datenerfassung!S859)","v":""},"",{"$f":"IF(ISBLANK(Datenerfassung!U859),\"\",Datenerfassung!U859)","v":""},{"$f":"IF(ISBLANK(Datenerfassung!O859),\"\",Datenerfassung!O859)","v":""},{"$f":"IF(ISBLANK(Datenerfassung!D859),IF(COUNTBLANK(A849:H849)+COUNTBLANK(J849:O849)=14,\"\",\"- ohne Titel -\"),Datenerfassung!D859)","v":""},{"$f":"IF(ISBLANK(Datenerfassung!G859),\"\",Datenerfassung!G859)","v":""},"",{"$f":"IF(ISBLANK(Datenerfassung!X859),\"\",Datenerfassung!X859)","v":""},{"$f":"IF(COUNTBLANK(Datenerfassung!H859:'Datenerfassung'!N859)=7,\"\",CONCATENATE( CONCATENATE(IF(ISBLANK(Datenerfassung!H859),\" \",Datenerfassung!H859 ),\" [IS]\"), CONCATENATE(IF(ISBLANK(Datenerfassung!I859),\" \",Datenerfassung!I859 ),\" [IS]\"), CONCATENATE(IF(ISBLANK(Datenerfassung!J859),\" \",Datenerfassung!J859 ),\" [IS]\"), CONCATENATE(IF(ISBLANK(Datenerfassung!K859),\" \",Datenerfassung!K859 ),\" [IS]\"), CONCATENATE(IF(ISBLANK(Datenerfassung!L859),\" \",Datenerfassung!L859 ),\" [IS]\"), CONCATENATE(IF(ISBLANK(Datenerfassung!M859),\" \",Datenerfassung!M859 ),\" [IS]\"), IF(ISBLANK(Datenerfassung!N859),\" \",Datenerfassung!N859 ) ))","v":""},{"$f":"IF(ISBLANK(Datenerfassung!V859),\"\",Datenerfassung!V859)","v":""},{"$f":"IF(ISBLANK(Datenerfassung!Q859),\"\",Datenerfassung!Q859)","v":""}]
[{"$f":"IF(ISBLANK(Datenerfassung!A860),\"\",Datenerfassung!A860)","v":""},{"$f":"IF(ISBLANK(Datenerfassung!B860),\"\",Datenerfassung!B860)","v":""},{"$f":"IF(ISBLANK(Datenerfassung!C860),\"\",Datenerfassung!C860)","v":""},{"$f":"IF(ISBLANK(Datenerfassung!R860),\"\",Datenerfassung!R860)","v":""},{"$f":"IF(ISBLANK(Datenerfassung!S860),\"\",Datenerfassung!S860)","v":""},"",{"$f":"IF(ISBLANK(Datenerfassung!U860),\"\",Datenerfassung!U860)","v":""},{"$f":"IF(ISBLANK(Datenerfassung!O860),\"\",Datenerfassung!O860)","v":""},{"$f":"IF(ISBLANK(Datenerfassung!D860),IF(COUNTBLANK(A850:H850)+COUNTBLANK(J850:O850)=14,\"\",\"- ohne Titel -\"),Datenerfassung!D860)","v":""},{"$f":"IF(ISBLANK(Datenerfassung!G860),\"\",Datenerfassung!G860)","v":""},"",{"$f":"IF(ISBLANK(Datenerfassung!X860),\"\",Datenerfassung!X860)","v":""},{"$f":"IF(COUNTBLANK(Datenerfassung!H860:'Datenerfassung'!N860)=7,\"\",CONCATENATE( CONCATENATE(IF(ISBLANK(Datenerfassung!H860),\" \",Datenerfassung!H860 ),\" [IS]\"), CONCATENATE(IF(ISBLANK(Datenerfassung!I860),\" \",Datenerfassung!I860 ),\" [IS]\"), CONCATENATE(IF(ISBLANK(Datenerfassung!J860),\" \",Datenerfassung!J860 ),\" [IS]\"), CONCATENATE(IF(ISBLANK(Datenerfassung!K860),\" \",Datenerfassung!K860 ),\" [IS]\"), CONCATENATE(IF(ISBLANK(Datenerfassung!L860),\" \",Datenerfassung!L860 ),\" [IS]\"), CONCATENATE(IF(ISBLANK(Datenerfassung!M860),\" \",Datenerfassung!M860 ),\" [IS]\"), IF(ISBLANK(Datenerfassung!N860),\" \",Datenerfassung!N860 ) ))","v":""},{"$f":"IF(ISBLANK(Datenerfassung!V860),\"\",Datenerfassung!V860)","v":""},{"$f":"IF(ISBLANK(Datenerfassung!Q860),\"\",Datenerfassung!Q860)","v":""}]
[{"$f":"IF(ISBLANK(Datenerfassung!A861),\"\",Datenerfassung!A861)","v":""},{"$f":"IF(ISBLANK(Datenerfassung!B861),\"\",Datenerfassung!B861)","v":""},{"$f":"IF(ISBLANK(Datenerfassung!C861),\"\",Datenerfassung!C861)","v":""},{"$f":"IF(ISBLANK(Datenerfassung!R861),\"\",Datenerfassung!R861)","v":""},{"$f":"IF(ISBLANK(Datenerfassung!S861),\"\",Datenerfassung!S861)","v":""},"",{"$f":"IF(ISBLANK(Datenerfassung!U861),\"\",Datenerfassung!U861)","v":""},{"$f":"IF(ISBLANK(Datenerfassung!O861),\"\",Datenerfassung!O861)","v":""},{"$f":"IF(ISBLANK(Datenerfassung!D861),IF(COUNTBLANK(A851:H851)+COUNTBLANK(J851:O851)=14,\"\",\"- ohne Titel -\"),Datenerfassung!D861)","v":""},{"$f":"IF(ISBLANK(Datenerfassung!G861),\"\",Datenerfassung!G861)","v":""},"",{"$f":"IF(ISBLANK(Datenerfassung!X861),\"\",Datenerfassung!X861)","v":""},{"$f":"IF(COUNTBLANK(Datenerfassung!H861:'Datenerfassung'!N861)=7,\"\",CONCATENATE( CONCATENATE(IF(ISBLANK(Datenerfassung!H861),\" \",Datenerfassung!H861 ),\" [IS]\"), CONCATENATE(IF(ISBLANK(Datenerfassung!I861),\" \",Datenerfassung!I861 ),\" [IS]\"), CONCATENATE(IF(ISBLANK(Datenerfassung!J861),\" \",Datenerfassung!J861 ),\" [IS]\"), CONCATENATE(IF(ISBLANK(Datenerfassung!K861),\" \",Datenerfassung!K861 ),\" [IS]\"), CONCATENATE(IF(ISBLANK(Datenerfassung!L861),\" \",Datenerfassung!L861 ),\" [IS]\"), CONCATENATE(IF(ISBLANK(Datenerfassung!M861),\" \",Datenerfassung!M861 ),\" [IS]\"), IF(ISBLANK(Datenerfassung!N861),\" \",Datenerfassung!N861 ) ))","v":""},{"$f":"IF(ISBLANK(Datenerfassung!V861),\"\",Datenerfassung!V861)","v":""},{"$f":"IF(ISBLANK(Datenerfassung!Q861),\"\",Datenerfassung!Q861)","v":""}]
[{"$f":"IF(ISBLANK(Datenerfassung!A862),\"\",Datenerfassung!A862)","v":""},{"$f":"IF(ISBLANK(Datenerfassung!B862),\"\",Datenerfassung!B862)","v":""},{"$f":"IF(ISBLANK(Datenerfassung!C862),\"\",Datenerfassung!C862)","v":""},{"$f":"IF(ISBLANK(Datenerfassung!R862),\"\",Datenerfassung!R862)","v":""},{"$f":"IF(ISBLANK(Datenerfassung!S862),\"\",Datenerfassung!S862)","v":""},"",{"$f":"IF(ISBLANK(Datenerfassung!U862),\"\",Datenerfassung!U862)","v":""},{"$f":"IF(ISBLANK(Datenerfassung!O862),\"\",Datenerfassung!O862)","v":""},{"$f":"IF(ISBLANK(Datenerfassung!D862),IF(COUNTBLANK(A852:H852)+COUNTBLANK(J852:O852)=14,\"\",\"- ohne Titel -\"),Datenerfassung!D862)","v":""},{"$f":"IF(ISBLANK(Datenerfassung!G862),\"\",Datenerfassung!G862)","v":""},"",{"$f":"IF(ISBLANK(Datenerfassung!X862),\"\",Datenerfassung!X862)","v":""},{"$f":"IF(COUNTBLANK(Datenerfassung!H862:'Datenerfassung'!N862)=7,\"\",CONCATENATE( CONCATENATE(IF(ISBLANK(Datenerfassung!H862),\" \",Datenerfassung!H862 ),\" [IS]\"), CONCATENATE(IF(ISBLANK(Datenerfassung!I862),\" \",Datenerfassung!I862 ),\" [IS]\"), CONCATENATE(IF(ISBLANK(Datenerfassung!J862),\" \",Datenerfassung!J862 ),\" [IS]\"), CONCATENATE(IF(ISBLANK(Datenerfassung!K862),\" \",Datenerfassung!K862 ),\" [IS]\"), CONCATENATE(IF(ISBLANK(Datenerfassung!L862),\" \",Datenerfassung!L862 ),\" [IS]\"), CONCATENATE(IF(ISBLANK(Datenerfassung!M862),\" \",Datenerfassung!M862 ),\" [IS]\"), IF(ISBLANK(Datenerfassung!N862),\" \",Datenerfassung!N862 ) ))","v":""},{"$f":"IF(ISBLANK(Datenerfassung!V862),\"\",Datenerfassung!V862)","v":""},{"$f":"IF(ISBLANK(Datenerfassung!Q862),\"\",Datenerfassung!Q862)","v":""}]
[{"$f":"IF(ISBLANK(Datenerfassung!A863),\"\",Datenerfassung!A863)","v":""},{"$f":"IF(ISBLANK(Datenerfassung!B863),\"\",Datenerfassung!B863)","v":""},{"$f":"IF(ISBLANK(Datenerfassung!C863),\"\",Datenerfassung!C863)","v":""},{"$f":"IF(ISBLANK(Datenerfassung!R863),\"\",Datenerfassung!R863)","v":""},{"$f":"IF(ISBLANK(Datenerfassung!S863),\"\",Datenerfassung!S863)","v":""},"",{"$f":"IF(ISBLANK(Datenerfassung!U863),\"\",Datenerfassung!U863)","v":""},{"$f":"IF(ISBLANK(Datenerfassung!O863),\"\",Datenerfassung!O863)","v":""},{"$f":"IF(ISBLANK(Datenerfassung!D863),IF(COUNTBLANK(A853:H853)+COUNTBLANK(J853:O853)=14,\"\",\"- ohne Titel -\"),Datenerfassung!D863)","v":""},{"$f":"IF(ISBLANK(Datenerfassung!G863),\"\",Datenerfassung!G863)","v":""},"",{"$f":"IF(ISBLANK(Datenerfassung!X863),\"\",Datenerfassung!X863)","v":""},{"$f":"IF(COUNTBLANK(Datenerfassung!H863:'Datenerfassung'!N863)=7,\"\",CONCATENATE( CONCATENATE(IF(ISBLANK(Datenerfassung!H863),\" \",Datenerfassung!H863 ),\" [IS]\"), CONCATENATE(IF(ISBLANK(Datenerfassung!I863),\" \",Datenerfassung!I863 ),\" [IS]\"), CONCATENATE(IF(ISBLANK(Datenerfassung!J863),\" \",Datenerfassung!J863 ),\" [IS]\"), CONCATENATE(IF(ISBLANK(Datenerfassung!K863),\" \",Datenerfassung!K863 ),\" [IS]\"), CONCATENATE(IF(ISBLANK(Datenerfassung!L863),\" \",Datenerfassung!L863 ),\" [IS]\"), CONCATENATE(IF(ISBLANK(Datenerfassung!M863),\" \",Datenerfassung!M863 ),\" [IS]\"), IF(ISBLANK(Datenerfassung!N863),\" \",Datenerfassung!N863 ) ))","v":""},{"$f":"IF(ISBLANK(Datenerfassung!V863),\"\",Datenerfassung!V863)","v":""},{"$f":"IF(ISBLANK(Datenerfassung!Q863),\"\",Datenerfassung!Q863)","v":""}]
[{"$f":"IF(ISBLANK(Datenerfassung!A864),\"\",Datenerfassung!A864)","v":""},{"$f":"IF(ISBLANK(Datenerfassung!B864),\"\",Datenerfassung!B864)","v":""},{"$f":"IF(ISBLANK(Datenerfassung!C864),\"\",Datenerfassung!C864)","v":""},{"$f":"IF(ISBLANK(Datenerfassung!R864),\"\",Datenerfassung!R864)","v":""},{"$f":"IF(ISBLANK(Datenerfassung!S864),\"\",Datenerfassung!S864)","v":""},"",{"$f":"IF(ISBLANK(Datenerfassung!U864),\"\",Datenerfassung!U864)","v":""},{"$f":"IF(ISBLANK(Datenerfassung!O864),\"\",Datenerfassung!O864)","v":""},{"$f":"IF(ISBLANK(Datenerfassung!D864),IF(COUNTBLANK(A854:H854)+COUNTBLANK(J854:O854)=14,\"\",\"- ohne Titel -\"),Datenerfassung!D864)","v":""},{"$f":"IF(ISBLANK(Datenerfassung!G864),\"\",Datenerfassung!G864)","v":""},"",{"$f":"IF(ISBLANK(Datenerfassung!X864),\"\",Datenerfassung!X864)","v":""},{"$f":"IF(COUNTBLANK(Datenerfassung!H864:'Datenerfassung'!N864)=7,\"\",CONCATENATE( CONCATENATE(IF(ISBLANK(Datenerfassung!H864),\" \",Datenerfassung!H864 ),\" [IS]\"), CONCATENATE(IF(ISBLANK(Datenerfassung!I864),\" \",Datenerfassung!I864 ),\" [IS]\"), CONCATENATE(IF(ISBLANK(Datenerfassung!J864),\" \",Datenerfassung!J864 ),\" [IS]\"), CONCATENATE(IF(ISBLANK(Datenerfassung!K864),\" \",Datenerfassung!K864 ),\" [IS]\"), CONCATENATE(IF(ISBLANK(Datenerfassung!L864),\" \",Datenerfassung!L864 ),\" [IS]\"), CONCATENATE(IF(ISBLANK(Datenerfassung!M864),\" \",Datenerfassung!M864 ),\" [IS]\"), IF(ISBLANK(Datenerfassung!N864),\" \",Datenerfassung!N864 ) ))","v":""},{"$f":"IF(ISBLANK(Datenerfassung!V864),\"\",Datenerfassung!V864)","v":""},{"$f":"IF(ISBLANK(Datenerfassung!Q864),\"\",Datenerfassung!Q864)","v":""}]
[{"$f":"IF(ISBLANK(Datenerfassung!A865),\"\",Datenerfassung!A865)","v":""},{"$f":"IF(ISBLANK(Datenerfassung!B865),\"\",Datenerfassung!B865)","v":""},{"$f":"IF(ISBLANK(Datenerfassung!C865),\"\",Datenerfassung!C865)","v":""},{"$f":"IF(ISBLANK(Datenerfassung!R865),\"\",Datenerfassung!R865)","v":""},{"$f":"IF(ISBLANK(Datenerfassung!S865),\"\",Datenerfassung!S865)","v":""},"",{"$f":"IF(ISBLANK(Datenerfassung!U865),\"\",Datenerfassung!U865)","v":""},{"$f":"IF(ISBLANK(Datenerfassung!O865),\"\",Datenerfassung!O865)","v":""},{"$f":"IF(ISBLANK(Datenerfassung!D865),IF(COUNTBLANK(A855:H855)+COUNTBLANK(J855:O855)=14,\"\",\"- ohne Titel -\"),Datenerfassung!D865)","v":""},{"$f":"IF(ISBLANK(Datenerfassung!G865),\"\",Datenerfassung!G865)","v":""},"",{"$f":"IF(ISBLANK(Datenerfassung!X865),\"\",Datenerfassung!X865)","v":""},{"$f":"IF(COUNTBLANK(Datenerfassung!H865:'Datenerfassung'!N865)=7,\"\",CONCATENATE( CONCATENATE(IF(ISBLANK(Datenerfassung!H865),\" \",Datenerfassung!H865 ),\" [IS]\"), CONCATENATE(IF(ISBLANK(Datenerfassung!I865),\" \",Datenerfassung!I865 ),\" [IS]\"), CONCATENATE(IF(ISBLANK(Datenerfassung!J865),\" \",Datenerfassung!J865 ),\" [IS]\"), CONCATENATE(IF(ISBLANK(Datenerfassung!K865),\" \",Datenerfassung!K865 ),\" [IS]\"), CONCATENATE(IF(ISBLANK(Datenerfassung!L865),\" \",Datenerfassung!L865 ),\" [IS]\"), CONCATENATE(IF(ISBLANK(Datenerfassung!M865),\" \",Datenerfassung!M865 ),\" [IS]\"), IF(ISBLANK(Datenerfassung!N865),\" \",Datenerfassung!N865 ) ))","v":""},{"$f":"IF(ISBLANK(Datenerfassung!V865),\"\",Datenerfassung!V865)","v":""},{"$f":"IF(ISBLANK(Datenerfassung!Q865),\"\",Datenerfassung!Q865)","v":""}]
[{"$f":"IF(ISBLANK(Datenerfassung!A866),\"\",Datenerfassung!A866)","v":""},{"$f":"IF(ISBLANK(Datenerfassung!B866),\"\",Datenerfassung!B866)","v":""},{"$f":"IF(ISBLANK(Datenerfassung!C866),\"\",Datenerfassung!C866)","v":""},{"$f":"IF(ISBLANK(Datenerfassung!R866),\"\",Datenerfassung!R866)","v":""},{"$f":"IF(ISBLANK(Datenerfassung!S866),\"\",Datenerfassung!S866)","v":""},"",{"$f":"IF(ISBLANK(Datenerfassung!U866),\"\",Datenerfassung!U866)","v":""},{"$f":"IF(ISBLANK(Datenerfassung!O866),\"\",Datenerfassung!O866)","v":""},{"$f":"IF(ISBLANK(Datenerfassung!D866),IF(COUNTBLANK(A856:H856)+COUNTBLANK(J856:O856)=14,\"\",\"- ohne Titel -\"),Datenerfassung!D866)","v":""},{"$f":"IF(ISBLANK(Datenerfassung!G866),\"\",Datenerfassung!G866)","v":""},"",{"$f":"IF(ISBLANK(Datenerfassung!X866),\"\",Datenerfassung!X866)","v":""},{"$f":"IF(COUNTBLANK(Datenerfassung!H866:'Datenerfassung'!N866)=7,\"\",CONCATENATE( CONCATENATE(IF(ISBLANK(Datenerfassung!H866),\" \",Datenerfassung!H866 ),\" [IS]\"), CONCATENATE(IF(ISBLANK(Datenerfassung!I866),\" \",Datenerfassung!I866 ),\" [IS]\"), CONCATENATE(IF(ISBLANK(Datenerfassung!J866),\" \",Datenerfassung!J866 ),\" [IS]\"), CONCATENATE(IF(ISBLANK(Datenerfassung!K866),\" \",Datenerfassung!K866 ),\" [IS]\"), CONCATENATE(IF(ISBLANK(Datenerfassung!L866),\" \",Datenerfassung!L866 ),\" [IS]\"), CONCATENATE(IF(ISBLANK(Datenerfassung!M866),\" \",Datenerfassung!M866 ),\" [IS]\"), IF(ISBLANK(Datenerfassung!N866),\" \",Datenerfassung!N866 ) ))","v":""},{"$f":"IF(ISBLANK(Datenerfassung!V866),\"\",Datenerfassung!V866)","v":""},{"$f":"IF(ISBLANK(Datenerfassung!Q866),\"\",Datenerfassung!Q866)","v":""}]
[{"$f":"IF(ISBLANK(Datenerfassung!A867),\"\",Datenerfassung!A867)","v":""},{"$f":"IF(ISBLANK(Datenerfassung!B867),\"\",Datenerfassung!B867)","v":""},{"$f":"IF(ISBLANK(Datenerfassung!C867),\"\",Datenerfassung!C867)","v":""},{"$f":"IF(ISBLANK(Datenerfassung!R867),\"\",Datenerfassung!R867)","v":""},{"$f":"IF(ISBLANK(Datenerfassung!S867),\"\",Datenerfassung!S867)","v":""},"",{"$f":"IF(ISBLANK(Datenerfassung!U867),\"\",Datenerfassung!U867)","v":""},{"$f":"IF(ISBLANK(Datenerfassung!O867),\"\",Datenerfassung!O867)","v":""},{"$f":"IF(ISBLANK(Datenerfassung!D867),IF(COUNTBLANK(A857:H857)+COUNTBLANK(J857:O857)=14,\"\",\"- ohne Titel -\"),Datenerfassung!D867)","v":""},{"$f":"IF(ISBLANK(Datenerfassung!G867),\"\",Datenerfassung!G867)","v":""},"",{"$f":"IF(ISBLANK(Datenerfassung!X867),\"\",Datenerfassung!X867)","v":""},{"$f":"IF(COUNTBLANK(Datenerfassung!H867:'Datenerfassung'!N867)=7,\"\",CONCATENATE( CONCATENATE(IF(ISBLANK(Datenerfassung!H867),\" \",Datenerfassung!H867 ),\" [IS]\"), CONCATENATE(IF(ISBLANK(Datenerfassung!I867),\" \",Datenerfassung!I867 ),\" [IS]\"), CONCATENATE(IF(ISBLANK(Datenerfassung!J867),\" \",Datenerfassung!J867 ),\" [IS]\"), CONCATENATE(IF(ISBLANK(Datenerfassung!K867),\" \",Datenerfassung!K867 ),\" [IS]\"), CONCATENATE(IF(ISBLANK(Datenerfassung!L867),\" \",Datenerfassung!L867 ),\" [IS]\"), CONCATENATE(IF(ISBLANK(Datenerfassung!M867),\" \",Datenerfassung!M867 ),\" [IS]\"), IF(ISBLANK(Datenerfassung!N867),\" \",Datenerfassung!N867 ) ))","v":""},{"$f":"IF(ISBLANK(Datenerfassung!V867),\"\",Datenerfassung!V867)","v":""},{"$f":"IF(ISBLANK(Datenerfassung!Q867),\"\",Datenerfassung!Q867)","v":""}]
[{"$f":"IF(ISBLANK(Datenerfassung!A868),\"\",Datenerfassung!A868)","v":""},{"$f":"IF(ISBLANK(Datenerfassung!B868),\"\",Datenerfassung!B868)","v":""},{"$f":"IF(ISBLANK(Datenerfassung!C868),\"\",Datenerfassung!C868)","v":""},{"$f":"IF(ISBLANK(Datenerfassung!R868),\"\",Datenerfassung!R868)","v":""},{"$f":"IF(ISBLANK(Datenerfassung!S868),\"\",Datenerfassung!S868)","v":""},"",{"$f":"IF(ISBLANK(Datenerfassung!U868),\"\",Datenerfassung!U868)","v":""},{"$f":"IF(ISBLANK(Datenerfassung!O868),\"\",Datenerfassung!O868)","v":""},{"$f":"IF(ISBLANK(Datenerfassung!D868),IF(COUNTBLANK(A858:H858)+COUNTBLANK(J858:O858)=14,\"\",\"- ohne Titel -\"),Datenerfassung!D868)","v":""},{"$f":"IF(ISBLANK(Datenerfassung!G868),\"\",Datenerfassung!G868)","v":""},"",{"$f":"IF(ISBLANK(Datenerfassung!X868),\"\",Datenerfassung!X868)","v":""},{"$f":"IF(COUNTBLANK(Datenerfassung!H868:'Datenerfassung'!N868)=7,\"\",CONCATENATE( CONCATENATE(IF(ISBLANK(Datenerfassung!H868),\" \",Datenerfassung!H868 ),\" [IS]\"), CONCATENATE(IF(ISBLANK(Datenerfassung!I868),\" \",Datenerfassung!I868 ),\" [IS]\"), CONCATENATE(IF(ISBLANK(Datenerfassung!J868),\" \",Datenerfassung!J868 ),\" [IS]\"), CONCATENATE(IF(ISBLANK(Datenerfassung!K868),\" \",Datenerfassung!K868 ),\" [IS]\"), CONCATENATE(IF(ISBLANK(Datenerfassung!L868),\" \",Datenerfassung!L868 ),\" [IS]\"), CONCATENATE(IF(ISBLANK(Datenerfassung!M868),\" \",Datenerfassung!M868 ),\" [IS]\"), IF(ISBLANK(Datenerfassung!N868),\" \",Datenerfassung!N868 ) ))","v":""},{"$f":"IF(ISBLANK(Datenerfassung!V868),\"\",Datenerfassung!V868)","v":""},{"$f":"IF(ISBLANK(Datenerfassung!Q868),\"\",Datenerfassung!Q868)","v":""}]
[{"$f":"IF(ISBLANK(Datenerfassung!A869),\"\",Datenerfassung!A869)","v":""},{"$f":"IF(ISBLANK(Datenerfassung!B869),\"\",Datenerfassung!B869)","v":""},{"$f":"IF(ISBLANK(Datenerfassung!C869),\"\",Datenerfassung!C869)","v":""},{"$f":"IF(ISBLANK(Datenerfassung!R869),\"\",Datenerfassung!R869)","v":""},{"$f":"IF(ISBLANK(Datenerfassung!S869),\"\",Datenerfassung!S869)","v":""},"",{"$f":"IF(ISBLANK(Datenerfassung!U869),\"\",Datenerfassung!U869)","v":""},{"$f":"IF(ISBLANK(Datenerfassung!O869),\"\",Datenerfassung!O869)","v":""},{"$f":"IF(ISBLANK(Datenerfassung!D869),IF(COUNTBLANK(A859:H859)+COUNTBLANK(J859:O859)=14,\"\",\"- ohne Titel -\"),Datenerfassung!D869)","v":""},{"$f":"IF(ISBLANK(Datenerfassung!G869),\"\",Datenerfassung!G869)","v":""},"",{"$f":"IF(ISBLANK(Datenerfassung!X869),\"\",Datenerfassung!X869)","v":""},{"$f":"IF(COUNTBLANK(Datenerfassung!H869:'Datenerfassung'!N869)=7,\"\",CONCATENATE( CONCATENATE(IF(ISBLANK(Datenerfassung!H869),\" \",Datenerfassung!H869 ),\" [IS]\"), CONCATENATE(IF(ISBLANK(Datenerfassung!I869),\" \",Datenerfassung!I869 ),\" [IS]\"), CONCATENATE(IF(ISBLANK(Datenerfassung!J869),\" \",Datenerfassung!J869 ),\" [IS]\"), CONCATENATE(IF(ISBLANK(Datenerfassung!K869),\" \",Datenerfassung!K869 ),\" [IS]\"), CONCATENATE(IF(ISBLANK(Datenerfassung!L869),\" \",Datenerfassung!L869 ),\" [IS]\"), CONCATENATE(IF(ISBLANK(Datenerfassung!M869),\" \",Datenerfassung!M869 ),\" [IS]\"), IF(ISBLANK(Datenerfassung!N869),\" \",Datenerfassung!N869 ) ))","v":""},{"$f":"IF(ISBLANK(Datenerfassung!V869),\"\",Datenerfassung!V869)","v":""},{"$f":"IF(ISBLANK(Datenerfassung!Q869),\"\",Datenerfassung!Q869)","v":""}]
[{"$f":"IF(ISBLANK(Datenerfassung!A870),\"\",Datenerfassung!A870)","v":""},{"$f":"IF(ISBLANK(Datenerfassung!B870),\"\",Datenerfassung!B870)","v":""},{"$f":"IF(ISBLANK(Datenerfassung!C870),\"\",Datenerfassung!C870)","v":""},{"$f":"IF(ISBLANK(Datenerfassung!R870),\"\",Datenerfassung!R870)","v":""},{"$f":"IF(ISBLANK(Datenerfassung!S870),\"\",Datenerfassung!S870)","v":""},"",{"$f":"IF(ISBLANK(Datenerfassung!U870),\"\",Datenerfassung!U870)","v":""},{"$f":"IF(ISBLANK(Datenerfassung!O870),\"\",Datenerfassung!O870)","v":""},{"$f":"IF(ISBLANK(Datenerfassung!D870),IF(COUNTBLANK(A860:H860)+COUNTBLANK(J860:O860)=14,\"\",\"- ohne Titel -\"),Datenerfassung!D870)","v":""},{"$f":"IF(ISBLANK(Datenerfassung!G870),\"\",Datenerfassung!G870)","v":""},"",{"$f":"IF(ISBLANK(Datenerfassung!X870),\"\",Datenerfassung!X870)","v":""},{"$f":"IF(COUNTBLANK(Datenerfassung!H870:'Datenerfassung'!N870)=7,\"\",CONCATENATE( CONCATENATE(IF(ISBLANK(Datenerfassung!H870),\" \",Datenerfassung!H870 ),\" [IS]\"), CONCATENATE(IF(ISBLANK(Datenerfassung!I870),\" \",Datenerfassung!I870 ),\" [IS]\"), CONCATENATE(IF(ISBLANK(Datenerfassung!J870),\" \",Datenerfassung!J870 ),\" [IS]\"), CONCATENATE(IF(ISBLANK(Datenerfassung!K870),\" \",Datenerfassung!K870 ),\" [IS]\"), CONCATENATE(IF(ISBLANK(Datenerfassung!L870),\" \",Datenerfassung!L870 ),\" [IS]\"), CONCATENATE(IF(ISBLANK(Datenerfassung!M870),\" \",Datenerfassung!M870 ),\" [IS]\"), IF(ISBLANK(Datenerfassung!N870),\" \",Datenerfassung!N870 ) ))","v":""},{"$f":"IF(ISBLANK(Datenerfassung!V870),\"\",Datenerfassung!V870)","v":""},{"$f":"IF(ISBLANK(Datenerfassung!Q870),\"\",Datenerfassung!Q870)","v":""}]
[{"$f":"IF(ISBLANK(Datenerfassung!A871),\"\",Datenerfassung!A871)","v":""},{"$f":"IF(ISBLANK(Datenerfassung!B871),\"\",Datenerfassung!B871)","v":""},{"$f":"IF(ISBLANK(Datenerfassung!C871),\"\",Datenerfassung!C871)","v":""},{"$f":"IF(ISBLANK(Datenerfassung!R871),\"\",Datenerfassung!R871)","v":""},{"$f":"IF(ISBLANK(Datenerfassung!S871),\"\",Datenerfassung!S871)","v":""},"",{"$f":"IF(ISBLANK(Datenerfassung!U871),\"\",Datenerfassung!U871)","v":""},{"$f":"IF(ISBLANK(Datenerfassung!O871),\"\",Datenerfassung!O871)","v":""},{"$f":"IF(ISBLANK(Datenerfassung!D871),IF(COUNTBLANK(A861:H861)+COUNTBLANK(J861:O861)=14,\"\",\"- ohne Titel -\"),Datenerfassung!D871)","v":""},{"$f":"IF(ISBLANK(Datenerfassung!G871),\"\",Datenerfassung!G871)","v":""},"",{"$f":"IF(ISBLANK(Datenerfassung!X871),\"\",Datenerfassung!X871)","v":""},{"$f":"IF(COUNTBLANK(Datenerfassung!H871:'Datenerfassung'!N871)=7,\"\",CONCATENATE( CONCATENATE(IF(ISBLANK(Datenerfassung!H871),\" \",Datenerfassung!H871 ),\" [IS]\"), CONCATENATE(IF(ISBLANK(Datenerfassung!I871),\" \",Datenerfassung!I871 ),\" [IS]\"), CONCATENATE(IF(ISBLANK(Datenerfassung!J871),\" \",Datenerfassung!J871 ),\" [IS]\"), CONCATENATE(IF(ISBLANK(Datenerfassung!K871),\" \",Datenerfassung!K871 ),\" [IS]\"), CONCATENATE(IF(ISBLANK(Datenerfassung!L871),\" \",Datenerfassung!L871 ),\" [IS]\"), CONCATENATE(IF(ISBLANK(Datenerfassung!M871),\" \",Datenerfassung!M871 ),\" [IS]\"), IF(ISBLANK(Datenerfassung!N871),\" \",Datenerfassung!N871 ) ))","v":""},{"$f":"IF(ISBLANK(Datenerfassung!V871),\"\",Datenerfassung!V871)","v":""},{"$f":"IF(ISBLANK(Datenerfassung!Q871),\"\",Datenerfassung!Q871)","v":""}]
[{"$f":"IF(ISBLANK(Datenerfassung!A872),\"\",Datenerfassung!A872)","v":""},{"$f":"IF(ISBLANK(Datenerfassung!B872),\"\",Datenerfassung!B872)","v":""},{"$f":"IF(ISBLANK(Datenerfassung!C872),\"\",Datenerfassung!C872)","v":""},{"$f":"IF(ISBLANK(Datenerfassung!R872),\"\",Datenerfassung!R872)","v":""},{"$f":"IF(ISBLANK(Datenerfassung!S872),\"\",Datenerfassung!S872)","v":""},"",{"$f":"IF(ISBLANK(Datenerfassung!U872),\"\",Datenerfassung!U872)","v":""},{"$f":"IF(ISBLANK(Datenerfassung!O872),\"\",Datenerfassung!O872)","v":""},{"$f":"IF(ISBLANK(Datenerfassung!D872),IF(COUNTBLANK(A862:H862)+COUNTBLANK(J862:O862)=14,\"\",\"- ohne Titel -\"),Datenerfassung!D872)","v":""},{"$f":"IF(ISBLANK(Datenerfassung!G872),\"\",Datenerfassung!G872)","v":""},"",{"$f":"IF(ISBLANK(Datenerfassung!X872),\"\",Datenerfassung!X872)","v":""},{"$f":"IF(COUNTBLANK(Datenerfassung!H872:'Datenerfassung'!N872)=7,\"\",CONCATENATE( CONCATENATE(IF(ISBLANK(Datenerfassung!H872),\" \",Datenerfassung!H872 ),\" [IS]\"), CONCATENATE(IF(ISBLANK(Datenerfassung!I872),\" \",Datenerfassung!I872 ),\" [IS]\"), CONCATENATE(IF(ISBLANK(Datenerfassung!J872),\" \",Datenerfassung!J872 ),\" [IS]\"), CONCATENATE(IF(ISBLANK(Datenerfassung!K872),\" \",Datenerfassung!K872 ),\" [IS]\"), CONCATENATE(IF(ISBLANK(Datenerfassung!L872),\" \",Datenerfassung!L872 ),\" [IS]\"), CONCATENATE(IF(ISBLANK(Datenerfassung!M872),\" \",Datenerfassung!M872 ),\" [IS]\"), IF(ISBLANK(Datenerfassung!N872),\" \",Datenerfassung!N872 ) ))","v":""},{"$f":"IF(ISBLANK(Datenerfassung!V872),\"\",Datenerfassung!V872)","v":""},{"$f":"IF(ISBLANK(Datenerfassung!Q872),\"\",Datenerfassung!Q872)","v":""}]
[{"$f":"IF(ISBLANK(Datenerfassung!A873),\"\",Datenerfassung!A873)","v":""},{"$f":"IF(ISBLANK(Datenerfassung!B873),\"\",Datenerfassung!B873)","v":""},{"$f":"IF(ISBLANK(Datenerfassung!C873),\"\",Datenerfassung!C873)","v":""},{"$f":"IF(ISBLANK(Datenerfassung!R873),\"\",Datenerfassung!R873)","v":""},{"$f":"IF(ISBLANK(Datenerfassung!S873),\"\",Datenerfassung!S873)","v":""},"",{"$f":"IF(ISBLANK(Datenerfassung!U873),\"\",Datenerfassung!U873)","v":""},{"$f":"IF(ISBLANK(Datenerfassung!O873),\"\",Datenerfassung!O873)","v":""},{"$f":"IF(ISBLANK(Datenerfassung!D873),IF(COUNTBLANK(A863:H863)+COUNTBLANK(J863:O863)=14,\"\",\"- ohne Titel -\"),Datenerfassung!D873)","v":""},{"$f":"IF(ISBLANK(Datenerfassung!G873),\"\",Datenerfassung!G873)","v":""},"",{"$f":"IF(ISBLANK(Datenerfassung!X873),\"\",Datenerfassung!X873)","v":""},{"$f":"IF(COUNTBLANK(Datenerfassung!H873:'Datenerfassung'!N873)=7,\"\",CONCATENATE( CONCATENATE(IF(ISBLANK(Datenerfassung!H873),\" \",Datenerfassung!H873 ),\" [IS]\"), CONCATENATE(IF(ISBLANK(Datenerfassung!I873),\" \",Datenerfassung!I873 ),\" [IS]\"), CONCATENATE(IF(ISBLANK(Datenerfassung!J873),\" \",Datenerfassung!J873 ),\" [IS]\"), CONCATENATE(IF(ISBLANK(Datenerfassung!K873),\" \",Datenerfassung!K873 ),\" [IS]\"), CONCATENATE(IF(ISBLANK(Datenerfassung!L873),\" \",Datenerfassung!L873 ),\" [IS]\"), CONCATENATE(IF(ISBLANK(Datenerfassung!M873),\" \",Datenerfassung!M873 ),\" [IS]\"), IF(ISBLANK(Datenerfassung!N873),\" \",Datenerfassung!N873 ) ))","v":""},{"$f":"IF(ISBLANK(Datenerfassung!V873),\"\",Datenerfassung!V873)","v":""},{"$f":"IF(ISBLANK(Datenerfassung!Q873),\"\",Datenerfassung!Q873)","v":""}]
[{"$f":"IF(ISBLANK(Datenerfassung!A874),\"\",Datenerfassung!A874)","v":""},{"$f":"IF(ISBLANK(Datenerfassung!B874),\"\",Datenerfassung!B874)","v":""},{"$f":"IF(ISBLANK(Datenerfassung!C874),\"\",Datenerfassung!C874)","v":""},{"$f":"IF(ISBLANK(Datenerfassung!R874),\"\",Datenerfassung!R874)","v":""},{"$f":"IF(ISBLANK(Datenerfassung!S874),\"\",Datenerfassung!S874)","v":""},"",{"$f":"IF(ISBLANK(Datenerfassung!U874),\"\",Datenerfassung!U874)","v":""},{"$f":"IF(ISBLANK(Datenerfassung!O874),\"\",Datenerfassung!O874)","v":""},{"$f":"IF(ISBLANK(Datenerfassung!D874),IF(COUNTBLANK(A864:H864)+COUNTBLANK(J864:O864)=14,\"\",\"- ohne Titel -\"),Datenerfassung!D874)","v":""},{"$f":"IF(ISBLANK(Datenerfassung!G874),\"\",Datenerfassung!G874)","v":""},"",{"$f":"IF(ISBLANK(Datenerfassung!X874),\"\",Datenerfassung!X874)","v":""},{"$f":"IF(COUNTBLANK(Datenerfassung!H874:'Datenerfassung'!N874)=7,\"\",CONCATENATE( CONCATENATE(IF(ISBLANK(Datenerfassung!H874),\" \",Datenerfassung!H874 ),\" [IS]\"), CONCATENATE(IF(ISBLANK(Datenerfassung!I874),\" \",Datenerfassung!I874 ),\" [IS]\"), CONCATENATE(IF(ISBLANK(Datenerfassung!J874),\" \",Datenerfassung!J874 ),\" [IS]\"), CONCATENATE(IF(ISBLANK(Datenerfassung!K874),\" \",Datenerfassung!K874 ),\" [IS]\"), CONCATENATE(IF(ISBLANK(Datenerfassung!L874),\" \",Datenerfassung!L874 ),\" [IS]\"), CONCATENATE(IF(ISBLANK(Datenerfassung!M874),\" \",Datenerfassung!M874 ),\" [IS]\"), IF(ISBLANK(Datenerfassung!N874),\" \",Datenerfassung!N874 ) ))","v":""},{"$f":"IF(ISBLANK(Datenerfassung!V874),\"\",Datenerfassung!V874)","v":""},{"$f":"IF(ISBLANK(Datenerfassung!Q874),\"\",Datenerfassung!Q874)","v":""}]
[{"$f":"IF(ISBLANK(Datenerfassung!A875),\"\",Datenerfassung!A875)","v":""},{"$f":"IF(ISBLANK(Datenerfassung!B875),\"\",Datenerfassung!B875)","v":""},{"$f":"IF(ISBLANK(Datenerfassung!C875),\"\",Datenerfassung!C875)","v":""},{"$f":"IF(ISBLANK(Datenerfassung!R875),\"\",Datenerfassung!R875)","v":""},{"$f":"IF(ISBLANK(Datenerfassung!S875),\"\",Datenerfassung!S875)","v":""},"",{"$f":"IF(ISBLANK(Datenerfassung!U875),\"\",Datenerfassung!U875)","v":""},{"$f":"IF(ISBLANK(Datenerfassung!O875),\"\",Datenerfassung!O875)","v":""},{"$f":"IF(ISBLANK(Datenerfassung!D875),IF(COUNTBLANK(A865:H865)+COUNTBLANK(J865:O865)=14,\"\",\"- ohne Titel -\"),Datenerfassung!D875)","v":""},{"$f":"IF(ISBLANK(Datenerfassung!G875),\"\",Datenerfassung!G875)","v":""},"",{"$f":"IF(ISBLANK(Datenerfassung!X875),\"\",Datenerfassung!X875)","v":""},{"$f":"IF(COUNTBLANK(Datenerfassung!H875:'Datenerfassung'!N875)=7,\"\",CONCATENATE( CONCATENATE(IF(ISBLANK(Datenerfassung!H875),\" \",Datenerfassung!H875 ),\" [IS]\"), CONCATENATE(IF(ISBLANK(Datenerfassung!I875),\" \",Datenerfassung!I875 ),\" [IS]\"), CONCATENATE(IF(ISBLANK(Datenerfassung!J875),\" \",Datenerfassung!J875 ),\" [IS]\"), CONCATENATE(IF(ISBLANK(Datenerfassung!K875),\" \",Datenerfassung!K875 ),\" [IS]\"), CONCATENATE(IF(ISBLANK(Datenerfassung!L875),\" \",Datenerfassung!L875 ),\" [IS]\"), CONCATENATE(IF(ISBLANK(Datenerfassung!M875),\" \",Datenerfassung!M875 ),\" [IS]\"), IF(ISBLANK(Datenerfassung!N875),\" \",Datenerfassung!N875 ) ))","v":""},{"$f":"IF(ISBLANK(Datenerfassung!V875),\"\",Datenerfassung!V875)","v":""},{"$f":"IF(ISBLANK(Datenerfassung!Q875),\"\",Datenerfassung!Q875)","v":""}]
[{"$f":"IF(ISBLANK(Datenerfassung!A876),\"\",Datenerfassung!A876)","v":""},{"$f":"IF(ISBLANK(Datenerfassung!B876),\"\",Datenerfassung!B876)","v":""},{"$f":"IF(ISBLANK(Datenerfassung!C876),\"\",Datenerfassung!C876)","v":""},{"$f":"IF(ISBLANK(Datenerfassung!R876),\"\",Datenerfassung!R876)","v":""},{"$f":"IF(ISBLANK(Datenerfassung!S876),\"\",Datenerfassung!S876)","v":""},"",{"$f":"IF(ISBLANK(Datenerfassung!U876),\"\",Datenerfassung!U876)","v":""},{"$f":"IF(ISBLANK(Datenerfassung!O876),\"\",Datenerfassung!O876)","v":""},{"$f":"IF(ISBLANK(Datenerfassung!D876),IF(COUNTBLANK(A866:H866)+COUNTBLANK(J866:O866)=14,\"\",\"- ohne Titel -\"),Datenerfassung!D876)","v":""},{"$f":"IF(ISBLANK(Datenerfassung!G876),\"\",Datenerfassung!G876)","v":""},"",{"$f":"IF(ISBLANK(Datenerfassung!X876),\"\",Datenerfassung!X876)","v":""},{"$f":"IF(COUNTBLANK(Datenerfassung!H876:'Datenerfassung'!N876)=7,\"\",CONCATENATE( CONCATENATE(IF(ISBLANK(Datenerfassung!H876),\" \",Datenerfassung!H876 ),\" [IS]\"), CONCATENATE(IF(ISBLANK(Datenerfassung!I876),\" \",Datenerfassung!I876 ),\" [IS]\"), CONCATENATE(IF(ISBLANK(Datenerfassung!J876),\" \",Datenerfassung!J876 ),\" [IS]\"), CONCATENATE(IF(ISBLANK(Datenerfassung!K876),\" \",Datenerfassung!K876 ),\" [IS]\"), CONCATENATE(IF(ISBLANK(Datenerfassung!L876),\" \",Datenerfassung!L876 ),\" [IS]\"), CONCATENATE(IF(ISBLANK(Datenerfassung!M876),\" \",Datenerfassung!M876 ),\" [IS]\"), IF(ISBLANK(Datenerfassung!N876),\" \",Datenerfassung!N876 ) ))","v":""},{"$f":"IF(ISBLANK(Datenerfassung!V876),\"\",Datenerfassung!V876)","v":""},{"$f":"IF(ISBLANK(Datenerfassung!Q876),\"\",Datenerfassung!Q876)","v":""}]
[{"$f":"IF(ISBLANK(Datenerfassung!A877),\"\",Datenerfassung!A877)","v":""},{"$f":"IF(ISBLANK(Datenerfassung!B877),\"\",Datenerfassung!B877)","v":""},{"$f":"IF(ISBLANK(Datenerfassung!C877),\"\",Datenerfassung!C877)","v":""},{"$f":"IF(ISBLANK(Datenerfassung!R877),\"\",Datenerfassung!R877)","v":""},{"$f":"IF(ISBLANK(Datenerfassung!S877),\"\",Datenerfassung!S877)","v":""},"",{"$f":"IF(ISBLANK(Datenerfassung!U877),\"\",Datenerfassung!U877)","v":""},{"$f":"IF(ISBLANK(Datenerfassung!O877),\"\",Datenerfassung!O877)","v":""},{"$f":"IF(ISBLANK(Datenerfassung!D877),IF(COUNTBLANK(A867:H867)+COUNTBLANK(J867:O867)=14,\"\",\"- ohne Titel -\"),Datenerfassung!D877)","v":""},{"$f":"IF(ISBLANK(Datenerfassung!G877),\"\",Datenerfassung!G877)","v":""},"",{"$f":"IF(ISBLANK(Datenerfassung!X877),\"\",Datenerfassung!X877)","v":""},{"$f":"IF(COUNTBLANK(Datenerfassung!H877:'Datenerfassung'!N877)=7,\"\",CONCATENATE( CONCATENATE(IF(ISBLANK(Datenerfassung!H877),\" \",Datenerfassung!H877 ),\" [IS]\"), CONCATENATE(IF(ISBLANK(Datenerfassung!I877),\" \",Datenerfassung!I877 ),\" [IS]\"), CONCATENATE(IF(ISBLANK(Datenerfassung!J877),\" \",Datenerfassung!J877 ),\" [IS]\"), CONCATENATE(IF(ISBLANK(Datenerfassung!K877),\" \",Datenerfassung!K877 ),\" [IS]\"), CONCATENATE(IF(ISBLANK(Datenerfassung!L877),\" \",Datenerfassung!L877 ),\" [IS]\"), CONCATENATE(IF(ISBLANK(Datenerfassung!M877),\" \",Datenerfassung!M877 ),\" [IS]\"), IF(ISBLANK(Datenerfassung!N877),\" \",Datenerfassung!N877 ) ))","v":""},{"$f":"IF(ISBLANK(Datenerfassung!V877),\"\",Datenerfassung!V877)","v":""},{"$f":"IF(ISBLANK(Datenerfassung!Q877),\"\",Datenerfassung!Q877)","v":""}]
[{"$f":"IF(ISBLANK(Datenerfassung!A878),\"\",Datenerfassung!A878)","v":""},{"$f":"IF(ISBLANK(Datenerfassung!B878),\"\",Datenerfassung!B878)","v":""},{"$f":"IF(ISBLANK(Datenerfassung!C878),\"\",Datenerfassung!C878)","v":""},{"$f":"IF(ISBLANK(Datenerfassung!R878),\"\",Datenerfassung!R878)","v":""},{"$f":"IF(ISBLANK(Datenerfassung!S878),\"\",Datenerfassung!S878)","v":""},"",{"$f":"IF(ISBLANK(Datenerfassung!U878),\"\",Datenerfassung!U878)","v":""},{"$f":"IF(ISBLANK(Datenerfassung!O878),\"\",Datenerfassung!O878)","v":""},{"$f":"IF(ISBLANK(Datenerfassung!D878),IF(COUNTBLANK(A868:H868)+COUNTBLANK(J868:O868)=14,\"\",\"- ohne Titel -\"),Datenerfassung!D878)","v":""},{"$f":"IF(ISBLANK(Datenerfassung!G878),\"\",Datenerfassung!G878)","v":""},"",{"$f":"IF(ISBLANK(Datenerfassung!X878),\"\",Datenerfassung!X878)","v":""},{"$f":"IF(COUNTBLANK(Datenerfassung!H878:'Datenerfassung'!N878)=7,\"\",CONCATENATE( CONCATENATE(IF(ISBLANK(Datenerfassung!H878),\" \",Datenerfassung!H878 ),\" [IS]\"), CONCATENATE(IF(ISBLANK(Datenerfassung!I878),\" \",Datenerfassung!I878 ),\" [IS]\"), CONCATENATE(IF(ISBLANK(Datenerfassung!J878),\" \",Datenerfassung!J878 ),\" [IS]\"), CONCATENATE(IF(ISBLANK(Datenerfassung!K878),\" \",Datenerfassung!K878 ),\" [IS]\"), CONCATENATE(IF(ISBLANK(Datenerfassung!L878),\" \",Datenerfassung!L878 ),\" [IS]\"), CONCATENATE(IF(ISBLANK(Datenerfassung!M878),\" \",Datenerfassung!M878 ),\" [IS]\"), IF(ISBLANK(Datenerfassung!N878),\" \",Datenerfassung!N878 ) ))","v":""},{"$f":"IF(ISBLANK(Datenerfassung!V878),\"\",Datenerfassung!V878)","v":""},{"$f":"IF(ISBLANK(Datenerfassung!Q878),\"\",Datenerfassung!Q878)","v":""}]
[{"$f":"IF(ISBLANK(Datenerfassung!A879),\"\",Datenerfassung!A879)","v":""},{"$f":"IF(ISBLANK(Datenerfassung!B879),\"\",Datenerfassung!B879)","v":""},{"$f":"IF(ISBLANK(Datenerfassung!C879),\"\",Datenerfassung!C879)","v":""},{"$f":"IF(ISBLANK(Datenerfassung!R879),\"\",Datenerfassung!R879)","v":""},{"$f":"IF(ISBLANK(Datenerfassung!S879),\"\",Datenerfassung!S879)","v":""},"",{"$f":"IF(ISBLANK(Datenerfassung!U879),\"\",Datenerfassung!U879)","v":""},{"$f":"IF(ISBLANK(Datenerfassung!O879),\"\",Datenerfassung!O879)","v":""},{"$f":"IF(ISBLANK(Datenerfassung!D879),IF(COUNTBLANK(A869:H869)+COUNTBLANK(J869:O869)=14,\"\",\"- ohne Titel -\"),Datenerfassung!D879)","v":""},{"$f":"IF(ISBLANK(Datenerfassung!G879),\"\",Datenerfassung!G879)","v":""},"",{"$f":"IF(ISBLANK(Datenerfassung!X879),\"\",Datenerfassung!X879)","v":""},{"$f":"IF(COUNTBLANK(Datenerfassung!H879:'Datenerfassung'!N879)=7,\"\",CONCATENATE( CONCATENATE(IF(ISBLANK(Datenerfassung!H879),\" \",Datenerfassung!H879 ),\" [IS]\"), CONCATENATE(IF(ISBLANK(Datenerfassung!I879),\" \",Datenerfassung!I879 ),\" [IS]\"), CONCATENATE(IF(ISBLANK(Datenerfassung!J879),\" \",Datenerfassung!J879 ),\" [IS]\"), CONCATENATE(IF(ISBLANK(Datenerfassung!K879),\" \",Datenerfassung!K879 ),\" [IS]\"), CONCATENATE(IF(ISBLANK(Datenerfassung!L879),\" \",Datenerfassung!L879 ),\" [IS]\"), CONCATENATE(IF(ISBLANK(Datenerfassung!M879),\" \",Datenerfassung!M879 ),\" [IS]\"), IF(ISBLANK(Datenerfassung!N879),\" \",Datenerfassung!N879 ) ))","v":""},{"$f":"IF(ISBLANK(Datenerfassung!V879),\"\",Datenerfassung!V879)","v":""},{"$f":"IF(ISBLANK(Datenerfassung!Q879),\"\",Datenerfassung!Q879)","v":""}]
[{"$f":"IF(ISBLANK(Datenerfassung!A880),\"\",Datenerfassung!A880)","v":""},{"$f":"IF(ISBLANK(Datenerfassung!B880),\"\",Datenerfassung!B880)","v":""},{"$f":"IF(ISBLANK(Datenerfassung!C880),\"\",Datenerfassung!C880)","v":""},{"$f":"IF(ISBLANK(Datenerfassung!R880),\"\",Datenerfassung!R880)","v":""},{"$f":"IF(ISBLANK(Datenerfassung!S880),\"\",Datenerfassung!S880)","v":""},"",{"$f":"IF(ISBLANK(Datenerfassung!U880),\"\",Datenerfassung!U880)","v":""},{"$f":"IF(ISBLANK(Datenerfassung!O880),\"\",Datenerfassung!O880)","v":""},{"$f":"IF(ISBLANK(Datenerfassung!D880),IF(COUNTBLANK(A870:H870)+COUNTBLANK(J870:O870)=14,\"\",\"- ohne Titel -\"),Datenerfassung!D880)","v":""},{"$f":"IF(ISBLANK(Datenerfassung!G880),\"\",Datenerfassung!G880)","v":""},"",{"$f":"IF(ISBLANK(Datenerfassung!X880),\"\",Datenerfassung!X880)","v":""},{"$f":"IF(COUNTBLANK(Datenerfassung!H880:'Datenerfassung'!N880)=7,\"\",CONCATENATE( CONCATENATE(IF(ISBLANK(Datenerfassung!H880),\" \",Datenerfassung!H880 ),\" [IS]\"), CONCATENATE(IF(ISBLANK(Datenerfassung!I880),\" \",Datenerfassung!I880 ),\" [IS]\"), CONCATENATE(IF(ISBLANK(Datenerfassung!J880),\" \",Datenerfassung!J880 ),\" [IS]\"), CONCATENATE(IF(ISBLANK(Datenerfassung!K880),\" \",Datenerfassung!K880 ),\" [IS]\"), CONCATENATE(IF(ISBLANK(Datenerfassung!L880),\" \",Datenerfassung!L880 ),\" [IS]\"), CONCATENATE(IF(ISBLANK(Datenerfassung!M880),\" \",Datenerfassung!M880 ),\" [IS]\"), IF(ISBLANK(Datenerfassung!N880),\" \",Datenerfassung!N880 ) ))","v":""},{"$f":"IF(ISBLANK(Datenerfassung!V880),\"\",Datenerfassung!V880)","v":""},{"$f":"IF(ISBLANK(Datenerfassung!Q880),\"\",Datenerfassung!Q880)","v":""}]
[{"$f":"IF(ISBLANK(Datenerfassung!A881),\"\",Datenerfassung!A881)","v":""},{"$f":"IF(ISBLANK(Datenerfassung!B881),\"\",Datenerfassung!B881)","v":""},{"$f":"IF(ISBLANK(Datenerfassung!C881),\"\",Datenerfassung!C881)","v":""},{"$f":"IF(ISBLANK(Datenerfassung!R881),\"\",Datenerfassung!R881)","v":""},{"$f":"IF(ISBLANK(Datenerfassung!S881),\"\",Datenerfassung!S881)","v":""},"",{"$f":"IF(ISBLANK(Datenerfassung!U881),\"\",Datenerfassung!U881)","v":""},{"$f":"IF(ISBLANK(Datenerfassung!O881),\"\",Datenerfassung!O881)","v":""},{"$f":"IF(ISBLANK(Datenerfassung!D881),IF(COUNTBLANK(A871:H871)+COUNTBLANK(J871:O871)=14,\"\",\"- ohne Titel -\"),Datenerfassung!D881)","v":""},{"$f":"IF(ISBLANK(Datenerfassung!G881),\"\",Datenerfassung!G881)","v":""},"",{"$f":"IF(ISBLANK(Datenerfassung!X881),\"\",Datenerfassung!X881)","v":""},{"$f":"IF(COUNTBLANK(Datenerfassung!H881:'Datenerfassung'!N881)=7,\"\",CONCATENATE( CONCATENATE(IF(ISBLANK(Datenerfassung!H881),\" \",Datenerfassung!H881 ),\" [IS]\"), CONCATENATE(IF(ISBLANK(Datenerfassung!I881),\" \",Datenerfassung!I881 ),\" [IS]\"), CONCATENATE(IF(ISBLANK(Datenerfassung!J881),\" \",Datenerfassung!J881 ),\" [IS]\"), CONCATENATE(IF(ISBLANK(Datenerfassung!K881),\" \",Datenerfassung!K881 ),\" [IS]\"), CONCATENATE(IF(ISBLANK(Datenerfassung!L881),\" \",Datenerfassung!L881 ),\" [IS]\"), CONCATENATE(IF(ISBLANK(Datenerfassung!M881),\" \",Datenerfassung!M881 ),\" [IS]\"), IF(ISBLANK(Datenerfassung!N881),\" \",Datenerfassung!N881 ) ))","v":""},{"$f":"IF(ISBLANK(Datenerfassung!V881),\"\",Datenerfassung!V881)","v":""},{"$f":"IF(ISBLANK(Datenerfassung!Q881),\"\",Datenerfassung!Q881)","v":""}]
[{"$f":"IF(ISBLANK(Datenerfassung!A882),\"\",Datenerfassung!A882)","v":""},{"$f":"IF(ISBLANK(Datenerfassung!B882),\"\",Datenerfassung!B882)","v":""},{"$f":"IF(ISBLANK(Datenerfassung!C882),\"\",Datenerfassung!C882)","v":""},{"$f":"IF(ISBLANK(Datenerfassung!R882),\"\",Datenerfassung!R882)","v":""},{"$f":"IF(ISBLANK(Datenerfassung!S882),\"\",Datenerfassung!S882)","v":""},"",{"$f":"IF(ISBLANK(Datenerfassung!U882),\"\",Datenerfassung!U882)","v":""},{"$f":"IF(ISBLANK(Datenerfassung!O882),\"\",Datenerfassung!O882)","v":""},{"$f":"IF(ISBLANK(Datenerfassung!D882),IF(COUNTBLANK(A872:H872)+COUNTBLANK(J872:O872)=14,\"\",\"- ohne Titel -\"),Datenerfassung!D882)","v":""},{"$f":"IF(ISBLANK(Datenerfassung!G882),\"\",Datenerfassung!G882)","v":""},"",{"$f":"IF(ISBLANK(Datenerfassung!X882),\"\",Datenerfassung!X882)","v":""},{"$f":"IF(COUNTBLANK(Datenerfassung!H882:'Datenerfassung'!N882)=7,\"\",CONCATENATE( CONCATENATE(IF(ISBLANK(Datenerfassung!H882),\" \",Datenerfassung!H882 ),\" [IS]\"), CONCATENATE(IF(ISBLANK(Datenerfassung!I882),\" \",Datenerfassung!I882 ),\" [IS]\"), CONCATENATE(IF(ISBLANK(Datenerfassung!J882),\" \",Datenerfassung!J882 ),\" [IS]\"), CONCATENATE(IF(ISBLANK(Datenerfassung!K882),\" \",Datenerfassung!K882 ),\" [IS]\"), CONCATENATE(IF(ISBLANK(Datenerfassung!L882),\" \",Datenerfassung!L882 ),\" [IS]\"), CONCATENATE(IF(ISBLANK(Datenerfassung!M882),\" \",Datenerfassung!M882 ),\" [IS]\"), IF(ISBLANK(Datenerfassung!N882),\" \",Datenerfassung!N882 ) ))","v":""},{"$f":"IF(ISBLANK(Datenerfassung!V882),\"\",Datenerfassung!V882)","v":""},{"$f":"IF(ISBLANK(Datenerfassung!Q882),\"\",Datenerfassung!Q882)","v":""}]
[{"$f":"IF(ISBLANK(Datenerfassung!A883),\"\",Datenerfassung!A883)","v":""},{"$f":"IF(ISBLANK(Datenerfassung!B883),\"\",Datenerfassung!B883)","v":""},{"$f":"IF(ISBLANK(Datenerfassung!C883),\"\",Datenerfassung!C883)","v":""},{"$f":"IF(ISBLANK(Datenerfassung!R883),\"\",Datenerfassung!R883)","v":""},{"$f":"IF(ISBLANK(Datenerfassung!S883),\"\",Datenerfassung!S883)","v":""},"",{"$f":"IF(ISBLANK(Datenerfassung!U883),\"\",Datenerfassung!U883)","v":""},{"$f":"IF(ISBLANK(Datenerfassung!O883),\"\",Datenerfassung!O883)","v":""},{"$f":"IF(ISBLANK(Datenerfassung!D883),IF(COUNTBLANK(A873:H873)+COUNTBLANK(J873:O873)=14,\"\",\"- ohne Titel -\"),Datenerfassung!D883)","v":""},{"$f":"IF(ISBLANK(Datenerfassung!G883),\"\",Datenerfassung!G883)","v":""},"",{"$f":"IF(ISBLANK(Datenerfassung!X883),\"\",Datenerfassung!X883)","v":""},{"$f":"IF(COUNTBLANK(Datenerfassung!H883:'Datenerfassung'!N883)=7,\"\",CONCATENATE( CONCATENATE(IF(ISBLANK(Datenerfassung!H883),\" \",Datenerfassung!H883 ),\" [IS]\"), CONCATENATE(IF(ISBLANK(Datenerfassung!I883),\" \",Datenerfassung!I883 ),\" [IS]\"), CONCATENATE(IF(ISBLANK(Datenerfassung!J883),\" \",Datenerfassung!J883 ),\" [IS]\"), CONCATENATE(IF(ISBLANK(Datenerfassung!K883),\" \",Datenerfassung!K883 ),\" [IS]\"), CONCATENATE(IF(ISBLANK(Datenerfassung!L883),\" \",Datenerfassung!L883 ),\" [IS]\"), CONCATENATE(IF(ISBLANK(Datenerfassung!M883),\" \",Datenerfassung!M883 ),\" [IS]\"), IF(ISBLANK(Datenerfassung!N883),\" \",Datenerfassung!N883 ) ))","v":""},{"$f":"IF(ISBLANK(Datenerfassung!V883),\"\",Datenerfassung!V883)","v":""},{"$f":"IF(ISBLANK(Datenerfassung!Q883),\"\",Datenerfassung!Q883)","v":""}]
[{"$f":"IF(ISBLANK(Datenerfassung!A884),\"\",Datenerfassung!A884)","v":""},{"$f":"IF(ISBLANK(Datenerfassung!B884),\"\",Datenerfassung!B884)","v":""},{"$f":"IF(ISBLANK(Datenerfassung!C884),\"\",Datenerfassung!C884)","v":""},{"$f":"IF(ISBLANK(Datenerfassung!R884),\"\",Datenerfassung!R884)","v":""},{"$f":"IF(ISBLANK(Datenerfassung!S884),\"\",Datenerfassung!S884)","v":""},"",{"$f":"IF(ISBLANK(Datenerfassung!U884),\"\",Datenerfassung!U884)","v":""},{"$f":"IF(ISBLANK(Datenerfassung!O884),\"\",Datenerfassung!O884)","v":""},{"$f":"IF(ISBLANK(Datenerfassung!D884),IF(COUNTBLANK(A874:H874)+COUNTBLANK(J874:O874)=14,\"\",\"- ohne Titel -\"),Datenerfassung!D884)","v":""},{"$f":"IF(ISBLANK(Datenerfassung!G884),\"\",Datenerfassung!G884)","v":""},"",{"$f":"IF(ISBLANK(Datenerfassung!X884),\"\",Datenerfassung!X884)","v":""},{"$f":"IF(COUNTBLANK(Datenerfassung!H884:'Datenerfassung'!N884)=7,\"\",CONCATENATE( CONCATENATE(IF(ISBLANK(Datenerfassung!H884),\" \",Datenerfassung!H884 ),\" [IS]\"), CONCATENATE(IF(ISBLANK(Datenerfassung!I884),\" \",Datenerfassung!I884 ),\" [IS]\"), CONCATENATE(IF(ISBLANK(Datenerfassung!J884),\" \",Datenerfassung!J884 ),\" [IS]\"), CONCATENATE(IF(ISBLANK(Datenerfassung!K884),\" \",Datenerfassung!K884 ),\" [IS]\"), CONCATENATE(IF(ISBLANK(Datenerfassung!L884),\" \",Datenerfassung!L884 ),\" [IS]\"), CONCATENATE(IF(ISBLANK(Datenerfassung!M884),\" \",Datenerfassung!M884 ),\" [IS]\"), IF(ISBLANK(Datenerfassung!N884),\" \",Datenerfassung!N884 ) ))","v":""},{"$f":"IF(ISBLANK(Datenerfassung!V884),\"\",Datenerfassung!V884)","v":""},{"$f":"IF(ISBLANK(Datenerfassung!Q884),\"\",Datenerfassung!Q884)","v":""}]
[{"$f":"IF(ISBLANK(Datenerfassung!A885),\"\",Datenerfassung!A885)","v":""},{"$f":"IF(ISBLANK(Datenerfassung!B885),\"\",Datenerfassung!B885)","v":""},{"$f":"IF(ISBLANK(Datenerfassung!C885),\"\",Datenerfassung!C885)","v":""},{"$f":"IF(ISBLANK(Datenerfassung!R885),\"\",Datenerfassung!R885)","v":""},{"$f":"IF(ISBLANK(Datenerfassung!S885),\"\",Datenerfassung!S885)","v":""},"",{"$f":"IF(ISBLANK(Datenerfassung!U885),\"\",Datenerfassung!U885)","v":""},{"$f":"IF(ISBLANK(Datenerfassung!O885),\"\",Datenerfassung!O885)","v":""},{"$f":"IF(ISBLANK(Datenerfassung!D885),IF(COUNTBLANK(A875:H875)+COUNTBLANK(J875:O875)=14,\"\",\"- ohne Titel -\"),Datenerfassung!D885)","v":""},{"$f":"IF(ISBLANK(Datenerfassung!G885),\"\",Datenerfassung!G885)","v":""},"",{"$f":"IF(ISBLANK(Datenerfassung!X885),\"\",Datenerfassung!X885)","v":""},{"$f":"IF(COUNTBLANK(Datenerfassung!H885:'Datenerfassung'!N885)=7,\"\",CONCATENATE( CONCATENATE(IF(ISBLANK(Datenerfassung!H885),\" \",Datenerfassung!H885 ),\" [IS]\"), CONCATENATE(IF(ISBLANK(Datenerfassung!I885),\" \",Datenerfassung!I885 ),\" [IS]\"), CONCATENATE(IF(ISBLANK(Datenerfassung!J885),\" \",Datenerfassung!J885 ),\" [IS]\"), CONCATENATE(IF(ISBLANK(Datenerfassung!K885),\" \",Datenerfassung!K885 ),\" [IS]\"), CONCATENATE(IF(ISBLANK(Datenerfassung!L885),\" \",Datenerfassung!L885 ),\" [IS]\"), CONCATENATE(IF(ISBLANK(Datenerfassung!M885),\" \",Datenerfassung!M885 ),\" [IS]\"), IF(ISBLANK(Datenerfassung!N885),\" \",Datenerfassung!N885 ) ))","v":""},{"$f":"IF(ISBLANK(Datenerfassung!V885),\"\",Datenerfassung!V885)","v":""},{"$f":"IF(ISBLANK(Datenerfassung!Q885),\"\",Datenerfassung!Q885)","v":""}]
[{"$f":"IF(ISBLANK(Datenerfassung!A886),\"\",Datenerfassung!A886)","v":""},{"$f":"IF(ISBLANK(Datenerfassung!B886),\"\",Datenerfassung!B886)","v":""},{"$f":"IF(ISBLANK(Datenerfassung!C886),\"\",Datenerfassung!C886)","v":""},{"$f":"IF(ISBLANK(Datenerfassung!R886),\"\",Datenerfassung!R886)","v":""},{"$f":"IF(ISBLANK(Datenerfassung!S886),\"\",Datenerfassung!S886)","v":""},"",{"$f":"IF(ISBLANK(Datenerfassung!U886),\"\",Datenerfassung!U886)","v":""},{"$f":"IF(ISBLANK(Datenerfassung!O886),\"\",Datenerfassung!O886)","v":""},{"$f":"IF(ISBLANK(Datenerfassung!D886),IF(COUNTBLANK(A876:H876)+COUNTBLANK(J876:O876)=14,\"\",\"- ohne Titel -\"),Datenerfassung!D886)","v":""},{"$f":"IF(ISBLANK(Datenerfassung!G886),\"\",Datenerfassung!G886)","v":""},"",{"$f":"IF(ISBLANK(Datenerfassung!X886),\"\",Datenerfassung!X886)","v":""},{"$f":"IF(COUNTBLANK(Datenerfassung!H886:'Datenerfassung'!N886)=7,\"\",CONCATENATE( CONCATENATE(IF(ISBLANK(Datenerfassung!H886),\" \",Datenerfassung!H886 ),\" [IS]\"), CONCATENATE(IF(ISBLANK(Datenerfassung!I886),\" \",Datenerfassung!I886 ),\" [IS]\"), CONCATENATE(IF(ISBLANK(Datenerfassung!J886),\" \",Datenerfassung!J886 ),\" [IS]\"), CONCATENATE(IF(ISBLANK(Datenerfassung!K886),\" \",Datenerfassung!K886 ),\" [IS]\"), CONCATENATE(IF(ISBLANK(Datenerfassung!L886),\" \",Datenerfassung!L886 ),\" [IS]\"), CONCATENATE(IF(ISBLANK(Datenerfassung!M886),\" \",Datenerfassung!M886 ),\" [IS]\"), IF(ISBLANK(Datenerfassung!N886),\" \",Datenerfassung!N886 ) ))","v":""},{"$f":"IF(ISBLANK(Datenerfassung!V886),\"\",Datenerfassung!V886)","v":""},{"$f":"IF(ISBLANK(Datenerfassung!Q886),\"\",Datenerfassung!Q886)","v":""}]
[{"$f":"IF(ISBLANK(Datenerfassung!A887),\"\",Datenerfassung!A887)","v":""},{"$f":"IF(ISBLANK(Datenerfassung!B887),\"\",Datenerfassung!B887)","v":""},{"$f":"IF(ISBLANK(Datenerfassung!C887),\"\",Datenerfassung!C887)","v":""},{"$f":"IF(ISBLANK(Datenerfassung!R887),\"\",Datenerfassung!R887)","v":""},{"$f":"IF(ISBLANK(Datenerfassung!S887),\"\",Datenerfassung!S887)","v":""},"",{"$f":"IF(ISBLANK(Datenerfassung!U887),\"\",Datenerfassung!U887)","v":""},{"$f":"IF(ISBLANK(Datenerfassung!O887),\"\",Datenerfassung!O887)","v":""},{"$f":"IF(ISBLANK(Datenerfassung!D887),IF(COUNTBLANK(A877:H877)+COUNTBLANK(J877:O877)=14,\"\",\"- ohne Titel -\"),Datenerfassung!D887)","v":""},{"$f":"IF(ISBLANK(Datenerfassung!G887),\"\",Datenerfassung!G887)","v":""},"",{"$f":"IF(ISBLANK(Datenerfassung!X887),\"\",Datenerfassung!X887)","v":""},{"$f":"IF(COUNTBLANK(Datenerfassung!H887:'Datenerfassung'!N887)=7,\"\",CONCATENATE( CONCATENATE(IF(ISBLANK(Datenerfassung!H887),\" \",Datenerfassung!H887 ),\" [IS]\"), CONCATENATE(IF(ISBLANK(Datenerfassung!I887),\" \",Datenerfassung!I887 ),\" [IS]\"), CONCATENATE(IF(ISBLANK(Datenerfassung!J887),\" \",Datenerfassung!J887 ),\" [IS]\"), CONCATENATE(IF(ISBLANK(Datenerfassung!K887),\" \",Datenerfassung!K887 ),\" [IS]\"), CONCATENATE(IF(ISBLANK(Datenerfassung!L887),\" \",Datenerfassung!L887 ),\" [IS]\"), CONCATENATE(IF(ISBLANK(Datenerfassung!M887),\" \",Datenerfassung!M887 ),\" [IS]\"), IF(ISBLANK(Datenerfassung!N887),\" \",Datenerfassung!N887 ) ))","v":""},{"$f":"IF(ISBLANK(Datenerfassung!V887),\"\",Datenerfassung!V887)","v":""},{"$f":"IF(ISBLANK(Datenerfassung!Q887),\"\",Datenerfassung!Q887)","v":""}]
[{"$f":"IF(ISBLANK(Datenerfassung!A888),\"\",Datenerfassung!A888)","v":""},{"$f":"IF(ISBLANK(Datenerfassung!B888),\"\",Datenerfassung!B888)","v":""},{"$f":"IF(ISBLANK(Datenerfassung!C888),\"\",Datenerfassung!C888)","v":""},{"$f":"IF(ISBLANK(Datenerfassung!R888),\"\",Datenerfassung!R888)","v":""},{"$f":"IF(ISBLANK(Datenerfassung!S888),\"\",Datenerfassung!S888)","v":""},"",{"$f":"IF(ISBLANK(Datenerfassung!U888),\"\",Datenerfassung!U888)","v":""},{"$f":"IF(ISBLANK(Datenerfassung!O888),\"\",Datenerfassung!O888)","v":""},{"$f":"IF(ISBLANK(Datenerfassung!D888),IF(COUNTBLANK(A878:H878)+COUNTBLANK(J878:O878)=14,\"\",\"- ohne Titel -\"),Datenerfassung!D888)","v":""},{"$f":"IF(ISBLANK(Datenerfassung!G888),\"\",Datenerfassung!G888)","v":""},"",{"$f":"IF(ISBLANK(Datenerfassung!X888),\"\",Datenerfassung!X888)","v":""},{"$f":"IF(COUNTBLANK(Datenerfassung!H888:'Datenerfassung'!N888)=7,\"\",CONCATENATE( CONCATENATE(IF(ISBLANK(Datenerfassung!H888),\" \",Datenerfassung!H888 ),\" [IS]\"), CONCATENATE(IF(ISBLANK(Datenerfassung!I888),\" \",Datenerfassung!I888 ),\" [IS]\"), CONCATENATE(IF(ISBLANK(Datenerfassung!J888),\" \",Datenerfassung!J888 ),\" [IS]\"), CONCATENATE(IF(ISBLANK(Datenerfassung!K888),\" \",Datenerfassung!K888 ),\" [IS]\"), CONCATENATE(IF(ISBLANK(Datenerfassung!L888),\" \",Datenerfassung!L888 ),\" [IS]\"), CONCATENATE(IF(ISBLANK(Datenerfassung!M888),\" \",Datenerfassung!M888 ),\" [IS]\"), IF(ISBLANK(Datenerfassung!N888),\" \",Datenerfassung!N888 ) ))","v":""},{"$f":"IF(ISBLANK(Datenerfassung!V888),\"\",Datenerfassung!V888)","v":""},{"$f":"IF(ISBLANK(Datenerfassung!Q888),\"\",Datenerfassung!Q888)","v":""}]
[{"$f":"IF(ISBLANK(Datenerfassung!A889),\"\",Datenerfassung!A889)","v":""},{"$f":"IF(ISBLANK(Datenerfassung!B889),\"\",Datenerfassung!B889)","v":""},{"$f":"IF(ISBLANK(Datenerfassung!C889),\"\",Datenerfassung!C889)","v":""},{"$f":"IF(ISBLANK(Datenerfassung!R889),\"\",Datenerfassung!R889)","v":""},{"$f":"IF(ISBLANK(Datenerfassung!S889),\"\",Datenerfassung!S889)","v":""},"",{"$f":"IF(ISBLANK(Datenerfassung!U889),\"\",Datenerfassung!U889)","v":""},{"$f":"IF(ISBLANK(Datenerfassung!O889),\"\",Datenerfassung!O889)","v":""},{"$f":"IF(ISBLANK(Datenerfassung!D889),IF(COUNTBLANK(A879:H879)+COUNTBLANK(J879:O879)=14,\"\",\"- ohne Titel -\"),Datenerfassung!D889)","v":""},{"$f":"IF(ISBLANK(Datenerfassung!G889),\"\",Datenerfassung!G889)","v":""},"",{"$f":"IF(ISBLANK(Datenerfassung!X889),\"\",Datenerfassung!X889)","v":""},{"$f":"IF(COUNTBLANK(Datenerfassung!H889:'Datenerfassung'!N889)=7,\"\",CONCATENATE( CONCATENATE(IF(ISBLANK(Datenerfassung!H889),\" \",Datenerfassung!H889 ),\" [IS]\"), CONCATENATE(IF(ISBLANK(Datenerfassung!I889),\" \",Datenerfassung!I889 ),\" [IS]\"), CONCATENATE(IF(ISBLANK(Datenerfassung!J889),\" \",Datenerfassung!J889 ),\" [IS]\"), CONCATENATE(IF(ISBLANK(Datenerfassung!K889),\" \",Datenerfassung!K889 ),\" [IS]\"), CONCATENATE(IF(ISBLANK(Datenerfassung!L889),\" \",Datenerfassung!L889 ),\" [IS]\"), CONCATENATE(IF(ISBLANK(Datenerfassung!M889),\" \",Datenerfassung!M889 ),\" [IS]\"), IF(ISBLANK(Datenerfassung!N889),\" \",Datenerfassung!N889 ) ))","v":""},{"$f":"IF(ISBLANK(Datenerfassung!V889),\"\",Datenerfassung!V889)","v":""},{"$f":"IF(ISBLANK(Datenerfassung!Q889),\"\",Datenerfassung!Q889)","v":""}]
[{"$f":"IF(ISBLANK(Datenerfassung!A890),\"\",Datenerfassung!A890)","v":""},{"$f":"IF(ISBLANK(Datenerfassung!B890),\"\",Datenerfassung!B890)","v":""},{"$f":"IF(ISBLANK(Datenerfassung!C890),\"\",Datenerfassung!C890)","v":""},{"$f":"IF(ISBLANK(Datenerfassung!R890),\"\",Datenerfassung!R890)","v":""},{"$f":"IF(ISBLANK(Datenerfassung!S890),\"\",Datenerfassung!S890)","v":""},"",{"$f":"IF(ISBLANK(Datenerfassung!U890),\"\",Datenerfassung!U890)","v":""},{"$f":"IF(ISBLANK(Datenerfassung!O890),\"\",Datenerfassung!O890)","v":""},{"$f":"IF(ISBLANK(Datenerfassung!D890),IF(COUNTBLANK(A880:H880)+COUNTBLANK(J880:O880)=14,\"\",\"- ohne Titel -\"),Datenerfassung!D890)","v":""},{"$f":"IF(ISBLANK(Datenerfassung!G890),\"\",Datenerfassung!G890)","v":""},"",{"$f":"IF(ISBLANK(Datenerfassung!X890),\"\",Datenerfassung!X890)","v":""},{"$f":"IF(COUNTBLANK(Datenerfassung!H890:'Datenerfassung'!N890)=7,\"\",CONCATENATE( CONCATENATE(IF(ISBLANK(Datenerfassung!H890),\" \",Datenerfassung!H890 ),\" [IS]\"), CONCATENATE(IF(ISBLANK(Datenerfassung!I890),\" \",Datenerfassung!I890 ),\" [IS]\"), CONCATENATE(IF(ISBLANK(Datenerfassung!J890),\" \",Datenerfassung!J890 ),\" [IS]\"), CONCATENATE(IF(ISBLANK(Datenerfassung!K890),\" \",Datenerfassung!K890 ),\" [IS]\"), CONCATENATE(IF(ISBLANK(Datenerfassung!L890),\" \",Datenerfassung!L890 ),\" [IS]\"), CONCATENATE(IF(ISBLANK(Datenerfassung!M890),\" \",Datenerfassung!M890 ),\" [IS]\"), IF(ISBLANK(Datenerfassung!N890),\" \",Datenerfassung!N890 ) ))","v":""},{"$f":"IF(ISBLANK(Datenerfassung!V890),\"\",Datenerfassung!V890)","v":""},{"$f":"IF(ISBLANK(Datenerfassung!Q890),\"\",Datenerfassung!Q890)","v":""}]
[{"$f":"IF(ISBLANK(Datenerfassung!A891),\"\",Datenerfassung!A891)","v":""},{"$f":"IF(ISBLANK(Datenerfassung!B891),\"\",Datenerfassung!B891)","v":""},{"$f":"IF(ISBLANK(Datenerfassung!C891),\"\",Datenerfassung!C891)","v":""},{"$f":"IF(ISBLANK(Datenerfassung!R891),\"\",Datenerfassung!R891)","v":""},{"$f":"IF(ISBLANK(Datenerfassung!S891),\"\",Datenerfassung!S891)","v":""},"",{"$f":"IF(ISBLANK(Datenerfassung!U891),\"\",Datenerfassung!U891)","v":""},{"$f":"IF(ISBLANK(Datenerfassung!O891),\"\",Datenerfassung!O891)","v":""},{"$f":"IF(ISBLANK(Datenerfassung!D891),IF(COUNTBLANK(A881:H881)+COUNTBLANK(J881:O881)=14,\"\",\"- ohne Titel -\"),Datenerfassung!D891)","v":""},{"$f":"IF(ISBLANK(Datenerfassung!G891),\"\",Datenerfassung!G891)","v":""},"",{"$f":"IF(ISBLANK(Datenerfassung!X891),\"\",Datenerfassung!X891)","v":""},{"$f":"IF(COUNTBLANK(Datenerfassung!H891:'Datenerfassung'!N891)=7,\"\",CONCATENATE( CONCATENATE(IF(ISBLANK(Datenerfassung!H891),\" \",Datenerfassung!H891 ),\" [IS]\"), CONCATENATE(IF(ISBLANK(Datenerfassung!I891),\" \",Datenerfassung!I891 ),\" [IS]\"), CONCATENATE(IF(ISBLANK(Datenerfassung!J891),\" \",Datenerfassung!J891 ),\" [IS]\"), CONCATENATE(IF(ISBLANK(Datenerfassung!K891),\" \",Datenerfassung!K891 ),\" [IS]\"), CONCATENATE(IF(ISBLANK(Datenerfassung!L891),\" \",Datenerfassung!L891 ),\" [IS]\"), CONCATENATE(IF(ISBLANK(Datenerfassung!M891),\" \",Datenerfassung!M891 ),\" [IS]\"), IF(ISBLANK(Datenerfassung!N891),\" \",Datenerfassung!N891 ) ))","v":""},{"$f":"IF(ISBLANK(Datenerfassung!V891),\"\",Datenerfassung!V891)","v":""},{"$f":"IF(ISBLANK(Datenerfassung!Q891),\"\",Datenerfassung!Q891)","v":""}]
[{"$f":"IF(ISBLANK(Datenerfassung!A892),\"\",Datenerfassung!A892)","v":""},{"$f":"IF(ISBLANK(Datenerfassung!B892),\"\",Datenerfassung!B892)","v":""},{"$f":"IF(ISBLANK(Datenerfassung!C892),\"\",Datenerfassung!C892)","v":""},{"$f":"IF(ISBLANK(Datenerfassung!R892),\"\",Datenerfassung!R892)","v":""},{"$f":"IF(ISBLANK(Datenerfassung!S892),\"\",Datenerfassung!S892)","v":""},"",{"$f":"IF(ISBLANK(Datenerfassung!U892),\"\",Datenerfassung!U892)","v":""},{"$f":"IF(ISBLANK(Datenerfassung!O892),\"\",Datenerfassung!O892)","v":""},{"$f":"IF(ISBLANK(Datenerfassung!D892),IF(COUNTBLANK(A882:H882)+COUNTBLANK(J882:O882)=14,\"\",\"- ohne Titel -\"),Datenerfassung!D892)","v":""},{"$f":"IF(ISBLANK(Datenerfassung!G892),\"\",Datenerfassung!G892)","v":""},"",{"$f":"IF(ISBLANK(Datenerfassung!X892),\"\",Datenerfassung!X892)","v":""},{"$f":"IF(COUNTBLANK(Datenerfassung!H892:'Datenerfassung'!N892)=7,\"\",CONCATENATE( CONCATENATE(IF(ISBLANK(Datenerfassung!H892),\" \",Datenerfassung!H892 ),\" [IS]\"), CONCATENATE(IF(ISBLANK(Datenerfassung!I892),\" \",Datenerfassung!I892 ),\" [IS]\"), CONCATENATE(IF(ISBLANK(Datenerfassung!J892),\" \",Datenerfassung!J892 ),\" [IS]\"), CONCATENATE(IF(ISBLANK(Datenerfassung!K892),\" \",Datenerfassung!K892 ),\" [IS]\"), CONCATENATE(IF(ISBLANK(Datenerfassung!L892),\" \",Datenerfassung!L892 ),\" [IS]\"), CONCATENATE(IF(ISBLANK(Datenerfassung!M892),\" \",Datenerfassung!M892 ),\" [IS]\"), IF(ISBLANK(Datenerfassung!N892),\" \",Datenerfassung!N892 ) ))","v":""},{"$f":"IF(ISBLANK(Datenerfassung!V892),\"\",Datenerfassung!V892)","v":""},{"$f":"IF(ISBLANK(Datenerfassung!Q892),\"\",Datenerfassung!Q892)","v":""}]
[{"$f":"IF(ISBLANK(Datenerfassung!A893),\"\",Datenerfassung!A893)","v":""},{"$f":"IF(ISBLANK(Datenerfassung!B893),\"\",Datenerfassung!B893)","v":""},{"$f":"IF(ISBLANK(Datenerfassung!C893),\"\",Datenerfassung!C893)","v":""},{"$f":"IF(ISBLANK(Datenerfassung!R893),\"\",Datenerfassung!R893)","v":""},{"$f":"IF(ISBLANK(Datenerfassung!S893),\"\",Datenerfassung!S893)","v":""},"",{"$f":"IF(ISBLANK(Datenerfassung!U893),\"\",Datenerfassung!U893)","v":""},{"$f":"IF(ISBLANK(Datenerfassung!O893),\"\",Datenerfassung!O893)","v":""},{"$f":"IF(ISBLANK(Datenerfassung!D893),IF(COUNTBLANK(A883:H883)+COUNTBLANK(J883:O883)=14,\"\",\"- ohne Titel -\"),Datenerfassung!D893)","v":""},{"$f":"IF(ISBLANK(Datenerfassung!G893),\"\",Datenerfassung!G893)","v":""},"",{"$f":"IF(ISBLANK(Datenerfassung!X893),\"\",Datenerfassung!X893)","v":""},{"$f":"IF(COUNTBLANK(Datenerfassung!H893:'Datenerfassung'!N893)=7,\"\",CONCATENATE( CONCATENATE(IF(ISBLANK(Datenerfassung!H893),\" \",Datenerfassung!H893 ),\" [IS]\"), CONCATENATE(IF(ISBLANK(Datenerfassung!I893),\" \",Datenerfassung!I893 ),\" [IS]\"), CONCATENATE(IF(ISBLANK(Datenerfassung!J893),\" \",Datenerfassung!J893 ),\" [IS]\"), CONCATENATE(IF(ISBLANK(Datenerfassung!K893),\" \",Datenerfassung!K893 ),\" [IS]\"), CONCATENATE(IF(ISBLANK(Datenerfassung!L893),\" \",Datenerfassung!L893 ),\" [IS]\"), CONCATENATE(IF(ISBLANK(Datenerfassung!M893),\" \",Datenerfassung!M893 ),\" [IS]\"), IF(ISBLANK(Datenerfassung!N893),\" \",Datenerfassung!N893 ) ))","v":""},{"$f":"IF(ISBLANK(Datenerfassung!V893),\"\",Datenerfassung!V893)","v":""},{"$f":"IF(ISBLANK(Datenerfassung!Q893),\"\",Datenerfassung!Q893)","v":""}]
[{"$f":"IF(ISBLANK(Datenerfassung!A894),\"\",Datenerfassung!A894)","v":""},{"$f":"IF(ISBLANK(Datenerfassung!B894),\"\",Datenerfassung!B894)","v":""},{"$f":"IF(ISBLANK(Datenerfassung!C894),\"\",Datenerfassung!C894)","v":""},{"$f":"IF(ISBLANK(Datenerfassung!R894),\"\",Datenerfassung!R894)","v":""},{"$f":"IF(ISBLANK(Datenerfassung!S894),\"\",Datenerfassung!S894)","v":""},"",{"$f":"IF(ISBLANK(Datenerfassung!U894),\"\",Datenerfassung!U894)","v":""},{"$f":"IF(ISBLANK(Datenerfassung!O894),\"\",Datenerfassung!O894)","v":""},{"$f":"IF(ISBLANK(Datenerfassung!D894),IF(COUNTBLANK(A884:H884)+COUNTBLANK(J884:O884)=14,\"\",\"- ohne Titel -\"),Datenerfassung!D894)","v":""},{"$f":"IF(ISBLANK(Datenerfassung!G894),\"\",Datenerfassung!G894)","v":""},"",{"$f":"IF(ISBLANK(Datenerfassung!X894),\"\",Datenerfassung!X894)","v":""},{"$f":"IF(COUNTBLANK(Datenerfassung!H894:'Datenerfassung'!N894)=7,\"\",CONCATENATE( CONCATENATE(IF(ISBLANK(Datenerfassung!H894),\" \",Datenerfassung!H894 ),\" [IS]\"), CONCATENATE(IF(ISBLANK(Datenerfassung!I894),\" \",Datenerfassung!I894 ),\" [IS]\"), CONCATENATE(IF(ISBLANK(Datenerfassung!J894),\" \",Datenerfassung!J894 ),\" [IS]\"), CONCATENATE(IF(ISBLANK(Datenerfassung!K894),\" \",Datenerfassung!K894 ),\" [IS]\"), CONCATENATE(IF(ISBLANK(Datenerfassung!L894),\" \",Datenerfassung!L894 ),\" [IS]\"), CONCATENATE(IF(ISBLANK(Datenerfassung!M894),\" \",Datenerfassung!M894 ),\" [IS]\"), IF(ISBLANK(Datenerfassung!N894),\" \",Datenerfassung!N894 ) ))","v":""},{"$f":"IF(ISBLANK(Datenerfassung!V894),\"\",Datenerfassung!V894)","v":""},{"$f":"IF(ISBLANK(Datenerfassung!Q894),\"\",Datenerfassung!Q894)","v":""}]
[{"$f":"IF(ISBLANK(Datenerfassung!A895),\"\",Datenerfassung!A895)","v":""},{"$f":"IF(ISBLANK(Datenerfassung!B895),\"\",Datenerfassung!B895)","v":""},{"$f":"IF(ISBLANK(Datenerfassung!C895),\"\",Datenerfassung!C895)","v":""},{"$f":"IF(ISBLANK(Datenerfassung!R895),\"\",Datenerfassung!R895)","v":""},{"$f":"IF(ISBLANK(Datenerfassung!S895),\"\",Datenerfassung!S895)","v":""},"",{"$f":"IF(ISBLANK(Datenerfassung!U895),\"\",Datenerfassung!U895)","v":""},{"$f":"IF(ISBLANK(Datenerfassung!O895),\"\",Datenerfassung!O895)","v":""},{"$f":"IF(ISBLANK(Datenerfassung!D895),IF(COUNTBLANK(A885:H885)+COUNTBLANK(J885:O885)=14,\"\",\"- ohne Titel -\"),Datenerfassung!D895)","v":""},{"$f":"IF(ISBLANK(Datenerfassung!G895),\"\",Datenerfassung!G895)","v":""},"",{"$f":"IF(ISBLANK(Datenerfassung!X895),\"\",Datenerfassung!X895)","v":""},{"$f":"IF(COUNTBLANK(Datenerfassung!H895:'Datenerfassung'!N895)=7,\"\",CONCATENATE( CONCATENATE(IF(ISBLANK(Datenerfassung!H895),\" \",Datenerfassung!H895 ),\" [IS]\"), CONCATENATE(IF(ISBLANK(Datenerfassung!I895),\" \",Datenerfassung!I895 ),\" [IS]\"), CONCATENATE(IF(ISBLANK(Datenerfassung!J895),\" \",Datenerfassung!J895 ),\" [IS]\"), CONCATENATE(IF(ISBLANK(Datenerfassung!K895),\" \",Datenerfassung!K895 ),\" [IS]\"), CONCATENATE(IF(ISBLANK(Datenerfassung!L895),\" \",Datenerfassung!L895 ),\" [IS]\"), CONCATENATE(IF(ISBLANK(Datenerfassung!M895),\" \",Datenerfassung!M895 ),\" [IS]\"), IF(ISBLANK(Datenerfassung!N895),\" \",Datenerfassung!N895 ) ))","v":""},{"$f":"IF(ISBLANK(Datenerfassung!V895),\"\",Datenerfassung!V895)","v":""},{"$f":"IF(ISBLANK(Datenerfassung!Q895),\"\",Datenerfassung!Q895)","v":""}]
[{"$f":"IF(ISBLANK(Datenerfassung!A896),\"\",Datenerfassung!A896)","v":""},{"$f":"IF(ISBLANK(Datenerfassung!B896),\"\",Datenerfassung!B896)","v":""},{"$f":"IF(ISBLANK(Datenerfassung!C896),\"\",Datenerfassung!C896)","v":""},{"$f":"IF(ISBLANK(Datenerfassung!R896),\"\",Datenerfassung!R896)","v":""},{"$f":"IF(ISBLANK(Datenerfassung!S896),\"\",Datenerfassung!S896)","v":""},"",{"$f":"IF(ISBLANK(Datenerfassung!U896),\"\",Datenerfassung!U896)","v":""},{"$f":"IF(ISBLANK(Datenerfassung!O896),\"\",Datenerfassung!O896)","v":""},{"$f":"IF(ISBLANK(Datenerfassung!D896),IF(COUNTBLANK(A886:H886)+COUNTBLANK(J886:O886)=14,\"\",\"- ohne Titel -\"),Datenerfassung!D896)","v":""},{"$f":"IF(ISBLANK(Datenerfassung!G896),\"\",Datenerfassung!G896)","v":""},"",{"$f":"IF(ISBLANK(Datenerfassung!X896),\"\",Datenerfassung!X896)","v":""},{"$f":"IF(COUNTBLANK(Datenerfassung!H896:'Datenerfassung'!N896)=7,\"\",CONCATENATE( CONCATENATE(IF(ISBLANK(Datenerfassung!H896),\" \",Datenerfassung!H896 ),\" [IS]\"), CONCATENATE(IF(ISBLANK(Datenerfassung!I896),\" \",Datenerfassung!I896 ),\" [IS]\"), CONCATENATE(IF(ISBLANK(Datenerfassung!J896),\" \",Datenerfassung!J896 ),\" [IS]\"), CONCATENATE(IF(ISBLANK(Datenerfassung!K896),\" \",Datenerfassung!K896 ),\" [IS]\"), CONCATENATE(IF(ISBLANK(Datenerfassung!L896),\" \",Datenerfassung!L896 ),\" [IS]\"), CONCATENATE(IF(ISBLANK(Datenerfassung!M896),\" \",Datenerfassung!M896 ),\" [IS]\"), IF(ISBLANK(Datenerfassung!N896),\" \",Datenerfassung!N896 ) ))","v":""},{"$f":"IF(ISBLANK(Datenerfassung!V896),\"\",Datenerfassung!V896)","v":""},{"$f":"IF(ISBLANK(Datenerfassung!Q896),\"\",Datenerfassung!Q896)","v":""}]
[{"$f":"IF(ISBLANK(Datenerfassung!A897),\"\",Datenerfassung!A897)","v":""},{"$f":"IF(ISBLANK(Datenerfassung!B897),\"\",Datenerfassung!B897)","v":""},{"$f":"IF(ISBLANK(Datenerfassung!C897),\"\",Datenerfassung!C897)","v":""},{"$f":"IF(ISBLANK(Datenerfassung!R897),\"\",Datenerfassung!R897)","v":""},{"$f":"IF(ISBLANK(Datenerfassung!S897),\"\",Datenerfassung!S897)","v":""},"",{"$f":"IF(ISBLANK(Datenerfassung!U897),\"\",Datenerfassung!U897)","v":""},{"$f":"IF(ISBLANK(Datenerfassung!O897),\"\",Datenerfassung!O897)","v":""},{"$f":"IF(ISBLANK(Datenerfassung!D897),IF(COUNTBLANK(A887:H887)+COUNTBLANK(J887:O887)=14,\"\",\"- ohne Titel -\"),Datenerfassung!D897)","v":""},{"$f":"IF(ISBLANK(Datenerfassung!G897),\"\",Datenerfassung!G897)","v":""},"",{"$f":"IF(ISBLANK(Datenerfassung!X897),\"\",Datenerfassung!X897)","v":""},{"$f":"IF(COUNTBLANK(Datenerfassung!H897:'Datenerfassung'!N897)=7,\"\",CONCATENATE( CONCATENATE(IF(ISBLANK(Datenerfassung!H897),\" \",Datenerfassung!H897 ),\" [IS]\"), CONCATENATE(IF(ISBLANK(Datenerfassung!I897),\" \",Datenerfassung!I897 ),\" [IS]\"), CONCATENATE(IF(ISBLANK(Datenerfassung!J897),\" \",Datenerfassung!J897 ),\" [IS]\"), CONCATENATE(IF(ISBLANK(Datenerfassung!K897),\" \",Datenerfassung!K897 ),\" [IS]\"), CONCATENATE(IF(ISBLANK(Datenerfassung!L897),\" \",Datenerfassung!L897 ),\" [IS]\"), CONCATENATE(IF(ISBLANK(Datenerfassung!M897),\" \",Datenerfassung!M897 ),\" [IS]\"), IF(ISBLANK(Datenerfassung!N897),\" \",Datenerfassung!N897 ) ))","v":""},{"$f":"IF(ISBLANK(Datenerfassung!V897),\"\",Datenerfassung!V897)","v":""},{"$f":"IF(ISBLANK(Datenerfassung!Q897),\"\",Datenerfassung!Q897)","v":""}]
[{"$f":"IF(ISBLANK(Datenerfassung!A898),\"\",Datenerfassung!A898)","v":""},{"$f":"IF(ISBLANK(Datenerfassung!B898),\"\",Datenerfassung!B898)","v":""},{"$f":"IF(ISBLANK(Datenerfassung!C898),\"\",Datenerfassung!C898)","v":""},{"$f":"IF(ISBLANK(Datenerfassung!R898),\"\",Datenerfassung!R898)","v":""},{"$f":"IF(ISBLANK(Datenerfassung!S898),\"\",Datenerfassung!S898)","v":""},"",{"$f":"IF(ISBLANK(Datenerfassung!U898),\"\",Datenerfassung!U898)","v":""},{"$f":"IF(ISBLANK(Datenerfassung!O898),\"\",Datenerfassung!O898)","v":""},{"$f":"IF(ISBLANK(Datenerfassung!D898),IF(COUNTBLANK(A888:H888)+COUNTBLANK(J888:O888)=14,\"\",\"- ohne Titel -\"),Datenerfassung!D898)","v":""},{"$f":"IF(ISBLANK(Datenerfassung!G898),\"\",Datenerfassung!G898)","v":""},"",{"$f":"IF(ISBLANK(Datenerfassung!X898),\"\",Datenerfassung!X898)","v":""},{"$f":"IF(COUNTBLANK(Datenerfassung!H898:'Datenerfassung'!N898)=7,\"\",CONCATENATE( CONCATENATE(IF(ISBLANK(Datenerfassung!H898),\" \",Datenerfassung!H898 ),\" [IS]\"), CONCATENATE(IF(ISBLANK(Datenerfassung!I898),\" \",Datenerfassung!I898 ),\" [IS]\"), CONCATENATE(IF(ISBLANK(Datenerfassung!J898),\" \",Datenerfassung!J898 ),\" [IS]\"), CONCATENATE(IF(ISBLANK(Datenerfassung!K898),\" \",Datenerfassung!K898 ),\" [IS]\"), CONCATENATE(IF(ISBLANK(Datenerfassung!L898),\" \",Datenerfassung!L898 ),\" [IS]\"), CONCATENATE(IF(ISBLANK(Datenerfassung!M898),\" \",Datenerfassung!M898 ),\" [IS]\"), IF(ISBLANK(Datenerfassung!N898),\" \",Datenerfassung!N898 ) ))","v":""},{"$f":"IF(ISBLANK(Datenerfassung!V898),\"\",Datenerfassung!V898)","v":""},{"$f":"IF(ISBLANK(Datenerfassung!Q898),\"\",Datenerfassung!Q898)","v":""}]
[{"$f":"IF(ISBLANK(Datenerfassung!A899),\"\",Datenerfassung!A899)","v":""},{"$f":"IF(ISBLANK(Datenerfassung!B899),\"\",Datenerfassung!B899)","v":""},{"$f":"IF(ISBLANK(Datenerfassung!C899),\"\",Datenerfassung!C899)","v":""},{"$f":"IF(ISBLANK(Datenerfassung!R899),\"\",Datenerfassung!R899)","v":""},{"$f":"IF(ISBLANK(Datenerfassung!S899),\"\",Datenerfassung!S899)","v":""},"",{"$f":"IF(ISBLANK(Datenerfassung!U899),\"\",Datenerfassung!U899)","v":""},{"$f":"IF(ISBLANK(Datenerfassung!O899),\"\",Datenerfassung!O899)","v":""},{"$f":"IF(ISBLANK(Datenerfassung!D899),IF(COUNTBLANK(A889:H889)+COUNTBLANK(J889:O889)=14,\"\",\"- ohne Titel -\"),Datenerfassung!D899)","v":""},{"$f":"IF(ISBLANK(Datenerfassung!G899),\"\",Datenerfassung!G899)","v":""},"",{"$f":"IF(ISBLANK(Datenerfassung!X899),\"\",Datenerfassung!X899)","v":""},{"$f":"IF(COUNTBLANK(Datenerfassung!H899:'Datenerfassung'!N899)=7,\"\",CONCATENATE( CONCATENATE(IF(ISBLANK(Datenerfassung!H899),\" \",Datenerfassung!H899 ),\" [IS]\"), CONCATENATE(IF(ISBLANK(Datenerfassung!I899),\" \",Datenerfassung!I899 ),\" [IS]\"), CONCATENATE(IF(ISBLANK(Datenerfassung!J899),\" \",Datenerfassung!J899 ),\" [IS]\"), CONCATENATE(IF(ISBLANK(Datenerfassung!K899),\" \",Datenerfassung!K899 ),\" [IS]\"), CONCATENATE(IF(ISBLANK(Datenerfassung!L899),\" \",Datenerfassung!L899 ),\" [IS]\"), CONCATENATE(IF(ISBLANK(Datenerfassung!M899),\" \",Datenerfassung!M899 ),\" [IS]\"), IF(ISBLANK(Datenerfassung!N899),\" \",Datenerfassung!N899 ) ))","v":""},{"$f":"IF(ISBLANK(Datenerfassung!V899),\"\",Datenerfassung!V899)","v":""},{"$f":"IF(ISBLANK(Datenerfassung!Q899),\"\",Datenerfassung!Q899)","v":""}]
[{"$f":"IF(ISBLANK(Datenerfassung!A900),\"\",Datenerfassung!A900)","v":""},{"$f":"IF(ISBLANK(Datenerfassung!B900),\"\",Datenerfassung!B900)","v":""},{"$f":"IF(ISBLANK(Datenerfassung!C900),\"\",Datenerfassung!C900)","v":""},{"$f":"IF(ISBLANK(Datenerfassung!R900),\"\",Datenerfassung!R900)","v":""},{"$f":"IF(ISBLANK(Datenerfassung!S900),\"\",Datenerfassung!S900)","v":""},"",{"$f":"IF(ISBLANK(Datenerfassung!U900),\"\",Datenerfassung!U900)","v":""},{"$f":"IF(ISBLANK(Datenerfassung!O900),\"\",Datenerfassung!O900)","v":""},{"$f":"IF(ISBLANK(Datenerfassung!D900),IF(COUNTBLANK(A890:H890)+COUNTBLANK(J890:O890)=14,\"\",\"- ohne Titel -\"),Datenerfassung!D900)","v":""},{"$f":"IF(ISBLANK(Datenerfassung!G900),\"\",Datenerfassung!G900)","v":""},"",{"$f":"IF(ISBLANK(Datenerfassung!X900),\"\",Datenerfassung!X900)","v":""},{"$f":"IF(COUNTBLANK(Datenerfassung!H900:'Datenerfassung'!N900)=7,\"\",CONCATENATE( CONCATENATE(IF(ISBLANK(Datenerfassung!H900),\" \",Datenerfassung!H900 ),\" [IS]\"), CONCATENATE(IF(ISBLANK(Datenerfassung!I900),\" \",Datenerfassung!I900 ),\" [IS]\"), CONCATENATE(IF(ISBLANK(Datenerfassung!J900),\" \",Datenerfassung!J900 ),\" [IS]\"), CONCATENATE(IF(ISBLANK(Datenerfassung!K900),\" \",Datenerfassung!K900 ),\" [IS]\"), CONCATENATE(IF(ISBLANK(Datenerfassung!L900),\" \",Datenerfassung!L900 ),\" [IS]\"), CONCATENATE(IF(ISBLANK(Datenerfassung!M900),\" \",Datenerfassung!M900 ),\" [IS]\"), IF(ISBLANK(Datenerfassung!N900),\" \",Datenerfassung!N900 ) ))","v":""},{"$f":"IF(ISBLANK(Datenerfassung!V900),\"\",Datenerfassung!V900)","v":""},{"$f":"IF(ISBLANK(Datenerfassung!Q900),\"\",Datenerfassung!Q900)","v":""}]
[{"$f":"IF(ISBLANK(Datenerfassung!A901),\"\",Datenerfassung!A901)","v":""},{"$f":"IF(ISBLANK(Datenerfassung!B901),\"\",Datenerfassung!B901)","v":""},{"$f":"IF(ISBLANK(Datenerfassung!C901),\"\",Datenerfassung!C901)","v":""},{"$f":"IF(ISBLANK(Datenerfassung!R901),\"\",Datenerfassung!R901)","v":""},{"$f":"IF(ISBLANK(Datenerfassung!S901),\"\",Datenerfassung!S901)","v":""},"",{"$f":"IF(ISBLANK(Datenerfassung!U901),\"\",Datenerfassung!U901)","v":""},{"$f":"IF(ISBLANK(Datenerfassung!O901),\"\",Datenerfassung!O901)","v":""},{"$f":"IF(ISBLANK(Datenerfassung!D901),IF(COUNTBLANK(A891:H891)+COUNTBLANK(J891:O891)=14,\"\",\"- ohne Titel -\"),Datenerfassung!D901)","v":""},{"$f":"IF(ISBLANK(Datenerfassung!G901),\"\",Datenerfassung!G901)","v":""},"",{"$f":"IF(ISBLANK(Datenerfassung!X901),\"\",Datenerfassung!X901)","v":""},{"$f":"IF(COUNTBLANK(Datenerfassung!H901:'Datenerfassung'!N901)=7,\"\",CONCATENATE( CONCATENATE(IF(ISBLANK(Datenerfassung!H901),\" \",Datenerfassung!H901 ),\" [IS]\"), CONCATENATE(IF(ISBLANK(Datenerfassung!I901),\" \",Datenerfassung!I901 ),\" [IS]\"), CONCATENATE(IF(ISBLANK(Datenerfassung!J901),\" \",Datenerfassung!J901 ),\" [IS]\"), CONCATENATE(IF(ISBLANK(Datenerfassung!K901),\" \",Datenerfassung!K901 ),\" [IS]\"), CONCATENATE(IF(ISBLANK(Datenerfassung!L901),\" \",Datenerfassung!L901 ),\" [IS]\"), CONCATENATE(IF(ISBLANK(Datenerfassung!M901),\" \",Datenerfassung!M901 ),\" [IS]\"), IF(ISBLANK(Datenerfassung!N901),\" \",Datenerfassung!N901 ) ))","v":""},{"$f":"IF(ISBLANK(Datenerfassung!V901),\"\",Datenerfassung!V901)","v":""},{"$f":"IF(ISBLANK(Datenerfassung!Q901),\"\",Datenerfassung!Q901)","v":""}]
[{"$f":"IF(ISBLANK(Datenerfassung!A902),\"\",Datenerfassung!A902)","v":""},{"$f":"IF(ISBLANK(Datenerfassung!B902),\"\",Datenerfassung!B902)","v":""},{"$f":"IF(ISBLANK(Datenerfassung!C902),\"\",Datenerfassung!C902)","v":""},{"$f":"IF(ISBLANK(Datenerfassung!R902),\"\",Datenerfassung!R902)","v":""},{"$f":"IF(ISBLANK(Datenerfassung!S902),\"\",Datenerfassung!S902)","v":""},"",{"$f":"IF(ISBLANK(Datenerfassung!U902),\"\",Datenerfassung!U902)","v":""},{"$f":"IF(ISBLANK(Datenerfassung!O902),\"\",Datenerfassung!O902)","v":""},{"$f":"IF(ISBLANK(Datenerfassung!D902),IF(COUNTBLANK(A892:H892)+COUNTBLANK(J892:O892)=14,\"\",\"- ohne Titel -\"),Datenerfassung!D902)","v":""},{"$f":"IF(ISBLANK(Datenerfassung!G902),\"\",Datenerfassung!G902)","v":""},"",{"$f":"IF(ISBLANK(Datenerfassung!X902),\"\",Datenerfassung!X902)","v":""},{"$f":"IF(COUNTBLANK(Datenerfassung!H902:'Datenerfassung'!N902)=7,\"\",CONCATENATE( CONCATENATE(IF(ISBLANK(Datenerfassung!H902),\" \",Datenerfassung!H902 ),\" [IS]\"), CONCATENATE(IF(ISBLANK(Datenerfassung!I902),\" \",Datenerfassung!I902 ),\" [IS]\"), CONCATENATE(IF(ISBLANK(Datenerfassung!J902),\" \",Datenerfassung!J902 ),\" [IS]\"), CONCATENATE(IF(ISBLANK(Datenerfassung!K902),\" \",Datenerfassung!K902 ),\" [IS]\"), CONCATENATE(IF(ISBLANK(Datenerfassung!L902),\" \",Datenerfassung!L902 ),\" [IS]\"), CONCATENATE(IF(ISBLANK(Datenerfassung!M902),\" \",Datenerfassung!M902 ),\" [IS]\"), IF(ISBLANK(Datenerfassung!N902),\" \",Datenerfassung!N902 ) ))","v":""},{"$f":"IF(ISBLANK(Datenerfassung!V902),\"\",Datenerfassung!V902)","v":""},{"$f":"IF(ISBLANK(Datenerfassung!Q902),\"\",Datenerfassung!Q902)","v":""}]
[{"$f":"IF(ISBLANK(Datenerfassung!A903),\"\",Datenerfassung!A903)","v":""},{"$f":"IF(ISBLANK(Datenerfassung!B903),\"\",Datenerfassung!B903)","v":""},{"$f":"IF(ISBLANK(Datenerfassung!C903),\"\",Datenerfassung!C903)","v":""},{"$f":"IF(ISBLANK(Datenerfassung!R903),\"\",Datenerfassung!R903)","v":""},{"$f":"IF(ISBLANK(Datenerfassung!S903),\"\",Datenerfassung!S903)","v":""},"",{"$f":"IF(ISBLANK(Datenerfassung!U903),\"\",Datenerfassung!U903)","v":""},{"$f":"IF(ISBLANK(Datenerfassung!O903),\"\",Datenerfassung!O903)","v":""},{"$f":"IF(ISBLANK(Datenerfassung!D903),IF(COUNTBLANK(A893:H893)+COUNTBLANK(J893:O893)=14,\"\",\"- ohne Titel -\"),Datenerfassung!D903)","v":""},{"$f":"IF(ISBLANK(Datenerfassung!G903),\"\",Datenerfassung!G903)","v":""},"",{"$f":"IF(ISBLANK(Datenerfassung!X903),\"\",Datenerfassung!X903)","v":""},{"$f":"IF(COUNTBLANK(Datenerfassung!H903:'Datenerfassung'!N903)=7,\"\",CONCATENATE( CONCATENATE(IF(ISBLANK(Datenerfassung!H903),\" \",Datenerfassung!H903 ),\" [IS]\"), CONCATENATE(IF(ISBLANK(Datenerfassung!I903),\" \",Datenerfassung!I903 ),\" [IS]\"), CONCATENATE(IF(ISBLANK(Datenerfassung!J903),\" \",Datenerfassung!J903 ),\" [IS]\"), CONCATENATE(IF(ISBLANK(Datenerfassung!K903),\" \",Datenerfassung!K903 ),\" [IS]\"), CONCATENATE(IF(ISBLANK(Datenerfassung!L903),\" \",Datenerfassung!L903 ),\" [IS]\"), CONCATENATE(IF(ISBLANK(Datenerfassung!M903),\" \",Datenerfassung!M903 ),\" [IS]\"), IF(ISBLANK(Datenerfassung!N903),\" \",Datenerfassung!N903 ) ))","v":""},{"$f":"IF(ISBLANK(Datenerfassung!V903),\"\",Datenerfassung!V903)","v":""},{"$f":"IF(ISBLANK(Datenerfassung!Q903),\"\",Datenerfassung!Q903)","v":""}]
[{"$f":"IF(ISBLANK(Datenerfassung!A904),\"\",Datenerfassung!A904)","v":""},{"$f":"IF(ISBLANK(Datenerfassung!B904),\"\",Datenerfassung!B904)","v":""},{"$f":"IF(ISBLANK(Datenerfassung!C904),\"\",Datenerfassung!C904)","v":""},{"$f":"IF(ISBLANK(Datenerfassung!R904),\"\",Datenerfassung!R904)","v":""},{"$f":"IF(ISBLANK(Datenerfassung!S904),\"\",Datenerfassung!S904)","v":""},"",{"$f":"IF(ISBLANK(Datenerfassung!U904),\"\",Datenerfassung!U904)","v":""},{"$f":"IF(ISBLANK(Datenerfassung!O904),\"\",Datenerfassung!O904)","v":""},{"$f":"IF(ISBLANK(Datenerfassung!D904),IF(COUNTBLANK(A894:H894)+COUNTBLANK(J894:O894)=14,\"\",\"- ohne Titel -\"),Datenerfassung!D904)","v":""},{"$f":"IF(ISBLANK(Datenerfassung!G904),\"\",Datenerfassung!G904)","v":""},"",{"$f":"IF(ISBLANK(Datenerfassung!X904),\"\",Datenerfassung!X904)","v":""},{"$f":"IF(COUNTBLANK(Datenerfassung!H904:'Datenerfassung'!N904)=7,\"\",CONCATENATE( CONCATENATE(IF(ISBLANK(Datenerfassung!H904),\" \",Datenerfassung!H904 ),\" [IS]\"), CONCATENATE(IF(ISBLANK(Datenerfassung!I904),\" \",Datenerfassung!I904 ),\" [IS]\"), CONCATENATE(IF(ISBLANK(Datenerfassung!J904),\" \",Datenerfassung!J904 ),\" [IS]\"), CONCATENATE(IF(ISBLANK(Datenerfassung!K904),\" \",Datenerfassung!K904 ),\" [IS]\"), CONCATENATE(IF(ISBLANK(Datenerfassung!L904),\" \",Datenerfassung!L904 ),\" [IS]\"), CONCATENATE(IF(ISBLANK(Datenerfassung!M904),\" \",Datenerfassung!M904 ),\" [IS]\"), IF(ISBLANK(Datenerfassung!N904),\" \",Datenerfassung!N904 ) ))","v":""},{"$f":"IF(ISBLANK(Datenerfassung!V904),\"\",Datenerfassung!V904)","v":""},{"$f":"IF(ISBLANK(Datenerfassung!Q904),\"\",Datenerfassung!Q904)","v":""}]
[{"$f":"IF(ISBLANK(Datenerfassung!A905),\"\",Datenerfassung!A905)","v":""},{"$f":"IF(ISBLANK(Datenerfassung!B905),\"\",Datenerfassung!B905)","v":""},{"$f":"IF(ISBLANK(Datenerfassung!C905),\"\",Datenerfassung!C905)","v":""},{"$f":"IF(ISBLANK(Datenerfassung!R905),\"\",Datenerfassung!R905)","v":""},{"$f":"IF(ISBLANK(Datenerfassung!S905),\"\",Datenerfassung!S905)","v":""},"",{"$f":"IF(ISBLANK(Datenerfassung!U905),\"\",Datenerfassung!U905)","v":""},{"$f":"IF(ISBLANK(Datenerfassung!O905),\"\",Datenerfassung!O905)","v":""},{"$f":"IF(ISBLANK(Datenerfassung!D905),IF(COUNTBLANK(A895:H895)+COUNTBLANK(J895:O895)=14,\"\",\"- ohne Titel -\"),Datenerfassung!D905)","v":""},{"$f":"IF(ISBLANK(Datenerfassung!G905),\"\",Datenerfassung!G905)","v":""},"",{"$f":"IF(ISBLANK(Datenerfassung!X905),\"\",Datenerfassung!X905)","v":""},{"$f":"IF(COUNTBLANK(Datenerfassung!H905:'Datenerfassung'!N905)=7,\"\",CONCATENATE( CONCATENATE(IF(ISBLANK(Datenerfassung!H905),\" \",Datenerfassung!H905 ),\" [IS]\"), CONCATENATE(IF(ISBLANK(Datenerfassung!I905),\" \",Datenerfassung!I905 ),\" [IS]\"), CONCATENATE(IF(ISBLANK(Datenerfassung!J905),\" \",Datenerfassung!J905 ),\" [IS]\"), CONCATENATE(IF(ISBLANK(Datenerfassung!K905),\" \",Datenerfassung!K905 ),\" [IS]\"), CONCATENATE(IF(ISBLANK(Datenerfassung!L905),\" \",Datenerfassung!L905 ),\" [IS]\"), CONCATENATE(IF(ISBLANK(Datenerfassung!M905),\" \",Datenerfassung!M905 ),\" [IS]\"), IF(ISBLANK(Datenerfassung!N905),\" \",Datenerfassung!N905 ) ))","v":""},{"$f":"IF(ISBLANK(Datenerfassung!V905),\"\",Datenerfassung!V905)","v":""},{"$f":"IF(ISBLANK(Datenerfassung!Q905),\"\",Datenerfassung!Q905)","v":""}]
[{"$f":"IF(ISBLANK(Datenerfassung!A906),\"\",Datenerfassung!A906)","v":""},{"$f":"IF(ISBLANK(Datenerfassung!B906),\"\",Datenerfassung!B906)","v":""},{"$f":"IF(ISBLANK(Datenerfassung!C906),\"\",Datenerfassung!C906)","v":""},{"$f":"IF(ISBLANK(Datenerfassung!R906),\"\",Datenerfassung!R906)","v":""},{"$f":"IF(ISBLANK(Datenerfassung!S906),\"\",Datenerfassung!S906)","v":""},"",{"$f":"IF(ISBLANK(Datenerfassung!U906),\"\",Datenerfassung!U906)","v":""},{"$f":"IF(ISBLANK(Datenerfassung!O906),\"\",Datenerfassung!O906)","v":""},{"$f":"IF(ISBLANK(Datenerfassung!D906),IF(COUNTBLANK(A896:H896)+COUNTBLANK(J896:O896)=14,\"\",\"- ohne Titel -\"),Datenerfassung!D906)","v":""},{"$f":"IF(ISBLANK(Datenerfassung!G906),\"\",Datenerfassung!G906)","v":""},"",{"$f":"IF(ISBLANK(Datenerfassung!X906),\"\",Datenerfassung!X906)","v":""},{"$f":"IF(COUNTBLANK(Datenerfassung!H906:'Datenerfassung'!N906)=7,\"\",CONCATENATE( CONCATENATE(IF(ISBLANK(Datenerfassung!H906),\" \",Datenerfassung!H906 ),\" [IS]\"), CONCATENATE(IF(ISBLANK(Datenerfassung!I906),\" \",Datenerfassung!I906 ),\" [IS]\"), CONCATENATE(IF(ISBLANK(Datenerfassung!J906),\" \",Datenerfassung!J906 ),\" [IS]\"), CONCATENATE(IF(ISBLANK(Datenerfassung!K906),\" \",Datenerfassung!K906 ),\" [IS]\"), CONCATENATE(IF(ISBLANK(Datenerfassung!L906),\" \",Datenerfassung!L906 ),\" [IS]\"), CONCATENATE(IF(ISBLANK(Datenerfassung!M906),\" \",Datenerfassung!M906 ),\" [IS]\"), IF(ISBLANK(Datenerfassung!N906),\" \",Datenerfassung!N906 ) ))","v":""},{"$f":"IF(ISBLANK(Datenerfassung!V906),\"\",Datenerfassung!V906)","v":""},{"$f":"IF(ISBLANK(Datenerfassung!Q906),\"\",Datenerfassung!Q906)","v":""}]
[{"$f":"IF(ISBLANK(Datenerfassung!A907),\"\",Datenerfassung!A907)","v":""},{"$f":"IF(ISBLANK(Datenerfassung!B907),\"\",Datenerfassung!B907)","v":""},{"$f":"IF(ISBLANK(Datenerfassung!C907),\"\",Datenerfassung!C907)","v":""},{"$f":"IF(ISBLANK(Datenerfassung!R907),\"\",Datenerfassung!R907)","v":""},{"$f":"IF(ISBLANK(Datenerfassung!S907),\"\",Datenerfassung!S907)","v":""},"",{"$f":"IF(ISBLANK(Datenerfassung!U907),\"\",Datenerfassung!U907)","v":""},{"$f":"IF(ISBLANK(Datenerfassung!O907),\"\",Datenerfassung!O907)","v":""},{"$f":"IF(ISBLANK(Datenerfassung!D907),IF(COUNTBLANK(A897:H897)+COUNTBLANK(J897:O897)=14,\"\",\"- ohne Titel -\"),Datenerfassung!D907)","v":""},{"$f":"IF(ISBLANK(Datenerfassung!G907),\"\",Datenerfassung!G907)","v":""},"",{"$f":"IF(ISBLANK(Datenerfassung!X907),\"\",Datenerfassung!X907)","v":""},{"$f":"IF(COUNTBLANK(Datenerfassung!H907:'Datenerfassung'!N907)=7,\"\",CONCATENATE( CONCATENATE(IF(ISBLANK(Datenerfassung!H907),\" \",Datenerfassung!H907 ),\" [IS]\"), CONCATENATE(IF(ISBLANK(Datenerfassung!I907),\" \",Datenerfassung!I907 ),\" [IS]\"), CONCATENATE(IF(ISBLANK(Datenerfassung!J907),\" \",Datenerfassung!J907 ),\" [IS]\"), CONCATENATE(IF(ISBLANK(Datenerfassung!K907),\" \",Datenerfassung!K907 ),\" [IS]\"), CONCATENATE(IF(ISBLANK(Datenerfassung!L907),\" \",Datenerfassung!L907 ),\" [IS]\"), CONCATENATE(IF(ISBLANK(Datenerfassung!M907),\" \",Datenerfassung!M907 ),\" [IS]\"), IF(ISBLANK(Datenerfassung!N907),\" \",Datenerfassung!N907 ) ))","v":""},{"$f":"IF(ISBLANK(Datenerfassung!V907),\"\",Datenerfassung!V907)","v":""},{"$f":"IF(ISBLANK(Datenerfassung!Q907),\"\",Datenerfassung!Q907)","v":""}]
[{"$f":"IF(ISBLANK(Datenerfassung!A908),\"\",Datenerfassung!A908)","v":""},{"$f":"IF(ISBLANK(Datenerfassung!B908),\"\",Datenerfassung!B908)","v":""},{"$f":"IF(ISBLANK(Datenerfassung!C908),\"\",Datenerfassung!C908)","v":""},{"$f":"IF(ISBLANK(Datenerfassung!R908),\"\",Datenerfassung!R908)","v":""},{"$f":"IF(ISBLANK(Datenerfassung!S908),\"\",Datenerfassung!S908)","v":""},"",{"$f":"IF(ISBLANK(Datenerfassung!U908),\"\",Datenerfassung!U908)","v":""},{"$f":"IF(ISBLANK(Datenerfassung!O908),\"\",Datenerfassung!O908)","v":""},{"$f":"IF(ISBLANK(Datenerfassung!D908),IF(COUNTBLANK(A898:H898)+COUNTBLANK(J898:O898)=14,\"\",\"- ohne Titel -\"),Datenerfassung!D908)","v":""},{"$f":"IF(ISBLANK(Datenerfassung!G908),\"\",Datenerfassung!G908)","v":""},"",{"$f":"IF(ISBLANK(Datenerfassung!X908),\"\",Datenerfassung!X908)","v":""},{"$f":"IF(COUNTBLANK(Datenerfassung!H908:'Datenerfassung'!N908)=7,\"\",CONCATENATE( CONCATENATE(IF(ISBLANK(Datenerfassung!H908),\" \",Datenerfassung!H908 ),\" [IS]\"), CONCATENATE(IF(ISBLANK(Datenerfassung!I908),\" \",Datenerfassung!I908 ),\" [IS]\"), CONCATENATE(IF(ISBLANK(Datenerfassung!J908),\" \",Datenerfassung!J908 ),\" [IS]\"), CONCATENATE(IF(ISBLANK(Datenerfassung!K908),\" \",Datenerfassung!K908 ),\" [IS]\"), CONCATENATE(IF(ISBLANK(Datenerfassung!L908),\" \",Datenerfassung!L908 ),\" [IS]\"), CONCATENATE(IF(ISBLANK(Datenerfassung!M908),\" \",Datenerfassung!M908 ),\" [IS]\"), IF(ISBLANK(Datenerfassung!N908),\" \",Datenerfassung!N908 ) ))","v":""},{"$f":"IF(ISBLANK(Datenerfassung!V908),\"\",Datenerfassung!V908)","v":""},{"$f":"IF(ISBLANK(Datenerfassung!Q908),\"\",Datenerfassung!Q908)","v":""}]
[{"$f":"IF(ISBLANK(Datenerfassung!A909),\"\",Datenerfassung!A909)","v":""},{"$f":"IF(ISBLANK(Datenerfassung!B909),\"\",Datenerfassung!B909)","v":""},{"$f":"IF(ISBLANK(Datenerfassung!C909),\"\",Datenerfassung!C909)","v":""},{"$f":"IF(ISBLANK(Datenerfassung!R909),\"\",Datenerfassung!R909)","v":""},{"$f":"IF(ISBLANK(Datenerfassung!S909),\"\",Datenerfassung!S909)","v":""},{"$f":"IF(D899=\"\",\"\",IF(E899=\"\",D899,D899&\" - \"&E899))","v":""},{"$f":"IF(ISBLANK(Datenerfassung!U909),\"\",Datenerfassung!U909)","v":""},{"$f":"IF(ISBLANK(Datenerfassung!O909),\"\",Datenerfassung!O909)","v":""},{"$f":"IF(ISBLANK(Datenerfassung!D909),IF(COUNTBLANK(A899:H899)+COUNTBLANK(J899:O899)=14,\"\",\"- ohne Titel -\"),Datenerfassung!D909)","v":""},{"$f":"IF(ISBLANK(Datenerfassung!G909),\"\",Datenerfassung!G909)","v":""},{"$f":"IF(OR(E899=\"\",G899=\"\"),\"\",\"01.01.\"&RIGHT(E899,4)+G899+1)","v":""},{"$f":"IF(ISBLANK(Datenerfassung!X909),\"\",Datenerfassung!X909)","v":""},{"$f":"IF(COUNTBLANK(Datenerfassung!H909:'Datenerfassung'!N909)=7,\"\",CONCATENATE( CONCATENATE(IF(ISBLANK(Datenerfassung!H909),\" \",Datenerfassung!H909 ),\" [IS]\"), CONCATENATE(IF(ISBLANK(Datenerfassung!I909),\" \",Datenerfassung!I909 ),\" [IS]\"), CONCATENATE(IF(ISBLANK(Datenerfassung!J909),\" \",Datenerfassung!J909 ),\" [IS]\"), CONCATENATE(IF(ISBLANK(Datenerfassung!K909),\" \",Datenerfassung!K909 ),\" [IS]\"), CONCATENATE(IF(ISBLANK(Datenerfassung!L909),\" \",Datenerfassung!L909 ),\" [IS]\"), CONCATENATE(IF(ISBLANK(Datenerfassung!M909),\" \",Datenerfassung!M909 ),\" [IS]\"), IF(ISBLANK(Datenerfassung!N909),\" \",Datenerfassung!N909 ) ))","v":""},{"$f":"IF(ISBLANK(Datenerfassung!V909),\"\",Datenerfassung!V909)","v":""},{"$f":"IF(ISBLANK(Datenerfassung!Q909),\"\",Datenerfassung!Q909)","v":""}]
[{"$f":"IF(ISBLANK(Datenerfassung!A910),\"\",Datenerfassung!A910)","v":""},{"$f":"IF(ISBLANK(Datenerfassung!B910),\"\",Datenerfassung!B910)","v":""},{"$f":"IF(ISBLANK(Datenerfassung!C910),\"\",Datenerfassung!C910)","v":""},{"$f":"IF(ISBLANK(Datenerfassung!R910),\"\",Datenerfassung!R910)","v":""},{"$f":"IF(ISBLANK(Datenerfassung!S910),\"\",Datenerfassung!S910)","v":""},"",{"$f":"IF(ISBLANK(Datenerfassung!U910),\"\",Datenerfassung!U910)","v":""},{"$f":"IF(ISBLANK(Datenerfassung!O910),\"\",Datenerfassung!O910)","v":""},{"$f":"IF(ISBLANK(Datenerfassung!D910),IF(COUNTBLANK(A900:H900)+COUNTBLANK(J900:O900)=14,\"\",\"- ohne Titel -\"),Datenerfassung!D910)","v":""},{"$f":"IF(ISBLANK(Datenerfassung!G910),\"\",Datenerfassung!G910)","v":""},"",{"$f":"IF(ISBLANK(Datenerfassung!X910),\"\",Datenerfassung!X910)","v":""},{"$f":"IF(COUNTBLANK(Datenerfassung!H910:'Datenerfassung'!N910)=7,\"\",CONCATENATE( CONCATENATE(IF(ISBLANK(Datenerfassung!H910),\" \",Datenerfassung!H910 ),\" [IS]\"), CONCATENATE(IF(ISBLANK(Datenerfassung!I910),\" \",Datenerfassung!I910 ),\" [IS]\"), CONCATENATE(IF(ISBLANK(Datenerfassung!J910),\" \",Datenerfassung!J910 ),\" [IS]\"), CONCATENATE(IF(ISBLANK(Datenerfassung!K910),\" \",Datenerfassung!K910 ),\" [IS]\"), CONCATENATE(IF(ISBLANK(Datenerfassung!L910),\" \",Datenerfassung!L910 ),\" [IS]\"), CONCATENATE(IF(ISBLANK(Datenerfassung!M910),\" \",Datenerfassung!M910 ),\" [IS]\"), IF(ISBLANK(Datenerfassung!N910),\" \",Datenerfassung!N910 ) ))","v":""},{"$f":"IF(ISBLANK(Datenerfassung!V910),\"\",Datenerfassung!V910)","v":""},{"$f":"IF(ISBLANK(Datenerfassung!Q910),\"\",Datenerfassung!Q910)","v":""}]
[{"$f":"IF(ISBLANK(Datenerfassung!A911),\"\",Datenerfassung!A911)","v":""},{"$f":"IF(ISBLANK(Datenerfassung!B911),\"\",Datenerfassung!B911)","v":""},{"$f":"IF(ISBLANK(Datenerfassung!C911),\"\",Datenerfassung!C911)","v":""},{"$f":"IF(ISBLANK(Datenerfassung!R911),\"\",Datenerfassung!R911)","v":""},{"$f":"IF(ISBLANK(Datenerfassung!S911),\"\",Datenerfassung!S911)","v":""},"",{"$f":"IF(ISBLANK(Datenerfassung!U911),\"\",Datenerfassung!U911)","v":""},{"$f":"IF(ISBLANK(Datenerfassung!O911),\"\",Datenerfassung!O911)","v":""},{"$f":"IF(ISBLANK(Datenerfassung!D911),IF(COUNTBLANK(A901:H901)+COUNTBLANK(J901:O901)=14,\"\",\"- ohne Titel -\"),Datenerfassung!D911)","v":""},{"$f":"IF(ISBLANK(Datenerfassung!G911),\"\",Datenerfassung!G911)","v":""},"",{"$f":"IF(ISBLANK(Datenerfassung!X911),\"\",Datenerfassung!X911)","v":""},{"$f":"IF(COUNTBLANK(Datenerfassung!H911:'Datenerfassung'!N911)=7,\"\",CONCATENATE( CONCATENATE(IF(ISBLANK(Datenerfassung!H911),\" \",Datenerfassung!H911 ),\" [IS]\"), CONCATENATE(IF(ISBLANK(Datenerfassung!I911),\" \",Datenerfassung!I911 ),\" [IS]\"), CONCATENATE(IF(ISBLANK(Datenerfassung!J911),\" \",Datenerfassung!J911 ),\" [IS]\"), CONCATENATE(IF(ISBLANK(Datenerfassung!K911),\" \",Datenerfassung!K911 ),\" [IS]\"), CONCATENATE(IF(ISBLANK(Datenerfassung!L911),\" \",Datenerfassung!L911 ),\" [IS]\"), CONCATENATE(IF(ISBLANK(Datenerfassung!M911),\" \",Datenerfassung!M911 ),\" [IS]\"), IF(ISBLANK(Datenerfassung!N911),\" \",Datenerfassung!N911 ) ))","v":""},{"$f":"IF(ISBLANK(Datenerfassung!V911),\"\",Datenerfassung!V911)","v":""},{"$f":"IF(ISBLANK(Datenerfassung!Q911),\"\",Datenerfassung!Q911)","v":""}]
[{"$f":"IF(ISBLANK(Datenerfassung!A912),\"\",Datenerfassung!A912)","v":""},{"$f":"IF(ISBLANK(Datenerfassung!B912),\"\",Datenerfassung!B912)","v":""},{"$f":"IF(ISBLANK(Datenerfassung!C912),\"\",Datenerfassung!C912)","v":""},{"$f":"IF(ISBLANK(Datenerfassung!R912),\"\",Datenerfassung!R912)","v":""},{"$f":"IF(ISBLANK(Datenerfassung!S912),\"\",Datenerfassung!S912)","v":""},"",{"$f":"IF(ISBLANK(Datenerfassung!U912),\"\",Datenerfassung!U912)","v":""},{"$f":"IF(ISBLANK(Datenerfassung!O912),\"\",Datenerfassung!O912)","v":""},{"$f":"IF(ISBLANK(Datenerfassung!D912),IF(COUNTBLANK(A902:H902)+COUNTBLANK(J902:O902)=14,\"\",\"- ohne Titel -\"),Datenerfassung!D912)","v":""},{"$f":"IF(ISBLANK(Datenerfassung!G912),\"\",Datenerfassung!G912)","v":""},"",{"$f":"IF(ISBLANK(Datenerfassung!X912),\"\",Datenerfassung!X912)","v":""},{"$f":"IF(COUNTBLANK(Datenerfassung!H912:'Datenerfassung'!N912)=7,\"\",CONCATENATE( CONCATENATE(IF(ISBLANK(Datenerfassung!H912),\" \",Datenerfassung!H912 ),\" [IS]\"), CONCATENATE(IF(ISBLANK(Datenerfassung!I912),\" \",Datenerfassung!I912 ),\" [IS]\"), CONCATENATE(IF(ISBLANK(Datenerfassung!J912),\" \",Datenerfassung!J912 ),\" [IS]\"), CONCATENATE(IF(ISBLANK(Datenerfassung!K912),\" \",Datenerfassung!K912 ),\" [IS]\"), CONCATENATE(IF(ISBLANK(Datenerfassung!L912),\" \",Datenerfassung!L912 ),\" [IS]\"), CONCATENATE(IF(ISBLANK(Datenerfassung!M912),\" \",Datenerfassung!M912 ),\" [IS]\"), IF(ISBLANK(Datenerfassung!N912),\" \",Datenerfassung!N912 ) ))","v":""},{"$f":"IF(ISBLANK(Datenerfassung!V912),\"\",Datenerfassung!V912)","v":""},{"$f":"IF(ISBLANK(Datenerfassung!Q912),\"\",Datenerfassung!Q912)","v":""}]
[{"$f":"IF(ISBLANK(Datenerfassung!A913),\"\",Datenerfassung!A913)","v":""},{"$f":"IF(ISBLANK(Datenerfassung!B913),\"\",Datenerfassung!B913)","v":""},{"$f":"IF(ISBLANK(Datenerfassung!C913),\"\",Datenerfassung!C913)","v":""},{"$f":"IF(ISBLANK(Datenerfassung!R913),\"\",Datenerfassung!R913)","v":""},{"$f":"IF(ISBLANK(Datenerfassung!S913),\"\",Datenerfassung!S913)","v":""},"",{"$f":"IF(ISBLANK(Datenerfassung!U913),\"\",Datenerfassung!U913)","v":""},{"$f":"IF(ISBLANK(Datenerfassung!O913),\"\",Datenerfassung!O913)","v":""},{"$f":"IF(ISBLANK(Datenerfassung!D913),IF(COUNTBLANK(A903:H903)+COUNTBLANK(J903:O903)=14,\"\",\"- ohne Titel -\"),Datenerfassung!D913)","v":""},{"$f":"IF(ISBLANK(Datenerfassung!G913),\"\",Datenerfassung!G913)","v":""},"",{"$f":"IF(ISBLANK(Datenerfassung!X913),\"\",Datenerfassung!X913)","v":""},{"$f":"IF(COUNTBLANK(Datenerfassung!H913:'Datenerfassung'!N913)=7,\"\",CONCATENATE( CONCATENATE(IF(ISBLANK(Datenerfassung!H913),\" \",Datenerfassung!H913 ),\" [IS]\"), CONCATENATE(IF(ISBLANK(Datenerfassung!I913),\" \",Datenerfassung!I913 ),\" [IS]\"), CONCATENATE(IF(ISBLANK(Datenerfassung!J913),\" \",Datenerfassung!J913 ),\" [IS]\"), CONCATENATE(IF(ISBLANK(Datenerfassung!K913),\" \",Datenerfassung!K913 ),\" [IS]\"), CONCATENATE(IF(ISBLANK(Datenerfassung!L913),\" \",Datenerfassung!L913 ),\" [IS]\"), CONCATENATE(IF(ISBLANK(Datenerfassung!M913),\" \",Datenerfassung!M913 ),\" [IS]\"), IF(ISBLANK(Datenerfassung!N913),\" \",Datenerfassung!N913 ) ))","v":""},{"$f":"IF(ISBLANK(Datenerfassung!V913),\"\",Datenerfassung!V913)","v":""},{"$f":"IF(ISBLANK(Datenerfassung!Q913),\"\",Datenerfassung!Q913)","v":""}]
[{"$f":"IF(ISBLANK(Datenerfassung!A914),\"\",Datenerfassung!A914)","v":""},{"$f":"IF(ISBLANK(Datenerfassung!B914),\"\",Datenerfassung!B914)","v":""},{"$f":"IF(ISBLANK(Datenerfassung!C914),\"\",Datenerfassung!C914)","v":""},{"$f":"IF(ISBLANK(Datenerfassung!R914),\"\",Datenerfassung!R914)","v":""},{"$f":"IF(ISBLANK(Datenerfassung!S914),\"\",Datenerfassung!S914)","v":""},"",{"$f":"IF(ISBLANK(Datenerfassung!U914),\"\",Datenerfassung!U914)","v":""},{"$f":"IF(ISBLANK(Datenerfassung!O914),\"\",Datenerfassung!O914)","v":""},{"$f":"IF(ISBLANK(Datenerfassung!D914),IF(COUNTBLANK(A904:H904)+COUNTBLANK(J904:O904)=14,\"\",\"- ohne Titel -\"),Datenerfassung!D914)","v":""},{"$f":"IF(ISBLANK(Datenerfassung!G914),\"\",Datenerfassung!G914)","v":""},"",{"$f":"IF(ISBLANK(Datenerfassung!X914),\"\",Datenerfassung!X914)","v":""},{"$f":"IF(COUNTBLANK(Datenerfassung!H914:'Datenerfassung'!N914)=7,\"\",CONCATENATE( CONCATENATE(IF(ISBLANK(Datenerfassung!H914),\" \",Datenerfassung!H914 ),\" [IS]\"), CONCATENATE(IF(ISBLANK(Datenerfassung!I914),\" \",Datenerfassung!I914 ),\" [IS]\"), CONCATENATE(IF(ISBLANK(Datenerfassung!J914),\" \",Datenerfassung!J914 ),\" [IS]\"), CONCATENATE(IF(ISBLANK(Datenerfassung!K914),\" \",Datenerfassung!K914 ),\" [IS]\"), CONCATENATE(IF(ISBLANK(Datenerfassung!L914),\" \",Datenerfassung!L914 ),\" [IS]\"), CONCATENATE(IF(ISBLANK(Datenerfassung!M914),\" \",Datenerfassung!M914 ),\" [IS]\"), IF(ISBLANK(Datenerfassung!N914),\" \",Datenerfassung!N914 ) ))","v":""},{"$f":"IF(ISBLANK(Datenerfassung!V914),\"\",Datenerfassung!V914)","v":""},{"$f":"IF(ISBLANK(Datenerfassung!Q914),\"\",Datenerfassung!Q914)","v":""}]
[{"$f":"IF(ISBLANK(Datenerfassung!A915),\"\",Datenerfassung!A915)","v":""},{"$f":"IF(ISBLANK(Datenerfassung!B915),\"\",Datenerfassung!B915)","v":""},{"$f":"IF(ISBLANK(Datenerfassung!C915),\"\",Datenerfassung!C915)","v":""},{"$f":"IF(ISBLANK(Datenerfassung!R915),\"\",Datenerfassung!R915)","v":""},{"$f":"IF(ISBLANK(Datenerfassung!S915),\"\",Datenerfassung!S915)","v":""},"",{"$f":"IF(ISBLANK(Datenerfassung!U915),\"\",Datenerfassung!U915)","v":""},{"$f":"IF(ISBLANK(Datenerfassung!O915),\"\",Datenerfassung!O915)","v":""},{"$f":"IF(ISBLANK(Datenerfassung!D915),IF(COUNTBLANK(A905:H905)+COUNTBLANK(J905:O905)=14,\"\",\"- ohne Titel -\"),Datenerfassung!D915)","v":""},{"$f":"IF(ISBLANK(Datenerfassung!G915),\"\",Datenerfassung!G915)","v":""},"",{"$f":"IF(ISBLANK(Datenerfassung!X915),\"\",Datenerfassung!X915)","v":""},{"$f":"IF(COUNTBLANK(Datenerfassung!H915:'Datenerfassung'!N915)=7,\"\",CONCATENATE( CONCATENATE(IF(ISBLANK(Datenerfassung!H915),\" \",Datenerfassung!H915 ),\" [IS]\"), CONCATENATE(IF(ISBLANK(Datenerfassung!I915),\" \",Datenerfassung!I915 ),\" [IS]\"), CONCATENATE(IF(ISBLANK(Datenerfassung!J915),\" \",Datenerfassung!J915 ),\" [IS]\"), CONCATENATE(IF(ISBLANK(Datenerfassung!K915),\" \",Datenerfassung!K915 ),\" [IS]\"), CONCATENATE(IF(ISBLANK(Datenerfassung!L915),\" \",Datenerfassung!L915 ),\" [IS]\"), CONCATENATE(IF(ISBLANK(Datenerfassung!M915),\" \",Datenerfassung!M915 ),\" [IS]\"), IF(ISBLANK(Datenerfassung!N915),\" \",Datenerfassung!N915 ) ))","v":""},{"$f":"IF(ISBLANK(Datenerfassung!V915),\"\",Datenerfassung!V915)","v":""},{"$f":"IF(ISBLANK(Datenerfassung!Q915),\"\",Datenerfassung!Q915)","v":""}]
[{"$f":"IF(ISBLANK(Datenerfassung!A916),\"\",Datenerfassung!A916)","v":""},{"$f":"IF(ISBLANK(Datenerfassung!B916),\"\",Datenerfassung!B916)","v":""},{"$f":"IF(ISBLANK(Datenerfassung!C916),\"\",Datenerfassung!C916)","v":""},{"$f":"IF(ISBLANK(Datenerfassung!R916),\"\",Datenerfassung!R916)","v":""},{"$f":"IF(ISBLANK(Datenerfassung!S916),\"\",Datenerfassung!S916)","v":""},"",{"$f":"IF(ISBLANK(Datenerfassung!U916),\"\",Datenerfassung!U916)","v":""},{"$f":"IF(ISBLANK(Datenerfassung!O916),\"\",Datenerfassung!O916)","v":""},{"$f":"IF(ISBLANK(Datenerfassung!D916),IF(COUNTBLANK(A906:H906)+COUNTBLANK(J906:O906)=14,\"\",\"- ohne Titel -\"),Datenerfassung!D916)","v":""},{"$f":"IF(ISBLANK(Datenerfassung!G916),\"\",Datenerfassung!G916)","v":""},"",{"$f":"IF(ISBLANK(Datenerfassung!X916),\"\",Datenerfassung!X916)","v":""},{"$f":"IF(COUNTBLANK(Datenerfassung!H916:'Datenerfassung'!N916)=7,\"\",CONCATENATE( CONCATENATE(IF(ISBLANK(Datenerfassung!H916),\" \",Datenerfassung!H916 ),\" [IS]\"), CONCATENATE(IF(ISBLANK(Datenerfassung!I916),\" \",Datenerfassung!I916 ),\" [IS]\"), CONCATENATE(IF(ISBLANK(Datenerfassung!J916),\" \",Datenerfassung!J916 ),\" [IS]\"), CONCATENATE(IF(ISBLANK(Datenerfassung!K916),\" \",Datenerfassung!K916 ),\" [IS]\"), CONCATENATE(IF(ISBLANK(Datenerfassung!L916),\" \",Datenerfassung!L916 ),\" [IS]\"), CONCATENATE(IF(ISBLANK(Datenerfassung!M916),\" \",Datenerfassung!M916 ),\" [IS]\"), IF(ISBLANK(Datenerfassung!N916),\" \",Datenerfassung!N916 ) ))","v":""},{"$f":"IF(ISBLANK(Datenerfassung!V916),\"\",Datenerfassung!V916)","v":""},{"$f":"IF(ISBLANK(Datenerfassung!Q916),\"\",Datenerfassung!Q916)","v":""}]
[{"$f":"IF(ISBLANK(Datenerfassung!A917),\"\",Datenerfassung!A917)","v":""},{"$f":"IF(ISBLANK(Datenerfassung!B917),\"\",Datenerfassung!B917)","v":""},{"$f":"IF(ISBLANK(Datenerfassung!C917),\"\",Datenerfassung!C917)","v":""},{"$f":"IF(ISBLANK(Datenerfassung!R917),\"\",Datenerfassung!R917)","v":""},{"$f":"IF(ISBLANK(Datenerfassung!S917),\"\",Datenerfassung!S917)","v":""},"",{"$f":"IF(ISBLANK(Datenerfassung!U917),\"\",Datenerfassung!U917)","v":""},{"$f":"IF(ISBLANK(Datenerfassung!O917),\"\",Datenerfassung!O917)","v":""},{"$f":"IF(ISBLANK(Datenerfassung!D917),IF(COUNTBLANK(A907:H907)+COUNTBLANK(J907:O907)=14,\"\",\"- ohne Titel -\"),Datenerfassung!D917)","v":""},{"$f":"IF(ISBLANK(Datenerfassung!G917),\"\",Datenerfassung!G917)","v":""},"",{"$f":"IF(ISBLANK(Datenerfassung!X917),\"\",Datenerfassung!X917)","v":""},{"$f":"IF(COUNTBLANK(Datenerfassung!H917:'Datenerfassung'!N917)=7,\"\",CONCATENATE( CONCATENATE(IF(ISBLANK(Datenerfassung!H917),\" \",Datenerfassung!H917 ),\" [IS]\"), CONCATENATE(IF(ISBLANK(Datenerfassung!I917),\" \",Datenerfassung!I917 ),\" [IS]\"), CONCATENATE(IF(ISBLANK(Datenerfassung!J917),\" \",Datenerfassung!J917 ),\" [IS]\"), CONCATENATE(IF(ISBLANK(Datenerfassung!K917),\" \",Datenerfassung!K917 ),\" [IS]\"), CONCATENATE(IF(ISBLANK(Datenerfassung!L917),\" \",Datenerfassung!L917 ),\" [IS]\"), CONCATENATE(IF(ISBLANK(Datenerfassung!M917),\" \",Datenerfassung!M917 ),\" [IS]\"), IF(ISBLANK(Datenerfassung!N917),\" \",Datenerfassung!N917 ) ))","v":""},{"$f":"IF(ISBLANK(Datenerfassung!V917),\"\",Datenerfassung!V917)","v":""},{"$f":"IF(ISBLANK(Datenerfassung!Q917),\"\",Datenerfassung!Q917)","v":""}]
[{"$f":"IF(ISBLANK(Datenerfassung!A918),\"\",Datenerfassung!A918)","v":""},{"$f":"IF(ISBLANK(Datenerfassung!B918),\"\",Datenerfassung!B918)","v":""},{"$f":"IF(ISBLANK(Datenerfassung!C918),\"\",Datenerfassung!C918)","v":""},{"$f":"IF(ISBLANK(Datenerfassung!R918),\"\",Datenerfassung!R918)","v":""},{"$f":"IF(ISBLANK(Datenerfassung!S918),\"\",Datenerfassung!S918)","v":""},"",{"$f":"IF(ISBLANK(Datenerfassung!U918),\"\",Datenerfassung!U918)","v":""},{"$f":"IF(ISBLANK(Datenerfassung!O918),\"\",Datenerfassung!O918)","v":""},{"$f":"IF(ISBLANK(Datenerfassung!D918),IF(COUNTBLANK(A908:H908)+COUNTBLANK(J908:O908)=14,\"\",\"- ohne Titel -\"),Datenerfassung!D918)","v":""},{"$f":"IF(ISBLANK(Datenerfassung!G918),\"\",Datenerfassung!G918)","v":""},"",{"$f":"IF(ISBLANK(Datenerfassung!X918),\"\",Datenerfassung!X918)","v":""},{"$f":"IF(COUNTBLANK(Datenerfassung!H918:'Datenerfassung'!N918)=7,\"\",CONCATENATE( CONCATENATE(IF(ISBLANK(Datenerfassung!H918),\" \",Datenerfassung!H918 ),\" [IS]\"), CONCATENATE(IF(ISBLANK(Datenerfassung!I918),\" \",Datenerfassung!I918 ),\" [IS]\"), CONCATENATE(IF(ISBLANK(Datenerfassung!J918),\" \",Datenerfassung!J918 ),\" [IS]\"), CONCATENATE(IF(ISBLANK(Datenerfassung!K918),\" \",Datenerfassung!K918 ),\" [IS]\"), CONCATENATE(IF(ISBLANK(Datenerfassung!L918),\" \",Datenerfassung!L918 ),\" [IS]\"), CONCATENATE(IF(ISBLANK(Datenerfassung!M918),\" \",Datenerfassung!M918 ),\" [IS]\"), IF(ISBLANK(Datenerfassung!N918),\" \",Datenerfassung!N918 ) ))","v":""},{"$f":"IF(ISBLANK(Datenerfassung!V918),\"\",Datenerfassung!V918)","v":""},{"$f":"IF(ISBLANK(Datenerfassung!Q918),\"\",Datenerfassung!Q918)","v":""}]
[{"$f":"IF(ISBLANK(Datenerfassung!A919),\"\",Datenerfassung!A919)","v":""},{"$f":"IF(ISBLANK(Datenerfassung!B919),\"\",Datenerfassung!B919)","v":""},{"$f":"IF(ISBLANK(Datenerfassung!C919),\"\",Datenerfassung!C919)","v":""},{"$f":"IF(ISBLANK(Datenerfassung!R919),\"\",Datenerfassung!R919)","v":""},{"$f":"IF(ISBLANK(Datenerfassung!S919),\"\",Datenerfassung!S919)","v":""},"",{"$f":"IF(ISBLANK(Datenerfassung!U919),\"\",Datenerfassung!U919)","v":""},{"$f":"IF(ISBLANK(Datenerfassung!O919),\"\",Datenerfassung!O919)","v":""},{"$f":"IF(ISBLANK(Datenerfassung!D919),IF(COUNTBLANK(A909:H909)+COUNTBLANK(J909:O909)=14,\"\",\"- ohne Titel -\"),Datenerfassung!D919)","v":""},{"$f":"IF(ISBLANK(Datenerfassung!G919),\"\",Datenerfassung!G919)","v":""},"",{"$f":"IF(ISBLANK(Datenerfassung!X919),\"\",Datenerfassung!X919)","v":""},{"$f":"IF(COUNTBLANK(Datenerfassung!H919:'Datenerfassung'!N919)=7,\"\",CONCATENATE( CONCATENATE(IF(ISBLANK(Datenerfassung!H919),\" \",Datenerfassung!H919 ),\" [IS]\"), CONCATENATE(IF(ISBLANK(Datenerfassung!I919),\" \",Datenerfassung!I919 ),\" [IS]\"), CONCATENATE(IF(ISBLANK(Datenerfassung!J919),\" \",Datenerfassung!J919 ),\" [IS]\"), CONCATENATE(IF(ISBLANK(Datenerfassung!K919),\" \",Datenerfassung!K919 ),\" [IS]\"), CONCATENATE(IF(ISBLANK(Datenerfassung!L919),\" \",Datenerfassung!L919 ),\" [IS]\"), CONCATENATE(IF(ISBLANK(Datenerfassung!M919),\" \",Datenerfassung!M919 ),\" [IS]\"), IF(ISBLANK(Datenerfassung!N919),\" \",Datenerfassung!N919 ) ))","v":""},{"$f":"IF(ISBLANK(Datenerfassung!V919),\"\",Datenerfassung!V919)","v":""},{"$f":"IF(ISBLANK(Datenerfassung!Q919),\"\",Datenerfassung!Q919)","v":""}]
[{"$f":"IF(ISBLANK(Datenerfassung!A920),\"\",Datenerfassung!A920)","v":""},{"$f":"IF(ISBLANK(Datenerfassung!B920),\"\",Datenerfassung!B920)","v":""},{"$f":"IF(ISBLANK(Datenerfassung!C920),\"\",Datenerfassung!C920)","v":""},{"$f":"IF(ISBLANK(Datenerfassung!R920),\"\",Datenerfassung!R920)","v":""},{"$f":"IF(ISBLANK(Datenerfassung!S920),\"\",Datenerfassung!S920)","v":""},"",{"$f":"IF(ISBLANK(Datenerfassung!U920),\"\",Datenerfassung!U920)","v":""},{"$f":"IF(ISBLANK(Datenerfassung!O920),\"\",Datenerfassung!O920)","v":""},{"$f":"IF(ISBLANK(Datenerfassung!D920),IF(COUNTBLANK(A910:H910)+COUNTBLANK(J910:O910)=14,\"\",\"- ohne Titel -\"),Datenerfassung!D920)","v":""},{"$f":"IF(ISBLANK(Datenerfassung!G920),\"\",Datenerfassung!G920)","v":""},"",{"$f":"IF(ISBLANK(Datenerfassung!X920),\"\",Datenerfassung!X920)","v":""},{"$f":"IF(COUNTBLANK(Datenerfassung!H920:'Datenerfassung'!N920)=7,\"\",CONCATENATE( CONCATENATE(IF(ISBLANK(Datenerfassung!H920),\" \",Datenerfassung!H920 ),\" [IS]\"), CONCATENATE(IF(ISBLANK(Datenerfassung!I920),\" \",Datenerfassung!I920 ),\" [IS]\"), CONCATENATE(IF(ISBLANK(Datenerfassung!J920),\" \",Datenerfassung!J920 ),\" [IS]\"), CONCATENATE(IF(ISBLANK(Datenerfassung!K920),\" \",Datenerfassung!K920 ),\" [IS]\"), CONCATENATE(IF(ISBLANK(Datenerfassung!L920),\" \",Datenerfassung!L920 ),\" [IS]\"), CONCATENATE(IF(ISBLANK(Datenerfassung!M920),\" \",Datenerfassung!M920 ),\" [IS]\"), IF(ISBLANK(Datenerfassung!N920),\" \",Datenerfassung!N920 ) ))","v":""},{"$f":"IF(ISBLANK(Datenerfassung!V920),\"\",Datenerfassung!V920)","v":""},{"$f":"IF(ISBLANK(Datenerfassung!Q920),\"\",Datenerfassung!Q920)","v":""}]
[{"$f":"IF(ISBLANK(Datenerfassung!A921),\"\",Datenerfassung!A921)","v":""},{"$f":"IF(ISBLANK(Datenerfassung!B921),\"\",Datenerfassung!B921)","v":""},{"$f":"IF(ISBLANK(Datenerfassung!C921),\"\",Datenerfassung!C921)","v":""},{"$f":"IF(ISBLANK(Datenerfassung!R921),\"\",Datenerfassung!R921)","v":""},{"$f":"IF(ISBLANK(Datenerfassung!S921),\"\",Datenerfassung!S921)","v":""},"",{"$f":"IF(ISBLANK(Datenerfassung!U921),\"\",Datenerfassung!U921)","v":""},{"$f":"IF(ISBLANK(Datenerfassung!O921),\"\",Datenerfassung!O921)","v":""},{"$f":"IF(ISBLANK(Datenerfassung!D921),IF(COUNTBLANK(A911:H911)+COUNTBLANK(J911:O911)=14,\"\",\"- ohne Titel -\"),Datenerfassung!D921)","v":""},{"$f":"IF(ISBLANK(Datenerfassung!G921),\"\",Datenerfassung!G921)","v":""},"",{"$f":"IF(ISBLANK(Datenerfassung!X921),\"\",Datenerfassung!X921)","v":""},{"$f":"IF(COUNTBLANK(Datenerfassung!H921:'Datenerfassung'!N921)=7,\"\",CONCATENATE( CONCATENATE(IF(ISBLANK(Datenerfassung!H921),\" \",Datenerfassung!H921 ),\" [IS]\"), CONCATENATE(IF(ISBLANK(Datenerfassung!I921),\" \",Datenerfassung!I921 ),\" [IS]\"), CONCATENATE(IF(ISBLANK(Datenerfassung!J921),\" \",Datenerfassung!J921 ),\" [IS]\"), CONCATENATE(IF(ISBLANK(Datenerfassung!K921),\" \",Datenerfassung!K921 ),\" [IS]\"), CONCATENATE(IF(ISBLANK(Datenerfassung!L921),\" \",Datenerfassung!L921 ),\" [IS]\"), CONCATENATE(IF(ISBLANK(Datenerfassung!M921),\" \",Datenerfassung!M921 ),\" [IS]\"), IF(ISBLANK(Datenerfassung!N921),\" \",Datenerfassung!N921 ) ))","v":""},{"$f":"IF(ISBLANK(Datenerfassung!V921),\"\",Datenerfassung!V921)","v":""},{"$f":"IF(ISBLANK(Datenerfassung!Q921),\"\",Datenerfassung!Q921)","v":""}]
[{"$f":"IF(ISBLANK(Datenerfassung!A922),\"\",Datenerfassung!A922)","v":""},{"$f":"IF(ISBLANK(Datenerfassung!B922),\"\",Datenerfassung!B922)","v":""},{"$f":"IF(ISBLANK(Datenerfassung!C922),\"\",Datenerfassung!C922)","v":""},{"$f":"IF(ISBLANK(Datenerfassung!R922),\"\",Datenerfassung!R922)","v":""},{"$f":"IF(ISBLANK(Datenerfassung!S922),\"\",Datenerfassung!S922)","v":""},"",{"$f":"IF(ISBLANK(Datenerfassung!U922),\"\",Datenerfassung!U922)","v":""},{"$f":"IF(ISBLANK(Datenerfassung!O922),\"\",Datenerfassung!O922)","v":""},{"$f":"IF(ISBLANK(Datenerfassung!D922),IF(COUNTBLANK(A912:H912)+COUNTBLANK(J912:O912)=14,\"\",\"- ohne Titel -\"),Datenerfassung!D922)","v":""},{"$f":"IF(ISBLANK(Datenerfassung!G922),\"\",Datenerfassung!G922)","v":""},"",{"$f":"IF(ISBLANK(Datenerfassung!X922),\"\",Datenerfassung!X922)","v":""},{"$f":"IF(COUNTBLANK(Datenerfassung!H922:'Datenerfassung'!N922)=7,\"\",CONCATENATE( CONCATENATE(IF(ISBLANK(Datenerfassung!H922),\" \",Datenerfassung!H922 ),\" [IS]\"), CONCATENATE(IF(ISBLANK(Datenerfassung!I922),\" \",Datenerfassung!I922 ),\" [IS]\"), CONCATENATE(IF(ISBLANK(Datenerfassung!J922),\" \",Datenerfassung!J922 ),\" [IS]\"), CONCATENATE(IF(ISBLANK(Datenerfassung!K922),\" \",Datenerfassung!K922 ),\" [IS]\"), CONCATENATE(IF(ISBLANK(Datenerfassung!L922),\" \",Datenerfassung!L922 ),\" [IS]\"), CONCATENATE(IF(ISBLANK(Datenerfassung!M922),\" \",Datenerfassung!M922 ),\" [IS]\"), IF(ISBLANK(Datenerfassung!N922),\" \",Datenerfassung!N922 ) ))","v":""},{"$f":"IF(ISBLANK(Datenerfassung!V922),\"\",Datenerfassung!V922)","v":""},{"$f":"IF(ISBLANK(Datenerfassung!Q922),\"\",Datenerfassung!Q922)","v":""}]
[{"$f":"IF(ISBLANK(Datenerfassung!A923),\"\",Datenerfassung!A923)","v":""},{"$f":"IF(ISBLANK(Datenerfassung!B923),\"\",Datenerfassung!B923)","v":""},{"$f":"IF(ISBLANK(Datenerfassung!C923),\"\",Datenerfassung!C923)","v":""},{"$f":"IF(ISBLANK(Datenerfassung!R923),\"\",Datenerfassung!R923)","v":""},{"$f":"IF(ISBLANK(Datenerfassung!S923),\"\",Datenerfassung!S923)","v":""},"",{"$f":"IF(ISBLANK(Datenerfassung!U923),\"\",Datenerfassung!U923)","v":""},{"$f":"IF(ISBLANK(Datenerfassung!O923),\"\",Datenerfassung!O923)","v":""},{"$f":"IF(ISBLANK(Datenerfassung!D923),IF(COUNTBLANK(A913:H913)+COUNTBLANK(J913:O913)=14,\"\",\"- ohne Titel -\"),Datenerfassung!D923)","v":""},{"$f":"IF(ISBLANK(Datenerfassung!G923),\"\",Datenerfassung!G923)","v":""},"",{"$f":"IF(ISBLANK(Datenerfassung!X923),\"\",Datenerfassung!X923)","v":""},{"$f":"IF(COUNTBLANK(Datenerfassung!H923:'Datenerfassung'!N923)=7,\"\",CONCATENATE( CONCATENATE(IF(ISBLANK(Datenerfassung!H923),\" \",Datenerfassung!H923 ),\" [IS]\"), CONCATENATE(IF(ISBLANK(Datenerfassung!I923),\" \",Datenerfassung!I923 ),\" [IS]\"), CONCATENATE(IF(ISBLANK(Datenerfassung!J923),\" \",Datenerfassung!J923 ),\" [IS]\"), CONCATENATE(IF(ISBLANK(Datenerfassung!K923),\" \",Datenerfassung!K923 ),\" [IS]\"), CONCATENATE(IF(ISBLANK(Datenerfassung!L923),\" \",Datenerfassung!L923 ),\" [IS]\"), CONCATENATE(IF(ISBLANK(Datenerfassung!M923),\" \",Datenerfassung!M923 ),\" [IS]\"), IF(ISBLANK(Datenerfassung!N923),\" \",Datenerfassung!N923 ) ))","v":""},{"$f":"IF(ISBLANK(Datenerfassung!V923),\"\",Datenerfassung!V923)","v":""},{"$f":"IF(ISBLANK(Datenerfassung!Q923),\"\",Datenerfassung!Q923)","v":""}]
[{"$f":"IF(ISBLANK(Datenerfassung!A924),\"\",Datenerfassung!A924)","v":""},{"$f":"IF(ISBLANK(Datenerfassung!B924),\"\",Datenerfassung!B924)","v":""},{"$f":"IF(ISBLANK(Datenerfassung!C924),\"\",Datenerfassung!C924)","v":""},{"$f":"IF(ISBLANK(Datenerfassung!R924),\"\",Datenerfassung!R924)","v":""},{"$f":"IF(ISBLANK(Datenerfassung!S924),\"\",Datenerfassung!S924)","v":""},"",{"$f":"IF(ISBLANK(Datenerfassung!U924),\"\",Datenerfassung!U924)","v":""},{"$f":"IF(ISBLANK(Datenerfassung!O924),\"\",Datenerfassung!O924)","v":""},{"$f":"IF(ISBLANK(Datenerfassung!D924),IF(COUNTBLANK(A914:H914)+COUNTBLANK(J914:O914)=14,\"\",\"- ohne Titel -\"),Datenerfassung!D924)","v":""},{"$f":"IF(ISBLANK(Datenerfassung!G924),\"\",Datenerfassung!G924)","v":""},"",{"$f":"IF(ISBLANK(Datenerfassung!X924),\"\",Datenerfassung!X924)","v":""},{"$f":"IF(COUNTBLANK(Datenerfassung!H924:'Datenerfassung'!N924)=7,\"\",CONCATENATE( CONCATENATE(IF(ISBLANK(Datenerfassung!H924),\" \",Datenerfassung!H924 ),\" [IS]\"), CONCATENATE(IF(ISBLANK(Datenerfassung!I924),\" \",Datenerfassung!I924 ),\" [IS]\"), CONCATENATE(IF(ISBLANK(Datenerfassung!J924),\" \",Datenerfassung!J924 ),\" [IS]\"), CONCATENATE(IF(ISBLANK(Datenerfassung!K924),\" \",Datenerfassung!K924 ),\" [IS]\"), CONCATENATE(IF(ISBLANK(Datenerfassung!L924),\" \",Datenerfassung!L924 ),\" [IS]\"), CONCATENATE(IF(ISBLANK(Datenerfassung!M924),\" \",Datenerfassung!M924 ),\" [IS]\"), IF(ISBLANK(Datenerfassung!N924),\" \",Datenerfassung!N924 ) ))","v":""},{"$f":"IF(ISBLANK(Datenerfassung!V924),\"\",Datenerfassung!V924)","v":""},{"$f":"IF(ISBLANK(Datenerfassung!Q924),\"\",Datenerfassung!Q924)","v":""}]
[{"$f":"IF(ISBLANK(Datenerfassung!A925),\"\",Datenerfassung!A925)","v":""},{"$f":"IF(ISBLANK(Datenerfassung!B925),\"\",Datenerfassung!B925)","v":""},{"$f":"IF(ISBLANK(Datenerfassung!C925),\"\",Datenerfassung!C925)","v":""},{"$f":"IF(ISBLANK(Datenerfassung!R925),\"\",Datenerfassung!R925)","v":""},{"$f":"IF(ISBLANK(Datenerfassung!S925),\"\",Datenerfassung!S925)","v":""},"",{"$f":"IF(ISBLANK(Datenerfassung!U925),\"\",Datenerfassung!U925)","v":""},{"$f":"IF(ISBLANK(Datenerfassung!O925),\"\",Datenerfassung!O925)","v":""},{"$f":"IF(ISBLANK(Datenerfassung!D925),IF(COUNTBLANK(A915:H915)+COUNTBLANK(J915:O915)=14,\"\",\"- ohne Titel -\"),Datenerfassung!D925)","v":""},{"$f":"IF(ISBLANK(Datenerfassung!G925),\"\",Datenerfassung!G925)","v":""},"",{"$f":"IF(ISBLANK(Datenerfassung!X925),\"\",Datenerfassung!X925)","v":""},{"$f":"IF(COUNTBLANK(Datenerfassung!H925:'Datenerfassung'!N925)=7,\"\",CONCATENATE( CONCATENATE(IF(ISBLANK(Datenerfassung!H925),\" \",Datenerfassung!H925 ),\" [IS]\"), CONCATENATE(IF(ISBLANK(Datenerfassung!I925),\" \",Datenerfassung!I925 ),\" [IS]\"), CONCATENATE(IF(ISBLANK(Datenerfassung!J925),\" \",Datenerfassung!J925 ),\" [IS]\"), CONCATENATE(IF(ISBLANK(Datenerfassung!K925),\" \",Datenerfassung!K925 ),\" [IS]\"), CONCATENATE(IF(ISBLANK(Datenerfassung!L925),\" \",Datenerfassung!L925 ),\" [IS]\"), CONCATENATE(IF(ISBLANK(Datenerfassung!M925),\" \",Datenerfassung!M925 ),\" [IS]\"), IF(ISBLANK(Datenerfassung!N925),\" \",Datenerfassung!N925 ) ))","v":""},{"$f":"IF(ISBLANK(Datenerfassung!V925),\"\",Datenerfassung!V925)","v":""},{"$f":"IF(ISBLANK(Datenerfassung!Q925),\"\",Datenerfassung!Q925)","v":""}]
[{"$f":"IF(ISBLANK(Datenerfassung!A926),\"\",Datenerfassung!A926)","v":""},{"$f":"IF(ISBLANK(Datenerfassung!B926),\"\",Datenerfassung!B926)","v":""},{"$f":"IF(ISBLANK(Datenerfassung!C926),\"\",Datenerfassung!C926)","v":""},{"$f":"IF(ISBLANK(Datenerfassung!R926),\"\",Datenerfassung!R926)","v":""},{"$f":"IF(ISBLANK(Datenerfassung!S926),\"\",Datenerfassung!S926)","v":""},"",{"$f":"IF(ISBLANK(Datenerfassung!U926),\"\",Datenerfassung!U926)","v":""},{"$f":"IF(ISBLANK(Datenerfassung!O926),\"\",Datenerfassung!O926)","v":""},{"$f":"IF(ISBLANK(Datenerfassung!D926),IF(COUNTBLANK(A916:H916)+COUNTBLANK(J916:O916)=14,\"\",\"- ohne Titel -\"),Datenerfassung!D926)","v":""},{"$f":"IF(ISBLANK(Datenerfassung!G926),\"\",Datenerfassung!G926)","v":""},"",{"$f":"IF(ISBLANK(Datenerfassung!X926),\"\",Datenerfassung!X926)","v":""},{"$f":"IF(COUNTBLANK(Datenerfassung!H926:'Datenerfassung'!N926)=7,\"\",CONCATENATE( CONCATENATE(IF(ISBLANK(Datenerfassung!H926),\" \",Datenerfassung!H926 ),\" [IS]\"), CONCATENATE(IF(ISBLANK(Datenerfassung!I926),\" \",Datenerfassung!I926 ),\" [IS]\"), CONCATENATE(IF(ISBLANK(Datenerfassung!J926),\" \",Datenerfassung!J926 ),\" [IS]\"), CONCATENATE(IF(ISBLANK(Datenerfassung!K926),\" \",Datenerfassung!K926 ),\" [IS]\"), CONCATENATE(IF(ISBLANK(Datenerfassung!L926),\" \",Datenerfassung!L926 ),\" [IS]\"), CONCATENATE(IF(ISBLANK(Datenerfassung!M926),\" \",Datenerfassung!M926 ),\" [IS]\"), IF(ISBLANK(Datenerfassung!N926),\" \",Datenerfassung!N926 ) ))","v":""},{"$f":"IF(ISBLANK(Datenerfassung!V926),\"\",Datenerfassung!V926)","v":""},{"$f":"IF(ISBLANK(Datenerfassung!Q926),\"\",Datenerfassung!Q926)","v":""}]
[{"$f":"IF(ISBLANK(Datenerfassung!A927),\"\",Datenerfassung!A927)","v":""},{"$f":"IF(ISBLANK(Datenerfassung!B927),\"\",Datenerfassung!B927)","v":""},{"$f":"IF(ISBLANK(Datenerfassung!C927),\"\",Datenerfassung!C927)","v":""},{"$f":"IF(ISBLANK(Datenerfassung!R927),\"\",Datenerfassung!R927)","v":""},{"$f":"IF(ISBLANK(Datenerfassung!S927),\"\",Datenerfassung!S927)","v":""},"",{"$f":"IF(ISBLANK(Datenerfassung!U927),\"\",Datenerfassung!U927)","v":""},{"$f":"IF(ISBLANK(Datenerfassung!O927),\"\",Datenerfassung!O927)","v":""},{"$f":"IF(ISBLANK(Datenerfassung!D927),IF(COUNTBLANK(A917:H917)+COUNTBLANK(J917:O917)=14,\"\",\"- ohne Titel -\"),Datenerfassung!D927)","v":""},{"$f":"IF(ISBLANK(Datenerfassung!G927),\"\",Datenerfassung!G927)","v":""},"",{"$f":"IF(ISBLANK(Datenerfassung!X927),\"\",Datenerfassung!X927)","v":""},{"$f":"IF(COUNTBLANK(Datenerfassung!H927:'Datenerfassung'!N927)=7,\"\",CONCATENATE( CONCATENATE(IF(ISBLANK(Datenerfassung!H927),\" \",Datenerfassung!H927 ),\" [IS]\"), CONCATENATE(IF(ISBLANK(Datenerfassung!I927),\" \",Datenerfassung!I927 ),\" [IS]\"), CONCATENATE(IF(ISBLANK(Datenerfassung!J927),\" \",Datenerfassung!J927 ),\" [IS]\"), CONCATENATE(IF(ISBLANK(Datenerfassung!K927),\" \",Datenerfassung!K927 ),\" [IS]\"), CONCATENATE(IF(ISBLANK(Datenerfassung!L927),\" \",Datenerfassung!L927 ),\" [IS]\"), CONCATENATE(IF(ISBLANK(Datenerfassung!M927),\" \",Datenerfassung!M927 ),\" [IS]\"), IF(ISBLANK(Datenerfassung!N927),\" \",Datenerfassung!N927 ) ))","v":""},{"$f":"IF(ISBLANK(Datenerfassung!V927),\"\",Datenerfassung!V927)","v":""},{"$f":"IF(ISBLANK(Datenerfassung!Q927),\"\",Datenerfassung!Q927)","v":""}]
[{"$f":"IF(ISBLANK(Datenerfassung!A928),\"\",Datenerfassung!A928)","v":""},{"$f":"IF(ISBLANK(Datenerfassung!B928),\"\",Datenerfassung!B928)","v":""},{"$f":"IF(ISBLANK(Datenerfassung!C928),\"\",Datenerfassung!C928)","v":""},{"$f":"IF(ISBLANK(Datenerfassung!R928),\"\",Datenerfassung!R928)","v":""},{"$f":"IF(ISBLANK(Datenerfassung!S928),\"\",Datenerfassung!S928)","v":""},"",{"$f":"IF(ISBLANK(Datenerfassung!U928),\"\",Datenerfassung!U928)","v":""},{"$f":"IF(ISBLANK(Datenerfassung!O928),\"\",Datenerfassung!O928)","v":""},{"$f":"IF(ISBLANK(Datenerfassung!D928),IF(COUNTBLANK(A918:H918)+COUNTBLANK(J918:O918)=14,\"\",\"- ohne Titel -\"),Datenerfassung!D928)","v":""},{"$f":"IF(ISBLANK(Datenerfassung!G928),\"\",Datenerfassung!G928)","v":""},"",{"$f":"IF(ISBLANK(Datenerfassung!X928),\"\",Datenerfassung!X928)","v":""},{"$f":"IF(COUNTBLANK(Datenerfassung!H928:'Datenerfassung'!N928)=7,\"\",CONCATENATE( CONCATENATE(IF(ISBLANK(Datenerfassung!H928),\" \",Datenerfassung!H928 ),\" [IS]\"), CONCATENATE(IF(ISBLANK(Datenerfassung!I928),\" \",Datenerfassung!I928 ),\" [IS]\"), CONCATENATE(IF(ISBLANK(Datenerfassung!J928),\" \",Datenerfassung!J928 ),\" [IS]\"), CONCATENATE(IF(ISBLANK(Datenerfassung!K928),\" \",Datenerfassung!K928 ),\" [IS]\"), CONCATENATE(IF(ISBLANK(Datenerfassung!L928),\" \",Datenerfassung!L928 ),\" [IS]\"), CONCATENATE(IF(ISBLANK(Datenerfassung!M928),\" \",Datenerfassung!M928 ),\" [IS]\"), IF(ISBLANK(Datenerfassung!N928),\" \",Datenerfassung!N928 ) ))","v":""},{"$f":"IF(ISBLANK(Datenerfassung!V928),\"\",Datenerfassung!V928)","v":""},{"$f":"IF(ISBLANK(Datenerfassung!Q928),\"\",Datenerfassung!Q928)","v":""}]
[{"$f":"IF(ISBLANK(Datenerfassung!A929),\"\",Datenerfassung!A929)","v":""},{"$f":"IF(ISBLANK(Datenerfassung!B929),\"\",Datenerfassung!B929)","v":""},{"$f":"IF(ISBLANK(Datenerfassung!C929),\"\",Datenerfassung!C929)","v":""},{"$f":"IF(ISBLANK(Datenerfassung!R929),\"\",Datenerfassung!R929)","v":""},{"$f":"IF(ISBLANK(Datenerfassung!S929),\"\",Datenerfassung!S929)","v":""},"",{"$f":"IF(ISBLANK(Datenerfassung!U929),\"\",Datenerfassung!U929)","v":""},{"$f":"IF(ISBLANK(Datenerfassung!O929),\"\",Datenerfassung!O929)","v":""},{"$f":"IF(ISBLANK(Datenerfassung!D929),IF(COUNTBLANK(A919:H919)+COUNTBLANK(J919:O919)=14,\"\",\"- ohne Titel -\"),Datenerfassung!D929)","v":""},{"$f":"IF(ISBLANK(Datenerfassung!G929),\"\",Datenerfassung!G929)","v":""},"",{"$f":"IF(ISBLANK(Datenerfassung!X929),\"\",Datenerfassung!X929)","v":""},{"$f":"IF(COUNTBLANK(Datenerfassung!H929:'Datenerfassung'!N929)=7,\"\",CONCATENATE( CONCATENATE(IF(ISBLANK(Datenerfassung!H929),\" \",Datenerfassung!H929 ),\" [IS]\"), CONCATENATE(IF(ISBLANK(Datenerfassung!I929),\" \",Datenerfassung!I929 ),\" [IS]\"), CONCATENATE(IF(ISBLANK(Datenerfassung!J929),\" \",Datenerfassung!J929 ),\" [IS]\"), CONCATENATE(IF(ISBLANK(Datenerfassung!K929),\" \",Datenerfassung!K929 ),\" [IS]\"), CONCATENATE(IF(ISBLANK(Datenerfassung!L929),\" \",Datenerfassung!L929 ),\" [IS]\"), CONCATENATE(IF(ISBLANK(Datenerfassung!M929),\" \",Datenerfassung!M929 ),\" [IS]\"), IF(ISBLANK(Datenerfassung!N929),\" \",Datenerfassung!N929 ) ))","v":""},{"$f":"IF(ISBLANK(Datenerfassung!V929),\"\",Datenerfassung!V929)","v":""},{"$f":"IF(ISBLANK(Datenerfassung!Q929),\"\",Datenerfassung!Q929)","v":""}]
[{"$f":"IF(ISBLANK(Datenerfassung!A930),\"\",Datenerfassung!A930)","v":""},{"$f":"IF(ISBLANK(Datenerfassung!B930),\"\",Datenerfassung!B930)","v":""},{"$f":"IF(ISBLANK(Datenerfassung!C930),\"\",Datenerfassung!C930)","v":""},{"$f":"IF(ISBLANK(Datenerfassung!R930),\"\",Datenerfassung!R930)","v":""},{"$f":"IF(ISBLANK(Datenerfassung!S930),\"\",Datenerfassung!S930)","v":""},"",{"$f":"IF(ISBLANK(Datenerfassung!U930),\"\",Datenerfassung!U930)","v":""},{"$f":"IF(ISBLANK(Datenerfassung!O930),\"\",Datenerfassung!O930)","v":""},{"$f":"IF(ISBLANK(Datenerfassung!D930),IF(COUNTBLANK(A920:H920)+COUNTBLANK(J920:O920)=14,\"\",\"- ohne Titel -\"),Datenerfassung!D930)","v":""},{"$f":"IF(ISBLANK(Datenerfassung!G930),\"\",Datenerfassung!G930)","v":""},"",{"$f":"IF(ISBLANK(Datenerfassung!X930),\"\",Datenerfassung!X930)","v":""},{"$f":"IF(COUNTBLANK(Datenerfassung!H930:'Datenerfassung'!N930)=7,\"\",CONCATENATE( CONCATENATE(IF(ISBLANK(Datenerfassung!H930),\" \",Datenerfassung!H930 ),\" [IS]\"), CONCATENATE(IF(ISBLANK(Datenerfassung!I930),\" \",Datenerfassung!I930 ),\" [IS]\"), CONCATENATE(IF(ISBLANK(Datenerfassung!J930),\" \",Datenerfassung!J930 ),\" [IS]\"), CONCATENATE(IF(ISBLANK(Datenerfassung!K930),\" \",Datenerfassung!K930 ),\" [IS]\"), CONCATENATE(IF(ISBLANK(Datenerfassung!L930),\" \",Datenerfassung!L930 ),\" [IS]\"), CONCATENATE(IF(ISBLANK(Datenerfassung!M930),\" \",Datenerfassung!M930 ),\" [IS]\"), IF(ISBLANK(Datenerfassung!N930),\" \",Datenerfassung!N930 ) ))","v":""},{"$f":"IF(ISBLANK(Datenerfassung!V930),\"\",Datenerfassung!V930)","v":""},{"$f":"IF(ISBLANK(Datenerfassung!Q930),\"\",Datenerfassung!Q930)","v":""}]
[{"$f":"IF(ISBLANK(Datenerfassung!A931),\"\",Datenerfassung!A931)","v":""},{"$f":"IF(ISBLANK(Datenerfassung!B931),\"\",Datenerfassung!B931)","v":""},{"$f":"IF(ISBLANK(Datenerfassung!C931),\"\",Datenerfassung!C931)","v":""},{"$f":"IF(ISBLANK(Datenerfassung!R931),\"\",Datenerfassung!R931)","v":""},{"$f":"IF(ISBLANK(Datenerfassung!S931),\"\",Datenerfassung!S931)","v":""},"",{"$f":"IF(ISBLANK(Datenerfassung!U931),\"\",Datenerfassung!U931)","v":""},{"$f":"IF(ISBLANK(Datenerfassung!O931),\"\",Datenerfassung!O931)","v":""},{"$f":"IF(ISBLANK(Datenerfassung!D931),IF(COUNTBLANK(A921:H921)+COUNTBLANK(J921:O921)=14,\"\",\"- ohne Titel -\"),Datenerfassung!D931)","v":""},{"$f":"IF(ISBLANK(Datenerfassung!G931),\"\",Datenerfassung!G931)","v":""},"",{"$f":"IF(ISBLANK(Datenerfassung!X931),\"\",Datenerfassung!X931)","v":""},{"$f":"IF(COUNTBLANK(Datenerfassung!H931:'Datenerfassung'!N931)=7,\"\",CONCATENATE( CONCATENATE(IF(ISBLANK(Datenerfassung!H931),\" \",Datenerfassung!H931 ),\" [IS]\"), CONCATENATE(IF(ISBLANK(Datenerfassung!I931),\" \",Datenerfassung!I931 ),\" [IS]\"), CONCATENATE(IF(ISBLANK(Datenerfassung!J931),\" \",Datenerfassung!J931 ),\" [IS]\"), CONCATENATE(IF(ISBLANK(Datenerfassung!K931),\" \",Datenerfassung!K931 ),\" [IS]\"), CONCATENATE(IF(ISBLANK(Datenerfassung!L931),\" \",Datenerfassung!L931 ),\" [IS]\"), CONCATENATE(IF(ISBLANK(Datenerfassung!M931),\" \",Datenerfassung!M931 ),\" [IS]\"), IF(ISBLANK(Datenerfassung!N931),\" \",Datenerfassung!N931 ) ))","v":""},{"$f":"IF(ISBLANK(Datenerfassung!V931),\"\",Datenerfassung!V931)","v":""},{"$f":"IF(ISBLANK(Datenerfassung!Q931),\"\",Datenerfassung!Q931)","v":""}]
[{"$f":"IF(ISBLANK(Datenerfassung!A932),\"\",Datenerfassung!A932)","v":""},{"$f":"IF(ISBLANK(Datenerfassung!B932),\"\",Datenerfassung!B932)","v":""},{"$f":"IF(ISBLANK(Datenerfassung!C932),\"\",Datenerfassung!C932)","v":""},{"$f":"IF(ISBLANK(Datenerfassung!R932),\"\",Datenerfassung!R932)","v":""},{"$f":"IF(ISBLANK(Datenerfassung!S932),\"\",Datenerfassung!S932)","v":""},"",{"$f":"IF(ISBLANK(Datenerfassung!U932),\"\",Datenerfassung!U932)","v":""},{"$f":"IF(ISBLANK(Datenerfassung!O932),\"\",Datenerfassung!O932)","v":""},{"$f":"IF(ISBLANK(Datenerfassung!D932),IF(COUNTBLANK(A922:H922)+COUNTBLANK(J922:O922)=14,\"\",\"- ohne Titel -\"),Datenerfassung!D932)","v":""},{"$f":"IF(ISBLANK(Datenerfassung!G932),\"\",Datenerfassung!G932)","v":""},"",{"$f":"IF(ISBLANK(Datenerfassung!X932),\"\",Datenerfassung!X932)","v":""},{"$f":"IF(COUNTBLANK(Datenerfassung!H932:'Datenerfassung'!N932)=7,\"\",CONCATENATE( CONCATENATE(IF(ISBLANK(Datenerfassung!H932),\" \",Datenerfassung!H932 ),\" [IS]\"), CONCATENATE(IF(ISBLANK(Datenerfassung!I932),\" \",Datenerfassung!I932 ),\" [IS]\"), CONCATENATE(IF(ISBLANK(Datenerfassung!J932),\" \",Datenerfassung!J932 ),\" [IS]\"), CONCATENATE(IF(ISBLANK(Datenerfassung!K932),\" \",Datenerfassung!K932 ),\" [IS]\"), CONCATENATE(IF(ISBLANK(Datenerfassung!L932),\" \",Datenerfassung!L932 ),\" [IS]\"), CONCATENATE(IF(ISBLANK(Datenerfassung!M932),\" \",Datenerfassung!M932 ),\" [IS]\"), IF(ISBLANK(Datenerfassung!N932),\" \",Datenerfassung!N932 ) ))","v":""},{"$f":"IF(ISBLANK(Datenerfassung!V932),\"\",Datenerfassung!V932)","v":""},{"$f":"IF(ISBLANK(Datenerfassung!Q932),\"\",Datenerfassung!Q932)","v":""}]
[{"$f":"IF(ISBLANK(Datenerfassung!A933),\"\",Datenerfassung!A933)","v":""},{"$f":"IF(ISBLANK(Datenerfassung!B933),\"\",Datenerfassung!B933)","v":""},{"$f":"IF(ISBLANK(Datenerfassung!C933),\"\",Datenerfassung!C933)","v":""},{"$f":"IF(ISBLANK(Datenerfassung!R933),\"\",Datenerfassung!R933)","v":""},{"$f":"IF(ISBLANK(Datenerfassung!S933),\"\",Datenerfassung!S933)","v":""},"",{"$f":"IF(ISBLANK(Datenerfassung!U933),\"\",Datenerfassung!U933)","v":""},{"$f":"IF(ISBLANK(Datenerfassung!O933),\"\",Datenerfassung!O933)","v":""},{"$f":"IF(ISBLANK(Datenerfassung!D933),IF(COUNTBLANK(A923:H923)+COUNTBLANK(J923:O923)=14,\"\",\"- ohne Titel -\"),Datenerfassung!D933)","v":""},{"$f":"IF(ISBLANK(Datenerfassung!G933),\"\",Datenerfassung!G933)","v":""},"",{"$f":"IF(ISBLANK(Datenerfassung!X933),\"\",Datenerfassung!X933)","v":""},{"$f":"IF(COUNTBLANK(Datenerfassung!H933:'Datenerfassung'!N933)=7,\"\",CONCATENATE( CONCATENATE(IF(ISBLANK(Datenerfassung!H933),\" \",Datenerfassung!H933 ),\" [IS]\"), CONCATENATE(IF(ISBLANK(Datenerfassung!I933),\" \",Datenerfassung!I933 ),\" [IS]\"), CONCATENATE(IF(ISBLANK(Datenerfassung!J933),\" \",Datenerfassung!J933 ),\" [IS]\"), CONCATENATE(IF(ISBLANK(Datenerfassung!K933),\" \",Datenerfassung!K933 ),\" [IS]\"), CONCATENATE(IF(ISBLANK(Datenerfassung!L933),\" \",Datenerfassung!L933 ),\" [IS]\"), CONCATENATE(IF(ISBLANK(Datenerfassung!M933),\" \",Datenerfassung!M933 ),\" [IS]\"), IF(ISBLANK(Datenerfassung!N933),\" \",Datenerfassung!N933 ) ))","v":""},{"$f":"IF(ISBLANK(Datenerfassung!V933),\"\",Datenerfassung!V933)","v":""},{"$f":"IF(ISBLANK(Datenerfassung!Q933),\"\",Datenerfassung!Q933)","v":""}]
[{"$f":"IF(ISBLANK(Datenerfassung!A934),\"\",Datenerfassung!A934)","v":""},{"$f":"IF(ISBLANK(Datenerfassung!B934),\"\",Datenerfassung!B934)","v":""},{"$f":"IF(ISBLANK(Datenerfassung!C934),\"\",Datenerfassung!C934)","v":""},{"$f":"IF(ISBLANK(Datenerfassung!R934),\"\",Datenerfassung!R934)","v":""},{"$f":"IF(ISBLANK(Datenerfassung!S934),\"\",Datenerfassung!S934)","v":""},"",{"$f":"IF(ISBLANK(Datenerfassung!U934),\"\",Datenerfassung!U934)","v":""},{"$f":"IF(ISBLANK(Datenerfassung!O934),\"\",Datenerfassung!O934)","v":""},{"$f":"IF(ISBLANK(Datenerfassung!D934),IF(COUNTBLANK(A924:H924)+COUNTBLANK(J924:O924)=14,\"\",\"- ohne Titel -\"),Datenerfassung!D934)","v":""},{"$f":"IF(ISBLANK(Datenerfassung!G934),\"\",Datenerfassung!G934)","v":""},"",{"$f":"IF(ISBLANK(Datenerfassung!X934),\"\",Datenerfassung!X934)","v":""},{"$f":"IF(COUNTBLANK(Datenerfassung!H934:'Datenerfassung'!N934)=7,\"\",CONCATENATE( CONCATENATE(IF(ISBLANK(Datenerfassung!H934),\" \",Datenerfassung!H934 ),\" [IS]\"), CONCATENATE(IF(ISBLANK(Datenerfassung!I934),\" \",Datenerfassung!I934 ),\" [IS]\"), CONCATENATE(IF(ISBLANK(Datenerfassung!J934),\" \",Datenerfassung!J934 ),\" [IS]\"), CONCATENATE(IF(ISBLANK(Datenerfassung!K934),\" \",Datenerfassung!K934 ),\" [IS]\"), CONCATENATE(IF(ISBLANK(Datenerfassung!L934),\" \",Datenerfassung!L934 ),\" [IS]\"), CONCATENATE(IF(ISBLANK(Datenerfassung!M934),\" \",Datenerfassung!M934 ),\" [IS]\"), IF(ISBLANK(Datenerfassung!N934),\" \",Datenerfassung!N934 ) ))","v":""},{"$f":"IF(ISBLANK(Datenerfassung!V934),\"\",Datenerfassung!V934)","v":""},{"$f":"IF(ISBLANK(Datenerfassung!Q934),\"\",Datenerfassung!Q934)","v":""}]
[{"$f":"IF(ISBLANK(Datenerfassung!A935),\"\",Datenerfassung!A935)","v":""},{"$f":"IF(ISBLANK(Datenerfassung!B935),\"\",Datenerfassung!B935)","v":""},{"$f":"IF(ISBLANK(Datenerfassung!C935),\"\",Datenerfassung!C935)","v":""},{"$f":"IF(ISBLANK(Datenerfassung!R935),\"\",Datenerfassung!R935)","v":""},{"$f":"IF(ISBLANK(Datenerfassung!S935),\"\",Datenerfassung!S935)","v":""},"",{"$f":"IF(ISBLANK(Datenerfassung!U935),\"\",Datenerfassung!U935)","v":""},{"$f":"IF(ISBLANK(Datenerfassung!O935),\"\",Datenerfassung!O935)","v":""},{"$f":"IF(ISBLANK(Datenerfassung!D935),IF(COUNTBLANK(A925:H925)+COUNTBLANK(J925:O925)=14,\"\",\"- ohne Titel -\"),Datenerfassung!D935)","v":""},{"$f":"IF(ISBLANK(Datenerfassung!G935),\"\",Datenerfassung!G935)","v":""},"",{"$f":"IF(ISBLANK(Datenerfassung!X935),\"\",Datenerfassung!X935)","v":""},{"$f":"IF(COUNTBLANK(Datenerfassung!H935:'Datenerfassung'!N935)=7,\"\",CONCATENATE( CONCATENATE(IF(ISBLANK(Datenerfassung!H935),\" \",Datenerfassung!H935 ),\" [IS]\"), CONCATENATE(IF(ISBLANK(Datenerfassung!I935),\" \",Datenerfassung!I935 ),\" [IS]\"), CONCATENATE(IF(ISBLANK(Datenerfassung!J935),\" \",Datenerfassung!J935 ),\" [IS]\"), CONCATENATE(IF(ISBLANK(Datenerfassung!K935),\" \",Datenerfassung!K935 ),\" [IS]\"), CONCATENATE(IF(ISBLANK(Datenerfassung!L935),\" \",Datenerfassung!L935 ),\" [IS]\"), CONCATENATE(IF(ISBLANK(Datenerfassung!M935),\" \",Datenerfassung!M935 ),\" [IS]\"), IF(ISBLANK(Datenerfassung!N935),\" \",Datenerfassung!N935 ) ))","v":""},{"$f":"IF(ISBLANK(Datenerfassung!V935),\"\",Datenerfassung!V935)","v":""},{"$f":"IF(ISBLANK(Datenerfassung!Q935),\"\",Datenerfassung!Q935)","v":""}]
[{"$f":"IF(ISBLANK(Datenerfassung!A936),\"\",Datenerfassung!A936)","v":""},{"$f":"IF(ISBLANK(Datenerfassung!B936),\"\",Datenerfassung!B936)","v":""},{"$f":"IF(ISBLANK(Datenerfassung!C936),\"\",Datenerfassung!C936)","v":""},{"$f":"IF(ISBLANK(Datenerfassung!R936),\"\",Datenerfassung!R936)","v":""},{"$f":"IF(ISBLANK(Datenerfassung!S936),\"\",Datenerfassung!S936)","v":""},"",{"$f":"IF(ISBLANK(Datenerfassung!U936),\"\",Datenerfassung!U936)","v":""},{"$f":"IF(ISBLANK(Datenerfassung!O936),\"\",Datenerfassung!O936)","v":""},{"$f":"IF(ISBLANK(Datenerfassung!D936),IF(COUNTBLANK(A926:H926)+COUNTBLANK(J926:O926)=14,\"\",\"- ohne Titel -\"),Datenerfassung!D936)","v":""},{"$f":"IF(ISBLANK(Datenerfassung!G936),\"\",Datenerfassung!G936)","v":""},"",{"$f":"IF(ISBLANK(Datenerfassung!X936),\"\",Datenerfassung!X936)","v":""},{"$f":"IF(COUNTBLANK(Datenerfassung!H936:'Datenerfassung'!N936)=7,\"\",CONCATENATE( CONCATENATE(IF(ISBLANK(Datenerfassung!H936),\" \",Datenerfassung!H936 ),\" [IS]\"), CONCATENATE(IF(ISBLANK(Datenerfassung!I936),\" \",Datenerfassung!I936 ),\" [IS]\"), CONCATENATE(IF(ISBLANK(Datenerfassung!J936),\" \",Datenerfassung!J936 ),\" [IS]\"), CONCATENATE(IF(ISBLANK(Datenerfassung!K936),\" \",Datenerfassung!K936 ),\" [IS]\"), CONCATENATE(IF(ISBLANK(Datenerfassung!L936),\" \",Datenerfassung!L936 ),\" [IS]\"), CONCATENATE(IF(ISBLANK(Datenerfassung!M936),\" \",Datenerfassung!M936 ),\" [IS]\"), IF(ISBLANK(Datenerfassung!N936),\" \",Datenerfassung!N936 ) ))","v":""},{"$f":"IF(ISBLANK(Datenerfassung!V936),\"\",Datenerfassung!V936)","v":""},{"$f":"IF(ISBLANK(Datenerfassung!Q936),\"\",Datenerfassung!Q936)","v":""}]
[{"$f":"IF(ISBLANK(Datenerfassung!A937),\"\",Datenerfassung!A937)","v":""},{"$f":"IF(ISBLANK(Datenerfassung!B937),\"\",Datenerfassung!B937)","v":""},{"$f":"IF(ISBLANK(Datenerfassung!C937),\"\",Datenerfassung!C937)","v":""},{"$f":"IF(ISBLANK(Datenerfassung!R937),\"\",Datenerfassung!R937)","v":""},{"$f":"IF(ISBLANK(Datenerfassung!S937),\"\",Datenerfassung!S937)","v":""},"",{"$f":"IF(ISBLANK(Datenerfassung!U937),\"\",Datenerfassung!U937)","v":""},{"$f":"IF(ISBLANK(Datenerfassung!O937),\"\",Datenerfassung!O937)","v":""},{"$f":"IF(ISBLANK(Datenerfassung!D937),IF(COUNTBLANK(A927:H927)+COUNTBLANK(J927:O927)=14,\"\",\"- ohne Titel -\"),Datenerfassung!D937)","v":""},{"$f":"IF(ISBLANK(Datenerfassung!G937),\"\",Datenerfassung!G937)","v":""},"",{"$f":"IF(ISBLANK(Datenerfassung!X937),\"\",Datenerfassung!X937)","v":""},{"$f":"IF(COUNTBLANK(Datenerfassung!H937:'Datenerfassung'!N937)=7,\"\",CONCATENATE( CONCATENATE(IF(ISBLANK(Datenerfassung!H937),\" \",Datenerfassung!H937 ),\" [IS]\"), CONCATENATE(IF(ISBLANK(Datenerfassung!I937),\" \",Datenerfassung!I937 ),\" [IS]\"), CONCATENATE(IF(ISBLANK(Datenerfassung!J937),\" \",Datenerfassung!J937 ),\" [IS]\"), CONCATENATE(IF(ISBLANK(Datenerfassung!K937),\" \",Datenerfassung!K937 ),\" [IS]\"), CONCATENATE(IF(ISBLANK(Datenerfassung!L937),\" \",Datenerfassung!L937 ),\" [IS]\"), CONCATENATE(IF(ISBLANK(Datenerfassung!M937),\" \",Datenerfassung!M937 ),\" [IS]\"), IF(ISBLANK(Datenerfassung!N937),\" \",Datenerfassung!N937 ) ))","v":""},{"$f":"IF(ISBLANK(Datenerfassung!V937),\"\",Datenerfassung!V937)","v":""},{"$f":"IF(ISBLANK(Datenerfassung!Q937),\"\",Datenerfassung!Q937)","v":""}]
[{"$f":"IF(ISBLANK(Datenerfassung!A938),\"\",Datenerfassung!A938)","v":""},{"$f":"IF(ISBLANK(Datenerfassung!B938),\"\",Datenerfassung!B938)","v":""},{"$f":"IF(ISBLANK(Datenerfassung!C938),\"\",Datenerfassung!C938)","v":""},{"$f":"IF(ISBLANK(Datenerfassung!R938),\"\",Datenerfassung!R938)","v":""},{"$f":"IF(ISBLANK(Datenerfassung!S938),\"\",Datenerfassung!S938)","v":""},"",{"$f":"IF(ISBLANK(Datenerfassung!U938),\"\",Datenerfassung!U938)","v":""},{"$f":"IF(ISBLANK(Datenerfassung!O938),\"\",Datenerfassung!O938)","v":""},{"$f":"IF(ISBLANK(Datenerfassung!D938),IF(COUNTBLANK(A928:H928)+COUNTBLANK(J928:O928)=14,\"\",\"- ohne Titel -\"),Datenerfassung!D938)","v":""},{"$f":"IF(ISBLANK(Datenerfassung!G938),\"\",Datenerfassung!G938)","v":""},"",{"$f":"IF(ISBLANK(Datenerfassung!X938),\"\",Datenerfassung!X938)","v":""},{"$f":"IF(COUNTBLANK(Datenerfassung!H938:'Datenerfassung'!N938)=7,\"\",CONCATENATE( CONCATENATE(IF(ISBLANK(Datenerfassung!H938),\" \",Datenerfassung!H938 ),\" [IS]\"), CONCATENATE(IF(ISBLANK(Datenerfassung!I938),\" \",Datenerfassung!I938 ),\" [IS]\"), CONCATENATE(IF(ISBLANK(Datenerfassung!J938),\" \",Datenerfassung!J938 ),\" [IS]\"), CONCATENATE(IF(ISBLANK(Datenerfassung!K938),\" \",Datenerfassung!K938 ),\" [IS]\"), CONCATENATE(IF(ISBLANK(Datenerfassung!L938),\" \",Datenerfassung!L938 ),\" [IS]\"), CONCATENATE(IF(ISBLANK(Datenerfassung!M938),\" \",Datenerfassung!M938 ),\" [IS]\"), IF(ISBLANK(Datenerfassung!N938),\" \",Datenerfassung!N938 ) ))","v":""},{"$f":"IF(ISBLANK(Datenerfassung!V938),\"\",Datenerfassung!V938)","v":""},{"$f":"IF(ISBLANK(Datenerfassung!Q938),\"\",Datenerfassung!Q938)","v":""}]
[{"$f":"IF(ISBLANK(Datenerfassung!A939),\"\",Datenerfassung!A939)","v":""},{"$f":"IF(ISBLANK(Datenerfassung!B939),\"\",Datenerfassung!B939)","v":""},{"$f":"IF(ISBLANK(Datenerfassung!C939),\"\",Datenerfassung!C939)","v":""},{"$f":"IF(ISBLANK(Datenerfassung!R939),\"\",Datenerfassung!R939)","v":""},{"$f":"IF(ISBLANK(Datenerfassung!S939),\"\",Datenerfassung!S939)","v":""},"",{"$f":"IF(ISBLANK(Datenerfassung!U939),\"\",Datenerfassung!U939)","v":""},{"$f":"IF(ISBLANK(Datenerfassung!O939),\"\",Datenerfassung!O939)","v":""},{"$f":"IF(ISBLANK(Datenerfassung!D939),IF(COUNTBLANK(A929:H929)+COUNTBLANK(J929:O929)=14,\"\",\"- ohne Titel -\"),Datenerfassung!D939)","v":""},{"$f":"IF(ISBLANK(Datenerfassung!G939),\"\",Datenerfassung!G939)","v":""},"",{"$f":"IF(ISBLANK(Datenerfassung!X939),\"\",Datenerfassung!X939)","v":""},{"$f":"IF(COUNTBLANK(Datenerfassung!H939:'Datenerfassung'!N939)=7,\"\",CONCATENATE( CONCATENATE(IF(ISBLANK(Datenerfassung!H939),\" \",Datenerfassung!H939 ),\" [IS]\"), CONCATENATE(IF(ISBLANK(Datenerfassung!I939),\" \",Datenerfassung!I939 ),\" [IS]\"), CONCATENATE(IF(ISBLANK(Datenerfassung!J939),\" \",Datenerfassung!J939 ),\" [IS]\"), CONCATENATE(IF(ISBLANK(Datenerfassung!K939),\" \",Datenerfassung!K939 ),\" [IS]\"), CONCATENATE(IF(ISBLANK(Datenerfassung!L939),\" \",Datenerfassung!L939 ),\" [IS]\"), CONCATENATE(IF(ISBLANK(Datenerfassung!M939),\" \",Datenerfassung!M939 ),\" [IS]\"), IF(ISBLANK(Datenerfassung!N939),\" \",Datenerfassung!N939 ) ))","v":""},{"$f":"IF(ISBLANK(Datenerfassung!V939),\"\",Datenerfassung!V939)","v":""},{"$f":"IF(ISBLANK(Datenerfassung!Q939),\"\",Datenerfassung!Q939)","v":""}]
[{"$f":"IF(ISBLANK(Datenerfassung!A940),\"\",Datenerfassung!A940)","v":""},{"$f":"IF(ISBLANK(Datenerfassung!B940),\"\",Datenerfassung!B940)","v":""},{"$f":"IF(ISBLANK(Datenerfassung!C940),\"\",Datenerfassung!C940)","v":""},{"$f":"IF(ISBLANK(Datenerfassung!R940),\"\",Datenerfassung!R940)","v":""},{"$f":"IF(ISBLANK(Datenerfassung!S940),\"\",Datenerfassung!S940)","v":""},"",{"$f":"IF(ISBLANK(Datenerfassung!U940),\"\",Datenerfassung!U940)","v":""},{"$f":"IF(ISBLANK(Datenerfassung!O940),\"\",Datenerfassung!O940)","v":""},{"$f":"IF(ISBLANK(Datenerfassung!D940),IF(COUNTBLANK(A930:H930)+COUNTBLANK(J930:O930)=14,\"\",\"- ohne Titel -\"),Datenerfassung!D940)","v":""},{"$f":"IF(ISBLANK(Datenerfassung!G940),\"\",Datenerfassung!G940)","v":""},"",{"$f":"IF(ISBLANK(Datenerfassung!X940),\"\",Datenerfassung!X940)","v":""},{"$f":"IF(COUNTBLANK(Datenerfassung!H940:'Datenerfassung'!N940)=7,\"\",CONCATENATE( CONCATENATE(IF(ISBLANK(Datenerfassung!H940),\" \",Datenerfassung!H940 ),\" [IS]\"), CONCATENATE(IF(ISBLANK(Datenerfassung!I940),\" \",Datenerfassung!I940 ),\" [IS]\"), CONCATENATE(IF(ISBLANK(Datenerfassung!J940),\" \",Datenerfassung!J940 ),\" [IS]\"), CONCATENATE(IF(ISBLANK(Datenerfassung!K940),\" \",Datenerfassung!K940 ),\" [IS]\"), CONCATENATE(IF(ISBLANK(Datenerfassung!L940),\" \",Datenerfassung!L940 ),\" [IS]\"), CONCATENATE(IF(ISBLANK(Datenerfassung!M940),\" \",Datenerfassung!M940 ),\" [IS]\"), IF(ISBLANK(Datenerfassung!N940),\" \",Datenerfassung!N940 ) ))","v":""},{"$f":"IF(ISBLANK(Datenerfassung!V940),\"\",Datenerfassung!V940)","v":""},{"$f":"IF(ISBLANK(Datenerfassung!Q940),\"\",Datenerfassung!Q940)","v":""}]
[{"$f":"IF(ISBLANK(Datenerfassung!A941),\"\",Datenerfassung!A941)","v":""},{"$f":"IF(ISBLANK(Datenerfassung!B941),\"\",Datenerfassung!B941)","v":""},{"$f":"IF(ISBLANK(Datenerfassung!C941),\"\",Datenerfassung!C941)","v":""},{"$f":"IF(ISBLANK(Datenerfassung!R941),\"\",Datenerfassung!R941)","v":""},{"$f":"IF(ISBLANK(Datenerfassung!S941),\"\",Datenerfassung!S941)","v":""},"",{"$f":"IF(ISBLANK(Datenerfassung!U941),\"\",Datenerfassung!U941)","v":""},{"$f":"IF(ISBLANK(Datenerfassung!O941),\"\",Datenerfassung!O941)","v":""},{"$f":"IF(ISBLANK(Datenerfassung!D941),IF(COUNTBLANK(A931:H931)+COUNTBLANK(J931:O931)=14,\"\",\"- ohne Titel -\"),Datenerfassung!D941)","v":""},{"$f":"IF(ISBLANK(Datenerfassung!G941),\"\",Datenerfassung!G941)","v":""},"",{"$f":"IF(ISBLANK(Datenerfassung!X941),\"\",Datenerfassung!X941)","v":""},{"$f":"IF(COUNTBLANK(Datenerfassung!H941:'Datenerfassung'!N941)=7,\"\",CONCATENATE( CONCATENATE(IF(ISBLANK(Datenerfassung!H941),\" \",Datenerfassung!H941 ),\" [IS]\"), CONCATENATE(IF(ISBLANK(Datenerfassung!I941),\" \",Datenerfassung!I941 ),\" [IS]\"), CONCATENATE(IF(ISBLANK(Datenerfassung!J941),\" \",Datenerfassung!J941 ),\" [IS]\"), CONCATENATE(IF(ISBLANK(Datenerfassung!K941),\" \",Datenerfassung!K941 ),\" [IS]\"), CONCATENATE(IF(ISBLANK(Datenerfassung!L941),\" \",Datenerfassung!L941 ),\" [IS]\"), CONCATENATE(IF(ISBLANK(Datenerfassung!M941),\" \",Datenerfassung!M941 ),\" [IS]\"), IF(ISBLANK(Datenerfassung!N941),\" \",Datenerfassung!N941 ) ))","v":""},{"$f":"IF(ISBLANK(Datenerfassung!V941),\"\",Datenerfassung!V941)","v":""},{"$f":"IF(ISBLANK(Datenerfassung!Q941),\"\",Datenerfassung!Q941)","v":""}]
[{"$f":"IF(ISBLANK(Datenerfassung!A942),\"\",Datenerfassung!A942)","v":""},{"$f":"IF(ISBLANK(Datenerfassung!B942),\"\",Datenerfassung!B942)","v":""},{"$f":"IF(ISBLANK(Datenerfassung!C942),\"\",Datenerfassung!C942)","v":""},{"$f":"IF(ISBLANK(Datenerfassung!R942),\"\",Datenerfassung!R942)","v":""},{"$f":"IF(ISBLANK(Datenerfassung!S942),\"\",Datenerfassung!S942)","v":""},"",{"$f":"IF(ISBLANK(Datenerfassung!U942),\"\",Datenerfassung!U942)","v":""},{"$f":"IF(ISBLANK(Datenerfassung!O942),\"\",Datenerfassung!O942)","v":""},{"$f":"IF(ISBLANK(Datenerfassung!D942),IF(COUNTBLANK(A932:H932)+COUNTBLANK(J932:O932)=14,\"\",\"- ohne Titel -\"),Datenerfassung!D942)","v":""},{"$f":"IF(ISBLANK(Datenerfassung!G942),\"\",Datenerfassung!G942)","v":""},"",{"$f":"IF(ISBLANK(Datenerfassung!X942),\"\",Datenerfassung!X942)","v":""},{"$f":"IF(COUNTBLANK(Datenerfassung!H942:'Datenerfassung'!N942)=7,\"\",CONCATENATE( CONCATENATE(IF(ISBLANK(Datenerfassung!H942),\" \",Datenerfassung!H942 ),\" [IS]\"), CONCATENATE(IF(ISBLANK(Datenerfassung!I942),\" \",Datenerfassung!I942 ),\" [IS]\"), CONCATENATE(IF(ISBLANK(Datenerfassung!J942),\" \",Datenerfassung!J942 ),\" [IS]\"), CONCATENATE(IF(ISBLANK(Datenerfassung!K942),\" \",Datenerfassung!K942 ),\" [IS]\"), CONCATENATE(IF(ISBLANK(Datenerfassung!L942),\" \",Datenerfassung!L942 ),\" [IS]\"), CONCATENATE(IF(ISBLANK(Datenerfassung!M942),\" \",Datenerfassung!M942 ),\" [IS]\"), IF(ISBLANK(Datenerfassung!N942),\" \",Datenerfassung!N942 ) ))","v":""},{"$f":"IF(ISBLANK(Datenerfassung!V942),\"\",Datenerfassung!V942)","v":""},{"$f":"IF(ISBLANK(Datenerfassung!Q942),\"\",Datenerfassung!Q942)","v":""}]
[{"$f":"IF(ISBLANK(Datenerfassung!A943),\"\",Datenerfassung!A943)","v":""},{"$f":"IF(ISBLANK(Datenerfassung!B943),\"\",Datenerfassung!B943)","v":""},{"$f":"IF(ISBLANK(Datenerfassung!C943),\"\",Datenerfassung!C943)","v":""},{"$f":"IF(ISBLANK(Datenerfassung!R943),\"\",Datenerfassung!R943)","v":""},{"$f":"IF(ISBLANK(Datenerfassung!S943),\"\",Datenerfassung!S943)","v":""},"",{"$f":"IF(ISBLANK(Datenerfassung!U943),\"\",Datenerfassung!U943)","v":""},{"$f":"IF(ISBLANK(Datenerfassung!O943),\"\",Datenerfassung!O943)","v":""},{"$f":"IF(ISBLANK(Datenerfassung!D943),IF(COUNTBLANK(A933:H933)+COUNTBLANK(J933:O933)=14,\"\",\"- ohne Titel -\"),Datenerfassung!D943)","v":""},{"$f":"IF(ISBLANK(Datenerfassung!G943),\"\",Datenerfassung!G943)","v":""},"",{"$f":"IF(ISBLANK(Datenerfassung!X943),\"\",Datenerfassung!X943)","v":""},{"$f":"IF(COUNTBLANK(Datenerfassung!H943:'Datenerfassung'!N943)=7,\"\",CONCATENATE( CONCATENATE(IF(ISBLANK(Datenerfassung!H943),\" \",Datenerfassung!H943 ),\" [IS]\"), CONCATENATE(IF(ISBLANK(Datenerfassung!I943),\" \",Datenerfassung!I943 ),\" [IS]\"), CONCATENATE(IF(ISBLANK(Datenerfassung!J943),\" \",Datenerfassung!J943 ),\" [IS]\"), CONCATENATE(IF(ISBLANK(Datenerfassung!K943),\" \",Datenerfassung!K943 ),\" [IS]\"), CONCATENATE(IF(ISBLANK(Datenerfassung!L943),\" \",Datenerfassung!L943 ),\" [IS]\"), CONCATENATE(IF(ISBLANK(Datenerfassung!M943),\" \",Datenerfassung!M943 ),\" [IS]\"), IF(ISBLANK(Datenerfassung!N943),\" \",Datenerfassung!N943 ) ))","v":""},{"$f":"IF(ISBLANK(Datenerfassung!V943),\"\",Datenerfassung!V943)","v":""},{"$f":"IF(ISBLANK(Datenerfassung!Q943),\"\",Datenerfassung!Q943)","v":""}]
[{"$f":"IF(ISBLANK(Datenerfassung!A944),\"\",Datenerfassung!A944)","v":""},{"$f":"IF(ISBLANK(Datenerfassung!B944),\"\",Datenerfassung!B944)","v":""},{"$f":"IF(ISBLANK(Datenerfassung!C944),\"\",Datenerfassung!C944)","v":""},{"$f":"IF(ISBLANK(Datenerfassung!R944),\"\",Datenerfassung!R944)","v":""},{"$f":"IF(ISBLANK(Datenerfassung!S944),\"\",Datenerfassung!S944)","v":""},"",{"$f":"IF(ISBLANK(Datenerfassung!U944),\"\",Datenerfassung!U944)","v":""},{"$f":"IF(ISBLANK(Datenerfassung!O944),\"\",Datenerfassung!O944)","v":""},{"$f":"IF(ISBLANK(Datenerfassung!D944),IF(COUNTBLANK(A934:H934)+COUNTBLANK(J934:O934)=14,\"\",\"- ohne Titel -\"),Datenerfassung!D944)","v":""},{"$f":"IF(ISBLANK(Datenerfassung!G944),\"\",Datenerfassung!G944)","v":""},"",{"$f":"IF(ISBLANK(Datenerfassung!X944),\"\",Datenerfassung!X944)","v":""},{"$f":"IF(COUNTBLANK(Datenerfassung!H944:'Datenerfassung'!N944)=7,\"\",CONCATENATE( CONCATENATE(IF(ISBLANK(Datenerfassung!H944),\" \",Datenerfassung!H944 ),\" [IS]\"), CONCATENATE(IF(ISBLANK(Datenerfassung!I944),\" \",Datenerfassung!I944 ),\" [IS]\"), CONCATENATE(IF(ISBLANK(Datenerfassung!J944),\" \",Datenerfassung!J944 ),\" [IS]\"), CONCATENATE(IF(ISBLANK(Datenerfassung!K944),\" \",Datenerfassung!K944 ),\" [IS]\"), CONCATENATE(IF(ISBLANK(Datenerfassung!L944),\" \",Datenerfassung!L944 ),\" [IS]\"), CONCATENATE(IF(ISBLANK(Datenerfassung!M944),\" \",Datenerfassung!M944 ),\" [IS]\"), IF(ISBLANK(Datenerfassung!N944),\" \",Datenerfassung!N944 ) ))","v":""},{"$f":"IF(ISBLANK(Datenerfassung!V944),\"\",Datenerfassung!V944)","v":""},{"$f":"IF(ISBLANK(Datenerfassung!Q944),\"\",Datenerfassung!Q944)","v":""}]
[{"$f":"IF(ISBLANK(Datenerfassung!A945),\"\",Datenerfassung!A945)","v":""},{"$f":"IF(ISBLANK(Datenerfassung!B945),\"\",Datenerfassung!B945)","v":""},{"$f":"IF(ISBLANK(Datenerfassung!C945),\"\",Datenerfassung!C945)","v":""},{"$f":"IF(ISBLANK(Datenerfassung!R945),\"\",Datenerfassung!R945)","v":""},{"$f":"IF(ISBLANK(Datenerfassung!S945),\"\",Datenerfassung!S945)","v":""},"",{"$f":"IF(ISBLANK(Datenerfassung!U945),\"\",Datenerfassung!U945)","v":""},{"$f":"IF(ISBLANK(Datenerfassung!O945),\"\",Datenerfassung!O945)","v":""},{"$f":"IF(ISBLANK(Datenerfassung!D945),IF(COUNTBLANK(A935:H935)+COUNTBLANK(J935:O935)=14,\"\",\"- ohne Titel -\"),Datenerfassung!D945)","v":""},{"$f":"IF(ISBLANK(Datenerfassung!G945),\"\",Datenerfassung!G945)","v":""},"",{"$f":"IF(ISBLANK(Datenerfassung!X945),\"\",Datenerfassung!X945)","v":""},{"$f":"IF(COUNTBLANK(Datenerfassung!H945:'Datenerfassung'!N945)=7,\"\",CONCATENATE( CONCATENATE(IF(ISBLANK(Datenerfassung!H945),\" \",Datenerfassung!H945 ),\" [IS]\"), CONCATENATE(IF(ISBLANK(Datenerfassung!I945),\" \",Datenerfassung!I945 ),\" [IS]\"), CONCATENATE(IF(ISBLANK(Datenerfassung!J945),\" \",Datenerfassung!J945 ),\" [IS]\"), CONCATENATE(IF(ISBLANK(Datenerfassung!K945),\" \",Datenerfassung!K945 ),\" [IS]\"), CONCATENATE(IF(ISBLANK(Datenerfassung!L945),\" \",Datenerfassung!L945 ),\" [IS]\"), CONCATENATE(IF(ISBLANK(Datenerfassung!M945),\" \",Datenerfassung!M945 ),\" [IS]\"), IF(ISBLANK(Datenerfassung!N945),\" \",Datenerfassung!N945 ) ))","v":""},{"$f":"IF(ISBLANK(Datenerfassung!V945),\"\",Datenerfassung!V945)","v":""},{"$f":"IF(ISBLANK(Datenerfassung!Q945),\"\",Datenerfassung!Q945)","v":""}]
[{"$f":"IF(ISBLANK(Datenerfassung!A946),\"\",Datenerfassung!A946)","v":""},{"$f":"IF(ISBLANK(Datenerfassung!B946),\"\",Datenerfassung!B946)","v":""},{"$f":"IF(ISBLANK(Datenerfassung!C946),\"\",Datenerfassung!C946)","v":""},{"$f":"IF(ISBLANK(Datenerfassung!R946),\"\",Datenerfassung!R946)","v":""},{"$f":"IF(ISBLANK(Datenerfassung!S946),\"\",Datenerfassung!S946)","v":""},"",{"$f":"IF(ISBLANK(Datenerfassung!U946),\"\",Datenerfassung!U946)","v":""},{"$f":"IF(ISBLANK(Datenerfassung!O946),\"\",Datenerfassung!O946)","v":""},{"$f":"IF(ISBLANK(Datenerfassung!D946),IF(COUNTBLANK(A936:H936)+COUNTBLANK(J936:O936)=14,\"\",\"- ohne Titel -\"),Datenerfassung!D946)","v":""},{"$f":"IF(ISBLANK(Datenerfassung!G946),\"\",Datenerfassung!G946)","v":""},"",{"$f":"IF(ISBLANK(Datenerfassung!X946),\"\",Datenerfassung!X946)","v":""},{"$f":"IF(COUNTBLANK(Datenerfassung!H946:'Datenerfassung'!N946)=7,\"\",CONCATENATE( CONCATENATE(IF(ISBLANK(Datenerfassung!H946),\" \",Datenerfassung!H946 ),\" [IS]\"), CONCATENATE(IF(ISBLANK(Datenerfassung!I946),\" \",Datenerfassung!I946 ),\" [IS]\"), CONCATENATE(IF(ISBLANK(Datenerfassung!J946),\" \",Datenerfassung!J946 ),\" [IS]\"), CONCATENATE(IF(ISBLANK(Datenerfassung!K946),\" \",Datenerfassung!K946 ),\" [IS]\"), CONCATENATE(IF(ISBLANK(Datenerfassung!L946),\" \",Datenerfassung!L946 ),\" [IS]\"), CONCATENATE(IF(ISBLANK(Datenerfassung!M946),\" \",Datenerfassung!M946 ),\" [IS]\"), IF(ISBLANK(Datenerfassung!N946),\" \",Datenerfassung!N946 ) ))","v":""},{"$f":"IF(ISBLANK(Datenerfassung!V946),\"\",Datenerfassung!V946)","v":""},{"$f":"IF(ISBLANK(Datenerfassung!Q946),\"\",Datenerfassung!Q946)","v":""}]
[{"$f":"IF(ISBLANK(Datenerfassung!A947),\"\",Datenerfassung!A947)","v":""},{"$f":"IF(ISBLANK(Datenerfassung!B947),\"\",Datenerfassung!B947)","v":""},{"$f":"IF(ISBLANK(Datenerfassung!C947),\"\",Datenerfassung!C947)","v":""},{"$f":"IF(ISBLANK(Datenerfassung!R947),\"\",Datenerfassung!R947)","v":""},{"$f":"IF(ISBLANK(Datenerfassung!S947),\"\",Datenerfassung!S947)","v":""},"",{"$f":"IF(ISBLANK(Datenerfassung!U947),\"\",Datenerfassung!U947)","v":""},{"$f":"IF(ISBLANK(Datenerfassung!O947),\"\",Datenerfassung!O947)","v":""},{"$f":"IF(ISBLANK(Datenerfassung!D947),IF(COUNTBLANK(A937:H937)+COUNTBLANK(J937:O937)=14,\"\",\"- ohne Titel -\"),Datenerfassung!D947)","v":""},{"$f":"IF(ISBLANK(Datenerfassung!G947),\"\",Datenerfassung!G947)","v":""},"",{"$f":"IF(ISBLANK(Datenerfassung!X947),\"\",Datenerfassung!X947)","v":""},{"$f":"IF(COUNTBLANK(Datenerfassung!H947:'Datenerfassung'!N947)=7,\"\",CONCATENATE( CONCATENATE(IF(ISBLANK(Datenerfassung!H947),\" \",Datenerfassung!H947 ),\" [IS]\"), CONCATENATE(IF(ISBLANK(Datenerfassung!I947),\" \",Datenerfassung!I947 ),\" [IS]\"), CONCATENATE(IF(ISBLANK(Datenerfassung!J947),\" \",Datenerfassung!J947 ),\" [IS]\"), CONCATENATE(IF(ISBLANK(Datenerfassung!K947),\" \",Datenerfassung!K947 ),\" [IS]\"), CONCATENATE(IF(ISBLANK(Datenerfassung!L947),\" \",Datenerfassung!L947 ),\" [IS]\"), CONCATENATE(IF(ISBLANK(Datenerfassung!M947),\" \",Datenerfassung!M947 ),\" [IS]\"), IF(ISBLANK(Datenerfassung!N947),\" \",Datenerfassung!N947 ) ))","v":""},{"$f":"IF(ISBLANK(Datenerfassung!V947),\"\",Datenerfassung!V947)","v":""},{"$f":"IF(ISBLANK(Datenerfassung!Q947),\"\",Datenerfassung!Q947)","v":""}]
[{"$f":"IF(ISBLANK(Datenerfassung!A948),\"\",Datenerfassung!A948)","v":""},{"$f":"IF(ISBLANK(Datenerfassung!B948),\"\",Datenerfassung!B948)","v":""},{"$f":"IF(ISBLANK(Datenerfassung!C948),\"\",Datenerfassung!C948)","v":""},{"$f":"IF(ISBLANK(Datenerfassung!R948),\"\",Datenerfassung!R948)","v":""},{"$f":"IF(ISBLANK(Datenerfassung!S948),\"\",Datenerfassung!S948)","v":""},"",{"$f":"IF(ISBLANK(Datenerfassung!U948),\"\",Datenerfassung!U948)","v":""},{"$f":"IF(ISBLANK(Datenerfassung!O948),\"\",Datenerfassung!O948)","v":""},{"$f":"IF(ISBLANK(Datenerfassung!D948),IF(COUNTBLANK(A938:H938)+COUNTBLANK(J938:O938)=14,\"\",\"- ohne Titel -\"),Datenerfassung!D948)","v":""},{"$f":"IF(ISBLANK(Datenerfassung!G948),\"\",Datenerfassung!G948)","v":""},"",{"$f":"IF(ISBLANK(Datenerfassung!X948),\"\",Datenerfassung!X948)","v":""},{"$f":"IF(COUNTBLANK(Datenerfassung!H948:'Datenerfassung'!N948)=7,\"\",CONCATENATE( CONCATENATE(IF(ISBLANK(Datenerfassung!H948),\" \",Datenerfassung!H948 ),\" [IS]\"), CONCATENATE(IF(ISBLANK(Datenerfassung!I948),\" \",Datenerfassung!I948 ),\" [IS]\"), CONCATENATE(IF(ISBLANK(Datenerfassung!J948),\" \",Datenerfassung!J948 ),\" [IS]\"), CONCATENATE(IF(ISBLANK(Datenerfassung!K948),\" \",Datenerfassung!K948 ),\" [IS]\"), CONCATENATE(IF(ISBLANK(Datenerfassung!L948),\" \",Datenerfassung!L948 ),\" [IS]\"), CONCATENATE(IF(ISBLANK(Datenerfassung!M948),\" \",Datenerfassung!M948 ),\" [IS]\"), IF(ISBLANK(Datenerfassung!N948),\" \",Datenerfassung!N948 ) ))","v":""},{"$f":"IF(ISBLANK(Datenerfassung!V948),\"\",Datenerfassung!V948)","v":""},{"$f":"IF(ISBLANK(Datenerfassung!Q948),\"\",Datenerfassung!Q948)","v":""}]
[{"$f":"IF(ISBLANK(Datenerfassung!A949),\"\",Datenerfassung!A949)","v":""},{"$f":"IF(ISBLANK(Datenerfassung!B949),\"\",Datenerfassung!B949)","v":""},{"$f":"IF(ISBLANK(Datenerfassung!C949),\"\",Datenerfassung!C949)","v":""},{"$f":"IF(ISBLANK(Datenerfassung!R949),\"\",Datenerfassung!R949)","v":""},{"$f":"IF(ISBLANK(Datenerfassung!S949),\"\",Datenerfassung!S949)","v":""},"",{"$f":"IF(ISBLANK(Datenerfassung!U949),\"\",Datenerfassung!U949)","v":""},{"$f":"IF(ISBLANK(Datenerfassung!O949),\"\",Datenerfassung!O949)","v":""},{"$f":"IF(ISBLANK(Datenerfassung!D949),IF(COUNTBLANK(A939:H939)+COUNTBLANK(J939:O939)=14,\"\",\"- ohne Titel -\"),Datenerfassung!D949)","v":""},{"$f":"IF(ISBLANK(Datenerfassung!G949),\"\",Datenerfassung!G949)","v":""},"",{"$f":"IF(ISBLANK(Datenerfassung!X949),\"\",Datenerfassung!X949)","v":""},{"$f":"IF(COUNTBLANK(Datenerfassung!H949:'Datenerfassung'!N949)=7,\"\",CONCATENATE( CONCATENATE(IF(ISBLANK(Datenerfassung!H949),\" \",Datenerfassung!H949 ),\" [IS]\"), CONCATENATE(IF(ISBLANK(Datenerfassung!I949),\" \",Datenerfassung!I949 ),\" [IS]\"), CONCATENATE(IF(ISBLANK(Datenerfassung!J949),\" \",Datenerfassung!J949 ),\" [IS]\"), CONCATENATE(IF(ISBLANK(Datenerfassung!K949),\" \",Datenerfassung!K949 ),\" [IS]\"), CONCATENATE(IF(ISBLANK(Datenerfassung!L949),\" \",Datenerfassung!L949 ),\" [IS]\"), CONCATENATE(IF(ISBLANK(Datenerfassung!M949),\" \",Datenerfassung!M949 ),\" [IS]\"), IF(ISBLANK(Datenerfassung!N949),\" \",Datenerfassung!N949 ) ))","v":""},{"$f":"IF(ISBLANK(Datenerfassung!V949),\"\",Datenerfassung!V949)","v":""},{"$f":"IF(ISBLANK(Datenerfassung!Q949),\"\",Datenerfassung!Q949)","v":""}]
[{"$f":"IF(ISBLANK(Datenerfassung!A950),\"\",Datenerfassung!A950)","v":""},{"$f":"IF(ISBLANK(Datenerfassung!B950),\"\",Datenerfassung!B950)","v":""},{"$f":"IF(ISBLANK(Datenerfassung!C950),\"\",Datenerfassung!C950)","v":""},{"$f":"IF(ISBLANK(Datenerfassung!R950),\"\",Datenerfassung!R950)","v":""},{"$f":"IF(ISBLANK(Datenerfassung!S950),\"\",Datenerfassung!S950)","v":""},"",{"$f":"IF(ISBLANK(Datenerfassung!U950),\"\",Datenerfassung!U950)","v":""},{"$f":"IF(ISBLANK(Datenerfassung!O950),\"\",Datenerfassung!O950)","v":""},{"$f":"IF(ISBLANK(Datenerfassung!D950),IF(COUNTBLANK(A940:H940)+COUNTBLANK(J940:O940)=14,\"\",\"- ohne Titel -\"),Datenerfassung!D950)","v":""},{"$f":"IF(ISBLANK(Datenerfassung!G950),\"\",Datenerfassung!G950)","v":""},"",{"$f":"IF(ISBLANK(Datenerfassung!X950),\"\",Datenerfassung!X950)","v":""},{"$f":"IF(COUNTBLANK(Datenerfassung!H950:'Datenerfassung'!N950)=7,\"\",CONCATENATE( CONCATENATE(IF(ISBLANK(Datenerfassung!H950),\" \",Datenerfassung!H950 ),\" [IS]\"), CONCATENATE(IF(ISBLANK(Datenerfassung!I950),\" \",Datenerfassung!I950 ),\" [IS]\"), CONCATENATE(IF(ISBLANK(Datenerfassung!J950),\" \",Datenerfassung!J950 ),\" [IS]\"), CONCATENATE(IF(ISBLANK(Datenerfassung!K950),\" \",Datenerfassung!K950 ),\" [IS]\"), CONCATENATE(IF(ISBLANK(Datenerfassung!L950),\" \",Datenerfassung!L950 ),\" [IS]\"), CONCATENATE(IF(ISBLANK(Datenerfassung!M950),\" \",Datenerfassung!M950 ),\" [IS]\"), IF(ISBLANK(Datenerfassung!N950),\" \",Datenerfassung!N950 ) ))","v":""},{"$f":"IF(ISBLANK(Datenerfassung!V950),\"\",Datenerfassung!V950)","v":""},{"$f":"IF(ISBLANK(Datenerfassung!Q950),\"\",Datenerfassung!Q950)","v":""}]
[{"$f":"IF(ISBLANK(Datenerfassung!A951),\"\",Datenerfassung!A951)","v":""},{"$f":"IF(ISBLANK(Datenerfassung!B951),\"\",Datenerfassung!B951)","v":""},{"$f":"IF(ISBLANK(Datenerfassung!C951),\"\",Datenerfassung!C951)","v":""},{"$f":"IF(ISBLANK(Datenerfassung!R951),\"\",Datenerfassung!R951)","v":""},{"$f":"IF(ISBLANK(Datenerfassung!S951),\"\",Datenerfassung!S951)","v":""},"",{"$f":"IF(ISBLANK(Datenerfassung!U951),\"\",Datenerfassung!U951)","v":""},{"$f":"IF(ISBLANK(Datenerfassung!O951),\"\",Datenerfassung!O951)","v":""},{"$f":"IF(ISBLANK(Datenerfassung!D951),IF(COUNTBLANK(A941:H941)+COUNTBLANK(J941:O941)=14,\"\",\"- ohne Titel -\"),Datenerfassung!D951)","v":""},{"$f":"IF(ISBLANK(Datenerfassung!G951),\"\",Datenerfassung!G951)","v":""},"",{"$f":"IF(ISBLANK(Datenerfassung!X951),\"\",Datenerfassung!X951)","v":""},{"$f":"IF(COUNTBLANK(Datenerfassung!H951:'Datenerfassung'!N951)=7,\"\",CONCATENATE( CONCATENATE(IF(ISBLANK(Datenerfassung!H951),\" \",Datenerfassung!H951 ),\" [IS]\"), CONCATENATE(IF(ISBLANK(Datenerfassung!I951),\" \",Datenerfassung!I951 ),\" [IS]\"), CONCATENATE(IF(ISBLANK(Datenerfassung!J951),\" \",Datenerfassung!J951 ),\" [IS]\"), CONCATENATE(IF(ISBLANK(Datenerfassung!K951),\" \",Datenerfassung!K951 ),\" [IS]\"), CONCATENATE(IF(ISBLANK(Datenerfassung!L951),\" \",Datenerfassung!L951 ),\" [IS]\"), CONCATENATE(IF(ISBLANK(Datenerfassung!M951),\" \",Datenerfassung!M951 ),\" [IS]\"), IF(ISBLANK(Datenerfassung!N951),\" \",Datenerfassung!N951 ) ))","v":""},{"$f":"IF(ISBLANK(Datenerfassung!V951),\"\",Datenerfassung!V951)","v":""},{"$f":"IF(ISBLANK(Datenerfassung!Q951),\"\",Datenerfassung!Q951)","v":""}]
[{"$f":"IF(ISBLANK(Datenerfassung!A952),\"\",Datenerfassung!A952)","v":""},{"$f":"IF(ISBLANK(Datenerfassung!B952),\"\",Datenerfassung!B952)","v":""},{"$f":"IF(ISBLANK(Datenerfassung!C952),\"\",Datenerfassung!C952)","v":""},{"$f":"IF(ISBLANK(Datenerfassung!R952),\"\",Datenerfassung!R952)","v":""},{"$f":"IF(ISBLANK(Datenerfassung!S952),\"\",Datenerfassung!S952)","v":""},"",{"$f":"IF(ISBLANK(Datenerfassung!U952),\"\",Datenerfassung!U952)","v":""},{"$f":"IF(ISBLANK(Datenerfassung!O952),\"\",Datenerfassung!O952)","v":""},{"$f":"IF(ISBLANK(Datenerfassung!D952),IF(COUNTBLANK(A942:H942)+COUNTBLANK(J942:O942)=14,\"\",\"- ohne Titel -\"),Datenerfassung!D952)","v":""},{"$f":"IF(ISBLANK(Datenerfassung!G952),\"\",Datenerfassung!G952)","v":""},"",{"$f":"IF(ISBLANK(Datenerfassung!X952),\"\",Datenerfassung!X952)","v":""},{"$f":"IF(COUNTBLANK(Datenerfassung!H952:'Datenerfassung'!N952)=7,\"\",CONCATENATE( CONCATENATE(IF(ISBLANK(Datenerfassung!H952),\" \",Datenerfassung!H952 ),\" [IS]\"), CONCATENATE(IF(ISBLANK(Datenerfassung!I952),\" \",Datenerfassung!I952 ),\" [IS]\"), CONCATENATE(IF(ISBLANK(Datenerfassung!J952),\" \",Datenerfassung!J952 ),\" [IS]\"), CONCATENATE(IF(ISBLANK(Datenerfassung!K952),\" \",Datenerfassung!K952 ),\" [IS]\"), CONCATENATE(IF(ISBLANK(Datenerfassung!L952),\" \",Datenerfassung!L952 ),\" [IS]\"), CONCATENATE(IF(ISBLANK(Datenerfassung!M952),\" \",Datenerfassung!M952 ),\" [IS]\"), IF(ISBLANK(Datenerfassung!N952),\" \",Datenerfassung!N952 ) ))","v":""},{"$f":"IF(ISBLANK(Datenerfassung!V952),\"\",Datenerfassung!V952)","v":""},{"$f":"IF(ISBLANK(Datenerfassung!Q952),\"\",Datenerfassung!Q952)","v":""}]
[{"$f":"IF(ISBLANK(Datenerfassung!A953),\"\",Datenerfassung!A953)","v":""},{"$f":"IF(ISBLANK(Datenerfassung!B953),\"\",Datenerfassung!B953)","v":""},{"$f":"IF(ISBLANK(Datenerfassung!C953),\"\",Datenerfassung!C953)","v":""},{"$f":"IF(ISBLANK(Datenerfassung!R953),\"\",Datenerfassung!R953)","v":""},{"$f":"IF(ISBLANK(Datenerfassung!S953),\"\",Datenerfassung!S953)","v":""},"",{"$f":"IF(ISBLANK(Datenerfassung!U953),\"\",Datenerfassung!U953)","v":""},{"$f":"IF(ISBLANK(Datenerfassung!O953),\"\",Datenerfassung!O953)","v":""},{"$f":"IF(ISBLANK(Datenerfassung!D953),IF(COUNTBLANK(A943:H943)+COUNTBLANK(J943:O943)=14,\"\",\"- ohne Titel -\"),Datenerfassung!D953)","v":""},{"$f":"IF(ISBLANK(Datenerfassung!G953),\"\",Datenerfassung!G953)","v":""},"",{"$f":"IF(ISBLANK(Datenerfassung!X953),\"\",Datenerfassung!X953)","v":""},{"$f":"IF(COUNTBLANK(Datenerfassung!H953:'Datenerfassung'!N953)=7,\"\",CONCATENATE( CONCATENATE(IF(ISBLANK(Datenerfassung!H953),\" \",Datenerfassung!H953 ),\" [IS]\"), CONCATENATE(IF(ISBLANK(Datenerfassung!I953),\" \",Datenerfassung!I953 ),\" [IS]\"), CONCATENATE(IF(ISBLANK(Datenerfassung!J953),\" \",Datenerfassung!J953 ),\" [IS]\"), CONCATENATE(IF(ISBLANK(Datenerfassung!K953),\" \",Datenerfassung!K953 ),\" [IS]\"), CONCATENATE(IF(ISBLANK(Datenerfassung!L953),\" \",Datenerfassung!L953 ),\" [IS]\"), CONCATENATE(IF(ISBLANK(Datenerfassung!M953),\" \",Datenerfassung!M953 ),\" [IS]\"), IF(ISBLANK(Datenerfassung!N953),\" \",Datenerfassung!N953 ) ))","v":""},{"$f":"IF(ISBLANK(Datenerfassung!V953),\"\",Datenerfassung!V953)","v":""},{"$f":"IF(ISBLANK(Datenerfassung!Q953),\"\",Datenerfassung!Q953)","v":""}]
[{"$f":"IF(ISBLANK(Datenerfassung!A954),\"\",Datenerfassung!A954)","v":""},{"$f":"IF(ISBLANK(Datenerfassung!B954),\"\",Datenerfassung!B954)","v":""},{"$f":"IF(ISBLANK(Datenerfassung!C954),\"\",Datenerfassung!C954)","v":""},{"$f":"IF(ISBLANK(Datenerfassung!R954),\"\",Datenerfassung!R954)","v":""},{"$f":"IF(ISBLANK(Datenerfassung!S954),\"\",Datenerfassung!S954)","v":""},"",{"$f":"IF(ISBLANK(Datenerfassung!U954),\"\",Datenerfassung!U954)","v":""},{"$f":"IF(ISBLANK(Datenerfassung!O954),\"\",Datenerfassung!O954)","v":""},{"$f":"IF(ISBLANK(Datenerfassung!D954),IF(COUNTBLANK(A944:H944)+COUNTBLANK(J944:O944)=14,\"\",\"- ohne Titel -\"),Datenerfassung!D954)","v":""},{"$f":"IF(ISBLANK(Datenerfassung!G954),\"\",Datenerfassung!G954)","v":""},"",{"$f":"IF(ISBLANK(Datenerfassung!X954),\"\",Datenerfassung!X954)","v":""},{"$f":"IF(COUNTBLANK(Datenerfassung!H954:'Datenerfassung'!N954)=7,\"\",CONCATENATE( CONCATENATE(IF(ISBLANK(Datenerfassung!H954),\" \",Datenerfassung!H954 ),\" [IS]\"), CONCATENATE(IF(ISBLANK(Datenerfassung!I954),\" \",Datenerfassung!I954 ),\" [IS]\"), CONCATENATE(IF(ISBLANK(Datenerfassung!J954),\" \",Datenerfassung!J954 ),\" [IS]\"), CONCATENATE(IF(ISBLANK(Datenerfassung!K954),\" \",Datenerfassung!K954 ),\" [IS]\"), CONCATENATE(IF(ISBLANK(Datenerfassung!L954),\" \",Datenerfassung!L954 ),\" [IS]\"), CONCATENATE(IF(ISBLANK(Datenerfassung!M954),\" \",Datenerfassung!M954 ),\" [IS]\"), IF(ISBLANK(Datenerfassung!N954),\" \",Datenerfassung!N954 ) ))","v":""},{"$f":"IF(ISBLANK(Datenerfassung!V954),\"\",Datenerfassung!V954)","v":""},{"$f":"IF(ISBLANK(Datenerfassung!Q954),\"\",Datenerfassung!Q954)","v":""}]
[{"$f":"IF(ISBLANK(Datenerfassung!A955),\"\",Datenerfassung!A955)","v":""},{"$f":"IF(ISBLANK(Datenerfassung!B955),\"\",Datenerfassung!B955)","v":""},{"$f":"IF(ISBLANK(Datenerfassung!C955),\"\",Datenerfassung!C955)","v":""},{"$f":"IF(ISBLANK(Datenerfassung!R955),\"\",Datenerfassung!R955)","v":""},{"$f":"IF(ISBLANK(Datenerfassung!S955),\"\",Datenerfassung!S955)","v":""},"",{"$f":"IF(ISBLANK(Datenerfassung!U955),\"\",Datenerfassung!U955)","v":""},{"$f":"IF(ISBLANK(Datenerfassung!O955),\"\",Datenerfassung!O955)","v":""},{"$f":"IF(ISBLANK(Datenerfassung!D955),IF(COUNTBLANK(A945:H945)+COUNTBLANK(J945:O945)=14,\"\",\"- ohne Titel -\"),Datenerfassung!D955)","v":""},{"$f":"IF(ISBLANK(Datenerfassung!G955),\"\",Datenerfassung!G955)","v":""},"",{"$f":"IF(ISBLANK(Datenerfassung!X955),\"\",Datenerfassung!X955)","v":""},{"$f":"IF(COUNTBLANK(Datenerfassung!H955:'Datenerfassung'!N955)=7,\"\",CONCATENATE( CONCATENATE(IF(ISBLANK(Datenerfassung!H955),\" \",Datenerfassung!H955 ),\" [IS]\"), CONCATENATE(IF(ISBLANK(Datenerfassung!I955),\" \",Datenerfassung!I955 ),\" [IS]\"), CONCATENATE(IF(ISBLANK(Datenerfassung!J955),\" \",Datenerfassung!J955 ),\" [IS]\"), CONCATENATE(IF(ISBLANK(Datenerfassung!K955),\" \",Datenerfassung!K955 ),\" [IS]\"), CONCATENATE(IF(ISBLANK(Datenerfassung!L955),\" \",Datenerfassung!L955 ),\" [IS]\"), CONCATENATE(IF(ISBLANK(Datenerfassung!M955),\" \",Datenerfassung!M955 ),\" [IS]\"), IF(ISBLANK(Datenerfassung!N955),\" \",Datenerfassung!N955 ) ))","v":""},{"$f":"IF(ISBLANK(Datenerfassung!V955),\"\",Datenerfassung!V955)","v":""},{"$f":"IF(ISBLANK(Datenerfassung!Q955),\"\",Datenerfassung!Q955)","v":""}]
[{"$f":"IF(ISBLANK(Datenerfassung!A956),\"\",Datenerfassung!A956)","v":""},{"$f":"IF(ISBLANK(Datenerfassung!B956),\"\",Datenerfassung!B956)","v":""},{"$f":"IF(ISBLANK(Datenerfassung!C956),\"\",Datenerfassung!C956)","v":""},{"$f":"IF(ISBLANK(Datenerfassung!R956),\"\",Datenerfassung!R956)","v":""},{"$f":"IF(ISBLANK(Datenerfassung!S956),\"\",Datenerfassung!S956)","v":""},"",{"$f":"IF(ISBLANK(Datenerfassung!U956),\"\",Datenerfassung!U956)","v":""},{"$f":"IF(ISBLANK(Datenerfassung!O956),\"\",Datenerfassung!O956)","v":""},{"$f":"IF(ISBLANK(Datenerfassung!D956),IF(COUNTBLANK(A946:H946)+COUNTBLANK(J946:O946)=14,\"\",\"- ohne Titel -\"),Datenerfassung!D956)","v":""},{"$f":"IF(ISBLANK(Datenerfassung!G956),\"\",Datenerfassung!G956)","v":""},"",{"$f":"IF(ISBLANK(Datenerfassung!X956),\"\",Datenerfassung!X956)","v":""},{"$f":"IF(COUNTBLANK(Datenerfassung!H956:'Datenerfassung'!N956)=7,\"\",CONCATENATE( CONCATENATE(IF(ISBLANK(Datenerfassung!H956),\" \",Datenerfassung!H956 ),\" [IS]\"), CONCATENATE(IF(ISBLANK(Datenerfassung!I956),\" \",Datenerfassung!I956 ),\" [IS]\"), CONCATENATE(IF(ISBLANK(Datenerfassung!J956),\" \",Datenerfassung!J956 ),\" [IS]\"), CONCATENATE(IF(ISBLANK(Datenerfassung!K956),\" \",Datenerfassung!K956 ),\" [IS]\"), CONCATENATE(IF(ISBLANK(Datenerfassung!L956),\" \",Datenerfassung!L956 ),\" [IS]\"), CONCATENATE(IF(ISBLANK(Datenerfassung!M956),\" \",Datenerfassung!M956 ),\" [IS]\"), IF(ISBLANK(Datenerfassung!N956),\" \",Datenerfassung!N956 ) ))","v":""},{"$f":"IF(ISBLANK(Datenerfassung!V956),\"\",Datenerfassung!V956)","v":""},{"$f":"IF(ISBLANK(Datenerfassung!Q956),\"\",Datenerfassung!Q956)","v":""}]
[{"$f":"IF(ISBLANK(Datenerfassung!A957),\"\",Datenerfassung!A957)","v":""},{"$f":"IF(ISBLANK(Datenerfassung!B957),\"\",Datenerfassung!B957)","v":""},{"$f":"IF(ISBLANK(Datenerfassung!C957),\"\",Datenerfassung!C957)","v":""},{"$f":"IF(ISBLANK(Datenerfassung!R957),\"\",Datenerfassung!R957)","v":""},{"$f":"IF(ISBLANK(Datenerfassung!S957),\"\",Datenerfassung!S957)","v":""},"",{"$f":"IF(ISBLANK(Datenerfassung!U957),\"\",Datenerfassung!U957)","v":""},{"$f":"IF(ISBLANK(Datenerfassung!O957),\"\",Datenerfassung!O957)","v":""},{"$f":"IF(ISBLANK(Datenerfassung!D957),IF(COUNTBLANK(A947:H947)+COUNTBLANK(J947:O947)=14,\"\",\"- ohne Titel -\"),Datenerfassung!D957)","v":""},{"$f":"IF(ISBLANK(Datenerfassung!G957),\"\",Datenerfassung!G957)","v":""},"",{"$f":"IF(ISBLANK(Datenerfassung!X957),\"\",Datenerfassung!X957)","v":""},{"$f":"IF(COUNTBLANK(Datenerfassung!H957:'Datenerfassung'!N957)=7,\"\",CONCATENATE( CONCATENATE(IF(ISBLANK(Datenerfassung!H957),\" \",Datenerfassung!H957 ),\" [IS]\"), CONCATENATE(IF(ISBLANK(Datenerfassung!I957),\" \",Datenerfassung!I957 ),\" [IS]\"), CONCATENATE(IF(ISBLANK(Datenerfassung!J957),\" \",Datenerfassung!J957 ),\" [IS]\"), CONCATENATE(IF(ISBLANK(Datenerfassung!K957),\" \",Datenerfassung!K957 ),\" [IS]\"), CONCATENATE(IF(ISBLANK(Datenerfassung!L957),\" \",Datenerfassung!L957 ),\" [IS]\"), CONCATENATE(IF(ISBLANK(Datenerfassung!M957),\" \",Datenerfassung!M957 ),\" [IS]\"), IF(ISBLANK(Datenerfassung!N957),\" \",Datenerfassung!N957 ) ))","v":""},{"$f":"IF(ISBLANK(Datenerfassung!V957),\"\",Datenerfassung!V957)","v":""},{"$f":"IF(ISBLANK(Datenerfassung!Q957),\"\",Datenerfassung!Q957)","v":""}]
[{"$f":"IF(ISBLANK(Datenerfassung!A958),\"\",Datenerfassung!A958)","v":""},{"$f":"IF(ISBLANK(Datenerfassung!B958),\"\",Datenerfassung!B958)","v":""},{"$f":"IF(ISBLANK(Datenerfassung!C958),\"\",Datenerfassung!C958)","v":""},{"$f":"IF(ISBLANK(Datenerfassung!R958),\"\",Datenerfassung!R958)","v":""},{"$f":"IF(ISBLANK(Datenerfassung!S958),\"\",Datenerfassung!S958)","v":""},"",{"$f":"IF(ISBLANK(Datenerfassung!U958),\"\",Datenerfassung!U958)","v":""},{"$f":"IF(ISBLANK(Datenerfassung!O958),\"\",Datenerfassung!O958)","v":""},{"$f":"IF(ISBLANK(Datenerfassung!D958),IF(COUNTBLANK(A948:H948)+COUNTBLANK(J948:O948)=14,\"\",\"- ohne Titel -\"),Datenerfassung!D958)","v":""},{"$f":"IF(ISBLANK(Datenerfassung!G958),\"\",Datenerfassung!G958)","v":""},"",{"$f":"IF(ISBLANK(Datenerfassung!X958),\"\",Datenerfassung!X958)","v":""},{"$f":"IF(COUNTBLANK(Datenerfassung!H958:'Datenerfassung'!N958)=7,\"\",CONCATENATE( CONCATENATE(IF(ISBLANK(Datenerfassung!H958),\" \",Datenerfassung!H958 ),\" [IS]\"), CONCATENATE(IF(ISBLANK(Datenerfassung!I958),\" \",Datenerfassung!I958 ),\" [IS]\"), CONCATENATE(IF(ISBLANK(Datenerfassung!J958),\" \",Datenerfassung!J958 ),\" [IS]\"), CONCATENATE(IF(ISBLANK(Datenerfassung!K958),\" \",Datenerfassung!K958 ),\" [IS]\"), CONCATENATE(IF(ISBLANK(Datenerfassung!L958),\" \",Datenerfassung!L958 ),\" [IS]\"), CONCATENATE(IF(ISBLANK(Datenerfassung!M958),\" \",Datenerfassung!M958 ),\" [IS]\"), IF(ISBLANK(Datenerfassung!N958),\" \",Datenerfassung!N958 ) ))","v":""},{"$f":"IF(ISBLANK(Datenerfassung!V958),\"\",Datenerfassung!V958)","v":""},{"$f":"IF(ISBLANK(Datenerfassung!Q958),\"\",Datenerfassung!Q958)","v":""}]
[{"$f":"IF(ISBLANK(Datenerfassung!A959),\"\",Datenerfassung!A959)","v":""},{"$f":"IF(ISBLANK(Datenerfassung!B959),\"\",Datenerfassung!B959)","v":""},{"$f":"IF(ISBLANK(Datenerfassung!C959),\"\",Datenerfassung!C959)","v":""},{"$f":"IF(ISBLANK(Datenerfassung!R959),\"\",Datenerfassung!R959)","v":""},{"$f":"IF(ISBLANK(Datenerfassung!S959),\"\",Datenerfassung!S959)","v":""},"",{"$f":"IF(ISBLANK(Datenerfassung!U959),\"\",Datenerfassung!U959)","v":""},{"$f":"IF(ISBLANK(Datenerfassung!O959),\"\",Datenerfassung!O959)","v":""},{"$f":"IF(ISBLANK(Datenerfassung!D959),IF(COUNTBLANK(A949:H949)+COUNTBLANK(J949:O949)=14,\"\",\"- ohne Titel -\"),Datenerfassung!D959)","v":""},{"$f":"IF(ISBLANK(Datenerfassung!G959),\"\",Datenerfassung!G959)","v":""},"",{"$f":"IF(ISBLANK(Datenerfassung!X959),\"\",Datenerfassung!X959)","v":""},{"$f":"IF(COUNTBLANK(Datenerfassung!H959:'Datenerfassung'!N959)=7,\"\",CONCATENATE( CONCATENATE(IF(ISBLANK(Datenerfassung!H959),\" \",Datenerfassung!H959 ),\" [IS]\"), CONCATENATE(IF(ISBLANK(Datenerfassung!I959),\" \",Datenerfassung!I959 ),\" [IS]\"), CONCATENATE(IF(ISBLANK(Datenerfassung!J959),\" \",Datenerfassung!J959 ),\" [IS]\"), CONCATENATE(IF(ISBLANK(Datenerfassung!K959),\" \",Datenerfassung!K959 ),\" [IS]\"), CONCATENATE(IF(ISBLANK(Datenerfassung!L959),\" \",Datenerfassung!L959 ),\" [IS]\"), CONCATENATE(IF(ISBLANK(Datenerfassung!M959),\" \",Datenerfassung!M959 ),\" [IS]\"), IF(ISBLANK(Datenerfassung!N959),\" \",Datenerfassung!N959 ) ))","v":""},{"$f":"IF(ISBLANK(Datenerfassung!V959),\"\",Datenerfassung!V959)","v":""},{"$f":"IF(ISBLANK(Datenerfassung!Q959),\"\",Datenerfassung!Q959)","v":""}]
[{"$f":"IF(ISBLANK(Datenerfassung!A960),\"\",Datenerfassung!A960)","v":""},{"$f":"IF(ISBLANK(Datenerfassung!B960),\"\",Datenerfassung!B960)","v":""},{"$f":"IF(ISBLANK(Datenerfassung!C960),\"\",Datenerfassung!C960)","v":""},{"$f":"IF(ISBLANK(Datenerfassung!R960),\"\",Datenerfassung!R960)","v":""},{"$f":"IF(ISBLANK(Datenerfassung!S960),\"\",Datenerfassung!S960)","v":""},"",{"$f":"IF(ISBLANK(Datenerfassung!U960),\"\",Datenerfassung!U960)","v":""},{"$f":"IF(ISBLANK(Datenerfassung!O960),\"\",Datenerfassung!O960)","v":""},{"$f":"IF(ISBLANK(Datenerfassung!D960),IF(COUNTBLANK(A950:H950)+COUNTBLANK(J950:O950)=14,\"\",\"- ohne Titel -\"),Datenerfassung!D960)","v":""},{"$f":"IF(ISBLANK(Datenerfassung!G960),\"\",Datenerfassung!G960)","v":""},"",{"$f":"IF(ISBLANK(Datenerfassung!X960),\"\",Datenerfassung!X960)","v":""},{"$f":"IF(COUNTBLANK(Datenerfassung!H960:'Datenerfassung'!N960)=7,\"\",CONCATENATE( CONCATENATE(IF(ISBLANK(Datenerfassung!H960),\" \",Datenerfassung!H960 ),\" [IS]\"), CONCATENATE(IF(ISBLANK(Datenerfassung!I960),\" \",Datenerfassung!I960 ),\" [IS]\"), CONCATENATE(IF(ISBLANK(Datenerfassung!J960),\" \",Datenerfassung!J960 ),\" [IS]\"), CONCATENATE(IF(ISBLANK(Datenerfassung!K960),\" \",Datenerfassung!K960 ),\" [IS]\"), CONCATENATE(IF(ISBLANK(Datenerfassung!L960),\" \",Datenerfassung!L960 ),\" [IS]\"), CONCATENATE(IF(ISBLANK(Datenerfassung!M960),\" \",Datenerfassung!M960 ),\" [IS]\"), IF(ISBLANK(Datenerfassung!N960),\" \",Datenerfassung!N960 ) ))","v":""},{"$f":"IF(ISBLANK(Datenerfassung!V960),\"\",Datenerfassung!V960)","v":""},{"$f":"IF(ISBLANK(Datenerfassung!Q960),\"\",Datenerfassung!Q960)","v":""}]
[{"$f":"IF(ISBLANK(Datenerfassung!A961),\"\",Datenerfassung!A961)","v":""},{"$f":"IF(ISBLANK(Datenerfassung!B961),\"\",Datenerfassung!B961)","v":""},{"$f":"IF(ISBLANK(Datenerfassung!C961),\"\",Datenerfassung!C961)","v":""},{"$f":"IF(ISBLANK(Datenerfassung!R961),\"\",Datenerfassung!R961)","v":""},{"$f":"IF(ISBLANK(Datenerfassung!S961),\"\",Datenerfassung!S961)","v":""},"",{"$f":"IF(ISBLANK(Datenerfassung!U961),\"\",Datenerfassung!U961)","v":""},{"$f":"IF(ISBLANK(Datenerfassung!O961),\"\",Datenerfassung!O961)","v":""},{"$f":"IF(ISBLANK(Datenerfassung!D961),IF(COUNTBLANK(A951:H951)+COUNTBLANK(J951:O951)=14,\"\",\"- ohne Titel -\"),Datenerfassung!D961)","v":""},{"$f":"IF(ISBLANK(Datenerfassung!G961),\"\",Datenerfassung!G961)","v":""},"",{"$f":"IF(ISBLANK(Datenerfassung!X961),\"\",Datenerfassung!X961)","v":""},{"$f":"IF(COUNTBLANK(Datenerfassung!H961:'Datenerfassung'!N961)=7,\"\",CONCATENATE( CONCATENATE(IF(ISBLANK(Datenerfassung!H961),\" \",Datenerfassung!H961 ),\" [IS]\"), CONCATENATE(IF(ISBLANK(Datenerfassung!I961),\" \",Datenerfassung!I961 ),\" [IS]\"), CONCATENATE(IF(ISBLANK(Datenerfassung!J961),\" \",Datenerfassung!J961 ),\" [IS]\"), CONCATENATE(IF(ISBLANK(Datenerfassung!K961),\" \",Datenerfassung!K961 ),\" [IS]\"), CONCATENATE(IF(ISBLANK(Datenerfassung!L961),\" \",Datenerfassung!L961 ),\" [IS]\"), CONCATENATE(IF(ISBLANK(Datenerfassung!M961),\" \",Datenerfassung!M961 ),\" [IS]\"), IF(ISBLANK(Datenerfassung!N961),\" \",Datenerfassung!N961 ) ))","v":""},{"$f":"IF(ISBLANK(Datenerfassung!V961),\"\",Datenerfassung!V961)","v":""},{"$f":"IF(ISBLANK(Datenerfassung!Q961),\"\",Datenerfassung!Q961)","v":""}]
[{"$f":"IF(ISBLANK(Datenerfassung!A962),\"\",Datenerfassung!A962)","v":""},{"$f":"IF(ISBLANK(Datenerfassung!B962),\"\",Datenerfassung!B962)","v":""},{"$f":"IF(ISBLANK(Datenerfassung!C962),\"\",Datenerfassung!C962)","v":""},{"$f":"IF(ISBLANK(Datenerfassung!R962),\"\",Datenerfassung!R962)","v":""},{"$f":"IF(ISBLANK(Datenerfassung!S962),\"\",Datenerfassung!S962)","v":""},"",{"$f":"IF(ISBLANK(Datenerfassung!U962),\"\",Datenerfassung!U962)","v":""},{"$f":"IF(ISBLANK(Datenerfassung!O962),\"\",Datenerfassung!O962)","v":""},{"$f":"IF(ISBLANK(Datenerfassung!D962),IF(COUNTBLANK(A952:H952)+COUNTBLANK(J952:O952)=14,\"\",\"- ohne Titel -\"),Datenerfassung!D962)","v":""},{"$f":"IF(ISBLANK(Datenerfassung!G962),\"\",Datenerfassung!G962)","v":""},"",{"$f":"IF(ISBLANK(Datenerfassung!X962),\"\",Datenerfassung!X962)","v":""},{"$f":"IF(COUNTBLANK(Datenerfassung!H962:'Datenerfassung'!N962)=7,\"\",CONCATENATE( CONCATENATE(IF(ISBLANK(Datenerfassung!H962),\" \",Datenerfassung!H962 ),\" [IS]\"), CONCATENATE(IF(ISBLANK(Datenerfassung!I962),\" \",Datenerfassung!I962 ),\" [IS]\"), CONCATENATE(IF(ISBLANK(Datenerfassung!J962),\" \",Datenerfassung!J962 ),\" [IS]\"), CONCATENATE(IF(ISBLANK(Datenerfassung!K962),\" \",Datenerfassung!K962 ),\" [IS]\"), CONCATENATE(IF(ISBLANK(Datenerfassung!L962),\" \",Datenerfassung!L962 ),\" [IS]\"), CONCATENATE(IF(ISBLANK(Datenerfassung!M962),\" \",Datenerfassung!M962 ),\" [IS]\"), IF(ISBLANK(Datenerfassung!N962),\" \",Datenerfassung!N962 ) ))","v":""},{"$f":"IF(ISBLANK(Datenerfassung!V962),\"\",Datenerfassung!V962)","v":""},{"$f":"IF(ISBLANK(Datenerfassung!Q962),\"\",Datenerfassung!Q962)","v":""}]
[{"$f":"IF(ISBLANK(Datenerfassung!A963),\"\",Datenerfassung!A963)","v":""},{"$f":"IF(ISBLANK(Datenerfassung!B963),\"\",Datenerfassung!B963)","v":""},{"$f":"IF(ISBLANK(Datenerfassung!C963),\"\",Datenerfassung!C963)","v":""},{"$f":"IF(ISBLANK(Datenerfassung!R963),\"\",Datenerfassung!R963)","v":""},{"$f":"IF(ISBLANK(Datenerfassung!S963),\"\",Datenerfassung!S963)","v":""},"",{"$f":"IF(ISBLANK(Datenerfassung!U963),\"\",Datenerfassung!U963)","v":""},{"$f":"IF(ISBLANK(Datenerfassung!O963),\"\",Datenerfassung!O963)","v":""},{"$f":"IF(ISBLANK(Datenerfassung!D963),IF(COUNTBLANK(A953:H953)+COUNTBLANK(J953:O953)=14,\"\",\"- ohne Titel -\"),Datenerfassung!D963)","v":""},{"$f":"IF(ISBLANK(Datenerfassung!G963),\"\",Datenerfassung!G963)","v":""},"",{"$f":"IF(ISBLANK(Datenerfassung!X963),\"\",Datenerfassung!X963)","v":""},{"$f":"IF(COUNTBLANK(Datenerfassung!H963:'Datenerfassung'!N963)=7,\"\",CONCATENATE( CONCATENATE(IF(ISBLANK(Datenerfassung!H963),\" \",Datenerfassung!H963 ),\" [IS]\"), CONCATENATE(IF(ISBLANK(Datenerfassung!I963),\" \",Datenerfassung!I963 ),\" [IS]\"), CONCATENATE(IF(ISBLANK(Datenerfassung!J963),\" \",Datenerfassung!J963 ),\" [IS]\"), CONCATENATE(IF(ISBLANK(Datenerfassung!K963),\" \",Datenerfassung!K963 ),\" [IS]\"), CONCATENATE(IF(ISBLANK(Datenerfassung!L963),\" \",Datenerfassung!L963 ),\" [IS]\"), CONCATENATE(IF(ISBLANK(Datenerfassung!M963),\" \",Datenerfassung!M963 ),\" [IS]\"), IF(ISBLANK(Datenerfassung!N963),\" \",Datenerfassung!N963 ) ))","v":""},{"$f":"IF(ISBLANK(Datenerfassung!V963),\"\",Datenerfassung!V963)","v":""},{"$f":"IF(ISBLANK(Datenerfassung!Q963),\"\",Datenerfassung!Q963)","v":""}]
[{"$f":"IF(ISBLANK(Datenerfassung!A964),\"\",Datenerfassung!A964)","v":""},{"$f":"IF(ISBLANK(Datenerfassung!B964),\"\",Datenerfassung!B964)","v":""},{"$f":"IF(ISBLANK(Datenerfassung!C964),\"\",Datenerfassung!C964)","v":""},{"$f":"IF(ISBLANK(Datenerfassung!R964),\"\",Datenerfassung!R964)","v":""},{"$f":"IF(ISBLANK(Datenerfassung!S964),\"\",Datenerfassung!S964)","v":""},"",{"$f":"IF(ISBLANK(Datenerfassung!U964),\"\",Datenerfassung!U964)","v":""},{"$f":"IF(ISBLANK(Datenerfassung!O964),\"\",Datenerfassung!O964)","v":""},{"$f":"IF(ISBLANK(Datenerfassung!D964),IF(COUNTBLANK(A954:H954)+COUNTBLANK(J954:O954)=14,\"\",\"- ohne Titel -\"),Datenerfassung!D964)","v":""},{"$f":"IF(ISBLANK(Datenerfassung!G964),\"\",Datenerfassung!G964)","v":""},"",{"$f":"IF(ISBLANK(Datenerfassung!X964),\"\",Datenerfassung!X964)","v":""},{"$f":"IF(COUNTBLANK(Datenerfassung!H964:'Datenerfassung'!N964)=7,\"\",CONCATENATE( CONCATENATE(IF(ISBLANK(Datenerfassung!H964),\" \",Datenerfassung!H964 ),\" [IS]\"), CONCATENATE(IF(ISBLANK(Datenerfassung!I964),\" \",Datenerfassung!I964 ),\" [IS]\"), CONCATENATE(IF(ISBLANK(Datenerfassung!J964),\" \",Datenerfassung!J964 ),\" [IS]\"), CONCATENATE(IF(ISBLANK(Datenerfassung!K964),\" \",Datenerfassung!K964 ),\" [IS]\"), CONCATENATE(IF(ISBLANK(Datenerfassung!L964),\" \",Datenerfassung!L964 ),\" [IS]\"), CONCATENATE(IF(ISBLANK(Datenerfassung!M964),\" \",Datenerfassung!M964 ),\" [IS]\"), IF(ISBLANK(Datenerfassung!N964),\" \",Datenerfassung!N964 ) ))","v":""},{"$f":"IF(ISBLANK(Datenerfassung!V964),\"\",Datenerfassung!V964)","v":""},{"$f":"IF(ISBLANK(Datenerfassung!Q964),\"\",Datenerfassung!Q964)","v":""}]
[{"$f":"IF(ISBLANK(Datenerfassung!A965),\"\",Datenerfassung!A965)","v":""},{"$f":"IF(ISBLANK(Datenerfassung!B965),\"\",Datenerfassung!B965)","v":""},{"$f":"IF(ISBLANK(Datenerfassung!C965),\"\",Datenerfassung!C965)","v":""},{"$f":"IF(ISBLANK(Datenerfassung!R965),\"\",Datenerfassung!R965)","v":""},{"$f":"IF(ISBLANK(Datenerfassung!S965),\"\",Datenerfassung!S965)","v":""},"",{"$f":"IF(ISBLANK(Datenerfassung!U965),\"\",Datenerfassung!U965)","v":""},{"$f":"IF(ISBLANK(Datenerfassung!O965),\"\",Datenerfassung!O965)","v":""},{"$f":"IF(ISBLANK(Datenerfassung!D965),IF(COUNTBLANK(A955:H955)+COUNTBLANK(J955:O955)=14,\"\",\"- ohne Titel -\"),Datenerfassung!D965)","v":""},{"$f":"IF(ISBLANK(Datenerfassung!G965),\"\",Datenerfassung!G965)","v":""},"",{"$f":"IF(ISBLANK(Datenerfassung!X965),\"\",Datenerfassung!X965)","v":""},{"$f":"IF(COUNTBLANK(Datenerfassung!H965:'Datenerfassung'!N965)=7,\"\",CONCATENATE( CONCATENATE(IF(ISBLANK(Datenerfassung!H965),\" \",Datenerfassung!H965 ),\" [IS]\"), CONCATENATE(IF(ISBLANK(Datenerfassung!I965),\" \",Datenerfassung!I965 ),\" [IS]\"), CONCATENATE(IF(ISBLANK(Datenerfassung!J965),\" \",Datenerfassung!J965 ),\" [IS]\"), CONCATENATE(IF(ISBLANK(Datenerfassung!K965),\" \",Datenerfassung!K965 ),\" [IS]\"), CONCATENATE(IF(ISBLANK(Datenerfassung!L965),\" \",Datenerfassung!L965 ),\" [IS]\"), CONCATENATE(IF(ISBLANK(Datenerfassung!M965),\" \",Datenerfassung!M965 ),\" [IS]\"), IF(ISBLANK(Datenerfassung!N965),\" \",Datenerfassung!N965 ) ))","v":""},{"$f":"IF(ISBLANK(Datenerfassung!V965),\"\",Datenerfassung!V965)","v":""},{"$f":"IF(ISBLANK(Datenerfassung!Q965),\"\",Datenerfassung!Q965)","v":""}]
[{"$f":"IF(ISBLANK(Datenerfassung!A966),\"\",Datenerfassung!A966)","v":""},{"$f":"IF(ISBLANK(Datenerfassung!B966),\"\",Datenerfassung!B966)","v":""},{"$f":"IF(ISBLANK(Datenerfassung!C966),\"\",Datenerfassung!C966)","v":""},{"$f":"IF(ISBLANK(Datenerfassung!R966),\"\",Datenerfassung!R966)","v":""},{"$f":"IF(ISBLANK(Datenerfassung!S966),\"\",Datenerfassung!S966)","v":""},"",{"$f":"IF(ISBLANK(Datenerfassung!U966),\"\",Datenerfassung!U966)","v":""},{"$f":"IF(ISBLANK(Datenerfassung!O966),\"\",Datenerfassung!O966)","v":""},{"$f":"IF(ISBLANK(Datenerfassung!D966),IF(COUNTBLANK(A956:H956)+COUNTBLANK(J956:O956)=14,\"\",\"- ohne Titel -\"),Datenerfassung!D966)","v":""},{"$f":"IF(ISBLANK(Datenerfassung!G966),\"\",Datenerfassung!G966)","v":""},"",{"$f":"IF(ISBLANK(Datenerfassung!X966),\"\",Datenerfassung!X966)","v":""},{"$f":"IF(COUNTBLANK(Datenerfassung!H966:'Datenerfassung'!N966)=7,\"\",CONCATENATE( CONCATENATE(IF(ISBLANK(Datenerfassung!H966),\" \",Datenerfassung!H966 ),\" [IS]\"), CONCATENATE(IF(ISBLANK(Datenerfassung!I966),\" \",Datenerfassung!I966 ),\" [IS]\"), CONCATENATE(IF(ISBLANK(Datenerfassung!J966),\" \",Datenerfassung!J966 ),\" [IS]\"), CONCATENATE(IF(ISBLANK(Datenerfassung!K966),\" \",Datenerfassung!K966 ),\" [IS]\"), CONCATENATE(IF(ISBLANK(Datenerfassung!L966),\" \",Datenerfassung!L966 ),\" [IS]\"), CONCATENATE(IF(ISBLANK(Datenerfassung!M966),\" \",Datenerfassung!M966 ),\" [IS]\"), IF(ISBLANK(Datenerfassung!N966),\" \",Datenerfassung!N966 ) ))","v":""},{"$f":"IF(ISBLANK(Datenerfassung!V966),\"\",Datenerfassung!V966)","v":""},{"$f":"IF(ISBLANK(Datenerfassung!Q966),\"\",Datenerfassung!Q966)","v":""}]
[{"$f":"IF(ISBLANK(Datenerfassung!A967),\"\",Datenerfassung!A967)","v":""},{"$f":"IF(ISBLANK(Datenerfassung!B967),\"\",Datenerfassung!B967)","v":""},{"$f":"IF(ISBLANK(Datenerfassung!C967),\"\",Datenerfassung!C967)","v":""},{"$f":"IF(ISBLANK(Datenerfassung!R967),\"\",Datenerfassung!R967)","v":""},{"$f":"IF(ISBLANK(Datenerfassung!S967),\"\",Datenerfassung!S967)","v":""},"",{"$f":"IF(ISBLANK(Datenerfassung!U967),\"\",Datenerfassung!U967)","v":""},{"$f":"IF(ISBLANK(Datenerfassung!O967),\"\",Datenerfassung!O967)","v":""},{"$f":"IF(ISBLANK(Datenerfassung!D967),IF(COUNTBLANK(A957:H957)+COUNTBLANK(J957:O957)=14,\"\",\"- ohne Titel -\"),Datenerfassung!D967)","v":""},{"$f":"IF(ISBLANK(Datenerfassung!G967),\"\",Datenerfassung!G967)","v":""},"",{"$f":"IF(ISBLANK(Datenerfassung!X967),\"\",Datenerfassung!X967)","v":""},{"$f":"IF(COUNTBLANK(Datenerfassung!H967:'Datenerfassung'!N967)=7,\"\",CONCATENATE( CONCATENATE(IF(ISBLANK(Datenerfassung!H967),\" \",Datenerfassung!H967 ),\" [IS]\"), CONCATENATE(IF(ISBLANK(Datenerfassung!I967),\" \",Datenerfassung!I967 ),\" [IS]\"), CONCATENATE(IF(ISBLANK(Datenerfassung!J967),\" \",Datenerfassung!J967 ),\" [IS]\"), CONCATENATE(IF(ISBLANK(Datenerfassung!K967),\" \",Datenerfassung!K967 ),\" [IS]\"), CONCATENATE(IF(ISBLANK(Datenerfassung!L967),\" \",Datenerfassung!L967 ),\" [IS]\"), CONCATENATE(IF(ISBLANK(Datenerfassung!M967),\" \",Datenerfassung!M967 ),\" [IS]\"), IF(ISBLANK(Datenerfassung!N967),\" \",Datenerfassung!N967 ) ))","v":""},{"$f":"IF(ISBLANK(Datenerfassung!V967),\"\",Datenerfassung!V967)","v":""},{"$f":"IF(ISBLANK(Datenerfassung!Q967),\"\",Datenerfassung!Q967)","v":""}]
[{"$f":"IF(ISBLANK(Datenerfassung!A968),\"\",Datenerfassung!A968)","v":""},{"$f":"IF(ISBLANK(Datenerfassung!B968),\"\",Datenerfassung!B968)","v":""},{"$f":"IF(ISBLANK(Datenerfassung!C968),\"\",Datenerfassung!C968)","v":""},{"$f":"IF(ISBLANK(Datenerfassung!R968),\"\",Datenerfassung!R968)","v":""},{"$f":"IF(ISBLANK(Datenerfassung!S968),\"\",Datenerfassung!S968)","v":""},"",{"$f":"IF(ISBLANK(Datenerfassung!U968),\"\",Datenerfassung!U968)","v":""},{"$f":"IF(ISBLANK(Datenerfassung!O968),\"\",Datenerfassung!O968)","v":""},{"$f":"IF(ISBLANK(Datenerfassung!D968),IF(COUNTBLANK(A958:H958)+COUNTBLANK(J958:O958)=14,\"\",\"- ohne Titel -\"),Datenerfassung!D968)","v":""},{"$f":"IF(ISBLANK(Datenerfassung!G968),\"\",Datenerfassung!G968)","v":""},"",{"$f":"IF(ISBLANK(Datenerfassung!X968),\"\",Datenerfassung!X968)","v":""},{"$f":"IF(COUNTBLANK(Datenerfassung!H968:'Datenerfassung'!N968)=7,\"\",CONCATENATE( CONCATENATE(IF(ISBLANK(Datenerfassung!H968),\" \",Datenerfassung!H968 ),\" [IS]\"), CONCATENATE(IF(ISBLANK(Datenerfassung!I968),\" \",Datenerfassung!I968 ),\" [IS]\"), CONCATENATE(IF(ISBLANK(Datenerfassung!J968),\" \",Datenerfassung!J968 ),\" [IS]\"), CONCATENATE(IF(ISBLANK(Datenerfassung!K968),\" \",Datenerfassung!K968 ),\" [IS]\"), CONCATENATE(IF(ISBLANK(Datenerfassung!L968),\" \",Datenerfassung!L968 ),\" [IS]\"), CONCATENATE(IF(ISBLANK(Datenerfassung!M968),\" \",Datenerfassung!M968 ),\" [IS]\"), IF(ISBLANK(Datenerfassung!N968),\" \",Datenerfassung!N968 ) ))","v":""},{"$f":"IF(ISBLANK(Datenerfassung!V968),\"\",Datenerfassung!V968)","v":""},{"$f":"IF(ISBLANK(Datenerfassung!Q968),\"\",Datenerfassung!Q968)","v":""}]
[{"$f":"IF(ISBLANK(Datenerfassung!A969),\"\",Datenerfassung!A969)","v":""},{"$f":"IF(ISBLANK(Datenerfassung!B969),\"\",Datenerfassung!B969)","v":""},{"$f":"IF(ISBLANK(Datenerfassung!C969),\"\",Datenerfassung!C969)","v":""},{"$f":"IF(ISBLANK(Datenerfassung!R969),\"\",Datenerfassung!R969)","v":""},{"$f":"IF(ISBLANK(Datenerfassung!S969),\"\",Datenerfassung!S969)","v":""},"",{"$f":"IF(ISBLANK(Datenerfassung!U969),\"\",Datenerfassung!U969)","v":""},{"$f":"IF(ISBLANK(Datenerfassung!O969),\"\",Datenerfassung!O969)","v":""},{"$f":"IF(ISBLANK(Datenerfassung!D969),IF(COUNTBLANK(A959:H959)+COUNTBLANK(J959:O959)=14,\"\",\"- ohne Titel -\"),Datenerfassung!D969)","v":""},{"$f":"IF(ISBLANK(Datenerfassung!G969),\"\",Datenerfassung!G969)","v":""},"",{"$f":"IF(ISBLANK(Datenerfassung!X969),\"\",Datenerfassung!X969)","v":""},{"$f":"IF(COUNTBLANK(Datenerfassung!H969:'Datenerfassung'!N969)=7,\"\",CONCATENATE( CONCATENATE(IF(ISBLANK(Datenerfassung!H969),\" \",Datenerfassung!H969 ),\" [IS]\"), CONCATENATE(IF(ISBLANK(Datenerfassung!I969),\" \",Datenerfassung!I969 ),\" [IS]\"), CONCATENATE(IF(ISBLANK(Datenerfassung!J969),\" \",Datenerfassung!J969 ),\" [IS]\"), CONCATENATE(IF(ISBLANK(Datenerfassung!K969),\" \",Datenerfassung!K969 ),\" [IS]\"), CONCATENATE(IF(ISBLANK(Datenerfassung!L969),\" \",Datenerfassung!L969 ),\" [IS]\"), CONCATENATE(IF(ISBLANK(Datenerfassung!M969),\" \",Datenerfassung!M969 ),\" [IS]\"), IF(ISBLANK(Datenerfassung!N969),\" \",Datenerfassung!N969 ) ))","v":""},{"$f":"IF(ISBLANK(Datenerfassung!V969),\"\",Datenerfassung!V969)","v":""},{"$f":"IF(ISBLANK(Datenerfassung!Q969),\"\",Datenerfassung!Q969)","v":""}]
[{"$f":"IF(ISBLANK(Datenerfassung!A970),\"\",Datenerfassung!A970)","v":""},{"$f":"IF(ISBLANK(Datenerfassung!B970),\"\",Datenerfassung!B970)","v":""},{"$f":"IF(ISBLANK(Datenerfassung!C970),\"\",Datenerfassung!C970)","v":""},{"$f":"IF(ISBLANK(Datenerfassung!R970),\"\",Datenerfassung!R970)","v":""},{"$f":"IF(ISBLANK(Datenerfassung!S970),\"\",Datenerfassung!S970)","v":""},"",{"$f":"IF(ISBLANK(Datenerfassung!U970),\"\",Datenerfassung!U970)","v":""},{"$f":"IF(ISBLANK(Datenerfassung!O970),\"\",Datenerfassung!O970)","v":""},{"$f":"IF(ISBLANK(Datenerfassung!D970),IF(COUNTBLANK(A960:H960)+COUNTBLANK(J960:O960)=14,\"\",\"- ohne Titel -\"),Datenerfassung!D970)","v":""},{"$f":"IF(ISBLANK(Datenerfassung!G970),\"\",Datenerfassung!G970)","v":""},"",{"$f":"IF(ISBLANK(Datenerfassung!X970),\"\",Datenerfassung!X970)","v":""},{"$f":"IF(COUNTBLANK(Datenerfassung!H970:'Datenerfassung'!N970)=7,\"\",CONCATENATE( CONCATENATE(IF(ISBLANK(Datenerfassung!H970),\" \",Datenerfassung!H970 ),\" [IS]\"), CONCATENATE(IF(ISBLANK(Datenerfassung!I970),\" \",Datenerfassung!I970 ),\" [IS]\"), CONCATENATE(IF(ISBLANK(Datenerfassung!J970),\" \",Datenerfassung!J970 ),\" [IS]\"), CONCATENATE(IF(ISBLANK(Datenerfassung!K970),\" \",Datenerfassung!K970 ),\" [IS]\"), CONCATENATE(IF(ISBLANK(Datenerfassung!L970),\" \",Datenerfassung!L970 ),\" [IS]\"), CONCATENATE(IF(ISBLANK(Datenerfassung!M970),\" \",Datenerfassung!M970 ),\" [IS]\"), IF(ISBLANK(Datenerfassung!N970),\" \",Datenerfassung!N970 ) ))","v":""},{"$f":"IF(ISBLANK(Datenerfassung!V970),\"\",Datenerfassung!V970)","v":""},{"$f":"IF(ISBLANK(Datenerfassung!Q970),\"\",Datenerfassung!Q970)","v":""}]
[{"$f":"IF(ISBLANK(Datenerfassung!A971),\"\",Datenerfassung!A971)","v":""},{"$f":"IF(ISBLANK(Datenerfassung!B971),\"\",Datenerfassung!B971)","v":""},{"$f":"IF(ISBLANK(Datenerfassung!C971),\"\",Datenerfassung!C971)","v":""},{"$f":"IF(ISBLANK(Datenerfassung!R971),\"\",Datenerfassung!R971)","v":""},{"$f":"IF(ISBLANK(Datenerfassung!S971),\"\",Datenerfassung!S971)","v":""},"",{"$f":"IF(ISBLANK(Datenerfassung!U971),\"\",Datenerfassung!U971)","v":""},{"$f":"IF(ISBLANK(Datenerfassung!O971),\"\",Datenerfassung!O971)","v":""},{"$f":"IF(ISBLANK(Datenerfassung!D971),IF(COUNTBLANK(A961:H961)+COUNTBLANK(J961:O961)=14,\"\",\"- ohne Titel -\"),Datenerfassung!D971)","v":""},{"$f":"IF(ISBLANK(Datenerfassung!G971),\"\",Datenerfassung!G971)","v":""},"",{"$f":"IF(ISBLANK(Datenerfassung!X971),\"\",Datenerfassung!X971)","v":""},{"$f":"IF(COUNTBLANK(Datenerfassung!H971:'Datenerfassung'!N971)=7,\"\",CONCATENATE( CONCATENATE(IF(ISBLANK(Datenerfassung!H971),\" \",Datenerfassung!H971 ),\" [IS]\"), CONCATENATE(IF(ISBLANK(Datenerfassung!I971),\" \",Datenerfassung!I971 ),\" [IS]\"), CONCATENATE(IF(ISBLANK(Datenerfassung!J971),\" \",Datenerfassung!J971 ),\" [IS]\"), CONCATENATE(IF(ISBLANK(Datenerfassung!K971),\" \",Datenerfassung!K971 ),\" [IS]\"), CONCATENATE(IF(ISBLANK(Datenerfassung!L971),\" \",Datenerfassung!L971 ),\" [IS]\"), CONCATENATE(IF(ISBLANK(Datenerfassung!M971),\" \",Datenerfassung!M971 ),\" [IS]\"), IF(ISBLANK(Datenerfassung!N971),\" \",Datenerfassung!N971 ) ))","v":""},{"$f":"IF(ISBLANK(Datenerfassung!V971),\"\",Datenerfassung!V971)","v":""},{"$f":"IF(ISBLANK(Datenerfassung!Q971),\"\",Datenerfassung!Q971)","v":""}]
[{"$f":"IF(ISBLANK(Datenerfassung!A972),\"\",Datenerfassung!A972)","v":""},{"$f":"IF(ISBLANK(Datenerfassung!B972),\"\",Datenerfassung!B972)","v":""},{"$f":"IF(ISBLANK(Datenerfassung!C972),\"\",Datenerfassung!C972)","v":""},{"$f":"IF(ISBLANK(Datenerfassung!R972),\"\",Datenerfassung!R972)","v":""},{"$f":"IF(ISBLANK(Datenerfassung!S972),\"\",Datenerfassung!S972)","v":""},"",{"$f":"IF(ISBLANK(Datenerfassung!U972),\"\",Datenerfassung!U972)","v":""},{"$f":"IF(ISBLANK(Datenerfassung!O972),\"\",Datenerfassung!O972)","v":""},{"$f":"IF(ISBLANK(Datenerfassung!D972),IF(COUNTBLANK(A962:H962)+COUNTBLANK(J962:O962)=14,\"\",\"- ohne Titel -\"),Datenerfassung!D972)","v":""},{"$f":"IF(ISBLANK(Datenerfassung!G972),\"\",Datenerfassung!G972)","v":""},"",{"$f":"IF(ISBLANK(Datenerfassung!X972),\"\",Datenerfassung!X972)","v":""},{"$f":"IF(COUNTBLANK(Datenerfassung!H972:'Datenerfassung'!N972)=7,\"\",CONCATENATE( CONCATENATE(IF(ISBLANK(Datenerfassung!H972),\" \",Datenerfassung!H972 ),\" [IS]\"), CONCATENATE(IF(ISBLANK(Datenerfassung!I972),\" \",Datenerfassung!I972 ),\" [IS]\"), CONCATENATE(IF(ISBLANK(Datenerfassung!J972),\" \",Datenerfassung!J972 ),\" [IS]\"), CONCATENATE(IF(ISBLANK(Datenerfassung!K972),\" \",Datenerfassung!K972 ),\" [IS]\"), CONCATENATE(IF(ISBLANK(Datenerfassung!L972),\" \",Datenerfassung!L972 ),\" [IS]\"), CONCATENATE(IF(ISBLANK(Datenerfassung!M972),\" \",Datenerfassung!M972 ),\" [IS]\"), IF(ISBLANK(Datenerfassung!N972),\" \",Datenerfassung!N972 ) ))","v":""},{"$f":"IF(ISBLANK(Datenerfassung!V972),\"\",Datenerfassung!V972)","v":""},{"$f":"IF(ISBLANK(Datenerfassung!Q972),\"\",Datenerfassung!Q972)","v":""}]
[{"$f":"IF(ISBLANK(Datenerfassung!A973),\"\",Datenerfassung!A973)","v":""},{"$f":"IF(ISBLANK(Datenerfassung!B973),\"\",Datenerfassung!B973)","v":""},{"$f":"IF(ISBLANK(Datenerfassung!C973),\"\",Datenerfassung!C973)","v":""},{"$f":"IF(ISBLANK(Datenerfassung!R973),\"\",Datenerfassung!R973)","v":""},{"$f":"IF(ISBLANK(Datenerfassung!S973),\"\",Datenerfassung!S973)","v":""},{"$f":"IF(D963=\"\",\"\",IF(E963=\"\",D963,D963&\" - \"&E963))","v":""},{"$f":"IF(ISBLANK(Datenerfassung!U973),\"\",Datenerfassung!U973)","v":""},{"$f":"IF(ISBLANK(Datenerfassung!O973),\"\",Datenerfassung!O973)","v":""},{"$f":"IF(ISBLANK(Datenerfassung!D973),IF(COUNTBLANK(A963:H963)+COUNTBLANK(J963:O963)=14,\"\",\"- ohne Titel -\"),Datenerfassung!D973)","v":""},{"$f":"IF(ISBLANK(Datenerfassung!G973),\"\",Datenerfassung!G973)","v":""},{"$f":"IF(OR(E963=\"\",G963=\"\"),\"\",\"01.01.\"&RIGHT(E963,4)+G963+1)","v":""},{"$f":"IF(ISBLANK(Datenerfassung!X973),\"\",Datenerfassung!X973)","v":""},{"$f":"IF(COUNTBLANK(Datenerfassung!H973:'Datenerfassung'!N973)=7,\"\",CONCATENATE( CONCATENATE(IF(ISBLANK(Datenerfassung!H973),\" \",Datenerfassung!H973 ),\" [IS]\"), CONCATENATE(IF(ISBLANK(Datenerfassung!I973),\" \",Datenerfassung!I973 ),\" [IS]\"), CONCATENATE(IF(ISBLANK(Datenerfassung!J973),\" \",Datenerfassung!J973 ),\" [IS]\"), CONCATENATE(IF(ISBLANK(Datenerfassung!K973),\" \",Datenerfassung!K973 ),\" [IS]\"), CONCATENATE(IF(ISBLANK(Datenerfassung!L973),\" \",Datenerfassung!L973 ),\" [IS]\"), CONCATENATE(IF(ISBLANK(Datenerfassung!M973),\" \",Datenerfassung!M973 ),\" [IS]\"), IF(ISBLANK(Datenerfassung!N973),\" \",Datenerfassung!N973 ) ))","v":""},{"$f":"IF(ISBLANK(Datenerfassung!V973),\"\",Datenerfassung!V973)","v":""},{"$f":"IF(ISBLANK(Datenerfassung!Q973),\"\",Datenerfassung!Q973)","v":""}]
[{"$f":"IF(ISBLANK(Datenerfassung!A974),\"\",Datenerfassung!A974)","v":""},{"$f":"IF(ISBLANK(Datenerfassung!B974),\"\",Datenerfassung!B974)","v":""},{"$f":"IF(ISBLANK(Datenerfassung!C974),\"\",Datenerfassung!C974)","v":""},{"$f":"IF(ISBLANK(Datenerfassung!R974),\"\",Datenerfassung!R974)","v":""},{"$f":"IF(ISBLANK(Datenerfassung!S974),\"\",Datenerfassung!S974)","v":""},"",{"$f":"IF(ISBLANK(Datenerfassung!U974),\"\",Datenerfassung!U974)","v":""},{"$f":"IF(ISBLANK(Datenerfassung!O974),\"\",Datenerfassung!O974)","v":""},{"$f":"IF(ISBLANK(Datenerfassung!D974),IF(COUNTBLANK(A964:H964)+COUNTBLANK(J964:O964)=14,\"\",\"- ohne Titel -\"),Datenerfassung!D974)","v":""},{"$f":"IF(ISBLANK(Datenerfassung!G974),\"\",Datenerfassung!G974)","v":""},"",{"$f":"IF(ISBLANK(Datenerfassung!X974),\"\",Datenerfassung!X974)","v":""},{"$f":"IF(COUNTBLANK(Datenerfassung!H974:'Datenerfassung'!N974)=7,\"\",CONCATENATE( CONCATENATE(IF(ISBLANK(Datenerfassung!H974),\" \",Datenerfassung!H974 ),\" [IS]\"), CONCATENATE(IF(ISBLANK(Datenerfassung!I974),\" \",Datenerfassung!I974 ),\" [IS]\"), CONCATENATE(IF(ISBLANK(Datenerfassung!J974),\" \",Datenerfassung!J974 ),\" [IS]\"), CONCATENATE(IF(ISBLANK(Datenerfassung!K974),\" \",Datenerfassung!K974 ),\" [IS]\"), CONCATENATE(IF(ISBLANK(Datenerfassung!L974),\" \",Datenerfassung!L974 ),\" [IS]\"), CONCATENATE(IF(ISBLANK(Datenerfassung!M974),\" \",Datenerfassung!M974 ),\" [IS]\"), IF(ISBLANK(Datenerfassung!N974),\" \",Datenerfassung!N974 ) ))","v":""},{"$f":"IF(ISBLANK(Datenerfassung!V974),\"\",Datenerfassung!V974)","v":""},{"$f":"IF(ISBLANK(Datenerfassung!Q974),\"\",Datenerfassung!Q974)","v":""}]
[{"$f":"IF(ISBLANK(Datenerfassung!A975),\"\",Datenerfassung!A975)","v":""},{"$f":"IF(ISBLANK(Datenerfassung!B975),\"\",Datenerfassung!B975)","v":""},{"$f":"IF(ISBLANK(Datenerfassung!C975),\"\",Datenerfassung!C975)","v":""},{"$f":"IF(ISBLANK(Datenerfassung!R975),\"\",Datenerfassung!R975)","v":""},{"$f":"IF(ISBLANK(Datenerfassung!S975),\"\",Datenerfassung!S975)","v":""},"",{"$f":"IF(ISBLANK(Datenerfassung!U975),\"\",Datenerfassung!U975)","v":""},{"$f":"IF(ISBLANK(Datenerfassung!O975),\"\",Datenerfassung!O975)","v":""},{"$f":"IF(ISBLANK(Datenerfassung!D975),IF(COUNTBLANK(A965:H965)+COUNTBLANK(J965:O965)=14,\"\",\"- ohne Titel -\"),Datenerfassung!D975)","v":""},{"$f":"IF(ISBLANK(Datenerfassung!G975),\"\",Datenerfassung!G975)","v":""},"",{"$f":"IF(ISBLANK(Datenerfassung!X975),\"\",Datenerfassung!X975)","v":""},{"$f":"IF(COUNTBLANK(Datenerfassung!H975:'Datenerfassung'!N975)=7,\"\",CONCATENATE( CONCATENATE(IF(ISBLANK(Datenerfassung!H975),\" \",Datenerfassung!H975 ),\" [IS]\"), CONCATENATE(IF(ISBLANK(Datenerfassung!I975),\" \",Datenerfassung!I975 ),\" [IS]\"), CONCATENATE(IF(ISBLANK(Datenerfassung!J975),\" \",Datenerfassung!J975 ),\" [IS]\"), CONCATENATE(IF(ISBLANK(Datenerfassung!K975),\" \",Datenerfassung!K975 ),\" [IS]\"), CONCATENATE(IF(ISBLANK(Datenerfassung!L975),\" \",Datenerfassung!L975 ),\" [IS]\"), CONCATENATE(IF(ISBLANK(Datenerfassung!M975),\" \",Datenerfassung!M975 ),\" [IS]\"), IF(ISBLANK(Datenerfassung!N975),\" \",Datenerfassung!N975 ) ))","v":""},{"$f":"IF(ISBLANK(Datenerfassung!V975),\"\",Datenerfassung!V975)","v":""},{"$f":"IF(ISBLANK(Datenerfassung!Q975),\"\",Datenerfassung!Q975)","v":""}]
[{"$f":"IF(ISBLANK(Datenerfassung!A976),\"\",Datenerfassung!A976)","v":""},{"$f":"IF(ISBLANK(Datenerfassung!B976),\"\",Datenerfassung!B976)","v":""},{"$f":"IF(ISBLANK(Datenerfassung!C976),\"\",Datenerfassung!C976)","v":""},{"$f":"IF(ISBLANK(Datenerfassung!R976),\"\",Datenerfassung!R976)","v":""},{"$f":"IF(ISBLANK(Datenerfassung!S976),\"\",Datenerfassung!S976)","v":""},"",{"$f":"IF(ISBLANK(Datenerfassung!U976),\"\",Datenerfassung!U976)","v":""},{"$f":"IF(ISBLANK(Datenerfassung!O976),\"\",Datenerfassung!O976)","v":""},{"$f":"IF(ISBLANK(Datenerfassung!D976),IF(COUNTBLANK(A966:H966)+COUNTBLANK(J966:O966)=14,\"\",\"- ohne Titel -\"),Datenerfassung!D976)","v":""},{"$f":"IF(ISBLANK(Datenerfassung!G976),\"\",Datenerfassung!G976)","v":""},"",{"$f":"IF(ISBLANK(Datenerfassung!X976),\"\",Datenerfassung!X976)","v":""},{"$f":"IF(COUNTBLANK(Datenerfassung!H976:'Datenerfassung'!N976)=7,\"\",CONCATENATE( CONCATENATE(IF(ISBLANK(Datenerfassung!H976),\" \",Datenerfassung!H976 ),\" [IS]\"), CONCATENATE(IF(ISBLANK(Datenerfassung!I976),\" \",Datenerfassung!I976 ),\" [IS]\"), CONCATENATE(IF(ISBLANK(Datenerfassung!J976),\" \",Datenerfassung!J976 ),\" [IS]\"), CONCATENATE(IF(ISBLANK(Datenerfassung!K976),\" \",Datenerfassung!K976 ),\" [IS]\"), CONCATENATE(IF(ISBLANK(Datenerfassung!L976),\" \",Datenerfassung!L976 ),\" [IS]\"), CONCATENATE(IF(ISBLANK(Datenerfassung!M976),\" \",Datenerfassung!M976 ),\" [IS]\"), IF(ISBLANK(Datenerfassung!N976),\" \",Datenerfassung!N976 ) ))","v":""},{"$f":"IF(ISBLANK(Datenerfassung!V976),\"\",Datenerfassung!V976)","v":""},{"$f":"IF(ISBLANK(Datenerfassung!Q976),\"\",Datenerfassung!Q976)","v":""}]
[{"$f":"IF(ISBLANK(Datenerfassung!A977),\"\",Datenerfassung!A977)","v":""},{"$f":"IF(ISBLANK(Datenerfassung!B977),\"\",Datenerfassung!B977)","v":""},{"$f":"IF(ISBLANK(Datenerfassung!C977),\"\",Datenerfassung!C977)","v":""},{"$f":"IF(ISBLANK(Datenerfassung!R977),\"\",Datenerfassung!R977)","v":""},{"$f":"IF(ISBLANK(Datenerfassung!S977),\"\",Datenerfassung!S977)","v":""},"",{"$f":"IF(ISBLANK(Datenerfassung!U977),\"\",Datenerfassung!U977)","v":""},{"$f":"IF(ISBLANK(Datenerfassung!O977),\"\",Datenerfassung!O977)","v":""},{"$f":"IF(ISBLANK(Datenerfassung!D977),IF(COUNTBLANK(A967:H967)+COUNTBLANK(J967:O967)=14,\"\",\"- ohne Titel -\"),Datenerfassung!D977)","v":""},{"$f":"IF(ISBLANK(Datenerfassung!G977),\"\",Datenerfassung!G977)","v":""},"",{"$f":"IF(ISBLANK(Datenerfassung!X977),\"\",Datenerfassung!X977)","v":""},{"$f":"IF(COUNTBLANK(Datenerfassung!H977:'Datenerfassung'!N977)=7,\"\",CONCATENATE( CONCATENATE(IF(ISBLANK(Datenerfassung!H977),\" \",Datenerfassung!H977 ),\" [IS]\"), CONCATENATE(IF(ISBLANK(Datenerfassung!I977),\" \",Datenerfassung!I977 ),\" [IS]\"), CONCATENATE(IF(ISBLANK(Datenerfassung!J977),\" \",Datenerfassung!J977 ),\" [IS]\"), CONCATENATE(IF(ISBLANK(Datenerfassung!K977),\" \",Datenerfassung!K977 ),\" [IS]\"), CONCATENATE(IF(ISBLANK(Datenerfassung!L977),\" \",Datenerfassung!L977 ),\" [IS]\"), CONCATENATE(IF(ISBLANK(Datenerfassung!M977),\" \",Datenerfassung!M977 ),\" [IS]\"), IF(ISBLANK(Datenerfassung!N977),\" \",Datenerfassung!N977 ) ))","v":""},{"$f":"IF(ISBLANK(Datenerfassung!V977),\"\",Datenerfassung!V977)","v":""},{"$f":"IF(ISBLANK(Datenerfassung!Q977),\"\",Datenerfassung!Q977)","v":""}]
[{"$f":"IF(ISBLANK(Datenerfassung!A978),\"\",Datenerfassung!A978)","v":""},{"$f":"IF(ISBLANK(Datenerfassung!B978),\"\",Datenerfassung!B978)","v":""},{"$f":"IF(ISBLANK(Datenerfassung!C978),\"\",Datenerfassung!C978)","v":""},{"$f":"IF(ISBLANK(Datenerfassung!R978),\"\",Datenerfassung!R978)","v":""},{"$f":"IF(ISBLANK(Datenerfassung!S978),\"\",Datenerfassung!S978)","v":""},"",{"$f":"IF(ISBLANK(Datenerfassung!U978),\"\",Datenerfassung!U978)","v":""},{"$f":"IF(ISBLANK(Datenerfassung!O978),\"\",Datenerfassung!O978)","v":""},{"$f":"IF(ISBLANK(Datenerfassung!D978),IF(COUNTBLANK(A968:H968)+COUNTBLANK(J968:O968)=14,\"\",\"- ohne Titel -\"),Datenerfassung!D978)","v":""},{"$f":"IF(ISBLANK(Datenerfassung!G978),\"\",Datenerfassung!G978)","v":""},"",{"$f":"IF(ISBLANK(Datenerfassung!X978),\"\",Datenerfassung!X978)","v":""},{"$f":"IF(COUNTBLANK(Datenerfassung!H978:'Datenerfassung'!N978)=7,\"\",CONCATENATE( CONCATENATE(IF(ISBLANK(Datenerfassung!H978),\" \",Datenerfassung!H978 ),\" [IS]\"), CONCATENATE(IF(ISBLANK(Datenerfassung!I978),\" \",Datenerfassung!I978 ),\" [IS]\"), CONCATENATE(IF(ISBLANK(Datenerfassung!J978),\" \",Datenerfassung!J978 ),\" [IS]\"), CONCATENATE(IF(ISBLANK(Datenerfassung!K978),\" \",Datenerfassung!K978 ),\" [IS]\"), CONCATENATE(IF(ISBLANK(Datenerfassung!L978),\" \",Datenerfassung!L978 ),\" [IS]\"), CONCATENATE(IF(ISBLANK(Datenerfassung!M978),\" \",Datenerfassung!M978 ),\" [IS]\"), IF(ISBLANK(Datenerfassung!N978),\" \",Datenerfassung!N978 ) ))","v":""},{"$f":"IF(ISBLANK(Datenerfassung!V978),\"\",Datenerfassung!V978)","v":""},{"$f":"IF(ISBLANK(Datenerfassung!Q978),\"\",Datenerfassung!Q978)","v":""}]
[{"$f":"IF(ISBLANK(Datenerfassung!A979),\"\",Datenerfassung!A979)","v":""},{"$f":"IF(ISBLANK(Datenerfassung!B979),\"\",Datenerfassung!B979)","v":""},{"$f":"IF(ISBLANK(Datenerfassung!C979),\"\",Datenerfassung!C979)","v":""},{"$f":"IF(ISBLANK(Datenerfassung!R979),\"\",Datenerfassung!R979)","v":""},{"$f":"IF(ISBLANK(Datenerfassung!S979),\"\",Datenerfassung!S979)","v":""},"",{"$f":"IF(ISBLANK(Datenerfassung!U979),\"\",Datenerfassung!U979)","v":""},{"$f":"IF(ISBLANK(Datenerfassung!O979),\"\",Datenerfassung!O979)","v":""},{"$f":"IF(ISBLANK(Datenerfassung!D979),IF(COUNTBLANK(A969:H969)+COUNTBLANK(J969:O969)=14,\"\",\"- ohne Titel -\"),Datenerfassung!D979)","v":""},{"$f":"IF(ISBLANK(Datenerfassung!G979),\"\",Datenerfassung!G979)","v":""},"",{"$f":"IF(ISBLANK(Datenerfassung!X979),\"\",Datenerfassung!X979)","v":""},{"$f":"IF(COUNTBLANK(Datenerfassung!H979:'Datenerfassung'!N979)=7,\"\",CONCATENATE( CONCATENATE(IF(ISBLANK(Datenerfassung!H979),\" \",Datenerfassung!H979 ),\" [IS]\"), CONCATENATE(IF(ISBLANK(Datenerfassung!I979),\" \",Datenerfassung!I979 ),\" [IS]\"), CONCATENATE(IF(ISBLANK(Datenerfassung!J979),\" \",Datenerfassung!J979 ),\" [IS]\"), CONCATENATE(IF(ISBLANK(Datenerfassung!K979),\" \",Datenerfassung!K979 ),\" [IS]\"), CONCATENATE(IF(ISBLANK(Datenerfassung!L979),\" \",Datenerfassung!L979 ),\" [IS]\"), CONCATENATE(IF(ISBLANK(Datenerfassung!M979),\" \",Datenerfassung!M979 ),\" [IS]\"), IF(ISBLANK(Datenerfassung!N979),\" \",Datenerfassung!N979 ) ))","v":""},{"$f":"IF(ISBLANK(Datenerfassung!V979),\"\",Datenerfassung!V979)","v":""},{"$f":"IF(ISBLANK(Datenerfassung!Q979),\"\",Datenerfassung!Q979)","v":""}]
[{"$f":"IF(ISBLANK(Datenerfassung!A980),\"\",Datenerfassung!A980)","v":""},{"$f":"IF(ISBLANK(Datenerfassung!B980),\"\",Datenerfassung!B980)","v":""},{"$f":"IF(ISBLANK(Datenerfassung!C980),\"\",Datenerfassung!C980)","v":""},{"$f":"IF(ISBLANK(Datenerfassung!R980),\"\",Datenerfassung!R980)","v":""},{"$f":"IF(ISBLANK(Datenerfassung!S980),\"\",Datenerfassung!S980)","v":""},"",{"$f":"IF(ISBLANK(Datenerfassung!U980),\"\",Datenerfassung!U980)","v":""},{"$f":"IF(ISBLANK(Datenerfassung!O980),\"\",Datenerfassung!O980)","v":""},{"$f":"IF(ISBLANK(Datenerfassung!D980),IF(COUNTBLANK(A970:H970)+COUNTBLANK(J970:O970)=14,\"\",\"- ohne Titel -\"),Datenerfassung!D980)","v":""},{"$f":"IF(ISBLANK(Datenerfassung!G980),\"\",Datenerfassung!G980)","v":""},"",{"$f":"IF(ISBLANK(Datenerfassung!X980),\"\",Datenerfassung!X980)","v":""},{"$f":"IF(COUNTBLANK(Datenerfassung!H980:'Datenerfassung'!N980)=7,\"\",CONCATENATE( CONCATENATE(IF(ISBLANK(Datenerfassung!H980),\" \",Datenerfassung!H980 ),\" [IS]\"), CONCATENATE(IF(ISBLANK(Datenerfassung!I980),\" \",Datenerfassung!I980 ),\" [IS]\"), CONCATENATE(IF(ISBLANK(Datenerfassung!J980),\" \",Datenerfassung!J980 ),\" [IS]\"), CONCATENATE(IF(ISBLANK(Datenerfassung!K980),\" \",Datenerfassung!K980 ),\" [IS]\"), CONCATENATE(IF(ISBLANK(Datenerfassung!L980),\" \",Datenerfassung!L980 ),\" [IS]\"), CONCATENATE(IF(ISBLANK(Datenerfassung!M980),\" \",Datenerfassung!M980 ),\" [IS]\"), IF(ISBLANK(Datenerfassung!N980),\" \",Datenerfassung!N980 ) ))","v":""},{"$f":"IF(ISBLANK(Datenerfassung!V980),\"\",Datenerfassung!V980)","v":""},{"$f":"IF(ISBLANK(Datenerfassung!Q980),\"\",Datenerfassung!Q980)","v":""}]
[{"$f":"IF(ISBLANK(Datenerfassung!A981),\"\",Datenerfassung!A981)","v":""},{"$f":"IF(ISBLANK(Datenerfassung!B981),\"\",Datenerfassung!B981)","v":""},{"$f":"IF(ISBLANK(Datenerfassung!C981),\"\",Datenerfassung!C981)","v":""},{"$f":"IF(ISBLANK(Datenerfassung!R981),\"\",Datenerfassung!R981)","v":""},{"$f":"IF(ISBLANK(Datenerfassung!S981),\"\",Datenerfassung!S981)","v":""},"",{"$f":"IF(ISBLANK(Datenerfassung!U981),\"\",Datenerfassung!U981)","v":""},{"$f":"IF(ISBLANK(Datenerfassung!O981),\"\",Datenerfassung!O981)","v":""},{"$f":"IF(ISBLANK(Datenerfassung!D981),IF(COUNTBLANK(A971:H971)+COUNTBLANK(J971:O971)=14,\"\",\"- ohne Titel -\"),Datenerfassung!D981)","v":""},{"$f":"IF(ISBLANK(Datenerfassung!G981),\"\",Datenerfassung!G981)","v":""},"",{"$f":"IF(ISBLANK(Datenerfassung!X981),\"\",Datenerfassung!X981)","v":""},{"$f":"IF(COUNTBLANK(Datenerfassung!H981:'Datenerfassung'!N981)=7,\"\",CONCATENATE( CONCATENATE(IF(ISBLANK(Datenerfassung!H981),\" \",Datenerfassung!H981 ),\" [IS]\"), CONCATENATE(IF(ISBLANK(Datenerfassung!I981),\" \",Datenerfassung!I981 ),\" [IS]\"), CONCATENATE(IF(ISBLANK(Datenerfassung!J981),\" \",Datenerfassung!J981 ),\" [IS]\"), CONCATENATE(IF(ISBLANK(Datenerfassung!K981),\" \",Datenerfassung!K981 ),\" [IS]\"), CONCATENATE(IF(ISBLANK(Datenerfassung!L981),\" \",Datenerfassung!L981 ),\" [IS]\"), CONCATENATE(IF(ISBLANK(Datenerfassung!M981),\" \",Datenerfassung!M981 ),\" [IS]\"), IF(ISBLANK(Datenerfassung!N981),\" \",Datenerfassung!N981 ) ))","v":""},{"$f":"IF(ISBLANK(Datenerfassung!V981),\"\",Datenerfassung!V981)","v":""},{"$f":"IF(ISBLANK(Datenerfassung!Q981),\"\",Datenerfassung!Q981)","v":""}]
[{"$f":"IF(ISBLANK(Datenerfassung!A982),\"\",Datenerfassung!A982)","v":""},{"$f":"IF(ISBLANK(Datenerfassung!B982),\"\",Datenerfassung!B982)","v":""},{"$f":"IF(ISBLANK(Datenerfassung!C982),\"\",Datenerfassung!C982)","v":""},{"$f":"IF(ISBLANK(Datenerfassung!R982),\"\",Datenerfassung!R982)","v":""},{"$f":"IF(ISBLANK(Datenerfassung!S982),\"\",Datenerfassung!S982)","v":""},"",{"$f":"IF(ISBLANK(Datenerfassung!U982),\"\",Datenerfassung!U982)","v":""},{"$f":"IF(ISBLANK(Datenerfassung!O982),\"\",Datenerfassung!O982)","v":""},{"$f":"IF(ISBLANK(Datenerfassung!D982),IF(COUNTBLANK(A972:H972)+COUNTBLANK(J972:O972)=14,\"\",\"- ohne Titel -\"),Datenerfassung!D982)","v":""},{"$f":"IF(ISBLANK(Datenerfassung!G982),\"\",Datenerfassung!G982)","v":""},"",{"$f":"IF(ISBLANK(Datenerfassung!X982),\"\",Datenerfassung!X982)","v":""},{"$f":"IF(COUNTBLANK(Datenerfassung!H982:'Datenerfassung'!N982)=7,\"\",CONCATENATE( CONCATENATE(IF(ISBLANK(Datenerfassung!H982),\" \",Datenerfassung!H982 ),\" [IS]\"), CONCATENATE(IF(ISBLANK(Datenerfassung!I982),\" \",Datenerfassung!I982 ),\" [IS]\"), CONCATENATE(IF(ISBLANK(Datenerfassung!J982),\" \",Datenerfassung!J982 ),\" [IS]\"), CONCATENATE(IF(ISBLANK(Datenerfassung!K982),\" \",Datenerfassung!K982 ),\" [IS]\"), CONCATENATE(IF(ISBLANK(Datenerfassung!L982),\" \",Datenerfassung!L982 ),\" [IS]\"), CONCATENATE(IF(ISBLANK(Datenerfassung!M982),\" \",Datenerfassung!M982 ),\" [IS]\"), IF(ISBLANK(Datenerfassung!N982),\" \",Datenerfassung!N982 ) ))","v":""},{"$f":"IF(ISBLANK(Datenerfassung!V982),\"\",Datenerfassung!V982)","v":""},{"$f":"IF(ISBLANK(Datenerfassung!Q982),\"\",Datenerfassung!Q982)","v":""}]
[{"$f":"IF(ISBLANK(Datenerfassung!A983),\"\",Datenerfassung!A983)","v":""},{"$f":"IF(ISBLANK(Datenerfassung!B983),\"\",Datenerfassung!B983)","v":""},{"$f":"IF(ISBLANK(Datenerfassung!C983),\"\",Datenerfassung!C983)","v":""},{"$f":"IF(ISBLANK(Datenerfassung!R983),\"\",Datenerfassung!R983)","v":""},{"$f":"IF(ISBLANK(Datenerfassung!S983),\"\",Datenerfassung!S983)","v":""},"",{"$f":"IF(ISBLANK(Datenerfassung!U983),\"\",Datenerfassung!U983)","v":""},{"$f":"IF(ISBLANK(Datenerfassung!O983),\"\",Datenerfassung!O983)","v":""},{"$f":"IF(ISBLANK(Datenerfassung!D983),IF(COUNTBLANK(A973:H973)+COUNTBLANK(J973:O973)=14,\"\",\"- ohne Titel -\"),Datenerfassung!D983)","v":""},{"$f":"IF(ISBLANK(Datenerfassung!G983),\"\",Datenerfassung!G983)","v":""},"",{"$f":"IF(ISBLANK(Datenerfassung!X983),\"\",Datenerfassung!X983)","v":""},{"$f":"IF(COUNTBLANK(Datenerfassung!H983:'Datenerfassung'!N983)=7,\"\",CONCATENATE( CONCATENATE(IF(ISBLANK(Datenerfassung!H983),\" \",Datenerfassung!H983 ),\" [IS]\"), CONCATENATE(IF(ISBLANK(Datenerfassung!I983),\" \",Datenerfassung!I983 ),\" [IS]\"), CONCATENATE(IF(ISBLANK(Datenerfassung!J983),\" \",Datenerfassung!J983 ),\" [IS]\"), CONCATENATE(IF(ISBLANK(Datenerfassung!K983),\" \",Datenerfassung!K983 ),\" [IS]\"), CONCATENATE(IF(ISBLANK(Datenerfassung!L983),\" \",Datenerfassung!L983 ),\" [IS]\"), CONCATENATE(IF(ISBLANK(Datenerfassung!M983),\" \",Datenerfassung!M983 ),\" [IS]\"), IF(ISBLANK(Datenerfassung!N983),\" \",Datenerfassung!N983 ) ))","v":""},{"$f":"IF(ISBLANK(Datenerfassung!V983),\"\",Datenerfassung!V983)","v":""},{"$f":"IF(ISBLANK(Datenerfassung!Q983),\"\",Datenerfassung!Q983)","v":""}]
[{"$f":"IF(ISBLANK(Datenerfassung!A984),\"\",Datenerfassung!A984)","v":""},{"$f":"IF(ISBLANK(Datenerfassung!B984),\"\",Datenerfassung!B984)","v":""},{"$f":"IF(ISBLANK(Datenerfassung!C984),\"\",Datenerfassung!C984)","v":""},{"$f":"IF(ISBLANK(Datenerfassung!R984),\"\",Datenerfassung!R984)","v":""},{"$f":"IF(ISBLANK(Datenerfassung!S984),\"\",Datenerfassung!S984)","v":""},"",{"$f":"IF(ISBLANK(Datenerfassung!U984),\"\",Datenerfassung!U984)","v":""},{"$f":"IF(ISBLANK(Datenerfassung!O984),\"\",Datenerfassung!O984)","v":""},{"$f":"IF(ISBLANK(Datenerfassung!D984),IF(COUNTBLANK(A974:H974)+COUNTBLANK(J974:O974)=14,\"\",\"- ohne Titel -\"),Datenerfassung!D984)","v":""},{"$f":"IF(ISBLANK(Datenerfassung!G984),\"\",Datenerfassung!G984)","v":""},"",{"$f":"IF(ISBLANK(Datenerfassung!X984),\"\",Datenerfassung!X984)","v":""},{"$f":"IF(COUNTBLANK(Datenerfassung!H984:'Datenerfassung'!N984)=7,\"\",CONCATENATE( CONCATENATE(IF(ISBLANK(Datenerfassung!H984),\" \",Datenerfassung!H984 ),\" [IS]\"), CONCATENATE(IF(ISBLANK(Datenerfassung!I984),\" \",Datenerfassung!I984 ),\" [IS]\"), CONCATENATE(IF(ISBLANK(Datenerfassung!J984),\" \",Datenerfassung!J984 ),\" [IS]\"), CONCATENATE(IF(ISBLANK(Datenerfassung!K984),\" \",Datenerfassung!K984 ),\" [IS]\"), CONCATENATE(IF(ISBLANK(Datenerfassung!L984),\" \",Datenerfassung!L984 ),\" [IS]\"), CONCATENATE(IF(ISBLANK(Datenerfassung!M984),\" \",Datenerfassung!M984 ),\" [IS]\"), IF(ISBLANK(Datenerfassung!N984),\" \",Datenerfassung!N984 ) ))","v":""},{"$f":"IF(ISBLANK(Datenerfassung!V984),\"\",Datenerfassung!V984)","v":""},{"$f":"IF(ISBLANK(Datenerfassung!Q984),\"\",Datenerfassung!Q984)","v":""}]
[{"$f":"IF(ISBLANK(Datenerfassung!A985),\"\",Datenerfassung!A985)","v":""},{"$f":"IF(ISBLANK(Datenerfassung!B985),\"\",Datenerfassung!B985)","v":""},{"$f":"IF(ISBLANK(Datenerfassung!C985),\"\",Datenerfassung!C985)","v":""},{"$f":"IF(ISBLANK(Datenerfassung!R985),\"\",Datenerfassung!R985)","v":""},{"$f":"IF(ISBLANK(Datenerfassung!S985),\"\",Datenerfassung!S985)","v":""},"",{"$f":"IF(ISBLANK(Datenerfassung!U985),\"\",Datenerfassung!U985)","v":""},{"$f":"IF(ISBLANK(Datenerfassung!O985),\"\",Datenerfassung!O985)","v":""},{"$f":"IF(ISBLANK(Datenerfassung!D985),IF(COUNTBLANK(A975:H975)+COUNTBLANK(J975:O975)=14,\"\",\"- ohne Titel -\"),Datenerfassung!D985)","v":""},{"$f":"IF(ISBLANK(Datenerfassung!G985),\"\",Datenerfassung!G985)","v":""},"",{"$f":"IF(ISBLANK(Datenerfassung!X985),\"\",Datenerfassung!X985)","v":""},{"$f":"IF(COUNTBLANK(Datenerfassung!H985:'Datenerfassung'!N985)=7,\"\",CONCATENATE( CONCATENATE(IF(ISBLANK(Datenerfassung!H985),\" \",Datenerfassung!H985 ),\" [IS]\"), CONCATENATE(IF(ISBLANK(Datenerfassung!I985),\" \",Datenerfassung!I985 ),\" [IS]\"), CONCATENATE(IF(ISBLANK(Datenerfassung!J985),\" \",Datenerfassung!J985 ),\" [IS]\"), CONCATENATE(IF(ISBLANK(Datenerfassung!K985),\" \",Datenerfassung!K985 ),\" [IS]\"), CONCATENATE(IF(ISBLANK(Datenerfassung!L985),\" \",Datenerfassung!L985 ),\" [IS]\"), CONCATENATE(IF(ISBLANK(Datenerfassung!M985),\" \",Datenerfassung!M985 ),\" [IS]\"), IF(ISBLANK(Datenerfassung!N985),\" \",Datenerfassung!N985 ) ))","v":""},{"$f":"IF(ISBLANK(Datenerfassung!V985),\"\",Datenerfassung!V985)","v":""},{"$f":"IF(ISBLANK(Datenerfassung!Q985),\"\",Datenerfassung!Q985)","v":""}]
[{"$f":"IF(ISBLANK(Datenerfassung!A986),\"\",Datenerfassung!A986)","v":""},{"$f":"IF(ISBLANK(Datenerfassung!B986),\"\",Datenerfassung!B986)","v":""},{"$f":"IF(ISBLANK(Datenerfassung!C986),\"\",Datenerfassung!C986)","v":""},{"$f":"IF(ISBLANK(Datenerfassung!R986),\"\",Datenerfassung!R986)","v":""},{"$f":"IF(ISBLANK(Datenerfassung!S986),\"\",Datenerfassung!S986)","v":""},"",{"$f":"IF(ISBLANK(Datenerfassung!U986),\"\",Datenerfassung!U986)","v":""},{"$f":"IF(ISBLANK(Datenerfassung!O986),\"\",Datenerfassung!O986)","v":""},{"$f":"IF(ISBLANK(Datenerfassung!D986),IF(COUNTBLANK(A976:H976)+COUNTBLANK(J976:O976)=14,\"\",\"- ohne Titel -\"),Datenerfassung!D986)","v":""},{"$f":"IF(ISBLANK(Datenerfassung!G986),\"\",Datenerfassung!G986)","v":""},"",{"$f":"IF(ISBLANK(Datenerfassung!X986),\"\",Datenerfassung!X986)","v":""},{"$f":"IF(COUNTBLANK(Datenerfassung!H986:'Datenerfassung'!N986)=7,\"\",CONCATENATE( CONCATENATE(IF(ISBLANK(Datenerfassung!H986),\" \",Datenerfassung!H986 ),\" [IS]\"), CONCATENATE(IF(ISBLANK(Datenerfassung!I986),\" \",Datenerfassung!I986 ),\" [IS]\"), CONCATENATE(IF(ISBLANK(Datenerfassung!J986),\" \",Datenerfassung!J986 ),\" [IS]\"), CONCATENATE(IF(ISBLANK(Datenerfassung!K986),\" \",Datenerfassung!K986 ),\" [IS]\"), CONCATENATE(IF(ISBLANK(Datenerfassung!L986),\" \",Datenerfassung!L986 ),\" [IS]\"), CONCATENATE(IF(ISBLANK(Datenerfassung!M986),\" \",Datenerfassung!M986 ),\" [IS]\"), IF(ISBLANK(Datenerfassung!N986),\" \",Datenerfassung!N986 ) ))","v":""},{"$f":"IF(ISBLANK(Datenerfassung!V986),\"\",Datenerfassung!V986)","v":""},{"$f":"IF(ISBLANK(Datenerfassung!Q986),\"\",Datenerfassung!Q986)","v":""}]
[{"$f":"IF(ISBLANK(Datenerfassung!A987),\"\",Datenerfassung!A987)","v":""},{"$f":"IF(ISBLANK(Datenerfassung!B987),\"\",Datenerfassung!B987)","v":""},{"$f":"IF(ISBLANK(Datenerfassung!C987),\"\",Datenerfassung!C987)","v":""},{"$f":"IF(ISBLANK(Datenerfassung!R987),\"\",Datenerfassung!R987)","v":""},{"$f":"IF(ISBLANK(Datenerfassung!S987),\"\",Datenerfassung!S987)","v":""},"",{"$f":"IF(ISBLANK(Datenerfassung!U987),\"\",Datenerfassung!U987)","v":""},{"$f":"IF(ISBLANK(Datenerfassung!O987),\"\",Datenerfassung!O987)","v":""},{"$f":"IF(ISBLANK(Datenerfassung!D987),IF(COUNTBLANK(A977:H977)+COUNTBLANK(J977:O977)=14,\"\",\"- ohne Titel -\"),Datenerfassung!D987)","v":""},{"$f":"IF(ISBLANK(Datenerfassung!G987),\"\",Datenerfassung!G987)","v":""},"",{"$f":"IF(ISBLANK(Datenerfassung!X987),\"\",Datenerfassung!X987)","v":""},{"$f":"IF(COUNTBLANK(Datenerfassung!H987:'Datenerfassung'!N987)=7,\"\",CONCATENATE( CONCATENATE(IF(ISBLANK(Datenerfassung!H987),\" \",Datenerfassung!H987 ),\" [IS]\"), CONCATENATE(IF(ISBLANK(Datenerfassung!I987),\" \",Datenerfassung!I987 ),\" [IS]\"), CONCATENATE(IF(ISBLANK(Datenerfassung!J987),\" \",Datenerfassung!J987 ),\" [IS]\"), CONCATENATE(IF(ISBLANK(Datenerfassung!K987),\" \",Datenerfassung!K987 ),\" [IS]\"), CONCATENATE(IF(ISBLANK(Datenerfassung!L987),\" \",Datenerfassung!L987 ),\" [IS]\"), CONCATENATE(IF(ISBLANK(Datenerfassung!M987),\" \",Datenerfassung!M987 ),\" [IS]\"), IF(ISBLANK(Datenerfassung!N987),\" \",Datenerfassung!N987 ) ))","v":""},{"$f":"IF(ISBLANK(Datenerfassung!V987),\"\",Datenerfassung!V987)","v":""},{"$f":"IF(ISBLANK(Datenerfassung!Q987),\"\",Datenerfassung!Q987)","v":""}]
[{"$f":"IF(ISBLANK(Datenerfassung!A988),\"\",Datenerfassung!A988)","v":""},{"$f":"IF(ISBLANK(Datenerfassung!B988),\"\",Datenerfassung!B988)","v":""},{"$f":"IF(ISBLANK(Datenerfassung!C988),\"\",Datenerfassung!C988)","v":""},{"$f":"IF(ISBLANK(Datenerfassung!R988),\"\",Datenerfassung!R988)","v":""},{"$f":"IF(ISBLANK(Datenerfassung!S988),\"\",Datenerfassung!S988)","v":""},"",{"$f":"IF(ISBLANK(Datenerfassung!U988),\"\",Datenerfassung!U988)","v":""},{"$f":"IF(ISBLANK(Datenerfassung!O988),\"\",Datenerfassung!O988)","v":""},{"$f":"IF(ISBLANK(Datenerfassung!D988),IF(COUNTBLANK(A978:H978)+COUNTBLANK(J978:O978)=14,\"\",\"- ohne Titel -\"),Datenerfassung!D988)","v":""},{"$f":"IF(ISBLANK(Datenerfassung!G988),\"\",Datenerfassung!G988)","v":""},"",{"$f":"IF(ISBLANK(Datenerfassung!X988),\"\",Datenerfassung!X988)","v":""},{"$f":"IF(COUNTBLANK(Datenerfassung!H988:'Datenerfassung'!N988)=7,\"\",CONCATENATE( CONCATENATE(IF(ISBLANK(Datenerfassung!H988),\" \",Datenerfassung!H988 ),\" [IS]\"), CONCATENATE(IF(ISBLANK(Datenerfassung!I988),\" \",Datenerfassung!I988 ),\" [IS]\"), CONCATENATE(IF(ISBLANK(Datenerfassung!J988),\" \",Datenerfassung!J988 ),\" [IS]\"), CONCATENATE(IF(ISBLANK(Datenerfassung!K988),\" \",Datenerfassung!K988 ),\" [IS]\"), CONCATENATE(IF(ISBLANK(Datenerfassung!L988),\" \",Datenerfassung!L988 ),\" [IS]\"), CONCATENATE(IF(ISBLANK(Datenerfassung!M988),\" \",Datenerfassung!M988 ),\" [IS]\"), IF(ISBLANK(Datenerfassung!N988),\" \",Datenerfassung!N988 ) ))","v":""},{"$f":"IF(ISBLANK(Datenerfassung!V988),\"\",Datenerfassung!V988)","v":""},{"$f":"IF(ISBLANK(Datenerfassung!Q988),\"\",Datenerfassung!Q988)","v":""}]
[{"$f":"IF(ISBLANK(Datenerfassung!A989),\"\",Datenerfassung!A989)","v":""},{"$f":"IF(ISBLANK(Datenerfassung!B989),\"\",Datenerfassung!B989)","v":""},{"$f":"IF(ISBLANK(Datenerfassung!C989),\"\",Datenerfassung!C989)","v":""},{"$f":"IF(ISBLANK(Datenerfassung!R989),\"\",Datenerfassung!R989)","v":""},{"$f":"IF(ISBLANK(Datenerfassung!S989),\"\",Datenerfassung!S989)","v":""},"",{"$f":"IF(ISBLANK(Datenerfassung!U989),\"\",Datenerfassung!U989)","v":""},{"$f":"IF(ISBLANK(Datenerfassung!O989),\"\",Datenerfassung!O989)","v":""},{"$f":"IF(ISBLANK(Datenerfassung!D989),IF(COUNTBLANK(A979:H979)+COUNTBLANK(J979:O979)=14,\"\",\"- ohne Titel -\"),Datenerfassung!D989)","v":""},{"$f":"IF(ISBLANK(Datenerfassung!G989),\"\",Datenerfassung!G989)","v":""},"",{"$f":"IF(ISBLANK(Datenerfassung!X989),\"\",Datenerfassung!X989)","v":""},{"$f":"IF(COUNTBLANK(Datenerfassung!H989:'Datenerfassung'!N989)=7,\"\",CONCATENATE( CONCATENATE(IF(ISBLANK(Datenerfassung!H989),\" \",Datenerfassung!H989 ),\" [IS]\"), CONCATENATE(IF(ISBLANK(Datenerfassung!I989),\" \",Datenerfassung!I989 ),\" [IS]\"), CONCATENATE(IF(ISBLANK(Datenerfassung!J989),\" \",Datenerfassung!J989 ),\" [IS]\"), CONCATENATE(IF(ISBLANK(Datenerfassung!K989),\" \",Datenerfassung!K989 ),\" [IS]\"), CONCATENATE(IF(ISBLANK(Datenerfassung!L989),\" \",Datenerfassung!L989 ),\" [IS]\"), CONCATENATE(IF(ISBLANK(Datenerfassung!M989),\" \",Datenerfassung!M989 ),\" [IS]\"), IF(ISBLANK(Datenerfassung!N989),\" \",Datenerfassung!N989 ) ))","v":""},{"$f":"IF(ISBLANK(Datenerfassung!V989),\"\",Datenerfassung!V989)","v":""},{"$f":"IF(ISBLANK(Datenerfassung!Q989),\"\",Datenerfassung!Q989)","v":""}]
[{"$f":"IF(ISBLANK(Datenerfassung!A990),\"\",Datenerfassung!A990)","v":""},{"$f":"IF(ISBLANK(Datenerfassung!B990),\"\",Datenerfassung!B990)","v":""},{"$f":"IF(ISBLANK(Datenerfassung!C990),\"\",Datenerfassung!C990)","v":""},{"$f":"IF(ISBLANK(Datenerfassung!R990),\"\",Datenerfassung!R990)","v":""},{"$f":"IF(ISBLANK(Datenerfassung!S990),\"\",Datenerfassung!S990)","v":""},"",{"$f":"IF(ISBLANK(Datenerfassung!U990),\"\",Datenerfassung!U990)","v":""},{"$f":"IF(ISBLANK(Datenerfassung!O990),\"\",Datenerfassung!O990)","v":""},{"$f":"IF(ISBLANK(Datenerfassung!D990),IF(COUNTBLANK(A980:H980)+COUNTBLANK(J980:O980)=14,\"\",\"- ohne Titel -\"),Datenerfassung!D990)","v":""},{"$f":"IF(ISBLANK(Datenerfassung!G990),\"\",Datenerfassung!G990)","v":""},"",{"$f":"IF(ISBLANK(Datenerfassung!X990),\"\",Datenerfassung!X990)","v":""},{"$f":"IF(COUNTBLANK(Datenerfassung!H990:'Datenerfassung'!N990)=7,\"\",CONCATENATE( CONCATENATE(IF(ISBLANK(Datenerfassung!H990),\" \",Datenerfassung!H990 ),\" [IS]\"), CONCATENATE(IF(ISBLANK(Datenerfassung!I990),\" \",Datenerfassung!I990 ),\" [IS]\"), CONCATENATE(IF(ISBLANK(Datenerfassung!J990),\" \",Datenerfassung!J990 ),\" [IS]\"), CONCATENATE(IF(ISBLANK(Datenerfassung!K990),\" \",Datenerfassung!K990 ),\" [IS]\"), CONCATENATE(IF(ISBLANK(Datenerfassung!L990),\" \",Datenerfassung!L990 ),\" [IS]\"), CONCATENATE(IF(ISBLANK(Datenerfassung!M990),\" \",Datenerfassung!M990 ),\" [IS]\"), IF(ISBLANK(Datenerfassung!N990),\" \",Datenerfassung!N990 ) ))","v":""},{"$f":"IF(ISBLANK(Datenerfassung!V990),\"\",Datenerfassung!V990)","v":""},{"$f":"IF(ISBLANK(Datenerfassung!Q990),\"\",Datenerfassung!Q990)","v":""}]
[{"$f":"IF(ISBLANK(Datenerfassung!A991),\"\",Datenerfassung!A991)","v":""},{"$f":"IF(ISBLANK(Datenerfassung!B991),\"\",Datenerfassung!B991)","v":""},{"$f":"IF(ISBLANK(Datenerfassung!C991),\"\",Datenerfassung!C991)","v":""},{"$f":"IF(ISBLANK(Datenerfassung!R991),\"\",Datenerfassung!R991)","v":""},{"$f":"IF(ISBLANK(Datenerfassung!S991),\"\",Datenerfassung!S991)","v":""},"",{"$f":"IF(ISBLANK(Datenerfassung!U991),\"\",Datenerfassung!U991)","v":""},{"$f":"IF(ISBLANK(Datenerfassung!O991),\"\",Datenerfassung!O991)","v":""},{"$f":"IF(ISBLANK(Datenerfassung!D991),IF(COUNTBLANK(A981:H981)+COUNTBLANK(J981:O981)=14,\"\",\"- ohne Titel -\"),Datenerfassung!D991)","v":""},{"$f":"IF(ISBLANK(Datenerfassung!G991),\"\",Datenerfassung!G991)","v":""},"",{"$f":"IF(ISBLANK(Datenerfassung!X991),\"\",Datenerfassung!X991)","v":""},{"$f":"IF(COUNTBLANK(Datenerfassung!H991:'Datenerfassung'!N991)=7,\"\",CONCATENATE( CONCATENATE(IF(ISBLANK(Datenerfassung!H991),\" \",Datenerfassung!H991 ),\" [IS]\"), CONCATENATE(IF(ISBLANK(Datenerfassung!I991),\" \",Datenerfassung!I991 ),\" [IS]\"), CONCATENATE(IF(ISBLANK(Datenerfassung!J991),\" \",Datenerfassung!J991 ),\" [IS]\"), CONCATENATE(IF(ISBLANK(Datenerfassung!K991),\" \",Datenerfassung!K991 ),\" [IS]\"), CONCATENATE(IF(ISBLANK(Datenerfassung!L991),\" \",Datenerfassung!L991 ),\" [IS]\"), CONCATENATE(IF(ISBLANK(Datenerfassung!M991),\" \",Datenerfassung!M991 ),\" [IS]\"), IF(ISBLANK(Datenerfassung!N991),\" \",Datenerfassung!N991 ) ))","v":""},{"$f":"IF(ISBLANK(Datenerfassung!V991),\"\",Datenerfassung!V991)","v":""},{"$f":"IF(ISBLANK(Datenerfassung!Q991),\"\",Datenerfassung!Q991)","v":""}]
[{"$f":"IF(ISBLANK(Datenerfassung!A992),\"\",Datenerfassung!A992)","v":""},{"$f":"IF(ISBLANK(Datenerfassung!B992),\"\",Datenerfassung!B992)","v":""},{"$f":"IF(ISBLANK(Datenerfassung!C992),\"\",Datenerfassung!C992)","v":""},{"$f":"IF(ISBLANK(Datenerfassung!R992),\"\",Datenerfassung!R992)","v":""},{"$f":"IF(ISBLANK(Datenerfassung!S992),\"\",Datenerfassung!S992)","v":""},"",{"$f":"IF(ISBLANK(Datenerfassung!U992),\"\",Datenerfassung!U992)","v":""},{"$f":"IF(ISBLANK(Datenerfassung!O992),\"\",Datenerfassung!O992)","v":""},{"$f":"IF(ISBLANK(Datenerfassung!D992),IF(COUNTBLANK(A982:H982)+COUNTBLANK(J982:O982)=14,\"\",\"- ohne Titel -\"),Datenerfassung!D992)","v":""},{"$f":"IF(ISBLANK(Datenerfassung!G992),\"\",Datenerfassung!G992)","v":""},"",{"$f":"IF(ISBLANK(Datenerfassung!X992),\"\",Datenerfassung!X992)","v":""},{"$f":"IF(COUNTBLANK(Datenerfassung!H992:'Datenerfassung'!N992)=7,\"\",CONCATENATE( CONCATENATE(IF(ISBLANK(Datenerfassung!H992),\" \",Datenerfassung!H992 ),\" [IS]\"), CONCATENATE(IF(ISBLANK(Datenerfassung!I992),\" \",Datenerfassung!I992 ),\" [IS]\"), CONCATENATE(IF(ISBLANK(Datenerfassung!J992),\" \",Datenerfassung!J992 ),\" [IS]\"), CONCATENATE(IF(ISBLANK(Datenerfassung!K992),\" \",Datenerfassung!K992 ),\" [IS]\"), CONCATENATE(IF(ISBLANK(Datenerfassung!L992),\" \",Datenerfassung!L992 ),\" [IS]\"), CONCATENATE(IF(ISBLANK(Datenerfassung!M992),\" \",Datenerfassung!M992 ),\" [IS]\"), IF(ISBLANK(Datenerfassung!N992),\" \",Datenerfassung!N992 ) ))","v":""},{"$f":"IF(ISBLANK(Datenerfassung!V992),\"\",Datenerfassung!V992)","v":""},{"$f":"IF(ISBLANK(Datenerfassung!Q992),\"\",Datenerfassung!Q992)","v":""}]
[{"$f":"IF(ISBLANK(Datenerfassung!A993),\"\",Datenerfassung!A993)","v":""},{"$f":"IF(ISBLANK(Datenerfassung!B993),\"\",Datenerfassung!B993)","v":""},{"$f":"IF(ISBLANK(Datenerfassung!C993),\"\",Datenerfassung!C993)","v":""},{"$f":"IF(ISBLANK(Datenerfassung!R993),\"\",Datenerfassung!R993)","v":""},{"$f":"IF(ISBLANK(Datenerfassung!S993),\"\",Datenerfassung!S993)","v":""},"",{"$f":"IF(ISBLANK(Datenerfassung!U993),\"\",Datenerfassung!U993)","v":""},{"$f":"IF(ISBLANK(Datenerfassung!O993),\"\",Datenerfassung!O993)","v":""},{"$f":"IF(ISBLANK(Datenerfassung!D993),IF(COUNTBLANK(A983:H983)+COUNTBLANK(J983:O983)=14,\"\",\"- ohne Titel -\"),Datenerfassung!D993)","v":""},{"$f":"IF(ISBLANK(Datenerfassung!G993),\"\",Datenerfassung!G993)","v":""},"",{"$f":"IF(ISBLANK(Datenerfassung!X993),\"\",Datenerfassung!X993)","v":""},{"$f":"IF(COUNTBLANK(Datenerfassung!H993:'Datenerfassung'!N993)=7,\"\",CONCATENATE( CONCATENATE(IF(ISBLANK(Datenerfassung!H993),\" \",Datenerfassung!H993 ),\" [IS]\"), CONCATENATE(IF(ISBLANK(Datenerfassung!I993),\" \",Datenerfassung!I993 ),\" [IS]\"), CONCATENATE(IF(ISBLANK(Datenerfassung!J993),\" \",Datenerfassung!J993 ),\" [IS]\"), CONCATENATE(IF(ISBLANK(Datenerfassung!K993),\" \",Datenerfassung!K993 ),\" [IS]\"), CONCATENATE(IF(ISBLANK(Datenerfassung!L993),\" \",Datenerfassung!L993 ),\" [IS]\"), CONCATENATE(IF(ISBLANK(Datenerfassung!M993),\" \",Datenerfassung!M993 ),\" [IS]\"), IF(ISBLANK(Datenerfassung!N993),\" \",Datenerfassung!N993 ) ))","v":""},{"$f":"IF(ISBLANK(Datenerfassung!V993),\"\",Datenerfassung!V993)","v":""},{"$f":"IF(ISBLANK(Datenerfassung!Q993),\"\",Datenerfassung!Q993)","v":""}]
[{"$f":"IF(ISBLANK(Datenerfassung!A994),\"\",Datenerfassung!A994)","v":""},{"$f":"IF(ISBLANK(Datenerfassung!B994),\"\",Datenerfassung!B994)","v":""},{"$f":"IF(ISBLANK(Datenerfassung!C994),\"\",Datenerfassung!C994)","v":""},{"$f":"IF(ISBLANK(Datenerfassung!R994),\"\",Datenerfassung!R994)","v":""},{"$f":"IF(ISBLANK(Datenerfassung!S994),\"\",Datenerfassung!S994)","v":""},"",{"$f":"IF(ISBLANK(Datenerfassung!U994),\"\",Datenerfassung!U994)","v":""},{"$f":"IF(ISBLANK(Datenerfassung!O994),\"\",Datenerfassung!O994)","v":""},{"$f":"IF(ISBLANK(Datenerfassung!D994),IF(COUNTBLANK(A984:H984)+COUNTBLANK(J984:O984)=14,\"\",\"- ohne Titel -\"),Datenerfassung!D994)","v":""},{"$f":"IF(ISBLANK(Datenerfassung!G994),\"\",Datenerfassung!G994)","v":""},"",{"$f":"IF(ISBLANK(Datenerfassung!X994),\"\",Datenerfassung!X994)","v":""},{"$f":"IF(COUNTBLANK(Datenerfassung!H994:'Datenerfassung'!N994)=7,\"\",CONCATENATE( CONCATENATE(IF(ISBLANK(Datenerfassung!H994),\" \",Datenerfassung!H994 ),\" [IS]\"), CONCATENATE(IF(ISBLANK(Datenerfassung!I994),\" \",Datenerfassung!I994 ),\" [IS]\"), CONCATENATE(IF(ISBLANK(Datenerfassung!J994),\" \",Datenerfassung!J994 ),\" [IS]\"), CONCATENATE(IF(ISBLANK(Datenerfassung!K994),\" \",Datenerfassung!K994 ),\" [IS]\"), CONCATENATE(IF(ISBLANK(Datenerfassung!L994),\" \",Datenerfassung!L994 ),\" [IS]\"), CONCATENATE(IF(ISBLANK(Datenerfassung!M994),\" \",Datenerfassung!M994 ),\" [IS]\"), IF(ISBLANK(Datenerfassung!N994),\" \",Datenerfassung!N994 ) ))","v":""},{"$f":"IF(ISBLANK(Datenerfassung!V994),\"\",Datenerfassung!V994)","v":""},{"$f":"IF(ISBLANK(Datenerfassung!Q994),\"\",Datenerfassung!Q994)","v":""}]
[{"$f":"IF(ISBLANK(Datenerfassung!A995),\"\",Datenerfassung!A995)","v":""},{"$f":"IF(ISBLANK(Datenerfassung!B995),\"\",Datenerfassung!B995)","v":""},{"$f":"IF(ISBLANK(Datenerfassung!C995),\"\",Datenerfassung!C995)","v":""},{"$f":"IF(ISBLANK(Datenerfassung!R995),\"\",Datenerfassung!R995)","v":""},{"$f":"IF(ISBLANK(Datenerfassung!S995),\"\",Datenerfassung!S995)","v":""},"",{"$f":"IF(ISBLANK(Datenerfassung!U995),\"\",Datenerfassung!U995)","v":""},{"$f":"IF(ISBLANK(Datenerfassung!O995),\"\",Datenerfassung!O995)","v":""},{"$f":"IF(ISBLANK(Datenerfassung!D995),IF(COUNTBLANK(A985:H985)+COUNTBLANK(J985:O985)=14,\"\",\"- ohne Titel -\"),Datenerfassung!D995)","v":""},{"$f":"IF(ISBLANK(Datenerfassung!G995),\"\",Datenerfassung!G995)","v":""},"",{"$f":"IF(ISBLANK(Datenerfassung!X995),\"\",Datenerfassung!X995)","v":""},{"$f":"IF(COUNTBLANK(Datenerfassung!H995:'Datenerfassung'!N995)=7,\"\",CONCATENATE( CONCATENATE(IF(ISBLANK(Datenerfassung!H995),\" \",Datenerfassung!H995 ),\" [IS]\"), CONCATENATE(IF(ISBLANK(Datenerfassung!I995),\" \",Datenerfassung!I995 ),\" [IS]\"), CONCATENATE(IF(ISBLANK(Datenerfassung!J995),\" \",Datenerfassung!J995 ),\" [IS]\"), CONCATENATE(IF(ISBLANK(Datenerfassung!K995),\" \",Datenerfassung!K995 ),\" [IS]\"), CONCATENATE(IF(ISBLANK(Datenerfassung!L995),\" \",Datenerfassung!L995 ),\" [IS]\"), CONCATENATE(IF(ISBLANK(Datenerfassung!M995),\" \",Datenerfassung!M995 ),\" [IS]\"), IF(ISBLANK(Datenerfassung!N995),\" \",Datenerfassung!N995 ) ))","v":""},{"$f":"IF(ISBLANK(Datenerfassung!V995),\"\",Datenerfassung!V995)","v":""},{"$f":"IF(ISBLANK(Datenerfassung!Q995),\"\",Datenerfassung!Q995)","v":""}]
[{"$f":"IF(ISBLANK(Datenerfassung!A996),\"\",Datenerfassung!A996)","v":""},{"$f":"IF(ISBLANK(Datenerfassung!B996),\"\",Datenerfassung!B996)","v":""},{"$f":"IF(ISBLANK(Datenerfassung!C996),\"\",Datenerfassung!C996)","v":""},{"$f":"IF(ISBLANK(Datenerfassung!R996),\"\",Datenerfassung!R996)","v":""},{"$f":"IF(ISBLANK(Datenerfassung!S996),\"\",Datenerfassung!S996)","v":""},"",{"$f":"IF(ISBLANK(Datenerfassung!U996),\"\",Datenerfassung!U996)","v":""},{"$f":"IF(ISBLANK(Datenerfassung!O996),\"\",Datenerfassung!O996)","v":""},{"$f":"IF(ISBLANK(Datenerfassung!D996),IF(COUNTBLANK(A986:H986)+COUNTBLANK(J986:O986)=14,\"\",\"- ohne Titel -\"),Datenerfassung!D996)","v":""},{"$f":"IF(ISBLANK(Datenerfassung!G996),\"\",Datenerfassung!G996)","v":""},"",{"$f":"IF(ISBLANK(Datenerfassung!X996),\"\",Datenerfassung!X996)","v":""},{"$f":"IF(COUNTBLANK(Datenerfassung!H996:'Datenerfassung'!N996)=7,\"\",CONCATENATE( CONCATENATE(IF(ISBLANK(Datenerfassung!H996),\" \",Datenerfassung!H996 ),\" [IS]\"), CONCATENATE(IF(ISBLANK(Datenerfassung!I996),\" \",Datenerfassung!I996 ),\" [IS]\"), CONCATENATE(IF(ISBLANK(Datenerfassung!J996),\" \",Datenerfassung!J996 ),\" [IS]\"), CONCATENATE(IF(ISBLANK(Datenerfassung!K996),\" \",Datenerfassung!K996 ),\" [IS]\"), CONCATENATE(IF(ISBLANK(Datenerfassung!L996),\" \",Datenerfassung!L996 ),\" [IS]\"), CONCATENATE(IF(ISBLANK(Datenerfassung!M996),\" \",Datenerfassung!M996 ),\" [IS]\"), IF(ISBLANK(Datenerfassung!N996),\" \",Datenerfassung!N996 ) ))","v":""},{"$f":"IF(ISBLANK(Datenerfassung!V996),\"\",Datenerfassung!V996)","v":""},{"$f":"IF(ISBLANK(Datenerfassung!Q996),\"\",Datenerfassung!Q996)","v":""}]
[{"$f":"IF(ISBLANK(Datenerfassung!A997),\"\",Datenerfassung!A997)","v":""},{"$f":"IF(ISBLANK(Datenerfassung!B997),\"\",Datenerfassung!B997)","v":""},{"$f":"IF(ISBLANK(Datenerfassung!C997),\"\",Datenerfassung!C997)","v":""},{"$f":"IF(ISBLANK(Datenerfassung!R997),\"\",Datenerfassung!R997)","v":""},{"$f":"IF(ISBLANK(Datenerfassung!S997),\"\",Datenerfassung!S997)","v":""},"",{"$f":"IF(ISBLANK(Datenerfassung!U997),\"\",Datenerfassung!U997)","v":""},{"$f":"IF(ISBLANK(Datenerfassung!O997),\"\",Datenerfassung!O997)","v":""},{"$f":"IF(ISBLANK(Datenerfassung!D997),IF(COUNTBLANK(A987:H987)+COUNTBLANK(J987:O987)=14,\"\",\"- ohne Titel -\"),Datenerfassung!D997)","v":""},{"$f":"IF(ISBLANK(Datenerfassung!G997),\"\",Datenerfassung!G997)","v":""},"",{"$f":"IF(ISBLANK(Datenerfassung!X997),\"\",Datenerfassung!X997)","v":""},{"$f":"IF(COUNTBLANK(Datenerfassung!H997:'Datenerfassung'!N997)=7,\"\",CONCATENATE( CONCATENATE(IF(ISBLANK(Datenerfassung!H997),\" \",Datenerfassung!H997 ),\" [IS]\"), CONCATENATE(IF(ISBLANK(Datenerfassung!I997),\" \",Datenerfassung!I997 ),\" [IS]\"), CONCATENATE(IF(ISBLANK(Datenerfassung!J997),\" \",Datenerfassung!J997 ),\" [IS]\"), CONCATENATE(IF(ISBLANK(Datenerfassung!K997),\" \",Datenerfassung!K997 ),\" [IS]\"), CONCATENATE(IF(ISBLANK(Datenerfassung!L997),\" \",Datenerfassung!L997 ),\" [IS]\"), CONCATENATE(IF(ISBLANK(Datenerfassung!M997),\" \",Datenerfassung!M997 ),\" [IS]\"), IF(ISBLANK(Datenerfassung!N997),\" \",Datenerfassung!N997 ) ))","v":""},{"$f":"IF(ISBLANK(Datenerfassung!V997),\"\",Datenerfassung!V997)","v":""},{"$f":"IF(ISBLANK(Datenerfassung!Q997),\"\",Datenerfassung!Q997)","v":""}]
[{"$f":"IF(ISBLANK(Datenerfassung!A998),\"\",Datenerfassung!A998)","v":""},{"$f":"IF(ISBLANK(Datenerfassung!B998),\"\",Datenerfassung!B998)","v":""},{"$f":"IF(ISBLANK(Datenerfassung!C998),\"\",Datenerfassung!C998)","v":""},{"$f":"IF(ISBLANK(Datenerfassung!R998),\"\",Datenerfassung!R998)","v":""},{"$f":"IF(ISBLANK(Datenerfassung!S998),\"\",Datenerfassung!S998)","v":""},"",{"$f":"IF(ISBLANK(Datenerfassung!U998),\"\",Datenerfassung!U998)","v":""},{"$f":"IF(ISBLANK(Datenerfassung!O998),\"\",Datenerfassung!O998)","v":""},{"$f":"IF(ISBLANK(Datenerfassung!D998),IF(COUNTBLANK(A988:H988)+COUNTBLANK(J988:O988)=14,\"\",\"- ohne Titel -\"),Datenerfassung!D998)","v":""},{"$f":"IF(ISBLANK(Datenerfassung!G998),\"\",Datenerfassung!G998)","v":""},"",{"$f":"IF(ISBLANK(Datenerfassung!X998),\"\",Datenerfassung!X998)","v":""},{"$f":"IF(COUNTBLANK(Datenerfassung!H998:'Datenerfassung'!N998)=7,\"\",CONCATENATE( CONCATENATE(IF(ISBLANK(Datenerfassung!H998),\" \",Datenerfassung!H998 ),\" [IS]\"), CONCATENATE(IF(ISBLANK(Datenerfassung!I998),\" \",Datenerfassung!I998 ),\" [IS]\"), CONCATENATE(IF(ISBLANK(Datenerfassung!J998),\" \",Datenerfassung!J998 ),\" [IS]\"), CONCATENATE(IF(ISBLANK(Datenerfassung!K998),\" \",Datenerfassung!K998 ),\" [IS]\"), CONCATENATE(IF(ISBLANK(Datenerfassung!L998),\" \",Datenerfassung!L998 ),\" [IS]\"), CONCATENATE(IF(ISBLANK(Datenerfassung!M998),\" \",Datenerfassung!M998 ),\" [IS]\"), IF(ISBLANK(Datenerfassung!N998),\" \",Datenerfassung!N998 ) ))","v":""},{"$f":"IF(ISBLANK(Datenerfassung!V998),\"\",Datenerfassung!V998)","v":""},{"$f":"IF(ISBLANK(Datenerfassung!Q998),\"\",Datenerfassung!Q998)","v":""}]
[{"$f":"IF(ISBLANK(Datenerfassung!A999),\"\",Datenerfassung!A999)","v":""},{"$f":"IF(ISBLANK(Datenerfassung!B999),\"\",Datenerfassung!B999)","v":""},{"$f":"IF(ISBLANK(Datenerfassung!C999),\"\",Datenerfassung!C999)","v":""},{"$f":"IF(ISBLANK(Datenerfassung!R999),\"\",Datenerfassung!R999)","v":""},{"$f":"IF(ISBLANK(Datenerfassung!S999),\"\",Datenerfassung!S999)","v":""},"",{"$f":"IF(ISBLANK(Datenerfassung!U999),\"\",Datenerfassung!U999)","v":""},{"$f":"IF(ISBLANK(Datenerfassung!O999),\"\",Datenerfassung!O999)","v":""},{"$f":"IF(ISBLANK(Datenerfassung!D999),IF(COUNTBLANK(A989:H989)+COUNTBLANK(J989:O989)=14,\"\",\"- ohne Titel -\"),Datenerfassung!D999)","v":""},{"$f":"IF(ISBLANK(Datenerfassung!G999),\"\",Datenerfassung!G999)","v":""},"",{"$f":"IF(ISBLANK(Datenerfassung!X999),\"\",Datenerfassung!X999)","v":""},{"$f":"IF(COUNTBLANK(Datenerfassung!H999:'Datenerfassung'!N999)=7,\"\",CONCATENATE( CONCATENATE(IF(ISBLANK(Datenerfassung!H999),\" \",Datenerfassung!H999 ),\" [IS]\"), CONCATENATE(IF(ISBLANK(Datenerfassung!I999),\" \",Datenerfassung!I999 ),\" [IS]\"), CONCATENATE(IF(ISBLANK(Datenerfassung!J999),\" \",Datenerfassung!J999 ),\" [IS]\"), CONCATENATE(IF(ISBLANK(Datenerfassung!K999),\" \",Datenerfassung!K999 ),\" [IS]\"), CONCATENATE(IF(ISBLANK(Datenerfassung!L999),\" \",Datenerfassung!L999 ),\" [IS]\"), CONCATENATE(IF(ISBLANK(Datenerfassung!M999),\" \",Datenerfassung!M999 ),\" [IS]\"), IF(ISBLANK(Datenerfassung!N999),\" \",Datenerfassung!N999 ) ))","v":""},{"$f":"IF(ISBLANK(Datenerfassung!V999),\"\",Datenerfassung!V999)","v":""},{"$f":"IF(ISBLANK(Datenerfassung!Q999),\"\",Datenerfassung!Q999)","v":""}]
[{"$f":"IF(ISBLANK(Datenerfassung!A1000),\"\",Datenerfassung!A1000)","v":""},{"$f":"IF(ISBLANK(Datenerfassung!B1000),\"\",Datenerfassung!B1000)","v":""},{"$f":"IF(ISBLANK(Datenerfassung!C1000),\"\",Datenerfassung!C1000)","v":""},{"$f":"IF(ISBLANK(Datenerfassung!R1000),\"\",Datenerfassung!R1000)","v":""},{"$f":"IF(ISBLANK(Datenerfassung!S1000),\"\",Datenerfassung!S1000)","v":""},"",{"$f":"IF(ISBLANK(Datenerfassung!U1000),\"\",Datenerfassung!U1000)","v":""},{"$f":"IF(ISBLANK(Datenerfassung!O1000),\"\",Datenerfassung!O1000)","v":""},{"$f":"IF(ISBLANK(Datenerfassung!D1000),IF(COUNTBLANK(A990:H990)+COUNTBLANK(J990:O990)=14,\"\",\"- ohne Titel -\"),Datenerfassung!D1000)","v":""},{"$f":"IF(ISBLANK(Datenerfassung!G1000),\"\",Datenerfassung!G1000)","v":""},"",{"$f":"IF(ISBLANK(Datenerfassung!X1000),\"\",Datenerfassung!X1000)","v":""},{"$f":"IF(COUNTBLANK(Datenerfassung!H1000:'Datenerfassung'!N1000)=7,\"\",CONCATENATE( CONCATENATE(IF(ISBLANK(Datenerfassung!H1000),\" \",Datenerfassung!H1000 ),\" [IS]\"), CONCATENATE(IF(ISBLANK(Datenerfassung!I1000),\" \",Datenerfassung!I1000 ),\" [IS]\"), CONCATENATE(IF(ISBLANK(Datenerfassung!J1000),\" \",Datenerfassung!J1000 ),\" [IS]\"), CONCATENATE(IF(ISBLANK(Datenerfassung!K1000),\" \",Datenerfassung!K1000 ),\" [IS]\"), CONCATENATE(IF(ISBLANK(Datenerfassung!L1000),\" \",Datenerfassung!L1000 ),\" [IS]\"), CONCATENATE(IF(ISBLANK(Datenerfassung!M1000),\" \",Datenerfassung!M1000 ),\" [IS]\"), IF(ISBLANK(Datenerfassung!N1000),\" \",Datenerfassung!N1000 ) ))","v":""},{"$f":"IF(ISBLANK(Datenerfassung!V1000),\"\",Datenerfassung!V1000)","v":""},{"$f":"IF(ISBLANK(Datenerfassung!Q1000),\"\",Datenerfassung!Q1000)","v":""}]
[{"$f":"IF(ISBLANK(Datenerfassung!A1001),\"\",Datenerfassung!A1001)","v":""},{"$f":"IF(ISBLANK(Datenerfassung!B1001),\"\",Datenerfassung!B1001)","v":""},{"$f":"IF(ISBLANK(Datenerfassung!C1001),\"\",Datenerfassung!C1001)","v":""},{"$f":"IF(ISBLANK(Datenerfassung!R1001),\"\",Datenerfassung!R1001)","v":""},{"$f":"IF(ISBLANK(Datenerfassung!S1001),\"\",Datenerfassung!S1001)","v":""},"",{"$f":"IF(ISBLANK(Datenerfassung!U1001),\"\",Datenerfassung!U1001)","v":""},{"$f":"IF(ISBLANK(Datenerfassung!O1001),\"\",Datenerfassung!O1001)","v":""},{"$f":"IF(ISBLANK(Datenerfassung!D1001),IF(COUNTBLANK(A991:H991)+COUNTBLANK(J991:O991)=14,\"\",\"- ohne Titel -\"),Datenerfassung!D1001)","v":""},{"$f":"IF(ISBLANK(Datenerfassung!G1001),\"\",Datenerfassung!G1001)","v":""},"",{"$f":"IF(ISBLANK(Datenerfassung!X1001),\"\",Datenerfassung!X1001)","v":""},{"$f":"IF(COUNTBLANK(Datenerfassung!H1001:'Datenerfassung'!N1001)=7,\"\",CONCATENATE( CONCATENATE(IF(ISBLANK(Datenerfassung!H1001),\" \",Datenerfassung!H1001 ),\" [IS]\"), CONCATENATE(IF(ISBLANK(Datenerfassung!I1001),\" \",Datenerfassung!I1001 ),\" [IS]\"), CONCATENATE(IF(ISBLANK(Datenerfassung!J1001),\" \",Datenerfassung!J1001 ),\" [IS]\"), CONCATENATE(IF(ISBLANK(Datenerfassung!K1001),\" \",Datenerfassung!K1001 ),\" [IS]\"), CONCATENATE(IF(ISBLANK(Datenerfassung!L1001),\" \",Datenerfassung!L1001 ),\" [IS]\"), CONCATENATE(IF(ISBLANK(Datenerfassung!M1001),\" \",Datenerfassung!M1001 ),\" [IS]\"), IF(ISBLANK(Datenerfassung!N1001),\" \",Datenerfassung!N1001 ) ))","v":""},{"$f":"IF(ISBLANK(Datenerfassung!V1001),\"\",Datenerfassung!V1001)","v":""},{"$f":"IF(ISBLANK(Datenerfassung!Q1001),\"\",Datenerfassung!Q1001)","v":""}]
[{"$f":"IF(ISBLANK(Datenerfassung!A1002),\"\",Datenerfassung!A1002)","v":""},{"$f":"IF(ISBLANK(Datenerfassung!B1002),\"\",Datenerfassung!B1002)","v":""},{"$f":"IF(ISBLANK(Datenerfassung!C1002),\"\",Datenerfassung!C1002)","v":""},{"$f":"IF(ISBLANK(Datenerfassung!R1002),\"\",Datenerfassung!R1002)","v":""},{"$f":"IF(ISBLANK(Datenerfassung!S1002),\"\",Datenerfassung!S1002)","v":""},"",{"$f":"IF(ISBLANK(Datenerfassung!U1002),\"\",Datenerfassung!U1002)","v":""},{"$f":"IF(ISBLANK(Datenerfassung!O1002),\"\",Datenerfassung!O1002)","v":""},{"$f":"IF(ISBLANK(Datenerfassung!D1002),IF(COUNTBLANK(A992:H992)+COUNTBLANK(J992:O992)=14,\"\",\"- ohne Titel -\"),Datenerfassung!D1002)","v":""},{"$f":"IF(ISBLANK(Datenerfassung!G1002),\"\",Datenerfassung!G1002)","v":""},"",{"$f":"IF(ISBLANK(Datenerfassung!X1002),\"\",Datenerfassung!X1002)","v":""},{"$f":"IF(COUNTBLANK(Datenerfassung!H1002:'Datenerfassung'!N1002)=7,\"\",CONCATENATE( CONCATENATE(IF(ISBLANK(Datenerfassung!H1002),\" \",Datenerfassung!H1002 ),\" [IS]\"), CONCATENATE(IF(ISBLANK(Datenerfassung!I1002),\" \",Datenerfassung!I1002 ),\" [IS]\"), CONCATENATE(IF(ISBLANK(Datenerfassung!J1002),\" \",Datenerfassung!J1002 ),\" [IS]\"), CONCATENATE(IF(ISBLANK(Datenerfassung!K1002),\" \",Datenerfassung!K1002 ),\" [IS]\"), CONCATENATE(IF(ISBLANK(Datenerfassung!L1002),\" \",Datenerfassung!L1002 ),\" [IS]\"), CONCATENATE(IF(ISBLANK(Datenerfassung!M1002),\" \",Datenerfassung!M1002 ),\" [IS]\"), IF(ISBLANK(Datenerfassung!N1002),\" \",Datenerfassung!N1002 ) ))","v":""},{"$f":"IF(ISBLANK(Datenerfassung!V1002),\"\",Datenerfassung!V1002)","v":""},{"$f":"IF(ISBLANK(Datenerfassung!Q1002),\"\",Datenerfassung!Q1002)","v":""}]
[{"$f":"IF(ISBLANK(Datenerfassung!A1003),\"\",Datenerfassung!A1003)","v":""},{"$f":"IF(ISBLANK(Datenerfassung!B1003),\"\",Datenerfassung!B1003)","v":""},{"$f":"IF(ISBLANK(Datenerfassung!C1003),\"\",Datenerfassung!C1003)","v":""},{"$f":"IF(ISBLANK(Datenerfassung!R1003),\"\",Datenerfassung!R1003)","v":""},{"$f":"IF(ISBLANK(Datenerfassung!S1003),\"\",Datenerfassung!S1003)","v":""},"",{"$f":"IF(ISBLANK(Datenerfassung!U1003),\"\",Datenerfassung!U1003)","v":""},{"$f":"IF(ISBLANK(Datenerfassung!O1003),\"\",Datenerfassung!O1003)","v":""},{"$f":"IF(ISBLANK(Datenerfassung!D1003),IF(COUNTBLANK(A993:H993)+COUNTBLANK(J993:O993)=14,\"\",\"- ohne Titel -\"),Datenerfassung!D1003)","v":""},{"$f":"IF(ISBLANK(Datenerfassung!G1003),\"\",Datenerfassung!G1003)","v":""},"",{"$f":"IF(ISBLANK(Datenerfassung!X1003),\"\",Datenerfassung!X1003)","v":""},{"$f":"IF(COUNTBLANK(Datenerfassung!H1003:'Datenerfassung'!N1003)=7,\"\",CONCATENATE( CONCATENATE(IF(ISBLANK(Datenerfassung!H1003),\" \",Datenerfassung!H1003 ),\" [IS]\"), CONCATENATE(IF(ISBLANK(Datenerfassung!I1003),\" \",Datenerfassung!I1003 ),\" [IS]\"), CONCATENATE(IF(ISBLANK(Datenerfassung!J1003),\" \",Datenerfassung!J1003 ),\" [IS]\"), CONCATENATE(IF(ISBLANK(Datenerfassung!K1003),\" \",Datenerfassung!K1003 ),\" [IS]\"), CONCATENATE(IF(ISBLANK(Datenerfassung!L1003),\" \",Datenerfassung!L1003 ),\" [IS]\"), CONCATENATE(IF(ISBLANK(Datenerfassung!M1003),\" \",Datenerfassung!M1003 ),\" [IS]\"), IF(ISBLANK(Datenerfassung!N1003),\" \",Datenerfassung!N1003 ) ))","v":""},{"$f":"IF(ISBLANK(Datenerfassung!V1003),\"\",Datenerfassung!V1003)","v":""},{"$f":"IF(ISBLANK(Datenerfassung!Q1003),\"\",Datenerfassung!Q1003)","v":""}]
[{"$f":"IF(ISBLANK(Datenerfassung!A1004),\"\",Datenerfassung!A1004)","v":""},{"$f":"IF(ISBLANK(Datenerfassung!B1004),\"\",Datenerfassung!B1004)","v":""},{"$f":"IF(ISBLANK(Datenerfassung!C1004),\"\",Datenerfassung!C1004)","v":""},{"$f":"IF(ISBLANK(Datenerfassung!R1004),\"\",Datenerfassung!R1004)","v":""},{"$f":"IF(ISBLANK(Datenerfassung!S1004),\"\",Datenerfassung!S1004)","v":""},"",{"$f":"IF(ISBLANK(Datenerfassung!U1004),\"\",Datenerfassung!U1004)","v":""},{"$f":"IF(ISBLANK(Datenerfassung!O1004),\"\",Datenerfassung!O1004)","v":""},{"$f":"IF(ISBLANK(Datenerfassung!D1004),IF(COUNTBLANK(A994:H994)+COUNTBLANK(J994:O994)=14,\"\",\"- ohne Titel -\"),Datenerfassung!D1004)","v":""},{"$f":"IF(ISBLANK(Datenerfassung!G1004),\"\",Datenerfassung!G1004)","v":""},"",{"$f":"IF(ISBLANK(Datenerfassung!X1004),\"\",Datenerfassung!X1004)","v":""},{"$f":"IF(COUNTBLANK(Datenerfassung!H1004:'Datenerfassung'!N1004)=7,\"\",CONCATENATE( CONCATENATE(IF(ISBLANK(Datenerfassung!H1004),\" \",Datenerfassung!H1004 ),\" [IS]\"), CONCATENATE(IF(ISBLANK(Datenerfassung!I1004),\" \",Datenerfassung!I1004 ),\" [IS]\"), CONCATENATE(IF(ISBLANK(Datenerfassung!J1004),\" \",Datenerfassung!J1004 ),\" [IS]\"), CONCATENATE(IF(ISBLANK(Datenerfassung!K1004),\" \",Datenerfassung!K1004 ),\" [IS]\"), CONCATENATE(IF(ISBLANK(Datenerfassung!L1004),\" \",Datenerfassung!L1004 ),\" [IS]\"), CONCATENATE(IF(ISBLANK(Datenerfassung!M1004),\" \",Datenerfassung!M1004 ),\" [IS]\"), IF(ISBLANK(Datenerfassung!N1004),\" \",Datenerfassung!N1004 ) ))","v":""},{"$f":"IF(ISBLANK(Datenerfassung!V1004),\"\",Datenerfassung!V1004)","v":""},{"$f":"IF(ISBLANK(Datenerfassung!Q1004),\"\",Datenerfassung!Q1004)","v":""}]
[{"$f":"IF(ISBLANK(Datenerfassung!A1005),\"\",Datenerfassung!A1005)","v":""},{"$f":"IF(ISBLANK(Datenerfassung!B1005),\"\",Datenerfassung!B1005)","v":""},{"$f":"IF(ISBLANK(Datenerfassung!C1005),\"\",Datenerfassung!C1005)","v":""},{"$f":"IF(ISBLANK(Datenerfassung!R1005),\"\",Datenerfassung!R1005)","v":""},{"$f":"IF(ISBLANK(Datenerfassung!S1005),\"\",Datenerfassung!S1005)","v":""},"",{"$f":"IF(ISBLANK(Datenerfassung!U1005),\"\",Datenerfassung!U1005)","v":""},{"$f":"IF(ISBLANK(Datenerfassung!O1005),\"\",Datenerfassung!O1005)","v":""},{"$f":"IF(ISBLANK(Datenerfassung!D1005),IF(COUNTBLANK(A995:H995)+COUNTBLANK(J995:O995)=14,\"\",\"- ohne Titel -\"),Datenerfassung!D1005)","v":""},{"$f":"IF(ISBLANK(Datenerfassung!G1005),\"\",Datenerfassung!G1005)","v":""},"",{"$f":"IF(ISBLANK(Datenerfassung!X1005),\"\",Datenerfassung!X1005)","v":""},{"$f":"IF(COUNTBLANK(Datenerfassung!H1005:'Datenerfassung'!N1005)=7,\"\",CONCATENATE( CONCATENATE(IF(ISBLANK(Datenerfassung!H1005),\" \",Datenerfassung!H1005 ),\" [IS]\"), CONCATENATE(IF(ISBLANK(Datenerfassung!I1005),\" \",Datenerfassung!I1005 ),\" [IS]\"), CONCATENATE(IF(ISBLANK(Datenerfassung!J1005),\" \",Datenerfassung!J1005 ),\" [IS]\"), CONCATENATE(IF(ISBLANK(Datenerfassung!K1005),\" \",Datenerfassung!K1005 ),\" [IS]\"), CONCATENATE(IF(ISBLANK(Datenerfassung!L1005),\" \",Datenerfassung!L1005 ),\" [IS]\"), CONCATENATE(IF(ISBLANK(Datenerfassung!M1005),\" \",Datenerfassung!M1005 ),\" [IS]\"), IF(ISBLANK(Datenerfassung!N1005),\" \",Datenerfassung!N1005 ) ))","v":""},{"$f":"IF(ISBLANK(Datenerfassung!V1005),\"\",Datenerfassung!V1005)","v":""},{"$f":"IF(ISBLANK(Datenerfassung!Q1005),\"\",Datenerfassung!Q1005)","v":""}]
[{"$f":"IF(ISBLANK(Datenerfassung!A1006),\"\",Datenerfassung!A1006)","v":""},{"$f":"IF(ISBLANK(Datenerfassung!B1006),\"\",Datenerfassung!B1006)","v":""},{"$f":"IF(ISBLANK(Datenerfassung!C1006),\"\",Datenerfassung!C1006)","v":""},{"$f":"IF(ISBLANK(Datenerfassung!R1006),\"\",Datenerfassung!R1006)","v":""},{"$f":"IF(ISBLANK(Datenerfassung!S1006),\"\",Datenerfassung!S1006)","v":""},"",{"$f":"IF(ISBLANK(Datenerfassung!U1006),\"\",Datenerfassung!U1006)","v":""},{"$f":"IF(ISBLANK(Datenerfassung!O1006),\"\",Datenerfassung!O1006)","v":""},{"$f":"IF(ISBLANK(Datenerfassung!D1006),IF(COUNTBLANK(A996:H996)+COUNTBLANK(J996:O996)=14,\"\",\"- ohne Titel -\"),Datenerfassung!D1006)","v":""},{"$f":"IF(ISBLANK(Datenerfassung!G1006),\"\",Datenerfassung!G1006)","v":""},"",{"$f":"IF(ISBLANK(Datenerfassung!X1006),\"\",Datenerfassung!X1006)","v":""},{"$f":"IF(COUNTBLANK(Datenerfassung!H1006:'Datenerfassung'!N1006)=7,\"\",CONCATENATE( CONCATENATE(IF(ISBLANK(Datenerfassung!H1006),\" \",Datenerfassung!H1006 ),\" [IS]\"), CONCATENATE(IF(ISBLANK(Datenerfassung!I1006),\" \",Datenerfassung!I1006 ),\" [IS]\"), CONCATENATE(IF(ISBLANK(Datenerfassung!J1006),\" \",Datenerfassung!J1006 ),\" [IS]\"), CONCATENATE(IF(ISBLANK(Datenerfassung!K1006),\" \",Datenerfassung!K1006 ),\" [IS]\"), CONCATENATE(IF(ISBLANK(Datenerfassung!L1006),\" \",Datenerfassung!L1006 ),\" [IS]\"), CONCATENATE(IF(ISBLANK(Datenerfassung!M1006),\" \",Datenerfassung!M1006 ),\" [IS]\"), IF(ISBLANK(Datenerfassung!N1006),\" \",Datenerfassung!N1006 ) ))","v":""},{"$f":"IF(ISBLANK(Datenerfassung!V1006),\"\",Datenerfassung!V1006)","v":""},{"$f":"IF(ISBLANK(Datenerfassung!Q1006),\"\",Datenerfassung!Q1006)","v":""}]
[{"$f":"IF(ISBLANK(Datenerfassung!A1007),\"\",Datenerfassung!A1007)","v":""},{"$f":"IF(ISBLANK(Datenerfassung!B1007),\"\",Datenerfassung!B1007)","v":""},{"$f":"IF(ISBLANK(Datenerfassung!C1007),\"\",Datenerfassung!C1007)","v":""},{"$f":"IF(ISBLANK(Datenerfassung!R1007),\"\",Datenerfassung!R1007)","v":""},{"$f":"IF(ISBLANK(Datenerfassung!S1007),\"\",Datenerfassung!S1007)","v":""},"",{"$f":"IF(ISBLANK(Datenerfassung!U1007),\"\",Datenerfassung!U1007)","v":""},{"$f":"IF(ISBLANK(Datenerfassung!O1007),\"\",Datenerfassung!O1007)","v":""},{"$f":"IF(ISBLANK(Datenerfassung!D1007),IF(COUNTBLANK(A997:H997)+COUNTBLANK(J997:O997)=14,\"\",\"- ohne Titel -\"),Datenerfassung!D1007)","v":""},{"$f":"IF(ISBLANK(Datenerfassung!G1007),\"\",Datenerfassung!G1007)","v":""},"",{"$f":"IF(ISBLANK(Datenerfassung!X1007),\"\",Datenerfassung!X1007)","v":""},{"$f":"IF(COUNTBLANK(Datenerfassung!H1007:'Datenerfassung'!N1007)=7,\"\",CONCATENATE( CONCATENATE(IF(ISBLANK(Datenerfassung!H1007),\" \",Datenerfassung!H1007 ),\" [IS]\"), CONCATENATE(IF(ISBLANK(Datenerfassung!I1007),\" \",Datenerfassung!I1007 ),\" [IS]\"), CONCATENATE(IF(ISBLANK(Datenerfassung!J1007),\" \",Datenerfassung!J1007 ),\" [IS]\"), CONCATENATE(IF(ISBLANK(Datenerfassung!K1007),\" \",Datenerfassung!K1007 ),\" [IS]\"), CONCATENATE(IF(ISBLANK(Datenerfassung!L1007),\" \",Datenerfassung!L1007 ),\" [IS]\"), CONCATENATE(IF(ISBLANK(Datenerfassung!M1007),\" \",Datenerfassung!M1007 ),\" [IS]\"), IF(ISBLANK(Datenerfassung!N1007),\" \",Datenerfassung!N1007 ) ))","v":""},{"$f":"IF(ISBLANK(Datenerfassung!V1007),\"\",Datenerfassung!V1007)","v":""},{"$f":"IF(ISBLANK(Datenerfassung!Q1007),\"\",Datenerfassung!Q1007)","v":""}]
[{"$f":"IF(ISBLANK(Datenerfassung!A1008),\"\",Datenerfassung!A1008)","v":""},{"$f":"IF(ISBLANK(Datenerfassung!B1008),\"\",Datenerfassung!B1008)","v":""},{"$f":"IF(ISBLANK(Datenerfassung!C1008),\"\",Datenerfassung!C1008)","v":""},{"$f":"IF(ISBLANK(Datenerfassung!R1008),\"\",Datenerfassung!R1008)","v":""},{"$f":"IF(ISBLANK(Datenerfassung!S1008),\"\",Datenerfassung!S1008)","v":""},"",{"$f":"IF(ISBLANK(Datenerfassung!U1008),\"\",Datenerfassung!U1008)","v":""},{"$f":"IF(ISBLANK(Datenerfassung!O1008),\"\",Datenerfassung!O1008)","v":""},{"$f":"IF(ISBLANK(Datenerfassung!D1008),IF(COUNTBLANK(A998:H998)+COUNTBLANK(J998:O998)=14,\"\",\"- ohne Titel -\"),Datenerfassung!D1008)","v":""},{"$f":"IF(ISBLANK(Datenerfassung!G1008),\"\",Datenerfassung!G1008)","v":""},"",{"$f":"IF(ISBLANK(Datenerfassung!X1008),\"\",Datenerfassung!X1008)","v":""},{"$f":"IF(COUNTBLANK(Datenerfassung!H1008:'Datenerfassung'!N1008)=7,\"\",CONCATENATE( CONCATENATE(IF(ISBLANK(Datenerfassung!H1008),\" \",Datenerfassung!H1008 ),\" [IS]\"), CONCATENATE(IF(ISBLANK(Datenerfassung!I1008),\" \",Datenerfassung!I1008 ),\" [IS]\"), CONCATENATE(IF(ISBLANK(Datenerfassung!J1008),\" \",Datenerfassung!J1008 ),\" [IS]\"), CONCATENATE(IF(ISBLANK(Datenerfassung!K1008),\" \",Datenerfassung!K1008 ),\" [IS]\"), CONCATENATE(IF(ISBLANK(Datenerfassung!L1008),\" \",Datenerfassung!L1008 ),\" [IS]\"), CONCATENATE(IF(ISBLANK(Datenerfassung!M1008),\" \",Datenerfassung!M1008 ),\" [IS]\"), IF(ISBLANK(Datenerfassung!N1008),\" \",Datenerfassung!N1008 ) ))","v":""},{"$f":"IF(ISBLANK(Datenerfassung!V1008),\"\",Datenerfassung!V1008)","v":""},{"$f":"IF(ISBLANK(Datenerfassung!Q1008),\"\",Datenerfassung!Q1008)","v":""}]
[{"$f":"IF(ISBLANK(Datenerfassung!A1009),\"\",Datenerfassung!A1009)","v":""},{"$f":"IF(ISBLANK(Datenerfassung!B1009),\"\",Datenerfassung!B1009)","v":""},{"$f":"IF(ISBLANK(Datenerfassung!C1009),\"\",Datenerfassung!C1009)","v":""},{"$f":"IF(ISBLANK(Datenerfassung!R1009),\"\",Datenerfassung!R1009)","v":""},{"$f":"IF(ISBLANK(Datenerfassung!S1009),\"\",Datenerfassung!S1009)","v":""},"",{"$f":"IF(ISBLANK(Datenerfassung!U1009),\"\",Datenerfassung!U1009)","v":""},{"$f":"IF(ISBLANK(Datenerfassung!O1009),\"\",Datenerfassung!O1009)","v":""},{"$f":"IF(ISBLANK(Datenerfassung!D1009),IF(COUNTBLANK(A999:H999)+COUNTBLANK(J999:O999)=14,\"\",\"- ohne Titel -\"),Datenerfassung!D1009)","v":""},{"$f":"IF(ISBLANK(Datenerfassung!G1009),\"\",Datenerfassung!G1009)","v":""},"",{"$f":"IF(ISBLANK(Datenerfassung!X1009),\"\",Datenerfassung!X1009)","v":""},{"$f":"IF(COUNTBLANK(Datenerfassung!H1009:'Datenerfassung'!N1009)=7,\"\",CONCATENATE( CONCATENATE(IF(ISBLANK(Datenerfassung!H1009),\" \",Datenerfassung!H1009 ),\" [IS]\"), CONCATENATE(IF(ISBLANK(Datenerfassung!I1009),\" \",Datenerfassung!I1009 ),\" [IS]\"), CONCATENATE(IF(ISBLANK(Datenerfassung!J1009),\" \",Datenerfassung!J1009 ),\" [IS]\"), CONCATENATE(IF(ISBLANK(Datenerfassung!K1009),\" \",Datenerfassung!K1009 ),\" [IS]\"), CONCATENATE(IF(ISBLANK(Datenerfassung!L1009),\" \",Datenerfassung!L1009 ),\" [IS]\"), CONCATENATE(IF(ISBLANK(Datenerfassung!M1009),\" \",Datenerfassung!M1009 ),\" [IS]\"), IF(ISBLANK(Datenerfassung!N1009),\" \",Datenerfassung!N1009 ) ))","v":""},{"$f":"IF(ISBLANK(Datenerfassung!V1009),\"\",Datenerfassung!V1009)","v":""},{"$f":"IF(ISBLANK(Datenerfassung!Q1009),\"\",Datenerfassung!Q1009)","v":""}]
[{"$f":"IF(ISBLANK(Datenerfassung!A1010),\"\",Datenerfassung!A1010)","v":""},{"$f":"IF(ISBLANK(Datenerfassung!B1010),\"\",Datenerfassung!B1010)","v":""},{"$f":"IF(ISBLANK(Datenerfassung!C1010),\"\",Datenerfassung!C1010)","v":""},{"$f":"IF(ISBLANK(Datenerfassung!R1010),\"\",Datenerfassung!R1010)","v":""},{"$f":"IF(ISBLANK(Datenerfassung!S1010),\"\",Datenerfassung!S1010)","v":""},"",{"$f":"IF(ISBLANK(Datenerfassung!U1010),\"\",Datenerfassung!U1010)","v":""},{"$f":"IF(ISBLANK(Datenerfassung!O1010),\"\",Datenerfassung!O1010)","v":""},{"$f":"IF(ISBLANK(Datenerfassung!D1010),IF(COUNTBLANK(A1000:H1000)+COUNTBLANK(J1000:O1000)=14,\"\",\"- ohne Titel -\"),Datenerfassung!D1010)","v":""},{"$f":"IF(ISBLANK(Datenerfassung!G1010),\"\",Datenerfassung!G1010)","v":""},"",{"$f":"IF(ISBLANK(Datenerfassung!X1010),\"\",Datenerfassung!X1010)","v":""},{"$f":"IF(COUNTBLANK(Datenerfassung!H1010:'Datenerfassung'!N1010)=7,\"\",CONCATENATE( CONCATENATE(IF(ISBLANK(Datenerfassung!H1010),\" \",Datenerfassung!H1010 ),\" [IS]\"), CONCATENATE(IF(ISBLANK(Datenerfassung!I1010),\" \",Datenerfassung!I1010 ),\" [IS]\"), CONCATENATE(IF(ISBLANK(Datenerfassung!J1010),\" \",Datenerfassung!J1010 ),\" [IS]\"), CONCATENATE(IF(ISBLANK(Datenerfassung!K1010),\" \",Datenerfassung!K1010 ),\" [IS]\"), CONCATENATE(IF(ISBLANK(Datenerfassung!L1010),\" \",Datenerfassung!L1010 ),\" [IS]\"), CONCATENATE(IF(ISBLANK(Datenerfassung!M1010),\" \",Datenerfassung!M1010 ),\" [IS]\"), IF(ISBLANK(Datenerfassung!N1010),\" \",Datenerfassung!N1010 ) ))","v":""},{"$f":"IF(ISBLANK(Datenerfassung!V1010),\"\",Datenerfassung!V1010)","v":""},{"$f":"IF(ISBLANK(Datenerfassung!Q1010),\"\",Datenerfassung!Q1010)","v":""}]

{"sheet":"Datenerfassung","index":1,"n_rows":1022,"n_cols":24,"rows_kept":1022,"cut":false,"hidden":false,"merged":[[2,5,2,7],[4,5,4,7]]}
["Abgabeliste Personalakten"]
[]
["Abgebende Stelle/Strukturbereich:",null,null,null,null,"Abgebende Stelle"]
[]
["Sachbearbeiter:",null,null,null,null,"Sachbearbeiter"]
[]
["Abgabedatum:",null,null,null,null,"(TT.MM.JJJJ)"]
[]
["Druckdatum:",null,null,null,null,{"$f":"NOW()","v":"2018-07-26T12:05:30.920"}]
[]
["ltd. Nummer","Zugangs- / ZwA-Nummer (wird vom Archiv ausgefüllt)","Signatur","Titel","Nachname","Vorname","Name","Geburtsname","Geschlecht (m/w)","Geburtsdatum  (TT.MM.JJJJ)","Geburtsort","Geburtsland","Staatsangehörigkeit","Wo tätig (Fakultaet / Dienststelle)","Band","Bemerkungen","Index / Querverweis","Beschäftigungsbeginn  (TT.MM.JJJJ)","Beschäftigungsende (TT.MM.JJJJ)","Laufzeit\n(wird berechnet)","Frist\n(Jahre)","nach Fristende\nD = dauerhaft","Stichtag\n(wird berechnet)","Bewertungsvorschlag\nA = Archivierung\nK = Kassation"]
[null,null,null,null,null,null,{"$f":"CONCATENATE(IF(ISBLANK(E12),\"\",E12),IF(AND(ISBLANK(F12),ISBLANK(E12)),\"\",\", \"),IF(ISBLANK(F12),\"\",F12))","v":""}]
[null,null,null,null,null,null,"",null,null,null,null,null,null,null,null,null,null,null,null,null,null,null,{"$f":"IF(OR(ISBLANK(U13),ISBLANK(S13)),\"\",\"01.01.\"&RIGHT(S13,4)+U13+1)","v":""}]
[null,null,null,null,null,null,"",null,null,null,null,null,null,null,null,null,null,null,null,{"$f":"IF(R14=\"\",\"\",IF(S14=\"\",R14,R14&\" - \"&S14))","v":""},null,null,""]
[null,null,null,null,null,null,"",null,null,null,null,null,null,null,null,null,null,null,null,"",null,null,""]
[null,null,null,null,null,null,"",null,null,null,null,null,null,null,null,null,null,null,null,"",null,null,""]
[null,null,null,null,null,null,"",null,null,null,null,null,null,null,null,null,null,null,null,"",null,null,""]
[null,null,null,null,null,null,"",null,null,null,null,null,null,null,null,null,null,null,null,"",null,null,""]
[null,null,null,null,null,null,"",null,null,null,null,null,null,null,null,null,null,null,null,"",null,null,""]
[null,null,null,null,null,null,"",null,null,null,null,null,null,null,null,null,null,null,null,"",null,null,""]
[null,null,null,null,null,null,"",null,null,null,null,null,null,null,null,null,null,null,null,"",null,null,""]
[null,null,null,null,null,null,"",null,null,null,null,null,null,null,null,null,null,null,null,"",null,null,""]
[null,null,null,null,null,null,"",null,null,null,null,null,null,null,null,null,null,null,null,"",null,null,""]
[null,null,null,null,null,null,"",null,null,null,null,null,null,null,null,null,null,null,null,"",null,null,""]
[null,null,null,null,null,null,"",null,null,null,null,null,null,null,null,null,null,null,null,"",null,null,""]
[null,null,null,null,null,null,"",null,null,null,null,null,null,null,null,null,null,null,null,"",null,null,""]
[null,null,null,null,null,null,"",null,null,null,null,null,null,null,null,null,null,null,null,"",null,null,""]
[null,null,null,null,null,null,"",null,null,null,null,null,null,null,null,null,null,null,null,"",null,null,""]
[null,null,null,null,null,null,"",null,null,null,null,null,null,null,null,null,null,null,null,"",null,null,""]
[null,null,null,null,null,null,"",null,null,null,null,null,null,null,null,null,null,null,null,"",null,null,""]
[null,null,null,null,null,null,"",null,null,null,null,null,null,null,null,null,null,null,null,"",null,null,""]
[null,null,null,null,null,null,"",null,null,null,null,null,null,null,null,null,null,null,null,"",null,null,""]
[null,null,null,null,null,null,"",null,null,null,null,null,null,null,null,null,null,null,null,"",null,null,""]
[null,null,null,null,null,null,"",null,null,null,null,null,null,null,null,null,null,null,null,"",null,null,""]
[null,null,null,null,null,null,{"$f":"CONCATENATE(IF(ISBLANK(E35),\"\",E35),IF(AND(ISBLANK(F35),ISBLANK(E35)),\"\",\", \"),IF(ISBLANK(F35),\"\",F35))","v":""},null,null,null,null,null,null,null,null,null,null,null,null,"",null,null,""]
[null,null,null,null,null,null,"",null,null,null,null,null,null,null,null,null,null,null,null,"",null,null,""]
[null,null,null,null,null,null,"",null,null,null,null,null,null,null,null,null,null,null,null,"",null,null,""]
[null,null,null,null,null,null,"",null,null,null,null,null,null,null,null,null,null,null,null,"",null,null,""]
[null,null,null,null,null,null,"",null,null,null,null,null,null,null,null,null,null,null,null,"",null,null,""]
[null,null,null,null,null,null,"",null,null,null,null,null,null,null,null,null,null,null,null,"",null,null,""]
[null,null,null,null,null,null,"",null,null,null,null,null,null,null,null,null,null,null,null,"",null,null,""]
[null,null,null,null,null,null,"",null,null,null,null,null,null,null,null,null,null,null,null,"",null,null,""]
[null,null,null,null,null,null,"",null,null,null,null,null,null,null,null,null,null,null,null,"",null,null,""]
[null,null,null,null,null,null,"",null,null,null,null,null,null,null,null,null,null,null,null,"",null,null,""]
[null,null,null,null,null,null,"",null,null,null,null,null,null,null,null,null,null,null,null,"",null,null,""]
[null,null,null,null,null,null,"",null,null,null,null,null,null,null,null,null,null,null,null,"",null,null,""]
[null,null,null,null,null,null,"",null,null,null,null,null,null,null,null,null,null,null,null,"",null,null,""]
[null,null,null,null,null,null,"",null,null,null,null,null,null,null,null,null,null,null,null,"",null,null,""]
[null,null,null,null,null,null,"",null,null,null,null,null,null,null,null,null,null,null,null,"",null,null,""]
[null,null,null,null,null,null,"",null,null,null,null,null,null,null,null,null,null,null,null,"",null,null,""]
[null,null,null,null,null,null,"",null,null,null,null,null,null,null,null,null,null,null,null,"",null,null,""]
[null,null,null,null,null,null,"",null,null,null,null,null,null,null,null,null,null,null,null,"",null,null,""]
[null,null,null,null,null,null,"",null,null,null,null,null,null,null,null,null,null,null,null,"",null,null,""]
[null,null,null,null,null,null,"",null,null,null,null,null,null,null,null,null,null,null,null,"",null,null,""]
[null,null,null,null,null,null,"",null,null,null,null,null,null,null,null,null,null,null,null,"",null,null,""]
[null,null,null,null,null,null,"",null,null,null,null,null,null,null,null,null,null,null,null,"",null,null,""]
[null,null,null,null,null,null,"",null,null,null,null,null,null,null,null,null,null,null,null,"",null,null,""]
[null,null,null,null,null,null,"",null,null,null,null,null,null,null,null,null,null,null,null,"",null,null,""]
[null,null,null,null,null,null,"",null,null,null,null,null,null,null,null,null,null,null,null,"",null,null,""]
[null,null,null,null,null,null,"",null,null,null,null,null,null,null,null,null,null,null,null,"",null,null,""]
[null,null,null,null,null,null,"",null,null,null,null,null,null,null,null,null,null,null,null,"",null,null,""]
[null,null,null,null,null,null,"",null,null,null,null,null,null,null,null,null,null,null,null,"",null,null,""]
[null,null,null,null,null,null,"",null,null,null,null,null,null,null,null,null,null,null,null,"",null,null,""]
[null,null,null,null,null,null,"",null,null,null,null,null,null,null,null,null,null,null,null,"",null,null,""]
[null,null,null,null,null,null,"",null,null,null,null,null,null,null,null,null,null,null,null,"",null,null,""]
[null,null,null,null,null,null,"",null,null,null,null,null,null,null,null,null,null,null,null,"",null,null,""]
[null,null,null,null,null,null,"",null,null,null,null,null,null,null,null,null,null,null,null,"",null,null,""]
[null,null,null,null,null,null,"",null,null,null,null,null,null,null,null,null,null,null,null,"",null,null,""]
[null,null,null,null,null,null,"",null,null,null,null,null,null,null,null,null,null,null,null,"",null,null,""]
[null,null,null,null,null,null,"",null,null,null,null,null,null,null,null,null,null,null,null,"",null,null,""]
[null,null,null,null,null,null,"",null,null,null,null,null,null,null,null,null,null,null,null,"",null,null,""]
[null,null,null,null,null,null,"",null,null,null,null,null,null,null,null,null,null,null,null,"",null,null,""]
[null,null,null,null,null,null,"",null,null,null,null,null,null,null,null,null,null,null,null,"",null,null,""]
[null,null,null,null,null,null,"",null,null,null,null,null,null,null,null,null,null,null,null,"",null,null,""]
[null,null,null,null,null,null,"",null,null,null,null,null,null,null,null,null,null,null,null,"",null,null,""]
[null,null,null,null,null,null,"",null,null,null,null,null,null,null,null,null,null,null,null,{"$f":"IF(R76=\"\",\"\",IF(S76=\"\",R76,R76&\" - \"&S76))","v":""},null,null,""]
[null,null,null,null,null,null,"",null,null,null,null,null,null,null,null,null,null,null,null,"",null,null,{"$f":"IF(OR(ISBLANK(U77),ISBLANK(S77)),\"\",\"01.01.\"&RIGHT(S77,4)+U77+1)","v":""}]
[null,null,null,null,null,null,"",null,null,null,null,null,null,null,null,null,null,null,null,"",null,null,""]
[null,null,null,null,null,null,"",null,null,null,null,null,null,null,null,null,null,null,null,"",null,null,""]
[null,null,null,null,null,null,"",null,null,null,null,null,null,null,null,null,null,null,null,"",null,null,""]
[null,null,null,null,null,null,"",null,null,null,null,null,null,null,null,null,null,null,null,"",null,null,""]
[null,null,null,null,null,null,"",null,null,null,null,null,null,null,null,null,null,null,null,"",null,null,""]
[null,null,null,null,null,null,"",null,null,null,null,null,null,null,null,null,null,null,null,"",null,null,""]
[null,null,null,null,null,null,"",null,null,null,null,null,null,null,null,null,null,null,null,"",null,null,""]
[null,null,null,null,null,null,"",null,null,null,null,null,null,null,null,null,null,null,null,"",null,null,""]
[null,null,null,null,null,null,"",null,null,null,null,null,null,null,null,null,null,null,null,"",null,null,""]
[null,null,null,null,null,null,"",null,null,null,null,null,null,null,null,null,null,null,null,"",null,null,""]
[null,null,null,null,null,null,"",null,null,null,null,null,null,null,null,null,null,null,null,"",null,null,""]
[null,null,null,null,null,null,"",null,null,null,null,null,null,null,null,null,null,null,null,"",null,null,""]
[null,null,null,null,null,null,"",null,null,null,null,null,null,null,null,null,null,null,null,"",null,null,""]
[null,null,null,null,null,null,"",null,null,null,null,null,null,null,null,null,null,null,null,"",null,null,""]
[null,null,null,null,null,null,"",null,null,null,null,null,null,null,null,null,null,null,null,"",null,null,""]
[null,null,null,null,null,null,"",null,null,null,null,null,null,null,null,null,null,null,null,"",null,null,""]
[null,null,null,null,null,null,"",null,null,null,null,null,null,null,null,null,null,null,null,"",null,null,""]
[null,null,null,null,null,null,"",null,null,null,null,null,null,null,null,null,null,null,null,"",null,null,""]
[null,null,null,null,null,null,"",null,null,null,null,null,null,null,null,null,null,null,null,"",null,null,""]
[null,null,null,null,null,null,"",null,null,null,null,null,null,null,null,null,null,null,null,"",null,null,""]
[null,null,null,null,null,null,"",null,null,null,null,null,null,null,null,null,null,null,null,"",null,null,""]
[null,null,null,null,null,null,{"$f":"CONCATENATE(IF(ISBLANK(E99),\"\",E99),IF(AND(ISBLANK(F99),ISBLANK(E99)),\"\",\", \"),IF(ISBLANK(F99),\"\",F99))","v":""},null,null,null,null,null,null,null,null,null,null,null,null,"",null,null,""]
[null,null,null,null,null,null,"",null,null,null,null,null,null,null,null,null,null,null,null,"",null,null,""]
[null,null,null,null,null,null,"",null,null,null,null,null,null,null,null,null,null,null,null,"",null,null,""]
[null,null,null,null,null,null,"",null,null,null,null,null,null,null,null,null,null,null,null,"",null,null,""]
[null,null,null,null,null,null,"",null,null,null,null,null,null,null,null,null,null,null,null,"",null,null,""]
[null,null,null,null,null,null,"",null,null,null,null,null,null,null,null,null,null,null,null,"",null,null,""]
[null,null,null,null,null,null,"",null,null,null,null,null,null,null,null,null,null,null,null,"",null,null,""]
[null,null,null,null,null,null,"",null,null,null,null,null,null,null,null,null,null,null,null,"",null,null,""]
[null,null,null,null,null,null,"",null,null,null,null,null,null,null,null,null,null,null,null,"",null,null,""]
[null,null,null,null,null,null,"",null,null,null,null,null,null,null,null,null,null,null,null,"",null,null,""]
[null,null,null,null,null,null,"",null,null,null,null,null,null,null,null,null,null,null,null,"",null,null,""]
[null,null,null,null,null,null,"",null,null,null,null,null,null,null,null,null,null,null,null,"",null,null,""]
[null,null,null,null,null,null,"",null,null,null,null,null,null,null,null,null,null,null,null,"",null,null,""]
[null,null,null,null,null,null,"",null,null,null,null,null,null,null,null,null,null,null,null,"",null,null,""]
[null,null,null,null,null,null,"",null,null,null,null,null,null,null,null,null,null,null,null,"",null,null,""]
[null,null,null,null,null,null,"",null,null,null,null,null,null,null,null,null,null,null,null,"",null,null,""]
[null,null,null,null,null,null,"",null,null,null,null,null,null,null,null,null,null,null,null,"",null,null,""]
[null,null,null,null,null,null,"",null,null,null,null,null,null,null,null,null,null,null,null,"",null,null,""]
[null,null,null,null,null,null,"",null,null,null,null,null,null,null,null,null,null,null,null,"",null,null,""]
[null,null,null,null,null,null,"",null,null,null,null,null,null,null,null,null,null,null,null,"",null,null,""]
[null,null,null,null,null,null,"",null,null,null,null,null,null,null,null,null,null,null,null,"",null,null,""]
[null,null,null,null,null,null,"",null,null,null,null,null,null,null,null,null,null,null,null,"",null,null,""]
[null,null,null,null,null,null,"",null,null,null,null,null,null,null,null,null,null,null,null,"",null,null,""]
[null,null,null,null,null,null,"",null,null,null,null,null,null,null,null,null,null,null,null,"",null,null,""]
[null,null,null,null,null,null,"",null,null,null,null,null,null,null,null,null,null,null,null,"",null,null,""]
[null,null,null,null,null,null,"",null,null,null,null,null,null,null,null,null,null,null,null,"",null,null,""]
[null,null,null,null,null,null,"",null,null,null,null,null,null,null,null,null,null,null,null,"",null,null,""]
[null,null,null,null,null,null,"",null,null,null,null,null,null,null,null,null,null,null,null,"",null,null,""]
[null,null,null,null,null,null,"",null,null,null,null,null,null,null,null,null,null,null,null,"",null,null,""]
[null,null,null,null,null,null,"",null,null,null,null,null,null,null,null,null,null,null,null,"",null,null,""]
[null,null,null,null,null,null,"",null,null,null,null,null,null,null,null,null,null,null,null,"",null,null,""]
[null,null,null,null,null,null,"",null,null,null,null,null,null,null,null,null,null,null,null,"",null,null,""]
[null,null,null,null,null,null,"",null,null,null,null,null,null,null,null,null,null,null,null,"",null,null,""]
[null,null,null,null,null,null,"",null,null,null,null,null,null,null,null,null,null,null,null,"",null,null,""]
[null,null,null,null,null,null,"",null,null,null,null,null,null,null,null,null,null,null,null,"",null,null,""]
[null,null,null,null,null,null,"",null,null,null,null,null,null,null,null,null,null,null,null,"",null,null,""]
[null,null,null,null,null,null,"",null,null,null,null,null,null,null,null,null,null,null,null,"",null,null,""]
[null,null,null,null,null,null,"",null,null,null,null,null,null,null,null,null,null,null,null,"",null,null,""]
[null,null,null,null,null,null,"",null,null,null,null,null,null,null,null,null,null,null,null,"",null,null,""]
[null,null,null,null,null,null,"",null,null,null,null,null,null,null,null,null,null,null,null,"",null,null,""]
[null,null,null,null,null,null,"",null,null,null,null,null,null,null,null,null,null,null,null,"",null,null,""]
[null,null,null,null,null,null,"",null,null,null,null,null,null,null,null,null,null,null,null,{"$f":"IF(R140=\"\",\"\",IF(S140=\"\",R140,R140&\" - \"&S140))","v":""},null,null,""]
[null,null,null,null,null,null,"",null,null,null,null,null,null,null,null,null,null,null,null,"",null,null,{"$f":"IF(OR(ISBLANK(U141),ISBLANK(S141)),\"\",\"01.01.\"&RIGHT(S141,4)+U141+1)","v":""}]
[null,null,null,null,null,null,"",null,null,null,null,null,null,null,null,null,null,null,null,"",null,null,""]
[null,null,null,null,null,null,"",null,null,null,null,null,null,null,null,null,null,null,null,"",null,null,""]
[null,null,null,null,null,null,"",null,null,null,null,null,null,null,null,null,null,null,null,"",null,null,""]
[null,null,null,null,null,null,"",null,null,null,null,null,null,null,null,null,null,null,null,"",null,null,""]
[null,null,null,null,null,null,"",null,null,null,null,null,null,null,null,null,null,null,null,"",null,null,""]
[null,null,null,null,null,null,"",null,null,null,null,null,null,null,null,null,null,null,null,"",null,null,""]
[null,null,null,null,null,null,"",null,null,null,null,null,null,null,null,null,null,null,null,"",null,null,""]
[null,null,null,null,null,null,"",null,null,null,null,null,null,null,null,null,null,null,null,"",null,null,""]
[null,null,null,null,null,null,"",null,null,null,null,null,null,null,null,null,null,null,null,"",null,null,""]
[null,null,null,null,null,null,"",null,null,null,null,null,null,null,null,null,null,null,null,"",null,null,""]
[null,null,null,null,null,null,"",null,null,null,null,null,null,null,null,null,null,null,null,"",null,null,""]
[null,null,null,null,null,null,"",null,null,null,null,null,null,null,null,null,null,null,null,"",null,null,""]
[null,null,null,null,null,null,"",null,null,null,null,null,null,null,null,null,null,null,null,"",null,null,""]
[null,null,null,null,null,null,"",null,null,null,null,null,null,null,null,null,null,null,null,"",null,null,""]
[null,null,null,null,null,null,"",null,null,null,null,null,null,null,null,null,null,null,null,"",null,null,""]
[null,null,null,null,null,null,"",null,null,null,null,null,null,null,null,null,null,null,null,"",null,null,""]
[null,null,null,null,null,null,"",null,null,null,null,null,null,null,null,null,null,null,null,"",null,null,""]
[null,null,null,null,null,null,"",null,null,null,null,null,null,null,null,null,null,null,null,"",null,null,""]
[null,null,null,null,null,null,"",null,null,null,null,null,null,null,null,null,null,null,null,"",null,null,""]
[null,null,null,null,null,null,"",null,null,null,null,null,null,null,null,null,null,null,null,"",null,null,""]
[null,null,null,null,null,null,"",null,null,null,null,null,null,null,null,null,null,null,null,"",null,null,""]
[null,null,null,null,null,null,{"$f":"CONCATENATE(IF(ISBLANK(E163),\"\",E163),IF(AND(ISBLANK(F163),ISBLANK(E163)),\"\",\", \"),IF(ISBLANK(F163),\"\",F163))","v":""},null,null,null,null,null,null,null,null,null,null,null,null,"",null,null,""]
[null,null,null,null,null,null,"",null,null,null,null,null,null,null,null,null,null,null,null,"",null,null,""]
[null,null,null,null,null,null,"",null,null,null,null,null,null,null,null,null,null,null,null,"",null,null,""]
[null,null,null,null,null,null,"",null,null,null,null,null,null,null,null,null,null,null,null,"",null,null,""]
[null,null,null,null,null,null,"",null,null,null,null,null,null,null,null,null,null,null,null,"",null,null,""]
[null,null,null,null,null,null,"",null,null,null,null,null,null,null,null,null,null,null,null,"",null,null,""]
[null,null,null,null,null,null,"",null,null,null,null,null,null,null,null,null,null,null,null,"",null,null,""]
[null,null,null,null,null,null,"",null,null,null,null,null,null,null,null,null,null,null,null,"",null,null,""]
[null,null,null,null,null,null,"",null,null,null,null,null,null,null,null,null,null,null,null,"",null,null,""]
[null,null,null,null,null,null,"",null,null,null,null,null,null,null,null,null,null,null,null,"",null,null,""]
[null,null,null,null,null,null,"",null,null,null,null,null,null,null,null,null,null,null,null,"",null,null,""]
[null,null,null,null,null,null,"",null,null,null,null,null,null,null,null,null,null,null,null,"",null,null,""]
[null,null,null,null,null,null,"",null,null,null,null,null,null,null,null,null,null,null,null,"",null,null,""]
[null,null,null,null,null,null,"",null,null,null,null,null,null,null,null,null,null,null,null,"",null,null,""]
[null,null,null,null,null,null,"",null,null,null,null,null,null,null,null,null,null,null,null,"",null,null,""]
[null,null,null,null,null,null,"",null,null,null,null,null,null,null,null,null,null,null,null,"",null,null,""]
[null,null,null,null,null,null,"",null,null,null,null,null,null,null,null,null,null,null,null,"",null,null,""]
[null,null,null,null,null,null,"",null,null,null,null,null,null,null,null,null,null,null,null,"",null,null,""]
[null,null,null,null,null,null,"",null,null,null,null,null,null,null,null,null,null,null,null,"",null,null,""]
[null,null,null,null,null,null,"",null,null,null,null,null,null,null,null,null,null,null,null,"",null,null,""]
[null,null,null,null,null,null,"",null,null,null,null,null,null,null,null,null,null,null,null,"",null,null,""]
[null,null,null,null,null,null,"",null,null,null,null,null,null,null,null,null,null,null,null,"",null,null,""]
[null,null,null,null,null,null,"",null,null,null,null,null,null,null,null,null,null,null,null,"",null,null,""]
[null,null,null,null,null,null,"",null,null,null,null,null,null,null,null,null,null,null,null,"",null,null,""]
[null,null,null,null,null,null,"",null,null,null,null,null,null,null,null,null,null,null,null,"",null,null,""]
[null,null,null,null,null,null,"",null,null,null,null,null,null,null,null,null,null,null,null,"",null,null,""]
[null,null,null,null,null,null,"",null,null,null,null,null,null,null,null,null,null,null,null,"",null,null,""]
[null,null,null,null,null,null,"",null,null,null,null,null,null,null,null,null,null,null,null,"",null,null,""]
[null,null,null,null,null,null,"",null,null,null,null,null,null,null,null,null,null,null,null,"",null,null,""]
[null,null,null,null,null,null,"",null,null,null,null,null,null,null,null,null,null,null,null,"",null,null,""]
[null,null,null,null,null,null,"",null,null,null,null,null,null,null,null,null,null,null,null,"",null,null,""]
[null,null,null,null,null,null,"",null,null,null,null,null,null,null,null,null,null,null,null,"",null,null,""]
[null,null,null,null,null,null,"",null,null,null,null,null,null,null,null,null,null,null,null,"",null,null,""]
[null,null,null,null,null,null,"",null,null,null,null,null,null,null,null,null,null,null,null,"",null,null,""]
[null,null,null,null,null,null,"",null,null,null,null,null,null,null,null,null,null,null,null,"",null,null,""]
[null,null,null,null,null,null,"",null,null,null,null,null,null,null,null,null,null,null,null,"",null,null,""]
[null,null,null,null,null,null,"",null,null,null,null,null,null,null,null,null,null,null,null,"",null,null,""]
[null,null,null,null,null,null,"",null,null,null,null,null,null,null,null,null,null,null,null,"",null,null,""]
[null,null,null,null,null,null,"",null,null,null,null,null,null,null,null,null,null,null,null,"",null,null,""]
[null,null,null,null,null,null,"",null,null,null,null,null,null,null,null,null,null,null,null,"",null,null,""]
[null,null,null,null,null,null,"",null,null,null,null,null,null,null,null,null,null,null,null,"",null,null,""]
[null,null,null,null,null,null,"",null,null,null,null,null,null,null,null,null,null,null,null,{"$f":"IF(R204=\"\",\"\",IF(S204=\"\",R204,R204&\" - \"&S204))","v":""},null,null,""]
[null,null,null,null,null,null,"",null,null,null,null,null,null,null,null,null,null,null,null,"",null,null,{"$f":"IF(OR(ISBLANK(U205),ISBLANK(S205)),\"\",\"01.01.\"&RIGHT(S205,4)+U205+1)","v":""}]
[null,null,null,null,null,null,"",null,null,null,null,null,null,null,null,null,null,null,null,"",null,null,""]
[null,null,null,null,null,null,"",null,null,null,null,null,null,null,null,null,null,null,null,"",null,null,""]
[null,null,null,null,null,null,"",null,null,null,null,null,null,null,null,null,null,null,null,"",null,null,""]
[null,null,null,null,null,null,"",null,null,null,null,null,null,null,null,null,null,null,null,"",null,null,""]
[null,null,null,null,null,null,"",null,null,null,null,null,null,null,null,null,null,null,null,"",null,null,""]
[null,null,null,null,null,null,"",null,null,null,null,null,null,null,null,null,null,null,null,"",null,null,""]
[null,null,null,null,null,null,"",null,null,null,null,null,null,null,null,null,null,null,null,"",null,null,""]
[null,null,null,null,null,null,"",null,null,null,null,null,null,null,null,null,null,null,null,"",null,null,""]
[null,null,null,null,null,null,"",null,null,null,null,null,null,null,null,null,null,null,null,"",null,null,""]
[null,null,null,null,null,null,"",null,null,null,null,null,null,null,null,null,null,null,null,"",null,null,""]
[null,null,null,null,null,null,"",null,null,null,null,null,null,null,null,null,null,null,null,"",null,null,""]
[null,null,null,null,null,null,"",null,null,null,null,null,null,null,null,null,null,null,null,"",null,null,""]
[null,null,null,null,null,null,"",null,null,null,null,null,null,null,null,null,null,null,null,"",null,null,""]
[null,null,null,null,null,null,"",null,null,null,null,null,null,null,null,null,null,null,null,"",null,null,""]
[null,null,null,null,null,null,"",null,null,null,null,null,null,null,null,null,null,null,null,"",null,null,""]
[null,null,null,null,null,null,"",null,null,null,null,null,null,null,null,null,null,null,null,"",null,null,""]
[null,null,null,null,null,null,"",null,null,null,null,null,null,null,null,null,null,null,null,"",null,null,""]
[null,null,null,null,null,null,"",null,null,null,null,null,null,null,null,null,null,null,null,"",null,null,""]
[null,null,null,null,null,null,"",null,null,null,null,null,null,null,null,null,null,null,null,"",null,null,""]
[null,null,null,null,null,null,"",null,null,null,null,null,null,null,null,null,null,null,null,"",null,null,""]
[null,null,null,null,null,null,"",null,null,null,null,null,null,null,null,null,null,null,null,"",null,null,""]
[null,null,null,null,null,null,{"$f":"CONCATENATE(IF(ISBLANK(E227),\"\",E227),IF(AND(ISBLANK(F227),ISBLANK(E227)),\"\",\", \"),IF(ISBLANK(F227),\"\",F227))","v":""},null,null,null,null,null,null,null,null,null,null,null,null,"",null,null,""]
[null,null,null,null,null,null,"",null,null,null,null,null,null,null,null,null,null,null,null,"",null,null,""]
[null,null,null,null,null,null,"",null,null,null,null,null,null,null,null,null,null,null,null,"",null,null,""]
[null,null,null,null,null,null,"",null,null,null,null,null,null,null,null,null,null,null,null,"",null,null,""]
[null,null,null,null,null,null,"",null,null,null,null,null,null,null,null,null,null,null,null,"",null,null,""]
[null,null,null,null,null,null,"",null,null,null,null,null,null,null,null,null,null,null,null,"",null,null,""]
[null,null,null,null,null,null,"",null,null,null,null,null,null,null,null,null,null,null,null,"",null,null,""]
[null,null,null,null,null,null,"",null,null,null,null,null,null,null,null,null,null,null,null,"",null,null,""]
[null,null,null,null,null,null,"",null,null,null,null,null,null,null,null,null,null,null,null,"",null,null,""]
[null,null,null,null,null,null,"",null,null,null,null,null,null,null,null,null,null,null,null,"",null,null,""]
[null,null,null,null,null,null,"",null,null,null,null,null,null,null,null,null,null,null,null,"",null,null,""]
[null,null,null,null,null,null,"",null,null,null,null,null,null,null,null,null,null,null,null,"",null,null,""]
[null,null,null,null,null,null,"",null,null,null,null,null,null,null,null,null,null,null,null,"",null,null,""]
[null,null,null,null,null,null,"",null,null,null,null,null,null,null,null,null,null,null,null,"",null,null,""]
[null,null,null,null,null,null,"",null,null,null,null,null,null,null,null,null,null,null,null,"",null,null,""]
[null,null,null,null,null,null,"",null,null,null,null,null,null,null,null,null,null,null,null,"",null,null,""]
[null,null,null,null,null,null,"",null,null,null,null,null,null,null,null,null,null,null,null,"",null,null,""]
[null,null,null,null,null,null,"",null,null,null,null,null,null,null,null,null,null,null,null,"",null,null,""]
[null,null,null,null,null,null,"",null,null,null,null,null,null,null,null,null,null,null,null,"",null,null,""]
[null,null,null,null,null,null,"",null,null,null,null,null,null,null,null,null,null,null,null,"",null,null,""]
[null,null,null,null,null,null,"",null,null,null,null,null,null,null,null,null,null,null,null,"",null,null,""]
[null,null,null,null,null,null,"",null,null,null,null,null,null,null,null,null,null,null,null,"",null,null,""]
[null,null,null,null,null,null,"",null,null,null,null,null,null,null,null,null,null,null,null,"",null,null,""]
[null,null,null,null,null,null,"",null,null,null,null,null,null,null,null,null,null,null,null,"",null,null,""]
[null,null,null,null,null,null,"",null,null,null,null,null,null,null,null,null,null,null,null,"",null,null,""]
[null,null,null,null,null,null,"",null,null,null,null,null,null,null,null,null,null,null,null,"",null,null,""]
[null,null,null,null,null,null,"",null,null,null,null,null,null,null,null,null,null,null,null,"",null,null,""]
[null,null,null,null,null,null,"",null,null,null,null,null,null,null,null,null,null,null,null,"",null,null,""]
[null,null,null,null,null,null,"",null,null,null,null,null,null,null,null,null,null,null,null,"",null,null,""]
[null,null,null,null,null,null,"",null,null,null,null,null,null,null,null,null,null,null,null,"",null,null,""]
[null,null,null,null,null,null,"",null,null,null,null,null,null,null,null,null,null,null,null,"",null,null,""]
[null,null,null,null,null,null,"",null,null,null,null,null,null,null,null,null,null,null,null,"",null,null,""]
[null,null,null,null,null,null,"",null,null,null,null,null,null,null,null,null,null,null,null,"",null,null,""]
[null,null,null,null,null,null,"",null,null,null,null,null,null,null,null,null,null,null,null,"",null,null,""]
[null,null,null,null,null,null,"",null,null,null,null,null,null,null,null,null,null,null,null,"",null,null,""]
[null,null,null,null,null,null,"",null,null,null,null,null,null,null,null,null,null,null,null,"",null,null,""]
[null,null,null,null,null,null,"",null,null,null,null,null,null,null,null,null,null,null,null,"",null,null,""]
[null,null,null,null,null,null,"",null,null,null,null,null,null,null,null,null,null,null,null,"",null,null,""]
[null,null,null,null,null,null,"",null,null,null,null,null,null,null,null,null,null,null,null,"",null,null,""]
[null,null,null,null,null,null,"",null,null,null,null,null,null,null,null,null,null,null,null,"",null,null,""]
[null,null,null,null,null,null,"",null,null,null,null,null,null,null,null,null,null,null,null,"",null,null,""]
[null,null,null,null,null,null,"",null,null,null,null,null,null,null,null,null,null,null,null,{"$f":"IF(R268=\"\",\"\",IF(S268=\"\",R268,R268&\" - \"&S268))","v":""},null,null,""]
[null,null,null,null,null,null,"",null,null,null,null,null,null,null,null,null,null,null,null,"",null,null,{"$f":"IF(OR(ISBLANK(U269),ISBLANK(S269)),\"\",\"01.01.\"&RIGHT(S269,4)+U269+1)","v":""}]
[null,null,null,null,null,null,"",null,null,null,null,null,null,null,null,null,null,null,null,"",null,null,""]
[null,null,null,null,null,null,"",null,null,null,null,null,null,null,null,null,null,null,null,"",null,null,""]
[null,null,null,null,null,null,"",null,null,null,null,null,null,null,null,null,null,null,null,"",null,null,""]
[null,null,null,null,null,null,"",null,null,null,null,null,null,null,null,null,null,null,null,"",null,null,""]
[null,null,null,null,null,null,"",null,null,null,null,null,null,null,null,null,null,null,null,"",null,null,""]
[null,null,null,null,null,null,"",null,null,null,null,null,null,null,null,null,null,null,null,"",null,null,""]
[null,null,null,null,null,null,"",null,null,null,null,null,null,null,null,null,null,null,null,"",null,null,""]
[null,null,null,null,null,null,"",null,null,null,null,null,null,null,null,null,null,null,null,"",null,null,""]
[null,null,null,null,null,null,"",null,null,null,null,null,null,null,null,null,null,null,null,"",null,null,""]
[null,null,null,null,null,null,"",null,null,null,null,null,null,null,null,null,null,null,null,"",null,null,""]
[null,null,null,null,null,null,"",null,null,null,null,null,null,null,null,null,null,null,null,"",null,null,""]
[null,null,null,null,null,null,"",null,null,null,null,null,null,null,null,null,null,null,null,"",null,null,""]
[null,null,null,null,null,null,"",null,null,null,null,null,null,null,null,null,null,null,null,"",null,null,""]
[null,null,null,null,null,null,"",null,null,null,null,null,null,null,null,null,null,null,null,"",null,null,""]
[null,null,null,null,null,null,"",null,null,null,null,null,null,null,null,null,null,null,null,"",null,null,""]
[null,null,null,null,null,null,"",null,null,null,null,null,null,null,null,null,null,null,null,"",null,null,""]
[null,null,null,null,null,null,"",null,null,null,null,null,null,null,null,null,null,null,null,"",null,null,""]
[null,null,null,null,null,null,"",null,null,null,null,null,null,null,null,null,null,null,null,"",null,null,""]
[null,null,null,null,null,null,"",null,null,null,null,null,null,null,null,null,null,null,null,"",null,null,""]
[null,null,null,null,null,null,"",null,null,null,null,null,null,null,null,null,null,null,null,"",null,null,""]
[null,null,null,null,null,null,"",null,null,null,null,null,null,null,null,null,null,null,null,"",null,null,""]
[null,null,null,null,null,null,{"$f":"CONCATENATE(IF(ISBLANK(E291),\"\",E291),IF(AND(ISBLANK(F291),ISBLANK(E291)),\"\",\", \"),IF(ISBLANK(F291),\"\",F291))","v":""},null,null,null,null,null,null,null,null,null,null,null,null,"",null,null,""]
[null,null,null,null,null,null,"",null,null,null,null,null,null,null,null,null,null,null,null,"",null,null,""]
[null,null,null,null,null,null,"",null,null,null,null,null,null,null,null,null,null,null,null,"",null,null,""]
[null,null,null,null,null,null,"",null,null,null,null,null,null,null,null,null,null,null,null,"",null,null,""]
[null,null,null,null,null,null,"",null,null,null,null,null,null,null,null,null,null,null,null,"",null,null,""]
[null,null,null,null,null,null,"",null,null,null,null,null,null,null,null,null,null,null,null,"",null,null,""]
[null,null,null,null,null,null,"",null,null,null,null,null,null,null,null,null,null,null,null,"",null,null,""]
[null,null,null,null,null,null,"",null,null,null,null,null,null,null,null,null,null,null,null,"",null,null,""]
[null,null,null,null,null,null,"",null,null,null,null,null,null,null,null,null,null,null,null,"",null,null,""]
[null,null,null,null,null,null,"",null,null,null,null,null,null,null,null,null,null,null,null,"",null,null,""]
[null,null,null,null,null,null,"",null,null,null,null,null,null,null,null,null,null,null,null,"",null,null,""]
[null,null,null,null,null,null,"",null,null,null,null,null,null,null,null,null,null,null,null,"",null,null,""]
[null,null,null,null,null,null,"",null,null,null,null,null,null,null,null,null,null,null,null,"",null,null,""]
[null,null,null,null,null,null,"",null,null,null,null,null,null,null,null,null,null,null,null,"",null,null,""]
[null,null,null,null,null,null,"",null,null,null,null,null,null,null,null,null,null,null,null,"",null,null,""]
[null,null,null,null,null,null,"",null,null,null,null,null,null,null,null,null,null,null,null,"",null,null,""]
[null,null,null,null,null,null,"",null,null,null,null,null,null,null,null,null,null,null,null,"",null,null,""]
[null,null,null,null,null,null,"",null,null,null,null,null,null,null,null,null,null,null,null,"",null,null,""]
[null,null,null,null,null,null,"",null,null,null,null,null,null,null,null,null,null,null,null,"",null,null,""]
[null,null,null,null,null,null,"",null,null,null,null,null,null,null,null,null,null,null,null,"",null,null,""]
[null,null,null,null,null,null,"",null,null,null,null,null,null,null,null,null,null,null,null,"",null,null,""]
[null,null,null,null,null,null,"",null,null,null,null,null,null,null,null,null,null,null,null,"",null,null,""]
[null,null,null,null,null,null,"",null,null,null,null,null,null,null,null,null,null,null,null,"",null,null,""]
[null,null,null,null,null,null,"",null,null,null,null,null,null,null,null,null,null,null,null,"",null,null,""]
[null,null,null,null,null,null,"",null,null,null,null,null,null,null,null,null,null,null,null,"",null,null,""]
[null,null,null,null,null,null,"",null,null,null,null,null,null,null,null,null,null,null,null,"",null,null,""]
[null,null,null,null,null,null,"",null,null,null,null,null,null,null,null,null,null,null,null,"",null,null,""]
[null,null,null,null,null,null,"",null,null,null,null,null,null,null,null,null,null,null,null,"",null,null,""]
[null,null,null,null,null,null,"",null,null,null,null,null,null,null,null,null,null,null,null,"",null,null,""]
[null,null,null,null,null,null,"",null,null,null,null,null,null,null,null,null,null,null,null,"",null,null,""]
[null,null,null,null,null,null,"",null,null,null,null,null,null,null,null,null,null,null,null,"",null,null,""]
[null,null,null,null,null,null,"",null,null,null,null,null,null,null,null,null,null,null,null,"",null,null,""]
[null,null,null,null,null,null,"",null,null,null,null,null,null,null,null,null,null,null,null,"",null,null,""]
[null,null,null,null,null,null,"",null,null,null,null,null,null,null,null,null,null,null,null,"",null,null,""]
[null,null,null,null,null,null,"",null,null,null,null,null,null,null,null,null,null,null,null,"",null,null,""]
[null,null,null,null,null,null,"",null,null,null,null,null,null,null,null,null,null,null,null,"",null,null,""]
[null,null,null,null,null,null,"",null,null,null,null,null,null,null,null,null,null,null,null,"",null,null,""]
[null,null,null,null,null,null,"",null,null,null,null,null,null,null,null,null,null,null,null,"",null,null,""]
[null,null,null,null,null,null,"",null,null,null,null,null,null,null,null,null,null,null,null,"",null,null,""]
[null,null,null,null,null,null,"",null,null,null,null,null,null,null,null,null,null,null,null,"",null,null,""]
[null,null,null,null,null,null,"",null,null,null,null,null,null,null,null,null,null,null,null,"",null,null,""]
[null,null,null,null,null,null,"",null,null,null,null,null,null,null,null,null,null,null,null,{"$f":"IF(R332=\"\",\"\",IF(S332=\"\",R332,R332&\" - \"&S332))","v":""},null,null,""]
[null,null,null,null,null,null,"",null,null,null,null,null,null,null,null,null,null,null,null,"",null,null,{"$f":"IF(OR(ISBLANK(U333),ISBLANK(S333)),\"\",\"01.01.\"&RIGHT(S333,4)+U333+1)","v":""}]
[null,null,null,null,null,null,"",null,null,null,null,null,null,null,null,null,null,null,null,"",null,null,""]
[null,null,null,null,null,null,"",null,null,null,null,null,null,null,null,null,null,null,null,"",null,null,""]
[null,null,null,null,null,null,"",null,null,null,null,null,null,null,null,null,null,null,null,"",null,null,""]
[null,null,null,null,null,null,"",null,null,null,null,null,null,null,null,null,null,null,null,"",null,null,""]
[null,null,null,null,null,null,"",null,null,null,null,null,null,null,null,null,null,null,null,"",null,null,""]
[null,null,null,null,null,null,"",null,null,null,null,null,null,null,null,null,null,null,null,"",null,null,""]
[null,null,null,null,null,null,"",null,null,null,null,null,null,null,null,null,null,null,null,"",null,null,""]
[null,null,null,null,null,null,"",null,null,null,null,null,null,null,null,null,null,null,null,"",null,null,""]
[null,null,null,null,null,null,"",null,null,null,null,null,null,null,null,null,null,null,null,"",null,null,""]
[null,null,null,null,null,null,"",null,null,null,null,null,null,null,null,null,null,null,null,"",null,null,""]
[null,null,null,null,null,null,"",null,null,null,null,null,null,null,null,null,null,null,null,"",null,null,""]
[null,null,null,null,null,null,"",null,null,null,null,null,null,null,null,null,null,null,null,"",null,null,""]
[null,null,null,null,null,null,"",null,null,null,null,null,null,null,null,null,null,null,null,"",null,null,""]
[null,null,null,null,null,null,"",null,null,null,null,null,null,null,null,null,null,null,null,"",null,null,""]
[null,null,null,null,null,null,"",null,null,null,null,null,null,null,null,null,null,null,null,"",null,null,""]
[null,null,null,null,null,null,"",null,null,null,null,null,null,null,null,null,null,null,null,"",null,null,""]
[null,null,null,null,null,null,"",null,null,null,null,null,null,null,null,null,null,null,null,"",null,null,""]
[null,null,null,null,null,null,"",null,null,null,null,null,null,null,null,null,null,null,null,"",null,null,""]
[null,null,null,null,null,null,"",null,null,null,null,null,null,null,null,null,null,null,null,"",null,null,""]
[null,null,null,null,null,null,"",null,null,null,null,null,null,null,null,null,null,null,null,"",null,null,""]
[null,null,null,null,null,null,"",null,null,null,null,null,null,null,null,null,null,null,null,"",null,null,""]
[null,null,null,null,null,null,{"$f":"CONCATENATE(IF(ISBLANK(E355),\"\",E355),IF(AND(ISBLANK(F355),ISBLANK(E355)),\"\",\", \"),IF(ISBLANK(F355),\"\",F355))","v":""},null,null,null,null,null,null,null,null,null,null,null,null,"",null,null,""]
[null,null,null,null,null,null,"",null,null,null,null,null,null,null,null,null,null,null,null,"",null,null,""]
[null,null,null,null,null,null,"",null,null,null,null,null,null,null,null,null,null,null,null,"",null,null,""]
[null,null,null,null,null,null,"",null,null,null,null,null,null,null,null,null,null,null,null,"",null,null,""]
[null,null,null,null,null,null,"",null,null,null,null,null,null,null,null,null,null,null,null,"",null,null,""]
[null,null,null,null,null,null,"",null,null,null,null,null,null,null,null,null,null,null,null,"",null,null,""]
[null,null,null,null,null,null,"",null,null,null,null,null,null,null,null,null,null,null,null,"",null,null,""]
[null,null,null,null,null,null,"",null,null,null,null,null,null,null,null,null,null,null,null,"",null,null,""]
[null,null,null,null,null,null,"",null,null,null,null,null,null,null,null,null,null,null,null,"",null,null,""]
[null,null,null,null,null,null,"",null,null,null,null,null,null,null,null,null,null,null,null,"",null,null,""]
[null,null,null,null,null,null,"",null,null,null,null,null,null,null,null,null,null,null,null,"",null,null,""]
[null,null,null,null,null,null,"",null,null,null,null,null,null,null,null,null,null,null,null,"",null,null,""]
[null,null,null,null,null,null,"",null,null,null,null,null,null,null,null,null,null,null,null,"",null,null,""]
[null,null,null,null,null,null,"",null,null,null,null,null,null,null,null,null,null,null,null,"",null,null,""]
[null,null,null,null,null,null,"",null,null,null,null,null,null,null,null,null,null,null,null,"",null,null,""]
[null,null,null,null,null,null,"",null,null,null,null,null,null,null,null,null,null,null,null,"",null,null,""]
[null,null,null,null,null,null,"",null,null,null,null,null,null,null,null,null,null,null,null,"",null,null,""]
[null,null,null,null,null,null,"",null,null,null,null,null,null,null,null,null,null,null,null,"",null,null,""]
[null,null,null,null,null,null,"",null,null,null,null,null,null,null,null,null,null,null,null,"",null,null,""]
[null,null,null,null,null,null,"",null,null,null,null,null,null,null,null,null,null,null,null,"",null,null,""]
[null,null,null,null,null,null,"",null,null,null,null,null,null,null,null,null,null,null,null,"",null,null,""]
[null,null,null,null,null,null,"",null,null,null,null,null,null,null,null,null,null,null,null,"",null,null,""]
[null,null,null,null,null,null,"",null,null,null,null,null,null,null,null,null,null,null,null,"",null,null,""]
[null,null,null,null,null,null,"",null,null,null,null,null,null,null,null,null,null,null,null,"",null,null,""]
[null,null,null,null,null,null,"",null,null,null,null,null,null,null,null,null,null,null,null,"",null,null,""]
[null,null,null,null,null,null,"",null,null,null,null,null,null,null,null,null,null,null,null,"",null,null,""]
[null,null,null,null,null,null,"",null,null,null,null,null,null,null,null,null,null,null,null,"",null,null,""]
[null,null,null,null,null,null,"",null,null,null,null,null,null,null,null,null,null,null,null,"",null,null,""]
[null,null,null,null,null,null,"",null,null,null,null,null,null,null,null,null,null,null,null,"",null,null,""]
[null,null,null,null,null,null,"",null,null,null,null,null,null,null,null,null,null,null,null,"",null,null,""]
[null,null,null,null,null,null,"",null,null,null,null,null,null,null,null,null,null,null,null,"",null,null,""]
[null,null,null,null,null,null,"",null,null,null,null,null,null,null,null,null,null,null,null,"",null,null,""]
[null,null,null,null,null,null,"",null,null,null,null,null,null,null,null,null,null,null,null,"",null,null,""]
[null,null,null,null,null,null,"",null,null,null,null,null,null,null,null,null,null,null,null,"",null,null,""]
[null,null,null,null,null,null,"",null,null,null,null,null,null,null,null,null,null,null,null,"",null,null,""]
[null,null,null,null,null,null,"",null,null,null,null,null,null,null,null,null,null,null,null,"",null,null,""]
[null,null,null,null,null,null,"",null,null,null,null,null,null,null,null,null,null,null,null,"",null,null,""]
[null,null,null,null,null,null,"",null,null,null,null,null,null,null,null,null,null,null,null,"",null,null,""]
[null,null,null,null,null,null,"",null,null,null,null,null,null,null,null,null,null,null,null,"",null,null,""]
[null,null,null,null,null,null,"",null,null,null,null,null,null,null,null,null,null,null,null,"",null,null,""]
[null,null,null,null,null,null,"",null,null,null,null,null,null,null,null,null,null,null,null,"",null,null,""]
[null,null,null,null,null,null,"",null,null,null,null,null,null,null,null,null,null,null,null,{"$f":"IF(R396=\"\",\"\",IF(S396=\"\",R396,R396&\" - \"&S396))","v":""},null,null,""]
[null,null,null,null,null,null,"",null,null,null,null,null,null,null,null,null,null,null,null,"",null,null,{"$f":"IF(OR(ISBLANK(U397),ISBLANK(S397)),\"\",\"01.01.\"&RIGHT(S397,4)+U397+1)","v":""}]
[null,null,null,null,null,null,"",null,null,null,null,null,null,null,null,null,null,null,null,"",null,null,""]
[null,null,null,null,null,null,"",null,null,null,null,null,null,null,null,null,null,null,null,"",null,null,""]
[null,null,null,null,null,null,"",null,null,null,null,null,null,null,null,null,null,null,null,"",null,null,""]
[null,null,null,null,null,null,"",null,null,null,null,null,null,null,null,null,null,null,null,"",null,null,""]
[null,null,null,null,null,null,"",null,null,null,null,null,null,null,null,null,null,null,null,"",null,null,""]
[null,null,null,null,null,null,"",null,null,null,null,null,null,null,null,null,null,null,null,"",null,null,""]
[null,null,null,null,null,null,"",null,null,null,null,null,null,null,null,null,null,null,null,"",null,null,""]
[null,null,null,null,null,null,"",null,null,null,null,null,null,null,null,null,null,null,null,"",null,null,""]
[null,null,null,null,null,null,"",null,null,null,null,null,null,null,null,null,null,null,null,"",null,null,""]
[null,null,null,null,null,null,"",null,null,null,null,null,null,null,null,null,null,null,null,"",null,null,""]
[null,null,null,null,null,null,"",null,null,null,null,null,null,null,null,null,null,null,null,"",null,null,""]
[null,null,null,null,null,null,"",null,null,null,null,null,null,null,null,null,null,null,null,"",null,null,""]
[null,null,null,null,null,null,"",null,null,null,null,null,null,null,null,null,null,null,null,"",null,null,""]
[null,null,null,null,null,null,"",null,null,null,null,null,null,null,null,null,null,null,null,"",null,null,""]
[null,null,null,null,null,null,"",null,null,null,null,null,null,null,null,null,null,null,null,"",null,null,""]
[null,null,null,null,null,null,"",null,null,null,null,null,null,null,null,null,null,null,null,"",null,null,""]
[null,null,null,null,null,null,"",null,null,null,null,null,null,null,null,null,null,null,null,"",null,null,""]
[null,null,null,null,null,null,"",null,null,null,null,null,null,null,null,null,null,null,null,"",null,null,""]
[null,null,null,null,null,null,"",null,null,null,null,null,null,null,null,null,null,null,null,"",null,null,""]
[null,null,null,null,null,null,"",null,null,null,null,null,null,null,null,null,null,null,null,"",null,null,""]
[null,null,null,null,null,null,"",null,null,null,null,null,null,null,null,null,null,null,null,"",null,null,""]
[null,null,null,null,null,null,{"$f":"CONCATENATE(IF(ISBLANK(E419),\"\",E419),IF(AND(ISBLANK(F419),ISBLANK(E419)),\"\",\", \"),IF(ISBLANK(F419),\"\",F419))","v":""},null,null,null,null,null,null,null,null,null,null,null,null,"",null,null,""]
[null,null,null,null,null,null,"",null,null,null,null,null,null,null,null,null,null,null,null,"",null,null,""]
[null,null,null,null,null,null,"",null,null,null,null,null,null,null,null,null,null,null,null,"",null,null,""]
[null,null,null,null,null,null,"",null,null,null,null,null,null,null,null,null,null,null,null,"",null,null,""]
[null,null,null,null,null,null,"",null,null,null,null,null,null,null,null,null,null,null,null,"",null,null,""]
[null,null,null,null,null,null,"",null,null,null,null,null,null,null,null,null,null,null,null,"",null,null,""]
[null,null,null,null,null,null,"",null,null,null,null,null,null,null,null,null,null,null,null,"",null,null,""]
[null,null,null,null,null,null,"",null,null,null,null,null,null,null,null,null,null,null,null,"",null,null,""]
[null,null,null,null,null,null,"",null,null,null,null,null,null,null,null,null,null,null,null,"",null,null,""]
[null,null,null,null,null,null,"",null,null,null,null,null,null,null,null,null,null,null,null,"",null,null,""]
[null,null,null,null,null,null,"",null,null,null,null,null,null,null,null,null,null,null,null,"",null,null,""]
[null,null,null,null,null,null,"",null,null,null,null,null,null,null,null,null,null,null,null,"",null,null,""]
[null,null,null,null,null,null,"",null,null,null,null,null,null,null,null,null,null,null,null,"",null,null,""]
[null,null,null,null,null,null,"",null,null,null,null,null,null,null,null,null,null,null,null,"",null,null,""]
[null,null,null,null,null,null,"",null,null,null,null,null,null,null,null,null,null,null,null,"",null,null,""]
[null,null,null,null,null,null,"",null,null,null,null,null,null,null,null,null,null,null,null,"",null,null,""]
[null,null,null,null,null,null,"",null,null,null,null,null,null,null,null,null,null,null,null,"",null,null,""]
[null,null,null,null,null,null,"",null,null,null,null,null,null,null,null,null,null,null,null,"",null,null,""]
[null,null,null,null,null,null,"",null,null,null,null,null,null,null,null,null,null,null,null,"",null,null,""]
[null,null,null,null,null,null,"",null,null,null,null,null,null,null,null,null,null,null,null,"",null,null,""]
[null,null,null,null,null,null,"",null,null,null,null,null,null,null,null,null,null,null,null,"",null,null,""]
[null,null,null,null,null,null,"",null,null,null,null,null,null,null,null,null,null,null,null,"",null,null,""]
[null,null,null,null,null,null,"",null,null,null,null,null,null,null,null,null,null,null,null,"",null,null,""]
[null,null,null,null,null,null,"",null,null,null,null,null,null,null,null,null,null,null,null,"",null,null,""]
[null,null,null,null,null,null,"",null,null,null,null,null,null,null,null,null,null,null,null,"",null,null,""]
[null,null,null,null,null,null,"",null,null,null,null,null,null,null,null,null,null,null,null,"",null,null,""]
[null,null,null,null,null,null,"",null,null,null,null,null,null,null,null,null,null,null,null,"",null,null,""]
[null,null,null,null,null,null,"",null,null,null,null,null,null,null,null,null,null,null,null,"",null,null,""]
[null,null,null,null,null,null,"",null,null,null,null,null,null,null,null,null,null,null,null,"",null,null,""]
[null,null,null,null,null,null,"",null,null,null,null,null,null,null,null,null,null,null,null,"",null,null,""]
[null,null,null,null,null,null,"",null,null,null,null,null,null,null,null,null,null,null,null,"",null,null,""]
[null,null,null,null,null,null,"",null,null,null,null,null,null,null,null,null,null,null,null,"",null,null,""]
[null,null,null,null,null,null,"",null,null,null,null,null,null,null,null,null,null,null,null,"",null,null,""]
[null,null,null,null,null,null,"",null,null,null,null,null,null,null,null,null,null,null,null,"",null,null,""]
[null,null,null,null,null,null,"",null,null,null,null,null,null,null,null,null,null,null,null,"",null,null,""]
[null,null,null,null,null,null,"",null,null,null,null,null,null,null,null,null,null,null,null,"",null,null,""]
[null,null,null,null,null,null,"",null,null,null,null,null,null,null,null,null,null,null,null,"",null,null,""]
[null,null,null,null,null,null,"",null,null,null,null,null,null,null,null,null,null,null,null,"",null,null,""]
[null,null,null,null,null,null,"",null,null,null,null,null,null,null,null,null,null,null,null,"",null,null,""]
[null,null,null,null,null,null,"",null,null,null,null,null,null,null,null,null,null,null,null,"",null,null,""]
[null,null,null,null,null,null,"",null,null,null,null,null,null,null,null,null,null,null,null,"",null,null,""]
[null,null,null,null,null,null,"",null,null,null,null,null,null,null,null,null,null,null,null,{"$f":"IF(R460=\"\",\"\",IF(S460=\"\",R460,R460&\" - \"&S460))","v":""},null,null,""]
[null,null,null,null,null,null,"",null,null,null,null,null,null,null,null,null,null,null,null,"",null,null,{"$f":"IF(OR(ISBLANK(U461),ISBLANK(S461)),\"\",\"01.01.\"&RIGHT(S461,4)+U461+1)","v":""}]
[null,null,null,null,null,null,"",null,null,null,null,null,null,null,null,null,null,null,null,"",null,null,""]
[null,null,null,null,null,null,"",null,null,null,null,null,null,null,null,null,null,null,null,"",null,null,""]
[null,null,null,null,null,null,"",null,null,null,null,null,null,null,null,null,null,null,null,"",null,null,""]
[null,null,null,null,null,null,"",null,null,null,null,null,null,null,null,null,null,null,null,"",null,null,""]
[null,null,null,null,null,null,"",null,null,null,null,null,null,null,null,null,null,null,null,"",null,null,""]
[null,null,null,null,null,null,"",null,null,null,null,null,null,null,null,null,null,null,null,"",null,null,""]
[null,null,null,null,null,null,"",null,null,null,null,null,null,null,null,null,null,null,null,"",null,null,""]
[null,null,null,null,null,null,"",null,null,null,null,null,null,null,null,null,null,null,null,"",null,null,""]
[null,null,null,null,null,null,"",null,null,null,null,null,null,null,null,null,null,null,null,"",null,null,""]
[null,null,null,null,null,null,"",null,null,null,null,null,null,null,null,null,null,null,null,"",null,null,""]
[null,null,null,null,null,null,"",null,null,null,null,null,null,null,null,null,null,null,null,"",null,null,""]
[null,null,null,null,null,null,"",null,null,null,null,null,null,null,null,null,null,null,null,"",null,null,""]
[null,null,null,null,null,null,"",null,null,null,null,null,null,null,null,null,null,null,null,"",null,null,""]
[null,null,null,null,null,null,"",null,null,null,null,null,null,null,null,null,null,null,null,"",null,null,""]
[null,null,null,null,null,null,"",null,null,null,null,null,null,null,null,null,null,null,null,"",null,null,""]
[null,null,null,null,null,null,"",null,null,null,null,null,null,null,null,null,null,null,null,"",null,null,""]
[null,null,null,null,null,null,"",null,null,null,null,null,null,null,null,null,null,null,null,"",null,null,""]
[null,null,null,null,null,null,"",null,null,null,null,null,null,null,null,null,null,null,null,"",null,null,""]
[null,null,null,null,null,null,"",null,null,null,null,null,null,null,null,null,null,null,null,"",null,null,""]
[null,null,null,null,null,null,"",null,null,null,null,null,null,null,null,null,null,null,null,"",null,null,""]
[null,null,null,null,null,null,"",null,null,null,null,null,null,null,null,null,null,null,null,"",null,null,""]
[null,null,null,null,null,null,{"$f":"CONCATENATE(IF(ISBLANK(E483),\"\",E483),IF(AND(ISBLANK(F483),ISBLANK(E483)),\"\",\", \"),IF(ISBLANK(F483),\"\",F483))","v":""},null,null,null,null,null,null,null,null,null,null,null,null,"",null,null,""]
[null,null,null,null,null,null,"",null,null,null,null,null,null,null,null,null,null,null,null,"",null,null,""]
[null,null,null,null,null,null,"",null,null,null,null,null,null,null,null,null,null,null,null,"",null,null,""]
[null,null,null,null,null,null,"",null,null,null,null,null,null,null,null,null,null,null,null,"",null,null,""]
[null,null,null,null,null,null,"",null,null,null,null,null,null,null,null,null,null,null,null,"",null,null,""]
[null,null,null,null,null,null,"",null,null,null,null,null,null,null,null,null,null,null,null,"",null,null,""]
[null,null,null,null,null,null,"",null,null,null,null,null,null,null,null,null,null,null,null,"",null,null,""]
[null,null,null,null,null,null,"",null,null,null,null,null,null,null,null,null,null,null,null,"",null,null,""]
[null,null,null,null,null,null,"",null,null,null,null,null,null,null,null,null,null,null,null,"",null,null,""]
[null,null,null,null,null,null,"",null,null,null,null,null,null,null,null,null,null,null,null,"",null,null,""]
[null,null,null,null,null,null,"",null,null,null,null,null,null,null,null,null,null,null,null,"",null,null,""]
[null,null,null,null,null,null,"",null,null,null,null,null,null,null,null,null,null,null,null,"",null,null,""]
[null,null,null,null,null,null,"",null,null,null,null,null,null,null,null,null,null,null,null,"",null,null,""]
[null,null,null,null,null,null,"",null,null,null,null,null,null,null,null,null,null,null,null,"",null,null,""]
[null,null,null,null,null,null,"",null,null,null,null,null,null,null,null,null,null,null,null,"",null,null,""]
[null,null,null,null,null,null,"",null,null,null,null,null,null,null,null,null,null,null,null,"",null,null,""]
[null,null,null,null,null,null,"",null,null,null,null,null,null,null,null,null,null,null,null,"",null,null,""]
[null,null,null,null,null,null,"",null,null,null,null,null,null,null,null,null,null,null,null,"",null,null,""]
[null,null,null,null,null,null,"",null,null,null,null,null,null,null,null,null,null,null,null,"",null,null,""]
[null,null,null,null,null,null,"",null,null,null,null,null,null,null,null,null,null,null,null,"",null,null,""]
[null,null,null,null,null,null,"",null,null,null,null,null,null,null,null,null,null,null,null,"",null,null,""]
[null,null,null,null,null,null,"",null,null,null,null,null,null,null,null,null,null,null,null,"",null,null,""]
[null,null,null,null,null,null,"",null,null,null,null,null,null,null,null,null,null,null,null,"",null,null,""]
[null,null,null,null,null,null,"",null,null,null,null,null,null,null,null,null,null,null,null,"",null,null,""]
[null,null,null,null,null,null,"",null,null,null,null,null,null,null,null,null,null,null,null,"",null,null,""]
[null,null,null,null,null,null,"",null,null,null,null,null,null,null,null,null,null,null,null,"",null,null,""]
[null,null,null,null,null,null,"",null,null,null,null,null,null,null,null,null,null,null,null,"",null,null,""]
[null,null,null,null,null,null,"",null,null,null,null,null,null,null,null,null,null,null,null,"",null,null,""]
[null,null,null,null,null,null,"",null,null,null,null,null,null,null,null,null,null,null,null,"",null,null,""]
[null,null,null,null,null,null,"",null,null,null,null,null,null,null,null,null,null,null,null,"",null,null,""]
[null,null,null,null,null,null,"",null,null,null,null,null,null,null,null,null,null,null,null,"",null,null,""]
[null,null,null,null,null,null,"",null,null,null,null,null,null,null,null,null,null,null,null,"",null,null,""]
[null,null,null,null,null,null,"",null,null,null,null,null,null,null,null,null,null,null,null,"",null,null,""]
[null,null,null,null,null,null,"",null,null,null,null,null,null,null,null,null,null,null,null,"",null,null,""]
[null,null,null,null,null,null,"",null,null,null,null,null,null,null,null,null,null,null,null,"",null,null,""]
[null,null,null,null,null,null,"",null,null,null,null,null,null,null,null,null,null,null,null,"",null,null,""]
[null,null,null,null,null,null,"",null,null,null,null,null,null,null,null,null,null,null,null,"",null,null,""]
[null,null,null,null,null,null,"",null,null,null,null,null,null,null,null,null,null,null,null,"",null,null,""]
[null,null,null,null,null,null,"",null,null,null,null,null,null,null,null,null,null,null,null,"",null,null,""]
[null,null,null,null,null,null,"",null,null,null,null,null,null,null,null,null,null,null,null,"",null,null,""]
[null,null,null,null,null,null,"",null,null,null,null,null,null,null,null,null,null,null,null,"",null,null,""]
[null,null,null,null,null,null,"",null,null,null,null,null,null,null,null,null,null,null,null,{"$f":"IF(R524=\"\",\"\",IF(S524=\"\",R524,R524&\" - \"&S524))","v":""},null,null,""]
[null,null,null,null,null,null,"",null,null,null,null,null,null,null,null,null,null,null,null,"",null,null,{"$f":"IF(OR(ISBLANK(U525),ISBLANK(S525)),\"\",\"01.01.\"&RIGHT(S525,4)+U525+1)","v":""}]
[null,null,null,null,null,null,"",null,null,null,null,null,null,null,null,null,null,null,null,"",null,null,""]
[null,null,null,null,null,null,"",null,null,null,null,null,null,null,null,null,null,null,null,"",null,null,""]
[null,null,null,null,null,null,"",null,null,null,null,null,null,null,null,null,null,null,null,"",null,null,""]
[null,null,null,null,null,null,"",null,null,null,null,null,null,null,null,null,null,null,null,"",null,null,""]
[null,null,null,null,null,null,"",null,null,null,null,null,null,null,null,null,null,null,null,"",null,null,""]
[null,null,null,null,null,null,"",null,null,null,null,null,null,null,null,null,null,null,null,"",null,null,""]
[null,null,null,null,null,null,"",null,null,null,null,null,null,null,null,null,null,null,null,"",null,null,""]
[null,null,null,null,null,null,"",null,null,null,null,null,null,null,null,null,null,null,null,"",null,null,""]
[null,null,null,null,null,null,"",null,null,null,null,null,null,null,null,null,null,null,null,"",null,null,""]
[null,null,null,null,null,null,"",null,null,null,null,null,null,null,null,null,null,null,null,"",null,null,""]
[null,null,null,null,null,null,"",null,null,null,null,null,null,null,null,null,null,null,null,"",null,null,""]
[null,null,null,null,null,null,"",null,null,null,null,null,null,null,null,null,null,null,null,"",null,null,""]
[null,null,null,null,null,null,"",null,null,null,null,null,null,null,null,null,null,null,null,"",null,null,""]
[null,null,null,null,null,null,"",null,null,null,null,null,null,null,null,null,null,null,null,"",null,null,""]
[null,null,null,null,null,null,"",null,null,null,null,null,null,null,null,null,null,null,null,"",null,null,""]
[null,null,null,null,null,null,"",null,null,null,null,null,null,null,null,null,null,null,null,"",null,null,""]
[null,null,null,null,null,null,"",null,null,null,null,null,null,null,null,null,null,null,null,"",null,null,""]
[null,null,null,null,null,null,"",null,null,null,null,null,null,null,null,null,null,null,null,"",null,null,""]
[null,null,null,null,null,null,"",null,null,null,null,null,null,null,null,null,null,null,null,"",null,null,""]
[null,null,null,null,null,null,"",null,null,null,null,null,null,null,null,null,null,null,null,"",null,null,""]
[null,null,null,null,null,null,"",null,null,null,null,null,null,null,null,null,null,null,null,"",null,null,""]
[null,null,null,null,null,null,{"$f":"CONCATENATE(IF(ISBLANK(E547),\"\",E547),IF(AND(ISBLANK(F547),ISBLANK(E547)),\"\",\", \"),IF(ISBLANK(F547),\"\",F547))","v":""},null,null,null,null,null,null,null,null,null,null,null,null,"",null,null,""]
[null,null,null,null,null,null,"",null,null,null,null,null,null,null,null,null,null,null,null,"",null,null,""]
[null,null,null,null,null,null,"",null,null,null,null,null,null,null,null,null,null,null,null,"",null,null,""]
[null,null,null,null,null,null,"",null,null,null,null,null,null,null,null,null,null,null,null,"",null,null,""]
[null,null,null,null,null,null,"",null,null,null,null,null,null,null,null,null,null,null,null,"",null,null,""]
[null,null,null,null,null,null,"",null,null,null,null,null,null,null,null,null,null,null,null,"",null,null,""]
[null,null,null,null,null,null,"",null,null,null,null,null,null,null,null,null,null,null,null,"",null,null,""]
[null,null,null,null,null,null,"",null,null,null,null,null,null,null,null,null,null,null,null,"",null,null,""]
[null,null,null,null,null,null,"",null,null,null,null,null,null,null,null,null,null,null,null,"",null,null,""]
[null,null,null,null,null,null,"",null,null,null,null,null,null,null,null,null,null,null,null,"",null,null,""]
[null,null,null,null,null,null,"",null,null,null,null,null,null,null,null,null,null,null,null,"",null,null,""]
[null,null,null,null,null,null,"",null,null,null,null,null,null,null,null,null,null,null,null,"",null,null,""]
[null,null,null,null,null,null,"",null,null,null,null,null,null,null,null,null,null,null,null,"",null,null,""]
[null,null,null,null,null,null,"",null,null,null,null,null,null,null,null,null,null,null,null,"",null,null,""]
[null,null,null,null,null,null,"",null,null,null,null,null,null,null,null,null,null,null,null,"",null,null,""]
[null,null,null,null,null,null,"",null,null,null,null,null,null,null,null,null,null,null,null,"",null,null,""]
[null,null,null,null,null,null,"",null,null,null,null,null,null,null,null,null,null,null,null,"",null,null,""]
[null,null,null,null,null,null,"",null,null,null,null,null,null,null,null,null,null,null,null,"",null,null,""]
[null,null,null,null,null,null,"",null,null,null,null,null,null,null,null,null,null,null,null,"",null,null,""]
[null,null,null,null,null,null,"",null,null,null,null,null,null,null,null,null,null,null,null,"",null,null,""]
[null,null,null,null,null,null,"",null,null,null,null,null,null,null,null,null,null,null,null,"",null,null,""]
[null,null,null,null,null,null,"",null,null,null,null,null,null,null,null,null,null,null,null,"",null,null,""]
[null,null,null,null,null,null,"",null,null,null,null,null,null,null,null,null,null,null,null,"",null,null,""]
[null,null,null,null,null,null,"",null,null,null,null,null,null,null,null,null,null,null,null,"",null,null,""]
[null,null,null,null,null,null,"",null,null,null,null,null,null,null,null,null,null,null,null,"",null,null,""]
[null,null,null,null,null,null,"",null,null,null,null,null,null,null,null,null,null,null,null,"",null,null,""]
[null,null,null,null,null,null,"",null,null,null,null,null,null,null,null,null,null,null,null,"",null,null,""]
[null,null,null,null,null,null,"",null,null,null,null,null,null,null,null,null,null,null,null,"",null,null,""]
[null,null,null,null,null,null,"",null,null,null,null,null,null,null,null,null,null,null,null,"",null,null,""]
[null,null,null,null,null,null,"",null,null,null,null,null,null,null,null,null,null,null,null,"",null,null,""]
[null,null,null,null,null,null,"",null,null,null,null,null,null,null,null,null,null,null,null,"",null,null,""]
[null,null,null,null,null,null,"",null,null,null,null,null,null,null,null,null,null,null,null,"",null,null,""]
[null,null,null,null,null,null,"",null,null,null,null,null,null,null,null,null,null,null,null,"",null,null,""]
[null,null,null,null,null,null,"",null,null,null,null,null,null,null,null,null,null,null,null,"",null,null,""]
[null,null,null,null,null,null,"",null,null,null,null,null,null,null,null,null,null,null,null,"",null,null,""]
[null,null,null,null,null,null,"",null,null,null,null,null,null,null,null,null,null,null,null,"",null,null,""]
[null,null,null,null,null,null,"",null,null,null,null,null,null,null,null,null,null,null,null,"",null,null,""]
[null,null,null,null,null,null,"",null,null,null,null,null,null,null,null,null,null,null,null,"",null,null,""]
[null,null,null,null,null,null,"",null,null,null,null,null,null,null,null,null,null,null,null,"",null,null,""]
[null,null,null,null,null,null,"",null,null,null,null,null,null,null,null,null,null,null,null,"",null,null,""]
[null,null,null,null,null,null,"",null,null,null,null,null,null,null,null,null,null,null,null,"",null,null,""]
[null,null,null,null,null,null,"",null,null,null,null,null,null,null,null,null,null,null,null,{"$f":"IF(R588=\"\",\"\",IF(S588=\"\",R588,R588&\" - \"&S588))","v":""},null,null,""]
[null,null,null,null,null,null,"",null,null,null,null,null,null,null,null,null,null,null,null,"",null,null,{"$f":"IF(OR(ISBLANK(U589),ISBLANK(S589)),\"\",\"01.01.\"&RIGHT(S589,4)+U589+1)","v":""}]
[null,null,null,null,null,null,"",null,null,null,null,null,null,null,null,null,null,null,null,"",null,null,""]
[null,null,null,null,null,null,"",null,null,null,null,null,null,null,null,null,null,null,null,"",null,null,""]
[null,null,null,null,null,null,"",null,null,null,null,null,null,null,null,null,null,null,null,"",null,null,""]
[null,null,null,null,null,null,"",null,null,null,null,null,null,null,null,null,null,null,null,"",null,null,""]
[null,null,null,null,null,null,"",null,null,null,null,null,null,null,null,null,null,null,null,"",null,null,""]
[null,null,null,null,null,null,"",null,null,null,null,null,null,null,null,null,null,null,null,"",null,null,""]
[null,null,null,null,null,null,"",null,null,null,null,null,null,null,null,null,null,null,null,"",null,null,""]
[null,null,null,null,null,null,"",null,null,null,null,null,null,null,null,null,null,null,null,"",null,null,""]
[null,null,null,null,null,null,"",null,null,null,null,null,null,null,null,null,null,null,null,"",null,null,""]
[null,null,null,null,null,null,"",null,null,null,null,null,null,null,null,null,null,null,null,"",null,null,""]
[null,null,null,null,null,null,"",null,null,null,null,null,null,null,null,null,null,null,null,"",null,null,""]
[null,null,null,null,null,null,"",null,null,null,null,null,null,null,null,null,null,null,null,"",null,null,""]
[null,null,null,null,null,null,"",null,null,null,null,null,null,null,null,null,null,null,null,"",null,null,""]
[null,null,null,null,null,null,"",null,null,null,null,null,null,null,null,null,null,null,null,"",null,null,""]
[null,null,null,null,null,null,"",null,null,null,null,null,null,null,null,null,null,null,null,"",null,null,""]
[null,null,null,null,null,null,"",null,null,null,null,null,null,null,null,null,null,null,null,"",null,null,""]
[null,null,null,null,null,null,"",null,null,null,null,null,null,null,null,null,null,null,null,"",null,null,""]
[null,null,null,null,null,null,"",null,null,null,null,null,null,null,null,null,null,null,null,"",null,null,""]
[null,null,null,null,null,null,"",null,null,null,null,null,null,null,null,null,null,null,null,"",null,null,""]
[null,null,null,null,null,null,"",null,null,null,null,null,null,null,null,null,null,null,null,"",null,null,""]
[null,null,null,null,null,null,"",null,null,null,null,null,null,null,null,null,null,null,null,"",null,null,""]
[null,null,null,null,null,null,{"$f":"CONCATENATE(IF(ISBLANK(E611),\"\",E611),IF(AND(ISBLANK(F611),ISBLANK(E611)),\"\",\", \"),IF(ISBLANK(F611),\"\",F611))","v":""},null,null,null,null,null,null,null,null,null,null,null,null,"",null,null,""]
[null,null,null,null,null,null,"",null,null,null,null,null,null,null,null,null,null,null,null,"",null,null,""]
[null,null,null,null,null,null,"",null,null,null,null,null,null,null,null,null,null,null,null,"",null,null,""]
[null,null,null,null,null,null,"",null,null,null,null,null,null,null,null,null,null,null,null,"",null,null,""]
[null,null,null,null,null,null,"",null,null,null,null,null,null,null,null,null,null,null,null,"",null,null,""]
[null,null,null,null,null,null,"",null,null,null,null,null,null,null,null,null,null,null,null,"",null,null,""]
[null,null,null,null,null,null,"",null,null,null,null,null,null,null,null,null,null,null,null,"",null,null,""]
[null,null,null,null,null,null,"",null,null,null,null,null,null,null,null,null,null,null,null,"",null,null,""]
[null,null,null,null,null,null,"",null,null,null,null,null,null,null,null,null,null,null,null,"",null,null,""]
[null,null,null,null,null,null,"",null,null,null,null,null,null,null,null,null,null,null,null,"",null,null,""]
[null,null,null,null,null,null,"",null,null,null,null,null,null,null,null,null,null,null,null,"",null,null,""]
[null,null,null,null,null,null,"",null,null,null,null,null,null,null,null,null,null,null,null,"",null,null,""]
[null,null,null,null,null,null,"",null,null,null,null,null,null,null,null,null,null,null,null,"",null,null,""]
[null,null,null,null,null,null,"",null,null,null,null,null,null,null,null,null,null,null,null,"",null,null,""]
[null,null,null,null,null,null,"",null,null,null,null,null,null,null,null,null,null,null,null,"",null,null,""]
[null,null,null,null,null,null,"",null,null,null,null,null,null,null,null,null,null,null,null,"",null,null,""]
[null,null,null,null,null,null,"",null,null,null,null,null,null,null,null,null,null,null,null,"",null,null,""]
[null,null,null,null,null,null,"",null,null,null,null,null,null,null,null,null,null,null,null,"",null,null,""]
[null,null,null,null,null,null,"",null,null,null,null,null,null,null,null,null,null,null,null,"",null,null,""]
[null,null,null,null,null,null,"",null,null,null,null,null,null,null,null,null,null,null,null,"",null,null,""]
[null,null,null,null,null,null,"",null,null,null,null,null,null,null,null,null,null,null,null,"",null,null,""]
[null,null,null,null,null,null,"",null,null,null,null,null,null,null,null,null,null,null,null,"",null,null,""]
[null,null,null,null,null,null,"",null,null,null,null,null,null,null,null,null,null,null,null,"",null,null,""]
[null,null,null,null,null,null,"",null,null,null,null,null,null,null,null,null,null,null,null,"",null,null,""]
[null,null,null,null,null,null,"",null,null,null,null,null,null,null,null,null,null,null,null,"",null,null,""]
[null,null,null,null,null,null,"",null,null,null,null,null,null,null,null,null,null,null,null,"",null,null,""]
[null,null,null,null,null,null,"",null,null,null,null,null,null,null,null,null,null,null,null,"",null,null,""]
[null,null,null,null,null,null,"",null,null,null,null,null,null,null,null,null,null,null,null,"",null,null,""]
[null,null,null,null,null,null,"",null,null,null,null,null,null,null,null,null,null,null,null,"",null,null,""]
[null,null,null,null,null,null,"",null,null,null,null,null,null,null,null,null,null,null,null,"",null,null,""]
[null,null,null,null,null,null,"",null,null,null,null,null,null,null,null,null,null,null,null,"",null,null,""]
[null,null,null,null,null,null,"",null,null,null,null,null,null,null,null,null,null,null,null,"",null,null,""]
[null,null,null,null,null,null,"",null,null,null,null,null,null,null,null,null,null,null,null,"",null,null,""]
[null,null,null,null,null,null,"",null,null,null,null,null,null,null,null,null,null,null,null,"",null,null,""]
[null,null,null,null,null,null,"",null,null,null,null,null,null,null,null,null,null,null,null,"",null,null,""]
[null,null,null,null,null,null,"",null,null,null,null,null,null,null,null,null,null,null,null,"",null,null,""]
[null,null,null,null,null,null,"",null,null,null,null,null,null,null,null,null,null,null,null,"",null,null,""]
[null,null,null,null,null,null,"",null,null,null,null,null,null,null,null,null,null,null,null,"",null,null,""]
[null,null,null,null,null,null,"",null,null,null,null,null,null,null,null,null,null,null,null,"",null,null,""]
[null,null,null,null,null,null,"",null,null,null,null,null,null,null,null,null,null,null,null,"",null,null,""]
[null,null,null,null,null,null,"",null,null,null,null,null,null,null,null,null,null,null,null,"",null,null,""]
[null,null,null,null,null,null,"",null,null,null,null,null,null,null,null,null,null,null,null,{"$f":"IF(R652=\"\",\"\",IF(S652=\"\",R652,R652&\" - \"&S652))","v":""},null,null,""]
[null,null,null,null,null,null,"",null,null,null,null,null,null,null,null,null,null,null,null,"",null,null,{"$f":"IF(OR(ISBLANK(U653),ISBLANK(S653)),\"\",\"01.01.\"&RIGHT(S653,4)+U653+1)","v":""}]
[null,null,null,null,null,null,"",null,null,null,null,null,null,null,null,null,null,null,null,"",null,null,""]
[null,null,null,null,null,null,"",null,null,null,null,null,null,null,null,null,null,null,null,"",null,null,""]
[null,null,null,null,null,null,"",null,null,null,null,null,null,null,null,null,null,null,null,"",null,null,""]
[null,null,null,null,null,null,"",null,null,null,null,null,null,null,null,null,null,null,null,"",null,null,""]
[null,null,null,null,null,null,"",null,null,null,null,null,null,null,null,null,null,null,null,"",null,null,""]
[null,null,null,null,null,null,"",null,null,null,null,null,null,null,null,null,null,null,null,"",null,null,""]
[null,null,null,null,null,null,"",null,null,null,null,null,null,null,null,null,null,null,null,"",null,null,""]
[null,null,null,null,null,null,"",null,null,null,null,null,null,null,null,null,null,null,null,"",null,null,""]
[null,null,null,null,null,null,"",null,null,null,null,null,null,null,null,null,null,null,null,"",null,null,""]
[null,null,null,null,null,null,"",null,null,null,null,null,null,null,null,null,null,null,null,"",null,null,""]
[null,null,null,null,null,null,"",null,null,null,null,null,null,null,null,null,null,null,null,"",null,null,""]
[null,null,null,null,null,null,"",null,null,null,null,null,null,null,null,null,null,null,null,"",null,null,""]
[null,null,null,null,null,null,"",null,null,null,null,null,null,null,null,null,null,null,null,"",null,null,""]
[null,null,null,null,null,null,"",null,null,null,null,null,null,null,null,null,null,null,null,"",null,null,""]
[null,null,null,null,null,null,"",null,null,null,null,null,null,null,null,null,null,null,null,"",null,null,""]
[null,null,null,null,null,null,"",null,null,null,null,null,null,null,null,null,null,null,null,"",null,null,""]
[null,null,null,null,null,null,"",null,null,null,null,null,null,null,null,null,null,null,null,"",null,null,""]
[null,null,null,null,null,null,"",null,null,null,null,null,null,null,null,null,null,null,null,"",null,null,""]
[null,null,null,null,null,null,"",null,null,null,null,null,null,null,null,null,null,null,null,"",null,null,""]
[null,null,null,null,null,null,"",null,null,null,null,null,null,null,null,null,null,null,null,"",null,null,""]
[null,null,null,null,null,null,"",null,null,null,null,null,null,null,null,null,null,null,null,"",null,null,""]
[null,null,null,null,null,null,{"$f":"CONCATENATE(IF(ISBLANK(E675),\"\",E675),IF(AND(ISBLANK(F675),ISBLANK(E675)),\"\",\", \"),IF(ISBLANK(F675),\"\",F675))","v":""},null,null,null,null,null,null,null,null,null,null,null,null,"",null,null,""]
[null,null,null,null,null,null,"",null,null,null,null,null,null,null,null,null,null,null,null,"",null,null,""]
[null,null,null,null,null,null,"",null,null,null,null,null,null,null,null,null,null,null,null,"",null,null,""]
[null,null,null,null,null,null,"",null,null,null,null,null,null,null,null,null,null,null,null,"",null,null,""]
[null,null,null,null,null,null,"",null,null,null,null,null,null,null,null,null,null,null,null,"",null,null,""]
[null,null,null,null,null,null,"",null,null,null,null,null,null,null,null,null,null,null,null,"",null,null,""]
[null,null,null,null,null,null,"",null,null,null,null,null,null,null,null,null,null,null,null,"",null,null,""]
[null,null,null,null,null,null,"",null,null,null,null,null,null,null,null,null,null,null,null,"",null,null,""]
[null,null,null,null,null,null,"",null,null,null,null,null,null,null,null,null,null,null,null,"",null,null,""]
[null,null,null,null,null,null,"",null,null,null,null,null,null,null,null,null,null,null,null,"",null,null,""]
[null,null,null,null,null,null,"",null,null,null,null,null,null,null,null,null,null,null,null,"",null,null,""]
[null,null,null,null,null,null,"",null,null,null,null,null,null,null,null,null,null,null,null,"",null,null,""]
[null,null,null,null,null,null,"",null,null,null,null,null,null,null,null,null,null,null,null,"",null,null,""]
[null,null,null,null,null,null,"",null,null,null,null,null,null,null,null,null,null,null,null,"",null,null,""]
[null,null,null,null,null,null,"",null,null,null,null,null,null,null,null,null,null,null,null,"",null,null,""]
[null,null,null,null,null,null,"",null,null,null,null,null,null,null,null,null,null,null,null,"",null,null,""]
[null,null,null,null,null,null,"",null,null,null,null,null,null,null,null,null,null,null,null,"",null,null,""]
[null,null,null,null,null,null,"",null,null,null,null,null,null,null,null,null,null,null,null,"",null,null,""]
[null,null,null,null,null,null,"",null,null,null,null,null,null,null,null,null,null,null,null,"",null,null,""]
[null,null,null,null,null,null,"",null,null,null,null,null,null,null,null,null,null,null,null,"",null,null,""]
[null,null,null,null,null,null,"",null,null,null,null,null,null,null,null,null,null,null,null,"",null,null,""]
[null,null,null,null,null,null,"",null,null,null,null,null,null,null,null,null,null,null,null,"",null,null,""]
[null,null,null,null,null,null,"",null,null,null,null,null,null,null,null,null,null,null,null,"",null,null,""]
[null,null,null,null,null,null,"",null,null,null,null,null,null,null,null,null,null,null,null,"",null,null,""]
[null,null,null,null,null,null,"",null,null,null,null,null,null,null,null,null,null,null,null,"",null,null,""]
[null,null,null,null,null,null,"",null,null,null,null,null,null,null,null,null,null,null,null,"",null,null,""]
[null,null,null,null,null,null,"",null,null,null,null,null,null,null,null,null,null,null,null,"",null,null,""]
[null,null,null,null,null,null,"",null,null,null,null,null,null,null,null,null,null,null,null,"",null,null,""]
[null,null,null,null,null,null,"",null,null,null,null,null,null,null,null,null,null,null,null,"",null,null,""]
[null,null,null,null,null,null,"",null,null,null,null,null,null,null,null,null,null,null,null,"",null,null,""]
[null,null,null,null,null,null,"",null,null,null,null,null,null,null,null,null,null,null,null,"",null,null,""]
[null,null,null,null,null,null,"",null,null,null,null,null,null,null,null,null,null,null,null,"",null,null,""]
[null,null,null,null,null,null,"",null,null,null,null,null,null,null,null,null,null,null,null,"",null,null,""]
[null,null,null,null,null,null,"",null,null,null,null,null,null,null,null,null,null,null,null,"",null,null,""]
[null,null,null,null,null,null,"",null,null,null,null,null,null,null,null,null,null,null,null,"",null,null,""]
[null,null,null,null,null,null,"",null,null,null,null,null,null,null,null,null,null,null,null,"",null,null,""]
[null,null,null,null,null,null,"",null,null,null,null,null,null,null,null,null,null,null,null,"",null,null,""]
[null,null,null,null,null,null,"",null,null,null,null,null,null,null,null,null,null,null,null,"",null,null,""]
[null,null,null,null,null,null,"",null,null,null,null,null,null,null,null,null,null,null,null,"",null,null,""]
[null,null,null,null,null,null,"",null,null,null,null,null,null,null,null,null,null,null,null,"",null,null,""]
[null,null,null,null,null,null,"",null,null,null,null,null,null,null,null,null,null,null,null,"",null,null,""]
[null,null,null,null,null,null,"",null,null,null,null,null,null,null,null,null,null,null,null,{"$f":"IF(R716=\"\",\"\",IF(S716=\"\",R716,R716&\" - \"&S716))","v":""},null,null,""]
[null,null,null,null,null,null,"",null,null,null,null,null,null,null,null,null,null,null,null,"",null,null,{"$f":"IF(OR(ISBLANK(U717),ISBLANK(S717)),\"\",\"01.01.\"&RIGHT(S717,4)+U717+1)","v":""}]
[null,null,null,null,null,null,"",null,null,null,null,null,null,null,null,null,null,null,null,"",null,null,""]
[null,null,null,null,null,null,"",null,null,null,null,null,null,null,null,null,null,null,null,"",null,null,""]
[null,null,null,null,null,null,"",null,null,null,null,null,null,null,null,null,null,null,null,"",null,null,""]
[null,null,null,null,null,null,"",null,null,null,null,null,null,null,null,null,null,null,null,"",null,null,""]
[null,null,null,null,null,null,"",null,null,null,null,null,null,null,null,null,null,null,null,"",null,null,""]
[null,null,null,null,null,null,"",null,null,null,null,null,null,null,null,null,null,null,null,"",null,null,""]
[null,null,null,null,null,null,"",null,null,null,null,null,null,null,null,null,null,null,null,"",null,null,""]
[null,null,null,null,null,null,"",null,null,null,null,null,null,null,null,null,null,null,null,"",null,null,""]
[null,null,null,null,null,null,"",null,null,null,null,null,null,null,null,null,null,null,null,"",null,null,""]
[null,null,null,null,null,null,"",null,null,null,null,null,null,null,null,null,null,null,null,"",null,null,""]
[null,null,null,null,null,null,"",null,null,null,null,null,null,null,null,null,null,null,null,"",null,null,""]
[null,null,null,null,null,null,"",null,null,null,null,null,null,null,null,null,null,null,null,"",null,null,""]
[null,null,null,null,null,null,"",null,null,null,null,null,null,null,null,null,null,null,null,"",null,null,""]
[null,null,null,null,null,null,"",null,null,null,null,null,null,null,null,null,null,null,null,"",null,null,""]
[null,null,null,null,null,null,"",null,null,null,null,null,null,null,null,null,null,null,null,"",null,null,""]
[null,null,null,null,null,null,"",null,null,null,null,null,null,null,null,null,null,null,null,"",null,null,""]
[null,null,null,null,null,null,"",null,null,null,null,null,null,null,null,null,null,null,null,"",null,null,""]
[null,null,null,null,null,null,"",null,null,null,null,null,null,null,null,null,null,null,null,"",null,null,""]
[null,null,null,null,null,null,"",null,null,null,null,null,null,null,null,null,null,null,null,"",null,null,""]
[null,null,null,null,null,null,"",null,null,null,null,null,null,null,null,null,null,null,null,"",null,null,""]
[null,null,null,null,null,null,"",null,null,null,null,null,null,null,null,null,null,null,null,"",null,null,""]
[null,null,null,null,null,null,{"$f":"CONCATENATE(IF(ISBLANK(E739),\"\",E739),IF(AND(ISBLANK(F739),ISBLANK(E739)),\"\",\", \"),IF(ISBLANK(F739),\"\",F739))","v":""},null,null,null,null,null,null,null,null,null,null,null,null,"",null,null,""]
[null,null,null,null,null,null,"",null,null,null,null,null,null,null,null,null,null,null,null,"",null,null,""]
[null,null,null,null,null,null,"",null,null,null,null,null,null,null,null,null,null,null,null,"",null,null,""]
[null,null,null,null,null,null,"",null,null,null,null,null,null,null,null,null,null,null,null,"",null,null,""]
[null,null,null,null,null,null,"",null,null,null,null,null,null,null,null,null,null,null,null,"",null,null,""]
[null,null,null,null,null,null,"",null,null,null,null,null,null,null,null,null,null,null,null,"",null,null,""]
[null,null,null,null,null,null,"",null,null,null,null,null,null,null,null,null,null,null,null,"",null,null,""]
[null,null,null,null,null,null,"",null,null,null,null,null,null,null,null,null,null,null,null,"",null,null,""]
[null,null,null,null,null,null,"",null,null,null,null,null,null,null,null,null,null,null,null,"",null,null,""]
[null,null,null,null,null,null,"",null,null,null,null,null,null,null,null,null,null,null,null,"",null,null,""]
[null,null,null,null,null,null,"",null,null,null,null,null,null,null,null,null,null,null,null,"",null,null,""]
[null,null,null,null,null,null,"",null,null,null,null,null,null,null,null,null,null,null,null,"",null,null,""]
[null,null,null,null,null,null,"",null,null,null,null,null,null,null,null,null,null,null,null,"",null,null,""]
[null,null,null,null,null,null,"",null,null,null,null,null,null,null,null,null,null,null,null,"",null,null,""]
[null,null,null,null,null,null,"",null,null,null,null,null,null,null,null,null,null,null,null,"",null,null,""]
[null,null,null,null,null,null,"",null,null,null,null,null,null,null,null,null,null,null,null,"",null,null,""]
[null,null,null,null,null,null,"",null,null,null,null,null,null,null,null,null,null,null,null,"",null,null,""]
[null,null,null,null,null,null,"",null,null,null,null,null,null,null,null,null,null,null,null,"",null,null,""]
[null,null,null,null,null,null,"",null,null,null,null,null,null,null,null,null,null,null,null,"",null,null,""]
[null,null,null,null,null,null,"",null,null,null,null,null,null,null,null,null,null,null,null,"",null,null,""]
[null,null,null,null,null,null,"",null,null,null,null,null,null,null,null,null,null,null,null,"",null,null,""]
[null,null,null,null,null,null,"",null,null,null,null,null,null,null,null,null,null,null,null,"",null,null,""]
[null,null,null,null,null,null,"",null,null,null,null,null,null,null,null,null,null,null,null,"",null,null,""]
[null,null,null,null,null,null,"",null,null,null,null,null,null,null,null,null,null,null,null,"",null,null,""]
[null,null,null,null,null,null,"",null,null,null,null,null,null,null,null,null,null,null,null,"",null,null,""]
[null,null,null,null,null,null,"",null,null,null,null,null,null,null,null,null,null,null,null,"",null,null,""]
[null,null,null,null,null,null,"",null,null,null,null,null,null,null,null,null,null,null,null,"",null,null,""]
[null,null,null,null,null,null,"",null,null,null,null,null,null,null,null,null,null,null,null,"",null,null,""]
[null,null,null,null,null,null,"",null,null,null,null,null,null,null,null,null,null,null,null,"",null,null,""]
[null,null,null,null,null,null,"",null,null,null,null,null,null,null,null,null,null,null,null,"",null,null,""]
[null,null,null,null,null,null,"",null,null,null,null,null,null,null,null,null,null,null,null,"",null,null,""]
[null,null,null,null,null,null,"",null,null,null,null,null,null,null,null,null,null,null,null,"",null,null,""]
[null,null,null,null,null,null,"",null,null,null,null,null,null,null,null,null,null,null,null,"",null,null,""]
[null,null,null,null,null,null,"",null,null,null,null,null,null,null,null,null,null,null,null,"",null,null,""]
[null,null,null,null,null,null,"",null,null,null,null,null,null,null,null,null,null,null,null,"",null,null,""]
[null,null,null,null,null,null,"",null,null,null,null,null,null,null,null,null,null,null,null,"",null,null,""]
[null,null,null,null,null,null,"",null,null,null,null,null,null,null,null,null,null,null,null,"",null,null,""]
[null,null,null,null,null,null,"",null,null,null,null,null,null,null,null,null,null,null,null,"",null,null,""]
[null,null,null,null,null,null,"",null,null,null,null,null,null,null,null,null,null,null,null,"",null,null,""]
[null,null,null,null,null,null,"",null,null,null,null,null,null,null,null,null,null,null,null,"",null,null,""]
[null,null,null,null,null,null,"",null,null,null,null,null,null,null,null,null,null,null,null,"",null,null,""]
[null,null,null,null,null,null,"",null,null,null,null,null,null,null,null,null,null,null,null,{"$f":"IF(R780=\"\",\"\",IF(S780=\"\",R780,R780&\" - \"&S780))","v":""},null,null,""]
[null,null,null,null,null,null,"",null,null,null,null,null,null,null,null,null,null,null,null,"",null,null,{"$f":"IF(OR(ISBLANK(U781),ISBLANK(S781)),\"\",\"01.01.\"&RIGHT(S781,4)+U781+1)","v":""}]
[null,null,null,null,null,null,"",null,null,null,null,null,null,null,null,null,null,null,null,"",null,null,""]
[null,null,null,null,null,null,"",null,null,null,null,null,null,null,null,null,null,null,null,"",null,null,""]
[null,null,null,null,null,null,"",null,null,null,null,null,null,null,null,null,null,null,null,"",null,null,""]
[null,null,null,null,null,null,"",null,null,null,null,null,null,null,null,null,null,null,null,"",null,null,""]
[null,null,null,null,null,null,"",null,null,null,null,null,null,null,null,null,null,null,null,"",null,null,""]
[null,null,null,null,null,null,"",null,null,null,null,null,null,null,null,null,null,null,null,"",null,null,""]
[null,null,null,null,null,null,"",null,null,null,null,null,null,null,null,null,null,null,null,"",null,null,""]
[null,null,null,null,null,null,"",null,null,null,null,null,null,null,null,null,null,null,null,"",null,null,""]
[null,null,null,null,null,null,"",null,null,null,null,null,null,null,null,null,null,null,null,"",null,null,""]
[null,null,null,null,null,null,"",null,null,null,null,null,null,null,null,null,null,null,null,"",null,null,""]
[null,null,null,null,null,null,"",null,null,null,null,null,null,null,null,null,null,null,null,"",null,null,""]
[null,null,null,null,null,null,"",null,null,null,null,null,null,null,null,null,null,null,null,"",null,null,""]
[null,null,null,null,null,null,"",null,null,null,null,null,null,null,null,null,null,null,null,"",null,null,""]
[null,null,null,null,null,null,"",null,null,null,null,null,null,null,null,null,null,null,null,"",null,null,""]
[null,null,null,null,null,null,"",null,null,null,null,null,null,null,null,null,null,null,null,"",null,null,""]
[null,null,null,null,null,null,"",null,null,null,null,null,null,null,null,null,null,null,null,"",null,null,""]
[null,null,null,null,null,null,"",null,null,null,null,null,null,null,null,null,null,null,null,"",null,null,""]
[null,null,null,null,null,null,"",null,null,null,null,null,null,null,null,null,null,null,null,"",null,null,""]
[null,null,null,null,null,null,"",null,null,null,null,null,null,null,null,null,null,null,null,"",null,null,""]
[null,null,null,null,null,null,"",null,null,null,null,null,null,null,null,null,null,null,null,"",null,null,""]
[null,null,null,null,null,null,"",null,null,null,null,null,null,null,null,null,null,null,null,"",null,null,""]
[null,null,null,null,null,null,{"$f":"CONCATENATE(IF(ISBLANK(E803),\"\",E803),IF(AND(ISBLANK(F803),ISBLANK(E803)),\"\",\", \"),IF(ISBLANK(F803),\"\",F803))","v":""},null,null,null,null,null,null,null,null,null,null,null,null,"",null,null,""]
[null,null,null,null,null,null,"",null,null,null,null,null,null,null,null,null,null,null,null,"",null,null,""]
[null,null,null,null,null,null,"",null,null,null,null,null,null,null,null,null,null,null,null,"",null,null,""]
[null,null,null,null,null,null,"",null,null,null,null,null,null,null,null,null,null,null,null,"",null,null,""]
[null,null,null,null,null,null,"",null,null,null,null,null,null,null,null,null,null,null,null,"",null,null,""]
[null,null,null,null,null,null,"",null,null,null,null,null,null,null,null,null,null,null,null,"",null,null,""]
[null,null,null,null,null,null,"",null,null,null,null,null,null,null,null,null,null,null,null,"",null,null,""]
[null,null,null,null,null,null,"",null,null,null,null,null,null,null,null,null,null,null,null,"",null,null,""]
[null,null,null,null,null,null,"",null,null,null,null,null,null,null,null,null,null,null,null,"",null,null,""]
[null,null,null,null,null,null,"",null,null,null,null,null,null,null,null,null,null,null,null,"",null,null,""]
[null,null,null,null,null,null,"",null,null,null,null,null,null,null,null,null,null,null,null,"",null,null,""]
[null,null,null,null,null,null,"",null,null,null,null,null,null,null,null,null,null,null,null,"",null,null,""]
[null,null,null,null,null,null,"",null,null,null,null,null,null,null,null,null,null,null,null,"",null,null,""]
[null,null,null,null,null,null,"",null,null,null,null,null,null,null,null,null,null,null,null,"",null,null,""]
[null,null,null,null,null,null,"",null,null,null,null,null,null,null,null,null,null,null,null,"",null,null,""]
[null,null,null,null,null,null,"",null,null,null,null,null,null,null,null,null,null,null,null,"",null,null,""]
[null,null,null,null,null,null,"",null,null,null,null,null,null,null,null,null,null,null,null,"",null,null,""]
[null,null,null,null,null,null,"",null,null,null,null,null,null,null,null,null,null,null,null,"",null,null,""]
[null,null,null,null,null,null,"",null,null,null,null,null,null,null,null,null,null,null,null,"",null,null,""]
[null,null,null,null,null,null,"",null,null,null,null,null,null,null,null,null,null,null,null,"",null,null,""]
[null,null,null,null,null,null,"",null,null,null,null,null,null,null,null,null,null,null,null,"",null,null,""]
[null,null,null,null,null,null,"",null,null,null,null,null,null,null,null,null,null,null,null,"",null,null,""]
[null,null,null,null,null,null,"",null,null,null,null,null,null,null,null,null,null,null,null,"",null,null,""]
[null,null,null,null,null,null,"",null,null,null,null,null,null,null,null,null,null,null,null,"",null,null,""]
[null,null,null,null,null,null,"",null,null,null,null,null,null,null,null,null,null,null,null,"",null,null,""]
[null,null,null,null,null,null,"",null,null,null,null,null,null,null,null,null,null,null,null,"",null,null,""]
[null,null,null,null,null,null,"",null,null,null,null,null,null,null,null,null,null,null,null,"",null,null,""]
[null,null,null,null,null,null,"",null,null,null,null,null,null,null,null,null,null,null,null,"",null,null,""]
[null,null,null,null,null,null,"",null,null,null,null,null,null,null,null,null,null,null,null,"",null,null,""]
[null,null,null,null,null,null,"",null,null,null,null,null,null,null,null,null,null,null,null,"",null,null,""]
[null,null,null,null,null,null,"",null,null,null,null,null,null,null,null,null,null,null,null,"",null,null,""]
[null,null,null,null,null,null,"",null,null,null,null,null,null,null,null,null,null,null,null,"",null,null,""]
[null,null,null,null,null,null,"",null,null,null,null,null,null,null,null,null,null,null,null,"",null,null,""]
[null,null,null,null,null,null,"",null,null,null,null,null,null,null,null,null,null,null,null,"",null,null,""]
[null,null,null,null,null,null,"",null,null,null,null,null,null,null,null,null,null,null,null,"",null,null,""]
[null,null,null,null,null,null,"",null,null,null,null,null,null,null,null,null,null,null,null,"",null,null,""]
[null,null,null,null,null,null,"",null,null,null,null,null,null,null,null,null,null,null,null,"",null,null,""]
[null,null,null,null,null,null,"",null,null,null,null,null,null,null,null,null,null,null,null,"",null,null,""]
[null,null,null,null,null,null,"",null,null,null,null,null,null,null,null,null,null,null,null,"",null,null,""]
[null,null,null,null,null,null,"",null,null,null,null,null,null,null,null,null,null,null,null,"",null,null,""]
[null,null,null,null,null,null,"",null,null,null,null,null,null,null,null,null,null,null,null,"",null,null,""]
[null,null,null,null,null,null,"",null,null,null,null,null,null,null,null,null,null,null,null,{"$f":"IF(R844=\"\",\"\",IF(S844=\"\",R844,R844&\" - \"&S844))","v":""},null,null,""]
[null,null,null,null,null,null,"",null,null,null,null,null,null,null,null,null,null,null,null,"",null,null,{"$f":"IF(OR(ISBLANK(U845),ISBLANK(S845)),\"\",\"01.01.\"&RIGHT(S845,4)+U845+1)","v":""}]
[null,null,null,null,null,null,"",null,null,null,null,null,null,null,null,null,null,null,null,"",null,null,""]
[null,null,null,null,null,null,"",null,null,null,null,null,null,null,null,null,null,null,null,"",null,null,""]
[null,null,null,null,null,null,"",null,null,null,null,null,null,null,null,null,null,null,null,"",null,null,""]
[null,null,null,null,null,null,"",null,null,null,null,null,null,null,null,null,null,null,null,"",null,null,""]
[null,null,null,null,null,null,"",null,null,null,null,null,null,null,null,null,null,null,null,"",null,null,""]
[null,null,null,null,null,null,"",null,null,null,null,null,null,null,null,null,null,null,null,"",null,null,""]
[null,null,null,null,null,null,"",null,null,null,null,null,null,null,null,null,null,null,null,"",null,null,""]
[null,null,null,null,null,null,"",null,null,null,null,null,null,null,null,null,null,null,null,"",null,null,""]
[null,null,null,null,null,null,"",null,null,null,null,null,null,null,null,null,null,null,null,"",null,null,""]
[null,null,null,null,null,null,"",null,null,null,null,null,null,null,null,null,null,null,null,"",null,null,""]
[null,null,null,null,null,null,"",null,null,null,null,null,null,null,null,null,null,null,null,"",null,null,""]
[null,null,null,null,null,null,"",null,null,null,null,null,null,null,null,null,null,null,null,"",null,null,""]
[null,null,null,null,null,null,"",null,null,null,null,null,null,null,null,null,null,null,null,"",null,null,""]
[null,null,null,null,null,null,"",null,null,null,null,null,null,null,null,null,null,null,null,"",null,null,""]
[null,null,null,null,null,null,"",null,null,null,null,null,null,null,null,null,null,null,null,"",null,null,""]
[null,null,null,null,null,null,"",null,null,null,null,null,null,null,null,null,null,null,null,"",null,null,""]
[null,null,null,null,null,null,"",null,null,null,null,null,null,null,null,null,null,null,null,"",null,null,""]
[null,null,null,null,null,null,"",null,null,null,null,null,null,null,null,null,null,null,null,"",null,null,""]
[null,null,null,null,null,null,"",null,null,null,null,null,null,null,null,null,null,null,null,"",null,null,""]
[null,null,null,null,null,null,"",null,null,null,null,null,null,null,null,null,null,null,null,"",null,null,""]
[null,null,null,null,null,null,"",null,null,null,null,null,null,null,null,null,null,null,null,"",null,null,""]
[null,null,null,null,null,null,{"$f":"CONCATENATE(IF(ISBLANK(E867),\"\",E867),IF(AND(ISBLANK(F867),ISBLANK(E867)),\"\",\", \"),IF(ISBLANK(F867),\"\",F867))","v":""},null,null,null,null,null,null,null,null,null,null,null,null,"",null,null,""]
[null,null,null,null,null,null,"",null,null,null,null,null,null,null,null,null,null,null,null,"",null,null,""]
[null,null,null,null,null,null,"",null,null,null,null,null,null,null,null,null,null,null,null,"",null,null,""]
[null,null,null,null,null,null,"",null,null,null,null,null,null,null,null,null,null,null,null,"",null,null,""]
[null,null,null,null,null,null,"",null,null,null,null,null,null,null,null,null,null,null,null,"",null,null,""]
[null,null,null,null,null,null,"",null,null,null,null,null,null,null,null,null,null,null,null,"",null,null,""]
[null,null,null,null,null,null,"",null,null,null,null,null,null,null,null,null,null,null,null,"",null,null,""]
[null,null,null,null,null,null,"",null,null,null,null,null,null,null,null,null,null,null,null,"",null,null,""]
[null,null,null,null,null,null,"",null,null,null,null,null,null,null,null,null,null,null,null,"",null,null,""]
[null,null,null,null,null,null,"",null,null,null,null,null,null,null,null,null,null,null,null,"",null,null,""]
[null,null,null,null,null,null,"",null,null,null,null,null,null,null,null,null,null,null,null,"",null,null,""]
[null,null,null,null,null,null,"",null,null,null,null,null,null,null,null,null,null,null,null,"",null,null,""]
[null,null,null,null,null,null,"",null,null,null,null,null,null,null,null,null,null,null,null,"",null,null,""]
[null,null,null,null,null,null,"",null,null,null,null,null,null,null,null,null,null,null,null,"",null,null,""]
[null,null,null,null,null,null,"",null,null,null,null,null,null,null,null,null,null,null,null,"",null,null,""]
[null,null,null,null,null,null,"",null,null,null,null,null,null,null,null,null,null,null,null,"",null,null,""]
[null,null,null,null,null,null,"",null,null,null,null,null,null,null,null,null,null,null,null,"",null,null,""]
[null,null,null,null,null,null,"",null,null,null,null,null,null,null,null,null,null,null,null,"",null,null,""]
[null,null,null,null,null,null,"",null,null,null,null,null,null,null,null,null,null,null,null,"",null,null,""]
[null,null,null,null,null,null,"",null,null,null,null,null,null,null,null,null,null,null,null,"",null,null,""]
[null,null,null,null,null,null,"",null,null,null,null,null,null,null,null,null,null,null,null,"",null,null,""]
[null,null,null,null,null,null,"",null,null,null,null,null,null,null,null,null,null,null,null,"",null,null,""]
[null,null,null,null,null,null,"",null,null,null,null,null,null,null,null,null,null,null,null,"",null,null,""]
[null,null,null,null,null,null,"",null,null,null,null,null,null,null,null,null,null,null,null,"",null,null,""]
[null,null,null,null,null,null,"",null,null,null,null,null,null,null,null,null,null,null,null,"",null,null,""]
[null,null,null,null,null,null,"",null,null,null,null,null,null,null,null,null,null,null,null,"",null,null,""]
[null,null,null,null,null,null,"",null,null,null,null,null,null,null,null,null,null,null,null,"",null,null,""]
[null,null,null,null,null,null,"",null,null,null,null,null,null,null,null,null,null,null,null,"",null,null,""]
[null,null,null,null,null,null,"",null,null,null,null,null,null,null,null,null,null,null,null,"",null,null,""]
[null,null,null,null,null,null,"",null,null,null,null,null,null,null,null,null,null,null,null,"",null,null,""]
[null,null,null,null,null,null,"",null,null,null,null,null,null,null,null,null,null,null,null,"",null,null,""]
[null,null,null,null,null,null,"",null,null,null,null,null,null,null,null,null,null,null,null,"",null,null,""]
[null,null,null,null,null,null,"",null,null,null,null,null,null,null,null,null,null,null,null,"",null,null,""]
[null,null,null,null,null,null,"",null,null,null,null,null,null,null,null,null,null,null,null,"",null,null,""]
[null,null,null,null,null,null,"",null,null,null,null,null,null,null,null,null,null,null,null,"",null,null,""]
[null,null,null,null,null,null,"",null,null,null,null,null,null,null,null,null,null,null,null,"",null,null,""]
[null,null,null,null,null,null,"",null,null,null,null,null,null,null,null,null,null,null,null,"",null,null,""]
[null,null,null,null,null,null,"",null,null,null,null,null,null,null,null,null,null,null,null,"",null,null,""]
[null,null,null,null,null,null,"",null,null,null,null,null,null,null,null,null,null,null,null,"",null,null,""]
[null,null,null,null,null,null,"",null,null,null,null,null,null,null,null,null,null,null,null,"",null,null,""]
[null,null,null,null,null,null,"",null,null,null,null,null,null,null,null,null,null,null,null,"",null,null,""]
[null,null,null,null,null,null,"",null,null,null,null,null,null,null,null,null,null,null,null,{"$f":"IF(R908=\"\",\"\",IF(S908=\"\",R908,R908&\" - \"&S908))","v":""},null,null,""]
[null,null,null,null,null,null,"",null,null,null,null,null,null,null,null,null,null,null,null,"",null,null,{"$f":"IF(OR(ISBLANK(U909),ISBLANK(S909)),\"\",\"01.01.\"&RIGHT(S909,4)+U909+1)","v":""}]
[null,null,null,null,null,null,"",null,null,null,null,null,null,null,null,null,null,null,null,"",null,null,""]
[null,null,null,null,null,null,"",null,null,null,null,null,null,null,null,null,null,null,null,"",null,null,""]
[null,null,null,null,null,null,"",null,null,null,null,null,null,null,null,null,null,null,null,"",null,null,""]
[null,null,null,null,null,null,"",null,null,null,null,null,null,null,null,null,null,null,null,"",null,null,""]
[null,null,null,null,null,null,"",null,null,null,null,null,null,null,null,null,null,null,null,"",null,null,""]
[null,null,null,null,null,null,"",null,null,null,null,null,null,null,null,null,null,null,null,"",null,null,""]
[null,null,null,null,null,null,"",null,null,null,null,null,null,null,null,null,null,null,null,"",null,null,""]
[null,null,null,null,null,null,"",null,null,null,null,null,null,null,null,null,null,null,null,"",null,null,""]
[null,null,null,null,null,null,"",null,null,null,null,null,null,null,null,null,null,null,null,"",null,null,""]
[null,null,null,null,null,null,"",null,null,null,null,null,null,null,null,null,null,null,null,"",null,null,""]
[null,null,null,null,null,null,"",null,null,null,null,null,null,null,null,null,null,null,null,"",null,null,""]
[null,null,null,null,null,null,"",null,null,null,null,null,null,null,null,null,null,null,null,"",null,null,""]
[null,null,null,null,null,null,"",null,null,null,null,null,null,null,null,null,null,null,null,"",null,null,""]
[null,null,null,null,null,null,"",null,null,null,null,null,null,null,null,null,null,null,null,"",null,null,""]
[null,null,null,null,null,null,"",null,null,null,null,null,null,null,null,null,null,null,null,"",null,null,""]
[null,null,null,null,null,null,"",null,null,null,null,null,null,null,null,null,null,null,null,"",null,null,""]
[null,null,null,null,null,null,"",null,null,null,null,null,null,null,null,null,null,null,null,"",null,null,""]
[null,null,null,null,null,null,"",null,null,null,null,null,null,null,null,null,null,null,null,"",null,null,""]
[null,null,null,null,null,null,"",null,null,null,null,null,null,null,null,null,null,null,null,"",null,null,""]
[null,null,null,null,null,null,"",null,null,null,null,null,null,null,null,null,null,null,null,"",null,null,""]
[null,null,null,null,null,null,"",null,null,null,null,null,null,null,null,null,null,null,null,"",null,null,""]
[null,null,null,null,null,null,{"$f":"CONCATENATE(IF(ISBLANK(E931),\"\",E931),IF(AND(ISBLANK(F931),ISBLANK(E931)),\"\",\", \"),IF(ISBLANK(F931),\"\",F931))","v":""},null,null,null,null,null,null,null,null,null,null,null,null,"",null,null,""]
[null,null,null,null,null,null,"",null,null,null,null,null,null,null,null,null,null,null,null,"",null,null,""]
[null,null,null,null,null,null,"",null,null,null,null,null,null,null,null,null,null,null,null,"",null,null,""]
[null,null,null,null,null,null,"",null,null,null,null,null,null,null,null,null,null,null,null,"",null,null,""]
[null,null,null,null,null,null,"",null,null,null,null,null,null,null,null,null,null,null,null,"",null,null,""]
[null,null,null,null,null,null,"",null,null,null,null,null,null,null,null,null,null,null,null,"",null,null,""]
[null,null,null,null,null,null,"",null,null,null,null,null,null,null,null,null,null,null,null,"",null,null,""]
[null,null,null,null,null,null,"",null,null,null,null,null,null,null,null,null,null,null,null,"",null,null,""]
[null,null,null,null,null,null,"",null,null,null,null,null,null,null,null,null,null,null,null,"",null,null,""]
[null,null,null,null,null,null,"",null,null,null,null,null,null,null,null,null,null,null,null,"",null,null,""]
[null,null,null,null,null,null,"",null,null,null,null,null,null,null,null,null,null,null,null,"",null,null,""]
[null,null,null,null,null,null,"",null,null,null,null,null,null,null,null,null,null,null,null,"",null,null,""]
[null,null,null,null,null,null,"",null,null,null,null,null,null,null,null,null,null,null,null,"",null,null,""]
[null,null,null,null,null,null,"",null,null,null,null,null,null,null,null,null,null,null,null,"",null,null,""]
[null,null,null,null,null,null,"",null,null,null,null,null,null,null,null,null,null,null,null,"",null,null,""]
[null,null,null,null,null,null,"",null,null,null,null,null,null,null,null,null,null,null,null,"",null,null,""]
[null,null,null,null,null,null,"",null,null,null,null,null,null,null,null,null,null,null,null,"",null,null,""]
[null,null,null,null,null,null,"",null,null,null,null,null,null,null,null,null,null,null,null,"",null,null,""]
[null,null,null,null,null,null,"",null,null,null,null,null,null,null,null,null,null,null,null,"",null,null,""]
[null,null,null,null,null,null,"",null,null,null,null,null,null,null,null,null,null,null,null,"",null,null,""]
[null,null,null,null,null,null,"",null,null,null,null,null,null,null,null,null,null,null,null,"",null,null,""]
[null,null,null,null,null,null,"",null,null,null,null,null,null,null,null,null,null,null,null,"",null,null,""]
[null,null,null,null,null,null,"",null,null,null,null,null,null,null,null,null,null,null,null,"",null,null,""]
[null,null,null,null,null,null,"",null,null,null,null,null,null,null,null,null,null,null,null,"",null,null,""]
[null,null,null,null,null,null,"",null,null,null,null,null,null,null,null,null,null,null,null,"",null,null,""]
[null,null,null,null,null,null,"",null,null,null,null,null,null,null,null,null,null,null,null,"",null,null,""]
[null,null,null,null,null,null,"",null,null,null,null,null,null,null,null,null,null,null,null,"",null,null,""]
[null,null,null,null,null,null,"",null,null,null,null,null,null,null,null,null,null,null,null,"",null,null,""]
[null,null,null,null,null,null,"",null,null,null,null,null,null,null,null,null,null,null,null,"",null,null,""]
[null,null,null,null,null,null,"",null,null,null,null,null,null,null,null,null,null,null,null,"",null,null,""]
[null,null,null,null,null,null,"",null,null,null,null,null,null,null,null,null,null,null,null,"",null,null,""]
[null,null,null,null,null,null,"",null,null,null,null,null,null,null,null,null,null,null,null,"",null,null,""]
[null,null,null,null,null,null,"",null,null,null,null,null,null,null,null,null,null,null,null,"",null,null,""]
[null,null,null,null,null,null,"",null,null,null,null,null,null,null,null,null,null,null,null,"",null,null,""]
[null,null,null,null,null,null,"",null,null,null,null,null,null,null,null,null,null,null,null,"",null,null,""]
[null,null,null,null,null,null,"",null,null,null,null,null,null,null,null,null,null,null,null,"",null,null,""]
[null,null,null,null,null,null,"",null,null,null,null,null,null,null,null,null,null,null,null,"",null,null,""]
[null,null,null,null,null,null,"",null,null,null,null,null,null,null,null,null,null,null,null,"",null,null,""]
[null,null,null,null,null,null,"",null,null,null,null,null,null,null,null,null,null,null,null,"",null,null,""]
[null,null,null,null,null,null,"",null,null,null,null,null,null,null,null,null,null,null,null,"",null,null,""]
[null,null,null,null,null,null,"",null,null,null,null,null,null,null,null,null,null,null,null,"",null,null,""]
[null,null,null,null,null,null,"",null,null,null,null,null,null,null,null,null,null,null,null,{"$f":"IF(R972=\"\",\"\",IF(S972=\"\",R972,R972&\" - \"&S972))","v":""},null,null,""]
[null,null,null,null,null,null,"",null,null,null,null,null,null,null,null,null,null,null,null,"",null,null,{"$f":"IF(OR(ISBLANK(U973),ISBLANK(S973)),\"\",\"01.01.\"&RIGHT(S973,4)+U973+1)","v":""}]
[null,null,null,null,null,null,"",null,null,null,null,null,null,null,null,null,null,null,null,"",null,null,""]
[null,null,null,null,null,null,"",null,null,null,null,null,null,null,null,null,null,null,null,"",null,null,""]
[null,null,null,null,null,null,"",null,null,null,null,null,null,null,null,null,null,null,null,"",null,null,""]
[null,null,null,null,null,null,"",null,null,null,null,null,null,null,null,null,null,null,null,"",null,null,""]
[null,null,null,null,null,null,"",null,null,null,null,null,null,null,null,null,null,null,null,"",null,null,""]
[null,null,null,null,null,null,"",null,null,null,null,null,null,null,null,null,null,null,null,"",null,null,""]
[null,null,null,null,null,null,"",null,null,null,null,null,null,null,null,null,null,null,null,"",null,null,""]
[null,null,null,null,null,null,"",null,null,null,null,null,null,null,null,null,null,null,null,"",null,null,""]
[null,null,null,null,null,null,"",null,null,null,null,null,null,null,null,null,null,null,null,"",null,null,""]
[null,null,null,null,null,null,"",null,null,null,null,null,null,null,null,null,null,null,null,"",null,null,""]
[null,null,null,null,null,null,"",null,null,null,null,null,null,null,null,null,null,null,null,"",null,null,""]
[null,null,null,null,null,null,"",null,null,null,null,null,null,null,null,null,null,null,null,"",null,null,""]
[null,null,null,null,null,null,"",null,null,null,null,null,null,null,null,null,null,null,null,"",null,null,""]
[null,null,null,null,null,null,"",null,null,null,null,null,null,null,null,null,null,null,null,"",null,null,""]
[null,null,null,null,null,null,"",null,null,null,null,null,null,null,null,null,null,null,null,"",null,null,""]
[null,null,null,null,null,null,"",null,null,null,null,null,null,null,null,null,null,null,null,"",null,null,""]
[null,null,null,null,null,null,"",null,null,null,null,null,null,null,null,null,null,null,null,"",null,null,""]
[null,null,null,null,null,null,"",null,null,null,null,null,null,null,null,null,null,null,null,"",null,null,""]
[null,null,null,null,null,null,"",null,null,null,null,null,null,null,null,null,null,null,null,"",null,null,""]
[null,null,null,null,null,null,"",null,null,null,null,null,null,null,null,null,null,null,null,"",null,null,""]
[null,null,null,null,null,null,"",null,null,null,null,null,null,null,null,null,null,null,null,"",null,null,""]
[null,null,null,null,null,null,{"$f":"CONCATENATE(IF(ISBLANK(E995),\"\",E995),IF(AND(ISBLANK(F995),ISBLANK(E995)),\"\",\", \"),IF(ISBLANK(F995),\"\",F995))","v":""},null,null,null,null,null,null,null,null,null,null,null,null,"",null,null,""]
[null,null,null,null,null,null,"",null,null,null,null,null,null,null,null,null,null,null,null,"",null,null,""]
[null,null,null,null,null,null,"",null,null,null,null,null,null,null,null,null,null,null,null,"",null,null,""]
[null,null,null,null,null,null,"",null,null,null,null,null,null,null,null,null,null,null,null,"",null,null,""]
[null,null,null,null,null,null,"",null,null,null,null,null,null,null,null,null,null,null,null,"",null,null,""]
[null,null,null,null,null,null,"",null,null,null,null,null,null,null,null,null,null,null,null,"",null,null,""]
[null,null,null,null,null,null,"",null,null,null,null,null,null,null,null,null,null,null,null,"",null,null,""]
[null,null,null,null,null,null,"",null,null,null,null,null,null,null,null,null,null,null,null,"",null,null,""]
[null,null,null,null,null,null,"",null,null,null,null,null,null,null,null,null,null,null,null,"",null,null,""]
[null,null,null,null,null,null,"",null,null,null,null,null,null,null,null,null,null,null,null,"",null,null,""]
[null,null,null,null,null,null,"",null,null,null,null,null,null,null,null,null,null,null,null,"",null,null,""]
[null,null,null,null,null,null,"",null,null,null,null,null,null,null,null,null,null,null,null,"",null,null,""]
[null,null,null,null,null,null,"",null,null,null,null,null,null,null,null,null,null,null,null,"",null,null,""]
[null,null,null,null,null,null,"",null,null,null,null,null,null,null,null,null,null,null,null,"",null,null,""]
[null,null,null,null,null,null,"",null,null,null,null,null,null,null,null,null,null,null,null,"",null,null,""]
[null,null,null,null,null,null,"",null,null,null,null,null,null,null,null,null,null,null,null,"",null,null,""]
[null,null,null,null,null,null,""]
[null,null,null,null,null,null,""]
[null,null,null,null,null,null,""]
[null,null,null,null,null,null,""]
[null,null,null,null,null,null,""]
[null,null,null,null,null,null,""]
[null,null,null,null,null,null,""]
[null,null,null,null,null,null,""]
[null,null,null,null,null,null,""]
[null,null,null,null,null,null,""]
[null,null,null,null,null,null,""]
[null,null,null,null,null,null,""]